{"text_format":"1","workbook":"xlsx","n_sheets":12,"sheets":["Dropdown Menus - HIDE SHEET","Asset Tables - HIDE SHEET","Est. Useful Life - HIDE SHEET","Weighting Tables - HIDE SHEET","0a_Basic Information","1_Asset Inventory","2a_Condition Assessment","2b_Vulnerability Assessment","2c_Critical Assets","3a_Product Lists - USER SHEET","3b_Additional Resources","3b_Condition Rating Guidance"],"not_rendered":{"charts":0,"images":2,"macros":1,"external_links":1,"defined_names":41,"comments":0,"pivot_tables":0},"unopened":[],"bounds":{"document_bytes":16777216,"sheet_cells":100000,"rows_first":2000,"rows_last":500,"rows_between":2000,"halvings":0,"cell_chars":16384,"cell_head_chars":4096},"cells_cut":0,"cells_raw":0,"read":"whole","date_system":"1900"}

{"sheet":"Dropdown Menus - HIDE SHEET","index":0,"n_rows":14,"n_cols":7,"rows_kept":14,"cut":false,"hidden":true,"merged":[]}
["Asset Category","Asset Product List","Current Condition","Yes/No Questions","Current Status","Capacity","Importance"]
[]
["Pump","Pump Product","Excellent","Yes","Active","At capacity","None"]
["Hydrant","Hydrant Product","Good","No","Back-up","Below capacity","Less than 25%"]
["Meter","Meter Product","Fair","Unknown",null,"Beyond capacity","25-50%"]
["Pipe","Pipe Product","Poor",null,null,null,"50-75%"]
["Source","Source Product","Very Poor",null,null,null,"Greater than 75%"]
["Storage","Storage Product"]
["Analytical Equipment","Analytical Equipment Product"]
["Treatment","Control System Product"]
["Valve","Treatment Product"]
["Control System","Valve Product"]
["Safety Equipment","Other Product"]
["Other"]

{"sheet":"Asset Tables - HIDE SHEET","index":1,"n_rows":12,"n_cols":12,"rows_kept":12,"cut":false,"hidden":true,"merged":[]}
["Pump","Hydrant","Meter","Pipe","Source","Storage","Other","Treatment","Valve","Control System","Analytical Equipment","Safety Equipment"]
["Submersible Well Pump","Fire","Master","Polyvinyl Chloride (PVC)","Well","Bolted, Welded, or Glass Fused Steel Tank","Building","Sedimentation","Gate","Telemetry","pH Meter","Add details in Asset Description"]
["Vertical Turbine Pump","Flush","Well","Ductile Iron (DI)","Intake Structure","Concrete Tank","Vehicle","Filtration","Ball","SCADA","Chlorine Monitor"]
["High Service Pump","Flow Test","Source","Steel","Other","Plastic or Polymer Tank","Computer","Chlorination","Butterfly","Variable Frequency Drive","Other Remote Sensor"]
["Booster","Other","Residential","Cast Iron","Springs","Fiberglass Tank/Structure","Electrical","Ozonation","Pressure Relief (PRV)","Motor Control Center"]
["Transfer",null,"Commercial","Concrete","Reservoir","Earthen Basin or Reservoir","Lab Equipment","Ultraviolet Disinfection","Air Release (ARV)","Other Programmable Logic Control (PLC)"]
["Metering",null,"Other","Asbestos Cement (AC)",null,"Hydropneumatic/Captive Air Tank","Generator","Ion Exchange or Other Media-type Treatment","Air Vacuum","Other Power Supply"]
["Chemical Feed Pump",null,null,"Other",null,"Other","Tools","Solids Handling","Check","Other Communication System"]
["Surface Water Intake",null,null,null,null,null,"Other","Fluoride","Altitude"]
["Backwash",null,null,null,null,null,null,"Corrosion Control"]
["Motor",null,null,null,null,null,null,"Other"]
["Other"]

{"sheet":"Est. Useful Life - HIDE SHEET","index":2,"n_rows":79,"n_cols":4,"rows_kept":79,"cut":false,"hidden":true,"merged":[]}
["For Lookup","Asset Category","Asset Type","Estimated Useful Life"]
[{"$f":"_xlfn.CONCAT(B2,C2)","v":"HydrantFire"},"Hydrant","Fire",50]
["HydrantFlush","Hydrant","Flush",50]
["HydrantFlow Test","Hydrant","Flow Test",50]
["HydrantOther","Hydrant","Other",50]
["MeterMaster","Meter","Master",15]
["MeterWell","Meter","Well",15]
["MeterSource","Meter","Source",15]
["MeterResidential","Meter","Residential",15]
["MeterCommercial","Meter","Commercial",15]
["MeterOther","Meter","Other",15]
["OtherBuilding","Other","Building",50]
["OtherVehicle","Other","Vehicle",10]
["OtherComputer","Other","Computer",5]
["OtherElectrical","Other","Electrical",20]
["OtherGenerator","Other","Generator",10]
["OtherLab Equipment","Other","Lab Equipment",5]
["OtherTools","Other","Tools",15]
["OtherOther","Other","Other",10]
["PipePolyvinyl Chloride (PVC)","Pipe","Polyvinyl Chloride (PVC)",80]
["PipeDuctile Iron (DI)","Pipe","Ductile Iron (DI)",80]
["PipeSteel","Pipe","Steel",50]
["PipeCast Iron","Pipe","Cast Iron",80]
["PipeConcrete","Pipe","Concrete",80]
["PipeAsbestos Cement (AC)","Pipe","Asbestos Cement (AC)",80]
["PipeOther","Pipe","Other",50]
["PumpSubmersible Well Pump","Pump","Submersible Well Pump",15]
["PumpVertical Turbine Pump","Pump","Vertical Turbine Pump",15]
["PumpHigh Service Pump","Pump","High Service Pump",15]
["PumpBooster","Pump","Booster",15]
["PumpTransfer","Pump","Transfer",15]
["PumpMetering","Pump","Metering",10]
["PumpChemical Feed Pump","Pump","Chemical Feed Pump",5]
["PumpSurface Water Intake","Pump","Surface Water Intake",15]
["PumpOther","Pump","Other",15]
["PumpBackwash","Pump","Backwash",15]
["PumpMotor","Pump","Motor",15]
["SourceWell","Source","Well",50]
["SourceIntake Structure","Source","Intake Structure",40]
["SourceReservoir","Source","Reservoir",80]
["SourceOther","Source","Other","Undefined"]
["SourceSprings","Source","Springs",20]
["StorageBolted, Welded, or Glass Fused Steel Tank","Storage","Bolted, Welded, or Glass Fused Steel Tank",50]
["StorageConcrete Tank","Storage","Concrete Tank",50]
["StoragePlastic or Polymer Tank","Storage","Plastic or Polymer Tank",50]
["StorageFiberglass Tank/Structure","Storage","Fiberglass Tank/Structure",50]
["StorageEarthen Basin or Reservoir","Storage","Earthen Basin or Reservoir",50]
["StorageHydropneumatic/Captive Air Tank","Storage","Hydropneumatic/Captive Air Tank",15]
["StorageOther","Storage","Other",50]
["TreatmentChlorination","Treatment","Chlorination",10]
["TreatmentFiltration","Treatment","Filtration",30]
["TreatmentOzonation","Treatment","Ozonation",10]
["TreatmentUltraviolet Disinfection","Treatment","Ultraviolet Disinfection",10]
["TreatmentSolids Handling","Treatment","Solids Handling",10]
["TreatmentIon Exchange or Other Media-type Treatment","Treatment","Ion Exchange or Other Media-type Treatment",25]
["TreatmentSedimentation","Treatment","Sedimentation",25]
["TreatmentFluoride","Treatment","Fluoride",10]
["TreatmentCorrosion Control","Treatment","Corrosion Control",10]
["TreatmentOther","Treatment","Other",10]
["UnknownUnknown","Unknown","Unknown","Undefined"]
["ValveGate","Valve","Gate",20]
["ValveBall","Valve","Ball",20]
["ValveButterfly","Valve","Butterfly",20]
["ValvePressure Relief (PRV)","Valve","Pressure Relief (PRV)",20]
["ValveAir Release (ARV)","Valve","Air Release (ARV)",20]
["ValveAir Vacuum","Valve","Air Vacuum",20]
["ValveCheck","Valve","Check",15]
["ValveAltitude","Valve","Altitude",20]
["Analytical EquipmentpH Meter","Analytical Equipment","pH Meter",15]
["Analytical EquipmentChlorine Monitor","Analytical Equipment","Chlorine Monitor",15]
["Analytical EquipmentOther Remote Sensor","Analytical Equipment","Other Remote Sensor",15]
["Control SystemTelemetry","Control System","Telemetry",10]
["Control SystemSCADA","Control System","SCADA",10]
["Control SystemVariable Frequency Drive","Control System","Variable Frequency Drive",10]
["Control SystemMotor Control Center","Control System","Motor Control Center",10]
["Control SystemOther Power Supply","Control System","Other Power Supply",25]
["Control SystemOther Communication System","Control System","Other Communication System",10]
["Control SystemOther Programmable Logic Control (PLC)","Control System","Other Programmable Logic Control (PLC)",10]
["Safety EquipmentAdd details in Asset Description","Safety Equipment","Add details in Asset Description","Undefined"]

{"sheet":"Weighting Tables - HIDE SHEET","index":3,"n_rows":11,"n_cols":7,"rows_kept":11,"cut":false,"hidden":true,"merged":[]}
["Question","Tab(s)","Weight",null,null,"Calculation","Total Maximum Score"]
["Current Condition","Condition Assessment; Vulnerabiliity Assessment",1,null,null,"Condition Assessment",{"$f":"SUM(4*INDEX('Weighting Tables - HIDE SHEET'!$A$1:$C$11,MATCH(\"Current Condition\",'Weighting Tables - HIDE SHEET'!$A$1:$A$11,FALSE),3),1*INDEX('Weighting Tables - HIDE SHEET'!$A$1:$C$11,MATCH(\"Reliability\",'Weighting Tables - HIDE SHEET'!$A$1:$A$11,FALSE),3),1*INDEX('Weighting Tables - HIDE SHEET'!$A$1:$C$11,MATCH(\"Current Status\",'Weighting Tables - HIDE SHEET'!$A$1:$A$11,FALSE),3))","v":6}]
["Reliability","Condition Assessment; Vulnerability Assessment",1,null,null,"Consequence of Failure",{"$f":"SUM(1*INDEX('Weighting Tables - HIDE SHEET'!$A$1:$C$11,MATCH(\"Compliance\",'Weighting Tables - HIDE SHEET'!$A$1:$A$11,FALSE),3),4*INDEX('Weighting Tables - HIDE SHEET'!$A$1:$C$11,MATCH(\"Importance\",'Weighting Tables - HIDE SHEET'!$A$1:$A$11,FALSE),3),1*INDEX('Weighting Tables - HIDE SHEET'!$A$1:$C$11,MATCH(\"Public Health and Environment\",'Weighting Tables - HIDE SHEET'!$A$1:$A$11,FALSE),3))","v":7}]
["Current Status","Condition Assessment",1,null,null,"Probability of Failure",{"$f":"SUM(1*INDEX('Weighting Tables - HIDE SHEET'!$A$1:$C$11,MATCH(\"Estimated Remaining Life\",'Weighting Tables - HIDE SHEET'!$A$1:$A$11,FALSE),3),2*INDEX('Weighting Tables - HIDE SHEET'!$A$1:$C$11,MATCH(\"Capacity\",'Weighting Tables - HIDE SHEET'!$A$1:$A$11,FALSE),3),1*INDEX('Weighting Tables - HIDE SHEET'!$A$1:$C$11,MATCH(\"Reliability\",'Weighting Tables - HIDE SHEET'!$A$1:$A$11,FALSE),3), 1*INDEX('Weighting Tables - HIDE SHEET'!$A$1:$C$11, MATCH(\"Repair Schedule\", 'Weighting Tables - HIDE SHEET'!$A$1:$A$11,FALSE),3))","v":5}]
["Importance","Vulnerability Assessment",1]
["Compliance","Vulnerability Assessment",1]
["Estimated Remaining Life","Vulnerability Assessment",1]
["Capacity","Vulnerability Assessment",1]
["Repair Schedule","Vulnerability Assessment",1]
["Redundancy","Critical Assets",1]
["Public Health and Environment","Vulnerability Assessment",2]

{"sheet":"0a_Basic Information","index":4,"n_rows":17,"n_cols":1,"rows_kept":17,"cut":false,"hidden":false,"merged":[[0,0,0,9],[1,0,1,9],[2,0,2,9],[3,0,7,9],[16,0,16,9],[8,0,8,9],[15,1,15,9],[13,1,13,9],[12,1,12,9],[11,1,11,9],[10,1,10,9],[9,1,9,9],[14,1,14,9]]}
["Small Community Assistance Planning (SCAP) Tool"]
["Drinking Water Assets"]
["U.S. Environmental Protection Agency Region 7"]
["Move left to right to ensure the accurate dropdown menus are available for selection.\nCells colored Blue contain dropdown menus for selection.\nCells colored Red are for manually entering information.\nCells colored Yellow  are auto-filled, but can be overwritten.\nCells colored Gray  are for manually entering optional information.\nCells colored Green are calculated output values. "]
[]
[]
[]
[]
["FILL IN THE INFORMATION BELOW"]
["Utility Name:"]
["Utility Location:"]
["Date of Inventory:"]
["System Capacity:"]
["Population Served:"]
["Number of Connections:"]
["Assessor Name:"]
["This inventory is for DRINKING WATER assets only. Utilities with wastewater assets should complete a separate inventory using the Wastewater tool. "]

{"sheet":"1_Asset Inventory","index":5,"n_rows":1000,"n_cols":19,"rows_kept":1000,"cut":false,"hidden":false,"merged":[[0,1,7,5],[7,12,7,18],[8,12,8,18],[8,1,8,11]]}
[null,"INSTRUCTIONS:\nEnter information in cells, either manually or using dropdown menus. Move left to right to ensure the accurate dropdown menus are available for selection.\nCells colored Blue contain dropdown menus for selection.\nCells colored Red are for manually entering information.\nCells colored Yellow  are auto-filled, but can be overwritten.\nCells colored Gray  are for manually entering optional information.",null,null,null,null,"Additional resources:"]
[null,null,null,null,null,null,{"$f":"HYPERLINK(\"https://www.env.nm.gov/dwb/assistance/documents/AssetManagementGuide.pdf\", \"Asset Management: A Guide for Water and Wastewater Systems\")","v":"Asset Management: A Guide for Water and Wastewater Systems"}]
[null,null,null,null,null,null,{"$f":"HYPERLINK(\"https://nepis.epa.gov/Exe/ZyPDF.cgi?Dockey=2000261D.txt\", \"Asset Management: A Handbook for Small Water Systems\")","v":"Asset Management: A Handbook for Small Water Systems"}]
[null,null,null,null,null,null,{"$f":"HYPERLINK(\"http://simple.werf.org/Books/Contents/Asset-Management-for-Small-Utilities\", \"Asset Management for Small Utilities\")","v":"Asset Management for Small Utilities"}]
[null,null,null,null,null,null,{"$f":"HYPERLINK(\"http://simple.werf.org/Pages/Weblinks\", \"Sustainable Infrastructure Management Program Learning Environment\")","v":"Sustainable Infrastructure Management Program Learning Environment"}]
[null,null,null,null,null,null,{"$f":"+HYPERLINK(\"https://www.epa.gov/sites/production/files/2015-04/documents/epa816k03002.pdf\", \"Taking Stock of your Small Water System: A Simple Asset Inventory for Very Small Water Systems\")","v":"Taking Stock of your Small Water System: A Simple Asset Inventory for Very Small Water Systems"}]
[]
[]
[null,"Mandatory Fields",null,null,null,null,null,null,null,null,null,null,"Optional Fields"]
["ID","Asset Category (select first)","Asset Type","Asset Description","System Area","Asset ID","Estimated Useful Life (in years)","Estimated Installation Date (M/D/YYYY)","Remaining Useful Life (in years)","Location","Comments","Operational","Alternate Asset ID","Size/Capacity ","Number/Length/Notes ","Product Information","Estimated Replacement Cost","Model Name/Number","Serial Number"]
[null,null,null,null,null,{"$f":"IF(ISBLANK(C11),\"\",_xlfn.CONCAT(LEFT(C11,4),\"-\",LEFT(B11,4),COUNTIF($C$11:C11,C11)))","v":""},{"$f":"IF(ISBLANK(B11),\"\",INDEX('Est. Useful Life - HIDE SHEET'!$A$2:$D$206,MATCH(CONCATENATE(B11,C11),'Est. Useful Life - HIDE SHEET'!$A$2:$A$206,FALSE),4))","v":""},null,{"$f":"IF(ISNUMBER(G11),IF(ISNUMBER(H11),IF((G11-(INT((TODAY()-H11)/365)))<0,0,G11-(INT((TODAY()-H11)/365))),\"\"),\"\")","v":""}]
[null,null,null,null,null,{"$f":"IF(ISBLANK(C12),\"\",_xlfn.CONCAT(LEFT(C12,4),\"-\",LEFT(B12,4),COUNTIF($C$11:C12,C12)))","v":""},{"$f":"IF(ISBLANK(B12),\"\",INDEX('Est. Useful Life - HIDE SHEET'!$A$2:$D$206,MATCH(CONCATENATE(B12,C12),'Est. Useful Life - HIDE SHEET'!$A$2:$A$206,FALSE),4))","v":""},null,""]
[null,null,null,null,null,{"$f":"IF(ISBLANK(C13),\"\",_xlfn.CONCAT(LEFT(C13,4),\"-\",LEFT(B13,4),COUNTIF($C$11:C13,C13)))","v":""},{"$f":"IF(ISBLANK(B13),\"\",INDEX('Est. Useful Life - HIDE SHEET'!$A$2:$D$206,MATCH(CONCATENATE(B13,C13),'Est. Useful Life - HIDE SHEET'!$A$2:$A$206,FALSE),4))","v":""},null,""]
[null,null,null,null,null,{"$f":"IF(ISBLANK(C14),\"\",_xlfn.CONCAT(LEFT(C14,4),\"-\",LEFT(B14,4),COUNTIF($C$11:C14,C14)))","v":""},{"$f":"IF(ISBLANK(B14),\"\",INDEX('Est. Useful Life - HIDE SHEET'!$A$2:$D$206,MATCH(CONCATENATE(B14,C14),'Est. Useful Life - HIDE SHEET'!$A$2:$A$206,FALSE),4))","v":""},null,""]
[null,null,null,null,null,{"$f":"IF(ISBLANK(C15),\"\",_xlfn.CONCAT(LEFT(C15,4),\"-\",LEFT(B15,4),COUNTIF($C$11:C15,C15)))","v":""},{"$f":"IF(ISBLANK(B15),\"\",INDEX('Est. Useful Life - HIDE SHEET'!$A$2:$D$206,MATCH(CONCATENATE(B15,C15),'Est. Useful Life - HIDE SHEET'!$A$2:$A$206,FALSE),4))","v":""},null,""]
[null,null,null,null,null,{"$f":"IF(ISBLANK(C16),\"\",_xlfn.CONCAT(LEFT(C16,4),\"-\",LEFT(B16,4),COUNTIF($C$11:C16,C16)))","v":""},{"$f":"IF(ISBLANK(B16),\"\",INDEX('Est. Useful Life - HIDE SHEET'!$A$2:$D$206,MATCH(CONCATENATE(B16,C16),'Est. Useful Life - HIDE SHEET'!$A$2:$A$206,FALSE),4))","v":""},null,""]
[null,null,null,null,null,{"$f":"IF(ISBLANK(C17),\"\",_xlfn.CONCAT(LEFT(C17,4),\"-\",LEFT(B17,4),COUNTIF($C$11:C17,C17)))","v":""},{"$f":"IF(ISBLANK(B17),\"\",INDEX('Est. Useful Life - HIDE SHEET'!$A$2:$D$206,MATCH(CONCATENATE(B17,C17),'Est. Useful Life - HIDE SHEET'!$A$2:$A$206,FALSE),4))","v":""},null,""]
[null,null,null,null,null,{"$f":"IF(ISBLANK(C18),\"\",_xlfn.CONCAT(LEFT(C18,4),\"-\",LEFT(B18,4),COUNTIF($C$11:C18,C18)))","v":""},{"$f":"IF(ISBLANK(B18),\"\",INDEX('Est. Useful Life - HIDE SHEET'!$A$2:$D$206,MATCH(CONCATENATE(B18,C18),'Est. Useful Life - HIDE SHEET'!$A$2:$A$206,FALSE),4))","v":""},null,""]
[null,null,null,null,null,{"$f":"IF(ISBLANK(C19),\"\",_xlfn.CONCAT(LEFT(C19,4),\"-\",LEFT(B19,4),COUNTIF($C$11:C19,C19)))","v":""},{"$f":"IF(ISBLANK(B19),\"\",INDEX('Est. Useful Life - HIDE SHEET'!$A$2:$D$206,MATCH(CONCATENATE(B19,C19),'Est. Useful Life - HIDE SHEET'!$A$2:$A$206,FALSE),4))","v":""},null,""]
[null,null,null,null,null,{"$f":"IF(ISBLANK(C20),\"\",_xlfn.CONCAT(LEFT(C20,4),\"-\",LEFT(B20,4),COUNTIF($C$11:C20,C20)))","v":""},{"$f":"IF(ISBLANK(B20),\"\",INDEX('Est. Useful Life - HIDE SHEET'!$A$2:$D$206,MATCH(CONCATENATE(B20,C20),'Est. Useful Life - HIDE SHEET'!$A$2:$A$206,FALSE),4))","v":""},null,""]
[null,null,null,null,null,{"$f":"IF(ISBLANK(C21),\"\",_xlfn.CONCAT(LEFT(C21,4),\"-\",LEFT(B21,4),COUNTIF($C$11:C21,C21)))","v":""},{"$f":"IF(ISBLANK(B21),\"\",INDEX('Est. Useful Life - HIDE SHEET'!$A$2:$D$206,MATCH(CONCATENATE(B21,C21),'Est. Useful Life - HIDE SHEET'!$A$2:$A$206,FALSE),4))","v":""},null,""]
[null,null,null,null,null,{"$f":"IF(ISBLANK(C22),\"\",_xlfn.CONCAT(LEFT(C22,4),\"-\",LEFT(B22,4),COUNTIF($C$11:C22,C22)))","v":""},{"$f":"IF(ISBLANK(B22),\"\",INDEX('Est. Useful Life - HIDE SHEET'!$A$2:$D$206,MATCH(CONCATENATE(B22,C22),'Est. Useful Life - HIDE SHEET'!$A$2:$A$206,FALSE),4))","v":""},null,""]
[null,null,null,null,null,{"$f":"IF(ISBLANK(C23),\"\",_xlfn.CONCAT(LEFT(C23,4),\"-\",LEFT(B23,4),COUNTIF($C$11:C23,C23)))","v":""},{"$f":"IF(ISBLANK(B23),\"\",INDEX('Est. Useful Life - HIDE SHEET'!$A$2:$D$206,MATCH(CONCATENATE(B23,C23),'Est. Useful Life - HIDE SHEET'!$A$2:$A$206,FALSE),4))","v":""},null,""]
[null,null,null,null,null,{"$f":"IF(ISBLANK(C24),\"\",_xlfn.CONCAT(LEFT(C24,4),\"-\",LEFT(B24,4),COUNTIF($C$11:C24,C24)))","v":""},{"$f":"IF(ISBLANK(B24),\"\",INDEX('Est. Useful Life - HIDE SHEET'!$A$2:$D$206,MATCH(CONCATENATE(B24,C24),'Est. Useful Life - HIDE SHEET'!$A$2:$A$206,FALSE),4))","v":""},null,""]
[null,null,null,null,null,{"$f":"IF(ISBLANK(C25),\"\",_xlfn.CONCAT(LEFT(C25,4),\"-\",LEFT(B25,4),COUNTIF($C$11:C25,C25)))","v":""},{"$f":"IF(ISBLANK(B25),\"\",INDEX('Est. Useful Life - HIDE SHEET'!$A$2:$D$206,MATCH(CONCATENATE(B25,C25),'Est. Useful Life - HIDE SHEET'!$A$2:$A$206,FALSE),4))","v":""},null,""]
[null,null,null,null,null,{"$f":"IF(ISBLANK(C26),\"\",_xlfn.CONCAT(LEFT(C26,4),\"-\",LEFT(B26,4),COUNTIF($C$11:C26,C26)))","v":""},{"$f":"IF(ISBLANK(B26),\"\",INDEX('Est. Useful Life - HIDE SHEET'!$A$2:$D$206,MATCH(CONCATENATE(B26,C26),'Est. Useful Life - HIDE SHEET'!$A$2:$A$206,FALSE),4))","v":""},null,""]
[null,null,null,null,null,{"$f":"IF(ISBLANK(C27),\"\",_xlfn.CONCAT(LEFT(C27,4),\"-\",LEFT(B27,4),COUNTIF($C$11:C27,C27)))","v":""},{"$f":"IF(ISBLANK(B27),\"\",INDEX('Est. Useful Life - HIDE SHEET'!$A$2:$D$206,MATCH(CONCATENATE(B27,C27),'Est. Useful Life - HIDE SHEET'!$A$2:$A$206,FALSE),4))","v":""},null,""]
[null,null,null,null,null,{"$f":"IF(ISBLANK(C28),\"\",_xlfn.CONCAT(LEFT(C28,4),\"-\",LEFT(B28,4),COUNTIF($C$11:C28,C28)))","v":""},{"$f":"IF(ISBLANK(B28),\"\",INDEX('Est. Useful Life - HIDE SHEET'!$A$2:$D$206,MATCH(CONCATENATE(B28,C28),'Est. Useful Life - HIDE SHEET'!$A$2:$A$206,FALSE),4))","v":""},null,""]
[null,null,null,null,null,{"$f":"IF(ISBLANK(C29),\"\",_xlfn.CONCAT(LEFT(C29,4),\"-\",LEFT(B29,4),COUNTIF($C$11:C29,C29)))","v":""},{"$f":"IF(ISBLANK(B29),\"\",INDEX('Est. Useful Life - HIDE SHEET'!$A$2:$D$206,MATCH(CONCATENATE(B29,C29),'Est. Useful Life - HIDE SHEET'!$A$2:$A$206,FALSE),4))","v":""},null,""]
[null,null,null,null,null,{"$f":"IF(ISBLANK(C30),\"\",_xlfn.CONCAT(LEFT(C30,4),\"-\",LEFT(B30,4),COUNTIF($C$11:C30,C30)))","v":""},{"$f":"IF(ISBLANK(B30),\"\",INDEX('Est. Useful Life - HIDE SHEET'!$A$2:$D$206,MATCH(CONCATENATE(B30,C30),'Est. Useful Life - HIDE SHEET'!$A$2:$A$206,FALSE),4))","v":""},null,""]
[null,null,null,null,null,{"$f":"IF(ISBLANK(C31),\"\",_xlfn.CONCAT(LEFT(C31,4),\"-\",LEFT(B31,4),COUNTIF($C$11:C31,C31)))","v":""},{"$f":"IF(ISBLANK(B31),\"\",INDEX('Est. Useful Life - HIDE SHEET'!$A$2:$D$206,MATCH(CONCATENATE(B31,C31),'Est. Useful Life - HIDE SHEET'!$A$2:$A$206,FALSE),4))","v":""},null,""]
[null,null,null,null,null,{"$f":"IF(ISBLANK(C32),\"\",_xlfn.CONCAT(LEFT(C32,4),\"-\",LEFT(B32,4),COUNTIF($C$11:C32,C32)))","v":""},{"$f":"IF(ISBLANK(B32),\"\",INDEX('Est. Useful Life - HIDE SHEET'!$A$2:$D$206,MATCH(CONCATENATE(B32,C32),'Est. Useful Life - HIDE SHEET'!$A$2:$A$206,FALSE),4))","v":""},null,""]
[null,null,null,null,null,{"$f":"IF(ISBLANK(C33),\"\",_xlfn.CONCAT(LEFT(C33,4),\"-\",LEFT(B33,4),COUNTIF($C$11:C33,C33)))","v":""},{"$f":"IF(ISBLANK(B33),\"\",INDEX('Est. Useful Life - HIDE SHEET'!$A$2:$D$206,MATCH(CONCATENATE(B33,C33),'Est. Useful Life - HIDE SHEET'!$A$2:$A$206,FALSE),4))","v":""},null,""]
[null,null,null,null,null,{"$f":"IF(ISBLANK(C34),\"\",_xlfn.CONCAT(LEFT(C34,4),\"-\",LEFT(B34,4),COUNTIF($C$11:C34,C34)))","v":""},{"$f":"IF(ISBLANK(B34),\"\",INDEX('Est. Useful Life - HIDE SHEET'!$A$2:$D$206,MATCH(CONCATENATE(B34,C34),'Est. Useful Life - HIDE SHEET'!$A$2:$A$206,FALSE),4))","v":""},null,""]
[null,null,null,null,null,{"$f":"IF(ISBLANK(C35),\"\",_xlfn.CONCAT(LEFT(C35,4),\"-\",LEFT(B35,4),COUNTIF($C$11:C35,C35)))","v":""},{"$f":"IF(ISBLANK(B35),\"\",INDEX('Est. Useful Life - HIDE SHEET'!$A$2:$D$206,MATCH(CONCATENATE(B35,C35),'Est. Useful Life - HIDE SHEET'!$A$2:$A$206,FALSE),4))","v":""},null,""]
[null,null,null,null,null,{"$f":"IF(ISBLANK(C36),\"\",_xlfn.CONCAT(LEFT(C36,4),\"-\",LEFT(B36,4),COUNTIF($C$11:C36,C36)))","v":""},{"$f":"IF(ISBLANK(B36),\"\",INDEX('Est. Useful Life - HIDE SHEET'!$A$2:$D$206,MATCH(CONCATENATE(B36,C36),'Est. Useful Life - HIDE SHEET'!$A$2:$A$206,FALSE),4))","v":""},null,""]
[null,null,null,null,null,{"$f":"IF(ISBLANK(C37),\"\",_xlfn.CONCAT(LEFT(C37,4),\"-\",LEFT(B37,4),COUNTIF($C$11:C37,C37)))","v":""},{"$f":"IF(ISBLANK(B37),\"\",INDEX('Est. Useful Life - HIDE SHEET'!$A$2:$D$206,MATCH(CONCATENATE(B37,C37),'Est. Useful Life - HIDE SHEET'!$A$2:$A$206,FALSE),4))","v":""},null,""]
[null,null,null,null,null,{"$f":"IF(ISBLANK(C38),\"\",_xlfn.CONCAT(LEFT(C38,4),\"-\",LEFT(B38,4),COUNTIF($C$11:C38,C38)))","v":""},{"$f":"IF(ISBLANK(B38),\"\",INDEX('Est. Useful Life - HIDE SHEET'!$A$2:$D$206,MATCH(CONCATENATE(B38,C38),'Est. Useful Life - HIDE SHEET'!$A$2:$A$206,FALSE),4))","v":""},null,""]
[null,null,null,null,null,{"$f":"IF(ISBLANK(C39),\"\",_xlfn.CONCAT(LEFT(C39,4),\"-\",LEFT(B39,4),COUNTIF($C$11:C39,C39)))","v":""},{"$f":"IF(ISBLANK(B39),\"\",INDEX('Est. Useful Life - HIDE SHEET'!$A$2:$D$206,MATCH(CONCATENATE(B39,C39),'Est. Useful Life - HIDE SHEET'!$A$2:$A$206,FALSE),4))","v":""},null,""]
[null,null,null,null,null,{"$f":"IF(ISBLANK(C40),\"\",_xlfn.CONCAT(LEFT(C40,4),\"-\",LEFT(B40,4),COUNTIF($C$11:C40,C40)))","v":""},{"$f":"IF(ISBLANK(B40),\"\",INDEX('Est. Useful Life - HIDE SHEET'!$A$2:$D$206,MATCH(CONCATENATE(B40,C40),'Est. Useful Life - HIDE SHEET'!$A$2:$A$206,FALSE),4))","v":""},null,""]
[null,null,null,null,null,{"$f":"IF(ISBLANK(C41),\"\",_xlfn.CONCAT(LEFT(C41,4),\"-\",LEFT(B41,4),COUNTIF($C$11:C41,C41)))","v":""},{"$f":"IF(ISBLANK(B41),\"\",INDEX('Est. Useful Life - HIDE SHEET'!$A$2:$D$206,MATCH(CONCATENATE(B41,C41),'Est. Useful Life - HIDE SHEET'!$A$2:$A$206,FALSE),4))","v":""},null,""]
[null,null,null,null,null,{"$f":"IF(ISBLANK(C42),\"\",_xlfn.CONCAT(LEFT(C42,4),\"-\",LEFT(B42,4),COUNTIF($C$11:C42,C42)))","v":""},{"$f":"IF(ISBLANK(B42),\"\",INDEX('Est. Useful Life - HIDE SHEET'!$A$2:$D$206,MATCH(CONCATENATE(B42,C42),'Est. Useful Life - HIDE SHEET'!$A$2:$A$206,FALSE),4))","v":""},null,""]
[null,null,null,null,null,{"$f":"IF(ISBLANK(C43),\"\",_xlfn.CONCAT(LEFT(C43,4),\"-\",LEFT(B43,4),COUNTIF($C$11:C43,C43)))","v":""},{"$f":"IF(ISBLANK(B43),\"\",INDEX('Est. Useful Life - HIDE SHEET'!$A$2:$D$206,MATCH(CONCATENATE(B43,C43),'Est. Useful Life - HIDE SHEET'!$A$2:$A$206,FALSE),4))","v":""},null,{"$f":"IF(ISNUMBER(G43),IF(ISNUMBER(H43),IF((G43-(INT((TODAY()-H43)/365)))<0,0,G43-(INT((TODAY()-H43)/365))),\"\"),\"\")","v":""}]
[null,null,null,null,null,{"$f":"IF(ISBLANK(C44),\"\",_xlfn.CONCAT(LEFT(C44,4),\"-\",LEFT(B44,4),COUNTIF($C$11:C44,C44)))","v":""},{"$f":"IF(ISBLANK(B44),\"\",INDEX('Est. Useful Life - HIDE SHEET'!$A$2:$D$206,MATCH(CONCATENATE(B44,C44),'Est. Useful Life - HIDE SHEET'!$A$2:$A$206,FALSE),4))","v":""},null,""]
[null,null,null,null,null,{"$f":"IF(ISBLANK(C45),\"\",_xlfn.CONCAT(LEFT(C45,4),\"-\",LEFT(B45,4),COUNTIF($C$11:C45,C45)))","v":""},{"$f":"IF(ISBLANK(B45),\"\",INDEX('Est. Useful Life - HIDE SHEET'!$A$2:$D$206,MATCH(CONCATENATE(B45,C45),'Est. Useful Life - HIDE SHEET'!$A$2:$A$206,FALSE),4))","v":""},null,""]
[null,null,null,null,null,{"$f":"IF(ISBLANK(C46),\"\",_xlfn.CONCAT(LEFT(C46,4),\"-\",LEFT(B46,4),COUNTIF($C$11:C46,C46)))","v":""},{"$f":"IF(ISBLANK(B46),\"\",INDEX('Est. Useful Life - HIDE SHEET'!$A$2:$D$206,MATCH(CONCATENATE(B46,C46),'Est. Useful Life - HIDE SHEET'!$A$2:$A$206,FALSE),4))","v":""},null,""]
[null,null,null,null,null,{"$f":"IF(ISBLANK(C47),\"\",_xlfn.CONCAT(LEFT(C47,4),\"-\",LEFT(B47,4),COUNTIF($C$11:C47,C47)))","v":""},{"$f":"IF(ISBLANK(B47),\"\",INDEX('Est. Useful Life - HIDE SHEET'!$A$2:$D$206,MATCH(CONCATENATE(B47,C47),'Est. Useful Life - HIDE SHEET'!$A$2:$A$206,FALSE),4))","v":""},null,""]
[null,null,null,null,null,{"$f":"IF(ISBLANK(C48),\"\",_xlfn.CONCAT(LEFT(C48,4),\"-\",LEFT(B48,4),COUNTIF($C$11:C48,C48)))","v":""},{"$f":"IF(ISBLANK(B48),\"\",INDEX('Est. Useful Life - HIDE SHEET'!$A$2:$D$206,MATCH(CONCATENATE(B48,C48),'Est. Useful Life - HIDE SHEET'!$A$2:$A$206,FALSE),4))","v":""},null,""]
[null,null,null,null,null,{"$f":"IF(ISBLANK(C49),\"\",_xlfn.CONCAT(LEFT(C49,4),\"-\",LEFT(B49,4),COUNTIF($C$11:C49,C49)))","v":""},{"$f":"IF(ISBLANK(B49),\"\",INDEX('Est. Useful Life - HIDE SHEET'!$A$2:$D$206,MATCH(CONCATENATE(B49,C49),'Est. Useful Life - HIDE SHEET'!$A$2:$A$206,FALSE),4))","v":""},null,""]
[null,null,null,null,null,{"$f":"IF(ISBLANK(C50),\"\",_xlfn.CONCAT(LEFT(C50,4),\"-\",LEFT(B50,4),COUNTIF($C$11:C50,C50)))","v":""},{"$f":"IF(ISBLANK(B50),\"\",INDEX('Est. Useful Life - HIDE SHEET'!$A$2:$D$206,MATCH(CONCATENATE(B50,C50),'Est. Useful Life - HIDE SHEET'!$A$2:$A$206,FALSE),4))","v":""},null,""]
[null,null,null,null,null,{"$f":"IF(ISBLANK(C51),\"\",_xlfn.CONCAT(LEFT(C51,4),\"-\",LEFT(B51,4),COUNTIF($C$11:C51,C51)))","v":""},{"$f":"IF(ISBLANK(B51),\"\",INDEX('Est. Useful Life - HIDE SHEET'!$A$2:$D$206,MATCH(CONCATENATE(B51,C51),'Est. Useful Life - HIDE SHEET'!$A$2:$A$206,FALSE),4))","v":""},null,""]
[null,null,null,null,null,{"$f":"IF(ISBLANK(C52),\"\",_xlfn.CONCAT(LEFT(C52,4),\"-\",LEFT(B52,4),COUNTIF($C$11:C52,C52)))","v":""},{"$f":"IF(ISBLANK(B52),\"\",INDEX('Est. Useful Life - HIDE SHEET'!$A$2:$D$206,MATCH(CONCATENATE(B52,C52),'Est. Useful Life - HIDE SHEET'!$A$2:$A$206,FALSE),4))","v":""},null,""]
[null,null,null,null,null,{"$f":"IF(ISBLANK(C53),\"\",_xlfn.CONCAT(LEFT(C53,4),\"-\",LEFT(B53,4),COUNTIF($C$11:C53,C53)))","v":""},{"$f":"IF(ISBLANK(B53),\"\",INDEX('Est. Useful Life - HIDE SHEET'!$A$2:$D$206,MATCH(CONCATENATE(B53,C53),'Est. Useful Life - HIDE SHEET'!$A$2:$A$206,FALSE),4))","v":""},null,""]
[null,null,null,null,null,{"$f":"IF(ISBLANK(C54),\"\",_xlfn.CONCAT(LEFT(C54,4),\"-\",LEFT(B54,4),COUNTIF($C$11:C54,C54)))","v":""},{"$f":"IF(ISBLANK(B54),\"\",INDEX('Est. Useful Life - HIDE SHEET'!$A$2:$D$206,MATCH(CONCATENATE(B54,C54),'Est. Useful Life - HIDE SHEET'!$A$2:$A$206,FALSE),4))","v":""},null,""]
[null,null,null,null,null,{"$f":"IF(ISBLANK(C55),\"\",_xlfn.CONCAT(LEFT(C55,4),\"-\",LEFT(B55,4),COUNTIF($C$11:C55,C55)))","v":""},{"$f":"IF(ISBLANK(B55),\"\",INDEX('Est. Useful Life - HIDE SHEET'!$A$2:$D$206,MATCH(CONCATENATE(B55,C55),'Est. Useful Life - HIDE SHEET'!$A$2:$A$206,FALSE),4))","v":""},null,""]
[null,null,null,null,null,{"$f":"IF(ISBLANK(C56),\"\",_xlfn.CONCAT(LEFT(C56,4),\"-\",LEFT(B56,4),COUNTIF($C$11:C56,C56)))","v":""},{"$f":"IF(ISBLANK(B56),\"\",INDEX('Est. Useful Life - HIDE SHEET'!$A$2:$D$206,MATCH(CONCATENATE(B56,C56),'Est. Useful Life - HIDE SHEET'!$A$2:$A$206,FALSE),4))","v":""},null,""]
[null,null,null,null,null,{"$f":"IF(ISBLANK(C57),\"\",_xlfn.CONCAT(LEFT(C57,4),\"-\",LEFT(B57,4),COUNTIF($C$11:C57,C57)))","v":""},{"$f":"IF(ISBLANK(B57),\"\",INDEX('Est. Useful Life - HIDE SHEET'!$A$2:$D$206,MATCH(CONCATENATE(B57,C57),'Est. Useful Life - HIDE SHEET'!$A$2:$A$206,FALSE),4))","v":""},null,""]
[null,null,null,null,null,{"$f":"IF(ISBLANK(C58),\"\",_xlfn.CONCAT(LEFT(C58,4),\"-\",LEFT(B58,4),COUNTIF($C$11:C58,C58)))","v":""},{"$f":"IF(ISBLANK(B58),\"\",INDEX('Est. Useful Life - HIDE SHEET'!$A$2:$D$206,MATCH(CONCATENATE(B58,C58),'Est. Useful Life - HIDE SHEET'!$A$2:$A$206,FALSE),4))","v":""},null,""]
[null,null,null,null,null,{"$f":"IF(ISBLANK(C59),\"\",_xlfn.CONCAT(LEFT(C59,4),\"-\",LEFT(B59,4),COUNTIF($C$11:C59,C59)))","v":""},{"$f":"IF(ISBLANK(B59),\"\",INDEX('Est. Useful Life - HIDE SHEET'!$A$2:$D$206,MATCH(CONCATENATE(B59,C59),'Est. Useful Life - HIDE SHEET'!$A$2:$A$206,FALSE),4))","v":""},null,""]
[null,null,null,null,null,{"$f":"IF(ISBLANK(C60),\"\",_xlfn.CONCAT(LEFT(C60,4),\"-\",LEFT(B60,4),COUNTIF($C$11:C60,C60)))","v":""},{"$f":"IF(ISBLANK(B60),\"\",INDEX('Est. Useful Life - HIDE SHEET'!$A$2:$D$206,MATCH(CONCATENATE(B60,C60),'Est. Useful Life - HIDE SHEET'!$A$2:$A$206,FALSE),4))","v":""},null,""]
[null,null,null,null,null,{"$f":"IF(ISBLANK(C61),\"\",_xlfn.CONCAT(LEFT(C61,4),\"-\",LEFT(B61,4),COUNTIF($C$11:C61,C61)))","v":""},{"$f":"IF(ISBLANK(B61),\"\",INDEX('Est. Useful Life - HIDE SHEET'!$A$2:$D$206,MATCH(CONCATENATE(B61,C61),'Est. Useful Life - HIDE SHEET'!$A$2:$A$206,FALSE),4))","v":""},null,""]
[null,null,null,null,null,{"$f":"IF(ISBLANK(C62),\"\",_xlfn.CONCAT(LEFT(C62,4),\"-\",LEFT(B62,4),COUNTIF($C$11:C62,C62)))","v":""},{"$f":"IF(ISBLANK(B62),\"\",INDEX('Est. Useful Life - HIDE SHEET'!$A$2:$D$206,MATCH(CONCATENATE(B62,C62),'Est. Useful Life - HIDE SHEET'!$A$2:$A$206,FALSE),4))","v":""},null,""]
[null,null,null,null,null,{"$f":"IF(ISBLANK(C63),\"\",_xlfn.CONCAT(LEFT(C63,4),\"-\",LEFT(B63,4),COUNTIF($C$11:C63,C63)))","v":""},{"$f":"IF(ISBLANK(B63),\"\",INDEX('Est. Useful Life - HIDE SHEET'!$A$2:$D$206,MATCH(CONCATENATE(B63,C63),'Est. Useful Life - HIDE SHEET'!$A$2:$A$206,FALSE),4))","v":""},null,""]
[null,null,null,null,null,{"$f":"IF(ISBLANK(C64),\"\",_xlfn.CONCAT(LEFT(C64,4),\"-\",LEFT(B64,4),COUNTIF($C$11:C64,C64)))","v":""},{"$f":"IF(ISBLANK(B64),\"\",INDEX('Est. Useful Life - HIDE SHEET'!$A$2:$D$206,MATCH(CONCATENATE(B64,C64),'Est. Useful Life - HIDE SHEET'!$A$2:$A$206,FALSE),4))","v":""},null,""]
[null,null,null,null,null,{"$f":"IF(ISBLANK(C65),\"\",_xlfn.CONCAT(LEFT(C65,4),\"-\",LEFT(B65,4),COUNTIF($C$11:C65,C65)))","v":""},{"$f":"IF(ISBLANK(B65),\"\",INDEX('Est. Useful Life - HIDE SHEET'!$A$2:$D$206,MATCH(CONCATENATE(B65,C65),'Est. Useful Life - HIDE SHEET'!$A$2:$A$206,FALSE),4))","v":""},null,""]
[null,null,null,null,null,{"$f":"IF(ISBLANK(C66),\"\",_xlfn.CONCAT(LEFT(C66,4),\"-\",LEFT(B66,4),COUNTIF($C$11:C66,C66)))","v":""},{"$f":"IF(ISBLANK(B66),\"\",INDEX('Est. Useful Life - HIDE SHEET'!$A$2:$D$206,MATCH(CONCATENATE(B66,C66),'Est. Useful Life - HIDE SHEET'!$A$2:$A$206,FALSE),4))","v":""},null,""]
[null,null,null,null,null,{"$f":"IF(ISBLANK(C67),\"\",_xlfn.CONCAT(LEFT(C67,4),\"-\",LEFT(B67,4),COUNTIF($C$11:C67,C67)))","v":""},{"$f":"IF(ISBLANK(B67),\"\",INDEX('Est. Useful Life - HIDE SHEET'!$A$2:$D$206,MATCH(CONCATENATE(B67,C67),'Est. Useful Life - HIDE SHEET'!$A$2:$A$206,FALSE),4))","v":""},null,""]
[null,null,null,null,null,{"$f":"IF(ISBLANK(C68),\"\",_xlfn.CONCAT(LEFT(C68,4),\"-\",LEFT(B68,4),COUNTIF($C$11:C68,C68)))","v":""},{"$f":"IF(ISBLANK(B68),\"\",INDEX('Est. Useful Life - HIDE SHEET'!$A$2:$D$206,MATCH(CONCATENATE(B68,C68),'Est. Useful Life - HIDE SHEET'!$A$2:$A$206,FALSE),4))","v":""},null,""]
[null,null,null,null,null,{"$f":"IF(ISBLANK(C69),\"\",_xlfn.CONCAT(LEFT(C69,4),\"-\",LEFT(B69,4),COUNTIF($C$11:C69,C69)))","v":""},{"$f":"IF(ISBLANK(B69),\"\",INDEX('Est. Useful Life - HIDE SHEET'!$A$2:$D$206,MATCH(CONCATENATE(B69,C69),'Est. Useful Life - HIDE SHEET'!$A$2:$A$206,FALSE),4))","v":""},null,""]
[null,null,null,null,null,{"$f":"IF(ISBLANK(C70),\"\",_xlfn.CONCAT(LEFT(C70,4),\"-\",LEFT(B70,4),COUNTIF($C$11:C70,C70)))","v":""},{"$f":"IF(ISBLANK(B70),\"\",INDEX('Est. Useful Life - HIDE SHEET'!$A$2:$D$206,MATCH(CONCATENATE(B70,C70),'Est. Useful Life - HIDE SHEET'!$A$2:$A$206,FALSE),4))","v":""},null,""]
[null,null,null,null,null,{"$f":"IF(ISBLANK(C71),\"\",_xlfn.CONCAT(LEFT(C71,4),\"-\",LEFT(B71,4),COUNTIF($C$11:C71,C71)))","v":""},{"$f":"IF(ISBLANK(B71),\"\",INDEX('Est. Useful Life - HIDE SHEET'!$A$2:$D$206,MATCH(CONCATENATE(B71,C71),'Est. Useful Life - HIDE SHEET'!$A$2:$A$206,FALSE),4))","v":""},null,""]
[null,null,null,null,null,{"$f":"IF(ISBLANK(C72),\"\",_xlfn.CONCAT(LEFT(C72,4),\"-\",LEFT(B72,4),COUNTIF($C$11:C72,C72)))","v":""},{"$f":"IF(ISBLANK(B72),\"\",INDEX('Est. Useful Life - HIDE SHEET'!$A$2:$D$206,MATCH(CONCATENATE(B72,C72),'Est. Useful Life - HIDE SHEET'!$A$2:$A$206,FALSE),4))","v":""},null,""]
[null,null,null,null,null,{"$f":"IF(ISBLANK(C73),\"\",_xlfn.CONCAT(LEFT(C73,4),\"-\",LEFT(B73,4),COUNTIF($C$11:C73,C73)))","v":""},{"$f":"IF(ISBLANK(B73),\"\",INDEX('Est. Useful Life - HIDE SHEET'!$A$2:$D$206,MATCH(CONCATENATE(B73,C73),'Est. Useful Life - HIDE SHEET'!$A$2:$A$206,FALSE),4))","v":""},null,""]
[null,null,null,null,null,{"$f":"IF(ISBLANK(C74),\"\",_xlfn.CONCAT(LEFT(C74,4),\"-\",LEFT(B74,4),COUNTIF($C$11:C74,C74)))","v":""},{"$f":"IF(ISBLANK(B74),\"\",INDEX('Est. Useful Life - HIDE SHEET'!$A$2:$D$206,MATCH(CONCATENATE(B74,C74),'Est. Useful Life - HIDE SHEET'!$A$2:$A$206,FALSE),4))","v":""},null,""]
[null,null,null,null,null,{"$f":"IF(ISBLANK(C75),\"\",_xlfn.CONCAT(LEFT(C75,4),\"-\",LEFT(B75,4),COUNTIF($C$11:C75,C75)))","v":""},{"$f":"IF(ISBLANK(B75),\"\",INDEX('Est. Useful Life - HIDE SHEET'!$A$2:$D$206,MATCH(CONCATENATE(B75,C75),'Est. Useful Life - HIDE SHEET'!$A$2:$A$206,FALSE),4))","v":""},null,{"$f":"IF(ISNUMBER(G75),IF(ISNUMBER(H75),IF((G75-(INT((TODAY()-H75)/365)))<0,0,G75-(INT((TODAY()-H75)/365))),\"\"),\"\")","v":""}]
[null,null,null,null,null,{"$f":"IF(ISBLANK(C76),\"\",_xlfn.CONCAT(LEFT(C76,4),\"-\",LEFT(B76,4),COUNTIF($C$11:C76,C76)))","v":""},{"$f":"IF(ISBLANK(B76),\"\",INDEX('Est. Useful Life - HIDE SHEET'!$A$2:$D$206,MATCH(CONCATENATE(B76,C76),'Est. Useful Life - HIDE SHEET'!$A$2:$A$206,FALSE),4))","v":""},null,""]
[null,null,null,null,null,{"$f":"IF(ISBLANK(C77),\"\",_xlfn.CONCAT(LEFT(C77,4),\"-\",LEFT(B77,4),COUNTIF($C$11:C77,C77)))","v":""},{"$f":"IF(ISBLANK(B77),\"\",INDEX('Est. Useful Life - HIDE SHEET'!$A$2:$D$206,MATCH(CONCATENATE(B77,C77),'Est. Useful Life - HIDE SHEET'!$A$2:$A$206,FALSE),4))","v":""},null,""]
[null,null,null,null,null,{"$f":"IF(ISBLANK(C78),\"\",_xlfn.CONCAT(LEFT(C78,4),\"-\",LEFT(B78,4),COUNTIF($C$11:C78,C78)))","v":""},{"$f":"IF(ISBLANK(B78),\"\",INDEX('Est. Useful Life - HIDE SHEET'!$A$2:$D$206,MATCH(CONCATENATE(B78,C78),'Est. Useful Life - HIDE SHEET'!$A$2:$A$206,FALSE),4))","v":""},null,""]
[null,null,null,null,null,{"$f":"IF(ISBLANK(C79),\"\",_xlfn.CONCAT(LEFT(C79,4),\"-\",LEFT(B79,4),COUNTIF($C$11:C79,C79)))","v":""},{"$f":"IF(ISBLANK(B79),\"\",INDEX('Est. Useful Life - HIDE SHEET'!$A$2:$D$206,MATCH(CONCATENATE(B79,C79),'Est. Useful Life - HIDE SHEET'!$A$2:$A$206,FALSE),4))","v":""},null,""]
[null,null,null,null,null,{"$f":"IF(ISBLANK(C80),\"\",_xlfn.CONCAT(LEFT(C80,4),\"-\",LEFT(B80,4),COUNTIF($C$11:C80,C80)))","v":""},{"$f":"IF(ISBLANK(B80),\"\",INDEX('Est. Useful Life - HIDE SHEET'!$A$2:$D$206,MATCH(CONCATENATE(B80,C80),'Est. Useful Life - HIDE SHEET'!$A$2:$A$206,FALSE),4))","v":""},null,""]
[null,null,null,null,null,{"$f":"IF(ISBLANK(C81),\"\",_xlfn.CONCAT(LEFT(C81,4),\"-\",LEFT(B81,4),COUNTIF($C$11:C81,C81)))","v":""},{"$f":"IF(ISBLANK(B81),\"\",INDEX('Est. Useful Life - HIDE SHEET'!$A$2:$D$206,MATCH(CONCATENATE(B81,C81),'Est. Useful Life - HIDE SHEET'!$A$2:$A$206,FALSE),4))","v":""},null,""]
[null,null,null,null,null,{"$f":"IF(ISBLANK(C82),\"\",_xlfn.CONCAT(LEFT(C82,4),\"-\",LEFT(B82,4),COUNTIF($C$11:C82,C82)))","v":""},{"$f":"IF(ISBLANK(B82),\"\",INDEX('Est. Useful Life - HIDE SHEET'!$A$2:$D$206,MATCH(CONCATENATE(B82,C82),'Est. Useful Life - HIDE SHEET'!$A$2:$A$206,FALSE),4))","v":""},null,""]
[null,null,null,null,null,{"$f":"IF(ISBLANK(C83),\"\",_xlfn.CONCAT(LEFT(C83,4),\"-\",LEFT(B83,4),COUNTIF($C$11:C83,C83)))","v":""},{"$f":"IF(ISBLANK(B83),\"\",INDEX('Est. Useful Life - HIDE SHEET'!$A$2:$D$206,MATCH(CONCATENATE(B83,C83),'Est. Useful Life - HIDE SHEET'!$A$2:$A$206,FALSE),4))","v":""},null,""]
[null,null,null,null,null,{"$f":"IF(ISBLANK(C84),\"\",_xlfn.CONCAT(LEFT(C84,4),\"-\",LEFT(B84,4),COUNTIF($C$11:C84,C84)))","v":""},{"$f":"IF(ISBLANK(B84),\"\",INDEX('Est. Useful Life - HIDE SHEET'!$A$2:$D$206,MATCH(CONCATENATE(B84,C84),'Est. Useful Life - HIDE SHEET'!$A$2:$A$206,FALSE),4))","v":""},null,""]
[null,null,null,null,null,{"$f":"IF(ISBLANK(C85),\"\",_xlfn.CONCAT(LEFT(C85,4),\"-\",LEFT(B85,4),COUNTIF($C$11:C85,C85)))","v":""},{"$f":"IF(ISBLANK(B85),\"\",INDEX('Est. Useful Life - HIDE SHEET'!$A$2:$D$206,MATCH(CONCATENATE(B85,C85),'Est. Useful Life - HIDE SHEET'!$A$2:$A$206,FALSE),4))","v":""},null,""]
[null,null,null,null,null,{"$f":"IF(ISBLANK(C86),\"\",_xlfn.CONCAT(LEFT(C86,4),\"-\",LEFT(B86,4),COUNTIF($C$11:C86,C86)))","v":""},{"$f":"IF(ISBLANK(B86),\"\",INDEX('Est. Useful Life - HIDE SHEET'!$A$2:$D$206,MATCH(CONCATENATE(B86,C86),'Est. Useful Life - HIDE SHEET'!$A$2:$A$206,FALSE),4))","v":""},null,""]
[null,null,null,null,null,{"$f":"IF(ISBLANK(C87),\"\",_xlfn.CONCAT(LEFT(C87,4),\"-\",LEFT(B87,4),COUNTIF($C$11:C87,C87)))","v":""},{"$f":"IF(ISBLANK(B87),\"\",INDEX('Est. Useful Life - HIDE SHEET'!$A$2:$D$206,MATCH(CONCATENATE(B87,C87),'Est. Useful Life - HIDE SHEET'!$A$2:$A$206,FALSE),4))","v":""},null,""]
[null,null,null,null,null,{"$f":"IF(ISBLANK(C88),\"\",_xlfn.CONCAT(LEFT(C88,4),\"-\",LEFT(B88,4),COUNTIF($C$11:C88,C88)))","v":""},{"$f":"IF(ISBLANK(B88),\"\",INDEX('Est. Useful Life - HIDE SHEET'!$A$2:$D$206,MATCH(CONCATENATE(B88,C88),'Est. Useful Life - HIDE SHEET'!$A$2:$A$206,FALSE),4))","v":""},null,""]
[null,null,null,null,null,{"$f":"IF(ISBLANK(C89),\"\",_xlfn.CONCAT(LEFT(C89,4),\"-\",LEFT(B89,4),COUNTIF($C$11:C89,C89)))","v":""},{"$f":"IF(ISBLANK(B89),\"\",INDEX('Est. Useful Life - HIDE SHEET'!$A$2:$D$206,MATCH(CONCATENATE(B89,C89),'Est. Useful Life - HIDE SHEET'!$A$2:$A$206,FALSE),4))","v":""},null,""]
[null,null,null,null,null,{"$f":"IF(ISBLANK(C90),\"\",_xlfn.CONCAT(LEFT(C90,4),\"-\",LEFT(B90,4),COUNTIF($C$11:C90,C90)))","v":""},{"$f":"IF(ISBLANK(B90),\"\",INDEX('Est. Useful Life - HIDE SHEET'!$A$2:$D$206,MATCH(CONCATENATE(B90,C90),'Est. Useful Life - HIDE SHEET'!$A$2:$A$206,FALSE),4))","v":""},null,""]
[null,null,null,null,null,{"$f":"IF(ISBLANK(C91),\"\",_xlfn.CONCAT(LEFT(C91,4),\"-\",LEFT(B91,4),COUNTIF($C$11:C91,C91)))","v":""},{"$f":"IF(ISBLANK(B91),\"\",INDEX('Est. Useful Life - HIDE SHEET'!$A$2:$D$206,MATCH(CONCATENATE(B91,C91),'Est. Useful Life - HIDE SHEET'!$A$2:$A$206,FALSE),4))","v":""},null,""]
[null,null,null,null,null,{"$f":"IF(ISBLANK(C92),\"\",_xlfn.CONCAT(LEFT(C92,4),\"-\",LEFT(B92,4),COUNTIF($C$11:C92,C92)))","v":""},{"$f":"IF(ISBLANK(B92),\"\",INDEX('Est. Useful Life - HIDE SHEET'!$A$2:$D$206,MATCH(CONCATENATE(B92,C92),'Est. Useful Life - HIDE SHEET'!$A$2:$A$206,FALSE),4))","v":""},null,""]
[null,null,null,null,null,{"$f":"IF(ISBLANK(C93),\"\",_xlfn.CONCAT(LEFT(C93,4),\"-\",LEFT(B93,4),COUNTIF($C$11:C93,C93)))","v":""},{"$f":"IF(ISBLANK(B93),\"\",INDEX('Est. Useful Life - HIDE SHEET'!$A$2:$D$206,MATCH(CONCATENATE(B93,C93),'Est. Useful Life - HIDE SHEET'!$A$2:$A$206,FALSE),4))","v":""},null,""]
[null,null,null,null,null,{"$f":"IF(ISBLANK(C94),\"\",_xlfn.CONCAT(LEFT(C94,4),\"-\",LEFT(B94,4),COUNTIF($C$11:C94,C94)))","v":""},{"$f":"IF(ISBLANK(B94),\"\",INDEX('Est. Useful Life - HIDE SHEET'!$A$2:$D$206,MATCH(CONCATENATE(B94,C94),'Est. Useful Life - HIDE SHEET'!$A$2:$A$206,FALSE),4))","v":""},null,""]
[null,null,null,null,null,{"$f":"IF(ISBLANK(C95),\"\",_xlfn.CONCAT(LEFT(C95,4),\"-\",LEFT(B95,4),COUNTIF($C$11:C95,C95)))","v":""},{"$f":"IF(ISBLANK(B95),\"\",INDEX('Est. Useful Life - HIDE SHEET'!$A$2:$D$206,MATCH(CONCATENATE(B95,C95),'Est. Useful Life - HIDE SHEET'!$A$2:$A$206,FALSE),4))","v":""},null,""]
[null,null,null,null,null,{"$f":"IF(ISBLANK(C96),\"\",_xlfn.CONCAT(LEFT(C96,4),\"-\",LEFT(B96,4),COUNTIF($C$11:C96,C96)))","v":""},{"$f":"IF(ISBLANK(B96),\"\",INDEX('Est. Useful Life - HIDE SHEET'!$A$2:$D$206,MATCH(CONCATENATE(B96,C96),'Est. Useful Life - HIDE SHEET'!$A$2:$A$206,FALSE),4))","v":""},null,""]
[null,null,null,null,null,{"$f":"IF(ISBLANK(C97),\"\",_xlfn.CONCAT(LEFT(C97,4),\"-\",LEFT(B97,4),COUNTIF($C$11:C97,C97)))","v":""},{"$f":"IF(ISBLANK(B97),\"\",INDEX('Est. Useful Life - HIDE SHEET'!$A$2:$D$206,MATCH(CONCATENATE(B97,C97),'Est. Useful Life - HIDE SHEET'!$A$2:$A$206,FALSE),4))","v":""},null,""]
[null,null,null,null,null,{"$f":"IF(ISBLANK(C98),\"\",_xlfn.CONCAT(LEFT(C98,4),\"-\",LEFT(B98,4),COUNTIF($C$11:C98,C98)))","v":""},{"$f":"IF(ISBLANK(B98),\"\",INDEX('Est. Useful Life - HIDE SHEET'!$A$2:$D$206,MATCH(CONCATENATE(B98,C98),'Est. Useful Life - HIDE SHEET'!$A$2:$A$206,FALSE),4))","v":""},null,""]
[null,null,null,null,null,{"$f":"IF(ISBLANK(C99),\"\",_xlfn.CONCAT(LEFT(C99,4),\"-\",LEFT(B99,4),COUNTIF($C$11:C99,C99)))","v":""},{"$f":"IF(ISBLANK(B99),\"\",INDEX('Est. Useful Life - HIDE SHEET'!$A$2:$D$206,MATCH(CONCATENATE(B99,C99),'Est. Useful Life - HIDE SHEET'!$A$2:$A$206,FALSE),4))","v":""},null,""]
[null,null,null,null,null,{"$f":"IF(ISBLANK(C100),\"\",_xlfn.CONCAT(LEFT(C100,4),\"-\",LEFT(B100,4),COUNTIF($C$11:C100,C100)))","v":""},{"$f":"IF(ISBLANK(B100),\"\",INDEX('Est. Useful Life - HIDE SHEET'!$A$2:$D$206,MATCH(CONCATENATE(B100,C100),'Est. Useful Life - HIDE SHEET'!$A$2:$A$206,FALSE),4))","v":""},null,""]
[null,null,null,null,null,{"$f":"IF(ISBLANK(C101),\"\",_xlfn.CONCAT(LEFT(C101,4),\"-\",LEFT(B101,4),COUNTIF($C$11:C101,C101)))","v":""},{"$f":"IF(ISBLANK(B101),\"\",INDEX('Est. Useful Life - HIDE SHEET'!$A$2:$D$206,MATCH(CONCATENATE(B101,C101),'Est. Useful Life - HIDE SHEET'!$A$2:$A$206,FALSE),4))","v":""},null,""]
[null,null,null,null,null,{"$f":"IF(ISBLANK(C102),\"\",_xlfn.CONCAT(LEFT(C102,4),\"-\",LEFT(B102,4),COUNTIF($C$11:C102,C102)))","v":""},{"$f":"IF(ISBLANK(B102),\"\",INDEX('Est. Useful Life - HIDE SHEET'!$A$2:$D$206,MATCH(CONCATENATE(B102,C102),'Est. Useful Life - HIDE SHEET'!$A$2:$A$206,FALSE),4))","v":""},null,""]
[null,null,null,null,null,{"$f":"IF(ISBLANK(C103),\"\",_xlfn.CONCAT(LEFT(C103,4),\"-\",LEFT(B103,4),COUNTIF($C$11:C103,C103)))","v":""},{"$f":"IF(ISBLANK(B103),\"\",INDEX('Est. Useful Life - HIDE SHEET'!$A$2:$D$206,MATCH(CONCATENATE(B103,C103),'Est. Useful Life - HIDE SHEET'!$A$2:$A$206,FALSE),4))","v":""},null,""]
[null,null,null,null,null,{"$f":"IF(ISBLANK(C104),\"\",_xlfn.CONCAT(LEFT(C104,4),\"-\",LEFT(B104,4),COUNTIF($C$11:C104,C104)))","v":""},{"$f":"IF(ISBLANK(B104),\"\",INDEX('Est. Useful Life - HIDE SHEET'!$A$2:$D$206,MATCH(CONCATENATE(B104,C104),'Est. Useful Life - HIDE SHEET'!$A$2:$A$206,FALSE),4))","v":""},null,""]
[null,null,null,null,null,{"$f":"IF(ISBLANK(C105),\"\",_xlfn.CONCAT(LEFT(C105,4),\"-\",LEFT(B105,4),COUNTIF($C$11:C105,C105)))","v":""},{"$f":"IF(ISBLANK(B105),\"\",INDEX('Est. Useful Life - HIDE SHEET'!$A$2:$D$206,MATCH(CONCATENATE(B105,C105),'Est. Useful Life - HIDE SHEET'!$A$2:$A$206,FALSE),4))","v":""},null,""]
[null,null,null,null,null,{"$f":"IF(ISBLANK(C106),\"\",_xlfn.CONCAT(LEFT(C106,4),\"-\",LEFT(B106,4),COUNTIF($C$11:C106,C106)))","v":""},{"$f":"IF(ISBLANK(B106),\"\",INDEX('Est. Useful Life - HIDE SHEET'!$A$2:$D$206,MATCH(CONCATENATE(B106,C106),'Est. Useful Life - HIDE SHEET'!$A$2:$A$206,FALSE),4))","v":""},null,""]
[null,null,null,null,null,{"$f":"IF(ISBLANK(C107),\"\",_xlfn.CONCAT(LEFT(C107,4),\"-\",LEFT(B107,4),COUNTIF($C$11:C107,C107)))","v":""},{"$f":"IF(ISBLANK(B107),\"\",INDEX('Est. Useful Life - HIDE SHEET'!$A$2:$D$206,MATCH(CONCATENATE(B107,C107),'Est. Useful Life - HIDE SHEET'!$A$2:$A$206,FALSE),4))","v":""},null,{"$f":"IF(ISNUMBER(G107),IF(ISNUMBER(H107),IF((G107-(INT((TODAY()-H107)/365)))<0,0,G107-(INT((TODAY()-H107)/365))),\"\"),\"\")","v":""}]
[null,null,null,null,null,{"$f":"IF(ISBLANK(C108),\"\",_xlfn.CONCAT(LEFT(C108,4),\"-\",LEFT(B108,4),COUNTIF($C$11:C108,C108)))","v":""},{"$f":"IF(ISBLANK(B108),\"\",INDEX('Est. Useful Life - HIDE SHEET'!$A$2:$D$206,MATCH(CONCATENATE(B108,C108),'Est. Useful Life - HIDE SHEET'!$A$2:$A$206,FALSE),4))","v":""},null,""]
[null,null,null,null,null,{"$f":"IF(ISBLANK(C109),\"\",_xlfn.CONCAT(LEFT(C109,4),\"-\",LEFT(B109,4),COUNTIF($C$11:C109,C109)))","v":""},{"$f":"IF(ISBLANK(B109),\"\",INDEX('Est. Useful Life - HIDE SHEET'!$A$2:$D$206,MATCH(CONCATENATE(B109,C109),'Est. Useful Life - HIDE SHEET'!$A$2:$A$206,FALSE),4))","v":""},null,""]
[null,null,null,null,null,{"$f":"IF(ISBLANK(C110),\"\",_xlfn.CONCAT(LEFT(C110,4),\"-\",LEFT(B110,4),COUNTIF($C$11:C110,C110)))","v":""},{"$f":"IF(ISBLANK(B110),\"\",INDEX('Est. Useful Life - HIDE SHEET'!$A$2:$D$206,MATCH(CONCATENATE(B110,C110),'Est. Useful Life - HIDE SHEET'!$A$2:$A$206,FALSE),4))","v":""},null,""]
[null,null,null,null,null,{"$f":"IF(ISBLANK(C111),\"\",_xlfn.CONCAT(LEFT(C111,4),\"-\",LEFT(B111,4),COUNTIF($C$11:C111,C111)))","v":""},{"$f":"IF(ISBLANK(B111),\"\",INDEX('Est. Useful Life - HIDE SHEET'!$A$2:$D$206,MATCH(CONCATENATE(B111,C111),'Est. Useful Life - HIDE SHEET'!$A$2:$A$206,FALSE),4))","v":""},null,""]
[null,null,null,null,null,{"$f":"IF(ISBLANK(C112),\"\",_xlfn.CONCAT(LEFT(C112,4),\"-\",LEFT(B112,4),COUNTIF($C$11:C112,C112)))","v":""},{"$f":"IF(ISBLANK(B112),\"\",INDEX('Est. Useful Life - HIDE SHEET'!$A$2:$D$206,MATCH(CONCATENATE(B112,C112),'Est. Useful Life - HIDE SHEET'!$A$2:$A$206,FALSE),4))","v":""},null,""]
[null,null,null,null,null,{"$f":"IF(ISBLANK(C113),\"\",_xlfn.CONCAT(LEFT(C113,4),\"-\",LEFT(B113,4),COUNTIF($C$11:C113,C113)))","v":""},{"$f":"IF(ISBLANK(B113),\"\",INDEX('Est. Useful Life - HIDE SHEET'!$A$2:$D$206,MATCH(CONCATENATE(B113,C113),'Est. Useful Life - HIDE SHEET'!$A$2:$A$206,FALSE),4))","v":""},null,""]
[null,null,null,null,null,{"$f":"IF(ISBLANK(C114),\"\",_xlfn.CONCAT(LEFT(C114,4),\"-\",LEFT(B114,4),COUNTIF($C$11:C114,C114)))","v":""},{"$f":"IF(ISBLANK(B114),\"\",INDEX('Est. Useful Life - HIDE SHEET'!$A$2:$D$206,MATCH(CONCATENATE(B114,C114),'Est. Useful Life - HIDE SHEET'!$A$2:$A$206,FALSE),4))","v":""},null,""]
[null,null,null,null,null,{"$f":"IF(ISBLANK(C115),\"\",_xlfn.CONCAT(LEFT(C115,4),\"-\",LEFT(B115,4),COUNTIF($C$11:C115,C115)))","v":""},{"$f":"IF(ISBLANK(B115),\"\",INDEX('Est. Useful Life - HIDE SHEET'!$A$2:$D$206,MATCH(CONCATENATE(B115,C115),'Est. Useful Life - HIDE SHEET'!$A$2:$A$206,FALSE),4))","v":""},null,""]
[null,null,null,null,null,{"$f":"IF(ISBLANK(C116),\"\",_xlfn.CONCAT(LEFT(C116,4),\"-\",LEFT(B116,4),COUNTIF($C$11:C116,C116)))","v":""},{"$f":"IF(ISBLANK(B116),\"\",INDEX('Est. Useful Life - HIDE SHEET'!$A$2:$D$206,MATCH(CONCATENATE(B116,C116),'Est. Useful Life - HIDE SHEET'!$A$2:$A$206,FALSE),4))","v":""},null,""]
[null,null,null,null,null,{"$f":"IF(ISBLANK(C117),\"\",_xlfn.CONCAT(LEFT(C117,4),\"-\",LEFT(B117,4),COUNTIF($C$11:C117,C117)))","v":""},{"$f":"IF(ISBLANK(B117),\"\",INDEX('Est. Useful Life - HIDE SHEET'!$A$2:$D$206,MATCH(CONCATENATE(B117,C117),'Est. Useful Life - HIDE SHEET'!$A$2:$A$206,FALSE),4))","v":""},null,""]
[null,null,null,null,null,{"$f":"IF(ISBLANK(C118),\"\",_xlfn.CONCAT(LEFT(C118,4),\"-\",LEFT(B118,4),COUNTIF($C$11:C118,C118)))","v":""},{"$f":"IF(ISBLANK(B118),\"\",INDEX('Est. Useful Life - HIDE SHEET'!$A$2:$D$206,MATCH(CONCATENATE(B118,C118),'Est. Useful Life - HIDE SHEET'!$A$2:$A$206,FALSE),4))","v":""},null,""]
[null,null,null,null,null,{"$f":"IF(ISBLANK(C119),\"\",_xlfn.CONCAT(LEFT(C119,4),\"-\",LEFT(B119,4),COUNTIF($C$11:C119,C119)))","v":""},{"$f":"IF(ISBLANK(B119),\"\",INDEX('Est. Useful Life - HIDE SHEET'!$A$2:$D$206,MATCH(CONCATENATE(B119,C119),'Est. Useful Life - HIDE SHEET'!$A$2:$A$206,FALSE),4))","v":""},null,""]
[null,null,null,null,null,{"$f":"IF(ISBLANK(C120),\"\",_xlfn.CONCAT(LEFT(C120,4),\"-\",LEFT(B120,4),COUNTIF($C$11:C120,C120)))","v":""},{"$f":"IF(ISBLANK(B120),\"\",INDEX('Est. Useful Life - HIDE SHEET'!$A$2:$D$206,MATCH(CONCATENATE(B120,C120),'Est. Useful Life - HIDE SHEET'!$A$2:$A$206,FALSE),4))","v":""},null,""]
[null,null,null,null,null,{"$f":"IF(ISBLANK(C121),\"\",_xlfn.CONCAT(LEFT(C121,4),\"-\",LEFT(B121,4),COUNTIF($C$11:C121,C121)))","v":""},{"$f":"IF(ISBLANK(B121),\"\",INDEX('Est. Useful Life - HIDE SHEET'!$A$2:$D$206,MATCH(CONCATENATE(B121,C121),'Est. Useful Life - HIDE SHEET'!$A$2:$A$206,FALSE),4))","v":""},null,""]
[null,null,null,null,null,{"$f":"IF(ISBLANK(C122),\"\",_xlfn.CONCAT(LEFT(C122,4),\"-\",LEFT(B122,4),COUNTIF($C$11:C122,C122)))","v":""},{"$f":"IF(ISBLANK(B122),\"\",INDEX('Est. Useful Life - HIDE SHEET'!$A$2:$D$206,MATCH(CONCATENATE(B122,C122),'Est. Useful Life - HIDE SHEET'!$A$2:$A$206,FALSE),4))","v":""},null,""]
[null,null,null,null,null,{"$f":"IF(ISBLANK(C123),\"\",_xlfn.CONCAT(LEFT(C123,4),\"-\",LEFT(B123,4),COUNTIF($C$11:C123,C123)))","v":""},{"$f":"IF(ISBLANK(B123),\"\",INDEX('Est. Useful Life - HIDE SHEET'!$A$2:$D$206,MATCH(CONCATENATE(B123,C123),'Est. Useful Life - HIDE SHEET'!$A$2:$A$206,FALSE),4))","v":""},null,""]
[null,null,null,null,null,{"$f":"IF(ISBLANK(C124),\"\",_xlfn.CONCAT(LEFT(C124,4),\"-\",LEFT(B124,4),COUNTIF($C$11:C124,C124)))","v":""},{"$f":"IF(ISBLANK(B124),\"\",INDEX('Est. Useful Life - HIDE SHEET'!$A$2:$D$206,MATCH(CONCATENATE(B124,C124),'Est. Useful Life - HIDE SHEET'!$A$2:$A$206,FALSE),4))","v":""},null,""]
[null,null,null,null,null,{"$f":"IF(ISBLANK(C125),\"\",_xlfn.CONCAT(LEFT(C125,4),\"-\",LEFT(B125,4),COUNTIF($C$11:C125,C125)))","v":""},{"$f":"IF(ISBLANK(B125),\"\",INDEX('Est. Useful Life - HIDE SHEET'!$A$2:$D$206,MATCH(CONCATENATE(B125,C125),'Est. Useful Life - HIDE SHEET'!$A$2:$A$206,FALSE),4))","v":""},null,""]
[null,null,null,null,null,{"$f":"IF(ISBLANK(C126),\"\",_xlfn.CONCAT(LEFT(C126,4),\"-\",LEFT(B126,4),COUNTIF($C$11:C126,C126)))","v":""},{"$f":"IF(ISBLANK(B126),\"\",INDEX('Est. Useful Life - HIDE SHEET'!$A$2:$D$206,MATCH(CONCATENATE(B126,C126),'Est. Useful Life - HIDE SHEET'!$A$2:$A$206,FALSE),4))","v":""},null,""]
[null,null,null,null,null,{"$f":"IF(ISBLANK(C127),\"\",_xlfn.CONCAT(LEFT(C127,4),\"-\",LEFT(B127,4),COUNTIF($C$11:C127,C127)))","v":""},{"$f":"IF(ISBLANK(B127),\"\",INDEX('Est. Useful Life - HIDE SHEET'!$A$2:$D$206,MATCH(CONCATENATE(B127,C127),'Est. Useful Life - HIDE SHEET'!$A$2:$A$206,FALSE),4))","v":""},null,""]
[null,null,null,null,null,{"$f":"IF(ISBLANK(C128),\"\",_xlfn.CONCAT(LEFT(C128,4),\"-\",LEFT(B128,4),COUNTIF($C$11:C128,C128)))","v":""},{"$f":"IF(ISBLANK(B128),\"\",INDEX('Est. Useful Life - HIDE SHEET'!$A$2:$D$206,MATCH(CONCATENATE(B128,C128),'Est. Useful Life - HIDE SHEET'!$A$2:$A$206,FALSE),4))","v":""},null,""]
[null,null,null,null,null,{"$f":"IF(ISBLANK(C129),\"\",_xlfn.CONCAT(LEFT(C129,4),\"-\",LEFT(B129,4),COUNTIF($C$11:C129,C129)))","v":""},{"$f":"IF(ISBLANK(B129),\"\",INDEX('Est. Useful Life - HIDE SHEET'!$A$2:$D$206,MATCH(CONCATENATE(B129,C129),'Est. Useful Life - HIDE SHEET'!$A$2:$A$206,FALSE),4))","v":""},null,""]
[null,null,null,null,null,{"$f":"IF(ISBLANK(C130),\"\",_xlfn.CONCAT(LEFT(C130,4),\"-\",LEFT(B130,4),COUNTIF($C$11:C130,C130)))","v":""},{"$f":"IF(ISBLANK(B130),\"\",INDEX('Est. Useful Life - HIDE SHEET'!$A$2:$D$206,MATCH(CONCATENATE(B130,C130),'Est. Useful Life - HIDE SHEET'!$A$2:$A$206,FALSE),4))","v":""},null,""]
[null,null,null,null,null,{"$f":"IF(ISBLANK(C131),\"\",_xlfn.CONCAT(LEFT(C131,4),\"-\",LEFT(B131,4),COUNTIF($C$11:C131,C131)))","v":""},{"$f":"IF(ISBLANK(B131),\"\",INDEX('Est. Useful Life - HIDE SHEET'!$A$2:$D$206,MATCH(CONCATENATE(B131,C131),'Est. Useful Life - HIDE SHEET'!$A$2:$A$206,FALSE),4))","v":""},null,""]
[null,null,null,null,null,{"$f":"IF(ISBLANK(C132),\"\",_xlfn.CONCAT(LEFT(C132,4),\"-\",LEFT(B132,4),COUNTIF($C$11:C132,C132)))","v":""},{"$f":"IF(ISBLANK(B132),\"\",INDEX('Est. Useful Life - HIDE SHEET'!$A$2:$D$206,MATCH(CONCATENATE(B132,C132),'Est. Useful Life - HIDE SHEET'!$A$2:$A$206,FALSE),4))","v":""},null,""]
[null,null,null,null,null,{"$f":"IF(ISBLANK(C133),\"\",_xlfn.CONCAT(LEFT(C133,4),\"-\",LEFT(B133,4),COUNTIF($C$11:C133,C133)))","v":""},{"$f":"IF(ISBLANK(B133),\"\",INDEX('Est. Useful Life - HIDE SHEET'!$A$2:$D$206,MATCH(CONCATENATE(B133,C133),'Est. Useful Life - HIDE SHEET'!$A$2:$A$206,FALSE),4))","v":""},null,""]
[null,null,null,null,null,{"$f":"IF(ISBLANK(C134),\"\",_xlfn.CONCAT(LEFT(C134,4),\"-\",LEFT(B134,4),COUNTIF($C$11:C134,C134)))","v":""},{"$f":"IF(ISBLANK(B134),\"\",INDEX('Est. Useful Life - HIDE SHEET'!$A$2:$D$206,MATCH(CONCATENATE(B134,C134),'Est. Useful Life - HIDE SHEET'!$A$2:$A$206,FALSE),4))","v":""},null,""]
[null,null,null,null,null,{"$f":"IF(ISBLANK(C135),\"\",_xlfn.CONCAT(LEFT(C135,4),\"-\",LEFT(B135,4),COUNTIF($C$11:C135,C135)))","v":""},{"$f":"IF(ISBLANK(B135),\"\",INDEX('Est. Useful Life - HIDE SHEET'!$A$2:$D$206,MATCH(CONCATENATE(B135,C135),'Est. Useful Life - HIDE SHEET'!$A$2:$A$206,FALSE),4))","v":""},null,""]
[null,null,null,null,null,{"$f":"IF(ISBLANK(C136),\"\",_xlfn.CONCAT(LEFT(C136,4),\"-\",LEFT(B136,4),COUNTIF($C$11:C136,C136)))","v":""},{"$f":"IF(ISBLANK(B136),\"\",INDEX('Est. Useful Life - HIDE SHEET'!$A$2:$D$206,MATCH(CONCATENATE(B136,C136),'Est. Useful Life - HIDE SHEET'!$A$2:$A$206,FALSE),4))","v":""},null,""]
[null,null,null,null,null,{"$f":"IF(ISBLANK(C137),\"\",_xlfn.CONCAT(LEFT(C137,4),\"-\",LEFT(B137,4),COUNTIF($C$11:C137,C137)))","v":""},{"$f":"IF(ISBLANK(B137),\"\",INDEX('Est. Useful Life - HIDE SHEET'!$A$2:$D$206,MATCH(CONCATENATE(B137,C137),'Est. Useful Life - HIDE SHEET'!$A$2:$A$206,FALSE),4))","v":""},null,""]
[null,null,null,null,null,{"$f":"IF(ISBLANK(C138),\"\",_xlfn.CONCAT(LEFT(C138,4),\"-\",LEFT(B138,4),COUNTIF($C$11:C138,C138)))","v":""},{"$f":"IF(ISBLANK(B138),\"\",INDEX('Est. Useful Life - HIDE SHEET'!$A$2:$D$206,MATCH(CONCATENATE(B138,C138),'Est. Useful Life - HIDE SHEET'!$A$2:$A$206,FALSE),4))","v":""},null,""]
[null,null,null,null,null,{"$f":"IF(ISBLANK(C139),\"\",_xlfn.CONCAT(LEFT(C139,4),\"-\",LEFT(B139,4),COUNTIF($C$11:C139,C139)))","v":""},{"$f":"IF(ISBLANK(B139),\"\",INDEX('Est. Useful Life - HIDE SHEET'!$A$2:$D$206,MATCH(CONCATENATE(B139,C139),'Est. Useful Life - HIDE SHEET'!$A$2:$A$206,FALSE),4))","v":""},null,{"$f":"IF(ISNUMBER(G139),IF(ISNUMBER(H139),IF((G139-(INT((TODAY()-H139)/365)))<0,0,G139-(INT((TODAY()-H139)/365))),\"\"),\"\")","v":""}]
[null,null,null,null,null,{"$f":"IF(ISBLANK(C140),\"\",_xlfn.CONCAT(LEFT(C140,4),\"-\",LEFT(B140,4),COUNTIF($C$11:C140,C140)))","v":""},{"$f":"IF(ISBLANK(B140),\"\",INDEX('Est. Useful Life - HIDE SHEET'!$A$2:$D$206,MATCH(CONCATENATE(B140,C140),'Est. Useful Life - HIDE SHEET'!$A$2:$A$206,FALSE),4))","v":""},null,""]
[null,null,null,null,null,{"$f":"IF(ISBLANK(C141),\"\",_xlfn.CONCAT(LEFT(C141,4),\"-\",LEFT(B141,4),COUNTIF($C$11:C141,C141)))","v":""},{"$f":"IF(ISBLANK(B141),\"\",INDEX('Est. Useful Life - HIDE SHEET'!$A$2:$D$206,MATCH(CONCATENATE(B141,C141),'Est. Useful Life - HIDE SHEET'!$A$2:$A$206,FALSE),4))","v":""},null,""]
[null,null,null,null,null,{"$f":"IF(ISBLANK(C142),\"\",_xlfn.CONCAT(LEFT(C142,4),\"-\",LEFT(B142,4),COUNTIF($C$11:C142,C142)))","v":""},{"$f":"IF(ISBLANK(B142),\"\",INDEX('Est. Useful Life - HIDE SHEET'!$A$2:$D$206,MATCH(CONCATENATE(B142,C142),'Est. Useful Life - HIDE SHEET'!$A$2:$A$206,FALSE),4))","v":""},null,""]
[null,null,null,null,null,{"$f":"IF(ISBLANK(C143),\"\",_xlfn.CONCAT(LEFT(C143,4),\"-\",LEFT(B143,4),COUNTIF($C$11:C143,C143)))","v":""},{"$f":"IF(ISBLANK(B143),\"\",INDEX('Est. Useful Life - HIDE SHEET'!$A$2:$D$206,MATCH(CONCATENATE(B143,C143),'Est. Useful Life - HIDE SHEET'!$A$2:$A$206,FALSE),4))","v":""},null,""]
[null,null,null,null,null,{"$f":"IF(ISBLANK(C144),\"\",_xlfn.CONCAT(LEFT(C144,4),\"-\",LEFT(B144,4),COUNTIF($C$11:C144,C144)))","v":""},{"$f":"IF(ISBLANK(B144),\"\",INDEX('Est. Useful Life - HIDE SHEET'!$A$2:$D$206,MATCH(CONCATENATE(B144,C144),'Est. Useful Life - HIDE SHEET'!$A$2:$A$206,FALSE),4))","v":""},null,""]
[null,null,null,null,null,{"$f":"IF(ISBLANK(C145),\"\",_xlfn.CONCAT(LEFT(C145,4),\"-\",LEFT(B145,4),COUNTIF($C$11:C145,C145)))","v":""},{"$f":"IF(ISBLANK(B145),\"\",INDEX('Est. Useful Life - HIDE SHEET'!$A$2:$D$206,MATCH(CONCATENATE(B145,C145),'Est. Useful Life - HIDE SHEET'!$A$2:$A$206,FALSE),4))","v":""},null,""]
[null,null,null,null,null,{"$f":"IF(ISBLANK(C146),\"\",_xlfn.CONCAT(LEFT(C146,4),\"-\",LEFT(B146,4),COUNTIF($C$11:C146,C146)))","v":""},{"$f":"IF(ISBLANK(B146),\"\",INDEX('Est. Useful Life - HIDE SHEET'!$A$2:$D$206,MATCH(CONCATENATE(B146,C146),'Est. Useful Life - HIDE SHEET'!$A$2:$A$206,FALSE),4))","v":""},null,""]
[null,null,null,null,null,{"$f":"IF(ISBLANK(C147),\"\",_xlfn.CONCAT(LEFT(C147,4),\"-\",LEFT(B147,4),COUNTIF($C$11:C147,C147)))","v":""},{"$f":"IF(ISBLANK(B147),\"\",INDEX('Est. Useful Life - HIDE SHEET'!$A$2:$D$206,MATCH(CONCATENATE(B147,C147),'Est. Useful Life - HIDE SHEET'!$A$2:$A$206,FALSE),4))","v":""},null,""]
[null,null,null,null,null,{"$f":"IF(ISBLANK(C148),\"\",_xlfn.CONCAT(LEFT(C148,4),\"-\",LEFT(B148,4),COUNTIF($C$11:C148,C148)))","v":""},{"$f":"IF(ISBLANK(B148),\"\",INDEX('Est. Useful Life - HIDE SHEET'!$A$2:$D$206,MATCH(CONCATENATE(B148,C148),'Est. Useful Life - HIDE SHEET'!$A$2:$A$206,FALSE),4))","v":""},null,""]
[null,null,null,null,null,{"$f":"IF(ISBLANK(C149),\"\",_xlfn.CONCAT(LEFT(C149,4),\"-\",LEFT(B149,4),COUNTIF($C$11:C149,C149)))","v":""},{"$f":"IF(ISBLANK(B149),\"\",INDEX('Est. Useful Life - HIDE SHEET'!$A$2:$D$206,MATCH(CONCATENATE(B149,C149),'Est. Useful Life - HIDE SHEET'!$A$2:$A$206,FALSE),4))","v":""},null,""]
[null,null,null,null,null,{"$f":"IF(ISBLANK(C150),\"\",_xlfn.CONCAT(LEFT(C150,4),\"-\",LEFT(B150,4),COUNTIF($C$11:C150,C150)))","v":""},{"$f":"IF(ISBLANK(B150),\"\",INDEX('Est. Useful Life - HIDE SHEET'!$A$2:$D$206,MATCH(CONCATENATE(B150,C150),'Est. Useful Life - HIDE SHEET'!$A$2:$A$206,FALSE),4))","v":""},null,""]
[null,null,null,null,null,{"$f":"IF(ISBLANK(C151),\"\",_xlfn.CONCAT(LEFT(C151,4),\"-\",LEFT(B151,4),COUNTIF($C$11:C151,C151)))","v":""},{"$f":"IF(ISBLANK(B151),\"\",INDEX('Est. Useful Life - HIDE SHEET'!$A$2:$D$206,MATCH(CONCATENATE(B151,C151),'Est. Useful Life - HIDE SHEET'!$A$2:$A$206,FALSE),4))","v":""},null,""]
[null,null,null,null,null,{"$f":"IF(ISBLANK(C152),\"\",_xlfn.CONCAT(LEFT(C152,4),\"-\",LEFT(B152,4),COUNTIF($C$11:C152,C152)))","v":""},{"$f":"IF(ISBLANK(B152),\"\",INDEX('Est. Useful Life - HIDE SHEET'!$A$2:$D$206,MATCH(CONCATENATE(B152,C152),'Est. Useful Life - HIDE SHEET'!$A$2:$A$206,FALSE),4))","v":""},null,""]
[null,null,null,null,null,{"$f":"IF(ISBLANK(C153),\"\",_xlfn.CONCAT(LEFT(C153,4),\"-\",LEFT(B153,4),COUNTIF($C$11:C153,C153)))","v":""},{"$f":"IF(ISBLANK(B153),\"\",INDEX('Est. Useful Life - HIDE SHEET'!$A$2:$D$206,MATCH(CONCATENATE(B153,C153),'Est. Useful Life - HIDE SHEET'!$A$2:$A$206,FALSE),4))","v":""},null,""]
[null,null,null,null,null,{"$f":"IF(ISBLANK(C154),\"\",_xlfn.CONCAT(LEFT(C154,4),\"-\",LEFT(B154,4),COUNTIF($C$11:C154,C154)))","v":""},{"$f":"IF(ISBLANK(B154),\"\",INDEX('Est. Useful Life - HIDE SHEET'!$A$2:$D$206,MATCH(CONCATENATE(B154,C154),'Est. Useful Life - HIDE SHEET'!$A$2:$A$206,FALSE),4))","v":""},null,""]
[null,null,null,null,null,{"$f":"IF(ISBLANK(C155),\"\",_xlfn.CONCAT(LEFT(C155,4),\"-\",LEFT(B155,4),COUNTIF($C$11:C155,C155)))","v":""},{"$f":"IF(ISBLANK(B155),\"\",INDEX('Est. Useful Life - HIDE SHEET'!$A$2:$D$206,MATCH(CONCATENATE(B155,C155),'Est. Useful Life - HIDE SHEET'!$A$2:$A$206,FALSE),4))","v":""},null,""]
[null,null,null,null,null,{"$f":"IF(ISBLANK(C156),\"\",_xlfn.CONCAT(LEFT(C156,4),\"-\",LEFT(B156,4),COUNTIF($C$11:C156,C156)))","v":""},{"$f":"IF(ISBLANK(B156),\"\",INDEX('Est. Useful Life - HIDE SHEET'!$A$2:$D$206,MATCH(CONCATENATE(B156,C156),'Est. Useful Life - HIDE SHEET'!$A$2:$A$206,FALSE),4))","v":""},null,""]
[null,null,null,null,null,{"$f":"IF(ISBLANK(C157),\"\",_xlfn.CONCAT(LEFT(C157,4),\"-\",LEFT(B157,4),COUNTIF($C$11:C157,C157)))","v":""},{"$f":"IF(ISBLANK(B157),\"\",INDEX('Est. Useful Life - HIDE SHEET'!$A$2:$D$206,MATCH(CONCATENATE(B157,C157),'Est. Useful Life - HIDE SHEET'!$A$2:$A$206,FALSE),4))","v":""},null,""]
[null,null,null,null,null,{"$f":"IF(ISBLANK(C158),\"\",_xlfn.CONCAT(LEFT(C158,4),\"-\",LEFT(B158,4),COUNTIF($C$11:C158,C158)))","v":""},{"$f":"IF(ISBLANK(B158),\"\",INDEX('Est. Useful Life - HIDE SHEET'!$A$2:$D$206,MATCH(CONCATENATE(B158,C158),'Est. Useful Life - HIDE SHEET'!$A$2:$A$206,FALSE),4))","v":""},null,""]
[null,null,null,null,null,{"$f":"IF(ISBLANK(C159),\"\",_xlfn.CONCAT(LEFT(C159,4),\"-\",LEFT(B159,4),COUNTIF($C$11:C159,C159)))","v":""},{"$f":"IF(ISBLANK(B159),\"\",INDEX('Est. Useful Life - HIDE SHEET'!$A$2:$D$206,MATCH(CONCATENATE(B159,C159),'Est. Useful Life - HIDE SHEET'!$A$2:$A$206,FALSE),4))","v":""},null,""]
[null,null,null,null,null,{"$f":"IF(ISBLANK(C160),\"\",_xlfn.CONCAT(LEFT(C160,4),\"-\",LEFT(B160,4),COUNTIF($C$11:C160,C160)))","v":""},{"$f":"IF(ISBLANK(B160),\"\",INDEX('Est. Useful Life - HIDE SHEET'!$A$2:$D$206,MATCH(CONCATENATE(B160,C160),'Est. Useful Life - HIDE SHEET'!$A$2:$A$206,FALSE),4))","v":""},null,""]
[null,null,null,null,null,{"$f":"IF(ISBLANK(C161),\"\",_xlfn.CONCAT(LEFT(C161,4),\"-\",LEFT(B161,4),COUNTIF($C$11:C161,C161)))","v":""},{"$f":"IF(ISBLANK(B161),\"\",INDEX('Est. Useful Life - HIDE SHEET'!$A$2:$D$206,MATCH(CONCATENATE(B161,C161),'Est. Useful Life - HIDE SHEET'!$A$2:$A$206,FALSE),4))","v":""},null,""]
[null,null,null,null,null,{"$f":"IF(ISBLANK(C162),\"\",_xlfn.CONCAT(LEFT(C162,4),\"-\",LEFT(B162,4),COUNTIF($C$11:C162,C162)))","v":""},{"$f":"IF(ISBLANK(B162),\"\",INDEX('Est. Useful Life - HIDE SHEET'!$A$2:$D$206,MATCH(CONCATENATE(B162,C162),'Est. Useful Life - HIDE SHEET'!$A$2:$A$206,FALSE),4))","v":""},null,""]
[null,null,null,null,null,{"$f":"IF(ISBLANK(C163),\"\",_xlfn.CONCAT(LEFT(C163,4),\"-\",LEFT(B163,4),COUNTIF($C$11:C163,C163)))","v":""},{"$f":"IF(ISBLANK(B163),\"\",INDEX('Est. Useful Life - HIDE SHEET'!$A$2:$D$206,MATCH(CONCATENATE(B163,C163),'Est. Useful Life - HIDE SHEET'!$A$2:$A$206,FALSE),4))","v":""},null,""]
[null,null,null,null,null,{"$f":"IF(ISBLANK(C164),\"\",_xlfn.CONCAT(LEFT(C164,4),\"-\",LEFT(B164,4),COUNTIF($C$11:C164,C164)))","v":""},{"$f":"IF(ISBLANK(B164),\"\",INDEX('Est. Useful Life - HIDE SHEET'!$A$2:$D$206,MATCH(CONCATENATE(B164,C164),'Est. Useful Life - HIDE SHEET'!$A$2:$A$206,FALSE),4))","v":""},null,""]
[null,null,null,null,null,{"$f":"IF(ISBLANK(C165),\"\",_xlfn.CONCAT(LEFT(C165,4),\"-\",LEFT(B165,4),COUNTIF($C$11:C165,C165)))","v":""},{"$f":"IF(ISBLANK(B165),\"\",INDEX('Est. Useful Life - HIDE SHEET'!$A$2:$D$206,MATCH(CONCATENATE(B165,C165),'Est. Useful Life - HIDE SHEET'!$A$2:$A$206,FALSE),4))","v":""},null,""]
[null,null,null,null,null,{"$f":"IF(ISBLANK(C166),\"\",_xlfn.CONCAT(LEFT(C166,4),\"-\",LEFT(B166,4),COUNTIF($C$11:C166,C166)))","v":""},{"$f":"IF(ISBLANK(B166),\"\",INDEX('Est. Useful Life - HIDE SHEET'!$A$2:$D$206,MATCH(CONCATENATE(B166,C166),'Est. Useful Life - HIDE SHEET'!$A$2:$A$206,FALSE),4))","v":""},null,""]
[null,null,null,null,null,{"$f":"IF(ISBLANK(C167),\"\",_xlfn.CONCAT(LEFT(C167,4),\"-\",LEFT(B167,4),COUNTIF($C$11:C167,C167)))","v":""},{"$f":"IF(ISBLANK(B167),\"\",INDEX('Est. Useful Life - HIDE SHEET'!$A$2:$D$206,MATCH(CONCATENATE(B167,C167),'Est. Useful Life - HIDE SHEET'!$A$2:$A$206,FALSE),4))","v":""},null,""]
[null,null,null,null,null,{"$f":"IF(ISBLANK(C168),\"\",_xlfn.CONCAT(LEFT(C168,4),\"-\",LEFT(B168,4),COUNTIF($C$11:C168,C168)))","v":""},{"$f":"IF(ISBLANK(B168),\"\",INDEX('Est. Useful Life - HIDE SHEET'!$A$2:$D$206,MATCH(CONCATENATE(B168,C168),'Est. Useful Life - HIDE SHEET'!$A$2:$A$206,FALSE),4))","v":""},null,""]
[null,null,null,null,null,{"$f":"IF(ISBLANK(C169),\"\",_xlfn.CONCAT(LEFT(C169,4),\"-\",LEFT(B169,4),COUNTIF($C$11:C169,C169)))","v":""},{"$f":"IF(ISBLANK(B169),\"\",INDEX('Est. Useful Life - HIDE SHEET'!$A$2:$D$206,MATCH(CONCATENATE(B169,C169),'Est. Useful Life - HIDE SHEET'!$A$2:$A$206,FALSE),4))","v":""},null,""]
[null,null,null,null,null,{"$f":"IF(ISBLANK(C170),\"\",_xlfn.CONCAT(LEFT(C170,4),\"-\",LEFT(B170,4),COUNTIF($C$11:C170,C170)))","v":""},{"$f":"IF(ISBLANK(B170),\"\",INDEX('Est. Useful Life - HIDE SHEET'!$A$2:$D$206,MATCH(CONCATENATE(B170,C170),'Est. Useful Life - HIDE SHEET'!$A$2:$A$206,FALSE),4))","v":""},null,""]
[null,null,null,null,null,{"$f":"IF(ISBLANK(C171),\"\",_xlfn.CONCAT(LEFT(C171,4),\"-\",LEFT(B171,4),COUNTIF($C$11:C171,C171)))","v":""},{"$f":"IF(ISBLANK(B171),\"\",INDEX('Est. Useful Life - HIDE SHEET'!$A$2:$D$206,MATCH(CONCATENATE(B171,C171),'Est. Useful Life - HIDE SHEET'!$A$2:$A$206,FALSE),4))","v":""},null,{"$f":"IF(ISNUMBER(G171),IF(ISNUMBER(H171),IF((G171-(INT((TODAY()-H171)/365)))<0,0,G171-(INT((TODAY()-H171)/365))),\"\"),\"\")","v":""}]
[null,null,null,null,null,{"$f":"IF(ISBLANK(C172),\"\",_xlfn.CONCAT(LEFT(C172,4),\"-\",LEFT(B172,4),COUNTIF($C$11:C172,C172)))","v":""},{"$f":"IF(ISBLANK(B172),\"\",INDEX('Est. Useful Life - HIDE SHEET'!$A$2:$D$206,MATCH(CONCATENATE(B172,C172),'Est. Useful Life - HIDE SHEET'!$A$2:$A$206,FALSE),4))","v":""},null,""]
[null,null,null,null,null,{"$f":"IF(ISBLANK(C173),\"\",_xlfn.CONCAT(LEFT(C173,4),\"-\",LEFT(B173,4),COUNTIF($C$11:C173,C173)))","v":""},{"$f":"IF(ISBLANK(B173),\"\",INDEX('Est. Useful Life - HIDE SHEET'!$A$2:$D$206,MATCH(CONCATENATE(B173,C173),'Est. Useful Life - HIDE SHEET'!$A$2:$A$206,FALSE),4))","v":""},null,""]
[null,null,null,null,null,{"$f":"IF(ISBLANK(C174),\"\",_xlfn.CONCAT(LEFT(C174,4),\"-\",LEFT(B174,4),COUNTIF($C$11:C174,C174)))","v":""},{"$f":"IF(ISBLANK(B174),\"\",INDEX('Est. Useful Life - HIDE SHEET'!$A$2:$D$206,MATCH(CONCATENATE(B174,C174),'Est. Useful Life - HIDE SHEET'!$A$2:$A$206,FALSE),4))","v":""},null,""]
[null,null,null,null,null,{"$f":"IF(ISBLANK(C175),\"\",_xlfn.CONCAT(LEFT(C175,4),\"-\",LEFT(B175,4),COUNTIF($C$11:C175,C175)))","v":""},{"$f":"IF(ISBLANK(B175),\"\",INDEX('Est. Useful Life - HIDE SHEET'!$A$2:$D$206,MATCH(CONCATENATE(B175,C175),'Est. Useful Life - HIDE SHEET'!$A$2:$A$206,FALSE),4))","v":""},null,""]
[null,null,null,null,null,{"$f":"IF(ISBLANK(C176),\"\",_xlfn.CONCAT(LEFT(C176,4),\"-\",LEFT(B176,4),COUNTIF($C$11:C176,C176)))","v":""},{"$f":"IF(ISBLANK(B176),\"\",INDEX('Est. Useful Life - HIDE SHEET'!$A$2:$D$206,MATCH(CONCATENATE(B176,C176),'Est. Useful Life - HIDE SHEET'!$A$2:$A$206,FALSE),4))","v":""},null,""]
[null,null,null,null,null,{"$f":"IF(ISBLANK(C177),\"\",_xlfn.CONCAT(LEFT(C177,4),\"-\",LEFT(B177,4),COUNTIF($C$11:C177,C177)))","v":""},{"$f":"IF(ISBLANK(B177),\"\",INDEX('Est. Useful Life - HIDE SHEET'!$A$2:$D$206,MATCH(CONCATENATE(B177,C177),'Est. Useful Life - HIDE SHEET'!$A$2:$A$206,FALSE),4))","v":""},null,""]
[null,null,null,null,null,{"$f":"IF(ISBLANK(C178),\"\",_xlfn.CONCAT(LEFT(C178,4),\"-\",LEFT(B178,4),COUNTIF($C$11:C178,C178)))","v":""},{"$f":"IF(ISBLANK(B178),\"\",INDEX('Est. Useful Life - HIDE SHEET'!$A$2:$D$206,MATCH(CONCATENATE(B178,C178),'Est. Useful Life - HIDE SHEET'!$A$2:$A$206,FALSE),4))","v":""},null,""]
[null,null,null,null,null,{"$f":"IF(ISBLANK(C179),\"\",_xlfn.CONCAT(LEFT(C179,4),\"-\",LEFT(B179,4),COUNTIF($C$11:C179,C179)))","v":""},{"$f":"IF(ISBLANK(B179),\"\",INDEX('Est. Useful Life - HIDE SHEET'!$A$2:$D$206,MATCH(CONCATENATE(B179,C179),'Est. Useful Life - HIDE SHEET'!$A$2:$A$206,FALSE),4))","v":""},null,""]
[null,null,null,null,null,{"$f":"IF(ISBLANK(C180),\"\",_xlfn.CONCAT(LEFT(C180,4),\"-\",LEFT(B180,4),COUNTIF($C$11:C180,C180)))","v":""},{"$f":"IF(ISBLANK(B180),\"\",INDEX('Est. Useful Life - HIDE SHEET'!$A$2:$D$206,MATCH(CONCATENATE(B180,C180),'Est. Useful Life - HIDE SHEET'!$A$2:$A$206,FALSE),4))","v":""},null,""]
[null,null,null,null,null,{"$f":"IF(ISBLANK(C181),\"\",_xlfn.CONCAT(LEFT(C181,4),\"-\",LEFT(B181,4),COUNTIF($C$11:C181,C181)))","v":""},{"$f":"IF(ISBLANK(B181),\"\",INDEX('Est. Useful Life - HIDE SHEET'!$A$2:$D$206,MATCH(CONCATENATE(B181,C181),'Est. Useful Life - HIDE SHEET'!$A$2:$A$206,FALSE),4))","v":""},null,""]
[null,null,null,null,null,{"$f":"IF(ISBLANK(C182),\"\",_xlfn.CONCAT(LEFT(C182,4),\"-\",LEFT(B182,4),COUNTIF($C$11:C182,C182)))","v":""},{"$f":"IF(ISBLANK(B182),\"\",INDEX('Est. Useful Life - HIDE SHEET'!$A$2:$D$206,MATCH(CONCATENATE(B182,C182),'Est. Useful Life - HIDE SHEET'!$A$2:$A$206,FALSE),4))","v":""},null,""]
[null,null,null,null,null,{"$f":"IF(ISBLANK(C183),\"\",_xlfn.CONCAT(LEFT(C183,4),\"-\",LEFT(B183,4),COUNTIF($C$11:C183,C183)))","v":""},{"$f":"IF(ISBLANK(B183),\"\",INDEX('Est. Useful Life - HIDE SHEET'!$A$2:$D$206,MATCH(CONCATENATE(B183,C183),'Est. Useful Life - HIDE SHEET'!$A$2:$A$206,FALSE),4))","v":""},null,""]
[null,null,null,null,null,{"$f":"IF(ISBLANK(C184),\"\",_xlfn.CONCAT(LEFT(C184,4),\"-\",LEFT(B184,4),COUNTIF($C$11:C184,C184)))","v":""},{"$f":"IF(ISBLANK(B184),\"\",INDEX('Est. Useful Life - HIDE SHEET'!$A$2:$D$206,MATCH(CONCATENATE(B184,C184),'Est. Useful Life - HIDE SHEET'!$A$2:$A$206,FALSE),4))","v":""},null,""]
[null,null,null,null,null,{"$f":"IF(ISBLANK(C185),\"\",_xlfn.CONCAT(LEFT(C185,4),\"-\",LEFT(B185,4),COUNTIF($C$11:C185,C185)))","v":""},{"$f":"IF(ISBLANK(B185),\"\",INDEX('Est. Useful Life - HIDE SHEET'!$A$2:$D$206,MATCH(CONCATENATE(B185,C185),'Est. Useful Life - HIDE SHEET'!$A$2:$A$206,FALSE),4))","v":""},null,""]
[null,null,null,null,null,{"$f":"IF(ISBLANK(C186),\"\",_xlfn.CONCAT(LEFT(C186,4),\"-\",LEFT(B186,4),COUNTIF($C$11:C186,C186)))","v":""},{"$f":"IF(ISBLANK(B186),\"\",INDEX('Est. Useful Life - HIDE SHEET'!$A$2:$D$206,MATCH(CONCATENATE(B186,C186),'Est. Useful Life - HIDE SHEET'!$A$2:$A$206,FALSE),4))","v":""},null,""]
[null,null,null,null,null,{"$f":"IF(ISBLANK(C187),\"\",_xlfn.CONCAT(LEFT(C187,4),\"-\",LEFT(B187,4),COUNTIF($C$11:C187,C187)))","v":""},{"$f":"IF(ISBLANK(B187),\"\",INDEX('Est. Useful Life - HIDE SHEET'!$A$2:$D$206,MATCH(CONCATENATE(B187,C187),'Est. Useful Life - HIDE SHEET'!$A$2:$A$206,FALSE),4))","v":""},null,""]
[null,null,null,null,null,{"$f":"IF(ISBLANK(C188),\"\",_xlfn.CONCAT(LEFT(C188,4),\"-\",LEFT(B188,4),COUNTIF($C$11:C188,C188)))","v":""},{"$f":"IF(ISBLANK(B188),\"\",INDEX('Est. Useful Life - HIDE SHEET'!$A$2:$D$206,MATCH(CONCATENATE(B188,C188),'Est. Useful Life - HIDE SHEET'!$A$2:$A$206,FALSE),4))","v":""},null,""]
[null,null,null,null,null,{"$f":"IF(ISBLANK(C189),\"\",_xlfn.CONCAT(LEFT(C189,4),\"-\",LEFT(B189,4),COUNTIF($C$11:C189,C189)))","v":""},{"$f":"IF(ISBLANK(B189),\"\",INDEX('Est. Useful Life - HIDE SHEET'!$A$2:$D$206,MATCH(CONCATENATE(B189,C189),'Est. Useful Life - HIDE SHEET'!$A$2:$A$206,FALSE),4))","v":""},null,""]
[null,null,null,null,null,{"$f":"IF(ISBLANK(C190),\"\",_xlfn.CONCAT(LEFT(C190,4),\"-\",LEFT(B190,4),COUNTIF($C$11:C190,C190)))","v":""},{"$f":"IF(ISBLANK(B190),\"\",INDEX('Est. Useful Life - HIDE SHEET'!$A$2:$D$206,MATCH(CONCATENATE(B190,C190),'Est. Useful Life - HIDE SHEET'!$A$2:$A$206,FALSE),4))","v":""},null,""]
[null,null,null,null,null,{"$f":"IF(ISBLANK(C191),\"\",_xlfn.CONCAT(LEFT(C191,4),\"-\",LEFT(B191,4),COUNTIF($C$11:C191,C191)))","v":""},{"$f":"IF(ISBLANK(B191),\"\",INDEX('Est. Useful Life - HIDE SHEET'!$A$2:$D$206,MATCH(CONCATENATE(B191,C191),'Est. Useful Life - HIDE SHEET'!$A$2:$A$206,FALSE),4))","v":""},null,""]
[null,null,null,null,null,{"$f":"IF(ISBLANK(C192),\"\",_xlfn.CONCAT(LEFT(C192,4),\"-\",LEFT(B192,4),COUNTIF($C$11:C192,C192)))","v":""},{"$f":"IF(ISBLANK(B192),\"\",INDEX('Est. Useful Life - HIDE SHEET'!$A$2:$D$206,MATCH(CONCATENATE(B192,C192),'Est. Useful Life - HIDE SHEET'!$A$2:$A$206,FALSE),4))","v":""},null,""]
[null,null,null,null,null,{"$f":"IF(ISBLANK(C193),\"\",_xlfn.CONCAT(LEFT(C193,4),\"-\",LEFT(B193,4),COUNTIF($C$11:C193,C193)))","v":""},{"$f":"IF(ISBLANK(B193),\"\",INDEX('Est. Useful Life - HIDE SHEET'!$A$2:$D$206,MATCH(CONCATENATE(B193,C193),'Est. Useful Life - HIDE SHEET'!$A$2:$A$206,FALSE),4))","v":""},null,""]
[null,null,null,null,null,{"$f":"IF(ISBLANK(C194),\"\",_xlfn.CONCAT(LEFT(C194,4),\"-\",LEFT(B194,4),COUNTIF($C$11:C194,C194)))","v":""},{"$f":"IF(ISBLANK(B194),\"\",INDEX('Est. Useful Life - HIDE SHEET'!$A$2:$D$206,MATCH(CONCATENATE(B194,C194),'Est. Useful Life - HIDE SHEET'!$A$2:$A$206,FALSE),4))","v":""},null,""]
[null,null,null,null,null,{"$f":"IF(ISBLANK(C195),\"\",_xlfn.CONCAT(LEFT(C195,4),\"-\",LEFT(B195,4),COUNTIF($C$11:C195,C195)))","v":""},{"$f":"IF(ISBLANK(B195),\"\",INDEX('Est. Useful Life - HIDE SHEET'!$A$2:$D$206,MATCH(CONCATENATE(B195,C195),'Est. Useful Life - HIDE SHEET'!$A$2:$A$206,FALSE),4))","v":""},null,""]
[null,null,null,null,null,{"$f":"IF(ISBLANK(C196),\"\",_xlfn.CONCAT(LEFT(C196,4),\"-\",LEFT(B196,4),COUNTIF($C$11:C196,C196)))","v":""},{"$f":"IF(ISBLANK(B196),\"\",INDEX('Est. Useful Life - HIDE SHEET'!$A$2:$D$206,MATCH(CONCATENATE(B196,C196),'Est. Useful Life - HIDE SHEET'!$A$2:$A$206,FALSE),4))","v":""},null,""]
[null,null,null,null,null,{"$f":"IF(ISBLANK(C197),\"\",_xlfn.CONCAT(LEFT(C197,4),\"-\",LEFT(B197,4),COUNTIF($C$11:C197,C197)))","v":""},{"$f":"IF(ISBLANK(B197),\"\",INDEX('Est. Useful Life - HIDE SHEET'!$A$2:$D$206,MATCH(CONCATENATE(B197,C197),'Est. Useful Life - HIDE SHEET'!$A$2:$A$206,FALSE),4))","v":""},null,""]
[null,null,null,null,null,{"$f":"IF(ISBLANK(C198),\"\",_xlfn.CONCAT(LEFT(C198,4),\"-\",LEFT(B198,4),COUNTIF($C$11:C198,C198)))","v":""},{"$f":"IF(ISBLANK(B198),\"\",INDEX('Est. Useful Life - HIDE SHEET'!$A$2:$D$206,MATCH(CONCATENATE(B198,C198),'Est. Useful Life - HIDE SHEET'!$A$2:$A$206,FALSE),4))","v":""},null,""]
[null,null,null,null,null,{"$f":"IF(ISBLANK(C199),\"\",_xlfn.CONCAT(LEFT(C199,4),\"-\",LEFT(B199,4),COUNTIF($C$11:C199,C199)))","v":""},{"$f":"IF(ISBLANK(B199),\"\",INDEX('Est. Useful Life - HIDE SHEET'!$A$2:$D$206,MATCH(CONCATENATE(B199,C199),'Est. Useful Life - HIDE SHEET'!$A$2:$A$206,FALSE),4))","v":""},null,""]
[null,null,null,null,null,{"$f":"IF(ISBLANK(C200),\"\",_xlfn.CONCAT(LEFT(C200,4),\"-\",LEFT(B200,4),COUNTIF($C$11:C200,C200)))","v":""},{"$f":"IF(ISBLANK(B200),\"\",INDEX('Est. Useful Life - HIDE SHEET'!$A$2:$D$206,MATCH(CONCATENATE(B200,C200),'Est. Useful Life - HIDE SHEET'!$A$2:$A$206,FALSE),4))","v":""},null,""]
[null,null,null,null,null,{"$f":"IF(ISBLANK(C201),\"\",_xlfn.CONCAT(LEFT(C201,4),\"-\",LEFT(B201,4),COUNTIF($C$11:C201,C201)))","v":""},{"$f":"IF(ISBLANK(B201),\"\",INDEX('Est. Useful Life - HIDE SHEET'!$A$2:$D$206,MATCH(CONCATENATE(B201,C201),'Est. Useful Life - HIDE SHEET'!$A$2:$A$206,FALSE),4))","v":""},null,""]
[null,null,null,null,null,{"$f":"IF(ISBLANK(C202),\"\",_xlfn.CONCAT(LEFT(C202,4),\"-\",LEFT(B202,4),COUNTIF($C$11:C202,C202)))","v":""},{"$f":"IF(ISBLANK(B202),\"\",INDEX('Est. Useful Life - HIDE SHEET'!$A$2:$D$206,MATCH(CONCATENATE(B202,C202),'Est. Useful Life - HIDE SHEET'!$A$2:$A$206,FALSE),4))","v":""},null,""]
[null,null,null,null,null,{"$f":"IF(ISBLANK(C203),\"\",_xlfn.CONCAT(LEFT(C203,4),\"-\",LEFT(B203,4),COUNTIF($C$11:C203,C203)))","v":""},{"$f":"IF(ISBLANK(B203),\"\",INDEX('Est. Useful Life - HIDE SHEET'!$A$2:$D$206,MATCH(CONCATENATE(B203,C203),'Est. Useful Life - HIDE SHEET'!$A$2:$A$206,FALSE),4))","v":""},null,{"$f":"IF(ISNUMBER(G203),IF(ISNUMBER(H203),IF((G203-(INT((TODAY()-H203)/365)))<0,0,G203-(INT((TODAY()-H203)/365))),\"\"),\"\")","v":""}]
[null,null,null,null,null,{"$f":"IF(ISBLANK(C204),\"\",_xlfn.CONCAT(LEFT(C204,4),\"-\",LEFT(B204,4),COUNTIF($C$11:C204,C204)))","v":""},{"$f":"IF(ISBLANK(B204),\"\",INDEX('Est. Useful Life - HIDE SHEET'!$A$2:$D$206,MATCH(CONCATENATE(B204,C204),'Est. Useful Life - HIDE SHEET'!$A$2:$A$206,FALSE),4))","v":""},null,""]
[null,null,null,null,null,{"$f":"IF(ISBLANK(C205),\"\",_xlfn.CONCAT(LEFT(C205,4),\"-\",LEFT(B205,4),COUNTIF($C$11:C205,C205)))","v":""},{"$f":"IF(ISBLANK(B205),\"\",INDEX('Est. Useful Life - HIDE SHEET'!$A$2:$D$206,MATCH(CONCATENATE(B205,C205),'Est. Useful Life - HIDE SHEET'!$A$2:$A$206,FALSE),4))","v":""},null,""]
[null,null,null,null,null,{"$f":"IF(ISBLANK(C206),\"\",_xlfn.CONCAT(LEFT(C206,4),\"-\",LEFT(B206,4),COUNTIF($C$11:C206,C206)))","v":""},{"$f":"IF(ISBLANK(B206),\"\",INDEX('Est. Useful Life - HIDE SHEET'!$A$2:$D$206,MATCH(CONCATENATE(B206,C206),'Est. Useful Life - HIDE SHEET'!$A$2:$A$206,FALSE),4))","v":""},null,""]
[null,null,null,null,null,{"$f":"IF(ISBLANK(C207),\"\",_xlfn.CONCAT(LEFT(C207,4),\"-\",LEFT(B207,4),COUNTIF($C$11:C207,C207)))","v":""},{"$f":"IF(ISBLANK(B207),\"\",INDEX('Est. Useful Life - HIDE SHEET'!$A$2:$D$206,MATCH(CONCATENATE(B207,C207),'Est. Useful Life - HIDE SHEET'!$A$2:$A$206,FALSE),4))","v":""},null,""]
[null,null,null,null,null,{"$f":"IF(ISBLANK(C208),\"\",_xlfn.CONCAT(LEFT(C208,4),\"-\",LEFT(B208,4),COUNTIF($C$11:C208,C208)))","v":""},{"$f":"IF(ISBLANK(B208),\"\",INDEX('Est. Useful Life - HIDE SHEET'!$A$2:$D$206,MATCH(CONCATENATE(B208,C208),'Est. Useful Life - HIDE SHEET'!$A$2:$A$206,FALSE),4))","v":""},null,""]
[null,null,null,null,null,{"$f":"IF(ISBLANK(C209),\"\",_xlfn.CONCAT(LEFT(C209,4),\"-\",LEFT(B209,4),COUNTIF($C$11:C1000,C209)))","v":""},{"$f":"IF(ISBLANK(B209),\"\",INDEX('Est. Useful Life - HIDE SHEET'!$A$2:$D$206,MATCH(CONCATENATE(B209,C209),'Est. Useful Life - HIDE SHEET'!$A$2:$A$206,FALSE),4))","v":""},null,""]
[null,null,null,null,null,{"$f":"IF(ISBLANK(C210),\"\",_xlfn.CONCAT(LEFT(C210,4),\"-\",LEFT(B210,4),COUNTIF($C$11:C210,C210)))","v":""},{"$f":"IF(ISBLANK(B210),\"\",INDEX('Est. Useful Life - HIDE SHEET'!$A$2:$D$206,MATCH(CONCATENATE(B210,C210),'Est. Useful Life - HIDE SHEET'!$A$2:$A$206,FALSE),4))","v":""},null,{"$f":"IF(ISNUMBER(G210),IF(ISNUMBER(H210),IF((G210-(INT((TODAY()-H210)/365)))<0,0,G210-(INT((TODAY()-H210)/365))),\"\"),\"\")","v":""}]
[null,null,null,null,null,{"$f":"IF(ISBLANK(C211),\"\",_xlfn.CONCAT(LEFT(C211,4),\"-\",LEFT(B211,4),COUNTIF($C$11:C211,C211)))","v":""},{"$f":"IF(ISBLANK(B211),\"\",INDEX('Est. Useful Life - HIDE SHEET'!$A$2:$D$206,MATCH(CONCATENATE(B211,C211),'Est. Useful Life - HIDE SHEET'!$A$2:$A$206,FALSE),4))","v":""},null,""]
[null,null,null,null,null,{"$f":"IF(ISBLANK(C212),\"\",_xlfn.CONCAT(LEFT(C212,4),\"-\",LEFT(B212,4),COUNTIF($C$11:C212,C212)))","v":""},{"$f":"IF(ISBLANK(B212),\"\",INDEX('Est. Useful Life - HIDE SHEET'!$A$2:$D$206,MATCH(CONCATENATE(B212,C212),'Est. Useful Life - HIDE SHEET'!$A$2:$A$206,FALSE),4))","v":""},null,""]
[null,null,null,null,null,{"$f":"IF(ISBLANK(C213),\"\",_xlfn.CONCAT(LEFT(C213,4),\"-\",LEFT(B213,4),COUNTIF($C$11:C213,C213)))","v":""},{"$f":"IF(ISBLANK(B213),\"\",INDEX('Est. Useful Life - HIDE SHEET'!$A$2:$D$206,MATCH(CONCATENATE(B213,C213),'Est. Useful Life - HIDE SHEET'!$A$2:$A$206,FALSE),4))","v":""},null,""]
[null,null,null,null,null,{"$f":"IF(ISBLANK(C214),\"\",_xlfn.CONCAT(LEFT(C214,4),\"-\",LEFT(B214,4),COUNTIF($C$11:C214,C214)))","v":""},{"$f":"IF(ISBLANK(B214),\"\",INDEX('Est. Useful Life - HIDE SHEET'!$A$2:$D$206,MATCH(CONCATENATE(B214,C214),'Est. Useful Life - HIDE SHEET'!$A$2:$A$206,FALSE),4))","v":""},null,""]
[null,null,null,null,null,{"$f":"IF(ISBLANK(C215),\"\",_xlfn.CONCAT(LEFT(C215,4),\"-\",LEFT(B215,4),COUNTIF($C$11:C215,C215)))","v":""},{"$f":"IF(ISBLANK(B215),\"\",INDEX('Est. Useful Life - HIDE SHEET'!$A$2:$D$206,MATCH(CONCATENATE(B215,C215),'Est. Useful Life - HIDE SHEET'!$A$2:$A$206,FALSE),4))","v":""},null,""]
[null,null,null,null,null,{"$f":"IF(ISBLANK(C216),\"\",_xlfn.CONCAT(LEFT(C216,4),\"-\",LEFT(B216,4),COUNTIF($C$11:C216,C216)))","v":""},{"$f":"IF(ISBLANK(B216),\"\",INDEX('Est. Useful Life - HIDE SHEET'!$A$2:$D$206,MATCH(CONCATENATE(B216,C216),'Est. Useful Life - HIDE SHEET'!$A$2:$A$206,FALSE),4))","v":""},null,""]
[null,null,null,null,null,{"$f":"IF(ISBLANK(C217),\"\",_xlfn.CONCAT(LEFT(C217,4),\"-\",LEFT(B217,4),COUNTIF($C$11:C217,C217)))","v":""},{"$f":"IF(ISBLANK(B217),\"\",INDEX('Est. Useful Life - HIDE SHEET'!$A$2:$D$206,MATCH(CONCATENATE(B217,C217),'Est. Useful Life - HIDE SHEET'!$A$2:$A$206,FALSE),4))","v":""},null,""]
[null,null,null,null,null,{"$f":"IF(ISBLANK(C218),\"\",_xlfn.CONCAT(LEFT(C218,4),\"-\",LEFT(B218,4),COUNTIF($C$11:C218,C218)))","v":""},{"$f":"IF(ISBLANK(B218),\"\",INDEX('Est. Useful Life - HIDE SHEET'!$A$2:$D$206,MATCH(CONCATENATE(B218,C218),'Est. Useful Life - HIDE SHEET'!$A$2:$A$206,FALSE),4))","v":""},null,""]
[null,null,null,null,null,{"$f":"IF(ISBLANK(C219),\"\",_xlfn.CONCAT(LEFT(C219,4),\"-\",LEFT(B219,4),COUNTIF($C$11:C219,C219)))","v":""},{"$f":"IF(ISBLANK(B219),\"\",INDEX('Est. Useful Life - HIDE SHEET'!$A$2:$D$206,MATCH(CONCATENATE(B219,C219),'Est. Useful Life - HIDE SHEET'!$A$2:$A$206,FALSE),4))","v":""},null,""]
[null,null,null,null,null,{"$f":"IF(ISBLANK(C220),\"\",_xlfn.CONCAT(LEFT(C220,4),\"-\",LEFT(B220,4),COUNTIF($C$11:C220,C220)))","v":""},{"$f":"IF(ISBLANK(B220),\"\",INDEX('Est. Useful Life - HIDE SHEET'!$A$2:$D$206,MATCH(CONCATENATE(B220,C220),'Est. Useful Life - HIDE SHEET'!$A$2:$A$206,FALSE),4))","v":""},null,""]
[null,null,null,null,null,{"$f":"IF(ISBLANK(C221),\"\",_xlfn.CONCAT(LEFT(C221,4),\"-\",LEFT(B221,4),COUNTIF($C$11:C221,C221)))","v":""},{"$f":"IF(ISBLANK(B221),\"\",INDEX('Est. Useful Life - HIDE SHEET'!$A$2:$D$206,MATCH(CONCATENATE(B221,C221),'Est. Useful Life - HIDE SHEET'!$A$2:$A$206,FALSE),4))","v":""},null,""]
[null,null,null,null,null,{"$f":"IF(ISBLANK(C222),\"\",_xlfn.CONCAT(LEFT(C222,4),\"-\",LEFT(B222,4),COUNTIF($C$11:C222,C222)))","v":""},{"$f":"IF(ISBLANK(B222),\"\",INDEX('Est. Useful Life - HIDE SHEET'!$A$2:$D$206,MATCH(CONCATENATE(B222,C222),'Est. Useful Life - HIDE SHEET'!$A$2:$A$206,FALSE),4))","v":""},null,""]
[null,null,null,null,null,{"$f":"IF(ISBLANK(C223),\"\",_xlfn.CONCAT(LEFT(C223,4),\"-\",LEFT(B223,4),COUNTIF($C$11:C223,C223)))","v":""},{"$f":"IF(ISBLANK(B223),\"\",INDEX('Est. Useful Life - HIDE SHEET'!$A$2:$D$206,MATCH(CONCATENATE(B223,C223),'Est. Useful Life - HIDE SHEET'!$A$2:$A$206,FALSE),4))","v":""},null,""]
[null,null,null,null,null,{"$f":"IF(ISBLANK(C224),\"\",_xlfn.CONCAT(LEFT(C224,4),\"-\",LEFT(B224,4),COUNTIF($C$11:C224,C224)))","v":""},{"$f":"IF(ISBLANK(B224),\"\",INDEX('Est. Useful Life - HIDE SHEET'!$A$2:$D$206,MATCH(CONCATENATE(B224,C224),'Est. Useful Life - HIDE SHEET'!$A$2:$A$206,FALSE),4))","v":""},null,""]
[null,null,null,null,null,{"$f":"IF(ISBLANK(C225),\"\",_xlfn.CONCAT(LEFT(C225,4),\"-\",LEFT(B225,4),COUNTIF($C$11:C225,C225)))","v":""},{"$f":"IF(ISBLANK(B225),\"\",INDEX('Est. Useful Life - HIDE SHEET'!$A$2:$D$206,MATCH(CONCATENATE(B225,C225),'Est. Useful Life - HIDE SHEET'!$A$2:$A$206,FALSE),4))","v":""},null,""]
[null,null,null,null,null,{"$f":"IF(ISBLANK(C226),\"\",_xlfn.CONCAT(LEFT(C226,4),\"-\",LEFT(B226,4),COUNTIF($C$11:C226,C226)))","v":""},{"$f":"IF(ISBLANK(B226),\"\",INDEX('Est. Useful Life - HIDE SHEET'!$A$2:$D$206,MATCH(CONCATENATE(B226,C226),'Est. Useful Life - HIDE SHEET'!$A$2:$A$206,FALSE),4))","v":""},null,""]
[null,null,null,null,null,{"$f":"IF(ISBLANK(C227),\"\",_xlfn.CONCAT(LEFT(C227,4),\"-\",LEFT(B227,4),COUNTIF($C$11:C227,C227)))","v":""},{"$f":"IF(ISBLANK(B227),\"\",INDEX('Est. Useful Life - HIDE SHEET'!$A$2:$D$206,MATCH(CONCATENATE(B227,C227),'Est. Useful Life - HIDE SHEET'!$A$2:$A$206,FALSE),4))","v":""},null,""]
[null,null,null,null,null,{"$f":"IF(ISBLANK(C228),\"\",_xlfn.CONCAT(LEFT(C228,4),\"-\",LEFT(B228,4),COUNTIF($C$11:C228,C228)))","v":""},{"$f":"IF(ISBLANK(B228),\"\",INDEX('Est. Useful Life - HIDE SHEET'!$A$2:$D$206,MATCH(CONCATENATE(B228,C228),'Est. Useful Life - HIDE SHEET'!$A$2:$A$206,FALSE),4))","v":""},null,""]
[null,null,null,null,null,{"$f":"IF(ISBLANK(C229),\"\",_xlfn.CONCAT(LEFT(C229,4),\"-\",LEFT(B229,4),COUNTIF($C$11:C229,C229)))","v":""},{"$f":"IF(ISBLANK(B229),\"\",INDEX('Est. Useful Life - HIDE SHEET'!$A$2:$D$206,MATCH(CONCATENATE(B229,C229),'Est. Useful Life - HIDE SHEET'!$A$2:$A$206,FALSE),4))","v":""},null,""]
[null,null,null,null,null,{"$f":"IF(ISBLANK(C230),\"\",_xlfn.CONCAT(LEFT(C230,4),\"-\",LEFT(B230,4),COUNTIF($C$11:C230,C230)))","v":""},{"$f":"IF(ISBLANK(B230),\"\",INDEX('Est. Useful Life - HIDE SHEET'!$A$2:$D$206,MATCH(CONCATENATE(B230,C230),'Est. Useful Life - HIDE SHEET'!$A$2:$A$206,FALSE),4))","v":""},null,""]
[null,null,null,null,null,{"$f":"IF(ISBLANK(C231),\"\",_xlfn.CONCAT(LEFT(C231,4),\"-\",LEFT(B231,4),COUNTIF($C$11:C231,C231)))","v":""},{"$f":"IF(ISBLANK(B231),\"\",INDEX('Est. Useful Life - HIDE SHEET'!$A$2:$D$206,MATCH(CONCATENATE(B231,C231),'Est. Useful Life - HIDE SHEET'!$A$2:$A$206,FALSE),4))","v":""},null,""]
[null,null,null,null,null,{"$f":"IF(ISBLANK(C232),\"\",_xlfn.CONCAT(LEFT(C232,4),\"-\",LEFT(B232,4),COUNTIF($C$11:C232,C232)))","v":""},{"$f":"IF(ISBLANK(B232),\"\",INDEX('Est. Useful Life - HIDE SHEET'!$A$2:$D$206,MATCH(CONCATENATE(B232,C232),'Est. Useful Life - HIDE SHEET'!$A$2:$A$206,FALSE),4))","v":""},null,""]
[null,null,null,null,null,{"$f":"IF(ISBLANK(C233),\"\",_xlfn.CONCAT(LEFT(C233,4),\"-\",LEFT(B233,4),COUNTIF($C$11:C233,C233)))","v":""},{"$f":"IF(ISBLANK(B233),\"\",INDEX('Est. Useful Life - HIDE SHEET'!$A$2:$D$206,MATCH(CONCATENATE(B233,C233),'Est. Useful Life - HIDE SHEET'!$A$2:$A$206,FALSE),4))","v":""},null,""]
[null,null,null,null,null,{"$f":"IF(ISBLANK(C234),\"\",_xlfn.CONCAT(LEFT(C234,4),\"-\",LEFT(B234,4),COUNTIF($C$11:C234,C234)))","v":""},{"$f":"IF(ISBLANK(B234),\"\",INDEX('Est. Useful Life - HIDE SHEET'!$A$2:$D$206,MATCH(CONCATENATE(B234,C234),'Est. Useful Life - HIDE SHEET'!$A$2:$A$206,FALSE),4))","v":""},null,""]
[null,null,null,null,null,{"$f":"IF(ISBLANK(C235),\"\",_xlfn.CONCAT(LEFT(C235,4),\"-\",LEFT(B235,4),COUNTIF($C$11:C235,C235)))","v":""},{"$f":"IF(ISBLANK(B235),\"\",INDEX('Est. Useful Life - HIDE SHEET'!$A$2:$D$206,MATCH(CONCATENATE(B235,C235),'Est. Useful Life - HIDE SHEET'!$A$2:$A$206,FALSE),4))","v":""},null,""]
[null,null,null,null,null,{"$f":"IF(ISBLANK(C236),\"\",_xlfn.CONCAT(LEFT(C236,4),\"-\",LEFT(B236,4),COUNTIF($C$11:C236,C236)))","v":""},{"$f":"IF(ISBLANK(B236),\"\",INDEX('Est. Useful Life - HIDE SHEET'!$A$2:$D$206,MATCH(CONCATENATE(B236,C236),'Est. Useful Life - HIDE SHEET'!$A$2:$A$206,FALSE),4))","v":""},null,""]
[null,null,null,null,null,{"$f":"IF(ISBLANK(C237),\"\",_xlfn.CONCAT(LEFT(C237,4),\"-\",LEFT(B237,4),COUNTIF($C$11:C237,C237)))","v":""},{"$f":"IF(ISBLANK(B237),\"\",INDEX('Est. Useful Life - HIDE SHEET'!$A$2:$D$206,MATCH(CONCATENATE(B237,C237),'Est. Useful Life - HIDE SHEET'!$A$2:$A$206,FALSE),4))","v":""},null,""]
[null,null,null,null,null,{"$f":"IF(ISBLANK(C238),\"\",_xlfn.CONCAT(LEFT(C238,4),\"-\",LEFT(B238,4),COUNTIF($C$11:C238,C238)))","v":""},{"$f":"IF(ISBLANK(B238),\"\",INDEX('Est. Useful Life - HIDE SHEET'!$A$2:$D$206,MATCH(CONCATENATE(B238,C238),'Est. Useful Life - HIDE SHEET'!$A$2:$A$206,FALSE),4))","v":""},null,""]
[null,null,null,null,null,{"$f":"IF(ISBLANK(C239),\"\",_xlfn.CONCAT(LEFT(C239,4),\"-\",LEFT(B239,4),COUNTIF($C$11:C239,C239)))","v":""},{"$f":"IF(ISBLANK(B239),\"\",INDEX('Est. Useful Life - HIDE SHEET'!$A$2:$D$206,MATCH(CONCATENATE(B239,C239),'Est. Useful Life - HIDE SHEET'!$A$2:$A$206,FALSE),4))","v":""},null,""]
[null,null,null,null,null,{"$f":"IF(ISBLANK(C240),\"\",_xlfn.CONCAT(LEFT(C240,4),\"-\",LEFT(B240,4),COUNTIF($C$11:C240,C240)))","v":""},{"$f":"IF(ISBLANK(B240),\"\",INDEX('Est. Useful Life - HIDE SHEET'!$A$2:$D$206,MATCH(CONCATENATE(B240,C240),'Est. Useful Life - HIDE SHEET'!$A$2:$A$206,FALSE),4))","v":""},null,""]
[null,null,null,null,null,{"$f":"IF(ISBLANK(C241),\"\",_xlfn.CONCAT(LEFT(C241,4),\"-\",LEFT(B241,4),COUNTIF($C$11:C241,C241)))","v":""},{"$f":"IF(ISBLANK(B241),\"\",INDEX('Est. Useful Life - HIDE SHEET'!$A$2:$D$206,MATCH(CONCATENATE(B241,C241),'Est. Useful Life - HIDE SHEET'!$A$2:$A$206,FALSE),4))","v":""},null,""]
[null,null,null,null,null,{"$f":"IF(ISBLANK(C242),\"\",_xlfn.CONCAT(LEFT(C242,4),\"-\",LEFT(B242,4),COUNTIF($C$11:C242,C242)))","v":""},{"$f":"IF(ISBLANK(B242),\"\",INDEX('Est. Useful Life - HIDE SHEET'!$A$2:$D$206,MATCH(CONCATENATE(B242,C242),'Est. Useful Life - HIDE SHEET'!$A$2:$A$206,FALSE),4))","v":""},null,""]
[null,null,null,null,null,{"$f":"IF(ISBLANK(C243),\"\",_xlfn.CONCAT(LEFT(C243,4),\"-\",LEFT(B243,4),COUNTIF($C$11:C243,C243)))","v":""},{"$f":"IF(ISBLANK(B243),\"\",INDEX('Est. Useful Life - HIDE SHEET'!$A$2:$D$206,MATCH(CONCATENATE(B243,C243),'Est. Useful Life - HIDE SHEET'!$A$2:$A$206,FALSE),4))","v":""},null,""]
[null,null,null,null,null,{"$f":"IF(ISBLANK(C244),\"\",_xlfn.CONCAT(LEFT(C244,4),\"-\",LEFT(B244,4),COUNTIF($C$11:C244,C244)))","v":""},{"$f":"IF(ISBLANK(B244),\"\",INDEX('Est. Useful Life - HIDE SHEET'!$A$2:$D$206,MATCH(CONCATENATE(B244,C244),'Est. Useful Life - HIDE SHEET'!$A$2:$A$206,FALSE),4))","v":""},null,""]
[null,null,null,null,null,{"$f":"IF(ISBLANK(C245),\"\",_xlfn.CONCAT(LEFT(C245,4),\"-\",LEFT(B245,4),COUNTIF($C$11:C245,C245)))","v":""},{"$f":"IF(ISBLANK(B245),\"\",INDEX('Est. Useful Life - HIDE SHEET'!$A$2:$D$206,MATCH(CONCATENATE(B245,C245),'Est. Useful Life - HIDE SHEET'!$A$2:$A$206,FALSE),4))","v":""},null,""]
[null,null,null,null,null,{"$f":"IF(ISBLANK(C246),\"\",_xlfn.CONCAT(LEFT(C246,4),\"-\",LEFT(B246,4),COUNTIF($C$11:C246,C246)))","v":""},{"$f":"IF(ISBLANK(B246),\"\",INDEX('Est. Useful Life - HIDE SHEET'!$A$2:$D$206,MATCH(CONCATENATE(B246,C246),'Est. Useful Life - HIDE SHEET'!$A$2:$A$206,FALSE),4))","v":""},null,""]
[null,null,null,null,null,{"$f":"IF(ISBLANK(C247),\"\",_xlfn.CONCAT(LEFT(C247,4),\"-\",LEFT(B247,4),COUNTIF($C$11:C247,C247)))","v":""},{"$f":"IF(ISBLANK(B247),\"\",INDEX('Est. Useful Life - HIDE SHEET'!$A$2:$D$206,MATCH(CONCATENATE(B247,C247),'Est. Useful Life - HIDE SHEET'!$A$2:$A$206,FALSE),4))","v":""},null,""]
[null,null,null,null,null,{"$f":"IF(ISBLANK(C248),\"\",_xlfn.CONCAT(LEFT(C248,4),\"-\",LEFT(B248,4),COUNTIF($C$11:C248,C248)))","v":""},{"$f":"IF(ISBLANK(B248),\"\",INDEX('Est. Useful Life - HIDE SHEET'!$A$2:$D$206,MATCH(CONCATENATE(B248,C248),'Est. Useful Life - HIDE SHEET'!$A$2:$A$206,FALSE),4))","v":""},null,""]
[null,null,null,null,null,{"$f":"IF(ISBLANK(C249),\"\",_xlfn.CONCAT(LEFT(C249,4),\"-\",LEFT(B249,4),COUNTIF($C$11:C249,C249)))","v":""},{"$f":"IF(ISBLANK(B249),\"\",INDEX('Est. Useful Life - HIDE SHEET'!$A$2:$D$206,MATCH(CONCATENATE(B249,C249),'Est. Useful Life - HIDE SHEET'!$A$2:$A$206,FALSE),4))","v":""},null,""]
[null,null,null,null,null,{"$f":"IF(ISBLANK(C250),\"\",_xlfn.CONCAT(LEFT(C250,4),\"-\",LEFT(B250,4),COUNTIF($C$11:C250,C250)))","v":""},{"$f":"IF(ISBLANK(B250),\"\",INDEX('Est. Useful Life - HIDE SHEET'!$A$2:$D$206,MATCH(CONCATENATE(B250,C250),'Est. Useful Life - HIDE SHEET'!$A$2:$A$206,FALSE),4))","v":""},null,""]
[null,null,null,null,null,{"$f":"IF(ISBLANK(C251),\"\",_xlfn.CONCAT(LEFT(C251,4),\"-\",LEFT(B251,4),COUNTIF($C$11:C251,C251)))","v":""},{"$f":"IF(ISBLANK(B251),\"\",INDEX('Est. Useful Life - HIDE SHEET'!$A$2:$D$206,MATCH(CONCATENATE(B251,C251),'Est. Useful Life - HIDE SHEET'!$A$2:$A$206,FALSE),4))","v":""},null,""]
[null,null,null,null,null,{"$f":"IF(ISBLANK(C252),\"\",_xlfn.CONCAT(LEFT(C252,4),\"-\",LEFT(B252,4),COUNTIF($C$11:C252,C252)))","v":""},{"$f":"IF(ISBLANK(B252),\"\",INDEX('Est. Useful Life - HIDE SHEET'!$A$2:$D$206,MATCH(CONCATENATE(B252,C252),'Est. Useful Life - HIDE SHEET'!$A$2:$A$206,FALSE),4))","v":""},null,""]
[null,null,null,null,null,{"$f":"IF(ISBLANK(C253),\"\",_xlfn.CONCAT(LEFT(C253,4),\"-\",LEFT(B253,4),COUNTIF($C$11:C253,C253)))","v":""},{"$f":"IF(ISBLANK(B253),\"\",INDEX('Est. Useful Life - HIDE SHEET'!$A$2:$D$206,MATCH(CONCATENATE(B253,C253),'Est. Useful Life - HIDE SHEET'!$A$2:$A$206,FALSE),4))","v":""},null,""]
[null,null,null,null,null,{"$f":"IF(ISBLANK(C254),\"\",_xlfn.CONCAT(LEFT(C254,4),\"-\",LEFT(B254,4),COUNTIF($C$11:C254,C254)))","v":""},{"$f":"IF(ISBLANK(B254),\"\",INDEX('Est. Useful Life - HIDE SHEET'!$A$2:$D$206,MATCH(CONCATENATE(B254,C254),'Est. Useful Life - HIDE SHEET'!$A$2:$A$206,FALSE),4))","v":""},null,""]
[null,null,null,null,null,{"$f":"IF(ISBLANK(C255),\"\",_xlfn.CONCAT(LEFT(C255,4),\"-\",LEFT(B255,4),COUNTIF($C$11:C255,C255)))","v":""},{"$f":"IF(ISBLANK(B255),\"\",INDEX('Est. Useful Life - HIDE SHEET'!$A$2:$D$206,MATCH(CONCATENATE(B255,C255),'Est. Useful Life - HIDE SHEET'!$A$2:$A$206,FALSE),4))","v":""},null,""]
[null,null,null,null,null,{"$f":"IF(ISBLANK(C256),\"\",_xlfn.CONCAT(LEFT(C256,4),\"-\",LEFT(B256,4),COUNTIF($C$11:C256,C256)))","v":""},{"$f":"IF(ISBLANK(B256),\"\",INDEX('Est. Useful Life - HIDE SHEET'!$A$2:$D$206,MATCH(CONCATENATE(B256,C256),'Est. Useful Life - HIDE SHEET'!$A$2:$A$206,FALSE),4))","v":""},null,""]
[null,null,null,null,null,{"$f":"IF(ISBLANK(C257),\"\",_xlfn.CONCAT(LEFT(C257,4),\"-\",LEFT(B257,4),COUNTIF($C$11:C257,C257)))","v":""},{"$f":"IF(ISBLANK(B257),\"\",INDEX('Est. Useful Life - HIDE SHEET'!$A$2:$D$206,MATCH(CONCATENATE(B257,C257),'Est. Useful Life - HIDE SHEET'!$A$2:$A$206,FALSE),4))","v":""},null,""]
[null,null,null,null,null,{"$f":"IF(ISBLANK(C258),\"\",_xlfn.CONCAT(LEFT(C258,4),\"-\",LEFT(B258,4),COUNTIF($C$11:C258,C258)))","v":""},{"$f":"IF(ISBLANK(B258),\"\",INDEX('Est. Useful Life - HIDE SHEET'!$A$2:$D$206,MATCH(CONCATENATE(B258,C258),'Est. Useful Life - HIDE SHEET'!$A$2:$A$206,FALSE),4))","v":""},null,""]
[null,null,null,null,null,{"$f":"IF(ISBLANK(C259),\"\",_xlfn.CONCAT(LEFT(C259,4),\"-\",LEFT(B259,4),COUNTIF($C$11:C259,C259)))","v":""},{"$f":"IF(ISBLANK(B259),\"\",INDEX('Est. Useful Life - HIDE SHEET'!$A$2:$D$206,MATCH(CONCATENATE(B259,C259),'Est. Useful Life - HIDE SHEET'!$A$2:$A$206,FALSE),4))","v":""},null,""]
[null,null,null,null,null,{"$f":"IF(ISBLANK(C260),\"\",_xlfn.CONCAT(LEFT(C260,4),\"-\",LEFT(B260,4),COUNTIF($C$11:C260,C260)))","v":""},{"$f":"IF(ISBLANK(B260),\"\",INDEX('Est. Useful Life - HIDE SHEET'!$A$2:$D$206,MATCH(CONCATENATE(B260,C260),'Est. Useful Life - HIDE SHEET'!$A$2:$A$206,FALSE),4))","v":""},null,""]
[null,null,null,null,null,{"$f":"IF(ISBLANK(C261),\"\",_xlfn.CONCAT(LEFT(C261,4),\"-\",LEFT(B261,4),COUNTIF($C$11:C261,C261)))","v":""},{"$f":"IF(ISBLANK(B261),\"\",INDEX('Est. Useful Life - HIDE SHEET'!$A$2:$D$206,MATCH(CONCATENATE(B261,C261),'Est. Useful Life - HIDE SHEET'!$A$2:$A$206,FALSE),4))","v":""},null,""]
[null,null,null,null,null,{"$f":"IF(ISBLANK(C262),\"\",_xlfn.CONCAT(LEFT(C262,4),\"-\",LEFT(B262,4),COUNTIF($C$11:C262,C262)))","v":""},{"$f":"IF(ISBLANK(B262),\"\",INDEX('Est. Useful Life - HIDE SHEET'!$A$2:$D$206,MATCH(CONCATENATE(B262,C262),'Est. Useful Life - HIDE SHEET'!$A$2:$A$206,FALSE),4))","v":""},null,""]
[null,null,null,null,null,{"$f":"IF(ISBLANK(C263),\"\",_xlfn.CONCAT(LEFT(C263,4),\"-\",LEFT(B263,4),COUNTIF($C$11:C263,C263)))","v":""},{"$f":"IF(ISBLANK(B263),\"\",INDEX('Est. Useful Life - HIDE SHEET'!$A$2:$D$206,MATCH(CONCATENATE(B263,C263),'Est. Useful Life - HIDE SHEET'!$A$2:$A$206,FALSE),4))","v":""},null,""]
[null,null,null,null,null,{"$f":"IF(ISBLANK(C264),\"\",_xlfn.CONCAT(LEFT(C264,4),\"-\",LEFT(B264,4),COUNTIF($C$11:C264,C264)))","v":""},{"$f":"IF(ISBLANK(B264),\"\",INDEX('Est. Useful Life - HIDE SHEET'!$A$2:$D$206,MATCH(CONCATENATE(B264,C264),'Est. Useful Life - HIDE SHEET'!$A$2:$A$206,FALSE),4))","v":""},null,""]
[null,null,null,null,null,{"$f":"IF(ISBLANK(C265),\"\",_xlfn.CONCAT(LEFT(C265,4),\"-\",LEFT(B265,4),COUNTIF($C$11:C265,C265)))","v":""},{"$f":"IF(ISBLANK(B265),\"\",INDEX('Est. Useful Life - HIDE SHEET'!$A$2:$D$206,MATCH(CONCATENATE(B265,C265),'Est. Useful Life - HIDE SHEET'!$A$2:$A$206,FALSE),4))","v":""},null,""]
[null,null,null,null,null,{"$f":"IF(ISBLANK(C266),\"\",_xlfn.CONCAT(LEFT(C266,4),\"-\",LEFT(B266,4),COUNTIF($C$11:C266,C266)))","v":""},{"$f":"IF(ISBLANK(B266),\"\",INDEX('Est. Useful Life - HIDE SHEET'!$A$2:$D$206,MATCH(CONCATENATE(B266,C266),'Est. Useful Life - HIDE SHEET'!$A$2:$A$206,FALSE),4))","v":""},null,""]
[null,null,null,null,null,{"$f":"IF(ISBLANK(C267),\"\",_xlfn.CONCAT(LEFT(C267,4),\"-\",LEFT(B267,4),COUNTIF($C$11:C267,C267)))","v":""},{"$f":"IF(ISBLANK(B267),\"\",INDEX('Est. Useful Life - HIDE SHEET'!$A$2:$D$206,MATCH(CONCATENATE(B267,C267),'Est. Useful Life - HIDE SHEET'!$A$2:$A$206,FALSE),4))","v":""},null,""]
[null,null,null,null,null,{"$f":"IF(ISBLANK(C268),\"\",_xlfn.CONCAT(LEFT(C268,4),\"-\",LEFT(B268,4),COUNTIF($C$11:C268,C268)))","v":""},{"$f":"IF(ISBLANK(B268),\"\",INDEX('Est. Useful Life - HIDE SHEET'!$A$2:$D$206,MATCH(CONCATENATE(B268,C268),'Est. Useful Life - HIDE SHEET'!$A$2:$A$206,FALSE),4))","v":""},null,""]
[null,null,null,null,null,{"$f":"IF(ISBLANK(C269),\"\",_xlfn.CONCAT(LEFT(C269,4),\"-\",LEFT(B269,4),COUNTIF($C$11:C269,C269)))","v":""},{"$f":"IF(ISBLANK(B269),\"\",INDEX('Est. Useful Life - HIDE SHEET'!$A$2:$D$206,MATCH(CONCATENATE(B269,C269),'Est. Useful Life - HIDE SHEET'!$A$2:$A$206,FALSE),4))","v":""},null,""]
[null,null,null,null,null,{"$f":"IF(ISBLANK(C270),\"\",_xlfn.CONCAT(LEFT(C270,4),\"-\",LEFT(B270,4),COUNTIF($C$11:C270,C270)))","v":""},{"$f":"IF(ISBLANK(B270),\"\",INDEX('Est. Useful Life - HIDE SHEET'!$A$2:$D$206,MATCH(CONCATENATE(B270,C270),'Est. Useful Life - HIDE SHEET'!$A$2:$A$206,FALSE),4))","v":""},null,""]
[null,null,null,null,null,{"$f":"IF(ISBLANK(C271),\"\",_xlfn.CONCAT(LEFT(C271,4),\"-\",LEFT(B271,4),COUNTIF($C$11:C271,C271)))","v":""},{"$f":"IF(ISBLANK(B271),\"\",INDEX('Est. Useful Life - HIDE SHEET'!$A$2:$D$206,MATCH(CONCATENATE(B271,C271),'Est. Useful Life - HIDE SHEET'!$A$2:$A$206,FALSE),4))","v":""},null,""]
[null,null,null,null,null,{"$f":"IF(ISBLANK(C272),\"\",_xlfn.CONCAT(LEFT(C272,4),\"-\",LEFT(B272,4),COUNTIF($C$11:C272,C272)))","v":""},{"$f":"IF(ISBLANK(B272),\"\",INDEX('Est. Useful Life - HIDE SHEET'!$A$2:$D$206,MATCH(CONCATENATE(B272,C272),'Est. Useful Life - HIDE SHEET'!$A$2:$A$206,FALSE),4))","v":""},null,""]
[null,null,null,null,null,{"$f":"IF(ISBLANK(C273),\"\",_xlfn.CONCAT(LEFT(C273,4),\"-\",LEFT(B273,4),COUNTIF($C$11:C273,C273)))","v":""},{"$f":"IF(ISBLANK(B273),\"\",INDEX('Est. Useful Life - HIDE SHEET'!$A$2:$D$206,MATCH(CONCATENATE(B273,C273),'Est. Useful Life - HIDE SHEET'!$A$2:$A$206,FALSE),4))","v":""},null,""]
[null,null,null,null,null,{"$f":"IF(ISBLANK(C274),\"\",_xlfn.CONCAT(LEFT(C274,4),\"-\",LEFT(B274,4),COUNTIF($C$11:C274,C274)))","v":""},{"$f":"IF(ISBLANK(B274),\"\",INDEX('Est. Useful Life - HIDE SHEET'!$A$2:$D$206,MATCH(CONCATENATE(B274,C274),'Est. Useful Life - HIDE SHEET'!$A$2:$A$206,FALSE),4))","v":""},null,{"$f":"IF(ISNUMBER(G274),IF(ISNUMBER(H274),IF((G274-(INT((TODAY()-H274)/365)))<0,0,G274-(INT((TODAY()-H274)/365))),\"\"),\"\")","v":""}]
[null,null,null,null,null,{"$f":"IF(ISBLANK(C275),\"\",_xlfn.CONCAT(LEFT(C275,4),\"-\",LEFT(B275,4),COUNTIF($C$11:C275,C275)))","v":""},{"$f":"IF(ISBLANK(B275),\"\",INDEX('Est. Useful Life - HIDE SHEET'!$A$2:$D$206,MATCH(CONCATENATE(B275,C275),'Est. Useful Life - HIDE SHEET'!$A$2:$A$206,FALSE),4))","v":""},null,""]
[null,null,null,null,null,{"$f":"IF(ISBLANK(C276),\"\",_xlfn.CONCAT(LEFT(C276,4),\"-\",LEFT(B276,4),COUNTIF($C$11:C276,C276)))","v":""},{"$f":"IF(ISBLANK(B276),\"\",INDEX('Est. Useful Life - HIDE SHEET'!$A$2:$D$206,MATCH(CONCATENATE(B276,C276),'Est. Useful Life - HIDE SHEET'!$A$2:$A$206,FALSE),4))","v":""},null,""]
[null,null,null,null,null,{"$f":"IF(ISBLANK(C277),\"\",_xlfn.CONCAT(LEFT(C277,4),\"-\",LEFT(B277,4),COUNTIF($C$11:C277,C277)))","v":""},{"$f":"IF(ISBLANK(B277),\"\",INDEX('Est. Useful Life - HIDE SHEET'!$A$2:$D$206,MATCH(CONCATENATE(B277,C277),'Est. Useful Life - HIDE SHEET'!$A$2:$A$206,FALSE),4))","v":""},null,""]
[null,null,null,null,null,{"$f":"IF(ISBLANK(C278),\"\",_xlfn.CONCAT(LEFT(C278,4),\"-\",LEFT(B278,4),COUNTIF($C$11:C278,C278)))","v":""},{"$f":"IF(ISBLANK(B278),\"\",INDEX('Est. Useful Life - HIDE SHEET'!$A$2:$D$206,MATCH(CONCATENATE(B278,C278),'Est. Useful Life - HIDE SHEET'!$A$2:$A$206,FALSE),4))","v":""},null,""]
[null,null,null,null,null,{"$f":"IF(ISBLANK(C279),\"\",_xlfn.CONCAT(LEFT(C279,4),\"-\",LEFT(B279,4),COUNTIF($C$11:C279,C279)))","v":""},{"$f":"IF(ISBLANK(B279),\"\",INDEX('Est. Useful Life - HIDE SHEET'!$A$2:$D$206,MATCH(CONCATENATE(B279,C279),'Est. Useful Life - HIDE SHEET'!$A$2:$A$206,FALSE),4))","v":""},null,""]
[null,null,null,null,null,{"$f":"IF(ISBLANK(C280),\"\",_xlfn.CONCAT(LEFT(C280,4),\"-\",LEFT(B280,4),COUNTIF($C$11:C280,C280)))","v":""},{"$f":"IF(ISBLANK(B280),\"\",INDEX('Est. Useful Life - HIDE SHEET'!$A$2:$D$206,MATCH(CONCATENATE(B280,C280),'Est. Useful Life - HIDE SHEET'!$A$2:$A$206,FALSE),4))","v":""},null,""]
[null,null,null,null,null,{"$f":"IF(ISBLANK(C281),\"\",_xlfn.CONCAT(LEFT(C281,4),\"-\",LEFT(B281,4),COUNTIF($C$11:C281,C281)))","v":""},{"$f":"IF(ISBLANK(B281),\"\",INDEX('Est. Useful Life - HIDE SHEET'!$A$2:$D$206,MATCH(CONCATENATE(B281,C281),'Est. Useful Life - HIDE SHEET'!$A$2:$A$206,FALSE),4))","v":""},null,""]
[null,null,null,null,null,{"$f":"IF(ISBLANK(C282),\"\",_xlfn.CONCAT(LEFT(C282,4),\"-\",LEFT(B282,4),COUNTIF($C$11:C282,C282)))","v":""},{"$f":"IF(ISBLANK(B282),\"\",INDEX('Est. Useful Life - HIDE SHEET'!$A$2:$D$206,MATCH(CONCATENATE(B282,C282),'Est. Useful Life - HIDE SHEET'!$A$2:$A$206,FALSE),4))","v":""},null,""]
[null,null,null,null,null,{"$f":"IF(ISBLANK(C283),\"\",_xlfn.CONCAT(LEFT(C283,4),\"-\",LEFT(B283,4),COUNTIF($C$11:C283,C283)))","v":""},{"$f":"IF(ISBLANK(B283),\"\",INDEX('Est. Useful Life - HIDE SHEET'!$A$2:$D$206,MATCH(CONCATENATE(B283,C283),'Est. Useful Life - HIDE SHEET'!$A$2:$A$206,FALSE),4))","v":""},null,""]
[null,null,null,null,null,{"$f":"IF(ISBLANK(C284),\"\",_xlfn.CONCAT(LEFT(C284,4),\"-\",LEFT(B284,4),COUNTIF($C$11:C284,C284)))","v":""},{"$f":"IF(ISBLANK(B284),\"\",INDEX('Est. Useful Life - HIDE SHEET'!$A$2:$D$206,MATCH(CONCATENATE(B284,C284),'Est. Useful Life - HIDE SHEET'!$A$2:$A$206,FALSE),4))","v":""},null,""]
[null,null,null,null,null,{"$f":"IF(ISBLANK(C285),\"\",_xlfn.CONCAT(LEFT(C285,4),\"-\",LEFT(B285,4),COUNTIF($C$11:C285,C285)))","v":""},{"$f":"IF(ISBLANK(B285),\"\",INDEX('Est. Useful Life - HIDE SHEET'!$A$2:$D$206,MATCH(CONCATENATE(B285,C285),'Est. Useful Life - HIDE SHEET'!$A$2:$A$206,FALSE),4))","v":""},null,""]
[null,null,null,null,null,{"$f":"IF(ISBLANK(C286),\"\",_xlfn.CONCAT(LEFT(C286,4),\"-\",LEFT(B286,4),COUNTIF($C$11:C286,C286)))","v":""},{"$f":"IF(ISBLANK(B286),\"\",INDEX('Est. Useful Life - HIDE SHEET'!$A$2:$D$206,MATCH(CONCATENATE(B286,C286),'Est. Useful Life - HIDE SHEET'!$A$2:$A$206,FALSE),4))","v":""},null,""]
[null,null,null,null,null,{"$f":"IF(ISBLANK(C287),\"\",_xlfn.CONCAT(LEFT(C287,4),\"-\",LEFT(B287,4),COUNTIF($C$11:C287,C287)))","v":""},{"$f":"IF(ISBLANK(B287),\"\",INDEX('Est. Useful Life - HIDE SHEET'!$A$2:$D$206,MATCH(CONCATENATE(B287,C287),'Est. Useful Life - HIDE SHEET'!$A$2:$A$206,FALSE),4))","v":""},null,""]
[null,null,null,null,null,{"$f":"IF(ISBLANK(C288),\"\",_xlfn.CONCAT(LEFT(C288,4),\"-\",LEFT(B288,4),COUNTIF($C$11:C288,C288)))","v":""},{"$f":"IF(ISBLANK(B288),\"\",INDEX('Est. Useful Life - HIDE SHEET'!$A$2:$D$206,MATCH(CONCATENATE(B288,C288),'Est. Useful Life - HIDE SHEET'!$A$2:$A$206,FALSE),4))","v":""},null,""]
[null,null,null,null,null,{"$f":"IF(ISBLANK(C289),\"\",_xlfn.CONCAT(LEFT(C289,4),\"-\",LEFT(B289,4),COUNTIF($C$11:C289,C289)))","v":""},{"$f":"IF(ISBLANK(B289),\"\",INDEX('Est. Useful Life - HIDE SHEET'!$A$2:$D$206,MATCH(CONCATENATE(B289,C289),'Est. Useful Life - HIDE SHEET'!$A$2:$A$206,FALSE),4))","v":""},null,""]
[null,null,null,null,null,{"$f":"IF(ISBLANK(C290),\"\",_xlfn.CONCAT(LEFT(C290,4),\"-\",LEFT(B290,4),COUNTIF($C$11:C290,C290)))","v":""},{"$f":"IF(ISBLANK(B290),\"\",INDEX('Est. Useful Life - HIDE SHEET'!$A$2:$D$206,MATCH(CONCATENATE(B290,C290),'Est. Useful Life - HIDE SHEET'!$A$2:$A$206,FALSE),4))","v":""},null,""]
[null,null,null,null,null,{"$f":"IF(ISBLANK(C291),\"\",_xlfn.CONCAT(LEFT(C291,4),\"-\",LEFT(B291,4),COUNTIF($C$11:C291,C291)))","v":""},{"$f":"IF(ISBLANK(B291),\"\",INDEX('Est. Useful Life - HIDE SHEET'!$A$2:$D$206,MATCH(CONCATENATE(B291,C291),'Est. Useful Life - HIDE SHEET'!$A$2:$A$206,FALSE),4))","v":""},null,""]
[null,null,null,null,null,{"$f":"IF(ISBLANK(C292),\"\",_xlfn.CONCAT(LEFT(C292,4),\"-\",LEFT(B292,4),COUNTIF($C$11:C292,C292)))","v":""},{"$f":"IF(ISBLANK(B292),\"\",INDEX('Est. Useful Life - HIDE SHEET'!$A$2:$D$206,MATCH(CONCATENATE(B292,C292),'Est. Useful Life - HIDE SHEET'!$A$2:$A$206,FALSE),4))","v":""},null,""]
[null,null,null,null,null,{"$f":"IF(ISBLANK(C293),\"\",_xlfn.CONCAT(LEFT(C293,4),\"-\",LEFT(B293,4),COUNTIF($C$11:C293,C293)))","v":""},{"$f":"IF(ISBLANK(B293),\"\",INDEX('Est. Useful Life - HIDE SHEET'!$A$2:$D$206,MATCH(CONCATENATE(B293,C293),'Est. Useful Life - HIDE SHEET'!$A$2:$A$206,FALSE),4))","v":""},null,""]
[null,null,null,null,null,{"$f":"IF(ISBLANK(C294),\"\",_xlfn.CONCAT(LEFT(C294,4),\"-\",LEFT(B294,4),COUNTIF($C$11:C294,C294)))","v":""},{"$f":"IF(ISBLANK(B294),\"\",INDEX('Est. Useful Life - HIDE SHEET'!$A$2:$D$206,MATCH(CONCATENATE(B294,C294),'Est. Useful Life - HIDE SHEET'!$A$2:$A$206,FALSE),4))","v":""},null,""]
[null,null,null,null,null,{"$f":"IF(ISBLANK(C295),\"\",_xlfn.CONCAT(LEFT(C295,4),\"-\",LEFT(B295,4),COUNTIF($C$11:C295,C295)))","v":""},{"$f":"IF(ISBLANK(B295),\"\",INDEX('Est. Useful Life - HIDE SHEET'!$A$2:$D$206,MATCH(CONCATENATE(B295,C295),'Est. Useful Life - HIDE SHEET'!$A$2:$A$206,FALSE),4))","v":""},null,""]
[null,null,null,null,null,{"$f":"IF(ISBLANK(C296),\"\",_xlfn.CONCAT(LEFT(C296,4),\"-\",LEFT(B296,4),COUNTIF($C$11:C296,C296)))","v":""},{"$f":"IF(ISBLANK(B296),\"\",INDEX('Est. Useful Life - HIDE SHEET'!$A$2:$D$206,MATCH(CONCATENATE(B296,C296),'Est. Useful Life - HIDE SHEET'!$A$2:$A$206,FALSE),4))","v":""},null,""]
[null,null,null,null,null,{"$f":"IF(ISBLANK(C297),\"\",_xlfn.CONCAT(LEFT(C297,4),\"-\",LEFT(B297,4),COUNTIF($C$11:C297,C297)))","v":""},{"$f":"IF(ISBLANK(B297),\"\",INDEX('Est. Useful Life - HIDE SHEET'!$A$2:$D$206,MATCH(CONCATENATE(B297,C297),'Est. Useful Life - HIDE SHEET'!$A$2:$A$206,FALSE),4))","v":""},null,""]
[null,null,null,null,null,{"$f":"IF(ISBLANK(C298),\"\",_xlfn.CONCAT(LEFT(C298,4),\"-\",LEFT(B298,4),COUNTIF($C$11:C298,C298)))","v":""},{"$f":"IF(ISBLANK(B298),\"\",INDEX('Est. Useful Life - HIDE SHEET'!$A$2:$D$206,MATCH(CONCATENATE(B298,C298),'Est. Useful Life - HIDE SHEET'!$A$2:$A$206,FALSE),4))","v":""},null,""]
[null,null,null,null,null,{"$f":"IF(ISBLANK(C299),\"\",_xlfn.CONCAT(LEFT(C299,4),\"-\",LEFT(B299,4),COUNTIF($C$11:C299,C299)))","v":""},{"$f":"IF(ISBLANK(B299),\"\",INDEX('Est. Useful Life - HIDE SHEET'!$A$2:$D$206,MATCH(CONCATENATE(B299,C299),'Est. Useful Life - HIDE SHEET'!$A$2:$A$206,FALSE),4))","v":""},null,""]
[null,null,null,null,null,{"$f":"IF(ISBLANK(C300),\"\",_xlfn.CONCAT(LEFT(C300,4),\"-\",LEFT(B300,4),COUNTIF($C$11:C300,C300)))","v":""},{"$f":"IF(ISBLANK(B300),\"\",INDEX('Est. Useful Life - HIDE SHEET'!$A$2:$D$206,MATCH(CONCATENATE(B300,C300),'Est. Useful Life - HIDE SHEET'!$A$2:$A$206,FALSE),4))","v":""},null,""]
[null,null,null,null,null,{"$f":"IF(ISBLANK(C301),\"\",_xlfn.CONCAT(LEFT(C301,4),\"-\",LEFT(B301,4),COUNTIF($C$11:C301,C301)))","v":""},{"$f":"IF(ISBLANK(B301),\"\",INDEX('Est. Useful Life - HIDE SHEET'!$A$2:$D$206,MATCH(CONCATENATE(B301,C301),'Est. Useful Life - HIDE SHEET'!$A$2:$A$206,FALSE),4))","v":""},null,""]
[null,null,null,null,null,{"$f":"IF(ISBLANK(C302),\"\",_xlfn.CONCAT(LEFT(C302,4),\"-\",LEFT(B302,4),COUNTIF($C$11:C302,C302)))","v":""},{"$f":"IF(ISBLANK(B302),\"\",INDEX('Est. Useful Life - HIDE SHEET'!$A$2:$D$206,MATCH(CONCATENATE(B302,C302),'Est. Useful Life - HIDE SHEET'!$A$2:$A$206,FALSE),4))","v":""},null,""]
[null,null,null,null,null,{"$f":"IF(ISBLANK(C303),\"\",_xlfn.CONCAT(LEFT(C303,4),\"-\",LEFT(B303,4),COUNTIF($C$11:C303,C303)))","v":""},{"$f":"IF(ISBLANK(B303),\"\",INDEX('Est. Useful Life - HIDE SHEET'!$A$2:$D$206,MATCH(CONCATENATE(B303,C303),'Est. Useful Life - HIDE SHEET'!$A$2:$A$206,FALSE),4))","v":""},null,""]
[null,null,null,null,null,{"$f":"IF(ISBLANK(C304),\"\",_xlfn.CONCAT(LEFT(C304,4),\"-\",LEFT(B304,4),COUNTIF($C$11:C304,C304)))","v":""},{"$f":"IF(ISBLANK(B304),\"\",INDEX('Est. Useful Life - HIDE SHEET'!$A$2:$D$206,MATCH(CONCATENATE(B304,C304),'Est. Useful Life - HIDE SHEET'!$A$2:$A$206,FALSE),4))","v":""},null,""]
[null,null,null,null,null,{"$f":"IF(ISBLANK(C305),\"\",_xlfn.CONCAT(LEFT(C305,4),\"-\",LEFT(B305,4),COUNTIF($C$11:C305,C305)))","v":""},{"$f":"IF(ISBLANK(B305),\"\",INDEX('Est. Useful Life - HIDE SHEET'!$A$2:$D$206,MATCH(CONCATENATE(B305,C305),'Est. Useful Life - HIDE SHEET'!$A$2:$A$206,FALSE),4))","v":""},null,""]
[null,null,null,null,null,{"$f":"IF(ISBLANK(C306),\"\",_xlfn.CONCAT(LEFT(C306,4),\"-\",LEFT(B306,4),COUNTIF($C$11:C306,C306)))","v":""},{"$f":"IF(ISBLANK(B306),\"\",INDEX('Est. Useful Life - HIDE SHEET'!$A$2:$D$206,MATCH(CONCATENATE(B306,C306),'Est. Useful Life - HIDE SHEET'!$A$2:$A$206,FALSE),4))","v":""},null,""]
[null,null,null,null,null,{"$f":"IF(ISBLANK(C307),\"\",_xlfn.CONCAT(LEFT(C307,4),\"-\",LEFT(B307,4),COUNTIF($C$11:C307,C307)))","v":""},{"$f":"IF(ISBLANK(B307),\"\",INDEX('Est. Useful Life - HIDE SHEET'!$A$2:$D$206,MATCH(CONCATENATE(B307,C307),'Est. Useful Life - HIDE SHEET'!$A$2:$A$206,FALSE),4))","v":""},null,""]
[null,null,null,null,null,{"$f":"IF(ISBLANK(C308),\"\",_xlfn.CONCAT(LEFT(C308,4),\"-\",LEFT(B308,4),COUNTIF($C$11:C308,C308)))","v":""},{"$f":"IF(ISBLANK(B308),\"\",INDEX('Est. Useful Life - HIDE SHEET'!$A$2:$D$206,MATCH(CONCATENATE(B308,C308),'Est. Useful Life - HIDE SHEET'!$A$2:$A$206,FALSE),4))","v":""},null,""]
[null,null,null,null,null,{"$f":"IF(ISBLANK(C309),\"\",_xlfn.CONCAT(LEFT(C309,4),\"-\",LEFT(B309,4),COUNTIF($C$11:C309,C309)))","v":""},{"$f":"IF(ISBLANK(B309),\"\",INDEX('Est. Useful Life - HIDE SHEET'!$A$2:$D$206,MATCH(CONCATENATE(B309,C309),'Est. Useful Life - HIDE SHEET'!$A$2:$A$206,FALSE),4))","v":""},null,""]
[null,null,null,null,null,{"$f":"IF(ISBLANK(C310),\"\",_xlfn.CONCAT(LEFT(C310,4),\"-\",LEFT(B310,4),COUNTIF($C$11:C310,C310)))","v":""},{"$f":"IF(ISBLANK(B310),\"\",INDEX('Est. Useful Life - HIDE SHEET'!$A$2:$D$206,MATCH(CONCATENATE(B310,C310),'Est. Useful Life - HIDE SHEET'!$A$2:$A$206,FALSE),4))","v":""},null,""]
[null,null,null,null,null,{"$f":"IF(ISBLANK(C311),\"\",_xlfn.CONCAT(LEFT(C311,4),\"-\",LEFT(B311,4),COUNTIF($C$11:C311,C311)))","v":""},{"$f":"IF(ISBLANK(B311),\"\",INDEX('Est. Useful Life - HIDE SHEET'!$A$2:$D$206,MATCH(CONCATENATE(B311,C311),'Est. Useful Life - HIDE SHEET'!$A$2:$A$206,FALSE),4))","v":""},null,""]
[null,null,null,null,null,{"$f":"IF(ISBLANK(C312),\"\",_xlfn.CONCAT(LEFT(C312,4),\"-\",LEFT(B312,4),COUNTIF($C$11:C312,C312)))","v":""},{"$f":"IF(ISBLANK(B312),\"\",INDEX('Est. Useful Life - HIDE SHEET'!$A$2:$D$206,MATCH(CONCATENATE(B312,C312),'Est. Useful Life - HIDE SHEET'!$A$2:$A$206,FALSE),4))","v":""},null,""]
[null,null,null,null,null,{"$f":"IF(ISBLANK(C313),\"\",_xlfn.CONCAT(LEFT(C313,4),\"-\",LEFT(B313,4),COUNTIF($C$11:C313,C313)))","v":""},{"$f":"IF(ISBLANK(B313),\"\",INDEX('Est. Useful Life - HIDE SHEET'!$A$2:$D$206,MATCH(CONCATENATE(B313,C313),'Est. Useful Life - HIDE SHEET'!$A$2:$A$206,FALSE),4))","v":""},null,""]
[null,null,null,null,null,{"$f":"IF(ISBLANK(C314),\"\",_xlfn.CONCAT(LEFT(C314,4),\"-\",LEFT(B314,4),COUNTIF($C$11:C314,C314)))","v":""},{"$f":"IF(ISBLANK(B314),\"\",INDEX('Est. Useful Life - HIDE SHEET'!$A$2:$D$206,MATCH(CONCATENATE(B314,C314),'Est. Useful Life - HIDE SHEET'!$A$2:$A$206,FALSE),4))","v":""},null,""]
[null,null,null,null,null,{"$f":"IF(ISBLANK(C315),\"\",_xlfn.CONCAT(LEFT(C315,4),\"-\",LEFT(B315,4),COUNTIF($C$11:C315,C315)))","v":""},{"$f":"IF(ISBLANK(B315),\"\",INDEX('Est. Useful Life - HIDE SHEET'!$A$2:$D$206,MATCH(CONCATENATE(B315,C315),'Est. Useful Life - HIDE SHEET'!$A$2:$A$206,FALSE),4))","v":""},null,""]
[null,null,null,null,null,{"$f":"IF(ISBLANK(C316),\"\",_xlfn.CONCAT(LEFT(C316,4),\"-\",LEFT(B316,4),COUNTIF($C$11:C316,C316)))","v":""},{"$f":"IF(ISBLANK(B316),\"\",INDEX('Est. Useful Life - HIDE SHEET'!$A$2:$D$206,MATCH(CONCATENATE(B316,C316),'Est. Useful Life - HIDE SHEET'!$A$2:$A$206,FALSE),4))","v":""},null,""]
[null,null,null,null,null,{"$f":"IF(ISBLANK(C317),\"\",_xlfn.CONCAT(LEFT(C317,4),\"-\",LEFT(B317,4),COUNTIF($C$11:C317,C317)))","v":""},{"$f":"IF(ISBLANK(B317),\"\",INDEX('Est. Useful Life - HIDE SHEET'!$A$2:$D$206,MATCH(CONCATENATE(B317,C317),'Est. Useful Life - HIDE SHEET'!$A$2:$A$206,FALSE),4))","v":""},null,""]
[null,null,null,null,null,{"$f":"IF(ISBLANK(C318),\"\",_xlfn.CONCAT(LEFT(C318,4),\"-\",LEFT(B318,4),COUNTIF($C$11:C318,C318)))","v":""},{"$f":"IF(ISBLANK(B318),\"\",INDEX('Est. Useful Life - HIDE SHEET'!$A$2:$D$206,MATCH(CONCATENATE(B318,C318),'Est. Useful Life - HIDE SHEET'!$A$2:$A$206,FALSE),4))","v":""},null,""]
[null,null,null,null,null,{"$f":"IF(ISBLANK(C319),\"\",_xlfn.CONCAT(LEFT(C319,4),\"-\",LEFT(B319,4),COUNTIF($C$11:C319,C319)))","v":""},{"$f":"IF(ISBLANK(B319),\"\",INDEX('Est. Useful Life - HIDE SHEET'!$A$2:$D$206,MATCH(CONCATENATE(B319,C319),'Est. Useful Life - HIDE SHEET'!$A$2:$A$206,FALSE),4))","v":""},null,""]
[null,null,null,null,null,{"$f":"IF(ISBLANK(C320),\"\",_xlfn.CONCAT(LEFT(C320,4),\"-\",LEFT(B320,4),COUNTIF($C$11:C320,C320)))","v":""},{"$f":"IF(ISBLANK(B320),\"\",INDEX('Est. Useful Life - HIDE SHEET'!$A$2:$D$206,MATCH(CONCATENATE(B320,C320),'Est. Useful Life - HIDE SHEET'!$A$2:$A$206,FALSE),4))","v":""},null,""]
[null,null,null,null,null,{"$f":"IF(ISBLANK(C321),\"\",_xlfn.CONCAT(LEFT(C321,4),\"-\",LEFT(B321,4),COUNTIF($C$11:C321,C321)))","v":""},{"$f":"IF(ISBLANK(B321),\"\",INDEX('Est. Useful Life - HIDE SHEET'!$A$2:$D$206,MATCH(CONCATENATE(B321,C321),'Est. Useful Life - HIDE SHEET'!$A$2:$A$206,FALSE),4))","v":""},null,""]
[null,null,null,null,null,{"$f":"IF(ISBLANK(C322),\"\",_xlfn.CONCAT(LEFT(C322,4),\"-\",LEFT(B322,4),COUNTIF($C$11:C322,C322)))","v":""},{"$f":"IF(ISBLANK(B322),\"\",INDEX('Est. Useful Life - HIDE SHEET'!$A$2:$D$206,MATCH(CONCATENATE(B322,C322),'Est. Useful Life - HIDE SHEET'!$A$2:$A$206,FALSE),4))","v":""},null,""]
[null,null,null,null,null,{"$f":"IF(ISBLANK(C323),\"\",_xlfn.CONCAT(LEFT(C323,4),\"-\",LEFT(B323,4),COUNTIF($C$11:C323,C323)))","v":""},{"$f":"IF(ISBLANK(B323),\"\",INDEX('Est. Useful Life - HIDE SHEET'!$A$2:$D$206,MATCH(CONCATENATE(B323,C323),'Est. Useful Life - HIDE SHEET'!$A$2:$A$206,FALSE),4))","v":""},null,""]
[null,null,null,null,null,{"$f":"IF(ISBLANK(C324),\"\",_xlfn.CONCAT(LEFT(C324,4),\"-\",LEFT(B324,4),COUNTIF($C$11:C324,C324)))","v":""},{"$f":"IF(ISBLANK(B324),\"\",INDEX('Est. Useful Life - HIDE SHEET'!$A$2:$D$206,MATCH(CONCATENATE(B324,C324),'Est. Useful Life - HIDE SHEET'!$A$2:$A$206,FALSE),4))","v":""},null,""]
[null,null,null,null,null,{"$f":"IF(ISBLANK(C325),\"\",_xlfn.CONCAT(LEFT(C325,4),\"-\",LEFT(B325,4),COUNTIF($C$11:C325,C325)))","v":""},{"$f":"IF(ISBLANK(B325),\"\",INDEX('Est. Useful Life - HIDE SHEET'!$A$2:$D$206,MATCH(CONCATENATE(B325,C325),'Est. Useful Life - HIDE SHEET'!$A$2:$A$206,FALSE),4))","v":""},null,""]
[null,null,null,null,null,{"$f":"IF(ISBLANK(C326),\"\",_xlfn.CONCAT(LEFT(C326,4),\"-\",LEFT(B326,4),COUNTIF($C$11:C326,C326)))","v":""},{"$f":"IF(ISBLANK(B326),\"\",INDEX('Est. Useful Life - HIDE SHEET'!$A$2:$D$206,MATCH(CONCATENATE(B326,C326),'Est. Useful Life - HIDE SHEET'!$A$2:$A$206,FALSE),4))","v":""},null,""]
[null,null,null,null,null,{"$f":"IF(ISBLANK(C327),\"\",_xlfn.CONCAT(LEFT(C327,4),\"-\",LEFT(B327,4),COUNTIF($C$11:C327,C327)))","v":""},{"$f":"IF(ISBLANK(B327),\"\",INDEX('Est. Useful Life - HIDE SHEET'!$A$2:$D$206,MATCH(CONCATENATE(B327,C327),'Est. Useful Life - HIDE SHEET'!$A$2:$A$206,FALSE),4))","v":""},null,""]
[null,null,null,null,null,{"$f":"IF(ISBLANK(C328),\"\",_xlfn.CONCAT(LEFT(C328,4),\"-\",LEFT(B328,4),COUNTIF($C$11:C328,C328)))","v":""},{"$f":"IF(ISBLANK(B328),\"\",INDEX('Est. Useful Life - HIDE SHEET'!$A$2:$D$206,MATCH(CONCATENATE(B328,C328),'Est. Useful Life - HIDE SHEET'!$A$2:$A$206,FALSE),4))","v":""},null,""]
[null,null,null,null,null,{"$f":"IF(ISBLANK(C329),\"\",_xlfn.CONCAT(LEFT(C329,4),\"-\",LEFT(B329,4),COUNTIF($C$11:C329,C329)))","v":""},{"$f":"IF(ISBLANK(B329),\"\",INDEX('Est. Useful Life - HIDE SHEET'!$A$2:$D$206,MATCH(CONCATENATE(B329,C329),'Est. Useful Life - HIDE SHEET'!$A$2:$A$206,FALSE),4))","v":""},null,""]
[null,null,null,null,null,{"$f":"IF(ISBLANK(C330),\"\",_xlfn.CONCAT(LEFT(C330,4),\"-\",LEFT(B330,4),COUNTIF($C$11:C330,C330)))","v":""},{"$f":"IF(ISBLANK(B330),\"\",INDEX('Est. Useful Life - HIDE SHEET'!$A$2:$D$206,MATCH(CONCATENATE(B330,C330),'Est. Useful Life - HIDE SHEET'!$A$2:$A$206,FALSE),4))","v":""},null,""]
[null,null,null,null,null,{"$f":"IF(ISBLANK(C331),\"\",_xlfn.CONCAT(LEFT(C331,4),\"-\",LEFT(B331,4),COUNTIF($C$11:C331,C331)))","v":""},{"$f":"IF(ISBLANK(B331),\"\",INDEX('Est. Useful Life - HIDE SHEET'!$A$2:$D$206,MATCH(CONCATENATE(B331,C331),'Est. Useful Life - HIDE SHEET'!$A$2:$A$206,FALSE),4))","v":""},null,""]
[null,null,null,null,null,{"$f":"IF(ISBLANK(C332),\"\",_xlfn.CONCAT(LEFT(C332,4),\"-\",LEFT(B332,4),COUNTIF($C$11:C332,C332)))","v":""},{"$f":"IF(ISBLANK(B332),\"\",INDEX('Est. Useful Life - HIDE SHEET'!$A$2:$D$206,MATCH(CONCATENATE(B332,C332),'Est. Useful Life - HIDE SHEET'!$A$2:$A$206,FALSE),4))","v":""},null,""]
[null,null,null,null,null,{"$f":"IF(ISBLANK(C333),\"\",_xlfn.CONCAT(LEFT(C333,4),\"-\",LEFT(B333,4),COUNTIF($C$11:C333,C333)))","v":""},{"$f":"IF(ISBLANK(B333),\"\",INDEX('Est. Useful Life - HIDE SHEET'!$A$2:$D$206,MATCH(CONCATENATE(B333,C333),'Est. Useful Life - HIDE SHEET'!$A$2:$A$206,FALSE),4))","v":""},null,""]
[null,null,null,null,null,{"$f":"IF(ISBLANK(C334),\"\",_xlfn.CONCAT(LEFT(C334,4),\"-\",LEFT(B334,4),COUNTIF($C$11:C334,C334)))","v":""},{"$f":"IF(ISBLANK(B334),\"\",INDEX('Est. Useful Life - HIDE SHEET'!$A$2:$D$206,MATCH(CONCATENATE(B334,C334),'Est. Useful Life - HIDE SHEET'!$A$2:$A$206,FALSE),4))","v":""},null,""]
[null,null,null,null,null,{"$f":"IF(ISBLANK(C335),\"\",_xlfn.CONCAT(LEFT(C335,4),\"-\",LEFT(B335,4),COUNTIF($C$11:C335,C335)))","v":""},{"$f":"IF(ISBLANK(B335),\"\",INDEX('Est. Useful Life - HIDE SHEET'!$A$2:$D$206,MATCH(CONCATENATE(B335,C335),'Est. Useful Life - HIDE SHEET'!$A$2:$A$206,FALSE),4))","v":""},null,""]
[null,null,null,null,null,{"$f":"IF(ISBLANK(C336),\"\",_xlfn.CONCAT(LEFT(C336,4),\"-\",LEFT(B336,4),COUNTIF($C$11:C336,C336)))","v":""},{"$f":"IF(ISBLANK(B336),\"\",INDEX('Est. Useful Life - HIDE SHEET'!$A$2:$D$206,MATCH(CONCATENATE(B336,C336),'Est. Useful Life - HIDE SHEET'!$A$2:$A$206,FALSE),4))","v":""},null,""]
[null,null,null,null,null,{"$f":"IF(ISBLANK(C337),\"\",_xlfn.CONCAT(LEFT(C337,4),\"-\",LEFT(B337,4),COUNTIF($C$11:C337,C337)))","v":""},{"$f":"IF(ISBLANK(B337),\"\",INDEX('Est. Useful Life - HIDE SHEET'!$A$2:$D$206,MATCH(CONCATENATE(B337,C337),'Est. Useful Life - HIDE SHEET'!$A$2:$A$206,FALSE),4))","v":""},null,""]
[null,null,null,null,null,{"$f":"IF(ISBLANK(C338),\"\",_xlfn.CONCAT(LEFT(C338,4),\"-\",LEFT(B338,4),COUNTIF($C$11:C338,C338)))","v":""},{"$f":"IF(ISBLANK(B338),\"\",INDEX('Est. Useful Life - HIDE SHEET'!$A$2:$D$206,MATCH(CONCATENATE(B338,C338),'Est. Useful Life - HIDE SHEET'!$A$2:$A$206,FALSE),4))","v":""},null,{"$f":"IF(ISNUMBER(G338),IF(ISNUMBER(H338),IF((G338-(INT((TODAY()-H338)/365)))<0,0,G338-(INT((TODAY()-H338)/365))),\"\"),\"\")","v":""}]
[null,null,null,null,null,{"$f":"IF(ISBLANK(C339),\"\",_xlfn.CONCAT(LEFT(C339,4),\"-\",LEFT(B339,4),COUNTIF($C$11:C339,C339)))","v":""},{"$f":"IF(ISBLANK(B339),\"\",INDEX('Est. Useful Life - HIDE SHEET'!$A$2:$D$206,MATCH(CONCATENATE(B339,C339),'Est. Useful Life - HIDE SHEET'!$A$2:$A$206,FALSE),4))","v":""},null,""]
[null,null,null,null,null,{"$f":"IF(ISBLANK(C340),\"\",_xlfn.CONCAT(LEFT(C340,4),\"-\",LEFT(B340,4),COUNTIF($C$11:C340,C340)))","v":""},{"$f":"IF(ISBLANK(B340),\"\",INDEX('Est. Useful Life - HIDE SHEET'!$A$2:$D$206,MATCH(CONCATENATE(B340,C340),'Est. Useful Life - HIDE SHEET'!$A$2:$A$206,FALSE),4))","v":""},null,""]
[null,null,null,null,null,{"$f":"IF(ISBLANK(C341),\"\",_xlfn.CONCAT(LEFT(C341,4),\"-\",LEFT(B341,4),COUNTIF($C$11:C341,C341)))","v":""},{"$f":"IF(ISBLANK(B341),\"\",INDEX('Est. Useful Life - HIDE SHEET'!$A$2:$D$206,MATCH(CONCATENATE(B341,C341),'Est. Useful Life - HIDE SHEET'!$A$2:$A$206,FALSE),4))","v":""},null,""]
[null,null,null,null,null,{"$f":"IF(ISBLANK(C342),\"\",_xlfn.CONCAT(LEFT(C342,4),\"-\",LEFT(B342,4),COUNTIF($C$11:C342,C342)))","v":""},{"$f":"IF(ISBLANK(B342),\"\",INDEX('Est. Useful Life - HIDE SHEET'!$A$2:$D$206,MATCH(CONCATENATE(B342,C342),'Est. Useful Life - HIDE SHEET'!$A$2:$A$206,FALSE),4))","v":""},null,""]
[null,null,null,null,null,{"$f":"IF(ISBLANK(C343),\"\",_xlfn.CONCAT(LEFT(C343,4),\"-\",LEFT(B343,4),COUNTIF($C$11:C343,C343)))","v":""},{"$f":"IF(ISBLANK(B343),\"\",INDEX('Est. Useful Life - HIDE SHEET'!$A$2:$D$206,MATCH(CONCATENATE(B343,C343),'Est. Useful Life - HIDE SHEET'!$A$2:$A$206,FALSE),4))","v":""},null,""]
[null,null,null,null,null,{"$f":"IF(ISBLANK(C344),\"\",_xlfn.CONCAT(LEFT(C344,4),\"-\",LEFT(B344,4),COUNTIF($C$11:C344,C344)))","v":""},{"$f":"IF(ISBLANK(B344),\"\",INDEX('Est. Useful Life - HIDE SHEET'!$A$2:$D$206,MATCH(CONCATENATE(B344,C344),'Est. Useful Life - HIDE SHEET'!$A$2:$A$206,FALSE),4))","v":""},null,""]
[null,null,null,null,null,{"$f":"IF(ISBLANK(C345),\"\",_xlfn.CONCAT(LEFT(C345,4),\"-\",LEFT(B345,4),COUNTIF($C$11:C345,C345)))","v":""},{"$f":"IF(ISBLANK(B345),\"\",INDEX('Est. Useful Life - HIDE SHEET'!$A$2:$D$206,MATCH(CONCATENATE(B345,C345),'Est. Useful Life - HIDE SHEET'!$A$2:$A$206,FALSE),4))","v":""},null,""]
[null,null,null,null,null,{"$f":"IF(ISBLANK(C346),\"\",_xlfn.CONCAT(LEFT(C346,4),\"-\",LEFT(B346,4),COUNTIF($C$11:C346,C346)))","v":""},{"$f":"IF(ISBLANK(B346),\"\",INDEX('Est. Useful Life - HIDE SHEET'!$A$2:$D$206,MATCH(CONCATENATE(B346,C346),'Est. Useful Life - HIDE SHEET'!$A$2:$A$206,FALSE),4))","v":""},null,""]
[null,null,null,null,null,{"$f":"IF(ISBLANK(C347),\"\",_xlfn.CONCAT(LEFT(C347,4),\"-\",LEFT(B347,4),COUNTIF($C$11:C347,C347)))","v":""},{"$f":"IF(ISBLANK(B347),\"\",INDEX('Est. Useful Life - HIDE SHEET'!$A$2:$D$206,MATCH(CONCATENATE(B347,C347),'Est. Useful Life - HIDE SHEET'!$A$2:$A$206,FALSE),4))","v":""},null,""]
[null,null,null,null,null,{"$f":"IF(ISBLANK(C348),\"\",_xlfn.CONCAT(LEFT(C348,4),\"-\",LEFT(B348,4),COUNTIF($C$11:C348,C348)))","v":""},{"$f":"IF(ISBLANK(B348),\"\",INDEX('Est. Useful Life - HIDE SHEET'!$A$2:$D$206,MATCH(CONCATENATE(B348,C348),'Est. Useful Life - HIDE SHEET'!$A$2:$A$206,FALSE),4))","v":""},null,""]
[null,null,null,null,null,{"$f":"IF(ISBLANK(C349),\"\",_xlfn.CONCAT(LEFT(C349,4),\"-\",LEFT(B349,4),COUNTIF($C$11:C349,C349)))","v":""},{"$f":"IF(ISBLANK(B349),\"\",INDEX('Est. Useful Life - HIDE SHEET'!$A$2:$D$206,MATCH(CONCATENATE(B349,C349),'Est. Useful Life - HIDE SHEET'!$A$2:$A$206,FALSE),4))","v":""},null,""]
[null,null,null,null,null,{"$f":"IF(ISBLANK(C350),\"\",_xlfn.CONCAT(LEFT(C350,4),\"-\",LEFT(B350,4),COUNTIF($C$11:C350,C350)))","v":""},{"$f":"IF(ISBLANK(B350),\"\",INDEX('Est. Useful Life - HIDE SHEET'!$A$2:$D$206,MATCH(CONCATENATE(B350,C350),'Est. Useful Life - HIDE SHEET'!$A$2:$A$206,FALSE),4))","v":""},null,""]
[null,null,null,null,null,{"$f":"IF(ISBLANK(C351),\"\",_xlfn.CONCAT(LEFT(C351,4),\"-\",LEFT(B351,4),COUNTIF($C$11:C351,C351)))","v":""},{"$f":"IF(ISBLANK(B351),\"\",INDEX('Est. Useful Life - HIDE SHEET'!$A$2:$D$206,MATCH(CONCATENATE(B351,C351),'Est. Useful Life - HIDE SHEET'!$A$2:$A$206,FALSE),4))","v":""},null,""]
[null,null,null,null,null,{"$f":"IF(ISBLANK(C352),\"\",_xlfn.CONCAT(LEFT(C352,4),\"-\",LEFT(B352,4),COUNTIF($C$11:C352,C352)))","v":""},{"$f":"IF(ISBLANK(B352),\"\",INDEX('Est. Useful Life - HIDE SHEET'!$A$2:$D$206,MATCH(CONCATENATE(B352,C352),'Est. Useful Life - HIDE SHEET'!$A$2:$A$206,FALSE),4))","v":""},null,""]
[null,null,null,null,null,{"$f":"IF(ISBLANK(C353),\"\",_xlfn.CONCAT(LEFT(C353,4),\"-\",LEFT(B353,4),COUNTIF($C$11:C353,C353)))","v":""},{"$f":"IF(ISBLANK(B353),\"\",INDEX('Est. Useful Life - HIDE SHEET'!$A$2:$D$206,MATCH(CONCATENATE(B353,C353),'Est. Useful Life - HIDE SHEET'!$A$2:$A$206,FALSE),4))","v":""},null,""]
[null,null,null,null,null,{"$f":"IF(ISBLANK(C354),\"\",_xlfn.CONCAT(LEFT(C354,4),\"-\",LEFT(B354,4),COUNTIF($C$11:C354,C354)))","v":""},{"$f":"IF(ISBLANK(B354),\"\",INDEX('Est. Useful Life - HIDE SHEET'!$A$2:$D$206,MATCH(CONCATENATE(B354,C354),'Est. Useful Life - HIDE SHEET'!$A$2:$A$206,FALSE),4))","v":""},null,""]
[null,null,null,null,null,{"$f":"IF(ISBLANK(C355),\"\",_xlfn.CONCAT(LEFT(C355,4),\"-\",LEFT(B355,4),COUNTIF($C$11:C355,C355)))","v":""},{"$f":"IF(ISBLANK(B355),\"\",INDEX('Est. Useful Life - HIDE SHEET'!$A$2:$D$206,MATCH(CONCATENATE(B355,C355),'Est. Useful Life - HIDE SHEET'!$A$2:$A$206,FALSE),4))","v":""},null,""]
[null,null,null,null,null,{"$f":"IF(ISBLANK(C356),\"\",_xlfn.CONCAT(LEFT(C356,4),\"-\",LEFT(B356,4),COUNTIF($C$11:C356,C356)))","v":""},{"$f":"IF(ISBLANK(B356),\"\",INDEX('Est. Useful Life - HIDE SHEET'!$A$2:$D$206,MATCH(CONCATENATE(B356,C356),'Est. Useful Life - HIDE SHEET'!$A$2:$A$206,FALSE),4))","v":""},null,""]
[null,null,null,null,null,{"$f":"IF(ISBLANK(C357),\"\",_xlfn.CONCAT(LEFT(C357,4),\"-\",LEFT(B357,4),COUNTIF($C$11:C357,C357)))","v":""},{"$f":"IF(ISBLANK(B357),\"\",INDEX('Est. Useful Life - HIDE SHEET'!$A$2:$D$206,MATCH(CONCATENATE(B357,C357),'Est. Useful Life - HIDE SHEET'!$A$2:$A$206,FALSE),4))","v":""},null,""]
[null,null,null,null,null,{"$f":"IF(ISBLANK(C358),\"\",_xlfn.CONCAT(LEFT(C358,4),\"-\",LEFT(B358,4),COUNTIF($C$11:C358,C358)))","v":""},{"$f":"IF(ISBLANK(B358),\"\",INDEX('Est. Useful Life - HIDE SHEET'!$A$2:$D$206,MATCH(CONCATENATE(B358,C358),'Est. Useful Life - HIDE SHEET'!$A$2:$A$206,FALSE),4))","v":""},null,""]
[null,null,null,null,null,{"$f":"IF(ISBLANK(C359),\"\",_xlfn.CONCAT(LEFT(C359,4),\"-\",LEFT(B359,4),COUNTIF($C$11:C359,C359)))","v":""},{"$f":"IF(ISBLANK(B359),\"\",INDEX('Est. Useful Life - HIDE SHEET'!$A$2:$D$206,MATCH(CONCATENATE(B359,C359),'Est. Useful Life - HIDE SHEET'!$A$2:$A$206,FALSE),4))","v":""},null,""]
[null,null,null,null,null,{"$f":"IF(ISBLANK(C360),\"\",_xlfn.CONCAT(LEFT(C360,4),\"-\",LEFT(B360,4),COUNTIF($C$11:C360,C360)))","v":""},{"$f":"IF(ISBLANK(B360),\"\",INDEX('Est. Useful Life - HIDE SHEET'!$A$2:$D$206,MATCH(CONCATENATE(B360,C360),'Est. Useful Life - HIDE SHEET'!$A$2:$A$206,FALSE),4))","v":""},null,""]
[null,null,null,null,null,{"$f":"IF(ISBLANK(C361),\"\",_xlfn.CONCAT(LEFT(C361,4),\"-\",LEFT(B361,4),COUNTIF($C$11:C361,C361)))","v":""},{"$f":"IF(ISBLANK(B361),\"\",INDEX('Est. Useful Life - HIDE SHEET'!$A$2:$D$206,MATCH(CONCATENATE(B361,C361),'Est. Useful Life - HIDE SHEET'!$A$2:$A$206,FALSE),4))","v":""},null,""]
[null,null,null,null,null,{"$f":"IF(ISBLANK(C362),\"\",_xlfn.CONCAT(LEFT(C362,4),\"-\",LEFT(B362,4),COUNTIF($C$11:C362,C362)))","v":""},{"$f":"IF(ISBLANK(B362),\"\",INDEX('Est. Useful Life - HIDE SHEET'!$A$2:$D$206,MATCH(CONCATENATE(B362,C362),'Est. Useful Life - HIDE SHEET'!$A$2:$A$206,FALSE),4))","v":""},null,""]
[null,null,null,null,null,{"$f":"IF(ISBLANK(C363),\"\",_xlfn.CONCAT(LEFT(C363,4),\"-\",LEFT(B363,4),COUNTIF($C$11:C363,C363)))","v":""},{"$f":"IF(ISBLANK(B363),\"\",INDEX('Est. Useful Life - HIDE SHEET'!$A$2:$D$206,MATCH(CONCATENATE(B363,C363),'Est. Useful Life - HIDE SHEET'!$A$2:$A$206,FALSE),4))","v":""},null,""]
[null,null,null,null,null,{"$f":"IF(ISBLANK(C364),\"\",_xlfn.CONCAT(LEFT(C364,4),\"-\",LEFT(B364,4),COUNTIF($C$11:C364,C364)))","v":""},{"$f":"IF(ISBLANK(B364),\"\",INDEX('Est. Useful Life - HIDE SHEET'!$A$2:$D$206,MATCH(CONCATENATE(B364,C364),'Est. Useful Life - HIDE SHEET'!$A$2:$A$206,FALSE),4))","v":""},null,""]
[null,null,null,null,null,{"$f":"IF(ISBLANK(C365),\"\",_xlfn.CONCAT(LEFT(C365,4),\"-\",LEFT(B365,4),COUNTIF($C$11:C365,C365)))","v":""},{"$f":"IF(ISBLANK(B365),\"\",INDEX('Est. Useful Life - HIDE SHEET'!$A$2:$D$206,MATCH(CONCATENATE(B365,C365),'Est. Useful Life - HIDE SHEET'!$A$2:$A$206,FALSE),4))","v":""},null,""]
[null,null,null,null,null,{"$f":"IF(ISBLANK(C366),\"\",_xlfn.CONCAT(LEFT(C366,4),\"-\",LEFT(B366,4),COUNTIF($C$11:C366,C366)))","v":""},{"$f":"IF(ISBLANK(B366),\"\",INDEX('Est. Useful Life - HIDE SHEET'!$A$2:$D$206,MATCH(CONCATENATE(B366,C366),'Est. Useful Life - HIDE SHEET'!$A$2:$A$206,FALSE),4))","v":""},null,""]
[null,null,null,null,null,{"$f":"IF(ISBLANK(C367),\"\",_xlfn.CONCAT(LEFT(C367,4),\"-\",LEFT(B367,4),COUNTIF($C$11:C367,C367)))","v":""},{"$f":"IF(ISBLANK(B367),\"\",INDEX('Est. Useful Life - HIDE SHEET'!$A$2:$D$206,MATCH(CONCATENATE(B367,C367),'Est. Useful Life - HIDE SHEET'!$A$2:$A$206,FALSE),4))","v":""},null,""]
[null,null,null,null,null,{"$f":"IF(ISBLANK(C368),\"\",_xlfn.CONCAT(LEFT(C368,4),\"-\",LEFT(B368,4),COUNTIF($C$11:C368,C368)))","v":""},{"$f":"IF(ISBLANK(B368),\"\",INDEX('Est. Useful Life - HIDE SHEET'!$A$2:$D$206,MATCH(CONCATENATE(B368,C368),'Est. Useful Life - HIDE SHEET'!$A$2:$A$206,FALSE),4))","v":""},null,""]
[null,null,null,null,null,{"$f":"IF(ISBLANK(C369),\"\",_xlfn.CONCAT(LEFT(C369,4),\"-\",LEFT(B369,4),COUNTIF($C$11:C369,C369)))","v":""},{"$f":"IF(ISBLANK(B369),\"\",INDEX('Est. Useful Life - HIDE SHEET'!$A$2:$D$206,MATCH(CONCATENATE(B369,C369),'Est. Useful Life - HIDE SHEET'!$A$2:$A$206,FALSE),4))","v":""},null,""]
[null,null,null,null,null,{"$f":"IF(ISBLANK(C370),\"\",_xlfn.CONCAT(LEFT(C370,4),\"-\",LEFT(B370,4),COUNTIF($C$11:C370,C370)))","v":""},{"$f":"IF(ISBLANK(B370),\"\",INDEX('Est. Useful Life - HIDE SHEET'!$A$2:$D$206,MATCH(CONCATENATE(B370,C370),'Est. Useful Life - HIDE SHEET'!$A$2:$A$206,FALSE),4))","v":""},null,""]
[null,null,null,null,null,{"$f":"IF(ISBLANK(C371),\"\",_xlfn.CONCAT(LEFT(C371,4),\"-\",LEFT(B371,4),COUNTIF($C$11:C371,C371)))","v":""},{"$f":"IF(ISBLANK(B371),\"\",INDEX('Est. Useful Life - HIDE SHEET'!$A$2:$D$206,MATCH(CONCATENATE(B371,C371),'Est. Useful Life - HIDE SHEET'!$A$2:$A$206,FALSE),4))","v":""},null,""]
[null,null,null,null,null,{"$f":"IF(ISBLANK(C372),\"\",_xlfn.CONCAT(LEFT(C372,4),\"-\",LEFT(B372,4),COUNTIF($C$11:C372,C372)))","v":""},{"$f":"IF(ISBLANK(B372),\"\",INDEX('Est. Useful Life - HIDE SHEET'!$A$2:$D$206,MATCH(CONCATENATE(B372,C372),'Est. Useful Life - HIDE SHEET'!$A$2:$A$206,FALSE),4))","v":""},null,""]
[null,null,null,null,null,{"$f":"IF(ISBLANK(C373),\"\",_xlfn.CONCAT(LEFT(C373,4),\"-\",LEFT(B373,4),COUNTIF($C$11:C373,C373)))","v":""},{"$f":"IF(ISBLANK(B373),\"\",INDEX('Est. Useful Life - HIDE SHEET'!$A$2:$D$206,MATCH(CONCATENATE(B373,C373),'Est. Useful Life - HIDE SHEET'!$A$2:$A$206,FALSE),4))","v":""},null,""]
[null,null,null,null,null,{"$f":"IF(ISBLANK(C374),\"\",_xlfn.CONCAT(LEFT(C374,4),\"-\",LEFT(B374,4),COUNTIF($C$11:C374,C374)))","v":""},{"$f":"IF(ISBLANK(B374),\"\",INDEX('Est. Useful Life - HIDE SHEET'!$A$2:$D$206,MATCH(CONCATENATE(B374,C374),'Est. Useful Life - HIDE SHEET'!$A$2:$A$206,FALSE),4))","v":""},null,""]
[null,null,null,null,null,{"$f":"IF(ISBLANK(C375),\"\",_xlfn.CONCAT(LEFT(C375,4),\"-\",LEFT(B375,4),COUNTIF($C$11:C375,C375)))","v":""},{"$f":"IF(ISBLANK(B375),\"\",INDEX('Est. Useful Life - HIDE SHEET'!$A$2:$D$206,MATCH(CONCATENATE(B375,C375),'Est. Useful Life - HIDE SHEET'!$A$2:$A$206,FALSE),4))","v":""},null,""]
[null,null,null,null,null,{"$f":"IF(ISBLANK(C376),\"\",_xlfn.CONCAT(LEFT(C376,4),\"-\",LEFT(B376,4),COUNTIF($C$11:C376,C376)))","v":""},{"$f":"IF(ISBLANK(B376),\"\",INDEX('Est. Useful Life - HIDE SHEET'!$A$2:$D$206,MATCH(CONCATENATE(B376,C376),'Est. Useful Life - HIDE SHEET'!$A$2:$A$206,FALSE),4))","v":""},null,""]
[null,null,null,null,null,{"$f":"IF(ISBLANK(C377),\"\",_xlfn.CONCAT(LEFT(C377,4),\"-\",LEFT(B377,4),COUNTIF($C$11:C377,C377)))","v":""},{"$f":"IF(ISBLANK(B377),\"\",INDEX('Est. Useful Life - HIDE SHEET'!$A$2:$D$206,MATCH(CONCATENATE(B377,C377),'Est. Useful Life - HIDE SHEET'!$A$2:$A$206,FALSE),4))","v":""},null,""]
[null,null,null,null,null,{"$f":"IF(ISBLANK(C378),\"\",_xlfn.CONCAT(LEFT(C378,4),\"-\",LEFT(B378,4),COUNTIF($C$11:C378,C378)))","v":""},{"$f":"IF(ISBLANK(B378),\"\",INDEX('Est. Useful Life - HIDE SHEET'!$A$2:$D$206,MATCH(CONCATENATE(B378,C378),'Est. Useful Life - HIDE SHEET'!$A$2:$A$206,FALSE),4))","v":""},null,""]
[null,null,null,null,null,{"$f":"IF(ISBLANK(C379),\"\",_xlfn.CONCAT(LEFT(C379,4),\"-\",LEFT(B379,4),COUNTIF($C$11:C379,C379)))","v":""},{"$f":"IF(ISBLANK(B379),\"\",INDEX('Est. Useful Life - HIDE SHEET'!$A$2:$D$206,MATCH(CONCATENATE(B379,C379),'Est. Useful Life - HIDE SHEET'!$A$2:$A$206,FALSE),4))","v":""},null,""]
[null,null,null,null,null,{"$f":"IF(ISBLANK(C380),\"\",_xlfn.CONCAT(LEFT(C380,4),\"-\",LEFT(B380,4),COUNTIF($C$11:C380,C380)))","v":""},{"$f":"IF(ISBLANK(B380),\"\",INDEX('Est. Useful Life - HIDE SHEET'!$A$2:$D$206,MATCH(CONCATENATE(B380,C380),'Est. Useful Life - HIDE SHEET'!$A$2:$A$206,FALSE),4))","v":""},null,""]
[null,null,null,null,null,{"$f":"IF(ISBLANK(C381),\"\",_xlfn.CONCAT(LEFT(C381,4),\"-\",LEFT(B381,4),COUNTIF($C$11:C381,C381)))","v":""},{"$f":"IF(ISBLANK(B381),\"\",INDEX('Est. Useful Life - HIDE SHEET'!$A$2:$D$206,MATCH(CONCATENATE(B381,C381),'Est. Useful Life - HIDE SHEET'!$A$2:$A$206,FALSE),4))","v":""},null,""]
[null,null,null,null,null,{"$f":"IF(ISBLANK(C382),\"\",_xlfn.CONCAT(LEFT(C382,4),\"-\",LEFT(B382,4),COUNTIF($C$11:C382,C382)))","v":""},{"$f":"IF(ISBLANK(B382),\"\",INDEX('Est. Useful Life - HIDE SHEET'!$A$2:$D$206,MATCH(CONCATENATE(B382,C382),'Est. Useful Life - HIDE SHEET'!$A$2:$A$206,FALSE),4))","v":""},null,""]
[null,null,null,null,null,{"$f":"IF(ISBLANK(C383),\"\",_xlfn.CONCAT(LEFT(C383,4),\"-\",LEFT(B383,4),COUNTIF($C$11:C383,C383)))","v":""},{"$f":"IF(ISBLANK(B383),\"\",INDEX('Est. Useful Life - HIDE SHEET'!$A$2:$D$206,MATCH(CONCATENATE(B383,C383),'Est. Useful Life - HIDE SHEET'!$A$2:$A$206,FALSE),4))","v":""},null,""]
[null,null,null,null,null,{"$f":"IF(ISBLANK(C384),\"\",_xlfn.CONCAT(LEFT(C384,4),\"-\",LEFT(B384,4),COUNTIF($C$11:C384,C384)))","v":""},{"$f":"IF(ISBLANK(B384),\"\",INDEX('Est. Useful Life - HIDE SHEET'!$A$2:$D$206,MATCH(CONCATENATE(B384,C384),'Est. Useful Life - HIDE SHEET'!$A$2:$A$206,FALSE),4))","v":""},null,""]
[null,null,null,null,null,{"$f":"IF(ISBLANK(C385),\"\",_xlfn.CONCAT(LEFT(C385,4),\"-\",LEFT(B385,4),COUNTIF($C$11:C385,C385)))","v":""},{"$f":"IF(ISBLANK(B385),\"\",INDEX('Est. Useful Life - HIDE SHEET'!$A$2:$D$206,MATCH(CONCATENATE(B385,C385),'Est. Useful Life - HIDE SHEET'!$A$2:$A$206,FALSE),4))","v":""},null,""]
[null,null,null,null,null,{"$f":"IF(ISBLANK(C386),\"\",_xlfn.CONCAT(LEFT(C386,4),\"-\",LEFT(B386,4),COUNTIF($C$11:C386,C386)))","v":""},{"$f":"IF(ISBLANK(B386),\"\",INDEX('Est. Useful Life - HIDE SHEET'!$A$2:$D$206,MATCH(CONCATENATE(B386,C386),'Est. Useful Life - HIDE SHEET'!$A$2:$A$206,FALSE),4))","v":""},null,""]
[null,null,null,null,null,{"$f":"IF(ISBLANK(C387),\"\",_xlfn.CONCAT(LEFT(C387,4),\"-\",LEFT(B387,4),COUNTIF($C$11:C387,C387)))","v":""},{"$f":"IF(ISBLANK(B387),\"\",INDEX('Est. Useful Life - HIDE SHEET'!$A$2:$D$206,MATCH(CONCATENATE(B387,C387),'Est. Useful Life - HIDE SHEET'!$A$2:$A$206,FALSE),4))","v":""},null,""]
[null,null,null,null,null,{"$f":"IF(ISBLANK(C388),\"\",_xlfn.CONCAT(LEFT(C388,4),\"-\",LEFT(B388,4),COUNTIF($C$11:C388,C388)))","v":""},{"$f":"IF(ISBLANK(B388),\"\",INDEX('Est. Useful Life - HIDE SHEET'!$A$2:$D$206,MATCH(CONCATENATE(B388,C388),'Est. Useful Life - HIDE SHEET'!$A$2:$A$206,FALSE),4))","v":""},null,""]
[null,null,null,null,null,{"$f":"IF(ISBLANK(C389),\"\",_xlfn.CONCAT(LEFT(C389,4),\"-\",LEFT(B389,4),COUNTIF($C$11:C389,C389)))","v":""},{"$f":"IF(ISBLANK(B389),\"\",INDEX('Est. Useful Life - HIDE SHEET'!$A$2:$D$206,MATCH(CONCATENATE(B389,C389),'Est. Useful Life - HIDE SHEET'!$A$2:$A$206,FALSE),4))","v":""},null,""]
[null,null,null,null,null,{"$f":"IF(ISBLANK(C390),\"\",_xlfn.CONCAT(LEFT(C390,4),\"-\",LEFT(B390,4),COUNTIF($C$11:C390,C390)))","v":""},{"$f":"IF(ISBLANK(B390),\"\",INDEX('Est. Useful Life - HIDE SHEET'!$A$2:$D$206,MATCH(CONCATENATE(B390,C390),'Est. Useful Life - HIDE SHEET'!$A$2:$A$206,FALSE),4))","v":""},null,""]
[null,null,null,null,null,{"$f":"IF(ISBLANK(C391),\"\",_xlfn.CONCAT(LEFT(C391,4),\"-\",LEFT(B391,4),COUNTIF($C$11:C391,C391)))","v":""},{"$f":"IF(ISBLANK(B391),\"\",INDEX('Est. Useful Life - HIDE SHEET'!$A$2:$D$206,MATCH(CONCATENATE(B391,C391),'Est. Useful Life - HIDE SHEET'!$A$2:$A$206,FALSE),4))","v":""},null,""]
[null,null,null,null,null,{"$f":"IF(ISBLANK(C392),\"\",_xlfn.CONCAT(LEFT(C392,4),\"-\",LEFT(B392,4),COUNTIF($C$11:C392,C392)))","v":""},{"$f":"IF(ISBLANK(B392),\"\",INDEX('Est. Useful Life - HIDE SHEET'!$A$2:$D$206,MATCH(CONCATENATE(B392,C392),'Est. Useful Life - HIDE SHEET'!$A$2:$A$206,FALSE),4))","v":""},null,""]
[null,null,null,null,null,{"$f":"IF(ISBLANK(C393),\"\",_xlfn.CONCAT(LEFT(C393,4),\"-\",LEFT(B393,4),COUNTIF($C$11:C393,C393)))","v":""},{"$f":"IF(ISBLANK(B393),\"\",INDEX('Est. Useful Life - HIDE SHEET'!$A$2:$D$206,MATCH(CONCATENATE(B393,C393),'Est. Useful Life - HIDE SHEET'!$A$2:$A$206,FALSE),4))","v":""},null,""]
[null,null,null,null,null,{"$f":"IF(ISBLANK(C394),\"\",_xlfn.CONCAT(LEFT(C394,4),\"-\",LEFT(B394,4),COUNTIF($C$11:C394,C394)))","v":""},{"$f":"IF(ISBLANK(B394),\"\",INDEX('Est. Useful Life - HIDE SHEET'!$A$2:$D$206,MATCH(CONCATENATE(B394,C394),'Est. Useful Life - HIDE SHEET'!$A$2:$A$206,FALSE),4))","v":""},null,""]
[null,null,null,null,null,{"$f":"IF(ISBLANK(C395),\"\",_xlfn.CONCAT(LEFT(C395,4),\"-\",LEFT(B395,4),COUNTIF($C$11:C395,C395)))","v":""},{"$f":"IF(ISBLANK(B395),\"\",INDEX('Est. Useful Life - HIDE SHEET'!$A$2:$D$206,MATCH(CONCATENATE(B395,C395),'Est. Useful Life - HIDE SHEET'!$A$2:$A$206,FALSE),4))","v":""},null,""]
[null,null,null,null,null,{"$f":"IF(ISBLANK(C396),\"\",_xlfn.CONCAT(LEFT(C396,4),\"-\",LEFT(B396,4),COUNTIF($C$11:C396,C396)))","v":""},{"$f":"IF(ISBLANK(B396),\"\",INDEX('Est. Useful Life - HIDE SHEET'!$A$2:$D$206,MATCH(CONCATENATE(B396,C396),'Est. Useful Life - HIDE SHEET'!$A$2:$A$206,FALSE),4))","v":""},null,""]
[null,null,null,null,null,{"$f":"IF(ISBLANK(C397),\"\",_xlfn.CONCAT(LEFT(C397,4),\"-\",LEFT(B397,4),COUNTIF($C$11:C397,C397)))","v":""},{"$f":"IF(ISBLANK(B397),\"\",INDEX('Est. Useful Life - HIDE SHEET'!$A$2:$D$206,MATCH(CONCATENATE(B397,C397),'Est. Useful Life - HIDE SHEET'!$A$2:$A$206,FALSE),4))","v":""},null,""]
[null,null,null,null,null,{"$f":"IF(ISBLANK(C398),\"\",_xlfn.CONCAT(LEFT(C398,4),\"-\",LEFT(B398,4),COUNTIF($C$11:C398,C398)))","v":""},{"$f":"IF(ISBLANK(B398),\"\",INDEX('Est. Useful Life - HIDE SHEET'!$A$2:$D$206,MATCH(CONCATENATE(B398,C398),'Est. Useful Life - HIDE SHEET'!$A$2:$A$206,FALSE),4))","v":""},null,""]
[null,null,null,null,null,{"$f":"IF(ISBLANK(C399),\"\",_xlfn.CONCAT(LEFT(C399,4),\"-\",LEFT(B399,4),COUNTIF($C$11:C399,C399)))","v":""},{"$f":"IF(ISBLANK(B399),\"\",INDEX('Est. Useful Life - HIDE SHEET'!$A$2:$D$206,MATCH(CONCATENATE(B399,C399),'Est. Useful Life - HIDE SHEET'!$A$2:$A$206,FALSE),4))","v":""},null,""]
[null,null,null,null,null,{"$f":"IF(ISBLANK(C400),\"\",_xlfn.CONCAT(LEFT(C400,4),\"-\",LEFT(B400,4),COUNTIF($C$11:C400,C400)))","v":""},{"$f":"IF(ISBLANK(B400),\"\",INDEX('Est. Useful Life - HIDE SHEET'!$A$2:$D$206,MATCH(CONCATENATE(B400,C400),'Est. Useful Life - HIDE SHEET'!$A$2:$A$206,FALSE),4))","v":""},null,""]
[null,null,null,null,null,{"$f":"IF(ISBLANK(C401),\"\",_xlfn.CONCAT(LEFT(C401,4),\"-\",LEFT(B401,4),COUNTIF($C$11:C401,C401)))","v":""},{"$f":"IF(ISBLANK(B401),\"\",INDEX('Est. Useful Life - HIDE SHEET'!$A$2:$D$206,MATCH(CONCATENATE(B401,C401),'Est. Useful Life - HIDE SHEET'!$A$2:$A$206,FALSE),4))","v":""},null,""]
[null,null,null,null,null,{"$f":"IF(ISBLANK(C402),\"\",_xlfn.CONCAT(LEFT(C402,4),\"-\",LEFT(B402,4),COUNTIF($C$11:C402,C402)))","v":""},{"$f":"IF(ISBLANK(B402),\"\",INDEX('Est. Useful Life - HIDE SHEET'!$A$2:$D$206,MATCH(CONCATENATE(B402,C402),'Est. Useful Life - HIDE SHEET'!$A$2:$A$206,FALSE),4))","v":""},null,{"$f":"IF(ISNUMBER(G402),IF(ISNUMBER(H402),IF((G402-(INT((TODAY()-H402)/365)))<0,0,G402-(INT((TODAY()-H402)/365))),\"\"),\"\")","v":""}]
[null,null,null,null,null,{"$f":"IF(ISBLANK(C403),\"\",_xlfn.CONCAT(LEFT(C403,4),\"-\",LEFT(B403,4),COUNTIF($C$11:C403,C403)))","v":""},{"$f":"IF(ISBLANK(B403),\"\",INDEX('Est. Useful Life - HIDE SHEET'!$A$2:$D$206,MATCH(CONCATENATE(B403,C403),'Est. Useful Life - HIDE SHEET'!$A$2:$A$206,FALSE),4))","v":""},null,""]
[null,null,null,null,null,{"$f":"IF(ISBLANK(C404),\"\",_xlfn.CONCAT(LEFT(C404,4),\"-\",LEFT(B404,4),COUNTIF($C$11:C404,C404)))","v":""},{"$f":"IF(ISBLANK(B404),\"\",INDEX('Est. Useful Life - HIDE SHEET'!$A$2:$D$206,MATCH(CONCATENATE(B404,C404),'Est. Useful Life - HIDE SHEET'!$A$2:$A$206,FALSE),4))","v":""},null,""]
[null,null,null,null,null,{"$f":"IF(ISBLANK(C405),\"\",_xlfn.CONCAT(LEFT(C405,4),\"-\",LEFT(B405,4),COUNTIF($C$11:C405,C405)))","v":""},{"$f":"IF(ISBLANK(B405),\"\",INDEX('Est. Useful Life - HIDE SHEET'!$A$2:$D$206,MATCH(CONCATENATE(B405,C405),'Est. Useful Life - HIDE SHEET'!$A$2:$A$206,FALSE),4))","v":""},null,""]
[null,null,null,null,null,{"$f":"IF(ISBLANK(C406),\"\",_xlfn.CONCAT(LEFT(C406,4),\"-\",LEFT(B406,4),COUNTIF($C$11:C406,C406)))","v":""},{"$f":"IF(ISBLANK(B406),\"\",INDEX('Est. Useful Life - HIDE SHEET'!$A$2:$D$206,MATCH(CONCATENATE(B406,C406),'Est. Useful Life - HIDE SHEET'!$A$2:$A$206,FALSE),4))","v":""},null,""]
[null,null,null,null,null,{"$f":"IF(ISBLANK(C407),\"\",_xlfn.CONCAT(LEFT(C407,4),\"-\",LEFT(B407,4),COUNTIF($C$11:C407,C407)))","v":""},{"$f":"IF(ISBLANK(B407),\"\",INDEX('Est. Useful Life - HIDE SHEET'!$A$2:$D$206,MATCH(CONCATENATE(B407,C407),'Est. Useful Life - HIDE SHEET'!$A$2:$A$206,FALSE),4))","v":""},null,""]
[null,null,null,null,null,{"$f":"IF(ISBLANK(C408),\"\",_xlfn.CONCAT(LEFT(C408,4),\"-\",LEFT(B408,4),COUNTIF($C$11:C408,C408)))","v":""},{"$f":"IF(ISBLANK(B408),\"\",INDEX('Est. Useful Life - HIDE SHEET'!$A$2:$D$206,MATCH(CONCATENATE(B408,C408),'Est. Useful Life - HIDE SHEET'!$A$2:$A$206,FALSE),4))","v":""},null,""]
[null,null,null,null,null,{"$f":"IF(ISBLANK(C409),\"\",_xlfn.CONCAT(LEFT(C409,4),\"-\",LEFT(B409,4),COUNTIF($C$11:C409,C409)))","v":""},{"$f":"IF(ISBLANK(B409),\"\",INDEX('Est. Useful Life - HIDE SHEET'!$A$2:$D$206,MATCH(CONCATENATE(B409,C409),'Est. Useful Life - HIDE SHEET'!$A$2:$A$206,FALSE),4))","v":""},null,""]
[null,null,null,null,null,{"$f":"IF(ISBLANK(C410),\"\",_xlfn.CONCAT(LEFT(C410,4),\"-\",LEFT(B410,4),COUNTIF($C$11:C410,C410)))","v":""},{"$f":"IF(ISBLANK(B410),\"\",INDEX('Est. Useful Life - HIDE SHEET'!$A$2:$D$206,MATCH(CONCATENATE(B410,C410),'Est. Useful Life - HIDE SHEET'!$A$2:$A$206,FALSE),4))","v":""},null,""]
[null,null,null,null,null,{"$f":"IF(ISBLANK(C411),\"\",_xlfn.CONCAT(LEFT(C411,4),\"-\",LEFT(B411,4),COUNTIF($C$11:C411,C411)))","v":""},{"$f":"IF(ISBLANK(B411),\"\",INDEX('Est. Useful Life - HIDE SHEET'!$A$2:$D$206,MATCH(CONCATENATE(B411,C411),'Est. Useful Life - HIDE SHEET'!$A$2:$A$206,FALSE),4))","v":""},null,""]
[null,null,null,null,null,{"$f":"IF(ISBLANK(C412),\"\",_xlfn.CONCAT(LEFT(C412,4),\"-\",LEFT(B412,4),COUNTIF($C$11:C412,C412)))","v":""},{"$f":"IF(ISBLANK(B412),\"\",INDEX('Est. Useful Life - HIDE SHEET'!$A$2:$D$206,MATCH(CONCATENATE(B412,C412),'Est. Useful Life - HIDE SHEET'!$A$2:$A$206,FALSE),4))","v":""},null,""]
[null,null,null,null,null,{"$f":"IF(ISBLANK(C413),\"\",_xlfn.CONCAT(LEFT(C413,4),\"-\",LEFT(B413,4),COUNTIF($C$11:C413,C413)))","v":""},{"$f":"IF(ISBLANK(B413),\"\",INDEX('Est. Useful Life - HIDE SHEET'!$A$2:$D$206,MATCH(CONCATENATE(B413,C413),'Est. Useful Life - HIDE SHEET'!$A$2:$A$206,FALSE),4))","v":""},null,""]
[null,null,null,null,null,{"$f":"IF(ISBLANK(C414),\"\",_xlfn.CONCAT(LEFT(C414,4),\"-\",LEFT(B414,4),COUNTIF($C$11:C414,C414)))","v":""},{"$f":"IF(ISBLANK(B414),\"\",INDEX('Est. Useful Life - HIDE SHEET'!$A$2:$D$206,MATCH(CONCATENATE(B414,C414),'Est. Useful Life - HIDE SHEET'!$A$2:$A$206,FALSE),4))","v":""},null,""]
[null,null,null,null,null,{"$f":"IF(ISBLANK(C415),\"\",_xlfn.CONCAT(LEFT(C415,4),\"-\",LEFT(B415,4),COUNTIF($C$11:C415,C415)))","v":""},{"$f":"IF(ISBLANK(B415),\"\",INDEX('Est. Useful Life - HIDE SHEET'!$A$2:$D$206,MATCH(CONCATENATE(B415,C415),'Est. Useful Life - HIDE SHEET'!$A$2:$A$206,FALSE),4))","v":""},null,""]
[null,null,null,null,null,{"$f":"IF(ISBLANK(C416),\"\",_xlfn.CONCAT(LEFT(C416,4),\"-\",LEFT(B416,4),COUNTIF($C$11:C416,C416)))","v":""},{"$f":"IF(ISBLANK(B416),\"\",INDEX('Est. Useful Life - HIDE SHEET'!$A$2:$D$206,MATCH(CONCATENATE(B416,C416),'Est. Useful Life - HIDE SHEET'!$A$2:$A$206,FALSE),4))","v":""},null,""]
[null,null,null,null,null,{"$f":"IF(ISBLANK(C417),\"\",_xlfn.CONCAT(LEFT(C417,4),\"-\",LEFT(B417,4),COUNTIF($C$11:C417,C417)))","v":""},{"$f":"IF(ISBLANK(B417),\"\",INDEX('Est. Useful Life - HIDE SHEET'!$A$2:$D$206,MATCH(CONCATENATE(B417,C417),'Est. Useful Life - HIDE SHEET'!$A$2:$A$206,FALSE),4))","v":""},null,""]
[null,null,null,null,null,{"$f":"IF(ISBLANK(C418),\"\",_xlfn.CONCAT(LEFT(C418,4),\"-\",LEFT(B418,4),COUNTIF($C$11:C418,C418)))","v":""},{"$f":"IF(ISBLANK(B418),\"\",INDEX('Est. Useful Life - HIDE SHEET'!$A$2:$D$206,MATCH(CONCATENATE(B418,C418),'Est. Useful Life - HIDE SHEET'!$A$2:$A$206,FALSE),4))","v":""},null,""]
[null,null,null,null,null,{"$f":"IF(ISBLANK(C419),\"\",_xlfn.CONCAT(LEFT(C419,4),\"-\",LEFT(B419,4),COUNTIF($C$11:C419,C419)))","v":""},{"$f":"IF(ISBLANK(B419),\"\",INDEX('Est. Useful Life - HIDE SHEET'!$A$2:$D$206,MATCH(CONCATENATE(B419,C419),'Est. Useful Life - HIDE SHEET'!$A$2:$A$206,FALSE),4))","v":""},null,""]
[null,null,null,null,null,{"$f":"IF(ISBLANK(C420),\"\",_xlfn.CONCAT(LEFT(C420,4),\"-\",LEFT(B420,4),COUNTIF($C$11:C420,C420)))","v":""},{"$f":"IF(ISBLANK(B420),\"\",INDEX('Est. Useful Life - HIDE SHEET'!$A$2:$D$206,MATCH(CONCATENATE(B420,C420),'Est. Useful Life - HIDE SHEET'!$A$2:$A$206,FALSE),4))","v":""},null,""]
[null,null,null,null,null,{"$f":"IF(ISBLANK(C421),\"\",_xlfn.CONCAT(LEFT(C421,4),\"-\",LEFT(B421,4),COUNTIF($C$11:C421,C421)))","v":""},{"$f":"IF(ISBLANK(B421),\"\",INDEX('Est. Useful Life - HIDE SHEET'!$A$2:$D$206,MATCH(CONCATENATE(B421,C421),'Est. Useful Life - HIDE SHEET'!$A$2:$A$206,FALSE),4))","v":""},null,""]
[null,null,null,null,null,{"$f":"IF(ISBLANK(C422),\"\",_xlfn.CONCAT(LEFT(C422,4),\"-\",LEFT(B422,4),COUNTIF($C$11:C422,C422)))","v":""},{"$f":"IF(ISBLANK(B422),\"\",INDEX('Est. Useful Life - HIDE SHEET'!$A$2:$D$206,MATCH(CONCATENATE(B422,C422),'Est. Useful Life - HIDE SHEET'!$A$2:$A$206,FALSE),4))","v":""},null,""]
[null,null,null,null,null,{"$f":"IF(ISBLANK(C423),\"\",_xlfn.CONCAT(LEFT(C423,4),\"-\",LEFT(B423,4),COUNTIF($C$11:C423,C423)))","v":""},{"$f":"IF(ISBLANK(B423),\"\",INDEX('Est. Useful Life - HIDE SHEET'!$A$2:$D$206,MATCH(CONCATENATE(B423,C423),'Est. Useful Life - HIDE SHEET'!$A$2:$A$206,FALSE),4))","v":""},null,""]
[null,null,null,null,null,{"$f":"IF(ISBLANK(C424),\"\",_xlfn.CONCAT(LEFT(C424,4),\"-\",LEFT(B424,4),COUNTIF($C$11:C424,C424)))","v":""},{"$f":"IF(ISBLANK(B424),\"\",INDEX('Est. Useful Life - HIDE SHEET'!$A$2:$D$206,MATCH(CONCATENATE(B424,C424),'Est. Useful Life - HIDE SHEET'!$A$2:$A$206,FALSE),4))","v":""},null,""]
[null,null,null,null,null,{"$f":"IF(ISBLANK(C425),\"\",_xlfn.CONCAT(LEFT(C425,4),\"-\",LEFT(B425,4),COUNTIF($C$11:C425,C425)))","v":""},{"$f":"IF(ISBLANK(B425),\"\",INDEX('Est. Useful Life - HIDE SHEET'!$A$2:$D$206,MATCH(CONCATENATE(B425,C425),'Est. Useful Life - HIDE SHEET'!$A$2:$A$206,FALSE),4))","v":""},null,""]
[null,null,null,null,null,{"$f":"IF(ISBLANK(C426),\"\",_xlfn.CONCAT(LEFT(C426,4),\"-\",LEFT(B426,4),COUNTIF($C$11:C426,C426)))","v":""},{"$f":"IF(ISBLANK(B426),\"\",INDEX('Est. Useful Life - HIDE SHEET'!$A$2:$D$206,MATCH(CONCATENATE(B426,C426),'Est. Useful Life - HIDE SHEET'!$A$2:$A$206,FALSE),4))","v":""},null,""]
[null,null,null,null,null,{"$f":"IF(ISBLANK(C427),\"\",_xlfn.CONCAT(LEFT(C427,4),\"-\",LEFT(B427,4),COUNTIF($C$11:C427,C427)))","v":""},{"$f":"IF(ISBLANK(B427),\"\",INDEX('Est. Useful Life - HIDE SHEET'!$A$2:$D$206,MATCH(CONCATENATE(B427,C427),'Est. Useful Life - HIDE SHEET'!$A$2:$A$206,FALSE),4))","v":""},null,""]
[null,null,null,null,null,{"$f":"IF(ISBLANK(C428),\"\",_xlfn.CONCAT(LEFT(C428,4),\"-\",LEFT(B428,4),COUNTIF($C$11:C428,C428)))","v":""},{"$f":"IF(ISBLANK(B428),\"\",INDEX('Est. Useful Life - HIDE SHEET'!$A$2:$D$206,MATCH(CONCATENATE(B428,C428),'Est. Useful Life - HIDE SHEET'!$A$2:$A$206,FALSE),4))","v":""},null,""]
[null,null,null,null,null,{"$f":"IF(ISBLANK(C429),\"\",_xlfn.CONCAT(LEFT(C429,4),\"-\",LEFT(B429,4),COUNTIF($C$11:C429,C429)))","v":""},{"$f":"IF(ISBLANK(B429),\"\",INDEX('Est. Useful Life - HIDE SHEET'!$A$2:$D$206,MATCH(CONCATENATE(B429,C429),'Est. Useful Life - HIDE SHEET'!$A$2:$A$206,FALSE),4))","v":""},null,""]
[null,null,null,null,null,{"$f":"IF(ISBLANK(C430),\"\",_xlfn.CONCAT(LEFT(C430,4),\"-\",LEFT(B430,4),COUNTIF($C$11:C430,C430)))","v":""},{"$f":"IF(ISBLANK(B430),\"\",INDEX('Est. Useful Life - HIDE SHEET'!$A$2:$D$206,MATCH(CONCATENATE(B430,C430),'Est. Useful Life - HIDE SHEET'!$A$2:$A$206,FALSE),4))","v":""},null,""]
[null,null,null,null,null,{"$f":"IF(ISBLANK(C431),\"\",_xlfn.CONCAT(LEFT(C431,4),\"-\",LEFT(B431,4),COUNTIF($C$11:C431,C431)))","v":""},{"$f":"IF(ISBLANK(B431),\"\",INDEX('Est. Useful Life - HIDE SHEET'!$A$2:$D$206,MATCH(CONCATENATE(B431,C431),'Est. Useful Life - HIDE SHEET'!$A$2:$A$206,FALSE),4))","v":""},null,""]
[null,null,null,null,null,{"$f":"IF(ISBLANK(C432),\"\",_xlfn.CONCAT(LEFT(C432,4),\"-\",LEFT(B432,4),COUNTIF($C$11:C432,C432)))","v":""},{"$f":"IF(ISBLANK(B432),\"\",INDEX('Est. Useful Life - HIDE SHEET'!$A$2:$D$206,MATCH(CONCATENATE(B432,C432),'Est. Useful Life - HIDE SHEET'!$A$2:$A$206,FALSE),4))","v":""},null,""]
[null,null,null,null,null,{"$f":"IF(ISBLANK(C433),\"\",_xlfn.CONCAT(LEFT(C433,4),\"-\",LEFT(B433,4),COUNTIF($C$11:C433,C433)))","v":""},{"$f":"IF(ISBLANK(B433),\"\",INDEX('Est. Useful Life - HIDE SHEET'!$A$2:$D$206,MATCH(CONCATENATE(B433,C433),'Est. Useful Life - HIDE SHEET'!$A$2:$A$206,FALSE),4))","v":""},null,""]
[null,null,null,null,null,{"$f":"IF(ISBLANK(C434),\"\",_xlfn.CONCAT(LEFT(C434,4),\"-\",LEFT(B434,4),COUNTIF($C$11:C434,C434)))","v":""},{"$f":"IF(ISBLANK(B434),\"\",INDEX('Est. Useful Life - HIDE SHEET'!$A$2:$D$206,MATCH(CONCATENATE(B434,C434),'Est. Useful Life - HIDE SHEET'!$A$2:$A$206,FALSE),4))","v":""},null,""]
[null,null,null,null,null,{"$f":"IF(ISBLANK(C435),\"\",_xlfn.CONCAT(LEFT(C435,4),\"-\",LEFT(B435,4),COUNTIF($C$11:C435,C435)))","v":""},{"$f":"IF(ISBLANK(B435),\"\",INDEX('Est. Useful Life - HIDE SHEET'!$A$2:$D$206,MATCH(CONCATENATE(B435,C435),'Est. Useful Life - HIDE SHEET'!$A$2:$A$206,FALSE),4))","v":""},null,""]
[null,null,null,null,null,{"$f":"IF(ISBLANK(C436),\"\",_xlfn.CONCAT(LEFT(C436,4),\"-\",LEFT(B436,4),COUNTIF($C$11:C436,C436)))","v":""},{"$f":"IF(ISBLANK(B436),\"\",INDEX('Est. Useful Life - HIDE SHEET'!$A$2:$D$206,MATCH(CONCATENATE(B436,C436),'Est. Useful Life - HIDE SHEET'!$A$2:$A$206,FALSE),4))","v":""},null,""]
[null,null,null,null,null,{"$f":"IF(ISBLANK(C437),\"\",_xlfn.CONCAT(LEFT(C437,4),\"-\",LEFT(B437,4),COUNTIF($C$11:C437,C437)))","v":""},{"$f":"IF(ISBLANK(B437),\"\",INDEX('Est. Useful Life - HIDE SHEET'!$A$2:$D$206,MATCH(CONCATENATE(B437,C437),'Est. Useful Life - HIDE SHEET'!$A$2:$A$206,FALSE),4))","v":""},null,""]
[null,null,null,null,null,{"$f":"IF(ISBLANK(C438),\"\",_xlfn.CONCAT(LEFT(C438,4),\"-\",LEFT(B438,4),COUNTIF($C$11:C438,C438)))","v":""},{"$f":"IF(ISBLANK(B438),\"\",INDEX('Est. Useful Life - HIDE SHEET'!$A$2:$D$206,MATCH(CONCATENATE(B438,C438),'Est. Useful Life - HIDE SHEET'!$A$2:$A$206,FALSE),4))","v":""},null,""]
[null,null,null,null,null,{"$f":"IF(ISBLANK(C439),\"\",_xlfn.CONCAT(LEFT(C439,4),\"-\",LEFT(B439,4),COUNTIF($C$11:C439,C439)))","v":""},{"$f":"IF(ISBLANK(B439),\"\",INDEX('Est. Useful Life - HIDE SHEET'!$A$2:$D$206,MATCH(CONCATENATE(B439,C439),'Est. Useful Life - HIDE SHEET'!$A$2:$A$206,FALSE),4))","v":""},null,""]
[null,null,null,null,null,{"$f":"IF(ISBLANK(C440),\"\",_xlfn.CONCAT(LEFT(C440,4),\"-\",LEFT(B440,4),COUNTIF($C$11:C440,C440)))","v":""},{"$f":"IF(ISBLANK(B440),\"\",INDEX('Est. Useful Life - HIDE SHEET'!$A$2:$D$206,MATCH(CONCATENATE(B440,C440),'Est. Useful Life - HIDE SHEET'!$A$2:$A$206,FALSE),4))","v":""},null,""]
[null,null,null,null,null,{"$f":"IF(ISBLANK(C441),\"\",_xlfn.CONCAT(LEFT(C441,4),\"-\",LEFT(B441,4),COUNTIF($C$11:C441,C441)))","v":""},{"$f":"IF(ISBLANK(B441),\"\",INDEX('Est. Useful Life - HIDE SHEET'!$A$2:$D$206,MATCH(CONCATENATE(B441,C441),'Est. Useful Life - HIDE SHEET'!$A$2:$A$206,FALSE),4))","v":""},null,""]
[null,null,null,null,null,{"$f":"IF(ISBLANK(C442),\"\",_xlfn.CONCAT(LEFT(C442,4),\"-\",LEFT(B442,4),COUNTIF($C$11:C442,C442)))","v":""},{"$f":"IF(ISBLANK(B442),\"\",INDEX('Est. Useful Life - HIDE SHEET'!$A$2:$D$206,MATCH(CONCATENATE(B442,C442),'Est. Useful Life - HIDE SHEET'!$A$2:$A$206,FALSE),4))","v":""},null,""]
[null,null,null,null,null,{"$f":"IF(ISBLANK(C443),\"\",_xlfn.CONCAT(LEFT(C443,4),\"-\",LEFT(B443,4),COUNTIF($C$11:C443,C443)))","v":""},{"$f":"IF(ISBLANK(B443),\"\",INDEX('Est. Useful Life - HIDE SHEET'!$A$2:$D$206,MATCH(CONCATENATE(B443,C443),'Est. Useful Life - HIDE SHEET'!$A$2:$A$206,FALSE),4))","v":""},null,""]
[null,null,null,null,null,{"$f":"IF(ISBLANK(C444),\"\",_xlfn.CONCAT(LEFT(C444,4),\"-\",LEFT(B444,4),COUNTIF($C$11:C444,C444)))","v":""},{"$f":"IF(ISBLANK(B444),\"\",INDEX('Est. Useful Life - HIDE SHEET'!$A$2:$D$206,MATCH(CONCATENATE(B444,C444),'Est. Useful Life - HIDE SHEET'!$A$2:$A$206,FALSE),4))","v":""},null,""]
[null,null,null,null,null,{"$f":"IF(ISBLANK(C445),\"\",_xlfn.CONCAT(LEFT(C445,4),\"-\",LEFT(B445,4),COUNTIF($C$11:C445,C445)))","v":""},{"$f":"IF(ISBLANK(B445),\"\",INDEX('Est. Useful Life - HIDE SHEET'!$A$2:$D$206,MATCH(CONCATENATE(B445,C445),'Est. Useful Life - HIDE SHEET'!$A$2:$A$206,FALSE),4))","v":""},null,""]
[null,null,null,null,null,{"$f":"IF(ISBLANK(C446),\"\",_xlfn.CONCAT(LEFT(C446,4),\"-\",LEFT(B446,4),COUNTIF($C$11:C446,C446)))","v":""},{"$f":"IF(ISBLANK(B446),\"\",INDEX('Est. Useful Life - HIDE SHEET'!$A$2:$D$206,MATCH(CONCATENATE(B446,C446),'Est. Useful Life - HIDE SHEET'!$A$2:$A$206,FALSE),4))","v":""},null,""]
[null,null,null,null,null,{"$f":"IF(ISBLANK(C447),\"\",_xlfn.CONCAT(LEFT(C447,4),\"-\",LEFT(B447,4),COUNTIF($C$11:C447,C447)))","v":""},{"$f":"IF(ISBLANK(B447),\"\",INDEX('Est. Useful Life - HIDE SHEET'!$A$2:$D$206,MATCH(CONCATENATE(B447,C447),'Est. Useful Life - HIDE SHEET'!$A$2:$A$206,FALSE),4))","v":""},null,""]
[null,null,null,null,null,{"$f":"IF(ISBLANK(C448),\"\",_xlfn.CONCAT(LEFT(C448,4),\"-\",LEFT(B448,4),COUNTIF($C$11:C448,C448)))","v":""},{"$f":"IF(ISBLANK(B448),\"\",INDEX('Est. Useful Life - HIDE SHEET'!$A$2:$D$206,MATCH(CONCATENATE(B448,C448),'Est. Useful Life - HIDE SHEET'!$A$2:$A$206,FALSE),4))","v":""},null,""]
[null,null,null,null,null,{"$f":"IF(ISBLANK(C449),\"\",_xlfn.CONCAT(LEFT(C449,4),\"-\",LEFT(B449,4),COUNTIF($C$11:C449,C449)))","v":""},{"$f":"IF(ISBLANK(B449),\"\",INDEX('Est. Useful Life - HIDE SHEET'!$A$2:$D$206,MATCH(CONCATENATE(B449,C449),'Est. Useful Life - HIDE SHEET'!$A$2:$A$206,FALSE),4))","v":""},null,""]
[null,null,null,null,null,{"$f":"IF(ISBLANK(C450),\"\",_xlfn.CONCAT(LEFT(C450,4),\"-\",LEFT(B450,4),COUNTIF($C$11:C450,C450)))","v":""},{"$f":"IF(ISBLANK(B450),\"\",INDEX('Est. Useful Life - HIDE SHEET'!$A$2:$D$206,MATCH(CONCATENATE(B450,C450),'Est. Useful Life - HIDE SHEET'!$A$2:$A$206,FALSE),4))","v":""},null,""]
[null,null,null,null,null,{"$f":"IF(ISBLANK(C451),\"\",_xlfn.CONCAT(LEFT(C451,4),\"-\",LEFT(B451,4),COUNTIF($C$11:C451,C451)))","v":""},{"$f":"IF(ISBLANK(B451),\"\",INDEX('Est. Useful Life - HIDE SHEET'!$A$2:$D$206,MATCH(CONCATENATE(B451,C451),'Est. Useful Life - HIDE SHEET'!$A$2:$A$206,FALSE),4))","v":""},null,""]
[null,null,null,null,null,{"$f":"IF(ISBLANK(C452),\"\",_xlfn.CONCAT(LEFT(C452,4),\"-\",LEFT(B452,4),COUNTIF($C$11:C452,C452)))","v":""},{"$f":"IF(ISBLANK(B452),\"\",INDEX('Est. Useful Life - HIDE SHEET'!$A$2:$D$206,MATCH(CONCATENATE(B452,C452),'Est. Useful Life - HIDE SHEET'!$A$2:$A$206,FALSE),4))","v":""},null,""]
[null,null,null,null,null,{"$f":"IF(ISBLANK(C453),\"\",_xlfn.CONCAT(LEFT(C453,4),\"-\",LEFT(B453,4),COUNTIF($C$11:C453,C453)))","v":""},{"$f":"IF(ISBLANK(B453),\"\",INDEX('Est. Useful Life - HIDE SHEET'!$A$2:$D$206,MATCH(CONCATENATE(B453,C453),'Est. Useful Life - HIDE SHEET'!$A$2:$A$206,FALSE),4))","v":""},null,""]
[null,null,null,null,null,{"$f":"IF(ISBLANK(C454),\"\",_xlfn.CONCAT(LEFT(C454,4),\"-\",LEFT(B454,4),COUNTIF($C$11:C454,C454)))","v":""},{"$f":"IF(ISBLANK(B454),\"\",INDEX('Est. Useful Life - HIDE SHEET'!$A$2:$D$206,MATCH(CONCATENATE(B454,C454),'Est. Useful Life - HIDE SHEET'!$A$2:$A$206,FALSE),4))","v":""},null,""]
[null,null,null,null,null,{"$f":"IF(ISBLANK(C455),\"\",_xlfn.CONCAT(LEFT(C455,4),\"-\",LEFT(B455,4),COUNTIF($C$11:C455,C455)))","v":""},{"$f":"IF(ISBLANK(B455),\"\",INDEX('Est. Useful Life - HIDE SHEET'!$A$2:$D$206,MATCH(CONCATENATE(B455,C455),'Est. Useful Life - HIDE SHEET'!$A$2:$A$206,FALSE),4))","v":""},null,""]
[null,null,null,null,null,{"$f":"IF(ISBLANK(C456),\"\",_xlfn.CONCAT(LEFT(C456,4),\"-\",LEFT(B456,4),COUNTIF($C$11:C456,C456)))","v":""},{"$f":"IF(ISBLANK(B456),\"\",INDEX('Est. Useful Life - HIDE SHEET'!$A$2:$D$206,MATCH(CONCATENATE(B456,C456),'Est. Useful Life - HIDE SHEET'!$A$2:$A$206,FALSE),4))","v":""},null,""]
[null,null,null,null,null,{"$f":"IF(ISBLANK(C457),\"\",_xlfn.CONCAT(LEFT(C457,4),\"-\",LEFT(B457,4),COUNTIF($C$11:C457,C457)))","v":""},{"$f":"IF(ISBLANK(B457),\"\",INDEX('Est. Useful Life - HIDE SHEET'!$A$2:$D$206,MATCH(CONCATENATE(B457,C457),'Est. Useful Life - HIDE SHEET'!$A$2:$A$206,FALSE),4))","v":""},null,""]
[null,null,null,null,null,{"$f":"IF(ISBLANK(C458),\"\",_xlfn.CONCAT(LEFT(C458,4),\"-\",LEFT(B458,4),COUNTIF($C$11:C458,C458)))","v":""},{"$f":"IF(ISBLANK(B458),\"\",INDEX('Est. Useful Life - HIDE SHEET'!$A$2:$D$206,MATCH(CONCATENATE(B458,C458),'Est. Useful Life - HIDE SHEET'!$A$2:$A$206,FALSE),4))","v":""},null,""]
[null,null,null,null,null,{"$f":"IF(ISBLANK(C459),\"\",_xlfn.CONCAT(LEFT(C459,4),\"-\",LEFT(B459,4),COUNTIF($C$11:C459,C459)))","v":""},{"$f":"IF(ISBLANK(B459),\"\",INDEX('Est. Useful Life - HIDE SHEET'!$A$2:$D$206,MATCH(CONCATENATE(B459,C459),'Est. Useful Life - HIDE SHEET'!$A$2:$A$206,FALSE),4))","v":""},null,""]
[null,null,null,null,null,{"$f":"IF(ISBLANK(C460),\"\",_xlfn.CONCAT(LEFT(C460,4),\"-\",LEFT(B460,4),COUNTIF($C$11:C460,C460)))","v":""},{"$f":"IF(ISBLANK(B460),\"\",INDEX('Est. Useful Life - HIDE SHEET'!$A$2:$D$206,MATCH(CONCATENATE(B460,C460),'Est. Useful Life - HIDE SHEET'!$A$2:$A$206,FALSE),4))","v":""},null,""]
[null,null,null,null,null,{"$f":"IF(ISBLANK(C461),\"\",_xlfn.CONCAT(LEFT(C461,4),\"-\",LEFT(B461,4),COUNTIF($C$11:C461,C461)))","v":""},{"$f":"IF(ISBLANK(B461),\"\",INDEX('Est. Useful Life - HIDE SHEET'!$A$2:$D$206,MATCH(CONCATENATE(B461,C461),'Est. Useful Life - HIDE SHEET'!$A$2:$A$206,FALSE),4))","v":""},null,""]
[null,null,null,null,null,{"$f":"IF(ISBLANK(C462),\"\",_xlfn.CONCAT(LEFT(C462,4),\"-\",LEFT(B462,4),COUNTIF($C$11:C462,C462)))","v":""},{"$f":"IF(ISBLANK(B462),\"\",INDEX('Est. Useful Life - HIDE SHEET'!$A$2:$D$206,MATCH(CONCATENATE(B462,C462),'Est. Useful Life - HIDE SHEET'!$A$2:$A$206,FALSE),4))","v":""},null,""]
[null,null,null,null,null,{"$f":"IF(ISBLANK(C463),\"\",_xlfn.CONCAT(LEFT(C463,4),\"-\",LEFT(B463,4),COUNTIF($C$11:C463,C463)))","v":""},{"$f":"IF(ISBLANK(B463),\"\",INDEX('Est. Useful Life - HIDE SHEET'!$A$2:$D$206,MATCH(CONCATENATE(B463,C463),'Est. Useful Life - HIDE SHEET'!$A$2:$A$206,FALSE),4))","v":""},null,""]
[null,null,null,null,null,{"$f":"IF(ISBLANK(C464),\"\",_xlfn.CONCAT(LEFT(C464,4),\"-\",LEFT(B464,4),COUNTIF($C$11:C464,C464)))","v":""},{"$f":"IF(ISBLANK(B464),\"\",INDEX('Est. Useful Life - HIDE SHEET'!$A$2:$D$206,MATCH(CONCATENATE(B464,C464),'Est. Useful Life - HIDE SHEET'!$A$2:$A$206,FALSE),4))","v":""},null,""]
[null,null,null,null,null,{"$f":"IF(ISBLANK(C465),\"\",_xlfn.CONCAT(LEFT(C465,4),\"-\",LEFT(B465,4),COUNTIF($C$11:C465,C465)))","v":""},{"$f":"IF(ISBLANK(B465),\"\",INDEX('Est. Useful Life - HIDE SHEET'!$A$2:$D$206,MATCH(CONCATENATE(B465,C465),'Est. Useful Life - HIDE SHEET'!$A$2:$A$206,FALSE),4))","v":""},null,""]
[null,null,null,null,null,{"$f":"IF(ISBLANK(C466),\"\",_xlfn.CONCAT(LEFT(C466,4),\"-\",LEFT(B466,4),COUNTIF($C$11:C466,C466)))","v":""},{"$f":"IF(ISBLANK(B466),\"\",INDEX('Est. Useful Life - HIDE SHEET'!$A$2:$D$206,MATCH(CONCATENATE(B466,C466),'Est. Useful Life - HIDE SHEET'!$A$2:$A$206,FALSE),4))","v":""},null,{"$f":"IF(ISNUMBER(G466),IF(ISNUMBER(H466),IF((G466-(INT((TODAY()-H466)/365)))<0,0,G466-(INT((TODAY()-H466)/365))),\"\"),\"\")","v":""}]
[null,null,null,null,null,{"$f":"IF(ISBLANK(C467),\"\",_xlfn.CONCAT(LEFT(C467,4),\"-\",LEFT(B467,4),COUNTIF($C$11:C467,C467)))","v":""},{"$f":"IF(ISBLANK(B467),\"\",INDEX('Est. Useful Life - HIDE SHEET'!$A$2:$D$206,MATCH(CONCATENATE(B467,C467),'Est. Useful Life - HIDE SHEET'!$A$2:$A$206,FALSE),4))","v":""},null,""]
[null,null,null,null,null,{"$f":"IF(ISBLANK(C468),\"\",_xlfn.CONCAT(LEFT(C468,4),\"-\",LEFT(B468,4),COUNTIF($C$11:C468,C468)))","v":""},{"$f":"IF(ISBLANK(B468),\"\",INDEX('Est. Useful Life - HIDE SHEET'!$A$2:$D$206,MATCH(CONCATENATE(B468,C468),'Est. Useful Life - HIDE SHEET'!$A$2:$A$206,FALSE),4))","v":""},null,""]
[null,null,null,null,null,{"$f":"IF(ISBLANK(C469),\"\",_xlfn.CONCAT(LEFT(C469,4),\"-\",LEFT(B469,4),COUNTIF($C$11:C469,C469)))","v":""},{"$f":"IF(ISBLANK(B469),\"\",INDEX('Est. Useful Life - HIDE SHEET'!$A$2:$D$206,MATCH(CONCATENATE(B469,C469),'Est. Useful Life - HIDE SHEET'!$A$2:$A$206,FALSE),4))","v":""},null,""]
[null,null,null,null,null,{"$f":"IF(ISBLANK(C470),\"\",_xlfn.CONCAT(LEFT(C470,4),\"-\",LEFT(B470,4),COUNTIF($C$11:C470,C470)))","v":""},{"$f":"IF(ISBLANK(B470),\"\",INDEX('Est. Useful Life - HIDE SHEET'!$A$2:$D$206,MATCH(CONCATENATE(B470,C470),'Est. Useful Life - HIDE SHEET'!$A$2:$A$206,FALSE),4))","v":""},null,""]
[null,null,null,null,null,{"$f":"IF(ISBLANK(C471),\"\",_xlfn.CONCAT(LEFT(C471,4),\"-\",LEFT(B471,4),COUNTIF($C$11:C471,C471)))","v":""},{"$f":"IF(ISBLANK(B471),\"\",INDEX('Est. Useful Life - HIDE SHEET'!$A$2:$D$206,MATCH(CONCATENATE(B471,C471),'Est. Useful Life - HIDE SHEET'!$A$2:$A$206,FALSE),4))","v":""},null,""]
[null,null,null,null,null,{"$f":"IF(ISBLANK(C472),\"\",_xlfn.CONCAT(LEFT(C472,4),\"-\",LEFT(B472,4),COUNTIF($C$11:C472,C472)))","v":""},{"$f":"IF(ISBLANK(B472),\"\",INDEX('Est. Useful Life - HIDE SHEET'!$A$2:$D$206,MATCH(CONCATENATE(B472,C472),'Est. Useful Life - HIDE SHEET'!$A$2:$A$206,FALSE),4))","v":""},null,""]
[null,null,null,null,null,{"$f":"IF(ISBLANK(C473),\"\",_xlfn.CONCAT(LEFT(C473,4),\"-\",LEFT(B473,4),COUNTIF($C$11:C473,C473)))","v":""},{"$f":"IF(ISBLANK(B473),\"\",INDEX('Est. Useful Life - HIDE SHEET'!$A$2:$D$206,MATCH(CONCATENATE(B473,C473),'Est. Useful Life - HIDE SHEET'!$A$2:$A$206,FALSE),4))","v":""},null,""]
[null,null,null,null,null,{"$f":"IF(ISBLANK(C474),\"\",_xlfn.CONCAT(LEFT(C474,4),\"-\",LEFT(B474,4),COUNTIF($C$11:C474,C474)))","v":""},{"$f":"IF(ISBLANK(B474),\"\",INDEX('Est. Useful Life - HIDE SHEET'!$A$2:$D$206,MATCH(CONCATENATE(B474,C474),'Est. Useful Life - HIDE SHEET'!$A$2:$A$206,FALSE),4))","v":""},null,""]
[null,null,null,null,null,{"$f":"IF(ISBLANK(C475),\"\",_xlfn.CONCAT(LEFT(C475,4),\"-\",LEFT(B475,4),COUNTIF($C$11:C475,C475)))","v":""},{"$f":"IF(ISBLANK(B475),\"\",INDEX('Est. Useful Life - HIDE SHEET'!$A$2:$D$206,MATCH(CONCATENATE(B475,C475),'Est. Useful Life - HIDE SHEET'!$A$2:$A$206,FALSE),4))","v":""},null,""]
[null,null,null,null,null,{"$f":"IF(ISBLANK(C476),\"\",_xlfn.CONCAT(LEFT(C476,4),\"-\",LEFT(B476,4),COUNTIF($C$11:C476,C476)))","v":""},{"$f":"IF(ISBLANK(B476),\"\",INDEX('Est. Useful Life - HIDE SHEET'!$A$2:$D$206,MATCH(CONCATENATE(B476,C476),'Est. Useful Life - HIDE SHEET'!$A$2:$A$206,FALSE),4))","v":""},null,""]
[null,null,null,null,null,{"$f":"IF(ISBLANK(C477),\"\",_xlfn.CONCAT(LEFT(C477,4),\"-\",LEFT(B477,4),COUNTIF($C$11:C477,C477)))","v":""},{"$f":"IF(ISBLANK(B477),\"\",INDEX('Est. Useful Life - HIDE SHEET'!$A$2:$D$206,MATCH(CONCATENATE(B477,C477),'Est. Useful Life - HIDE SHEET'!$A$2:$A$206,FALSE),4))","v":""},null,""]
[null,null,null,null,null,{"$f":"IF(ISBLANK(C478),\"\",_xlfn.CONCAT(LEFT(C478,4),\"-\",LEFT(B478,4),COUNTIF($C$11:C478,C478)))","v":""},{"$f":"IF(ISBLANK(B478),\"\",INDEX('Est. Useful Life - HIDE SHEET'!$A$2:$D$206,MATCH(CONCATENATE(B478,C478),'Est. Useful Life - HIDE SHEET'!$A$2:$A$206,FALSE),4))","v":""},null,""]
[null,null,null,null,null,{"$f":"IF(ISBLANK(C479),\"\",_xlfn.CONCAT(LEFT(C479,4),\"-\",LEFT(B479,4),COUNTIF($C$11:C479,C479)))","v":""},{"$f":"IF(ISBLANK(B479),\"\",INDEX('Est. Useful Life - HIDE SHEET'!$A$2:$D$206,MATCH(CONCATENATE(B479,C479),'Est. Useful Life - HIDE SHEET'!$A$2:$A$206,FALSE),4))","v":""},null,""]
[null,null,null,null,null,{"$f":"IF(ISBLANK(C480),\"\",_xlfn.CONCAT(LEFT(C480,4),\"-\",LEFT(B480,4),COUNTIF($C$11:C480,C480)))","v":""},{"$f":"IF(ISBLANK(B480),\"\",INDEX('Est. Useful Life - HIDE SHEET'!$A$2:$D$206,MATCH(CONCATENATE(B480,C480),'Est. Useful Life - HIDE SHEET'!$A$2:$A$206,FALSE),4))","v":""},null,""]
[null,null,null,null,null,{"$f":"IF(ISBLANK(C481),\"\",_xlfn.CONCAT(LEFT(C481,4),\"-\",LEFT(B481,4),COUNTIF($C$11:C481,C481)))","v":""},{"$f":"IF(ISBLANK(B481),\"\",INDEX('Est. Useful Life - HIDE SHEET'!$A$2:$D$206,MATCH(CONCATENATE(B481,C481),'Est. Useful Life - HIDE SHEET'!$A$2:$A$206,FALSE),4))","v":""},null,""]
[null,null,null,null,null,{"$f":"IF(ISBLANK(C482),\"\",_xlfn.CONCAT(LEFT(C482,4),\"-\",LEFT(B482,4),COUNTIF($C$11:C482,C482)))","v":""},{"$f":"IF(ISBLANK(B482),\"\",INDEX('Est. Useful Life - HIDE SHEET'!$A$2:$D$206,MATCH(CONCATENATE(B482,C482),'Est. Useful Life - HIDE SHEET'!$A$2:$A$206,FALSE),4))","v":""},null,""]
[null,null,null,null,null,{"$f":"IF(ISBLANK(C483),\"\",_xlfn.CONCAT(LEFT(C483,4),\"-\",LEFT(B483,4),COUNTIF($C$11:C483,C483)))","v":""},{"$f":"IF(ISBLANK(B483),\"\",INDEX('Est. Useful Life - HIDE SHEET'!$A$2:$D$206,MATCH(CONCATENATE(B483,C483),'Est. Useful Life - HIDE SHEET'!$A$2:$A$206,FALSE),4))","v":""},null,""]
[null,null,null,null,null,{"$f":"IF(ISBLANK(C484),\"\",_xlfn.CONCAT(LEFT(C484,4),\"-\",LEFT(B484,4),COUNTIF($C$11:C484,C484)))","v":""},{"$f":"IF(ISBLANK(B484),\"\",INDEX('Est. Useful Life - HIDE SHEET'!$A$2:$D$206,MATCH(CONCATENATE(B484,C484),'Est. Useful Life - HIDE SHEET'!$A$2:$A$206,FALSE),4))","v":""},null,""]
[null,null,null,null,null,{"$f":"IF(ISBLANK(C485),\"\",_xlfn.CONCAT(LEFT(C485,4),\"-\",LEFT(B485,4),COUNTIF($C$11:C485,C485)))","v":""},{"$f":"IF(ISBLANK(B485),\"\",INDEX('Est. Useful Life - HIDE SHEET'!$A$2:$D$206,MATCH(CONCATENATE(B485,C485),'Est. Useful Life - HIDE SHEET'!$A$2:$A$206,FALSE),4))","v":""},null,""]
[null,null,null,null,null,{"$f":"IF(ISBLANK(C486),\"\",_xlfn.CONCAT(LEFT(C486,4),\"-\",LEFT(B486,4),COUNTIF($C$11:C486,C486)))","v":""},{"$f":"IF(ISBLANK(B486),\"\",INDEX('Est. Useful Life - HIDE SHEET'!$A$2:$D$206,MATCH(CONCATENATE(B486,C486),'Est. Useful Life - HIDE SHEET'!$A$2:$A$206,FALSE),4))","v":""},null,""]
[null,null,null,null,null,{"$f":"IF(ISBLANK(C487),\"\",_xlfn.CONCAT(LEFT(C487,4),\"-\",LEFT(B487,4),COUNTIF($C$11:C487,C487)))","v":""},{"$f":"IF(ISBLANK(B487),\"\",INDEX('Est. Useful Life - HIDE SHEET'!$A$2:$D$206,MATCH(CONCATENATE(B487,C487),'Est. Useful Life - HIDE SHEET'!$A$2:$A$206,FALSE),4))","v":""},null,""]
[null,null,null,null,null,{"$f":"IF(ISBLANK(C488),\"\",_xlfn.CONCAT(LEFT(C488,4),\"-\",LEFT(B488,4),COUNTIF($C$11:C488,C488)))","v":""},{"$f":"IF(ISBLANK(B488),\"\",INDEX('Est. Useful Life - HIDE SHEET'!$A$2:$D$206,MATCH(CONCATENATE(B488,C488),'Est. Useful Life - HIDE SHEET'!$A$2:$A$206,FALSE),4))","v":""},null,""]
[null,null,null,null,null,{"$f":"IF(ISBLANK(C489),\"\",_xlfn.CONCAT(LEFT(C489,4),\"-\",LEFT(B489,4),COUNTIF($C$11:C489,C489)))","v":""},{"$f":"IF(ISBLANK(B489),\"\",INDEX('Est. Useful Life - HIDE SHEET'!$A$2:$D$206,MATCH(CONCATENATE(B489,C489),'Est. Useful Life - HIDE SHEET'!$A$2:$A$206,FALSE),4))","v":""},null,""]
[null,null,null,null,null,{"$f":"IF(ISBLANK(C490),\"\",_xlfn.CONCAT(LEFT(C490,4),\"-\",LEFT(B490,4),COUNTIF($C$11:C490,C490)))","v":""},{"$f":"IF(ISBLANK(B490),\"\",INDEX('Est. Useful Life - HIDE SHEET'!$A$2:$D$206,MATCH(CONCATENATE(B490,C490),'Est. Useful Life - HIDE SHEET'!$A$2:$A$206,FALSE),4))","v":""},null,""]
[null,null,null,null,null,{"$f":"IF(ISBLANK(C491),\"\",_xlfn.CONCAT(LEFT(C491,4),\"-\",LEFT(B491,4),COUNTIF($C$11:C491,C491)))","v":""},{"$f":"IF(ISBLANK(B491),\"\",INDEX('Est. Useful Life - HIDE SHEET'!$A$2:$D$206,MATCH(CONCATENATE(B491,C491),'Est. Useful Life - HIDE SHEET'!$A$2:$A$206,FALSE),4))","v":""},null,""]
[null,null,null,null,null,{"$f":"IF(ISBLANK(C492),\"\",_xlfn.CONCAT(LEFT(C492,4),\"-\",LEFT(B492,4),COUNTIF($C$11:C492,C492)))","v":""},{"$f":"IF(ISBLANK(B492),\"\",INDEX('Est. Useful Life - HIDE SHEET'!$A$2:$D$206,MATCH(CONCATENATE(B492,C492),'Est. Useful Life - HIDE SHEET'!$A$2:$A$206,FALSE),4))","v":""},null,""]
[null,null,null,null,null,{"$f":"IF(ISBLANK(C493),\"\",_xlfn.CONCAT(LEFT(C493,4),\"-\",LEFT(B493,4),COUNTIF($C$11:C493,C493)))","v":""},{"$f":"IF(ISBLANK(B493),\"\",INDEX('Est. Useful Life - HIDE SHEET'!$A$2:$D$206,MATCH(CONCATENATE(B493,C493),'Est. Useful Life - HIDE SHEET'!$A$2:$A$206,FALSE),4))","v":""},null,""]
[null,null,null,null,null,{"$f":"IF(ISBLANK(C494),\"\",_xlfn.CONCAT(LEFT(C494,4),\"-\",LEFT(B494,4),COUNTIF($C$11:C494,C494)))","v":""},{"$f":"IF(ISBLANK(B494),\"\",INDEX('Est. Useful Life - HIDE SHEET'!$A$2:$D$206,MATCH(CONCATENATE(B494,C494),'Est. Useful Life - HIDE SHEET'!$A$2:$A$206,FALSE),4))","v":""},null,""]
[null,null,null,null,null,{"$f":"IF(ISBLANK(C495),\"\",_xlfn.CONCAT(LEFT(C495,4),\"-\",LEFT(B495,4),COUNTIF($C$11:C495,C495)))","v":""},{"$f":"IF(ISBLANK(B495),\"\",INDEX('Est. Useful Life - HIDE SHEET'!$A$2:$D$206,MATCH(CONCATENATE(B495,C495),'Est. Useful Life - HIDE SHEET'!$A$2:$A$206,FALSE),4))","v":""},null,""]
[null,null,null,null,null,{"$f":"IF(ISBLANK(C496),\"\",_xlfn.CONCAT(LEFT(C496,4),\"-\",LEFT(B496,4),COUNTIF($C$11:C496,C496)))","v":""},{"$f":"IF(ISBLANK(B496),\"\",INDEX('Est. Useful Life - HIDE SHEET'!$A$2:$D$206,MATCH(CONCATENATE(B496,C496),'Est. Useful Life - HIDE SHEET'!$A$2:$A$206,FALSE),4))","v":""},null,""]
[null,null,null,null,null,{"$f":"IF(ISBLANK(C497),\"\",_xlfn.CONCAT(LEFT(C497,4),\"-\",LEFT(B497,4),COUNTIF($C$11:C497,C497)))","v":""},{"$f":"IF(ISBLANK(B497),\"\",INDEX('Est. Useful Life - HIDE SHEET'!$A$2:$D$206,MATCH(CONCATENATE(B497,C497),'Est. Useful Life - HIDE SHEET'!$A$2:$A$206,FALSE),4))","v":""},null,""]
[null,null,null,null,null,{"$f":"IF(ISBLANK(C498),\"\",_xlfn.CONCAT(LEFT(C498,4),\"-\",LEFT(B498,4),COUNTIF($C$11:C498,C498)))","v":""},{"$f":"IF(ISBLANK(B498),\"\",INDEX('Est. Useful Life - HIDE SHEET'!$A$2:$D$206,MATCH(CONCATENATE(B498,C498),'Est. Useful Life - HIDE SHEET'!$A$2:$A$206,FALSE),4))","v":""},null,""]
[null,null,null,null,null,{"$f":"IF(ISBLANK(C499),\"\",_xlfn.CONCAT(LEFT(C499,4),\"-\",LEFT(B499,4),COUNTIF($C$11:C499,C499)))","v":""},{"$f":"IF(ISBLANK(B499),\"\",INDEX('Est. Useful Life - HIDE SHEET'!$A$2:$D$206,MATCH(CONCATENATE(B499,C499),'Est. Useful Life - HIDE SHEET'!$A$2:$A$206,FALSE),4))","v":""},null,""]
[null,null,null,null,null,{"$f":"IF(ISBLANK(C500),\"\",_xlfn.CONCAT(LEFT(C500,4),\"-\",LEFT(B500,4),COUNTIF($C$11:C500,C500)))","v":""},{"$f":"IF(ISBLANK(B500),\"\",INDEX('Est. Useful Life - HIDE SHEET'!$A$2:$D$206,MATCH(CONCATENATE(B500,C500),'Est. Useful Life - HIDE SHEET'!$A$2:$A$206,FALSE),4))","v":""},null,""]
[null,null,null,null,null,{"$f":"IF(ISBLANK(C501),\"\",_xlfn.CONCAT(LEFT(C501,4),\"-\",LEFT(B501,4),COUNTIF($C$11:C501,C501)))","v":""},{"$f":"IF(ISBLANK(B501),\"\",INDEX('Est. Useful Life - HIDE SHEET'!$A$2:$D$206,MATCH(CONCATENATE(B501,C501),'Est. Useful Life - HIDE SHEET'!$A$2:$A$206,FALSE),4))","v":""},null,""]
[null,null,null,null,null,{"$f":"IF(ISBLANK(C502),\"\",_xlfn.CONCAT(LEFT(C502,4),\"-\",LEFT(B502,4),COUNTIF($C$11:C502,C502)))","v":""},{"$f":"IF(ISBLANK(B502),\"\",INDEX('Est. Useful Life - HIDE SHEET'!$A$2:$D$206,MATCH(CONCATENATE(B502,C502),'Est. Useful Life - HIDE SHEET'!$A$2:$A$206,FALSE),4))","v":""},null,""]
[null,null,null,null,null,{"$f":"IF(ISBLANK(C503),\"\",_xlfn.CONCAT(LEFT(C503,4),\"-\",LEFT(B503,4),COUNTIF($C$11:C503,C503)))","v":""},{"$f":"IF(ISBLANK(B503),\"\",INDEX('Est. Useful Life - HIDE SHEET'!$A$2:$D$206,MATCH(CONCATENATE(B503,C503),'Est. Useful Life - HIDE SHEET'!$A$2:$A$206,FALSE),4))","v":""},null,""]
[null,null,null,null,null,{"$f":"IF(ISBLANK(C504),\"\",_xlfn.CONCAT(LEFT(C504,4),\"-\",LEFT(B504,4),COUNTIF($C$11:C504,C504)))","v":""},{"$f":"IF(ISBLANK(B504),\"\",INDEX('Est. Useful Life - HIDE SHEET'!$A$2:$D$206,MATCH(CONCATENATE(B504,C504),'Est. Useful Life - HIDE SHEET'!$A$2:$A$206,FALSE),4))","v":""},null,""]
[null,null,null,null,null,{"$f":"IF(ISBLANK(C505),\"\",_xlfn.CONCAT(LEFT(C505,4),\"-\",LEFT(B505,4),COUNTIF($C$11:C505,C505)))","v":""},{"$f":"IF(ISBLANK(B505),\"\",INDEX('Est. Useful Life - HIDE SHEET'!$A$2:$D$206,MATCH(CONCATENATE(B505,C505),'Est. Useful Life - HIDE SHEET'!$A$2:$A$206,FALSE),4))","v":""},null,""]
[null,null,null,null,null,{"$f":"IF(ISBLANK(C506),\"\",_xlfn.CONCAT(LEFT(C506,4),\"-\",LEFT(B506,4),COUNTIF($C$11:C506,C506)))","v":""},{"$f":"IF(ISBLANK(B506),\"\",INDEX('Est. Useful Life - HIDE SHEET'!$A$2:$D$206,MATCH(CONCATENATE(B506,C506),'Est. Useful Life - HIDE SHEET'!$A$2:$A$206,FALSE),4))","v":""},null,""]
[null,null,null,null,null,{"$f":"IF(ISBLANK(C507),\"\",_xlfn.CONCAT(LEFT(C507,4),\"-\",LEFT(B507,4),COUNTIF($C$11:C507,C507)))","v":""},{"$f":"IF(ISBLANK(B507),\"\",INDEX('Est. Useful Life - HIDE SHEET'!$A$2:$D$206,MATCH(CONCATENATE(B507,C507),'Est. Useful Life - HIDE SHEET'!$A$2:$A$206,FALSE),4))","v":""},null,""]
[null,null,null,null,null,{"$f":"IF(ISBLANK(C508),\"\",_xlfn.CONCAT(LEFT(C508,4),\"-\",LEFT(B508,4),COUNTIF($C$11:C508,C508)))","v":""},{"$f":"IF(ISBLANK(B508),\"\",INDEX('Est. Useful Life - HIDE SHEET'!$A$2:$D$206,MATCH(CONCATENATE(B508,C508),'Est. Useful Life - HIDE SHEET'!$A$2:$A$206,FALSE),4))","v":""},null,""]
[null,null,null,null,null,{"$f":"IF(ISBLANK(C509),\"\",_xlfn.CONCAT(LEFT(C509,4),\"-\",LEFT(B509,4),COUNTIF($C$11:C509,C509)))","v":""},{"$f":"IF(ISBLANK(B509),\"\",INDEX('Est. Useful Life - HIDE SHEET'!$A$2:$D$206,MATCH(CONCATENATE(B509,C509),'Est. Useful Life - HIDE SHEET'!$A$2:$A$206,FALSE),4))","v":""},null,""]
[null,null,null,null,null,{"$f":"IF(ISBLANK(C510),\"\",_xlfn.CONCAT(LEFT(C510,4),\"-\",LEFT(B510,4),COUNTIF($C$11:C510,C510)))","v":""},{"$f":"IF(ISBLANK(B510),\"\",INDEX('Est. Useful Life - HIDE SHEET'!$A$2:$D$206,MATCH(CONCATENATE(B510,C510),'Est. Useful Life - HIDE SHEET'!$A$2:$A$206,FALSE),4))","v":""},null,""]
[null,null,null,null,null,{"$f":"IF(ISBLANK(C511),\"\",_xlfn.CONCAT(LEFT(C511,4),\"-\",LEFT(B511,4),COUNTIF($C$11:C511,C511)))","v":""},{"$f":"IF(ISBLANK(B511),\"\",INDEX('Est. Useful Life - HIDE SHEET'!$A$2:$D$206,MATCH(CONCATENATE(B511,C511),'Est. Useful Life - HIDE SHEET'!$A$2:$A$206,FALSE),4))","v":""},null,""]
[null,null,null,null,null,{"$f":"IF(ISBLANK(C512),\"\",_xlfn.CONCAT(LEFT(C512,4),\"-\",LEFT(B512,4),COUNTIF($C$11:C512,C512)))","v":""},{"$f":"IF(ISBLANK(B512),\"\",INDEX('Est. Useful Life - HIDE SHEET'!$A$2:$D$206,MATCH(CONCATENATE(B512,C512),'Est. Useful Life - HIDE SHEET'!$A$2:$A$206,FALSE),4))","v":""},null,""]
[null,null,null,null,null,{"$f":"IF(ISBLANK(C513),\"\",_xlfn.CONCAT(LEFT(C513,4),\"-\",LEFT(B513,4),COUNTIF($C$11:C513,C513)))","v":""},{"$f":"IF(ISBLANK(B513),\"\",INDEX('Est. Useful Life - HIDE SHEET'!$A$2:$D$206,MATCH(CONCATENATE(B513,C513),'Est. Useful Life - HIDE SHEET'!$A$2:$A$206,FALSE),4))","v":""},null,""]
[null,null,null,null,null,{"$f":"IF(ISBLANK(C514),\"\",_xlfn.CONCAT(LEFT(C514,4),\"-\",LEFT(B514,4),COUNTIF($C$11:C514,C514)))","v":""},{"$f":"IF(ISBLANK(B514),\"\",INDEX('Est. Useful Life - HIDE SHEET'!$A$2:$D$206,MATCH(CONCATENATE(B514,C514),'Est. Useful Life - HIDE SHEET'!$A$2:$A$206,FALSE),4))","v":""},null,""]
[null,null,null,null,null,{"$f":"IF(ISBLANK(C515),\"\",_xlfn.CONCAT(LEFT(C515,4),\"-\",LEFT(B515,4),COUNTIF($C$11:C515,C515)))","v":""},{"$f":"IF(ISBLANK(B515),\"\",INDEX('Est. Useful Life - HIDE SHEET'!$A$2:$D$206,MATCH(CONCATENATE(B515,C515),'Est. Useful Life - HIDE SHEET'!$A$2:$A$206,FALSE),4))","v":""},null,""]
[null,null,null,null,null,{"$f":"IF(ISBLANK(C516),\"\",_xlfn.CONCAT(LEFT(C516,4),\"-\",LEFT(B516,4),COUNTIF($C$11:C516,C516)))","v":""},{"$f":"IF(ISBLANK(B516),\"\",INDEX('Est. Useful Life - HIDE SHEET'!$A$2:$D$206,MATCH(CONCATENATE(B516,C516),'Est. Useful Life - HIDE SHEET'!$A$2:$A$206,FALSE),4))","v":""},null,""]
[null,null,null,null,null,{"$f":"IF(ISBLANK(C517),\"\",_xlfn.CONCAT(LEFT(C517,4),\"-\",LEFT(B517,4),COUNTIF($C$11:C517,C517)))","v":""},{"$f":"IF(ISBLANK(B517),\"\",INDEX('Est. Useful Life - HIDE SHEET'!$A$2:$D$206,MATCH(CONCATENATE(B517,C517),'Est. Useful Life - HIDE SHEET'!$A$2:$A$206,FALSE),4))","v":""},null,""]
[null,null,null,null,null,{"$f":"IF(ISBLANK(C518),\"\",_xlfn.CONCAT(LEFT(C518,4),\"-\",LEFT(B518,4),COUNTIF($C$11:C518,C518)))","v":""},{"$f":"IF(ISBLANK(B518),\"\",INDEX('Est. Useful Life - HIDE SHEET'!$A$2:$D$206,MATCH(CONCATENATE(B518,C518),'Est. Useful Life - HIDE SHEET'!$A$2:$A$206,FALSE),4))","v":""},null,""]
[null,null,null,null,null,{"$f":"IF(ISBLANK(C519),\"\",_xlfn.CONCAT(LEFT(C519,4),\"-\",LEFT(B519,4),COUNTIF($C$11:C519,C519)))","v":""},{"$f":"IF(ISBLANK(B519),\"\",INDEX('Est. Useful Life - HIDE SHEET'!$A$2:$D$206,MATCH(CONCATENATE(B519,C519),'Est. Useful Life - HIDE SHEET'!$A$2:$A$206,FALSE),4))","v":""},null,""]
[null,null,null,null,null,{"$f":"IF(ISBLANK(C520),\"\",_xlfn.CONCAT(LEFT(C520,4),\"-\",LEFT(B520,4),COUNTIF($C$11:C520,C520)))","v":""},{"$f":"IF(ISBLANK(B520),\"\",INDEX('Est. Useful Life - HIDE SHEET'!$A$2:$D$206,MATCH(CONCATENATE(B520,C520),'Est. Useful Life - HIDE SHEET'!$A$2:$A$206,FALSE),4))","v":""},null,""]
[null,null,null,null,null,{"$f":"IF(ISBLANK(C521),\"\",_xlfn.CONCAT(LEFT(C521,4),\"-\",LEFT(B521,4),COUNTIF($C$11:C521,C521)))","v":""},{"$f":"IF(ISBLANK(B521),\"\",INDEX('Est. Useful Life - HIDE SHEET'!$A$2:$D$206,MATCH(CONCATENATE(B521,C521),'Est. Useful Life - HIDE SHEET'!$A$2:$A$206,FALSE),4))","v":""},null,""]
[null,null,null,null,null,{"$f":"IF(ISBLANK(C522),\"\",_xlfn.CONCAT(LEFT(C522,4),\"-\",LEFT(B522,4),COUNTIF($C$11:C522,C522)))","v":""},{"$f":"IF(ISBLANK(B522),\"\",INDEX('Est. Useful Life - HIDE SHEET'!$A$2:$D$206,MATCH(CONCATENATE(B522,C522),'Est. Useful Life - HIDE SHEET'!$A$2:$A$206,FALSE),4))","v":""},null,""]
[null,null,null,null,null,{"$f":"IF(ISBLANK(C523),\"\",_xlfn.CONCAT(LEFT(C523,4),\"-\",LEFT(B523,4),COUNTIF($C$11:C523,C523)))","v":""},{"$f":"IF(ISBLANK(B523),\"\",INDEX('Est. Useful Life - HIDE SHEET'!$A$2:$D$206,MATCH(CONCATENATE(B523,C523),'Est. Useful Life - HIDE SHEET'!$A$2:$A$206,FALSE),4))","v":""},null,""]
[null,null,null,null,null,{"$f":"IF(ISBLANK(C524),\"\",_xlfn.CONCAT(LEFT(C524,4),\"-\",LEFT(B524,4),COUNTIF($C$11:C524,C524)))","v":""},{"$f":"IF(ISBLANK(B524),\"\",INDEX('Est. Useful Life - HIDE SHEET'!$A$2:$D$206,MATCH(CONCATENATE(B524,C524),'Est. Useful Life - HIDE SHEET'!$A$2:$A$206,FALSE),4))","v":""},null,""]
[null,null,null,null,null,{"$f":"IF(ISBLANK(C525),\"\",_xlfn.CONCAT(LEFT(C525,4),\"-\",LEFT(B525,4),COUNTIF($C$11:C525,C525)))","v":""},{"$f":"IF(ISBLANK(B525),\"\",INDEX('Est. Useful Life - HIDE SHEET'!$A$2:$D$206,MATCH(CONCATENATE(B525,C525),'Est. Useful Life - HIDE SHEET'!$A$2:$A$206,FALSE),4))","v":""},null,""]
[null,null,null,null,null,{"$f":"IF(ISBLANK(C526),\"\",_xlfn.CONCAT(LEFT(C526,4),\"-\",LEFT(B526,4),COUNTIF($C$11:C526,C526)))","v":""},{"$f":"IF(ISBLANK(B526),\"\",INDEX('Est. Useful Life - HIDE SHEET'!$A$2:$D$206,MATCH(CONCATENATE(B526,C526),'Est. Useful Life - HIDE SHEET'!$A$2:$A$206,FALSE),4))","v":""},null,""]
[null,null,null,null,null,{"$f":"IF(ISBLANK(C527),\"\",_xlfn.CONCAT(LEFT(C527,4),\"-\",LEFT(B527,4),COUNTIF($C$11:C527,C527)))","v":""},{"$f":"IF(ISBLANK(B527),\"\",INDEX('Est. Useful Life - HIDE SHEET'!$A$2:$D$206,MATCH(CONCATENATE(B527,C527),'Est. Useful Life - HIDE SHEET'!$A$2:$A$206,FALSE),4))","v":""},null,""]
[null,null,null,null,null,{"$f":"IF(ISBLANK(C528),\"\",_xlfn.CONCAT(LEFT(C528,4),\"-\",LEFT(B528,4),COUNTIF($C$11:C528,C528)))","v":""},{"$f":"IF(ISBLANK(B528),\"\",INDEX('Est. Useful Life - HIDE SHEET'!$A$2:$D$206,MATCH(CONCATENATE(B528,C528),'Est. Useful Life - HIDE SHEET'!$A$2:$A$206,FALSE),4))","v":""},null,""]
[null,null,null,null,null,{"$f":"IF(ISBLANK(C529),\"\",_xlfn.CONCAT(LEFT(C529,4),\"-\",LEFT(B529,4),COUNTIF($C$11:C529,C529)))","v":""},{"$f":"IF(ISBLANK(B529),\"\",INDEX('Est. Useful Life - HIDE SHEET'!$A$2:$D$206,MATCH(CONCATENATE(B529,C529),'Est. Useful Life - HIDE SHEET'!$A$2:$A$206,FALSE),4))","v":""},null,""]
[null,null,null,null,null,{"$f":"IF(ISBLANK(C530),\"\",_xlfn.CONCAT(LEFT(C530,4),\"-\",LEFT(B530,4),COUNTIF($C$11:C530,C530)))","v":""},{"$f":"IF(ISBLANK(B530),\"\",INDEX('Est. Useful Life - HIDE SHEET'!$A$2:$D$206,MATCH(CONCATENATE(B530,C530),'Est. Useful Life - HIDE SHEET'!$A$2:$A$206,FALSE),4))","v":""},null,{"$f":"IF(ISNUMBER(G530),IF(ISNUMBER(H530),IF((G530-(INT((TODAY()-H530)/365)))<0,0,G530-(INT((TODAY()-H530)/365))),\"\"),\"\")","v":""}]
[null,null,null,null,null,{"$f":"IF(ISBLANK(C531),\"\",_xlfn.CONCAT(LEFT(C531,4),\"-\",LEFT(B531,4),COUNTIF($C$11:C531,C531)))","v":""},{"$f":"IF(ISBLANK(B531),\"\",INDEX('Est. Useful Life - HIDE SHEET'!$A$2:$D$206,MATCH(CONCATENATE(B531,C531),'Est. Useful Life - HIDE SHEET'!$A$2:$A$206,FALSE),4))","v":""},null,""]
[null,null,null,null,null,{"$f":"IF(ISBLANK(C532),\"\",_xlfn.CONCAT(LEFT(C532,4),\"-\",LEFT(B532,4),COUNTIF($C$11:C532,C532)))","v":""},{"$f":"IF(ISBLANK(B532),\"\",INDEX('Est. Useful Life - HIDE SHEET'!$A$2:$D$206,MATCH(CONCATENATE(B532,C532),'Est. Useful Life - HIDE SHEET'!$A$2:$A$206,FALSE),4))","v":""},null,""]
[null,null,null,null,null,{"$f":"IF(ISBLANK(C533),\"\",_xlfn.CONCAT(LEFT(C533,4),\"-\",LEFT(B533,4),COUNTIF($C$11:C533,C533)))","v":""},{"$f":"IF(ISBLANK(B533),\"\",INDEX('Est. Useful Life - HIDE SHEET'!$A$2:$D$206,MATCH(CONCATENATE(B533,C533),'Est. Useful Life - HIDE SHEET'!$A$2:$A$206,FALSE),4))","v":""},null,""]
[null,null,null,null,null,{"$f":"IF(ISBLANK(C534),\"\",_xlfn.CONCAT(LEFT(C534,4),\"-\",LEFT(B534,4),COUNTIF($C$11:C534,C534)))","v":""},{"$f":"IF(ISBLANK(B534),\"\",INDEX('Est. Useful Life - HIDE SHEET'!$A$2:$D$206,MATCH(CONCATENATE(B534,C534),'Est. Useful Life - HIDE SHEET'!$A$2:$A$206,FALSE),4))","v":""},null,""]
[null,null,null,null,null,{"$f":"IF(ISBLANK(C535),\"\",_xlfn.CONCAT(LEFT(C535,4),\"-\",LEFT(B535,4),COUNTIF($C$11:C535,C535)))","v":""},{"$f":"IF(ISBLANK(B535),\"\",INDEX('Est. Useful Life - HIDE SHEET'!$A$2:$D$206,MATCH(CONCATENATE(B535,C535),'Est. Useful Life - HIDE SHEET'!$A$2:$A$206,FALSE),4))","v":""},null,""]
[null,null,null,null,null,{"$f":"IF(ISBLANK(C536),\"\",_xlfn.CONCAT(LEFT(C536,4),\"-\",LEFT(B536,4),COUNTIF($C$11:C536,C536)))","v":""},{"$f":"IF(ISBLANK(B536),\"\",INDEX('Est. Useful Life - HIDE SHEET'!$A$2:$D$206,MATCH(CONCATENATE(B536,C536),'Est. Useful Life - HIDE SHEET'!$A$2:$A$206,FALSE),4))","v":""},null,""]
[null,null,null,null,null,{"$f":"IF(ISBLANK(C537),\"\",_xlfn.CONCAT(LEFT(C537,4),\"-\",LEFT(B537,4),COUNTIF($C$11:C537,C537)))","v":""},{"$f":"IF(ISBLANK(B537),\"\",INDEX('Est. Useful Life - HIDE SHEET'!$A$2:$D$206,MATCH(CONCATENATE(B537,C537),'Est. Useful Life - HIDE SHEET'!$A$2:$A$206,FALSE),4))","v":""},null,""]
[null,null,null,null,null,{"$f":"IF(ISBLANK(C538),\"\",_xlfn.CONCAT(LEFT(C538,4),\"-\",LEFT(B538,4),COUNTIF($C$11:C538,C538)))","v":""},{"$f":"IF(ISBLANK(B538),\"\",INDEX('Est. Useful Life - HIDE SHEET'!$A$2:$D$206,MATCH(CONCATENATE(B538,C538),'Est. Useful Life - HIDE SHEET'!$A$2:$A$206,FALSE),4))","v":""},null,""]
[null,null,null,null,null,{"$f":"IF(ISBLANK(C539),\"\",_xlfn.CONCAT(LEFT(C539,4),\"-\",LEFT(B539,4),COUNTIF($C$11:C539,C539)))","v":""},{"$f":"IF(ISBLANK(B539),\"\",INDEX('Est. Useful Life - HIDE SHEET'!$A$2:$D$206,MATCH(CONCATENATE(B539,C539),'Est. Useful Life - HIDE SHEET'!$A$2:$A$206,FALSE),4))","v":""},null,""]
[null,null,null,null,null,{"$f":"IF(ISBLANK(C540),\"\",_xlfn.CONCAT(LEFT(C540,4),\"-\",LEFT(B540,4),COUNTIF($C$11:C540,C540)))","v":""},{"$f":"IF(ISBLANK(B540),\"\",INDEX('Est. Useful Life - HIDE SHEET'!$A$2:$D$206,MATCH(CONCATENATE(B540,C540),'Est. Useful Life - HIDE SHEET'!$A$2:$A$206,FALSE),4))","v":""},null,""]
[null,null,null,null,null,{"$f":"IF(ISBLANK(C541),\"\",_xlfn.CONCAT(LEFT(C541,4),\"-\",LEFT(B541,4),COUNTIF($C$11:C541,C541)))","v":""},{"$f":"IF(ISBLANK(B541),\"\",INDEX('Est. Useful Life - HIDE SHEET'!$A$2:$D$206,MATCH(CONCATENATE(B541,C541),'Est. Useful Life - HIDE SHEET'!$A$2:$A$206,FALSE),4))","v":""},null,""]
[null,null,null,null,null,{"$f":"IF(ISBLANK(C542),\"\",_xlfn.CONCAT(LEFT(C542,4),\"-\",LEFT(B542,4),COUNTIF($C$11:C542,C542)))","v":""},{"$f":"IF(ISBLANK(B542),\"\",INDEX('Est. Useful Life - HIDE SHEET'!$A$2:$D$206,MATCH(CONCATENATE(B542,C542),'Est. Useful Life - HIDE SHEET'!$A$2:$A$206,FALSE),4))","v":""},null,""]
[null,null,null,null,null,{"$f":"IF(ISBLANK(C543),\"\",_xlfn.CONCAT(LEFT(C543,4),\"-\",LEFT(B543,4),COUNTIF($C$11:C543,C543)))","v":""},{"$f":"IF(ISBLANK(B543),\"\",INDEX('Est. Useful Life - HIDE SHEET'!$A$2:$D$206,MATCH(CONCATENATE(B543,C543),'Est. Useful Life - HIDE SHEET'!$A$2:$A$206,FALSE),4))","v":""},null,""]
[null,null,null,null,null,{"$f":"IF(ISBLANK(C544),\"\",_xlfn.CONCAT(LEFT(C544,4),\"-\",LEFT(B544,4),COUNTIF($C$11:C544,C544)))","v":""},{"$f":"IF(ISBLANK(B544),\"\",INDEX('Est. Useful Life - HIDE SHEET'!$A$2:$D$206,MATCH(CONCATENATE(B544,C544),'Est. Useful Life - HIDE SHEET'!$A$2:$A$206,FALSE),4))","v":""},null,""]
[null,null,null,null,null,{"$f":"IF(ISBLANK(C545),\"\",_xlfn.CONCAT(LEFT(C545,4),\"-\",LEFT(B545,4),COUNTIF($C$11:C545,C545)))","v":""},{"$f":"IF(ISBLANK(B545),\"\",INDEX('Est. Useful Life - HIDE SHEET'!$A$2:$D$206,MATCH(CONCATENATE(B545,C545),'Est. Useful Life - HIDE SHEET'!$A$2:$A$206,FALSE),4))","v":""},null,""]
[null,null,null,null,null,{"$f":"IF(ISBLANK(C546),\"\",_xlfn.CONCAT(LEFT(C546,4),\"-\",LEFT(B546,4),COUNTIF($C$11:C546,C546)))","v":""},{"$f":"IF(ISBLANK(B546),\"\",INDEX('Est. Useful Life - HIDE SHEET'!$A$2:$D$206,MATCH(CONCATENATE(B546,C546),'Est. Useful Life - HIDE SHEET'!$A$2:$A$206,FALSE),4))","v":""},null,""]
[null,null,null,null,null,{"$f":"IF(ISBLANK(C547),\"\",_xlfn.CONCAT(LEFT(C547,4),\"-\",LEFT(B547,4),COUNTIF($C$11:C547,C547)))","v":""},{"$f":"IF(ISBLANK(B547),\"\",INDEX('Est. Useful Life - HIDE SHEET'!$A$2:$D$206,MATCH(CONCATENATE(B547,C547),'Est. Useful Life - HIDE SHEET'!$A$2:$A$206,FALSE),4))","v":""},null,""]
[null,null,null,null,null,{"$f":"IF(ISBLANK(C548),\"\",_xlfn.CONCAT(LEFT(C548,4),\"-\",LEFT(B548,4),COUNTIF($C$11:C548,C548)))","v":""},{"$f":"IF(ISBLANK(B548),\"\",INDEX('Est. Useful Life - HIDE SHEET'!$A$2:$D$206,MATCH(CONCATENATE(B548,C548),'Est. Useful Life - HIDE SHEET'!$A$2:$A$206,FALSE),4))","v":""},null,""]
[null,null,null,null,null,{"$f":"IF(ISBLANK(C549),\"\",_xlfn.CONCAT(LEFT(C549,4),\"-\",LEFT(B549,4),COUNTIF($C$11:C549,C549)))","v":""},{"$f":"IF(ISBLANK(B549),\"\",INDEX('Est. Useful Life - HIDE SHEET'!$A$2:$D$206,MATCH(CONCATENATE(B549,C549),'Est. Useful Life - HIDE SHEET'!$A$2:$A$206,FALSE),4))","v":""},null,""]
[null,null,null,null,null,{"$f":"IF(ISBLANK(C550),\"\",_xlfn.CONCAT(LEFT(C550,4),\"-\",LEFT(B550,4),COUNTIF($C$11:C550,C550)))","v":""},{"$f":"IF(ISBLANK(B550),\"\",INDEX('Est. Useful Life - HIDE SHEET'!$A$2:$D$206,MATCH(CONCATENATE(B550,C550),'Est. Useful Life - HIDE SHEET'!$A$2:$A$206,FALSE),4))","v":""},null,""]
[null,null,null,null,null,{"$f":"IF(ISBLANK(C551),\"\",_xlfn.CONCAT(LEFT(C551,4),\"-\",LEFT(B551,4),COUNTIF($C$11:C551,C551)))","v":""},{"$f":"IF(ISBLANK(B551),\"\",INDEX('Est. Useful Life - HIDE SHEET'!$A$2:$D$206,MATCH(CONCATENATE(B551,C551),'Est. Useful Life - HIDE SHEET'!$A$2:$A$206,FALSE),4))","v":""},null,""]
[null,null,null,null,null,{"$f":"IF(ISBLANK(C552),\"\",_xlfn.CONCAT(LEFT(C552,4),\"-\",LEFT(B552,4),COUNTIF($C$11:C552,C552)))","v":""},{"$f":"IF(ISBLANK(B552),\"\",INDEX('Est. Useful Life - HIDE SHEET'!$A$2:$D$206,MATCH(CONCATENATE(B552,C552),'Est. Useful Life - HIDE SHEET'!$A$2:$A$206,FALSE),4))","v":""},null,""]
[null,null,null,null,null,{"$f":"IF(ISBLANK(C553),\"\",_xlfn.CONCAT(LEFT(C553,4),\"-\",LEFT(B553,4),COUNTIF($C$11:C553,C553)))","v":""},{"$f":"IF(ISBLANK(B553),\"\",INDEX('Est. Useful Life - HIDE SHEET'!$A$2:$D$206,MATCH(CONCATENATE(B553,C553),'Est. Useful Life - HIDE SHEET'!$A$2:$A$206,FALSE),4))","v":""},null,""]
[null,null,null,null,null,{"$f":"IF(ISBLANK(C554),\"\",_xlfn.CONCAT(LEFT(C554,4),\"-\",LEFT(B554,4),COUNTIF($C$11:C554,C554)))","v":""},{"$f":"IF(ISBLANK(B554),\"\",INDEX('Est. Useful Life - HIDE SHEET'!$A$2:$D$206,MATCH(CONCATENATE(B554,C554),'Est. Useful Life - HIDE SHEET'!$A$2:$A$206,FALSE),4))","v":""},null,""]
[null,null,null,null,null,{"$f":"IF(ISBLANK(C555),\"\",_xlfn.CONCAT(LEFT(C555,4),\"-\",LEFT(B555,4),COUNTIF($C$11:C555,C555)))","v":""},{"$f":"IF(ISBLANK(B555),\"\",INDEX('Est. Useful Life - HIDE SHEET'!$A$2:$D$206,MATCH(CONCATENATE(B555,C555),'Est. Useful Life - HIDE SHEET'!$A$2:$A$206,FALSE),4))","v":""},null,""]
[null,null,null,null,null,{"$f":"IF(ISBLANK(C556),\"\",_xlfn.CONCAT(LEFT(C556,4),\"-\",LEFT(B556,4),COUNTIF($C$11:C556,C556)))","v":""},{"$f":"IF(ISBLANK(B556),\"\",INDEX('Est. Useful Life - HIDE SHEET'!$A$2:$D$206,MATCH(CONCATENATE(B556,C556),'Est. Useful Life - HIDE SHEET'!$A$2:$A$206,FALSE),4))","v":""},null,""]
[null,null,null,null,null,{"$f":"IF(ISBLANK(C557),\"\",_xlfn.CONCAT(LEFT(C557,4),\"-\",LEFT(B557,4),COUNTIF($C$11:C557,C557)))","v":""},{"$f":"IF(ISBLANK(B557),\"\",INDEX('Est. Useful Life - HIDE SHEET'!$A$2:$D$206,MATCH(CONCATENATE(B557,C557),'Est. Useful Life - HIDE SHEET'!$A$2:$A$206,FALSE),4))","v":""},null,""]
[null,null,null,null,null,{"$f":"IF(ISBLANK(C558),\"\",_xlfn.CONCAT(LEFT(C558,4),\"-\",LEFT(B558,4),COUNTIF($C$11:C558,C558)))","v":""},{"$f":"IF(ISBLANK(B558),\"\",INDEX('Est. Useful Life - HIDE SHEET'!$A$2:$D$206,MATCH(CONCATENATE(B558,C558),'Est. Useful Life - HIDE SHEET'!$A$2:$A$206,FALSE),4))","v":""},null,""]
[null,null,null,null,null,{"$f":"IF(ISBLANK(C559),\"\",_xlfn.CONCAT(LEFT(C559,4),\"-\",LEFT(B559,4),COUNTIF($C$11:C559,C559)))","v":""},{"$f":"IF(ISBLANK(B559),\"\",INDEX('Est. Useful Life - HIDE SHEET'!$A$2:$D$206,MATCH(CONCATENATE(B559,C559),'Est. Useful Life - HIDE SHEET'!$A$2:$A$206,FALSE),4))","v":""},null,""]
[null,null,null,null,null,{"$f":"IF(ISBLANK(C560),\"\",_xlfn.CONCAT(LEFT(C560,4),\"-\",LEFT(B560,4),COUNTIF($C$11:C560,C560)))","v":""},{"$f":"IF(ISBLANK(B560),\"\",INDEX('Est. Useful Life - HIDE SHEET'!$A$2:$D$206,MATCH(CONCATENATE(B560,C560),'Est. Useful Life - HIDE SHEET'!$A$2:$A$206,FALSE),4))","v":""},null,""]
[null,null,null,null,null,{"$f":"IF(ISBLANK(C561),\"\",_xlfn.CONCAT(LEFT(C561,4),\"-\",LEFT(B561,4),COUNTIF($C$11:C561,C561)))","v":""},{"$f":"IF(ISBLANK(B561),\"\",INDEX('Est. Useful Life - HIDE SHEET'!$A$2:$D$206,MATCH(CONCATENATE(B561,C561),'Est. Useful Life - HIDE SHEET'!$A$2:$A$206,FALSE),4))","v":""},null,""]
[null,null,null,null,null,{"$f":"IF(ISBLANK(C562),\"\",_xlfn.CONCAT(LEFT(C562,4),\"-\",LEFT(B562,4),COUNTIF($C$11:C562,C562)))","v":""},{"$f":"IF(ISBLANK(B562),\"\",INDEX('Est. Useful Life - HIDE SHEET'!$A$2:$D$206,MATCH(CONCATENATE(B562,C562),'Est. Useful Life - HIDE SHEET'!$A$2:$A$206,FALSE),4))","v":""},null,""]
[null,null,null,null,null,{"$f":"IF(ISBLANK(C563),\"\",_xlfn.CONCAT(LEFT(C563,4),\"-\",LEFT(B563,4),COUNTIF($C$11:C563,C563)))","v":""},{"$f":"IF(ISBLANK(B563),\"\",INDEX('Est. Useful Life - HIDE SHEET'!$A$2:$D$206,MATCH(CONCATENATE(B563,C563),'Est. Useful Life - HIDE SHEET'!$A$2:$A$206,FALSE),4))","v":""},null,""]
[null,null,null,null,null,{"$f":"IF(ISBLANK(C564),\"\",_xlfn.CONCAT(LEFT(C564,4),\"-\",LEFT(B564,4),COUNTIF($C$11:C564,C564)))","v":""},{"$f":"IF(ISBLANK(B564),\"\",INDEX('Est. Useful Life - HIDE SHEET'!$A$2:$D$206,MATCH(CONCATENATE(B564,C564),'Est. Useful Life - HIDE SHEET'!$A$2:$A$206,FALSE),4))","v":""},null,""]
[null,null,null,null,null,{"$f":"IF(ISBLANK(C565),\"\",_xlfn.CONCAT(LEFT(C565,4),\"-\",LEFT(B565,4),COUNTIF($C$11:C565,C565)))","v":""},{"$f":"IF(ISBLANK(B565),\"\",INDEX('Est. Useful Life - HIDE SHEET'!$A$2:$D$206,MATCH(CONCATENATE(B565,C565),'Est. Useful Life - HIDE SHEET'!$A$2:$A$206,FALSE),4))","v":""},null,""]
[null,null,null,null,null,{"$f":"IF(ISBLANK(C566),\"\",_xlfn.CONCAT(LEFT(C566,4),\"-\",LEFT(B566,4),COUNTIF($C$11:C566,C566)))","v":""},{"$f":"IF(ISBLANK(B566),\"\",INDEX('Est. Useful Life - HIDE SHEET'!$A$2:$D$206,MATCH(CONCATENATE(B566,C566),'Est. Useful Life - HIDE SHEET'!$A$2:$A$206,FALSE),4))","v":""},null,""]
[null,null,null,null,null,{"$f":"IF(ISBLANK(C567),\"\",_xlfn.CONCAT(LEFT(C567,4),\"-\",LEFT(B567,4),COUNTIF($C$11:C567,C567)))","v":""},{"$f":"IF(ISBLANK(B567),\"\",INDEX('Est. Useful Life - HIDE SHEET'!$A$2:$D$206,MATCH(CONCATENATE(B567,C567),'Est. Useful Life - HIDE SHEET'!$A$2:$A$206,FALSE),4))","v":""},null,""]
[null,null,null,null,null,{"$f":"IF(ISBLANK(C568),\"\",_xlfn.CONCAT(LEFT(C568,4),\"-\",LEFT(B568,4),COUNTIF($C$11:C568,C568)))","v":""},{"$f":"IF(ISBLANK(B568),\"\",INDEX('Est. Useful Life - HIDE SHEET'!$A$2:$D$206,MATCH(CONCATENATE(B568,C568),'Est. Useful Life - HIDE SHEET'!$A$2:$A$206,FALSE),4))","v":""},null,""]
[null,null,null,null,null,{"$f":"IF(ISBLANK(C569),\"\",_xlfn.CONCAT(LEFT(C569,4),\"-\",LEFT(B569,4),COUNTIF($C$11:C569,C569)))","v":""},{"$f":"IF(ISBLANK(B569),\"\",INDEX('Est. Useful Life - HIDE SHEET'!$A$2:$D$206,MATCH(CONCATENATE(B569,C569),'Est. Useful Life - HIDE SHEET'!$A$2:$A$206,FALSE),4))","v":""},null,""]
[null,null,null,null,null,{"$f":"IF(ISBLANK(C570),\"\",_xlfn.CONCAT(LEFT(C570,4),\"-\",LEFT(B570,4),COUNTIF($C$11:C570,C570)))","v":""},{"$f":"IF(ISBLANK(B570),\"\",INDEX('Est. Useful Life - HIDE SHEET'!$A$2:$D$206,MATCH(CONCATENATE(B570,C570),'Est. Useful Life - HIDE SHEET'!$A$2:$A$206,FALSE),4))","v":""},null,""]
[null,null,null,null,null,{"$f":"IF(ISBLANK(C571),\"\",_xlfn.CONCAT(LEFT(C571,4),\"-\",LEFT(B571,4),COUNTIF($C$11:C571,C571)))","v":""},{"$f":"IF(ISBLANK(B571),\"\",INDEX('Est. Useful Life - HIDE SHEET'!$A$2:$D$206,MATCH(CONCATENATE(B571,C571),'Est. Useful Life - HIDE SHEET'!$A$2:$A$206,FALSE),4))","v":""},null,""]
[null,null,null,null,null,{"$f":"IF(ISBLANK(C572),\"\",_xlfn.CONCAT(LEFT(C572,4),\"-\",LEFT(B572,4),COUNTIF($C$11:C572,C572)))","v":""},{"$f":"IF(ISBLANK(B572),\"\",INDEX('Est. Useful Life - HIDE SHEET'!$A$2:$D$206,MATCH(CONCATENATE(B572,C572),'Est. Useful Life - HIDE SHEET'!$A$2:$A$206,FALSE),4))","v":""},null,""]
[null,null,null,null,null,{"$f":"IF(ISBLANK(C573),\"\",_xlfn.CONCAT(LEFT(C573,4),\"-\",LEFT(B573,4),COUNTIF($C$11:C573,C573)))","v":""},{"$f":"IF(ISBLANK(B573),\"\",INDEX('Est. Useful Life - HIDE SHEET'!$A$2:$D$206,MATCH(CONCATENATE(B573,C573),'Est. Useful Life - HIDE SHEET'!$A$2:$A$206,FALSE),4))","v":""},null,""]
[null,null,null,null,null,{"$f":"IF(ISBLANK(C574),\"\",_xlfn.CONCAT(LEFT(C574,4),\"-\",LEFT(B574,4),COUNTIF($C$11:C574,C574)))","v":""},{"$f":"IF(ISBLANK(B574),\"\",INDEX('Est. Useful Life - HIDE SHEET'!$A$2:$D$206,MATCH(CONCATENATE(B574,C574),'Est. Useful Life - HIDE SHEET'!$A$2:$A$206,FALSE),4))","v":""},null,""]
[null,null,null,null,null,{"$f":"IF(ISBLANK(C575),\"\",_xlfn.CONCAT(LEFT(C575,4),\"-\",LEFT(B575,4),COUNTIF($C$11:C575,C575)))","v":""},{"$f":"IF(ISBLANK(B575),\"\",INDEX('Est. Useful Life - HIDE SHEET'!$A$2:$D$206,MATCH(CONCATENATE(B575,C575),'Est. Useful Life - HIDE SHEET'!$A$2:$A$206,FALSE),4))","v":""},null,""]
[null,null,null,null,null,{"$f":"IF(ISBLANK(C576),\"\",_xlfn.CONCAT(LEFT(C576,4),\"-\",LEFT(B576,4),COUNTIF($C$11:C576,C576)))","v":""},{"$f":"IF(ISBLANK(B576),\"\",INDEX('Est. Useful Life - HIDE SHEET'!$A$2:$D$206,MATCH(CONCATENATE(B576,C576),'Est. Useful Life - HIDE SHEET'!$A$2:$A$206,FALSE),4))","v":""},null,""]
[null,null,null,null,null,{"$f":"IF(ISBLANK(C577),\"\",_xlfn.CONCAT(LEFT(C577,4),\"-\",LEFT(B577,4),COUNTIF($C$11:C577,C577)))","v":""},{"$f":"IF(ISBLANK(B577),\"\",INDEX('Est. Useful Life - HIDE SHEET'!$A$2:$D$206,MATCH(CONCATENATE(B577,C577),'Est. Useful Life - HIDE SHEET'!$A$2:$A$206,FALSE),4))","v":""},null,""]
[null,null,null,null,null,{"$f":"IF(ISBLANK(C578),\"\",_xlfn.CONCAT(LEFT(C578,4),\"-\",LEFT(B578,4),COUNTIF($C$11:C578,C578)))","v":""},{"$f":"IF(ISBLANK(B578),\"\",INDEX('Est. Useful Life - HIDE SHEET'!$A$2:$D$206,MATCH(CONCATENATE(B578,C578),'Est. Useful Life - HIDE SHEET'!$A$2:$A$206,FALSE),4))","v":""},null,""]
[null,null,null,null,null,{"$f":"IF(ISBLANK(C579),\"\",_xlfn.CONCAT(LEFT(C579,4),\"-\",LEFT(B579,4),COUNTIF($C$11:C579,C579)))","v":""},{"$f":"IF(ISBLANK(B579),\"\",INDEX('Est. Useful Life - HIDE SHEET'!$A$2:$D$206,MATCH(CONCATENATE(B579,C579),'Est. Useful Life - HIDE SHEET'!$A$2:$A$206,FALSE),4))","v":""},null,""]
[null,null,null,null,null,{"$f":"IF(ISBLANK(C580),\"\",_xlfn.CONCAT(LEFT(C580,4),\"-\",LEFT(B580,4),COUNTIF($C$11:C580,C580)))","v":""},{"$f":"IF(ISBLANK(B580),\"\",INDEX('Est. Useful Life - HIDE SHEET'!$A$2:$D$206,MATCH(CONCATENATE(B580,C580),'Est. Useful Life - HIDE SHEET'!$A$2:$A$206,FALSE),4))","v":""},null,""]
[null,null,null,null,null,{"$f":"IF(ISBLANK(C581),\"\",_xlfn.CONCAT(LEFT(C581,4),\"-\",LEFT(B581,4),COUNTIF($C$11:C581,C581)))","v":""},{"$f":"IF(ISBLANK(B581),\"\",INDEX('Est. Useful Life - HIDE SHEET'!$A$2:$D$206,MATCH(CONCATENATE(B581,C581),'Est. Useful Life - HIDE SHEET'!$A$2:$A$206,FALSE),4))","v":""},null,""]
[null,null,null,null,null,{"$f":"IF(ISBLANK(C582),\"\",_xlfn.CONCAT(LEFT(C582,4),\"-\",LEFT(B582,4),COUNTIF($C$11:C582,C582)))","v":""},{"$f":"IF(ISBLANK(B582),\"\",INDEX('Est. Useful Life - HIDE SHEET'!$A$2:$D$206,MATCH(CONCATENATE(B582,C582),'Est. Useful Life - HIDE SHEET'!$A$2:$A$206,FALSE),4))","v":""},null,""]
[null,null,null,null,null,{"$f":"IF(ISBLANK(C583),\"\",_xlfn.CONCAT(LEFT(C583,4),\"-\",LEFT(B583,4),COUNTIF($C$11:C583,C583)))","v":""},{"$f":"IF(ISBLANK(B583),\"\",INDEX('Est. Useful Life - HIDE SHEET'!$A$2:$D$206,MATCH(CONCATENATE(B583,C583),'Est. Useful Life - HIDE SHEET'!$A$2:$A$206,FALSE),4))","v":""},null,""]
[null,null,null,null,null,{"$f":"IF(ISBLANK(C584),\"\",_xlfn.CONCAT(LEFT(C584,4),\"-\",LEFT(B584,4),COUNTIF($C$11:C584,C584)))","v":""},{"$f":"IF(ISBLANK(B584),\"\",INDEX('Est. Useful Life - HIDE SHEET'!$A$2:$D$206,MATCH(CONCATENATE(B584,C584),'Est. Useful Life - HIDE SHEET'!$A$2:$A$206,FALSE),4))","v":""},null,""]
[null,null,null,null,null,{"$f":"IF(ISBLANK(C585),\"\",_xlfn.CONCAT(LEFT(C585,4),\"-\",LEFT(B585,4),COUNTIF($C$11:C585,C585)))","v":""},{"$f":"IF(ISBLANK(B585),\"\",INDEX('Est. Useful Life - HIDE SHEET'!$A$2:$D$206,MATCH(CONCATENATE(B585,C585),'Est. Useful Life - HIDE SHEET'!$A$2:$A$206,FALSE),4))","v":""},null,""]
[null,null,null,null,null,{"$f":"IF(ISBLANK(C586),\"\",_xlfn.CONCAT(LEFT(C586,4),\"-\",LEFT(B586,4),COUNTIF($C$11:C586,C586)))","v":""},{"$f":"IF(ISBLANK(B586),\"\",INDEX('Est. Useful Life - HIDE SHEET'!$A$2:$D$206,MATCH(CONCATENATE(B586,C586),'Est. Useful Life - HIDE SHEET'!$A$2:$A$206,FALSE),4))","v":""},null,""]
[null,null,null,null,null,{"$f":"IF(ISBLANK(C587),\"\",_xlfn.CONCAT(LEFT(C587,4),\"-\",LEFT(B587,4),COUNTIF($C$11:C587,C587)))","v":""},{"$f":"IF(ISBLANK(B587),\"\",INDEX('Est. Useful Life - HIDE SHEET'!$A$2:$D$206,MATCH(CONCATENATE(B587,C587),'Est. Useful Life - HIDE SHEET'!$A$2:$A$206,FALSE),4))","v":""},null,""]
[null,null,null,null,null,{"$f":"IF(ISBLANK(C588),\"\",_xlfn.CONCAT(LEFT(C588,4),\"-\",LEFT(B588,4),COUNTIF($C$11:C588,C588)))","v":""},{"$f":"IF(ISBLANK(B588),\"\",INDEX('Est. Useful Life - HIDE SHEET'!$A$2:$D$206,MATCH(CONCATENATE(B588,C588),'Est. Useful Life - HIDE SHEET'!$A$2:$A$206,FALSE),4))","v":""},null,""]
[null,null,null,null,null,{"$f":"IF(ISBLANK(C589),\"\",_xlfn.CONCAT(LEFT(C589,4),\"-\",LEFT(B589,4),COUNTIF($C$11:C589,C589)))","v":""},{"$f":"IF(ISBLANK(B589),\"\",INDEX('Est. Useful Life - HIDE SHEET'!$A$2:$D$206,MATCH(CONCATENATE(B589,C589),'Est. Useful Life - HIDE SHEET'!$A$2:$A$206,FALSE),4))","v":""},null,""]
[null,null,null,null,null,{"$f":"IF(ISBLANK(C590),\"\",_xlfn.CONCAT(LEFT(C590,4),\"-\",LEFT(B590,4),COUNTIF($C$11:C590,C590)))","v":""},{"$f":"IF(ISBLANK(B590),\"\",INDEX('Est. Useful Life - HIDE SHEET'!$A$2:$D$206,MATCH(CONCATENATE(B590,C590),'Est. Useful Life - HIDE SHEET'!$A$2:$A$206,FALSE),4))","v":""},null,""]
[null,null,null,null,null,{"$f":"IF(ISBLANK(C591),\"\",_xlfn.CONCAT(LEFT(C591,4),\"-\",LEFT(B591,4),COUNTIF($C$11:C591,C591)))","v":""},{"$f":"IF(ISBLANK(B591),\"\",INDEX('Est. Useful Life - HIDE SHEET'!$A$2:$D$206,MATCH(CONCATENATE(B591,C591),'Est. Useful Life - HIDE SHEET'!$A$2:$A$206,FALSE),4))","v":""},null,""]
[null,null,null,null,null,{"$f":"IF(ISBLANK(C592),\"\",_xlfn.CONCAT(LEFT(C592,4),\"-\",LEFT(B592,4),COUNTIF($C$11:C592,C592)))","v":""},{"$f":"IF(ISBLANK(B592),\"\",INDEX('Est. Useful Life - HIDE SHEET'!$A$2:$D$206,MATCH(CONCATENATE(B592,C592),'Est. Useful Life - HIDE SHEET'!$A$2:$A$206,FALSE),4))","v":""},null,""]
[null,null,null,null,null,{"$f":"IF(ISBLANK(C593),\"\",_xlfn.CONCAT(LEFT(C593,4),\"-\",LEFT(B593,4),COUNTIF($C$11:C593,C593)))","v":""},{"$f":"IF(ISBLANK(B593),\"\",INDEX('Est. Useful Life - HIDE SHEET'!$A$2:$D$206,MATCH(CONCATENATE(B593,C593),'Est. Useful Life - HIDE SHEET'!$A$2:$A$206,FALSE),4))","v":""},null,""]
[null,null,null,null,null,{"$f":"IF(ISBLANK(C594),\"\",_xlfn.CONCAT(LEFT(C594,4),\"-\",LEFT(B594,4),COUNTIF($C$11:C594,C594)))","v":""},{"$f":"IF(ISBLANK(B594),\"\",INDEX('Est. Useful Life - HIDE SHEET'!$A$2:$D$206,MATCH(CONCATENATE(B594,C594),'Est. Useful Life - HIDE SHEET'!$A$2:$A$206,FALSE),4))","v":""},null,{"$f":"IF(ISNUMBER(G594),IF(ISNUMBER(H594),IF((G594-(INT((TODAY()-H594)/365)))<0,0,G594-(INT((TODAY()-H594)/365))),\"\"),\"\")","v":""}]
[null,null,null,null,null,{"$f":"IF(ISBLANK(C595),\"\",_xlfn.CONCAT(LEFT(C595,4),\"-\",LEFT(B595,4),COUNTIF($C$11:C595,C595)))","v":""},{"$f":"IF(ISBLANK(B595),\"\",INDEX('Est. Useful Life - HIDE SHEET'!$A$2:$D$206,MATCH(CONCATENATE(B595,C595),'Est. Useful Life - HIDE SHEET'!$A$2:$A$206,FALSE),4))","v":""},null,""]
[null,null,null,null,null,{"$f":"IF(ISBLANK(C596),\"\",_xlfn.CONCAT(LEFT(C596,4),\"-\",LEFT(B596,4),COUNTIF($C$11:C596,C596)))","v":""},{"$f":"IF(ISBLANK(B596),\"\",INDEX('Est. Useful Life - HIDE SHEET'!$A$2:$D$206,MATCH(CONCATENATE(B596,C596),'Est. Useful Life - HIDE SHEET'!$A$2:$A$206,FALSE),4))","v":""},null,""]
[null,null,null,null,null,{"$f":"IF(ISBLANK(C597),\"\",_xlfn.CONCAT(LEFT(C597,4),\"-\",LEFT(B597,4),COUNTIF($C$11:C597,C597)))","v":""},{"$f":"IF(ISBLANK(B597),\"\",INDEX('Est. Useful Life - HIDE SHEET'!$A$2:$D$206,MATCH(CONCATENATE(B597,C597),'Est. Useful Life - HIDE SHEET'!$A$2:$A$206,FALSE),4))","v":""},null,""]
[null,null,null,null,null,{"$f":"IF(ISBLANK(C598),\"\",_xlfn.CONCAT(LEFT(C598,4),\"-\",LEFT(B598,4),COUNTIF($C$11:C598,C598)))","v":""},{"$f":"IF(ISBLANK(B598),\"\",INDEX('Est. Useful Life - HIDE SHEET'!$A$2:$D$206,MATCH(CONCATENATE(B598,C598),'Est. Useful Life - HIDE SHEET'!$A$2:$A$206,FALSE),4))","v":""},null,""]
[null,null,null,null,null,{"$f":"IF(ISBLANK(C599),\"\",_xlfn.CONCAT(LEFT(C599,4),\"-\",LEFT(B599,4),COUNTIF($C$11:C599,C599)))","v":""},{"$f":"IF(ISBLANK(B599),\"\",INDEX('Est. Useful Life - HIDE SHEET'!$A$2:$D$206,MATCH(CONCATENATE(B599,C599),'Est. Useful Life - HIDE SHEET'!$A$2:$A$206,FALSE),4))","v":""},null,""]
[null,null,null,null,null,{"$f":"IF(ISBLANK(C600),\"\",_xlfn.CONCAT(LEFT(C600,4),\"-\",LEFT(B600,4),COUNTIF($C$11:C600,C600)))","v":""},{"$f":"IF(ISBLANK(B600),\"\",INDEX('Est. Useful Life - HIDE SHEET'!$A$2:$D$206,MATCH(CONCATENATE(B600,C600),'Est. Useful Life - HIDE SHEET'!$A$2:$A$206,FALSE),4))","v":""},null,""]
[null,null,null,null,null,{"$f":"IF(ISBLANK(C601),\"\",_xlfn.CONCAT(LEFT(C601,4),\"-\",LEFT(B601,4),COUNTIF($C$11:C601,C601)))","v":""},{"$f":"IF(ISBLANK(B601),\"\",INDEX('Est. Useful Life - HIDE SHEET'!$A$2:$D$206,MATCH(CONCATENATE(B601,C601),'Est. Useful Life - HIDE SHEET'!$A$2:$A$206,FALSE),4))","v":""},null,""]
[null,null,null,null,null,{"$f":"IF(ISBLANK(C602),\"\",_xlfn.CONCAT(LEFT(C602,4),\"-\",LEFT(B602,4),COUNTIF($C$11:C602,C602)))","v":""},{"$f":"IF(ISBLANK(B602),\"\",INDEX('Est. Useful Life - HIDE SHEET'!$A$2:$D$206,MATCH(CONCATENATE(B602,C602),'Est. Useful Life - HIDE SHEET'!$A$2:$A$206,FALSE),4))","v":""},null,""]
[null,null,null,null,null,{"$f":"IF(ISBLANK(C603),\"\",_xlfn.CONCAT(LEFT(C603,4),\"-\",LEFT(B603,4),COUNTIF($C$11:C603,C603)))","v":""},{"$f":"IF(ISBLANK(B603),\"\",INDEX('Est. Useful Life - HIDE SHEET'!$A$2:$D$206,MATCH(CONCATENATE(B603,C603),'Est. Useful Life - HIDE SHEET'!$A$2:$A$206,FALSE),4))","v":""},null,""]
[null,null,null,null,null,{"$f":"IF(ISBLANK(C604),\"\",_xlfn.CONCAT(LEFT(C604,4),\"-\",LEFT(B604,4),COUNTIF($C$11:C604,C604)))","v":""},{"$f":"IF(ISBLANK(B604),\"\",INDEX('Est. Useful Life - HIDE SHEET'!$A$2:$D$206,MATCH(CONCATENATE(B604,C604),'Est. Useful Life - HIDE SHEET'!$A$2:$A$206,FALSE),4))","v":""},null,""]
[null,null,null,null,null,{"$f":"IF(ISBLANK(C605),\"\",_xlfn.CONCAT(LEFT(C605,4),\"-\",LEFT(B605,4),COUNTIF($C$11:C605,C605)))","v":""},{"$f":"IF(ISBLANK(B605),\"\",INDEX('Est. Useful Life - HIDE SHEET'!$A$2:$D$206,MATCH(CONCATENATE(B605,C605),'Est. Useful Life - HIDE SHEET'!$A$2:$A$206,FALSE),4))","v":""},null,""]
[null,null,null,null,null,{"$f":"IF(ISBLANK(C606),\"\",_xlfn.CONCAT(LEFT(C606,4),\"-\",LEFT(B606,4),COUNTIF($C$11:C606,C606)))","v":""},{"$f":"IF(ISBLANK(B606),\"\",INDEX('Est. Useful Life - HIDE SHEET'!$A$2:$D$206,MATCH(CONCATENATE(B606,C606),'Est. Useful Life - HIDE SHEET'!$A$2:$A$206,FALSE),4))","v":""},null,""]
[null,null,null,null,null,{"$f":"IF(ISBLANK(C607),\"\",_xlfn.CONCAT(LEFT(C607,4),\"-\",LEFT(B607,4),COUNTIF($C$11:C607,C607)))","v":""},{"$f":"IF(ISBLANK(B607),\"\",INDEX('Est. Useful Life - HIDE SHEET'!$A$2:$D$206,MATCH(CONCATENATE(B607,C607),'Est. Useful Life - HIDE SHEET'!$A$2:$A$206,FALSE),4))","v":""},null,""]
[null,null,null,null,null,{"$f":"IF(ISBLANK(C608),\"\",_xlfn.CONCAT(LEFT(C608,4),\"-\",LEFT(B608,4),COUNTIF($C$11:C608,C608)))","v":""},{"$f":"IF(ISBLANK(B608),\"\",INDEX('Est. Useful Life - HIDE SHEET'!$A$2:$D$206,MATCH(CONCATENATE(B608,C608),'Est. Useful Life - HIDE SHEET'!$A$2:$A$206,FALSE),4))","v":""},null,""]
[null,null,null,null,null,{"$f":"IF(ISBLANK(C609),\"\",_xlfn.CONCAT(LEFT(C609,4),\"-\",LEFT(B609,4),COUNTIF($C$11:C609,C609)))","v":""},{"$f":"IF(ISBLANK(B609),\"\",INDEX('Est. Useful Life - HIDE SHEET'!$A$2:$D$206,MATCH(CONCATENATE(B609,C609),'Est. Useful Life - HIDE SHEET'!$A$2:$A$206,FALSE),4))","v":""},null,""]
[null,null,null,null,null,{"$f":"IF(ISBLANK(C610),\"\",_xlfn.CONCAT(LEFT(C610,4),\"-\",LEFT(B610,4),COUNTIF($C$11:C610,C610)))","v":""},{"$f":"IF(ISBLANK(B610),\"\",INDEX('Est. Useful Life - HIDE SHEET'!$A$2:$D$206,MATCH(CONCATENATE(B610,C610),'Est. Useful Life - HIDE SHEET'!$A$2:$A$206,FALSE),4))","v":""},null,""]
[null,null,null,null,null,{"$f":"IF(ISBLANK(C611),\"\",_xlfn.CONCAT(LEFT(C611,4),\"-\",LEFT(B611,4),COUNTIF($C$11:C611,C611)))","v":""},{"$f":"IF(ISBLANK(B611),\"\",INDEX('Est. Useful Life - HIDE SHEET'!$A$2:$D$206,MATCH(CONCATENATE(B611,C611),'Est. Useful Life - HIDE SHEET'!$A$2:$A$206,FALSE),4))","v":""},null,""]
[null,null,null,null,null,{"$f":"IF(ISBLANK(C612),\"\",_xlfn.CONCAT(LEFT(C612,4),\"-\",LEFT(B612,4),COUNTIF($C$11:C612,C612)))","v":""},{"$f":"IF(ISBLANK(B612),\"\",INDEX('Est. Useful Life - HIDE SHEET'!$A$2:$D$206,MATCH(CONCATENATE(B612,C612),'Est. Useful Life - HIDE SHEET'!$A$2:$A$206,FALSE),4))","v":""},null,""]
[null,null,null,null,null,{"$f":"IF(ISBLANK(C613),\"\",_xlfn.CONCAT(LEFT(C613,4),\"-\",LEFT(B613,4),COUNTIF($C$11:C613,C613)))","v":""},{"$f":"IF(ISBLANK(B613),\"\",INDEX('Est. Useful Life - HIDE SHEET'!$A$2:$D$206,MATCH(CONCATENATE(B613,C613),'Est. Useful Life - HIDE SHEET'!$A$2:$A$206,FALSE),4))","v":""},null,""]
[null,null,null,null,null,{"$f":"IF(ISBLANK(C614),\"\",_xlfn.CONCAT(LEFT(C614,4),\"-\",LEFT(B614,4),COUNTIF($C$11:C614,C614)))","v":""},{"$f":"IF(ISBLANK(B614),\"\",INDEX('Est. Useful Life - HIDE SHEET'!$A$2:$D$206,MATCH(CONCATENATE(B614,C614),'Est. Useful Life - HIDE SHEET'!$A$2:$A$206,FALSE),4))","v":""},null,""]
[null,null,null,null,null,{"$f":"IF(ISBLANK(C615),\"\",_xlfn.CONCAT(LEFT(C615,4),\"-\",LEFT(B615,4),COUNTIF($C$11:C615,C615)))","v":""},{"$f":"IF(ISBLANK(B615),\"\",INDEX('Est. Useful Life - HIDE SHEET'!$A$2:$D$206,MATCH(CONCATENATE(B615,C615),'Est. Useful Life - HIDE SHEET'!$A$2:$A$206,FALSE),4))","v":""},null,""]
[null,null,null,null,null,{"$f":"IF(ISBLANK(C616),\"\",_xlfn.CONCAT(LEFT(C616,4),\"-\",LEFT(B616,4),COUNTIF($C$11:C616,C616)))","v":""},{"$f":"IF(ISBLANK(B616),\"\",INDEX('Est. Useful Life - HIDE SHEET'!$A$2:$D$206,MATCH(CONCATENATE(B616,C616),'Est. Useful Life - HIDE SHEET'!$A$2:$A$206,FALSE),4))","v":""},null,""]
[null,null,null,null,null,{"$f":"IF(ISBLANK(C617),\"\",_xlfn.CONCAT(LEFT(C617,4),\"-\",LEFT(B617,4),COUNTIF($C$11:C617,C617)))","v":""},{"$f":"IF(ISBLANK(B617),\"\",INDEX('Est. Useful Life - HIDE SHEET'!$A$2:$D$206,MATCH(CONCATENATE(B617,C617),'Est. Useful Life - HIDE SHEET'!$A$2:$A$206,FALSE),4))","v":""},null,""]
[null,null,null,null,null,{"$f":"IF(ISBLANK(C618),\"\",_xlfn.CONCAT(LEFT(C618,4),\"-\",LEFT(B618,4),COUNTIF($C$11:C618,C618)))","v":""},{"$f":"IF(ISBLANK(B618),\"\",INDEX('Est. Useful Life - HIDE SHEET'!$A$2:$D$206,MATCH(CONCATENATE(B618,C618),'Est. Useful Life - HIDE SHEET'!$A$2:$A$206,FALSE),4))","v":""},null,""]
[null,null,null,null,null,{"$f":"IF(ISBLANK(C619),\"\",_xlfn.CONCAT(LEFT(C619,4),\"-\",LEFT(B619,4),COUNTIF($C$11:C619,C619)))","v":""},{"$f":"IF(ISBLANK(B619),\"\",INDEX('Est. Useful Life - HIDE SHEET'!$A$2:$D$206,MATCH(CONCATENATE(B619,C619),'Est. Useful Life - HIDE SHEET'!$A$2:$A$206,FALSE),4))","v":""},null,""]
[null,null,null,null,null,{"$f":"IF(ISBLANK(C620),\"\",_xlfn.CONCAT(LEFT(C620,4),\"-\",LEFT(B620,4),COUNTIF($C$11:C620,C620)))","v":""},{"$f":"IF(ISBLANK(B620),\"\",INDEX('Est. Useful Life - HIDE SHEET'!$A$2:$D$206,MATCH(CONCATENATE(B620,C620),'Est. Useful Life - HIDE SHEET'!$A$2:$A$206,FALSE),4))","v":""},null,""]
[null,null,null,null,null,{"$f":"IF(ISBLANK(C621),\"\",_xlfn.CONCAT(LEFT(C621,4),\"-\",LEFT(B621,4),COUNTIF($C$11:C621,C621)))","v":""},{"$f":"IF(ISBLANK(B621),\"\",INDEX('Est. Useful Life - HIDE SHEET'!$A$2:$D$206,MATCH(CONCATENATE(B621,C621),'Est. Useful Life - HIDE SHEET'!$A$2:$A$206,FALSE),4))","v":""},null,""]
[null,null,null,null,null,{"$f":"IF(ISBLANK(C622),\"\",_xlfn.CONCAT(LEFT(C622,4),\"-\",LEFT(B622,4),COUNTIF($C$11:C622,C622)))","v":""},{"$f":"IF(ISBLANK(B622),\"\",INDEX('Est. Useful Life - HIDE SHEET'!$A$2:$D$206,MATCH(CONCATENATE(B622,C622),'Est. Useful Life - HIDE SHEET'!$A$2:$A$206,FALSE),4))","v":""},null,""]
[null,null,null,null,null,{"$f":"IF(ISBLANK(C623),\"\",_xlfn.CONCAT(LEFT(C623,4),\"-\",LEFT(B623,4),COUNTIF($C$11:C623,C623)))","v":""},{"$f":"IF(ISBLANK(B623),\"\",INDEX('Est. Useful Life - HIDE SHEET'!$A$2:$D$206,MATCH(CONCATENATE(B623,C623),'Est. Useful Life - HIDE SHEET'!$A$2:$A$206,FALSE),4))","v":""},null,""]
[null,null,null,null,null,{"$f":"IF(ISBLANK(C624),\"\",_xlfn.CONCAT(LEFT(C624,4),\"-\",LEFT(B624,4),COUNTIF($C$11:C624,C624)))","v":""},{"$f":"IF(ISBLANK(B624),\"\",INDEX('Est. Useful Life - HIDE SHEET'!$A$2:$D$206,MATCH(CONCATENATE(B624,C624),'Est. Useful Life - HIDE SHEET'!$A$2:$A$206,FALSE),4))","v":""},null,""]
[null,null,null,null,null,{"$f":"IF(ISBLANK(C625),\"\",_xlfn.CONCAT(LEFT(C625,4),\"-\",LEFT(B625,4),COUNTIF($C$11:C625,C625)))","v":""},{"$f":"IF(ISBLANK(B625),\"\",INDEX('Est. Useful Life - HIDE SHEET'!$A$2:$D$206,MATCH(CONCATENATE(B625,C625),'Est. Useful Life - HIDE SHEET'!$A$2:$A$206,FALSE),4))","v":""},null,""]
[null,null,null,null,null,{"$f":"IF(ISBLANK(C626),\"\",_xlfn.CONCAT(LEFT(C626,4),\"-\",LEFT(B626,4),COUNTIF($C$11:C626,C626)))","v":""},{"$f":"IF(ISBLANK(B626),\"\",INDEX('Est. Useful Life - HIDE SHEET'!$A$2:$D$206,MATCH(CONCATENATE(B626,C626),'Est. Useful Life - HIDE SHEET'!$A$2:$A$206,FALSE),4))","v":""},null,""]
[null,null,null,null,null,{"$f":"IF(ISBLANK(C627),\"\",_xlfn.CONCAT(LEFT(C627,4),\"-\",LEFT(B627,4),COUNTIF($C$11:C627,C627)))","v":""},{"$f":"IF(ISBLANK(B627),\"\",INDEX('Est. Useful Life - HIDE SHEET'!$A$2:$D$206,MATCH(CONCATENATE(B627,C627),'Est. Useful Life - HIDE SHEET'!$A$2:$A$206,FALSE),4))","v":""},null,""]
[null,null,null,null,null,{"$f":"IF(ISBLANK(C628),\"\",_xlfn.CONCAT(LEFT(C628,4),\"-\",LEFT(B628,4),COUNTIF($C$11:C628,C628)))","v":""},{"$f":"IF(ISBLANK(B628),\"\",INDEX('Est. Useful Life - HIDE SHEET'!$A$2:$D$206,MATCH(CONCATENATE(B628,C628),'Est. Useful Life - HIDE SHEET'!$A$2:$A$206,FALSE),4))","v":""},null,""]
[null,null,null,null,null,{"$f":"IF(ISBLANK(C629),\"\",_xlfn.CONCAT(LEFT(C629,4),\"-\",LEFT(B629,4),COUNTIF($C$11:C629,C629)))","v":""},{"$f":"IF(ISBLANK(B629),\"\",INDEX('Est. Useful Life - HIDE SHEET'!$A$2:$D$206,MATCH(CONCATENATE(B629,C629),'Est. Useful Life - HIDE SHEET'!$A$2:$A$206,FALSE),4))","v":""},null,""]
[null,null,null,null,null,{"$f":"IF(ISBLANK(C630),\"\",_xlfn.CONCAT(LEFT(C630,4),\"-\",LEFT(B630,4),COUNTIF($C$11:C630,C630)))","v":""},{"$f":"IF(ISBLANK(B630),\"\",INDEX('Est. Useful Life - HIDE SHEET'!$A$2:$D$206,MATCH(CONCATENATE(B630,C630),'Est. Useful Life - HIDE SHEET'!$A$2:$A$206,FALSE),4))","v":""},null,""]
[null,null,null,null,null,{"$f":"IF(ISBLANK(C631),\"\",_xlfn.CONCAT(LEFT(C631,4),\"-\",LEFT(B631,4),COUNTIF($C$11:C631,C631)))","v":""},{"$f":"IF(ISBLANK(B631),\"\",INDEX('Est. Useful Life - HIDE SHEET'!$A$2:$D$206,MATCH(CONCATENATE(B631,C631),'Est. Useful Life - HIDE SHEET'!$A$2:$A$206,FALSE),4))","v":""},null,""]
[null,null,null,null,null,{"$f":"IF(ISBLANK(C632),\"\",_xlfn.CONCAT(LEFT(C632,4),\"-\",LEFT(B632,4),COUNTIF($C$11:C632,C632)))","v":""},{"$f":"IF(ISBLANK(B632),\"\",INDEX('Est. Useful Life - HIDE SHEET'!$A$2:$D$206,MATCH(CONCATENATE(B632,C632),'Est. Useful Life - HIDE SHEET'!$A$2:$A$206,FALSE),4))","v":""},null,""]
[null,null,null,null,null,{"$f":"IF(ISBLANK(C633),\"\",_xlfn.CONCAT(LEFT(C633,4),\"-\",LEFT(B633,4),COUNTIF($C$11:C633,C633)))","v":""},{"$f":"IF(ISBLANK(B633),\"\",INDEX('Est. Useful Life - HIDE SHEET'!$A$2:$D$206,MATCH(CONCATENATE(B633,C633),'Est. Useful Life - HIDE SHEET'!$A$2:$A$206,FALSE),4))","v":""},null,""]
[null,null,null,null,null,{"$f":"IF(ISBLANK(C634),\"\",_xlfn.CONCAT(LEFT(C634,4),\"-\",LEFT(B634,4),COUNTIF($C$11:C634,C634)))","v":""},{"$f":"IF(ISBLANK(B634),\"\",INDEX('Est. Useful Life - HIDE SHEET'!$A$2:$D$206,MATCH(CONCATENATE(B634,C634),'Est. Useful Life - HIDE SHEET'!$A$2:$A$206,FALSE),4))","v":""},null,""]
[null,null,null,null,null,{"$f":"IF(ISBLANK(C635),\"\",_xlfn.CONCAT(LEFT(C635,4),\"-\",LEFT(B635,4),COUNTIF($C$11:C635,C635)))","v":""},{"$f":"IF(ISBLANK(B635),\"\",INDEX('Est. Useful Life - HIDE SHEET'!$A$2:$D$206,MATCH(CONCATENATE(B635,C635),'Est. Useful Life - HIDE SHEET'!$A$2:$A$206,FALSE),4))","v":""},null,""]
[null,null,null,null,null,{"$f":"IF(ISBLANK(C636),\"\",_xlfn.CONCAT(LEFT(C636,4),\"-\",LEFT(B636,4),COUNTIF($C$11:C636,C636)))","v":""},{"$f":"IF(ISBLANK(B636),\"\",INDEX('Est. Useful Life - HIDE SHEET'!$A$2:$D$206,MATCH(CONCATENATE(B636,C636),'Est. Useful Life - HIDE SHEET'!$A$2:$A$206,FALSE),4))","v":""},null,""]
[null,null,null,null,null,{"$f":"IF(ISBLANK(C637),\"\",_xlfn.CONCAT(LEFT(C637,4),\"-\",LEFT(B637,4),COUNTIF($C$11:C637,C637)))","v":""},{"$f":"IF(ISBLANK(B637),\"\",INDEX('Est. Useful Life - HIDE SHEET'!$A$2:$D$206,MATCH(CONCATENATE(B637,C637),'Est. Useful Life - HIDE SHEET'!$A$2:$A$206,FALSE),4))","v":""},null,""]
[null,null,null,null,null,{"$f":"IF(ISBLANK(C638),\"\",_xlfn.CONCAT(LEFT(C638,4),\"-\",LEFT(B638,4),COUNTIF($C$11:C638,C638)))","v":""},{"$f":"IF(ISBLANK(B638),\"\",INDEX('Est. Useful Life - HIDE SHEET'!$A$2:$D$206,MATCH(CONCATENATE(B638,C638),'Est. Useful Life - HIDE SHEET'!$A$2:$A$206,FALSE),4))","v":""},null,""]
[null,null,null,null,null,{"$f":"IF(ISBLANK(C639),\"\",_xlfn.CONCAT(LEFT(C639,4),\"-\",LEFT(B639,4),COUNTIF($C$11:C639,C639)))","v":""},{"$f":"IF(ISBLANK(B639),\"\",INDEX('Est. Useful Life - HIDE SHEET'!$A$2:$D$206,MATCH(CONCATENATE(B639,C639),'Est. Useful Life - HIDE SHEET'!$A$2:$A$206,FALSE),4))","v":""},null,""]
[null,null,null,null,null,{"$f":"IF(ISBLANK(C640),\"\",_xlfn.CONCAT(LEFT(C640,4),\"-\",LEFT(B640,4),COUNTIF($C$11:C640,C640)))","v":""},{"$f":"IF(ISBLANK(B640),\"\",INDEX('Est. Useful Life - HIDE SHEET'!$A$2:$D$206,MATCH(CONCATENATE(B640,C640),'Est. Useful Life - HIDE SHEET'!$A$2:$A$206,FALSE),4))","v":""},null,""]
[null,null,null,null,null,{"$f":"IF(ISBLANK(C641),\"\",_xlfn.CONCAT(LEFT(C641,4),\"-\",LEFT(B641,4),COUNTIF($C$11:C641,C641)))","v":""},{"$f":"IF(ISBLANK(B641),\"\",INDEX('Est. Useful Life - HIDE SHEET'!$A$2:$D$206,MATCH(CONCATENATE(B641,C641),'Est. Useful Life - HIDE SHEET'!$A$2:$A$206,FALSE),4))","v":""},null,""]
[null,null,null,null,null,{"$f":"IF(ISBLANK(C642),\"\",_xlfn.CONCAT(LEFT(C642,4),\"-\",LEFT(B642,4),COUNTIF($C$11:C642,C642)))","v":""},{"$f":"IF(ISBLANK(B642),\"\",INDEX('Est. Useful Life - HIDE SHEET'!$A$2:$D$206,MATCH(CONCATENATE(B642,C642),'Est. Useful Life - HIDE SHEET'!$A$2:$A$206,FALSE),4))","v":""},null,""]
[null,null,null,null,null,{"$f":"IF(ISBLANK(C643),\"\",_xlfn.CONCAT(LEFT(C643,4),\"-\",LEFT(B643,4),COUNTIF($C$11:C643,C643)))","v":""},{"$f":"IF(ISBLANK(B643),\"\",INDEX('Est. Useful Life - HIDE SHEET'!$A$2:$D$206,MATCH(CONCATENATE(B643,C643),'Est. Useful Life - HIDE SHEET'!$A$2:$A$206,FALSE),4))","v":""},null,""]
[null,null,null,null,null,{"$f":"IF(ISBLANK(C644),\"\",_xlfn.CONCAT(LEFT(C644,4),\"-\",LEFT(B644,4),COUNTIF($C$11:C644,C644)))","v":""},{"$f":"IF(ISBLANK(B644),\"\",INDEX('Est. Useful Life - HIDE SHEET'!$A$2:$D$206,MATCH(CONCATENATE(B644,C644),'Est. Useful Life - HIDE SHEET'!$A$2:$A$206,FALSE),4))","v":""},null,""]
[null,null,null,null,null,{"$f":"IF(ISBLANK(C645),\"\",_xlfn.CONCAT(LEFT(C645,4),\"-\",LEFT(B645,4),COUNTIF($C$11:C645,C645)))","v":""},{"$f":"IF(ISBLANK(B645),\"\",INDEX('Est. Useful Life - HIDE SHEET'!$A$2:$D$206,MATCH(CONCATENATE(B645,C645),'Est. Useful Life - HIDE SHEET'!$A$2:$A$206,FALSE),4))","v":""},null,""]
[null,null,null,null,null,{"$f":"IF(ISBLANK(C646),\"\",_xlfn.CONCAT(LEFT(C646,4),\"-\",LEFT(B646,4),COUNTIF($C$11:C646,C646)))","v":""},{"$f":"IF(ISBLANK(B646),\"\",INDEX('Est. Useful Life - HIDE SHEET'!$A$2:$D$206,MATCH(CONCATENATE(B646,C646),'Est. Useful Life - HIDE SHEET'!$A$2:$A$206,FALSE),4))","v":""},null,""]
[null,null,null,null,null,{"$f":"IF(ISBLANK(C647),\"\",_xlfn.CONCAT(LEFT(C647,4),\"-\",LEFT(B647,4),COUNTIF($C$11:C647,C647)))","v":""},{"$f":"IF(ISBLANK(B647),\"\",INDEX('Est. Useful Life - HIDE SHEET'!$A$2:$D$206,MATCH(CONCATENATE(B647,C647),'Est. Useful Life - HIDE SHEET'!$A$2:$A$206,FALSE),4))","v":""},null,""]
[null,null,null,null,null,{"$f":"IF(ISBLANK(C648),\"\",_xlfn.CONCAT(LEFT(C648,4),\"-\",LEFT(B648,4),COUNTIF($C$11:C648,C648)))","v":""},{"$f":"IF(ISBLANK(B648),\"\",INDEX('Est. Useful Life - HIDE SHEET'!$A$2:$D$206,MATCH(CONCATENATE(B648,C648),'Est. Useful Life - HIDE SHEET'!$A$2:$A$206,FALSE),4))","v":""},null,""]
[null,null,null,null,null,{"$f":"IF(ISBLANK(C649),\"\",_xlfn.CONCAT(LEFT(C649,4),\"-\",LEFT(B649,4),COUNTIF($C$11:C649,C649)))","v":""},{"$f":"IF(ISBLANK(B649),\"\",INDEX('Est. Useful Life - HIDE SHEET'!$A$2:$D$206,MATCH(CONCATENATE(B649,C649),'Est. Useful Life - HIDE SHEET'!$A$2:$A$206,FALSE),4))","v":""},null,""]
[null,null,null,null,null,{"$f":"IF(ISBLANK(C650),\"\",_xlfn.CONCAT(LEFT(C650,4),\"-\",LEFT(B650,4),COUNTIF($C$11:C650,C650)))","v":""},{"$f":"IF(ISBLANK(B650),\"\",INDEX('Est. Useful Life - HIDE SHEET'!$A$2:$D$206,MATCH(CONCATENATE(B650,C650),'Est. Useful Life - HIDE SHEET'!$A$2:$A$206,FALSE),4))","v":""},null,""]
[null,null,null,null,null,{"$f":"IF(ISBLANK(C651),\"\",_xlfn.CONCAT(LEFT(C651,4),\"-\",LEFT(B651,4),COUNTIF($C$11:C651,C651)))","v":""},{"$f":"IF(ISBLANK(B651),\"\",INDEX('Est. Useful Life - HIDE SHEET'!$A$2:$D$206,MATCH(CONCATENATE(B651,C651),'Est. Useful Life - HIDE SHEET'!$A$2:$A$206,FALSE),4))","v":""},null,""]
[null,null,null,null,null,{"$f":"IF(ISBLANK(C652),\"\",_xlfn.CONCAT(LEFT(C652,4),\"-\",LEFT(B652,4),COUNTIF($C$11:C652,C652)))","v":""},{"$f":"IF(ISBLANK(B652),\"\",INDEX('Est. Useful Life - HIDE SHEET'!$A$2:$D$206,MATCH(CONCATENATE(B652,C652),'Est. Useful Life - HIDE SHEET'!$A$2:$A$206,FALSE),4))","v":""},null,""]
[null,null,null,null,null,{"$f":"IF(ISBLANK(C653),\"\",_xlfn.CONCAT(LEFT(C653,4),\"-\",LEFT(B653,4),COUNTIF($C$11:C653,C653)))","v":""},{"$f":"IF(ISBLANK(B653),\"\",INDEX('Est. Useful Life - HIDE SHEET'!$A$2:$D$206,MATCH(CONCATENATE(B653,C653),'Est. Useful Life - HIDE SHEET'!$A$2:$A$206,FALSE),4))","v":""},null,""]
[null,null,null,null,null,{"$f":"IF(ISBLANK(C654),\"\",_xlfn.CONCAT(LEFT(C654,4),\"-\",LEFT(B654,4),COUNTIF($C$11:C654,C654)))","v":""},{"$f":"IF(ISBLANK(B654),\"\",INDEX('Est. Useful Life - HIDE SHEET'!$A$2:$D$206,MATCH(CONCATENATE(B654,C654),'Est. Useful Life - HIDE SHEET'!$A$2:$A$206,FALSE),4))","v":""},null,""]
[null,null,null,null,null,{"$f":"IF(ISBLANK(C655),\"\",_xlfn.CONCAT(LEFT(C655,4),\"-\",LEFT(B655,4),COUNTIF($C$11:C655,C655)))","v":""},{"$f":"IF(ISBLANK(B655),\"\",INDEX('Est. Useful Life - HIDE SHEET'!$A$2:$D$206,MATCH(CONCATENATE(B655,C655),'Est. Useful Life - HIDE SHEET'!$A$2:$A$206,FALSE),4))","v":""},null,""]
[null,null,null,null,null,{"$f":"IF(ISBLANK(C656),\"\",_xlfn.CONCAT(LEFT(C656,4),\"-\",LEFT(B656,4),COUNTIF($C$11:C656,C656)))","v":""},{"$f":"IF(ISBLANK(B656),\"\",INDEX('Est. Useful Life - HIDE SHEET'!$A$2:$D$206,MATCH(CONCATENATE(B656,C656),'Est. Useful Life - HIDE SHEET'!$A$2:$A$206,FALSE),4))","v":""},null,""]
[null,null,null,null,null,{"$f":"IF(ISBLANK(C657),\"\",_xlfn.CONCAT(LEFT(C657,4),\"-\",LEFT(B657,4),COUNTIF($C$11:C657,C657)))","v":""},{"$f":"IF(ISBLANK(B657),\"\",INDEX('Est. Useful Life - HIDE SHEET'!$A$2:$D$206,MATCH(CONCATENATE(B657,C657),'Est. Useful Life - HIDE SHEET'!$A$2:$A$206,FALSE),4))","v":""},null,""]
[null,null,null,null,null,{"$f":"IF(ISBLANK(C658),\"\",_xlfn.CONCAT(LEFT(C658,4),\"-\",LEFT(B658,4),COUNTIF($C$11:C658,C658)))","v":""},{"$f":"IF(ISBLANK(B658),\"\",INDEX('Est. Useful Life - HIDE SHEET'!$A$2:$D$206,MATCH(CONCATENATE(B658,C658),'Est. Useful Life - HIDE SHEET'!$A$2:$A$206,FALSE),4))","v":""},null,{"$f":"IF(ISNUMBER(G658),IF(ISNUMBER(H658),IF((G658-(INT((TODAY()-H658)/365)))<0,0,G658-(INT((TODAY()-H658)/365))),\"\"),\"\")","v":""}]
[null,null,null,null,null,{"$f":"IF(ISBLANK(C659),\"\",_xlfn.CONCAT(LEFT(C659,4),\"-\",LEFT(B659,4),COUNTIF($C$11:C659,C659)))","v":""},{"$f":"IF(ISBLANK(B659),\"\",INDEX('Est. Useful Life - HIDE SHEET'!$A$2:$D$206,MATCH(CONCATENATE(B659,C659),'Est. Useful Life - HIDE SHEET'!$A$2:$A$206,FALSE),4))","v":""},null,""]
[null,null,null,null,null,{"$f":"IF(ISBLANK(C660),\"\",_xlfn.CONCAT(LEFT(C660,4),\"-\",LEFT(B660,4),COUNTIF($C$11:C660,C660)))","v":""},{"$f":"IF(ISBLANK(B660),\"\",INDEX('Est. Useful Life - HIDE SHEET'!$A$2:$D$206,MATCH(CONCATENATE(B660,C660),'Est. Useful Life - HIDE SHEET'!$A$2:$A$206,FALSE),4))","v":""},null,""]
[null,null,null,null,null,{"$f":"IF(ISBLANK(C661),\"\",_xlfn.CONCAT(LEFT(C661,4),\"-\",LEFT(B661,4),COUNTIF($C$11:C661,C661)))","v":""},{"$f":"IF(ISBLANK(B661),\"\",INDEX('Est. Useful Life - HIDE SHEET'!$A$2:$D$206,MATCH(CONCATENATE(B661,C661),'Est. Useful Life - HIDE SHEET'!$A$2:$A$206,FALSE),4))","v":""},null,""]
[null,null,null,null,null,{"$f":"IF(ISBLANK(C662),\"\",_xlfn.CONCAT(LEFT(C662,4),\"-\",LEFT(B662,4),COUNTIF($C$11:C662,C662)))","v":""},{"$f":"IF(ISBLANK(B662),\"\",INDEX('Est. Useful Life - HIDE SHEET'!$A$2:$D$206,MATCH(CONCATENATE(B662,C662),'Est. Useful Life - HIDE SHEET'!$A$2:$A$206,FALSE),4))","v":""},null,""]
[null,null,null,null,null,{"$f":"IF(ISBLANK(C663),\"\",_xlfn.CONCAT(LEFT(C663,4),\"-\",LEFT(B663,4),COUNTIF($C$11:C663,C663)))","v":""},{"$f":"IF(ISBLANK(B663),\"\",INDEX('Est. Useful Life - HIDE SHEET'!$A$2:$D$206,MATCH(CONCATENATE(B663,C663),'Est. Useful Life - HIDE SHEET'!$A$2:$A$206,FALSE),4))","v":""},null,""]
[null,null,null,null,null,{"$f":"IF(ISBLANK(C664),\"\",_xlfn.CONCAT(LEFT(C664,4),\"-\",LEFT(B664,4),COUNTIF($C$11:C664,C664)))","v":""},{"$f":"IF(ISBLANK(B664),\"\",INDEX('Est. Useful Life - HIDE SHEET'!$A$2:$D$206,MATCH(CONCATENATE(B664,C664),'Est. Useful Life - HIDE SHEET'!$A$2:$A$206,FALSE),4))","v":""},null,""]
[null,null,null,null,null,{"$f":"IF(ISBLANK(C665),\"\",_xlfn.CONCAT(LEFT(C665,4),\"-\",LEFT(B665,4),COUNTIF($C$11:C665,C665)))","v":""},{"$f":"IF(ISBLANK(B665),\"\",INDEX('Est. Useful Life - HIDE SHEET'!$A$2:$D$206,MATCH(CONCATENATE(B665,C665),'Est. Useful Life - HIDE SHEET'!$A$2:$A$206,FALSE),4))","v":""},null,""]
[null,null,null,null,null,{"$f":"IF(ISBLANK(C666),\"\",_xlfn.CONCAT(LEFT(C666,4),\"-\",LEFT(B666,4),COUNTIF($C$11:C666,C666)))","v":""},{"$f":"IF(ISBLANK(B666),\"\",INDEX('Est. Useful Life - HIDE SHEET'!$A$2:$D$206,MATCH(CONCATENATE(B666,C666),'Est. Useful Life - HIDE SHEET'!$A$2:$A$206,FALSE),4))","v":""},null,""]
[null,null,null,null,null,{"$f":"IF(ISBLANK(C667),\"\",_xlfn.CONCAT(LEFT(C667,4),\"-\",LEFT(B667,4),COUNTIF($C$11:C667,C667)))","v":""},{"$f":"IF(ISBLANK(B667),\"\",INDEX('Est. Useful Life - HIDE SHEET'!$A$2:$D$206,MATCH(CONCATENATE(B667,C667),'Est. Useful Life - HIDE SHEET'!$A$2:$A$206,FALSE),4))","v":""},null,""]
[null,null,null,null,null,{"$f":"IF(ISBLANK(C668),\"\",_xlfn.CONCAT(LEFT(C668,4),\"-\",LEFT(B668,4),COUNTIF($C$11:C668,C668)))","v":""},{"$f":"IF(ISBLANK(B668),\"\",INDEX('Est. Useful Life - HIDE SHEET'!$A$2:$D$206,MATCH(CONCATENATE(B668,C668),'Est. Useful Life - HIDE SHEET'!$A$2:$A$206,FALSE),4))","v":""},null,""]
[null,null,null,null,null,{"$f":"IF(ISBLANK(C669),\"\",_xlfn.CONCAT(LEFT(C669,4),\"-\",LEFT(B669,4),COUNTIF($C$11:C669,C669)))","v":""},{"$f":"IF(ISBLANK(B669),\"\",INDEX('Est. Useful Life - HIDE SHEET'!$A$2:$D$206,MATCH(CONCATENATE(B669,C669),'Est. Useful Life - HIDE SHEET'!$A$2:$A$206,FALSE),4))","v":""},null,""]
[null,null,null,null,null,{"$f":"IF(ISBLANK(C670),\"\",_xlfn.CONCAT(LEFT(C670,4),\"-\",LEFT(B670,4),COUNTIF($C$11:C670,C670)))","v":""},{"$f":"IF(ISBLANK(B670),\"\",INDEX('Est. Useful Life - HIDE SHEET'!$A$2:$D$206,MATCH(CONCATENATE(B670,C670),'Est. Useful Life - HIDE SHEET'!$A$2:$A$206,FALSE),4))","v":""},null,""]
[null,null,null,null,null,{"$f":"IF(ISBLANK(C671),\"\",_xlfn.CONCAT(LEFT(C671,4),\"-\",LEFT(B671,4),COUNTIF($C$11:C671,C671)))","v":""},{"$f":"IF(ISBLANK(B671),\"\",INDEX('Est. Useful Life - HIDE SHEET'!$A$2:$D$206,MATCH(CONCATENATE(B671,C671),'Est. Useful Life - HIDE SHEET'!$A$2:$A$206,FALSE),4))","v":""},null,""]
[null,null,null,null,null,{"$f":"IF(ISBLANK(C672),\"\",_xlfn.CONCAT(LEFT(C672,4),\"-\",LEFT(B672,4),COUNTIF($C$11:C672,C672)))","v":""},{"$f":"IF(ISBLANK(B672),\"\",INDEX('Est. Useful Life - HIDE SHEET'!$A$2:$D$206,MATCH(CONCATENATE(B672,C672),'Est. Useful Life - HIDE SHEET'!$A$2:$A$206,FALSE),4))","v":""},null,""]
[null,null,null,null,null,{"$f":"IF(ISBLANK(C673),\"\",_xlfn.CONCAT(LEFT(C673,4),\"-\",LEFT(B673,4),COUNTIF($C$11:C673,C673)))","v":""},{"$f":"IF(ISBLANK(B673),\"\",INDEX('Est. Useful Life - HIDE SHEET'!$A$2:$D$206,MATCH(CONCATENATE(B673,C673),'Est. Useful Life - HIDE SHEET'!$A$2:$A$206,FALSE),4))","v":""},null,""]
[null,null,null,null,null,{"$f":"IF(ISBLANK(C674),\"\",_xlfn.CONCAT(LEFT(C674,4),\"-\",LEFT(B674,4),COUNTIF($C$11:C674,C674)))","v":""},{"$f":"IF(ISBLANK(B674),\"\",INDEX('Est. Useful Life - HIDE SHEET'!$A$2:$D$206,MATCH(CONCATENATE(B674,C674),'Est. Useful Life - HIDE SHEET'!$A$2:$A$206,FALSE),4))","v":""},null,""]
[null,null,null,null,null,{"$f":"IF(ISBLANK(C675),\"\",_xlfn.CONCAT(LEFT(C675,4),\"-\",LEFT(B675,4),COUNTIF($C$11:C675,C675)))","v":""},{"$f":"IF(ISBLANK(B675),\"\",INDEX('Est. Useful Life - HIDE SHEET'!$A$2:$D$206,MATCH(CONCATENATE(B675,C675),'Est. Useful Life - HIDE SHEET'!$A$2:$A$206,FALSE),4))","v":""},null,""]
[null,null,null,null,null,{"$f":"IF(ISBLANK(C676),\"\",_xlfn.CONCAT(LEFT(C676,4),\"-\",LEFT(B676,4),COUNTIF($C$11:C676,C676)))","v":""},{"$f":"IF(ISBLANK(B676),\"\",INDEX('Est. Useful Life - HIDE SHEET'!$A$2:$D$206,MATCH(CONCATENATE(B676,C676),'Est. Useful Life - HIDE SHEET'!$A$2:$A$206,FALSE),4))","v":""},null,""]
[null,null,null,null,null,{"$f":"IF(ISBLANK(C677),\"\",_xlfn.CONCAT(LEFT(C677,4),\"-\",LEFT(B677,4),COUNTIF($C$11:C677,C677)))","v":""},{"$f":"IF(ISBLANK(B677),\"\",INDEX('Est. Useful Life - HIDE SHEET'!$A$2:$D$206,MATCH(CONCATENATE(B677,C677),'Est. Useful Life - HIDE SHEET'!$A$2:$A$206,FALSE),4))","v":""},null,""]
[null,null,null,null,null,{"$f":"IF(ISBLANK(C678),\"\",_xlfn.CONCAT(LEFT(C678,4),\"-\",LEFT(B678,4),COUNTIF($C$11:C678,C678)))","v":""},{"$f":"IF(ISBLANK(B678),\"\",INDEX('Est. Useful Life - HIDE SHEET'!$A$2:$D$206,MATCH(CONCATENATE(B678,C678),'Est. Useful Life - HIDE SHEET'!$A$2:$A$206,FALSE),4))","v":""},null,""]
[null,null,null,null,null,{"$f":"IF(ISBLANK(C679),\"\",_xlfn.CONCAT(LEFT(C679,4),\"-\",LEFT(B679,4),COUNTIF($C$11:C679,C679)))","v":""},{"$f":"IF(ISBLANK(B679),\"\",INDEX('Est. Useful Life - HIDE SHEET'!$A$2:$D$206,MATCH(CONCATENATE(B679,C679),'Est. Useful Life - HIDE SHEET'!$A$2:$A$206,FALSE),4))","v":""},null,""]
[null,null,null,null,null,{"$f":"IF(ISBLANK(C680),\"\",_xlfn.CONCAT(LEFT(C680,4),\"-\",LEFT(B680,4),COUNTIF($C$11:C680,C680)))","v":""},{"$f":"IF(ISBLANK(B680),\"\",INDEX('Est. Useful Life - HIDE SHEET'!$A$2:$D$206,MATCH(CONCATENATE(B680,C680),'Est. Useful Life - HIDE SHEET'!$A$2:$A$206,FALSE),4))","v":""},null,""]
[null,null,null,null,null,{"$f":"IF(ISBLANK(C681),\"\",_xlfn.CONCAT(LEFT(C681,4),\"-\",LEFT(B681,4),COUNTIF($C$11:C681,C681)))","v":""},{"$f":"IF(ISBLANK(B681),\"\",INDEX('Est. Useful Life - HIDE SHEET'!$A$2:$D$206,MATCH(CONCATENATE(B681,C681),'Est. Useful Life - HIDE SHEET'!$A$2:$A$206,FALSE),4))","v":""},null,""]
[null,null,null,null,null,{"$f":"IF(ISBLANK(C682),\"\",_xlfn.CONCAT(LEFT(C682,4),\"-\",LEFT(B682,4),COUNTIF($C$11:C682,C682)))","v":""},{"$f":"IF(ISBLANK(B682),\"\",INDEX('Est. Useful Life - HIDE SHEET'!$A$2:$D$206,MATCH(CONCATENATE(B682,C682),'Est. Useful Life - HIDE SHEET'!$A$2:$A$206,FALSE),4))","v":""},null,""]
[null,null,null,null,null,{"$f":"IF(ISBLANK(C683),\"\",_xlfn.CONCAT(LEFT(C683,4),\"-\",LEFT(B683,4),COUNTIF($C$11:C683,C683)))","v":""},{"$f":"IF(ISBLANK(B683),\"\",INDEX('Est. Useful Life - HIDE SHEET'!$A$2:$D$206,MATCH(CONCATENATE(B683,C683),'Est. Useful Life - HIDE SHEET'!$A$2:$A$206,FALSE),4))","v":""},null,""]
[null,null,null,null,null,{"$f":"IF(ISBLANK(C684),\"\",_xlfn.CONCAT(LEFT(C684,4),\"-\",LEFT(B684,4),COUNTIF($C$11:C684,C684)))","v":""},{"$f":"IF(ISBLANK(B684),\"\",INDEX('Est. Useful Life - HIDE SHEET'!$A$2:$D$206,MATCH(CONCATENATE(B684,C684),'Est. Useful Life - HIDE SHEET'!$A$2:$A$206,FALSE),4))","v":""},null,""]
[null,null,null,null,null,{"$f":"IF(ISBLANK(C685),\"\",_xlfn.CONCAT(LEFT(C685,4),\"-\",LEFT(B685,4),COUNTIF($C$11:C685,C685)))","v":""},{"$f":"IF(ISBLANK(B685),\"\",INDEX('Est. Useful Life - HIDE SHEET'!$A$2:$D$206,MATCH(CONCATENATE(B685,C685),'Est. Useful Life - HIDE SHEET'!$A$2:$A$206,FALSE),4))","v":""},null,""]
[null,null,null,null,null,{"$f":"IF(ISBLANK(C686),\"\",_xlfn.CONCAT(LEFT(C686,4),\"-\",LEFT(B686,4),COUNTIF($C$11:C686,C686)))","v":""},{"$f":"IF(ISBLANK(B686),\"\",INDEX('Est. Useful Life - HIDE SHEET'!$A$2:$D$206,MATCH(CONCATENATE(B686,C686),'Est. Useful Life - HIDE SHEET'!$A$2:$A$206,FALSE),4))","v":""},null,""]
[null,null,null,null,null,{"$f":"IF(ISBLANK(C687),\"\",_xlfn.CONCAT(LEFT(C687,4),\"-\",LEFT(B687,4),COUNTIF($C$11:C687,C687)))","v":""},{"$f":"IF(ISBLANK(B687),\"\",INDEX('Est. Useful Life - HIDE SHEET'!$A$2:$D$206,MATCH(CONCATENATE(B687,C687),'Est. Useful Life - HIDE SHEET'!$A$2:$A$206,FALSE),4))","v":""},null,""]
[null,null,null,null,null,{"$f":"IF(ISBLANK(C688),\"\",_xlfn.CONCAT(LEFT(C688,4),\"-\",LEFT(B688,4),COUNTIF($C$11:C688,C688)))","v":""},{"$f":"IF(ISBLANK(B688),\"\",INDEX('Est. Useful Life - HIDE SHEET'!$A$2:$D$206,MATCH(CONCATENATE(B688,C688),'Est. Useful Life - HIDE SHEET'!$A$2:$A$206,FALSE),4))","v":""},null,""]
[null,null,null,null,null,{"$f":"IF(ISBLANK(C689),\"\",_xlfn.CONCAT(LEFT(C689,4),\"-\",LEFT(B689,4),COUNTIF($C$11:C689,C689)))","v":""},{"$f":"IF(ISBLANK(B689),\"\",INDEX('Est. Useful Life - HIDE SHEET'!$A$2:$D$206,MATCH(CONCATENATE(B689,C689),'Est. Useful Life - HIDE SHEET'!$A$2:$A$206,FALSE),4))","v":""},null,""]
[null,null,null,null,null,{"$f":"IF(ISBLANK(C690),\"\",_xlfn.CONCAT(LEFT(C690,4),\"-\",LEFT(B690,4),COUNTIF($C$11:C690,C690)))","v":""},{"$f":"IF(ISBLANK(B690),\"\",INDEX('Est. Useful Life - HIDE SHEET'!$A$2:$D$206,MATCH(CONCATENATE(B690,C690),'Est. Useful Life - HIDE SHEET'!$A$2:$A$206,FALSE),4))","v":""},null,""]
[null,null,null,null,null,{"$f":"IF(ISBLANK(C691),\"\",_xlfn.CONCAT(LEFT(C691,4),\"-\",LEFT(B691,4),COUNTIF($C$11:C691,C691)))","v":""},{"$f":"IF(ISBLANK(B691),\"\",INDEX('Est. Useful Life - HIDE SHEET'!$A$2:$D$206,MATCH(CONCATENATE(B691,C691),'Est. Useful Life - HIDE SHEET'!$A$2:$A$206,FALSE),4))","v":""},null,""]
[null,null,null,null,null,{"$f":"IF(ISBLANK(C692),\"\",_xlfn.CONCAT(LEFT(C692,4),\"-\",LEFT(B692,4),COUNTIF($C$11:C692,C692)))","v":""},{"$f":"IF(ISBLANK(B692),\"\",INDEX('Est. Useful Life - HIDE SHEET'!$A$2:$D$206,MATCH(CONCATENATE(B692,C692),'Est. Useful Life - HIDE SHEET'!$A$2:$A$206,FALSE),4))","v":""},null,""]
[null,null,null,null,null,{"$f":"IF(ISBLANK(C693),\"\",_xlfn.CONCAT(LEFT(C693,4),\"-\",LEFT(B693,4),COUNTIF($C$11:C693,C693)))","v":""},{"$f":"IF(ISBLANK(B693),\"\",INDEX('Est. Useful Life - HIDE SHEET'!$A$2:$D$206,MATCH(CONCATENATE(B693,C693),'Est. Useful Life - HIDE SHEET'!$A$2:$A$206,FALSE),4))","v":""},null,""]
[null,null,null,null,null,{"$f":"IF(ISBLANK(C694),\"\",_xlfn.CONCAT(LEFT(C694,4),\"-\",LEFT(B694,4),COUNTIF($C$11:C694,C694)))","v":""},{"$f":"IF(ISBLANK(B694),\"\",INDEX('Est. Useful Life - HIDE SHEET'!$A$2:$D$206,MATCH(CONCATENATE(B694,C694),'Est. Useful Life - HIDE SHEET'!$A$2:$A$206,FALSE),4))","v":""},null,""]
[null,null,null,null,null,{"$f":"IF(ISBLANK(C695),\"\",_xlfn.CONCAT(LEFT(C695,4),\"-\",LEFT(B695,4),COUNTIF($C$11:C695,C695)))","v":""},{"$f":"IF(ISBLANK(B695),\"\",INDEX('Est. Useful Life - HIDE SHEET'!$A$2:$D$206,MATCH(CONCATENATE(B695,C695),'Est. Useful Life - HIDE SHEET'!$A$2:$A$206,FALSE),4))","v":""},null,""]
[null,null,null,null,null,{"$f":"IF(ISBLANK(C696),\"\",_xlfn.CONCAT(LEFT(C696,4),\"-\",LEFT(B696,4),COUNTIF($C$11:C696,C696)))","v":""},{"$f":"IF(ISBLANK(B696),\"\",INDEX('Est. Useful Life - HIDE SHEET'!$A$2:$D$206,MATCH(CONCATENATE(B696,C696),'Est. Useful Life - HIDE SHEET'!$A$2:$A$206,FALSE),4))","v":""},null,""]
[null,null,null,null,null,{"$f":"IF(ISBLANK(C697),\"\",_xlfn.CONCAT(LEFT(C697,4),\"-\",LEFT(B697,4),COUNTIF($C$11:C697,C697)))","v":""},{"$f":"IF(ISBLANK(B697),\"\",INDEX('Est. Useful Life - HIDE SHEET'!$A$2:$D$206,MATCH(CONCATENATE(B697,C697),'Est. Useful Life - HIDE SHEET'!$A$2:$A$206,FALSE),4))","v":""},null,""]
[null,null,null,null,null,{"$f":"IF(ISBLANK(C698),\"\",_xlfn.CONCAT(LEFT(C698,4),\"-\",LEFT(B698,4),COUNTIF($C$11:C698,C698)))","v":""},{"$f":"IF(ISBLANK(B698),\"\",INDEX('Est. Useful Life - HIDE SHEET'!$A$2:$D$206,MATCH(CONCATENATE(B698,C698),'Est. Useful Life - HIDE SHEET'!$A$2:$A$206,FALSE),4))","v":""},null,""]
[null,null,null,null,null,{"$f":"IF(ISBLANK(C699),\"\",_xlfn.CONCAT(LEFT(C699,4),\"-\",LEFT(B699,4),COUNTIF($C$11:C699,C699)))","v":""},{"$f":"IF(ISBLANK(B699),\"\",INDEX('Est. Useful Life - HIDE SHEET'!$A$2:$D$206,MATCH(CONCATENATE(B699,C699),'Est. Useful Life - HIDE SHEET'!$A$2:$A$206,FALSE),4))","v":""},null,""]
[null,null,null,null,null,{"$f":"IF(ISBLANK(C700),\"\",_xlfn.CONCAT(LEFT(C700,4),\"-\",LEFT(B700,4),COUNTIF($C$11:C700,C700)))","v":""},{"$f":"IF(ISBLANK(B700),\"\",INDEX('Est. Useful Life - HIDE SHEET'!$A$2:$D$206,MATCH(CONCATENATE(B700,C700),'Est. Useful Life - HIDE SHEET'!$A$2:$A$206,FALSE),4))","v":""},null,""]
[null,null,null,null,null,{"$f":"IF(ISBLANK(C701),\"\",_xlfn.CONCAT(LEFT(C701,4),\"-\",LEFT(B701,4),COUNTIF($C$11:C701,C701)))","v":""},{"$f":"IF(ISBLANK(B701),\"\",INDEX('Est. Useful Life - HIDE SHEET'!$A$2:$D$206,MATCH(CONCATENATE(B701,C701),'Est. Useful Life - HIDE SHEET'!$A$2:$A$206,FALSE),4))","v":""},null,""]
[null,null,null,null,null,{"$f":"IF(ISBLANK(C702),\"\",_xlfn.CONCAT(LEFT(C702,4),\"-\",LEFT(B702,4),COUNTIF($C$11:C702,C702)))","v":""},{"$f":"IF(ISBLANK(B702),\"\",INDEX('Est. Useful Life - HIDE SHEET'!$A$2:$D$206,MATCH(CONCATENATE(B702,C702),'Est. Useful Life - HIDE SHEET'!$A$2:$A$206,FALSE),4))","v":""},null,""]
[null,null,null,null,null,{"$f":"IF(ISBLANK(C703),\"\",_xlfn.CONCAT(LEFT(C703,4),\"-\",LEFT(B703,4),COUNTIF($C$11:C703,C703)))","v":""},{"$f":"IF(ISBLANK(B703),\"\",INDEX('Est. Useful Life - HIDE SHEET'!$A$2:$D$206,MATCH(CONCATENATE(B703,C703),'Est. Useful Life - HIDE SHEET'!$A$2:$A$206,FALSE),4))","v":""},null,""]
[null,null,null,null,null,{"$f":"IF(ISBLANK(C704),\"\",_xlfn.CONCAT(LEFT(C704,4),\"-\",LEFT(B704,4),COUNTIF($C$11:C704,C704)))","v":""},{"$f":"IF(ISBLANK(B704),\"\",INDEX('Est. Useful Life - HIDE SHEET'!$A$2:$D$206,MATCH(CONCATENATE(B704,C704),'Est. Useful Life - HIDE SHEET'!$A$2:$A$206,FALSE),4))","v":""},null,""]
[null,null,null,null,null,{"$f":"IF(ISBLANK(C705),\"\",_xlfn.CONCAT(LEFT(C705,4),\"-\",LEFT(B705,4),COUNTIF($C$11:C705,C705)))","v":""},{"$f":"IF(ISBLANK(B705),\"\",INDEX('Est. Useful Life - HIDE SHEET'!$A$2:$D$206,MATCH(CONCATENATE(B705,C705),'Est. Useful Life - HIDE SHEET'!$A$2:$A$206,FALSE),4))","v":""},null,""]
[null,null,null,null,null,{"$f":"IF(ISBLANK(C706),\"\",_xlfn.CONCAT(LEFT(C706,4),\"-\",LEFT(B706,4),COUNTIF($C$11:C706,C706)))","v":""},{"$f":"IF(ISBLANK(B706),\"\",INDEX('Est. Useful Life - HIDE SHEET'!$A$2:$D$206,MATCH(CONCATENATE(B706,C706),'Est. Useful Life - HIDE SHEET'!$A$2:$A$206,FALSE),4))","v":""},null,""]
[null,null,null,null,null,{"$f":"IF(ISBLANK(C707),\"\",_xlfn.CONCAT(LEFT(C707,4),\"-\",LEFT(B707,4),COUNTIF($C$11:C707,C707)))","v":""},{"$f":"IF(ISBLANK(B707),\"\",INDEX('Est. Useful Life - HIDE SHEET'!$A$2:$D$206,MATCH(CONCATENATE(B707,C707),'Est. Useful Life - HIDE SHEET'!$A$2:$A$206,FALSE),4))","v":""},null,""]
[null,null,null,null,null,{"$f":"IF(ISBLANK(C708),\"\",_xlfn.CONCAT(LEFT(C708,4),\"-\",LEFT(B708,4),COUNTIF($C$11:C708,C708)))","v":""},{"$f":"IF(ISBLANK(B708),\"\",INDEX('Est. Useful Life - HIDE SHEET'!$A$2:$D$206,MATCH(CONCATENATE(B708,C708),'Est. Useful Life - HIDE SHEET'!$A$2:$A$206,FALSE),4))","v":""},null,""]
[null,null,null,null,null,{"$f":"IF(ISBLANK(C709),\"\",_xlfn.CONCAT(LEFT(C709,4),\"-\",LEFT(B709,4),COUNTIF($C$11:C709,C709)))","v":""},{"$f":"IF(ISBLANK(B709),\"\",INDEX('Est. Useful Life - HIDE SHEET'!$A$2:$D$206,MATCH(CONCATENATE(B709,C709),'Est. Useful Life - HIDE SHEET'!$A$2:$A$206,FALSE),4))","v":""},null,""]
[null,null,null,null,null,{"$f":"IF(ISBLANK(C710),\"\",_xlfn.CONCAT(LEFT(C710,4),\"-\",LEFT(B710,4),COUNTIF($C$11:C710,C710)))","v":""},{"$f":"IF(ISBLANK(B710),\"\",INDEX('Est. Useful Life - HIDE SHEET'!$A$2:$D$206,MATCH(CONCATENATE(B710,C710),'Est. Useful Life - HIDE SHEET'!$A$2:$A$206,FALSE),4))","v":""},null,""]
[null,null,null,null,null,{"$f":"IF(ISBLANK(C711),\"\",_xlfn.CONCAT(LEFT(C711,4),\"-\",LEFT(B711,4),COUNTIF($C$11:C711,C711)))","v":""},{"$f":"IF(ISBLANK(B711),\"\",INDEX('Est. Useful Life - HIDE SHEET'!$A$2:$D$206,MATCH(CONCATENATE(B711,C711),'Est. Useful Life - HIDE SHEET'!$A$2:$A$206,FALSE),4))","v":""},null,""]
[null,null,null,null,null,{"$f":"IF(ISBLANK(C712),\"\",_xlfn.CONCAT(LEFT(C712,4),\"-\",LEFT(B712,4),COUNTIF($C$11:C712,C712)))","v":""},{"$f":"IF(ISBLANK(B712),\"\",INDEX('Est. Useful Life - HIDE SHEET'!$A$2:$D$206,MATCH(CONCATENATE(B712,C712),'Est. Useful Life - HIDE SHEET'!$A$2:$A$206,FALSE),4))","v":""},null,""]
[null,null,null,null,null,{"$f":"IF(ISBLANK(C713),\"\",_xlfn.CONCAT(LEFT(C713,4),\"-\",LEFT(B713,4),COUNTIF($C$11:C713,C713)))","v":""},{"$f":"IF(ISBLANK(B713),\"\",INDEX('Est. Useful Life - HIDE SHEET'!$A$2:$D$206,MATCH(CONCATENATE(B713,C713),'Est. Useful Life - HIDE SHEET'!$A$2:$A$206,FALSE),4))","v":""},null,""]
[null,null,null,null,null,{"$f":"IF(ISBLANK(C714),\"\",_xlfn.CONCAT(LEFT(C714,4),\"-\",LEFT(B714,4),COUNTIF($C$11:C714,C714)))","v":""},{"$f":"IF(ISBLANK(B714),\"\",INDEX('Est. Useful Life - HIDE SHEET'!$A$2:$D$206,MATCH(CONCATENATE(B714,C714),'Est. Useful Life - HIDE SHEET'!$A$2:$A$206,FALSE),4))","v":""},null,""]
[null,null,null,null,null,{"$f":"IF(ISBLANK(C715),\"\",_xlfn.CONCAT(LEFT(C715,4),\"-\",LEFT(B715,4),COUNTIF($C$11:C715,C715)))","v":""},{"$f":"IF(ISBLANK(B715),\"\",INDEX('Est. Useful Life - HIDE SHEET'!$A$2:$D$206,MATCH(CONCATENATE(B715,C715),'Est. Useful Life - HIDE SHEET'!$A$2:$A$206,FALSE),4))","v":""},null,""]
[null,null,null,null,null,{"$f":"IF(ISBLANK(C716),\"\",_xlfn.CONCAT(LEFT(C716,4),\"-\",LEFT(B716,4),COUNTIF($C$11:C716,C716)))","v":""},{"$f":"IF(ISBLANK(B716),\"\",INDEX('Est. Useful Life - HIDE SHEET'!$A$2:$D$206,MATCH(CONCATENATE(B716,C716),'Est. Useful Life - HIDE SHEET'!$A$2:$A$206,FALSE),4))","v":""},null,""]
[null,null,null,null,null,{"$f":"IF(ISBLANK(C717),\"\",_xlfn.CONCAT(LEFT(C717,4),\"-\",LEFT(B717,4),COUNTIF($C$11:C717,C717)))","v":""},{"$f":"IF(ISBLANK(B717),\"\",INDEX('Est. Useful Life - HIDE SHEET'!$A$2:$D$206,MATCH(CONCATENATE(B717,C717),'Est. Useful Life - HIDE SHEET'!$A$2:$A$206,FALSE),4))","v":""},null,""]
[null,null,null,null,null,{"$f":"IF(ISBLANK(C718),\"\",_xlfn.CONCAT(LEFT(C718,4),\"-\",LEFT(B718,4),COUNTIF($C$11:C718,C718)))","v":""},{"$f":"IF(ISBLANK(B718),\"\",INDEX('Est. Useful Life - HIDE SHEET'!$A$2:$D$206,MATCH(CONCATENATE(B718,C718),'Est. Useful Life - HIDE SHEET'!$A$2:$A$206,FALSE),4))","v":""},null,""]
[null,null,null,null,null,{"$f":"IF(ISBLANK(C719),\"\",_xlfn.CONCAT(LEFT(C719,4),\"-\",LEFT(B719,4),COUNTIF($C$11:C719,C719)))","v":""},{"$f":"IF(ISBLANK(B719),\"\",INDEX('Est. Useful Life - HIDE SHEET'!$A$2:$D$206,MATCH(CONCATENATE(B719,C719),'Est. Useful Life - HIDE SHEET'!$A$2:$A$206,FALSE),4))","v":""},null,""]
[null,null,null,null,null,{"$f":"IF(ISBLANK(C720),\"\",_xlfn.CONCAT(LEFT(C720,4),\"-\",LEFT(B720,4),COUNTIF($C$11:C720,C720)))","v":""},{"$f":"IF(ISBLANK(B720),\"\",INDEX('Est. Useful Life - HIDE SHEET'!$A$2:$D$206,MATCH(CONCATENATE(B720,C720),'Est. Useful Life - HIDE SHEET'!$A$2:$A$206,FALSE),4))","v":""},null,""]
[null,null,null,null,null,{"$f":"IF(ISBLANK(C721),\"\",_xlfn.CONCAT(LEFT(C721,4),\"-\",LEFT(B721,4),COUNTIF($C$11:C721,C721)))","v":""},{"$f":"IF(ISBLANK(B721),\"\",INDEX('Est. Useful Life - HIDE SHEET'!$A$2:$D$206,MATCH(CONCATENATE(B721,C721),'Est. Useful Life - HIDE SHEET'!$A$2:$A$206,FALSE),4))","v":""},null,""]
[null,null,null,null,null,{"$f":"IF(ISBLANK(C722),\"\",_xlfn.CONCAT(LEFT(C722,4),\"-\",LEFT(B722,4),COUNTIF($C$11:C722,C722)))","v":""},{"$f":"IF(ISBLANK(B722),\"\",INDEX('Est. Useful Life - HIDE SHEET'!$A$2:$D$206,MATCH(CONCATENATE(B722,C722),'Est. Useful Life - HIDE SHEET'!$A$2:$A$206,FALSE),4))","v":""},null,{"$f":"IF(ISNUMBER(G722),IF(ISNUMBER(H722),IF((G722-(INT((TODAY()-H722)/365)))<0,0,G722-(INT((TODAY()-H722)/365))),\"\"),\"\")","v":""}]
[null,null,null,null,null,{"$f":"IF(ISBLANK(C723),\"\",_xlfn.CONCAT(LEFT(C723,4),\"-\",LEFT(B723,4),COUNTIF($C$11:C723,C723)))","v":""},{"$f":"IF(ISBLANK(B723),\"\",INDEX('Est. Useful Life - HIDE SHEET'!$A$2:$D$206,MATCH(CONCATENATE(B723,C723),'Est. Useful Life - HIDE SHEET'!$A$2:$A$206,FALSE),4))","v":""},null,""]
[null,null,null,null,null,{"$f":"IF(ISBLANK(C724),\"\",_xlfn.CONCAT(LEFT(C724,4),\"-\",LEFT(B724,4),COUNTIF($C$11:C724,C724)))","v":""},{"$f":"IF(ISBLANK(B724),\"\",INDEX('Est. Useful Life - HIDE SHEET'!$A$2:$D$206,MATCH(CONCATENATE(B724,C724),'Est. Useful Life - HIDE SHEET'!$A$2:$A$206,FALSE),4))","v":""},null,""]
[null,null,null,null,null,{"$f":"IF(ISBLANK(C725),\"\",_xlfn.CONCAT(LEFT(C725,4),\"-\",LEFT(B725,4),COUNTIF($C$11:C725,C725)))","v":""},{"$f":"IF(ISBLANK(B725),\"\",INDEX('Est. Useful Life - HIDE SHEET'!$A$2:$D$206,MATCH(CONCATENATE(B725,C725),'Est. Useful Life - HIDE SHEET'!$A$2:$A$206,FALSE),4))","v":""},null,""]
[null,null,null,null,null,{"$f":"IF(ISBLANK(C726),\"\",_xlfn.CONCAT(LEFT(C726,4),\"-\",LEFT(B726,4),COUNTIF($C$11:C726,C726)))","v":""},{"$f":"IF(ISBLANK(B726),\"\",INDEX('Est. Useful Life - HIDE SHEET'!$A$2:$D$206,MATCH(CONCATENATE(B726,C726),'Est. Useful Life - HIDE SHEET'!$A$2:$A$206,FALSE),4))","v":""},null,""]
[null,null,null,null,null,{"$f":"IF(ISBLANK(C727),\"\",_xlfn.CONCAT(LEFT(C727,4),\"-\",LEFT(B727,4),COUNTIF($C$11:C727,C727)))","v":""},{"$f":"IF(ISBLANK(B727),\"\",INDEX('Est. Useful Life - HIDE SHEET'!$A$2:$D$206,MATCH(CONCATENATE(B727,C727),'Est. Useful Life - HIDE SHEET'!$A$2:$A$206,FALSE),4))","v":""},null,""]
[null,null,null,null,null,{"$f":"IF(ISBLANK(C728),\"\",_xlfn.CONCAT(LEFT(C728,4),\"-\",LEFT(B728,4),COUNTIF($C$11:C728,C728)))","v":""},{"$f":"IF(ISBLANK(B728),\"\",INDEX('Est. Useful Life - HIDE SHEET'!$A$2:$D$206,MATCH(CONCATENATE(B728,C728),'Est. Useful Life - HIDE SHEET'!$A$2:$A$206,FALSE),4))","v":""},null,""]
[null,null,null,null,null,{"$f":"IF(ISBLANK(C729),\"\",_xlfn.CONCAT(LEFT(C729,4),\"-\",LEFT(B729,4),COUNTIF($C$11:C729,C729)))","v":""},{"$f":"IF(ISBLANK(B729),\"\",INDEX('Est. Useful Life - HIDE SHEET'!$A$2:$D$206,MATCH(CONCATENATE(B729,C729),'Est. Useful Life - HIDE SHEET'!$A$2:$A$206,FALSE),4))","v":""},null,""]
[null,null,null,null,null,{"$f":"IF(ISBLANK(C730),\"\",_xlfn.CONCAT(LEFT(C730,4),\"-\",LEFT(B730,4),COUNTIF($C$11:C730,C730)))","v":""},{"$f":"IF(ISBLANK(B730),\"\",INDEX('Est. Useful Life - HIDE SHEET'!$A$2:$D$206,MATCH(CONCATENATE(B730,C730),'Est. Useful Life - HIDE SHEET'!$A$2:$A$206,FALSE),4))","v":""},null,""]
[null,null,null,null,null,{"$f":"IF(ISBLANK(C731),\"\",_xlfn.CONCAT(LEFT(C731,4),\"-\",LEFT(B731,4),COUNTIF($C$11:C731,C731)))","v":""},{"$f":"IF(ISBLANK(B731),\"\",INDEX('Est. Useful Life - HIDE SHEET'!$A$2:$D$206,MATCH(CONCATENATE(B731,C731),'Est. Useful Life - HIDE SHEET'!$A$2:$A$206,FALSE),4))","v":""},null,""]
[null,null,null,null,null,{"$f":"IF(ISBLANK(C732),\"\",_xlfn.CONCAT(LEFT(C732,4),\"-\",LEFT(B732,4),COUNTIF($C$11:C732,C732)))","v":""},{"$f":"IF(ISBLANK(B732),\"\",INDEX('Est. Useful Life - HIDE SHEET'!$A$2:$D$206,MATCH(CONCATENATE(B732,C732),'Est. Useful Life - HIDE SHEET'!$A$2:$A$206,FALSE),4))","v":""},null,""]
[null,null,null,null,null,{"$f":"IF(ISBLANK(C733),\"\",_xlfn.CONCAT(LEFT(C733,4),\"-\",LEFT(B733,4),COUNTIF($C$11:C733,C733)))","v":""},{"$f":"IF(ISBLANK(B733),\"\",INDEX('Est. Useful Life - HIDE SHEET'!$A$2:$D$206,MATCH(CONCATENATE(B733,C733),'Est. Useful Life - HIDE SHEET'!$A$2:$A$206,FALSE),4))","v":""},null,""]
[null,null,null,null,null,{"$f":"IF(ISBLANK(C734),\"\",_xlfn.CONCAT(LEFT(C734,4),\"-\",LEFT(B734,4),COUNTIF($C$11:C734,C734)))","v":""},{"$f":"IF(ISBLANK(B734),\"\",INDEX('Est. Useful Life - HIDE SHEET'!$A$2:$D$206,MATCH(CONCATENATE(B734,C734),'Est. Useful Life - HIDE SHEET'!$A$2:$A$206,FALSE),4))","v":""},null,""]
[null,null,null,null,null,{"$f":"IF(ISBLANK(C735),\"\",_xlfn.CONCAT(LEFT(C735,4),\"-\",LEFT(B735,4),COUNTIF($C$11:C735,C735)))","v":""},{"$f":"IF(ISBLANK(B735),\"\",INDEX('Est. Useful Life - HIDE SHEET'!$A$2:$D$206,MATCH(CONCATENATE(B735,C735),'Est. Useful Life - HIDE SHEET'!$A$2:$A$206,FALSE),4))","v":""},null,""]
[null,null,null,null,null,{"$f":"IF(ISBLANK(C736),\"\",_xlfn.CONCAT(LEFT(C736,4),\"-\",LEFT(B736,4),COUNTIF($C$11:C736,C736)))","v":""},{"$f":"IF(ISBLANK(B736),\"\",INDEX('Est. Useful Life - HIDE SHEET'!$A$2:$D$206,MATCH(CONCATENATE(B736,C736),'Est. Useful Life - HIDE SHEET'!$A$2:$A$206,FALSE),4))","v":""},null,""]
[null,null,null,null,null,{"$f":"IF(ISBLANK(C737),\"\",_xlfn.CONCAT(LEFT(C737,4),\"-\",LEFT(B737,4),COUNTIF($C$11:C737,C737)))","v":""},{"$f":"IF(ISBLANK(B737),\"\",INDEX('Est. Useful Life - HIDE SHEET'!$A$2:$D$206,MATCH(CONCATENATE(B737,C737),'Est. Useful Life - HIDE SHEET'!$A$2:$A$206,FALSE),4))","v":""},null,""]
[null,null,null,null,null,{"$f":"IF(ISBLANK(C738),\"\",_xlfn.CONCAT(LEFT(C738,4),\"-\",LEFT(B738,4),COUNTIF($C$11:C738,C738)))","v":""},{"$f":"IF(ISBLANK(B738),\"\",INDEX('Est. Useful Life - HIDE SHEET'!$A$2:$D$206,MATCH(CONCATENATE(B738,C738),'Est. Useful Life - HIDE SHEET'!$A$2:$A$206,FALSE),4))","v":""},null,""]
[null,null,null,null,null,{"$f":"IF(ISBLANK(C739),\"\",_xlfn.CONCAT(LEFT(C739,4),\"-\",LEFT(B739,4),COUNTIF($C$11:C739,C739)))","v":""},{"$f":"IF(ISBLANK(B739),\"\",INDEX('Est. Useful Life - HIDE SHEET'!$A$2:$D$206,MATCH(CONCATENATE(B739,C739),'Est. Useful Life - HIDE SHEET'!$A$2:$A$206,FALSE),4))","v":""},null,""]
[null,null,null,null,null,{"$f":"IF(ISBLANK(C740),\"\",_xlfn.CONCAT(LEFT(C740,4),\"-\",LEFT(B740,4),COUNTIF($C$11:C740,C740)))","v":""},{"$f":"IF(ISBLANK(B740),\"\",INDEX('Est. Useful Life - HIDE SHEET'!$A$2:$D$206,MATCH(CONCATENATE(B740,C740),'Est. Useful Life - HIDE SHEET'!$A$2:$A$206,FALSE),4))","v":""},null,""]
[null,null,null,null,null,{"$f":"IF(ISBLANK(C741),\"\",_xlfn.CONCAT(LEFT(C741,4),\"-\",LEFT(B741,4),COUNTIF($C$11:C741,C741)))","v":""},{"$f":"IF(ISBLANK(B741),\"\",INDEX('Est. Useful Life - HIDE SHEET'!$A$2:$D$206,MATCH(CONCATENATE(B741,C741),'Est. Useful Life - HIDE SHEET'!$A$2:$A$206,FALSE),4))","v":""},null,""]
[null,null,null,null,null,{"$f":"IF(ISBLANK(C742),\"\",_xlfn.CONCAT(LEFT(C742,4),\"-\",LEFT(B742,4),COUNTIF($C$11:C742,C742)))","v":""},{"$f":"IF(ISBLANK(B742),\"\",INDEX('Est. Useful Life - HIDE SHEET'!$A$2:$D$206,MATCH(CONCATENATE(B742,C742),'Est. Useful Life - HIDE SHEET'!$A$2:$A$206,FALSE),4))","v":""},null,""]
[null,null,null,null,null,{"$f":"IF(ISBLANK(C743),\"\",_xlfn.CONCAT(LEFT(C743,4),\"-\",LEFT(B743,4),COUNTIF($C$11:C743,C743)))","v":""},{"$f":"IF(ISBLANK(B743),\"\",INDEX('Est. Useful Life - HIDE SHEET'!$A$2:$D$206,MATCH(CONCATENATE(B743,C743),'Est. Useful Life - HIDE SHEET'!$A$2:$A$206,FALSE),4))","v":""},null,""]
[null,null,null,null,null,{"$f":"IF(ISBLANK(C744),\"\",_xlfn.CONCAT(LEFT(C744,4),\"-\",LEFT(B744,4),COUNTIF($C$11:C744,C744)))","v":""},{"$f":"IF(ISBLANK(B744),\"\",INDEX('Est. Useful Life - HIDE SHEET'!$A$2:$D$206,MATCH(CONCATENATE(B744,C744),'Est. Useful Life - HIDE SHEET'!$A$2:$A$206,FALSE),4))","v":""},null,""]
[null,null,null,null,null,{"$f":"IF(ISBLANK(C745),\"\",_xlfn.CONCAT(LEFT(C745,4),\"-\",LEFT(B745,4),COUNTIF($C$11:C745,C745)))","v":""},{"$f":"IF(ISBLANK(B745),\"\",INDEX('Est. Useful Life - HIDE SHEET'!$A$2:$D$206,MATCH(CONCATENATE(B745,C745),'Est. Useful Life - HIDE SHEET'!$A$2:$A$206,FALSE),4))","v":""},null,""]
[null,null,null,null,null,{"$f":"IF(ISBLANK(C746),\"\",_xlfn.CONCAT(LEFT(C746,4),\"-\",LEFT(B746,4),COUNTIF($C$11:C746,C746)))","v":""},{"$f":"IF(ISBLANK(B746),\"\",INDEX('Est. Useful Life - HIDE SHEET'!$A$2:$D$206,MATCH(CONCATENATE(B746,C746),'Est. Useful Life - HIDE SHEET'!$A$2:$A$206,FALSE),4))","v":""},null,""]
[null,null,null,null,null,{"$f":"IF(ISBLANK(C747),\"\",_xlfn.CONCAT(LEFT(C747,4),\"-\",LEFT(B747,4),COUNTIF($C$11:C747,C747)))","v":""},{"$f":"IF(ISBLANK(B747),\"\",INDEX('Est. Useful Life - HIDE SHEET'!$A$2:$D$206,MATCH(CONCATENATE(B747,C747),'Est. Useful Life - HIDE SHEET'!$A$2:$A$206,FALSE),4))","v":""},null,""]
[null,null,null,null,null,{"$f":"IF(ISBLANK(C748),\"\",_xlfn.CONCAT(LEFT(C748,4),\"-\",LEFT(B748,4),COUNTIF($C$11:C748,C748)))","v":""},{"$f":"IF(ISBLANK(B748),\"\",INDEX('Est. Useful Life - HIDE SHEET'!$A$2:$D$206,MATCH(CONCATENATE(B748,C748),'Est. Useful Life - HIDE SHEET'!$A$2:$A$206,FALSE),4))","v":""},null,""]
[null,null,null,null,null,{"$f":"IF(ISBLANK(C749),\"\",_xlfn.CONCAT(LEFT(C749,4),\"-\",LEFT(B749,4),COUNTIF($C$11:C749,C749)))","v":""},{"$f":"IF(ISBLANK(B749),\"\",INDEX('Est. Useful Life - HIDE SHEET'!$A$2:$D$206,MATCH(CONCATENATE(B749,C749),'Est. Useful Life - HIDE SHEET'!$A$2:$A$206,FALSE),4))","v":""},null,""]
[null,null,null,null,null,{"$f":"IF(ISBLANK(C750),\"\",_xlfn.CONCAT(LEFT(C750,4),\"-\",LEFT(B750,4),COUNTIF($C$11:C750,C750)))","v":""},{"$f":"IF(ISBLANK(B750),\"\",INDEX('Est. Useful Life - HIDE SHEET'!$A$2:$D$206,MATCH(CONCATENATE(B750,C750),'Est. Useful Life - HIDE SHEET'!$A$2:$A$206,FALSE),4))","v":""},null,""]
[null,null,null,null,null,{"$f":"IF(ISBLANK(C751),\"\",_xlfn.CONCAT(LEFT(C751,4),\"-\",LEFT(B751,4),COUNTIF($C$11:C751,C751)))","v":""},{"$f":"IF(ISBLANK(B751),\"\",INDEX('Est. Useful Life - HIDE SHEET'!$A$2:$D$206,MATCH(CONCATENATE(B751,C751),'Est. Useful Life - HIDE SHEET'!$A$2:$A$206,FALSE),4))","v":""},null,""]
[null,null,null,null,null,{"$f":"IF(ISBLANK(C752),\"\",_xlfn.CONCAT(LEFT(C752,4),\"-\",LEFT(B752,4),COUNTIF($C$11:C752,C752)))","v":""},{"$f":"IF(ISBLANK(B752),\"\",INDEX('Est. Useful Life - HIDE SHEET'!$A$2:$D$206,MATCH(CONCATENATE(B752,C752),'Est. Useful Life - HIDE SHEET'!$A$2:$A$206,FALSE),4))","v":""},null,""]
[null,null,null,null,null,{"$f":"IF(ISBLANK(C753),\"\",_xlfn.CONCAT(LEFT(C753,4),\"-\",LEFT(B753,4),COUNTIF($C$11:C753,C753)))","v":""},{"$f":"IF(ISBLANK(B753),\"\",INDEX('Est. Useful Life - HIDE SHEET'!$A$2:$D$206,MATCH(CONCATENATE(B753,C753),'Est. Useful Life - HIDE SHEET'!$A$2:$A$206,FALSE),4))","v":""},null,""]
[null,null,null,null,null,{"$f":"IF(ISBLANK(C754),\"\",_xlfn.CONCAT(LEFT(C754,4),\"-\",LEFT(B754,4),COUNTIF($C$11:C754,C754)))","v":""},{"$f":"IF(ISBLANK(B754),\"\",INDEX('Est. Useful Life - HIDE SHEET'!$A$2:$D$206,MATCH(CONCATENATE(B754,C754),'Est. Useful Life - HIDE SHEET'!$A$2:$A$206,FALSE),4))","v":""},null,""]
[null,null,null,null,null,{"$f":"IF(ISBLANK(C755),\"\",_xlfn.CONCAT(LEFT(C755,4),\"-\",LEFT(B755,4),COUNTIF($C$11:C755,C755)))","v":""},{"$f":"IF(ISBLANK(B755),\"\",INDEX('Est. Useful Life - HIDE SHEET'!$A$2:$D$206,MATCH(CONCATENATE(B755,C755),'Est. Useful Life - HIDE SHEET'!$A$2:$A$206,FALSE),4))","v":""},null,""]
[null,null,null,null,null,{"$f":"IF(ISBLANK(C756),\"\",_xlfn.CONCAT(LEFT(C756,4),\"-\",LEFT(B756,4),COUNTIF($C$11:C756,C756)))","v":""},{"$f":"IF(ISBLANK(B756),\"\",INDEX('Est. Useful Life - HIDE SHEET'!$A$2:$D$206,MATCH(CONCATENATE(B756,C756),'Est. Useful Life - HIDE SHEET'!$A$2:$A$206,FALSE),4))","v":""},null,""]
[null,null,null,null,null,{"$f":"IF(ISBLANK(C757),\"\",_xlfn.CONCAT(LEFT(C757,4),\"-\",LEFT(B757,4),COUNTIF($C$11:C757,C757)))","v":""},{"$f":"IF(ISBLANK(B757),\"\",INDEX('Est. Useful Life - HIDE SHEET'!$A$2:$D$206,MATCH(CONCATENATE(B757,C757),'Est. Useful Life - HIDE SHEET'!$A$2:$A$206,FALSE),4))","v":""},null,""]
[null,null,null,null,null,{"$f":"IF(ISBLANK(C758),\"\",_xlfn.CONCAT(LEFT(C758,4),\"-\",LEFT(B758,4),COUNTIF($C$11:C758,C758)))","v":""},{"$f":"IF(ISBLANK(B758),\"\",INDEX('Est. Useful Life - HIDE SHEET'!$A$2:$D$206,MATCH(CONCATENATE(B758,C758),'Est. Useful Life - HIDE SHEET'!$A$2:$A$206,FALSE),4))","v":""},null,""]
[null,null,null,null,null,{"$f":"IF(ISBLANK(C759),\"\",_xlfn.CONCAT(LEFT(C759,4),\"-\",LEFT(B759,4),COUNTIF($C$11:C759,C759)))","v":""},{"$f":"IF(ISBLANK(B759),\"\",INDEX('Est. Useful Life - HIDE SHEET'!$A$2:$D$206,MATCH(CONCATENATE(B759,C759),'Est. Useful Life - HIDE SHEET'!$A$2:$A$206,FALSE),4))","v":""},null,""]
[null,null,null,null,null,{"$f":"IF(ISBLANK(C760),\"\",_xlfn.CONCAT(LEFT(C760,4),\"-\",LEFT(B760,4),COUNTIF($C$11:C760,C760)))","v":""},{"$f":"IF(ISBLANK(B760),\"\",INDEX('Est. Useful Life - HIDE SHEET'!$A$2:$D$206,MATCH(CONCATENATE(B760,C760),'Est. Useful Life - HIDE SHEET'!$A$2:$A$206,FALSE),4))","v":""},null,""]
[null,null,null,null,null,{"$f":"IF(ISBLANK(C761),\"\",_xlfn.CONCAT(LEFT(C761,4),\"-\",LEFT(B761,4),COUNTIF($C$11:C761,C761)))","v":""},{"$f":"IF(ISBLANK(B761),\"\",INDEX('Est. Useful Life - HIDE SHEET'!$A$2:$D$206,MATCH(CONCATENATE(B761,C761),'Est. Useful Life - HIDE SHEET'!$A$2:$A$206,FALSE),4))","v":""},null,""]
[null,null,null,null,null,{"$f":"IF(ISBLANK(C762),\"\",_xlfn.CONCAT(LEFT(C762,4),\"-\",LEFT(B762,4),COUNTIF($C$11:C762,C762)))","v":""},{"$f":"IF(ISBLANK(B762),\"\",INDEX('Est. Useful Life - HIDE SHEET'!$A$2:$D$206,MATCH(CONCATENATE(B762,C762),'Est. Useful Life - HIDE SHEET'!$A$2:$A$206,FALSE),4))","v":""},null,""]
[null,null,null,null,null,{"$f":"IF(ISBLANK(C763),\"\",_xlfn.CONCAT(LEFT(C763,4),\"-\",LEFT(B763,4),COUNTIF($C$11:C763,C763)))","v":""},{"$f":"IF(ISBLANK(B763),\"\",INDEX('Est. Useful Life - HIDE SHEET'!$A$2:$D$206,MATCH(CONCATENATE(B763,C763),'Est. Useful Life - HIDE SHEET'!$A$2:$A$206,FALSE),4))","v":""},null,""]
[null,null,null,null,null,{"$f":"IF(ISBLANK(C764),\"\",_xlfn.CONCAT(LEFT(C764,4),\"-\",LEFT(B764,4),COUNTIF($C$11:C764,C764)))","v":""},{"$f":"IF(ISBLANK(B764),\"\",INDEX('Est. Useful Life - HIDE SHEET'!$A$2:$D$206,MATCH(CONCATENATE(B764,C764),'Est. Useful Life - HIDE SHEET'!$A$2:$A$206,FALSE),4))","v":""},null,""]
[null,null,null,null,null,{"$f":"IF(ISBLANK(C765),\"\",_xlfn.CONCAT(LEFT(C765,4),\"-\",LEFT(B765,4),COUNTIF($C$11:C765,C765)))","v":""},{"$f":"IF(ISBLANK(B765),\"\",INDEX('Est. Useful Life - HIDE SHEET'!$A$2:$D$206,MATCH(CONCATENATE(B765,C765),'Est. Useful Life - HIDE SHEET'!$A$2:$A$206,FALSE),4))","v":""},null,""]
[null,null,null,null,null,{"$f":"IF(ISBLANK(C766),\"\",_xlfn.CONCAT(LEFT(C766,4),\"-\",LEFT(B766,4),COUNTIF($C$11:C766,C766)))","v":""},{"$f":"IF(ISBLANK(B766),\"\",INDEX('Est. Useful Life - HIDE SHEET'!$A$2:$D$206,MATCH(CONCATENATE(B766,C766),'Est. Useful Life - HIDE SHEET'!$A$2:$A$206,FALSE),4))","v":""},null,""]
[null,null,null,null,null,{"$f":"IF(ISBLANK(C767),\"\",_xlfn.CONCAT(LEFT(C767,4),\"-\",LEFT(B767,4),COUNTIF($C$11:C767,C767)))","v":""},{"$f":"IF(ISBLANK(B767),\"\",INDEX('Est. Useful Life - HIDE SHEET'!$A$2:$D$206,MATCH(CONCATENATE(B767,C767),'Est. Useful Life - HIDE SHEET'!$A$2:$A$206,FALSE),4))","v":""},null,""]
[null,null,null,null,null,{"$f":"IF(ISBLANK(C768),\"\",_xlfn.CONCAT(LEFT(C768,4),\"-\",LEFT(B768,4),COUNTIF($C$11:C768,C768)))","v":""},{"$f":"IF(ISBLANK(B768),\"\",INDEX('Est. Useful Life - HIDE SHEET'!$A$2:$D$206,MATCH(CONCATENATE(B768,C768),'Est. Useful Life - HIDE SHEET'!$A$2:$A$206,FALSE),4))","v":""},null,""]
[null,null,null,null,null,{"$f":"IF(ISBLANK(C769),\"\",_xlfn.CONCAT(LEFT(C769,4),\"-\",LEFT(B769,4),COUNTIF($C$11:C769,C769)))","v":""},{"$f":"IF(ISBLANK(B769),\"\",INDEX('Est. Useful Life - HIDE SHEET'!$A$2:$D$206,MATCH(CONCATENATE(B769,C769),'Est. Useful Life - HIDE SHEET'!$A$2:$A$206,FALSE),4))","v":""},null,""]
[null,null,null,null,null,{"$f":"IF(ISBLANK(C770),\"\",_xlfn.CONCAT(LEFT(C770,4),\"-\",LEFT(B770,4),COUNTIF($C$11:C770,C770)))","v":""},{"$f":"IF(ISBLANK(B770),\"\",INDEX('Est. Useful Life - HIDE SHEET'!$A$2:$D$206,MATCH(CONCATENATE(B770,C770),'Est. Useful Life - HIDE SHEET'!$A$2:$A$206,FALSE),4))","v":""},null,""]
[null,null,null,null,null,{"$f":"IF(ISBLANK(C771),\"\",_xlfn.CONCAT(LEFT(C771,4),\"-\",LEFT(B771,4),COUNTIF($C$11:C771,C771)))","v":""},{"$f":"IF(ISBLANK(B771),\"\",INDEX('Est. Useful Life - HIDE SHEET'!$A$2:$D$206,MATCH(CONCATENATE(B771,C771),'Est. Useful Life - HIDE SHEET'!$A$2:$A$206,FALSE),4))","v":""},null,""]
[null,null,null,null,null,{"$f":"IF(ISBLANK(C772),\"\",_xlfn.CONCAT(LEFT(C772,4),\"-\",LEFT(B772,4),COUNTIF($C$11:C772,C772)))","v":""},{"$f":"IF(ISBLANK(B772),\"\",INDEX('Est. Useful Life - HIDE SHEET'!$A$2:$D$206,MATCH(CONCATENATE(B772,C772),'Est. Useful Life - HIDE SHEET'!$A$2:$A$206,FALSE),4))","v":""},null,""]
[null,null,null,null,null,{"$f":"IF(ISBLANK(C773),\"\",_xlfn.CONCAT(LEFT(C773,4),\"-\",LEFT(B773,4),COUNTIF($C$11:C773,C773)))","v":""},{"$f":"IF(ISBLANK(B773),\"\",INDEX('Est. Useful Life - HIDE SHEET'!$A$2:$D$206,MATCH(CONCATENATE(B773,C773),'Est. Useful Life - HIDE SHEET'!$A$2:$A$206,FALSE),4))","v":""},null,""]
[null,null,null,null,null,{"$f":"IF(ISBLANK(C774),\"\",_xlfn.CONCAT(LEFT(C774,4),\"-\",LEFT(B774,4),COUNTIF($C$11:C774,C774)))","v":""},{"$f":"IF(ISBLANK(B774),\"\",INDEX('Est. Useful Life - HIDE SHEET'!$A$2:$D$206,MATCH(CONCATENATE(B774,C774),'Est. Useful Life - HIDE SHEET'!$A$2:$A$206,FALSE),4))","v":""},null,""]
[null,null,null,null,null,{"$f":"IF(ISBLANK(C775),\"\",_xlfn.CONCAT(LEFT(C775,4),\"-\",LEFT(B775,4),COUNTIF($C$11:C775,C775)))","v":""},{"$f":"IF(ISBLANK(B775),\"\",INDEX('Est. Useful Life - HIDE SHEET'!$A$2:$D$206,MATCH(CONCATENATE(B775,C775),'Est. Useful Life - HIDE SHEET'!$A$2:$A$206,FALSE),4))","v":""},null,""]
[null,null,null,null,null,{"$f":"IF(ISBLANK(C776),\"\",_xlfn.CONCAT(LEFT(C776,4),\"-\",LEFT(B776,4),COUNTIF($C$11:C776,C776)))","v":""},{"$f":"IF(ISBLANK(B776),\"\",INDEX('Est. Useful Life - HIDE SHEET'!$A$2:$D$206,MATCH(CONCATENATE(B776,C776),'Est. Useful Life - HIDE SHEET'!$A$2:$A$206,FALSE),4))","v":""},null,""]
[null,null,null,null,null,{"$f":"IF(ISBLANK(C777),\"\",_xlfn.CONCAT(LEFT(C777,4),\"-\",LEFT(B777,4),COUNTIF($C$11:C777,C777)))","v":""},{"$f":"IF(ISBLANK(B777),\"\",INDEX('Est. Useful Life - HIDE SHEET'!$A$2:$D$206,MATCH(CONCATENATE(B777,C777),'Est. Useful Life - HIDE SHEET'!$A$2:$A$206,FALSE),4))","v":""},null,""]
[null,null,null,null,null,{"$f":"IF(ISBLANK(C778),\"\",_xlfn.CONCAT(LEFT(C778,4),\"-\",LEFT(B778,4),COUNTIF($C$11:C778,C778)))","v":""},{"$f":"IF(ISBLANK(B778),\"\",INDEX('Est. Useful Life - HIDE SHEET'!$A$2:$D$206,MATCH(CONCATENATE(B778,C778),'Est. Useful Life - HIDE SHEET'!$A$2:$A$206,FALSE),4))","v":""},null,""]
[null,null,null,null,null,{"$f":"IF(ISBLANK(C779),\"\",_xlfn.CONCAT(LEFT(C779,4),\"-\",LEFT(B779,4),COUNTIF($C$11:C779,C779)))","v":""},{"$f":"IF(ISBLANK(B779),\"\",INDEX('Est. Useful Life - HIDE SHEET'!$A$2:$D$206,MATCH(CONCATENATE(B779,C779),'Est. Useful Life - HIDE SHEET'!$A$2:$A$206,FALSE),4))","v":""},null,""]
[null,null,null,null,null,{"$f":"IF(ISBLANK(C780),\"\",_xlfn.CONCAT(LEFT(C780,4),\"-\",LEFT(B780,4),COUNTIF($C$11:C780,C780)))","v":""},{"$f":"IF(ISBLANK(B780),\"\",INDEX('Est. Useful Life - HIDE SHEET'!$A$2:$D$206,MATCH(CONCATENATE(B780,C780),'Est. Useful Life - HIDE SHEET'!$A$2:$A$206,FALSE),4))","v":""},null,""]
[null,null,null,null,null,{"$f":"IF(ISBLANK(C781),\"\",_xlfn.CONCAT(LEFT(C781,4),\"-\",LEFT(B781,4),COUNTIF($C$11:C781,C781)))","v":""},{"$f":"IF(ISBLANK(B781),\"\",INDEX('Est. Useful Life - HIDE SHEET'!$A$2:$D$206,MATCH(CONCATENATE(B781,C781),'Est. Useful Life - HIDE SHEET'!$A$2:$A$206,FALSE),4))","v":""},null,""]
[null,null,null,null,null,{"$f":"IF(ISBLANK(C782),\"\",_xlfn.CONCAT(LEFT(C782,4),\"-\",LEFT(B782,4),COUNTIF($C$11:C782,C782)))","v":""},{"$f":"IF(ISBLANK(B782),\"\",INDEX('Est. Useful Life - HIDE SHEET'!$A$2:$D$206,MATCH(CONCATENATE(B782,C782),'Est. Useful Life - HIDE SHEET'!$A$2:$A$206,FALSE),4))","v":""},null,""]
[null,null,null,null,null,{"$f":"IF(ISBLANK(C783),\"\",_xlfn.CONCAT(LEFT(C783,4),\"-\",LEFT(B783,4),COUNTIF($C$11:C783,C783)))","v":""},{"$f":"IF(ISBLANK(B783),\"\",INDEX('Est. Useful Life - HIDE SHEET'!$A$2:$D$206,MATCH(CONCATENATE(B783,C783),'Est. Useful Life - HIDE SHEET'!$A$2:$A$206,FALSE),4))","v":""},null,""]
[null,null,null,null,null,{"$f":"IF(ISBLANK(C784),\"\",_xlfn.CONCAT(LEFT(C784,4),\"-\",LEFT(B784,4),COUNTIF($C$11:C784,C784)))","v":""},{"$f":"IF(ISBLANK(B784),\"\",INDEX('Est. Useful Life - HIDE SHEET'!$A$2:$D$206,MATCH(CONCATENATE(B784,C784),'Est. Useful Life - HIDE SHEET'!$A$2:$A$206,FALSE),4))","v":""},null,""]
[null,null,null,null,null,{"$f":"IF(ISBLANK(C785),\"\",_xlfn.CONCAT(LEFT(C785,4),\"-\",LEFT(B785,4),COUNTIF($C$11:C785,C785)))","v":""},{"$f":"IF(ISBLANK(B785),\"\",INDEX('Est. Useful Life - HIDE SHEET'!$A$2:$D$206,MATCH(CONCATENATE(B785,C785),'Est. Useful Life - HIDE SHEET'!$A$2:$A$206,FALSE),4))","v":""},null,""]
[null,null,null,null,null,{"$f":"IF(ISBLANK(C786),\"\",_xlfn.CONCAT(LEFT(C786,4),\"-\",LEFT(B786,4),COUNTIF($C$11:C786,C786)))","v":""},{"$f":"IF(ISBLANK(B786),\"\",INDEX('Est. Useful Life - HIDE SHEET'!$A$2:$D$206,MATCH(CONCATENATE(B786,C786),'Est. Useful Life - HIDE SHEET'!$A$2:$A$206,FALSE),4))","v":""},null,{"$f":"IF(ISNUMBER(G786),IF(ISNUMBER(H786),IF((G786-(INT((TODAY()-H786)/365)))<0,0,G786-(INT((TODAY()-H786)/365))),\"\"),\"\")","v":""}]
[null,null,null,null,null,{"$f":"IF(ISBLANK(C787),\"\",_xlfn.CONCAT(LEFT(C787,4),\"-\",LEFT(B787,4),COUNTIF($C$11:C787,C787)))","v":""},{"$f":"IF(ISBLANK(B787),\"\",INDEX('Est. Useful Life - HIDE SHEET'!$A$2:$D$206,MATCH(CONCATENATE(B787,C787),'Est. Useful Life - HIDE SHEET'!$A$2:$A$206,FALSE),4))","v":""},null,""]
[null,null,null,null,null,{"$f":"IF(ISBLANK(C788),\"\",_xlfn.CONCAT(LEFT(C788,4),\"-\",LEFT(B788,4),COUNTIF($C$11:C788,C788)))","v":""},{"$f":"IF(ISBLANK(B788),\"\",INDEX('Est. Useful Life - HIDE SHEET'!$A$2:$D$206,MATCH(CONCATENATE(B788,C788),'Est. Useful Life - HIDE SHEET'!$A$2:$A$206,FALSE),4))","v":""},null,""]
[null,null,null,null,null,{"$f":"IF(ISBLANK(C789),\"\",_xlfn.CONCAT(LEFT(C789,4),\"-\",LEFT(B789,4),COUNTIF($C$11:C789,C789)))","v":""},{"$f":"IF(ISBLANK(B789),\"\",INDEX('Est. Useful Life - HIDE SHEET'!$A$2:$D$206,MATCH(CONCATENATE(B789,C789),'Est. Useful Life - HIDE SHEET'!$A$2:$A$206,FALSE),4))","v":""},null,""]
[null,null,null,null,null,{"$f":"IF(ISBLANK(C790),\"\",_xlfn.CONCAT(LEFT(C790,4),\"-\",LEFT(B790,4),COUNTIF($C$11:C790,C790)))","v":""},{"$f":"IF(ISBLANK(B790),\"\",INDEX('Est. Useful Life - HIDE SHEET'!$A$2:$D$206,MATCH(CONCATENATE(B790,C790),'Est. Useful Life - HIDE SHEET'!$A$2:$A$206,FALSE),4))","v":""},null,""]
[null,null,null,null,null,{"$f":"IF(ISBLANK(C791),\"\",_xlfn.CONCAT(LEFT(C791,4),\"-\",LEFT(B791,4),COUNTIF($C$11:C791,C791)))","v":""},{"$f":"IF(ISBLANK(B791),\"\",INDEX('Est. Useful Life - HIDE SHEET'!$A$2:$D$206,MATCH(CONCATENATE(B791,C791),'Est. Useful Life - HIDE SHEET'!$A$2:$A$206,FALSE),4))","v":""},null,""]
[null,null,null,null,null,{"$f":"IF(ISBLANK(C792),\"\",_xlfn.CONCAT(LEFT(C792,4),\"-\",LEFT(B792,4),COUNTIF($C$11:C792,C792)))","v":""},{"$f":"IF(ISBLANK(B792),\"\",INDEX('Est. Useful Life - HIDE SHEET'!$A$2:$D$206,MATCH(CONCATENATE(B792,C792),'Est. Useful Life - HIDE SHEET'!$A$2:$A$206,FALSE),4))","v":""},null,""]
[null,null,null,null,null,{"$f":"IF(ISBLANK(C793),\"\",_xlfn.CONCAT(LEFT(C793,4),\"-\",LEFT(B793,4),COUNTIF($C$11:C793,C793)))","v":""},{"$f":"IF(ISBLANK(B793),\"\",INDEX('Est. Useful Life - HIDE SHEET'!$A$2:$D$206,MATCH(CONCATENATE(B793,C793),'Est. Useful Life - HIDE SHEET'!$A$2:$A$206,FALSE),4))","v":""},null,""]
[null,null,null,null,null,{"$f":"IF(ISBLANK(C794),\"\",_xlfn.CONCAT(LEFT(C794,4),\"-\",LEFT(B794,4),COUNTIF($C$11:C794,C794)))","v":""},{"$f":"IF(ISBLANK(B794),\"\",INDEX('Est. Useful Life - HIDE SHEET'!$A$2:$D$206,MATCH(CONCATENATE(B794,C794),'Est. Useful Life - HIDE SHEET'!$A$2:$A$206,FALSE),4))","v":""},null,""]
[null,null,null,null,null,{"$f":"IF(ISBLANK(C795),\"\",_xlfn.CONCAT(LEFT(C795,4),\"-\",LEFT(B795,4),COUNTIF($C$11:C795,C795)))","v":""},{"$f":"IF(ISBLANK(B795),\"\",INDEX('Est. Useful Life - HIDE SHEET'!$A$2:$D$206,MATCH(CONCATENATE(B795,C795),'Est. Useful Life - HIDE SHEET'!$A$2:$A$206,FALSE),4))","v":""},null,""]
[null,null,null,null,null,{"$f":"IF(ISBLANK(C796),\"\",_xlfn.CONCAT(LEFT(C796,4),\"-\",LEFT(B796,4),COUNTIF($C$11:C796,C796)))","v":""},{"$f":"IF(ISBLANK(B796),\"\",INDEX('Est. Useful Life - HIDE SHEET'!$A$2:$D$206,MATCH(CONCATENATE(B796,C796),'Est. Useful Life - HIDE SHEET'!$A$2:$A$206,FALSE),4))","v":""},null,""]
[null,null,null,null,null,{"$f":"IF(ISBLANK(C797),\"\",_xlfn.CONCAT(LEFT(C797,4),\"-\",LEFT(B797,4),COUNTIF($C$11:C797,C797)))","v":""},{"$f":"IF(ISBLANK(B797),\"\",INDEX('Est. Useful Life - HIDE SHEET'!$A$2:$D$206,MATCH(CONCATENATE(B797,C797),'Est. Useful Life - HIDE SHEET'!$A$2:$A$206,FALSE),4))","v":""},null,""]
[null,null,null,null,null,{"$f":"IF(ISBLANK(C798),\"\",_xlfn.CONCAT(LEFT(C798,4),\"-\",LEFT(B798,4),COUNTIF($C$11:C798,C798)))","v":""},{"$f":"IF(ISBLANK(B798),\"\",INDEX('Est. Useful Life - HIDE SHEET'!$A$2:$D$206,MATCH(CONCATENATE(B798,C798),'Est. Useful Life - HIDE SHEET'!$A$2:$A$206,FALSE),4))","v":""},null,""]
[null,null,null,null,null,{"$f":"IF(ISBLANK(C799),\"\",_xlfn.CONCAT(LEFT(C799,4),\"-\",LEFT(B799,4),COUNTIF($C$11:C799,C799)))","v":""},{"$f":"IF(ISBLANK(B799),\"\",INDEX('Est. Useful Life - HIDE SHEET'!$A$2:$D$206,MATCH(CONCATENATE(B799,C799),'Est. Useful Life - HIDE SHEET'!$A$2:$A$206,FALSE),4))","v":""},null,""]
[null,null,null,null,null,{"$f":"IF(ISBLANK(C800),\"\",_xlfn.CONCAT(LEFT(C800,4),\"-\",LEFT(B800,4),COUNTIF($C$11:C800,C800)))","v":""},{"$f":"IF(ISBLANK(B800),\"\",INDEX('Est. Useful Life - HIDE SHEET'!$A$2:$D$206,MATCH(CONCATENATE(B800,C800),'Est. Useful Life - HIDE SHEET'!$A$2:$A$206,FALSE),4))","v":""},null,""]
[null,null,null,null,null,{"$f":"IF(ISBLANK(C801),\"\",_xlfn.CONCAT(LEFT(C801,4),\"-\",LEFT(B801,4),COUNTIF($C$11:C801,C801)))","v":""},{"$f":"IF(ISBLANK(B801),\"\",INDEX('Est. Useful Life - HIDE SHEET'!$A$2:$D$206,MATCH(CONCATENATE(B801,C801),'Est. Useful Life - HIDE SHEET'!$A$2:$A$206,FALSE),4))","v":""},null,""]
[null,null,null,null,null,{"$f":"IF(ISBLANK(C802),\"\",_xlfn.CONCAT(LEFT(C802,4),\"-\",LEFT(B802,4),COUNTIF($C$11:C802,C802)))","v":""},{"$f":"IF(ISBLANK(B802),\"\",INDEX('Est. Useful Life - HIDE SHEET'!$A$2:$D$206,MATCH(CONCATENATE(B802,C802),'Est. Useful Life - HIDE SHEET'!$A$2:$A$206,FALSE),4))","v":""},null,""]
[null,null,null,null,null,{"$f":"IF(ISBLANK(C803),\"\",_xlfn.CONCAT(LEFT(C803,4),\"-\",LEFT(B803,4),COUNTIF($C$11:C803,C803)))","v":""},{"$f":"IF(ISBLANK(B803),\"\",INDEX('Est. Useful Life - HIDE SHEET'!$A$2:$D$206,MATCH(CONCATENATE(B803,C803),'Est. Useful Life - HIDE SHEET'!$A$2:$A$206,FALSE),4))","v":""},null,""]
[null,null,null,null,null,{"$f":"IF(ISBLANK(C804),\"\",_xlfn.CONCAT(LEFT(C804,4),\"-\",LEFT(B804,4),COUNTIF($C$11:C804,C804)))","v":""},{"$f":"IF(ISBLANK(B804),\"\",INDEX('Est. Useful Life - HIDE SHEET'!$A$2:$D$206,MATCH(CONCATENATE(B804,C804),'Est. Useful Life - HIDE SHEET'!$A$2:$A$206,FALSE),4))","v":""},null,""]
[null,null,null,null,null,{"$f":"IF(ISBLANK(C805),\"\",_xlfn.CONCAT(LEFT(C805,4),\"-\",LEFT(B805,4),COUNTIF($C$11:C805,C805)))","v":""},{"$f":"IF(ISBLANK(B805),\"\",INDEX('Est. Useful Life - HIDE SHEET'!$A$2:$D$206,MATCH(CONCATENATE(B805,C805),'Est. Useful Life - HIDE SHEET'!$A$2:$A$206,FALSE),4))","v":""},null,""]
[null,null,null,null,null,{"$f":"IF(ISBLANK(C806),\"\",_xlfn.CONCAT(LEFT(C806,4),\"-\",LEFT(B806,4),COUNTIF($C$11:C806,C806)))","v":""},{"$f":"IF(ISBLANK(B806),\"\",INDEX('Est. Useful Life - HIDE SHEET'!$A$2:$D$206,MATCH(CONCATENATE(B806,C806),'Est. Useful Life - HIDE SHEET'!$A$2:$A$206,FALSE),4))","v":""},null,""]
[null,null,null,null,null,{"$f":"IF(ISBLANK(C807),\"\",_xlfn.CONCAT(LEFT(C807,4),\"-\",LEFT(B807,4),COUNTIF($C$11:C807,C807)))","v":""},{"$f":"IF(ISBLANK(B807),\"\",INDEX('Est. Useful Life - HIDE SHEET'!$A$2:$D$206,MATCH(CONCATENATE(B807,C807),'Est. Useful Life - HIDE SHEET'!$A$2:$A$206,FALSE),4))","v":""},null,""]
[null,null,null,null,null,{"$f":"IF(ISBLANK(C808),\"\",_xlfn.CONCAT(LEFT(C808,4),\"-\",LEFT(B808,4),COUNTIF($C$11:C808,C808)))","v":""},{"$f":"IF(ISBLANK(B808),\"\",INDEX('Est. Useful Life - HIDE SHEET'!$A$2:$D$206,MATCH(CONCATENATE(B808,C808),'Est. Useful Life - HIDE SHEET'!$A$2:$A$206,FALSE),4))","v":""},null,""]
[null,null,null,null,null,{"$f":"IF(ISBLANK(C809),\"\",_xlfn.CONCAT(LEFT(C809,4),\"-\",LEFT(B809,4),COUNTIF($C$11:C809,C809)))","v":""},{"$f":"IF(ISBLANK(B809),\"\",INDEX('Est. Useful Life - HIDE SHEET'!$A$2:$D$206,MATCH(CONCATENATE(B809,C809),'Est. Useful Life - HIDE SHEET'!$A$2:$A$206,FALSE),4))","v":""},null,""]
[null,null,null,null,null,{"$f":"IF(ISBLANK(C810),\"\",_xlfn.CONCAT(LEFT(C810,4),\"-\",LEFT(B810,4),COUNTIF($C$11:C810,C810)))","v":""},{"$f":"IF(ISBLANK(B810),\"\",INDEX('Est. Useful Life - HIDE SHEET'!$A$2:$D$206,MATCH(CONCATENATE(B810,C810),'Est. Useful Life - HIDE SHEET'!$A$2:$A$206,FALSE),4))","v":""},null,""]
[null,null,null,null,null,{"$f":"IF(ISBLANK(C811),\"\",_xlfn.CONCAT(LEFT(C811,4),\"-\",LEFT(B811,4),COUNTIF($C$11:C811,C811)))","v":""},{"$f":"IF(ISBLANK(B811),\"\",INDEX('Est. Useful Life - HIDE SHEET'!$A$2:$D$206,MATCH(CONCATENATE(B811,C811),'Est. Useful Life - HIDE SHEET'!$A$2:$A$206,FALSE),4))","v":""},null,""]
[null,null,null,null,null,{"$f":"IF(ISBLANK(C812),\"\",_xlfn.CONCAT(LEFT(C812,4),\"-\",LEFT(B812,4),COUNTIF($C$11:C812,C812)))","v":""},{"$f":"IF(ISBLANK(B812),\"\",INDEX('Est. Useful Life - HIDE SHEET'!$A$2:$D$206,MATCH(CONCATENATE(B812,C812),'Est. Useful Life - HIDE SHEET'!$A$2:$A$206,FALSE),4))","v":""},null,""]
[null,null,null,null,null,{"$f":"IF(ISBLANK(C813),\"\",_xlfn.CONCAT(LEFT(C813,4),\"-\",LEFT(B813,4),COUNTIF($C$11:C813,C813)))","v":""},{"$f":"IF(ISBLANK(B813),\"\",INDEX('Est. Useful Life - HIDE SHEET'!$A$2:$D$206,MATCH(CONCATENATE(B813,C813),'Est. Useful Life - HIDE SHEET'!$A$2:$A$206,FALSE),4))","v":""},null,""]
[null,null,null,null,null,{"$f":"IF(ISBLANK(C814),\"\",_xlfn.CONCAT(LEFT(C814,4),\"-\",LEFT(B814,4),COUNTIF($C$11:C814,C814)))","v":""},{"$f":"IF(ISBLANK(B814),\"\",INDEX('Est. Useful Life - HIDE SHEET'!$A$2:$D$206,MATCH(CONCATENATE(B814,C814),'Est. Useful Life - HIDE SHEET'!$A$2:$A$206,FALSE),4))","v":""},null,""]
[null,null,null,null,null,{"$f":"IF(ISBLANK(C815),\"\",_xlfn.CONCAT(LEFT(C815,4),\"-\",LEFT(B815,4),COUNTIF($C$11:C815,C815)))","v":""},{"$f":"IF(ISBLANK(B815),\"\",INDEX('Est. Useful Life - HIDE SHEET'!$A$2:$D$206,MATCH(CONCATENATE(B815,C815),'Est. Useful Life - HIDE SHEET'!$A$2:$A$206,FALSE),4))","v":""},null,""]
[null,null,null,null,null,{"$f":"IF(ISBLANK(C816),\"\",_xlfn.CONCAT(LEFT(C816,4),\"-\",LEFT(B816,4),COUNTIF($C$11:C816,C816)))","v":""},{"$f":"IF(ISBLANK(B816),\"\",INDEX('Est. Useful Life - HIDE SHEET'!$A$2:$D$206,MATCH(CONCATENATE(B816,C816),'Est. Useful Life - HIDE SHEET'!$A$2:$A$206,FALSE),4))","v":""},null,""]
[null,null,null,null,null,{"$f":"IF(ISBLANK(C817),\"\",_xlfn.CONCAT(LEFT(C817,4),\"-\",LEFT(B817,4),COUNTIF($C$11:C817,C817)))","v":""},{"$f":"IF(ISBLANK(B817),\"\",INDEX('Est. Useful Life - HIDE SHEET'!$A$2:$D$206,MATCH(CONCATENATE(B817,C817),'Est. Useful Life - HIDE SHEET'!$A$2:$A$206,FALSE),4))","v":""},null,""]
[null,null,null,null,null,{"$f":"IF(ISBLANK(C818),\"\",_xlfn.CONCAT(LEFT(C818,4),\"-\",LEFT(B818,4),COUNTIF($C$11:C818,C818)))","v":""},{"$f":"IF(ISBLANK(B818),\"\",INDEX('Est. Useful Life - HIDE SHEET'!$A$2:$D$206,MATCH(CONCATENATE(B818,C818),'Est. Useful Life - HIDE SHEET'!$A$2:$A$206,FALSE),4))","v":""},null,""]
[null,null,null,null,null,{"$f":"IF(ISBLANK(C819),\"\",_xlfn.CONCAT(LEFT(C819,4),\"-\",LEFT(B819,4),COUNTIF($C$11:C819,C819)))","v":""},{"$f":"IF(ISBLANK(B819),\"\",INDEX('Est. Useful Life - HIDE SHEET'!$A$2:$D$206,MATCH(CONCATENATE(B819,C819),'Est. Useful Life - HIDE SHEET'!$A$2:$A$206,FALSE),4))","v":""},null,""]
[null,null,null,null,null,{"$f":"IF(ISBLANK(C820),\"\",_xlfn.CONCAT(LEFT(C820,4),\"-\",LEFT(B820,4),COUNTIF($C$11:C820,C820)))","v":""},{"$f":"IF(ISBLANK(B820),\"\",INDEX('Est. Useful Life - HIDE SHEET'!$A$2:$D$206,MATCH(CONCATENATE(B820,C820),'Est. Useful Life - HIDE SHEET'!$A$2:$A$206,FALSE),4))","v":""},null,""]
[null,null,null,null,null,{"$f":"IF(ISBLANK(C821),\"\",_xlfn.CONCAT(LEFT(C821,4),\"-\",LEFT(B821,4),COUNTIF($C$11:C821,C821)))","v":""},{"$f":"IF(ISBLANK(B821),\"\",INDEX('Est. Useful Life - HIDE SHEET'!$A$2:$D$206,MATCH(CONCATENATE(B821,C821),'Est. Useful Life - HIDE SHEET'!$A$2:$A$206,FALSE),4))","v":""},null,""]
[null,null,null,null,null,{"$f":"IF(ISBLANK(C822),\"\",_xlfn.CONCAT(LEFT(C822,4),\"-\",LEFT(B822,4),COUNTIF($C$11:C822,C822)))","v":""},{"$f":"IF(ISBLANK(B822),\"\",INDEX('Est. Useful Life - HIDE SHEET'!$A$2:$D$206,MATCH(CONCATENATE(B822,C822),'Est. Useful Life - HIDE SHEET'!$A$2:$A$206,FALSE),4))","v":""},null,""]
[null,null,null,null,null,{"$f":"IF(ISBLANK(C823),\"\",_xlfn.CONCAT(LEFT(C823,4),\"-\",LEFT(B823,4),COUNTIF($C$11:C823,C823)))","v":""},{"$f":"IF(ISBLANK(B823),\"\",INDEX('Est. Useful Life - HIDE SHEET'!$A$2:$D$206,MATCH(CONCATENATE(B823,C823),'Est. Useful Life - HIDE SHEET'!$A$2:$A$206,FALSE),4))","v":""},null,""]
[null,null,null,null,null,{"$f":"IF(ISBLANK(C824),\"\",_xlfn.CONCAT(LEFT(C824,4),\"-\",LEFT(B824,4),COUNTIF($C$11:C824,C824)))","v":""},{"$f":"IF(ISBLANK(B824),\"\",INDEX('Est. Useful Life - HIDE SHEET'!$A$2:$D$206,MATCH(CONCATENATE(B824,C824),'Est. Useful Life - HIDE SHEET'!$A$2:$A$206,FALSE),4))","v":""},null,""]
[null,null,null,null,null,{"$f":"IF(ISBLANK(C825),\"\",_xlfn.CONCAT(LEFT(C825,4),\"-\",LEFT(B825,4),COUNTIF($C$11:C825,C825)))","v":""},{"$f":"IF(ISBLANK(B825),\"\",INDEX('Est. Useful Life - HIDE SHEET'!$A$2:$D$206,MATCH(CONCATENATE(B825,C825),'Est. Useful Life - HIDE SHEET'!$A$2:$A$206,FALSE),4))","v":""},null,""]
[null,null,null,null,null,{"$f":"IF(ISBLANK(C826),\"\",_xlfn.CONCAT(LEFT(C826,4),\"-\",LEFT(B826,4),COUNTIF($C$11:C826,C826)))","v":""},{"$f":"IF(ISBLANK(B826),\"\",INDEX('Est. Useful Life - HIDE SHEET'!$A$2:$D$206,MATCH(CONCATENATE(B826,C826),'Est. Useful Life - HIDE SHEET'!$A$2:$A$206,FALSE),4))","v":""},null,""]
[null,null,null,null,null,{"$f":"IF(ISBLANK(C827),\"\",_xlfn.CONCAT(LEFT(C827,4),\"-\",LEFT(B827,4),COUNTIF($C$11:C827,C827)))","v":""},{"$f":"IF(ISBLANK(B827),\"\",INDEX('Est. Useful Life - HIDE SHEET'!$A$2:$D$206,MATCH(CONCATENATE(B827,C827),'Est. Useful Life - HIDE SHEET'!$A$2:$A$206,FALSE),4))","v":""},null,""]
[null,null,null,null,null,{"$f":"IF(ISBLANK(C828),\"\",_xlfn.CONCAT(LEFT(C828,4),\"-\",LEFT(B828,4),COUNTIF($C$11:C828,C828)))","v":""},{"$f":"IF(ISBLANK(B828),\"\",INDEX('Est. Useful Life - HIDE SHEET'!$A$2:$D$206,MATCH(CONCATENATE(B828,C828),'Est. Useful Life - HIDE SHEET'!$A$2:$A$206,FALSE),4))","v":""},null,""]
[null,null,null,null,null,{"$f":"IF(ISBLANK(C829),\"\",_xlfn.CONCAT(LEFT(C829,4),\"-\",LEFT(B829,4),COUNTIF($C$11:C829,C829)))","v":""},{"$f":"IF(ISBLANK(B829),\"\",INDEX('Est. Useful Life - HIDE SHEET'!$A$2:$D$206,MATCH(CONCATENATE(B829,C829),'Est. Useful Life - HIDE SHEET'!$A$2:$A$206,FALSE),4))","v":""},null,""]
[null,null,null,null,null,{"$f":"IF(ISBLANK(C830),\"\",_xlfn.CONCAT(LEFT(C830,4),\"-\",LEFT(B830,4),COUNTIF($C$11:C830,C830)))","v":""},{"$f":"IF(ISBLANK(B830),\"\",INDEX('Est. Useful Life - HIDE SHEET'!$A$2:$D$206,MATCH(CONCATENATE(B830,C830),'Est. Useful Life - HIDE SHEET'!$A$2:$A$206,FALSE),4))","v":""},null,""]
[null,null,null,null,null,{"$f":"IF(ISBLANK(C831),\"\",_xlfn.CONCAT(LEFT(C831,4),\"-\",LEFT(B831,4),COUNTIF($C$11:C831,C831)))","v":""},{"$f":"IF(ISBLANK(B831),\"\",INDEX('Est. Useful Life - HIDE SHEET'!$A$2:$D$206,MATCH(CONCATENATE(B831,C831),'Est. Useful Life - HIDE SHEET'!$A$2:$A$206,FALSE),4))","v":""},null,""]
[null,null,null,null,null,{"$f":"IF(ISBLANK(C832),\"\",_xlfn.CONCAT(LEFT(C832,4),\"-\",LEFT(B832,4),COUNTIF($C$11:C832,C832)))","v":""},{"$f":"IF(ISBLANK(B832),\"\",INDEX('Est. Useful Life - HIDE SHEET'!$A$2:$D$206,MATCH(CONCATENATE(B832,C832),'Est. Useful Life - HIDE SHEET'!$A$2:$A$206,FALSE),4))","v":""},null,""]
[null,null,null,null,null,{"$f":"IF(ISBLANK(C833),\"\",_xlfn.CONCAT(LEFT(C833,4),\"-\",LEFT(B833,4),COUNTIF($C$11:C833,C833)))","v":""},{"$f":"IF(ISBLANK(B833),\"\",INDEX('Est. Useful Life - HIDE SHEET'!$A$2:$D$206,MATCH(CONCATENATE(B833,C833),'Est. Useful Life - HIDE SHEET'!$A$2:$A$206,FALSE),4))","v":""},null,""]
[null,null,null,null,null,{"$f":"IF(ISBLANK(C834),\"\",_xlfn.CONCAT(LEFT(C834,4),\"-\",LEFT(B834,4),COUNTIF($C$11:C834,C834)))","v":""},{"$f":"IF(ISBLANK(B834),\"\",INDEX('Est. Useful Life - HIDE SHEET'!$A$2:$D$206,MATCH(CONCATENATE(B834,C834),'Est. Useful Life - HIDE SHEET'!$A$2:$A$206,FALSE),4))","v":""},null,""]
[null,null,null,null,null,{"$f":"IF(ISBLANK(C835),\"\",_xlfn.CONCAT(LEFT(C835,4),\"-\",LEFT(B835,4),COUNTIF($C$11:C835,C835)))","v":""},{"$f":"IF(ISBLANK(B835),\"\",INDEX('Est. Useful Life - HIDE SHEET'!$A$2:$D$206,MATCH(CONCATENATE(B835,C835),'Est. Useful Life - HIDE SHEET'!$A$2:$A$206,FALSE),4))","v":""},null,""]
[null,null,null,null,null,{"$f":"IF(ISBLANK(C836),\"\",_xlfn.CONCAT(LEFT(C836,4),\"-\",LEFT(B836,4),COUNTIF($C$11:C836,C836)))","v":""},{"$f":"IF(ISBLANK(B836),\"\",INDEX('Est. Useful Life - HIDE SHEET'!$A$2:$D$206,MATCH(CONCATENATE(B836,C836),'Est. Useful Life - HIDE SHEET'!$A$2:$A$206,FALSE),4))","v":""},null,""]
[null,null,null,null,null,{"$f":"IF(ISBLANK(C837),\"\",_xlfn.CONCAT(LEFT(C837,4),\"-\",LEFT(B837,4),COUNTIF($C$11:C837,C837)))","v":""},{"$f":"IF(ISBLANK(B837),\"\",INDEX('Est. Useful Life - HIDE SHEET'!$A$2:$D$206,MATCH(CONCATENATE(B837,C837),'Est. Useful Life - HIDE SHEET'!$A$2:$A$206,FALSE),4))","v":""},null,""]
[null,null,null,null,null,{"$f":"IF(ISBLANK(C838),\"\",_xlfn.CONCAT(LEFT(C838,4),\"-\",LEFT(B838,4),COUNTIF($C$11:C838,C838)))","v":""},{"$f":"IF(ISBLANK(B838),\"\",INDEX('Est. Useful Life - HIDE SHEET'!$A$2:$D$206,MATCH(CONCATENATE(B838,C838),'Est. Useful Life - HIDE SHEET'!$A$2:$A$206,FALSE),4))","v":""},null,""]
[null,null,null,null,null,{"$f":"IF(ISBLANK(C839),\"\",_xlfn.CONCAT(LEFT(C839,4),\"-\",LEFT(B839,4),COUNTIF($C$11:C839,C839)))","v":""},{"$f":"IF(ISBLANK(B839),\"\",INDEX('Est. Useful Life - HIDE SHEET'!$A$2:$D$206,MATCH(CONCATENATE(B839,C839),'Est. Useful Life - HIDE SHEET'!$A$2:$A$206,FALSE),4))","v":""},null,""]
[null,null,null,null,null,{"$f":"IF(ISBLANK(C840),\"\",_xlfn.CONCAT(LEFT(C840,4),\"-\",LEFT(B840,4),COUNTIF($C$11:C840,C840)))","v":""},{"$f":"IF(ISBLANK(B840),\"\",INDEX('Est. Useful Life - HIDE SHEET'!$A$2:$D$206,MATCH(CONCATENATE(B840,C840),'Est. Useful Life - HIDE SHEET'!$A$2:$A$206,FALSE),4))","v":""},null,""]
[null,null,null,null,null,{"$f":"IF(ISBLANK(C841),\"\",_xlfn.CONCAT(LEFT(C841,4),\"-\",LEFT(B841,4),COUNTIF($C$11:C841,C841)))","v":""},{"$f":"IF(ISBLANK(B841),\"\",INDEX('Est. Useful Life - HIDE SHEET'!$A$2:$D$206,MATCH(CONCATENATE(B841,C841),'Est. Useful Life - HIDE SHEET'!$A$2:$A$206,FALSE),4))","v":""},null,""]
[null,null,null,null,null,{"$f":"IF(ISBLANK(C842),\"\",_xlfn.CONCAT(LEFT(C842,4),\"-\",LEFT(B842,4),COUNTIF($C$11:C842,C842)))","v":""},{"$f":"IF(ISBLANK(B842),\"\",INDEX('Est. Useful Life - HIDE SHEET'!$A$2:$D$206,MATCH(CONCATENATE(B842,C842),'Est. Useful Life - HIDE SHEET'!$A$2:$A$206,FALSE),4))","v":""},null,""]
[null,null,null,null,null,{"$f":"IF(ISBLANK(C843),\"\",_xlfn.CONCAT(LEFT(C843,4),\"-\",LEFT(B843,4),COUNTIF($C$11:C843,C843)))","v":""},{"$f":"IF(ISBLANK(B843),\"\",INDEX('Est. Useful Life - HIDE SHEET'!$A$2:$D$206,MATCH(CONCATENATE(B843,C843),'Est. Useful Life - HIDE SHEET'!$A$2:$A$206,FALSE),4))","v":""},null,""]
[null,null,null,null,null,{"$f":"IF(ISBLANK(C844),\"\",_xlfn.CONCAT(LEFT(C844,4),\"-\",LEFT(B844,4),COUNTIF($C$11:C844,C844)))","v":""},{"$f":"IF(ISBLANK(B844),\"\",INDEX('Est. Useful Life - HIDE SHEET'!$A$2:$D$206,MATCH(CONCATENATE(B844,C844),'Est. Useful Life - HIDE SHEET'!$A$2:$A$206,FALSE),4))","v":""},null,""]
[null,null,null,null,null,{"$f":"IF(ISBLANK(C845),\"\",_xlfn.CONCAT(LEFT(C845,4),\"-\",LEFT(B845,4),COUNTIF($C$11:C845,C845)))","v":""},{"$f":"IF(ISBLANK(B845),\"\",INDEX('Est. Useful Life - HIDE SHEET'!$A$2:$D$206,MATCH(CONCATENATE(B845,C845),'Est. Useful Life - HIDE SHEET'!$A$2:$A$206,FALSE),4))","v":""},null,""]
[null,null,null,null,null,{"$f":"IF(ISBLANK(C846),\"\",_xlfn.CONCAT(LEFT(C846,4),\"-\",LEFT(B846,4),COUNTIF($C$11:C846,C846)))","v":""},{"$f":"IF(ISBLANK(B846),\"\",INDEX('Est. Useful Life - HIDE SHEET'!$A$2:$D$206,MATCH(CONCATENATE(B846,C846),'Est. Useful Life - HIDE SHEET'!$A$2:$A$206,FALSE),4))","v":""},null,""]
[null,null,null,null,null,{"$f":"IF(ISBLANK(C847),\"\",_xlfn.CONCAT(LEFT(C847,4),\"-\",LEFT(B847,4),COUNTIF($C$11:C847,C847)))","v":""},{"$f":"IF(ISBLANK(B847),\"\",INDEX('Est. Useful Life - HIDE SHEET'!$A$2:$D$206,MATCH(CONCATENATE(B847,C847),'Est. Useful Life - HIDE SHEET'!$A$2:$A$206,FALSE),4))","v":""},null,""]
[null,null,null,null,null,{"$f":"IF(ISBLANK(C848),\"\",_xlfn.CONCAT(LEFT(C848,4),\"-\",LEFT(B848,4),COUNTIF($C$11:C848,C848)))","v":""},{"$f":"IF(ISBLANK(B848),\"\",INDEX('Est. Useful Life - HIDE SHEET'!$A$2:$D$206,MATCH(CONCATENATE(B848,C848),'Est. Useful Life - HIDE SHEET'!$A$2:$A$206,FALSE),4))","v":""},null,""]
[null,null,null,null,null,{"$f":"IF(ISBLANK(C849),\"\",_xlfn.CONCAT(LEFT(C849,4),\"-\",LEFT(B849,4),COUNTIF($C$11:C849,C849)))","v":""},{"$f":"IF(ISBLANK(B849),\"\",INDEX('Est. Useful Life - HIDE SHEET'!$A$2:$D$206,MATCH(CONCATENATE(B849,C849),'Est. Useful Life - HIDE SHEET'!$A$2:$A$206,FALSE),4))","v":""},null,""]
[null,null,null,null,null,{"$f":"IF(ISBLANK(C850),\"\",_xlfn.CONCAT(LEFT(C850,4),\"-\",LEFT(B850,4),COUNTIF($C$11:C850,C850)))","v":""},{"$f":"IF(ISBLANK(B850),\"\",INDEX('Est. Useful Life - HIDE SHEET'!$A$2:$D$206,MATCH(CONCATENATE(B850,C850),'Est. Useful Life - HIDE SHEET'!$A$2:$A$206,FALSE),4))","v":""},null,{"$f":"IF(ISNUMBER(G850),IF(ISNUMBER(H850),IF((G850-(INT((TODAY()-H850)/365)))<0,0,G850-(INT((TODAY()-H850)/365))),\"\"),\"\")","v":""}]
[null,null,null,null,null,{"$f":"IF(ISBLANK(C851),\"\",_xlfn.CONCAT(LEFT(C851,4),\"-\",LEFT(B851,4),COUNTIF($C$11:C851,C851)))","v":""},{"$f":"IF(ISBLANK(B851),\"\",INDEX('Est. Useful Life - HIDE SHEET'!$A$2:$D$206,MATCH(CONCATENATE(B851,C851),'Est. Useful Life - HIDE SHEET'!$A$2:$A$206,FALSE),4))","v":""},null,""]
[null,null,null,null,null,{"$f":"IF(ISBLANK(C852),\"\",_xlfn.CONCAT(LEFT(C852,4),\"-\",LEFT(B852,4),COUNTIF($C$11:C852,C852)))","v":""},{"$f":"IF(ISBLANK(B852),\"\",INDEX('Est. Useful Life - HIDE SHEET'!$A$2:$D$206,MATCH(CONCATENATE(B852,C852),'Est. Useful Life - HIDE SHEET'!$A$2:$A$206,FALSE),4))","v":""},null,""]
[null,null,null,null,null,{"$f":"IF(ISBLANK(C853),\"\",_xlfn.CONCAT(LEFT(C853,4),\"-\",LEFT(B853,4),COUNTIF($C$11:C853,C853)))","v":""},{"$f":"IF(ISBLANK(B853),\"\",INDEX('Est. Useful Life - HIDE SHEET'!$A$2:$D$206,MATCH(CONCATENATE(B853,C853),'Est. Useful Life - HIDE SHEET'!$A$2:$A$206,FALSE),4))","v":""},null,""]
[null,null,null,null,null,{"$f":"IF(ISBLANK(C854),\"\",_xlfn.CONCAT(LEFT(C854,4),\"-\",LEFT(B854,4),COUNTIF($C$11:C854,C854)))","v":""},{"$f":"IF(ISBLANK(B854),\"\",INDEX('Est. Useful Life - HIDE SHEET'!$A$2:$D$206,MATCH(CONCATENATE(B854,C854),'Est. Useful Life - HIDE SHEET'!$A$2:$A$206,FALSE),4))","v":""},null,""]
[null,null,null,null,null,{"$f":"IF(ISBLANK(C855),\"\",_xlfn.CONCAT(LEFT(C855,4),\"-\",LEFT(B855,4),COUNTIF($C$11:C855,C855)))","v":""},{"$f":"IF(ISBLANK(B855),\"\",INDEX('Est. Useful Life - HIDE SHEET'!$A$2:$D$206,MATCH(CONCATENATE(B855,C855),'Est. Useful Life - HIDE SHEET'!$A$2:$A$206,FALSE),4))","v":""},null,""]
[null,null,null,null,null,{"$f":"IF(ISBLANK(C856),\"\",_xlfn.CONCAT(LEFT(C856,4),\"-\",LEFT(B856,4),COUNTIF($C$11:C856,C856)))","v":""},{"$f":"IF(ISBLANK(B856),\"\",INDEX('Est. Useful Life - HIDE SHEET'!$A$2:$D$206,MATCH(CONCATENATE(B856,C856),'Est. Useful Life - HIDE SHEET'!$A$2:$A$206,FALSE),4))","v":""},null,""]
[null,null,null,null,null,{"$f":"IF(ISBLANK(C857),\"\",_xlfn.CONCAT(LEFT(C857,4),\"-\",LEFT(B857,4),COUNTIF($C$11:C857,C857)))","v":""},{"$f":"IF(ISBLANK(B857),\"\",INDEX('Est. Useful Life - HIDE SHEET'!$A$2:$D$206,MATCH(CONCATENATE(B857,C857),'Est. Useful Life - HIDE SHEET'!$A$2:$A$206,FALSE),4))","v":""},null,""]
[null,null,null,null,null,{"$f":"IF(ISBLANK(C858),\"\",_xlfn.CONCAT(LEFT(C858,4),\"-\",LEFT(B858,4),COUNTIF($C$11:C858,C858)))","v":""},{"$f":"IF(ISBLANK(B858),\"\",INDEX('Est. Useful Life - HIDE SHEET'!$A$2:$D$206,MATCH(CONCATENATE(B858,C858),'Est. Useful Life - HIDE SHEET'!$A$2:$A$206,FALSE),4))","v":""},null,""]
[null,null,null,null,null,{"$f":"IF(ISBLANK(C859),\"\",_xlfn.CONCAT(LEFT(C859,4),\"-\",LEFT(B859,4),COUNTIF($C$11:C859,C859)))","v":""},{"$f":"IF(ISBLANK(B859),\"\",INDEX('Est. Useful Life - HIDE SHEET'!$A$2:$D$206,MATCH(CONCATENATE(B859,C859),'Est. Useful Life - HIDE SHEET'!$A$2:$A$206,FALSE),4))","v":""},null,""]
[null,null,null,null,null,{"$f":"IF(ISBLANK(C860),\"\",_xlfn.CONCAT(LEFT(C860,4),\"-\",LEFT(B860,4),COUNTIF($C$11:C860,C860)))","v":""},{"$f":"IF(ISBLANK(B860),\"\",INDEX('Est. Useful Life - HIDE SHEET'!$A$2:$D$206,MATCH(CONCATENATE(B860,C860),'Est. Useful Life - HIDE SHEET'!$A$2:$A$206,FALSE),4))","v":""},null,""]
[null,null,null,null,null,{"$f":"IF(ISBLANK(C861),\"\",_xlfn.CONCAT(LEFT(C861,4),\"-\",LEFT(B861,4),COUNTIF($C$11:C861,C861)))","v":""},{"$f":"IF(ISBLANK(B861),\"\",INDEX('Est. Useful Life - HIDE SHEET'!$A$2:$D$206,MATCH(CONCATENATE(B861,C861),'Est. Useful Life - HIDE SHEET'!$A$2:$A$206,FALSE),4))","v":""},null,""]
[null,null,null,null,null,{"$f":"IF(ISBLANK(C862),\"\",_xlfn.CONCAT(LEFT(C862,4),\"-\",LEFT(B862,4),COUNTIF($C$11:C862,C862)))","v":""},{"$f":"IF(ISBLANK(B862),\"\",INDEX('Est. Useful Life - HIDE SHEET'!$A$2:$D$206,MATCH(CONCATENATE(B862,C862),'Est. Useful Life - HIDE SHEET'!$A$2:$A$206,FALSE),4))","v":""},null,""]
[null,null,null,null,null,{"$f":"IF(ISBLANK(C863),\"\",_xlfn.CONCAT(LEFT(C863,4),\"-\",LEFT(B863,4),COUNTIF($C$11:C863,C863)))","v":""},{"$f":"IF(ISBLANK(B863),\"\",INDEX('Est. Useful Life - HIDE SHEET'!$A$2:$D$206,MATCH(CONCATENATE(B863,C863),'Est. Useful Life - HIDE SHEET'!$A$2:$A$206,FALSE),4))","v":""},null,""]
[null,null,null,null,null,{"$f":"IF(ISBLANK(C864),\"\",_xlfn.CONCAT(LEFT(C864,4),\"-\",LEFT(B864,4),COUNTIF($C$11:C864,C864)))","v":""},{"$f":"IF(ISBLANK(B864),\"\",INDEX('Est. Useful Life - HIDE SHEET'!$A$2:$D$206,MATCH(CONCATENATE(B864,C864),'Est. Useful Life - HIDE SHEET'!$A$2:$A$206,FALSE),4))","v":""},null,""]
[null,null,null,null,null,{"$f":"IF(ISBLANK(C865),\"\",_xlfn.CONCAT(LEFT(C865,4),\"-\",LEFT(B865,4),COUNTIF($C$11:C865,C865)))","v":""},{"$f":"IF(ISBLANK(B865),\"\",INDEX('Est. Useful Life - HIDE SHEET'!$A$2:$D$206,MATCH(CONCATENATE(B865,C865),'Est. Useful Life - HIDE SHEET'!$A$2:$A$206,FALSE),4))","v":""},null,""]
[null,null,null,null,null,{"$f":"IF(ISBLANK(C866),\"\",_xlfn.CONCAT(LEFT(C866,4),\"-\",LEFT(B866,4),COUNTIF($C$11:C866,C866)))","v":""},{"$f":"IF(ISBLANK(B866),\"\",INDEX('Est. Useful Life - HIDE SHEET'!$A$2:$D$206,MATCH(CONCATENATE(B866,C866),'Est. Useful Life - HIDE SHEET'!$A$2:$A$206,FALSE),4))","v":""},null,""]
[null,null,null,null,null,{"$f":"IF(ISBLANK(C867),\"\",_xlfn.CONCAT(LEFT(C867,4),\"-\",LEFT(B867,4),COUNTIF($C$11:C867,C867)))","v":""},{"$f":"IF(ISBLANK(B867),\"\",INDEX('Est. Useful Life - HIDE SHEET'!$A$2:$D$206,MATCH(CONCATENATE(B867,C867),'Est. Useful Life - HIDE SHEET'!$A$2:$A$206,FALSE),4))","v":""},null,""]
[null,null,null,null,null,{"$f":"IF(ISBLANK(C868),\"\",_xlfn.CONCAT(LEFT(C868,4),\"-\",LEFT(B868,4),COUNTIF($C$11:C868,C868)))","v":""},{"$f":"IF(ISBLANK(B868),\"\",INDEX('Est. Useful Life - HIDE SHEET'!$A$2:$D$206,MATCH(CONCATENATE(B868,C868),'Est. Useful Life - HIDE SHEET'!$A$2:$A$206,FALSE),4))","v":""},null,""]
[null,null,null,null,null,{"$f":"IF(ISBLANK(C869),\"\",_xlfn.CONCAT(LEFT(C869,4),\"-\",LEFT(B869,4),COUNTIF($C$11:C869,C869)))","v":""},{"$f":"IF(ISBLANK(B869),\"\",INDEX('Est. Useful Life - HIDE SHEET'!$A$2:$D$206,MATCH(CONCATENATE(B869,C869),'Est. Useful Life - HIDE SHEET'!$A$2:$A$206,FALSE),4))","v":""},null,""]
[null,null,null,null,null,{"$f":"IF(ISBLANK(C870),\"\",_xlfn.CONCAT(LEFT(C870,4),\"-\",LEFT(B870,4),COUNTIF($C$11:C870,C870)))","v":""},{"$f":"IF(ISBLANK(B870),\"\",INDEX('Est. Useful Life - HIDE SHEET'!$A$2:$D$206,MATCH(CONCATENATE(B870,C870),'Est. Useful Life - HIDE SHEET'!$A$2:$A$206,FALSE),4))","v":""},null,""]
[null,null,null,null,null,{"$f":"IF(ISBLANK(C871),\"\",_xlfn.CONCAT(LEFT(C871,4),\"-\",LEFT(B871,4),COUNTIF($C$11:C871,C871)))","v":""},{"$f":"IF(ISBLANK(B871),\"\",INDEX('Est. Useful Life - HIDE SHEET'!$A$2:$D$206,MATCH(CONCATENATE(B871,C871),'Est. Useful Life - HIDE SHEET'!$A$2:$A$206,FALSE),4))","v":""},null,""]
[null,null,null,null,null,{"$f":"IF(ISBLANK(C872),\"\",_xlfn.CONCAT(LEFT(C872,4),\"-\",LEFT(B872,4),COUNTIF($C$11:C872,C872)))","v":""},{"$f":"IF(ISBLANK(B872),\"\",INDEX('Est. Useful Life - HIDE SHEET'!$A$2:$D$206,MATCH(CONCATENATE(B872,C872),'Est. Useful Life - HIDE SHEET'!$A$2:$A$206,FALSE),4))","v":""},null,""]
[null,null,null,null,null,{"$f":"IF(ISBLANK(C873),\"\",_xlfn.CONCAT(LEFT(C873,4),\"-\",LEFT(B873,4),COUNTIF($C$11:C873,C873)))","v":""},{"$f":"IF(ISBLANK(B873),\"\",INDEX('Est. Useful Life - HIDE SHEET'!$A$2:$D$206,MATCH(CONCATENATE(B873,C873),'Est. Useful Life - HIDE SHEET'!$A$2:$A$206,FALSE),4))","v":""},null,""]
[null,null,null,null,null,{"$f":"IF(ISBLANK(C874),\"\",_xlfn.CONCAT(LEFT(C874,4),\"-\",LEFT(B874,4),COUNTIF($C$11:C874,C874)))","v":""},{"$f":"IF(ISBLANK(B874),\"\",INDEX('Est. Useful Life - HIDE SHEET'!$A$2:$D$206,MATCH(CONCATENATE(B874,C874),'Est. Useful Life - HIDE SHEET'!$A$2:$A$206,FALSE),4))","v":""},null,""]
[null,null,null,null,null,{"$f":"IF(ISBLANK(C875),\"\",_xlfn.CONCAT(LEFT(C875,4),\"-\",LEFT(B875,4),COUNTIF($C$11:C875,C875)))","v":""},{"$f":"IF(ISBLANK(B875),\"\",INDEX('Est. Useful Life - HIDE SHEET'!$A$2:$D$206,MATCH(CONCATENATE(B875,C875),'Est. Useful Life - HIDE SHEET'!$A$2:$A$206,FALSE),4))","v":""},null,""]
[null,null,null,null,null,{"$f":"IF(ISBLANK(C876),\"\",_xlfn.CONCAT(LEFT(C876,4),\"-\",LEFT(B876,4),COUNTIF($C$11:C876,C876)))","v":""},{"$f":"IF(ISBLANK(B876),\"\",INDEX('Est. Useful Life - HIDE SHEET'!$A$2:$D$206,MATCH(CONCATENATE(B876,C876),'Est. Useful Life - HIDE SHEET'!$A$2:$A$206,FALSE),4))","v":""},null,""]
[null,null,null,null,null,{"$f":"IF(ISBLANK(C877),\"\",_xlfn.CONCAT(LEFT(C877,4),\"-\",LEFT(B877,4),COUNTIF($C$11:C877,C877)))","v":""},{"$f":"IF(ISBLANK(B877),\"\",INDEX('Est. Useful Life - HIDE SHEET'!$A$2:$D$206,MATCH(CONCATENATE(B877,C877),'Est. Useful Life - HIDE SHEET'!$A$2:$A$206,FALSE),4))","v":""},null,""]
[null,null,null,null,null,{"$f":"IF(ISBLANK(C878),\"\",_xlfn.CONCAT(LEFT(C878,4),\"-\",LEFT(B878,4),COUNTIF($C$11:C878,C878)))","v":""},{"$f":"IF(ISBLANK(B878),\"\",INDEX('Est. Useful Life - HIDE SHEET'!$A$2:$D$206,MATCH(CONCATENATE(B878,C878),'Est. Useful Life - HIDE SHEET'!$A$2:$A$206,FALSE),4))","v":""},null,""]
[null,null,null,null,null,{"$f":"IF(ISBLANK(C879),\"\",_xlfn.CONCAT(LEFT(C879,4),\"-\",LEFT(B879,4),COUNTIF($C$11:C879,C879)))","v":""},{"$f":"IF(ISBLANK(B879),\"\",INDEX('Est. Useful Life - HIDE SHEET'!$A$2:$D$206,MATCH(CONCATENATE(B879,C879),'Est. Useful Life - HIDE SHEET'!$A$2:$A$206,FALSE),4))","v":""},null,""]
[null,null,null,null,null,{"$f":"IF(ISBLANK(C880),\"\",_xlfn.CONCAT(LEFT(C880,4),\"-\",LEFT(B880,4),COUNTIF($C$11:C880,C880)))","v":""},{"$f":"IF(ISBLANK(B880),\"\",INDEX('Est. Useful Life - HIDE SHEET'!$A$2:$D$206,MATCH(CONCATENATE(B880,C880),'Est. Useful Life - HIDE SHEET'!$A$2:$A$206,FALSE),4))","v":""},null,""]
[null,null,null,null,null,{"$f":"IF(ISBLANK(C881),\"\",_xlfn.CONCAT(LEFT(C881,4),\"-\",LEFT(B881,4),COUNTIF($C$11:C881,C881)))","v":""},{"$f":"IF(ISBLANK(B881),\"\",INDEX('Est. Useful Life - HIDE SHEET'!$A$2:$D$206,MATCH(CONCATENATE(B881,C881),'Est. Useful Life - HIDE SHEET'!$A$2:$A$206,FALSE),4))","v":""},null,""]
[null,null,null,null,null,{"$f":"IF(ISBLANK(C882),\"\",_xlfn.CONCAT(LEFT(C882,4),\"-\",LEFT(B882,4),COUNTIF($C$11:C882,C882)))","v":""},{"$f":"IF(ISBLANK(B882),\"\",INDEX('Est. Useful Life - HIDE SHEET'!$A$2:$D$206,MATCH(CONCATENATE(B882,C882),'Est. Useful Life - HIDE SHEET'!$A$2:$A$206,FALSE),4))","v":""},null,""]
[null,null,null,null,null,{"$f":"IF(ISBLANK(C883),\"\",_xlfn.CONCAT(LEFT(C883,4),\"-\",LEFT(B883,4),COUNTIF($C$11:C883,C883)))","v":""},{"$f":"IF(ISBLANK(B883),\"\",INDEX('Est. Useful Life - HIDE SHEET'!$A$2:$D$206,MATCH(CONCATENATE(B883,C883),'Est. Useful Life - HIDE SHEET'!$A$2:$A$206,FALSE),4))","v":""},null,""]
[null,null,null,null,null,{"$f":"IF(ISBLANK(C884),\"\",_xlfn.CONCAT(LEFT(C884,4),\"-\",LEFT(B884,4),COUNTIF($C$11:C884,C884)))","v":""},{"$f":"IF(ISBLANK(B884),\"\",INDEX('Est. Useful Life - HIDE SHEET'!$A$2:$D$206,MATCH(CONCATENATE(B884,C884),'Est. Useful Life - HIDE SHEET'!$A$2:$A$206,FALSE),4))","v":""},null,""]
[null,null,null,null,null,{"$f":"IF(ISBLANK(C885),\"\",_xlfn.CONCAT(LEFT(C885,4),\"-\",LEFT(B885,4),COUNTIF($C$11:C885,C885)))","v":""},{"$f":"IF(ISBLANK(B885),\"\",INDEX('Est. Useful Life - HIDE SHEET'!$A$2:$D$206,MATCH(CONCATENATE(B885,C885),'Est. Useful Life - HIDE SHEET'!$A$2:$A$206,FALSE),4))","v":""},null,""]
[null,null,null,null,null,{"$f":"IF(ISBLANK(C886),\"\",_xlfn.CONCAT(LEFT(C886,4),\"-\",LEFT(B886,4),COUNTIF($C$11:C886,C886)))","v":""},{"$f":"IF(ISBLANK(B886),\"\",INDEX('Est. Useful Life - HIDE SHEET'!$A$2:$D$206,MATCH(CONCATENATE(B886,C886),'Est. Useful Life - HIDE SHEET'!$A$2:$A$206,FALSE),4))","v":""},null,""]
[null,null,null,null,null,{"$f":"IF(ISBLANK(C887),\"\",_xlfn.CONCAT(LEFT(C887,4),\"-\",LEFT(B887,4),COUNTIF($C$11:C887,C887)))","v":""},{"$f":"IF(ISBLANK(B887),\"\",INDEX('Est. Useful Life - HIDE SHEET'!$A$2:$D$206,MATCH(CONCATENATE(B887,C887),'Est. Useful Life - HIDE SHEET'!$A$2:$A$206,FALSE),4))","v":""},null,""]
[null,null,null,null,null,{"$f":"IF(ISBLANK(C888),\"\",_xlfn.CONCAT(LEFT(C888,4),\"-\",LEFT(B888,4),COUNTIF($C$11:C888,C888)))","v":""},{"$f":"IF(ISBLANK(B888),\"\",INDEX('Est. Useful Life - HIDE SHEET'!$A$2:$D$206,MATCH(CONCATENATE(B888,C888),'Est. Useful Life - HIDE SHEET'!$A$2:$A$206,FALSE),4))","v":""},null,""]
[null,null,null,null,null,{"$f":"IF(ISBLANK(C889),\"\",_xlfn.CONCAT(LEFT(C889,4),\"-\",LEFT(B889,4),COUNTIF($C$11:C889,C889)))","v":""},{"$f":"IF(ISBLANK(B889),\"\",INDEX('Est. Useful Life - HIDE SHEET'!$A$2:$D$206,MATCH(CONCATENATE(B889,C889),'Est. Useful Life - HIDE SHEET'!$A$2:$A$206,FALSE),4))","v":""},null,""]
[null,null,null,null,null,{"$f":"IF(ISBLANK(C890),\"\",_xlfn.CONCAT(LEFT(C890,4),\"-\",LEFT(B890,4),COUNTIF($C$11:C890,C890)))","v":""},{"$f":"IF(ISBLANK(B890),\"\",INDEX('Est. Useful Life - HIDE SHEET'!$A$2:$D$206,MATCH(CONCATENATE(B890,C890),'Est. Useful Life - HIDE SHEET'!$A$2:$A$206,FALSE),4))","v":""},null,""]
[null,null,null,null,null,{"$f":"IF(ISBLANK(C891),\"\",_xlfn.CONCAT(LEFT(C891,4),\"-\",LEFT(B891,4),COUNTIF($C$11:C891,C891)))","v":""},{"$f":"IF(ISBLANK(B891),\"\",INDEX('Est. Useful Life - HIDE SHEET'!$A$2:$D$206,MATCH(CONCATENATE(B891,C891),'Est. Useful Life - HIDE SHEET'!$A$2:$A$206,FALSE),4))","v":""},null,""]
[null,null,null,null,null,{"$f":"IF(ISBLANK(C892),\"\",_xlfn.CONCAT(LEFT(C892,4),\"-\",LEFT(B892,4),COUNTIF($C$11:C892,C892)))","v":""},{"$f":"IF(ISBLANK(B892),\"\",INDEX('Est. Useful Life - HIDE SHEET'!$A$2:$D$206,MATCH(CONCATENATE(B892,C892),'Est. Useful Life - HIDE SHEET'!$A$2:$A$206,FALSE),4))","v":""},null,""]
[null,null,null,null,null,{"$f":"IF(ISBLANK(C893),\"\",_xlfn.CONCAT(LEFT(C893,4),\"-\",LEFT(B893,4),COUNTIF($C$11:C893,C893)))","v":""},{"$f":"IF(ISBLANK(B893),\"\",INDEX('Est. Useful Life - HIDE SHEET'!$A$2:$D$206,MATCH(CONCATENATE(B893,C893),'Est. Useful Life - HIDE SHEET'!$A$2:$A$206,FALSE),4))","v":""},null,""]
[null,null,null,null,null,{"$f":"IF(ISBLANK(C894),\"\",_xlfn.CONCAT(LEFT(C894,4),\"-\",LEFT(B894,4),COUNTIF($C$11:C894,C894)))","v":""},{"$f":"IF(ISBLANK(B894),\"\",INDEX('Est. Useful Life - HIDE SHEET'!$A$2:$D$206,MATCH(CONCATENATE(B894,C894),'Est. Useful Life - HIDE SHEET'!$A$2:$A$206,FALSE),4))","v":""},null,""]
[null,null,null,null,null,{"$f":"IF(ISBLANK(C895),\"\",_xlfn.CONCAT(LEFT(C895,4),\"-\",LEFT(B895,4),COUNTIF($C$11:C895,C895)))","v":""},{"$f":"IF(ISBLANK(B895),\"\",INDEX('Est. Useful Life - HIDE SHEET'!$A$2:$D$206,MATCH(CONCATENATE(B895,C895),'Est. Useful Life - HIDE SHEET'!$A$2:$A$206,FALSE),4))","v":""},null,""]
[null,null,null,null,null,{"$f":"IF(ISBLANK(C896),\"\",_xlfn.CONCAT(LEFT(C896,4),\"-\",LEFT(B896,4),COUNTIF($C$11:C896,C896)))","v":""},{"$f":"IF(ISBLANK(B896),\"\",INDEX('Est. Useful Life - HIDE SHEET'!$A$2:$D$206,MATCH(CONCATENATE(B896,C896),'Est. Useful Life - HIDE SHEET'!$A$2:$A$206,FALSE),4))","v":""},null,""]
[null,null,null,null,null,{"$f":"IF(ISBLANK(C897),\"\",_xlfn.CONCAT(LEFT(C897,4),\"-\",LEFT(B897,4),COUNTIF($C$11:C897,C897)))","v":""},{"$f":"IF(ISBLANK(B897),\"\",INDEX('Est. Useful Life - HIDE SHEET'!$A$2:$D$206,MATCH(CONCATENATE(B897,C897),'Est. Useful Life - HIDE SHEET'!$A$2:$A$206,FALSE),4))","v":""},null,""]
[null,null,null,null,null,{"$f":"IF(ISBLANK(C898),\"\",_xlfn.CONCAT(LEFT(C898,4),\"-\",LEFT(B898,4),COUNTIF($C$11:C898,C898)))","v":""},{"$f":"IF(ISBLANK(B898),\"\",INDEX('Est. Useful Life - HIDE SHEET'!$A$2:$D$206,MATCH(CONCATENATE(B898,C898),'Est. Useful Life - HIDE SHEET'!$A$2:$A$206,FALSE),4))","v":""},null,""]
[null,null,null,null,null,{"$f":"IF(ISBLANK(C899),\"\",_xlfn.CONCAT(LEFT(C899,4),\"-\",LEFT(B899,4),COUNTIF($C$11:C899,C899)))","v":""},{"$f":"IF(ISBLANK(B899),\"\",INDEX('Est. Useful Life - HIDE SHEET'!$A$2:$D$206,MATCH(CONCATENATE(B899,C899),'Est. Useful Life - HIDE SHEET'!$A$2:$A$206,FALSE),4))","v":""},null,""]
[null,null,null,null,null,{"$f":"IF(ISBLANK(C900),\"\",_xlfn.CONCAT(LEFT(C900,4),\"-\",LEFT(B900,4),COUNTIF($C$11:C900,C900)))","v":""},{"$f":"IF(ISBLANK(B900),\"\",INDEX('Est. Useful Life - HIDE SHEET'!$A$2:$D$206,MATCH(CONCATENATE(B900,C900),'Est. Useful Life - HIDE SHEET'!$A$2:$A$206,FALSE),4))","v":""},null,""]
[null,null,null,null,null,{"$f":"IF(ISBLANK(C901),\"\",_xlfn.CONCAT(LEFT(C901,4),\"-\",LEFT(B901,4),COUNTIF($C$11:C901,C901)))","v":""},{"$f":"IF(ISBLANK(B901),\"\",INDEX('Est. Useful Life - HIDE SHEET'!$A$2:$D$206,MATCH(CONCATENATE(B901,C901),'Est. Useful Life - HIDE SHEET'!$A$2:$A$206,FALSE),4))","v":""},null,""]
[null,null,null,null,null,{"$f":"IF(ISBLANK(C902),\"\",_xlfn.CONCAT(LEFT(C902,4),\"-\",LEFT(B902,4),COUNTIF($C$11:C902,C902)))","v":""},{"$f":"IF(ISBLANK(B902),\"\",INDEX('Est. Useful Life - HIDE SHEET'!$A$2:$D$206,MATCH(CONCATENATE(B902,C902),'Est. Useful Life - HIDE SHEET'!$A$2:$A$206,FALSE),4))","v":""},null,""]
[null,null,null,null,null,{"$f":"IF(ISBLANK(C903),\"\",_xlfn.CONCAT(LEFT(C903,4),\"-\",LEFT(B903,4),COUNTIF($C$11:C903,C903)))","v":""},{"$f":"IF(ISBLANK(B903),\"\",INDEX('Est. Useful Life - HIDE SHEET'!$A$2:$D$206,MATCH(CONCATENATE(B903,C903),'Est. Useful Life - HIDE SHEET'!$A$2:$A$206,FALSE),4))","v":""},null,""]
[null,null,null,null,null,{"$f":"IF(ISBLANK(C904),\"\",_xlfn.CONCAT(LEFT(C904,4),\"-\",LEFT(B904,4),COUNTIF($C$11:C904,C904)))","v":""},{"$f":"IF(ISBLANK(B904),\"\",INDEX('Est. Useful Life - HIDE SHEET'!$A$2:$D$206,MATCH(CONCATENATE(B904,C904),'Est. Useful Life - HIDE SHEET'!$A$2:$A$206,FALSE),4))","v":""},null,""]
[null,null,null,null,null,{"$f":"IF(ISBLANK(C905),\"\",_xlfn.CONCAT(LEFT(C905,4),\"-\",LEFT(B905,4),COUNTIF($C$11:C905,C905)))","v":""},{"$f":"IF(ISBLANK(B905),\"\",INDEX('Est. Useful Life - HIDE SHEET'!$A$2:$D$206,MATCH(CONCATENATE(B905,C905),'Est. Useful Life - HIDE SHEET'!$A$2:$A$206,FALSE),4))","v":""},null,""]
[null,null,null,null,null,{"$f":"IF(ISBLANK(C906),\"\",_xlfn.CONCAT(LEFT(C906,4),\"-\",LEFT(B906,4),COUNTIF($C$11:C906,C906)))","v":""},{"$f":"IF(ISBLANK(B906),\"\",INDEX('Est. Useful Life - HIDE SHEET'!$A$2:$D$206,MATCH(CONCATENATE(B906,C906),'Est. Useful Life - HIDE SHEET'!$A$2:$A$206,FALSE),4))","v":""},null,""]
[null,null,null,null,null,{"$f":"IF(ISBLANK(C907),\"\",_xlfn.CONCAT(LEFT(C907,4),\"-\",LEFT(B907,4),COUNTIF($C$11:C907,C907)))","v":""},{"$f":"IF(ISBLANK(B907),\"\",INDEX('Est. Useful Life - HIDE SHEET'!$A$2:$D$206,MATCH(CONCATENATE(B907,C907),'Est. Useful Life - HIDE SHEET'!$A$2:$A$206,FALSE),4))","v":""},null,""]
[null,null,null,null,null,{"$f":"IF(ISBLANK(C908),\"\",_xlfn.CONCAT(LEFT(C908,4),\"-\",LEFT(B908,4),COUNTIF($C$11:C908,C908)))","v":""},{"$f":"IF(ISBLANK(B908),\"\",INDEX('Est. Useful Life - HIDE SHEET'!$A$2:$D$206,MATCH(CONCATENATE(B908,C908),'Est. Useful Life - HIDE SHEET'!$A$2:$A$206,FALSE),4))","v":""},null,""]
[null,null,null,null,null,{"$f":"IF(ISBLANK(C909),\"\",_xlfn.CONCAT(LEFT(C909,4),\"-\",LEFT(B909,4),COUNTIF($C$11:C909,C909)))","v":""},{"$f":"IF(ISBLANK(B909),\"\",INDEX('Est. Useful Life - HIDE SHEET'!$A$2:$D$206,MATCH(CONCATENATE(B909,C909),'Est. Useful Life - HIDE SHEET'!$A$2:$A$206,FALSE),4))","v":""},null,""]
[null,null,null,null,null,{"$f":"IF(ISBLANK(C910),\"\",_xlfn.CONCAT(LEFT(C910,4),\"-\",LEFT(B910,4),COUNTIF($C$11:C910,C910)))","v":""},{"$f":"IF(ISBLANK(B910),\"\",INDEX('Est. Useful Life - HIDE SHEET'!$A$2:$D$206,MATCH(CONCATENATE(B910,C910),'Est. Useful Life - HIDE SHEET'!$A$2:$A$206,FALSE),4))","v":""},null,""]
[null,null,null,null,null,{"$f":"IF(ISBLANK(C911),\"\",_xlfn.CONCAT(LEFT(C911,4),\"-\",LEFT(B911,4),COUNTIF($C$11:C911,C911)))","v":""},{"$f":"IF(ISBLANK(B911),\"\",INDEX('Est. Useful Life - HIDE SHEET'!$A$2:$D$206,MATCH(CONCATENATE(B911,C911),'Est. Useful Life - HIDE SHEET'!$A$2:$A$206,FALSE),4))","v":""},null,""]
[null,null,null,null,null,{"$f":"IF(ISBLANK(C912),\"\",_xlfn.CONCAT(LEFT(C912,4),\"-\",LEFT(B912,4),COUNTIF($C$11:C912,C912)))","v":""},{"$f":"IF(ISBLANK(B912),\"\",INDEX('Est. Useful Life - HIDE SHEET'!$A$2:$D$206,MATCH(CONCATENATE(B912,C912),'Est. Useful Life - HIDE SHEET'!$A$2:$A$206,FALSE),4))","v":""},null,""]
[null,null,null,null,null,{"$f":"IF(ISBLANK(C913),\"\",_xlfn.CONCAT(LEFT(C913,4),\"-\",LEFT(B913,4),COUNTIF($C$11:C913,C913)))","v":""},{"$f":"IF(ISBLANK(B913),\"\",INDEX('Est. Useful Life - HIDE SHEET'!$A$2:$D$206,MATCH(CONCATENATE(B913,C913),'Est. Useful Life - HIDE SHEET'!$A$2:$A$206,FALSE),4))","v":""},null,""]
[null,null,null,null,null,{"$f":"IF(ISBLANK(C914),\"\",_xlfn.CONCAT(LEFT(C914,4),\"-\",LEFT(B914,4),COUNTIF($C$11:C914,C914)))","v":""},{"$f":"IF(ISBLANK(B914),\"\",INDEX('Est. Useful Life - HIDE SHEET'!$A$2:$D$206,MATCH(CONCATENATE(B914,C914),'Est. Useful Life - HIDE SHEET'!$A$2:$A$206,FALSE),4))","v":""},null,{"$f":"IF(ISNUMBER(G914),IF(ISNUMBER(H914),IF((G914-(INT((TODAY()-H914)/365)))<0,0,G914-(INT((TODAY()-H914)/365))),\"\"),\"\")","v":""}]
[null,null,null,null,null,{"$f":"IF(ISBLANK(C915),\"\",_xlfn.CONCAT(LEFT(C915,4),\"-\",LEFT(B915,4),COUNTIF($C$11:C915,C915)))","v":""},{"$f":"IF(ISBLANK(B915),\"\",INDEX('Est. Useful Life - HIDE SHEET'!$A$2:$D$206,MATCH(CONCATENATE(B915,C915),'Est. Useful Life - HIDE SHEET'!$A$2:$A$206,FALSE),4))","v":""},null,""]
[null,null,null,null,null,{"$f":"IF(ISBLANK(C916),\"\",_xlfn.CONCAT(LEFT(C916,4),\"-\",LEFT(B916,4),COUNTIF($C$11:C916,C916)))","v":""},{"$f":"IF(ISBLANK(B916),\"\",INDEX('Est. Useful Life - HIDE SHEET'!$A$2:$D$206,MATCH(CONCATENATE(B916,C916),'Est. Useful Life - HIDE SHEET'!$A$2:$A$206,FALSE),4))","v":""},null,""]
[null,null,null,null,null,{"$f":"IF(ISBLANK(C917),\"\",_xlfn.CONCAT(LEFT(C917,4),\"-\",LEFT(B917,4),COUNTIF($C$11:C917,C917)))","v":""},{"$f":"IF(ISBLANK(B917),\"\",INDEX('Est. Useful Life - HIDE SHEET'!$A$2:$D$206,MATCH(CONCATENATE(B917,C917),'Est. Useful Life - HIDE SHEET'!$A$2:$A$206,FALSE),4))","v":""},null,""]
[null,null,null,null,null,{"$f":"IF(ISBLANK(C918),\"\",_xlfn.CONCAT(LEFT(C918,4),\"-\",LEFT(B918,4),COUNTIF($C$11:C918,C918)))","v":""},{"$f":"IF(ISBLANK(B918),\"\",INDEX('Est. Useful Life - HIDE SHEET'!$A$2:$D$206,MATCH(CONCATENATE(B918,C918),'Est. Useful Life - HIDE SHEET'!$A$2:$A$206,FALSE),4))","v":""},null,""]
[null,null,null,null,null,{"$f":"IF(ISBLANK(C919),\"\",_xlfn.CONCAT(LEFT(C919,4),\"-\",LEFT(B919,4),COUNTIF($C$11:C919,C919)))","v":""},{"$f":"IF(ISBLANK(B919),\"\",INDEX('Est. Useful Life - HIDE SHEET'!$A$2:$D$206,MATCH(CONCATENATE(B919,C919),'Est. Useful Life - HIDE SHEET'!$A$2:$A$206,FALSE),4))","v":""},null,""]
[null,null,null,null,null,{"$f":"IF(ISBLANK(C920),\"\",_xlfn.CONCAT(LEFT(C920,4),\"-\",LEFT(B920,4),COUNTIF($C$11:C920,C920)))","v":""},{"$f":"IF(ISBLANK(B920),\"\",INDEX('Est. Useful Life - HIDE SHEET'!$A$2:$D$206,MATCH(CONCATENATE(B920,C920),'Est. Useful Life - HIDE SHEET'!$A$2:$A$206,FALSE),4))","v":""},null,""]
[null,null,null,null,null,{"$f":"IF(ISBLANK(C921),\"\",_xlfn.CONCAT(LEFT(C921,4),\"-\",LEFT(B921,4),COUNTIF($C$11:C921,C921)))","v":""},{"$f":"IF(ISBLANK(B921),\"\",INDEX('Est. Useful Life - HIDE SHEET'!$A$2:$D$206,MATCH(CONCATENATE(B921,C921),'Est. Useful Life - HIDE SHEET'!$A$2:$A$206,FALSE),4))","v":""},null,""]
[null,null,null,null,null,{"$f":"IF(ISBLANK(C922),\"\",_xlfn.CONCAT(LEFT(C922,4),\"-\",LEFT(B922,4),COUNTIF($C$11:C922,C922)))","v":""},{"$f":"IF(ISBLANK(B922),\"\",INDEX('Est. Useful Life - HIDE SHEET'!$A$2:$D$206,MATCH(CONCATENATE(B922,C922),'Est. Useful Life - HIDE SHEET'!$A$2:$A$206,FALSE),4))","v":""},null,""]
[null,null,null,null,null,{"$f":"IF(ISBLANK(C923),\"\",_xlfn.CONCAT(LEFT(C923,4),\"-\",LEFT(B923,4),COUNTIF($C$11:C923,C923)))","v":""},{"$f":"IF(ISBLANK(B923),\"\",INDEX('Est. Useful Life - HIDE SHEET'!$A$2:$D$206,MATCH(CONCATENATE(B923,C923),'Est. Useful Life - HIDE SHEET'!$A$2:$A$206,FALSE),4))","v":""},null,""]
[null,null,null,null,null,{"$f":"IF(ISBLANK(C924),\"\",_xlfn.CONCAT(LEFT(C924,4),\"-\",LEFT(B924,4),COUNTIF($C$11:C924,C924)))","v":""},{"$f":"IF(ISBLANK(B924),\"\",INDEX('Est. Useful Life - HIDE SHEET'!$A$2:$D$206,MATCH(CONCATENATE(B924,C924),'Est. Useful Life - HIDE SHEET'!$A$2:$A$206,FALSE),4))","v":""},null,""]
[null,null,null,null,null,{"$f":"IF(ISBLANK(C925),\"\",_xlfn.CONCAT(LEFT(C925,4),\"-\",LEFT(B925,4),COUNTIF($C$11:C925,C925)))","v":""},{"$f":"IF(ISBLANK(B925),\"\",INDEX('Est. Useful Life - HIDE SHEET'!$A$2:$D$206,MATCH(CONCATENATE(B925,C925),'Est. Useful Life - HIDE SHEET'!$A$2:$A$206,FALSE),4))","v":""},null,""]
[null,null,null,null,null,{"$f":"IF(ISBLANK(C926),\"\",_xlfn.CONCAT(LEFT(C926,4),\"-\",LEFT(B926,4),COUNTIF($C$11:C926,C926)))","v":""},{"$f":"IF(ISBLANK(B926),\"\",INDEX('Est. Useful Life - HIDE SHEET'!$A$2:$D$206,MATCH(CONCATENATE(B926,C926),'Est. Useful Life - HIDE SHEET'!$A$2:$A$206,FALSE),4))","v":""},null,""]
[null,null,null,null,null,{"$f":"IF(ISBLANK(C927),\"\",_xlfn.CONCAT(LEFT(C927,4),\"-\",LEFT(B927,4),COUNTIF($C$11:C927,C927)))","v":""},{"$f":"IF(ISBLANK(B927),\"\",INDEX('Est. Useful Life - HIDE SHEET'!$A$2:$D$206,MATCH(CONCATENATE(B927,C927),'Est. Useful Life - HIDE SHEET'!$A$2:$A$206,FALSE),4))","v":""},null,""]
[null,null,null,null,null,{"$f":"IF(ISBLANK(C928),\"\",_xlfn.CONCAT(LEFT(C928,4),\"-\",LEFT(B928,4),COUNTIF($C$11:C928,C928)))","v":""},{"$f":"IF(ISBLANK(B928),\"\",INDEX('Est. Useful Life - HIDE SHEET'!$A$2:$D$206,MATCH(CONCATENATE(B928,C928),'Est. Useful Life - HIDE SHEET'!$A$2:$A$206,FALSE),4))","v":""},null,""]
[null,null,null,null,null,{"$f":"IF(ISBLANK(C929),\"\",_xlfn.CONCAT(LEFT(C929,4),\"-\",LEFT(B929,4),COUNTIF($C$11:C929,C929)))","v":""},{"$f":"IF(ISBLANK(B929),\"\",INDEX('Est. Useful Life - HIDE SHEET'!$A$2:$D$206,MATCH(CONCATENATE(B929,C929),'Est. Useful Life - HIDE SHEET'!$A$2:$A$206,FALSE),4))","v":""},null,""]
[null,null,null,null,null,{"$f":"IF(ISBLANK(C930),\"\",_xlfn.CONCAT(LEFT(C930,4),\"-\",LEFT(B930,4),COUNTIF($C$11:C930,C930)))","v":""},{"$f":"IF(ISBLANK(B930),\"\",INDEX('Est. Useful Life - HIDE SHEET'!$A$2:$D$206,MATCH(CONCATENATE(B930,C930),'Est. Useful Life - HIDE SHEET'!$A$2:$A$206,FALSE),4))","v":""},null,""]
[null,null,null,null,null,{"$f":"IF(ISBLANK(C931),\"\",_xlfn.CONCAT(LEFT(C931,4),\"-\",LEFT(B931,4),COUNTIF($C$11:C931,C931)))","v":""},{"$f":"IF(ISBLANK(B931),\"\",INDEX('Est. Useful Life - HIDE SHEET'!$A$2:$D$206,MATCH(CONCATENATE(B931,C931),'Est. Useful Life - HIDE SHEET'!$A$2:$A$206,FALSE),4))","v":""},null,""]
[null,null,null,null,null,{"$f":"IF(ISBLANK(C932),\"\",_xlfn.CONCAT(LEFT(C932,4),\"-\",LEFT(B932,4),COUNTIF($C$11:C932,C932)))","v":""},{"$f":"IF(ISBLANK(B932),\"\",INDEX('Est. Useful Life - HIDE SHEET'!$A$2:$D$206,MATCH(CONCATENATE(B932,C932),'Est. Useful Life - HIDE SHEET'!$A$2:$A$206,FALSE),4))","v":""},null,""]
[null,null,null,null,null,{"$f":"IF(ISBLANK(C933),\"\",_xlfn.CONCAT(LEFT(C933,4),\"-\",LEFT(B933,4),COUNTIF($C$11:C933,C933)))","v":""},{"$f":"IF(ISBLANK(B933),\"\",INDEX('Est. Useful Life - HIDE SHEET'!$A$2:$D$206,MATCH(CONCATENATE(B933,C933),'Est. Useful Life - HIDE SHEET'!$A$2:$A$206,FALSE),4))","v":""},null,""]
[null,null,null,null,null,{"$f":"IF(ISBLANK(C934),\"\",_xlfn.CONCAT(LEFT(C934,4),\"-\",LEFT(B934,4),COUNTIF($C$11:C934,C934)))","v":""},{"$f":"IF(ISBLANK(B934),\"\",INDEX('Est. Useful Life - HIDE SHEET'!$A$2:$D$206,MATCH(CONCATENATE(B934,C934),'Est. Useful Life - HIDE SHEET'!$A$2:$A$206,FALSE),4))","v":""},null,""]
[null,null,null,null,null,{"$f":"IF(ISBLANK(C935),\"\",_xlfn.CONCAT(LEFT(C935,4),\"-\",LEFT(B935,4),COUNTIF($C$11:C935,C935)))","v":""},{"$f":"IF(ISBLANK(B935),\"\",INDEX('Est. Useful Life - HIDE SHEET'!$A$2:$D$206,MATCH(CONCATENATE(B935,C935),'Est. Useful Life - HIDE SHEET'!$A$2:$A$206,FALSE),4))","v":""},null,""]
[null,null,null,null,null,{"$f":"IF(ISBLANK(C936),\"\",_xlfn.CONCAT(LEFT(C936,4),\"-\",LEFT(B936,4),COUNTIF($C$11:C936,C936)))","v":""},{"$f":"IF(ISBLANK(B936),\"\",INDEX('Est. Useful Life - HIDE SHEET'!$A$2:$D$206,MATCH(CONCATENATE(B936,C936),'Est. Useful Life - HIDE SHEET'!$A$2:$A$206,FALSE),4))","v":""},null,""]
[null,null,null,null,null,{"$f":"IF(ISBLANK(C937),\"\",_xlfn.CONCAT(LEFT(C937,4),\"-\",LEFT(B937,4),COUNTIF($C$11:C937,C937)))","v":""},{"$f":"IF(ISBLANK(B937),\"\",INDEX('Est. Useful Life - HIDE SHEET'!$A$2:$D$206,MATCH(CONCATENATE(B937,C937),'Est. Useful Life - HIDE SHEET'!$A$2:$A$206,FALSE),4))","v":""},null,""]
[null,null,null,null,null,{"$f":"IF(ISBLANK(C938),\"\",_xlfn.CONCAT(LEFT(C938,4),\"-\",LEFT(B938,4),COUNTIF($C$11:C938,C938)))","v":""},{"$f":"IF(ISBLANK(B938),\"\",INDEX('Est. Useful Life - HIDE SHEET'!$A$2:$D$206,MATCH(CONCATENATE(B938,C938),'Est. Useful Life - HIDE SHEET'!$A$2:$A$206,FALSE),4))","v":""},null,""]
[null,null,null,null,null,{"$f":"IF(ISBLANK(C939),\"\",_xlfn.CONCAT(LEFT(C939,4),\"-\",LEFT(B939,4),COUNTIF($C$11:C939,C939)))","v":""},{"$f":"IF(ISBLANK(B939),\"\",INDEX('Est. Useful Life - HIDE SHEET'!$A$2:$D$206,MATCH(CONCATENATE(B939,C939),'Est. Useful Life - HIDE SHEET'!$A$2:$A$206,FALSE),4))","v":""},null,""]
[null,null,null,null,null,{"$f":"IF(ISBLANK(C940),\"\",_xlfn.CONCAT(LEFT(C940,4),\"-\",LEFT(B940,4),COUNTIF($C$11:C940,C940)))","v":""},{"$f":"IF(ISBLANK(B940),\"\",INDEX('Est. Useful Life - HIDE SHEET'!$A$2:$D$206,MATCH(CONCATENATE(B940,C940),'Est. Useful Life - HIDE SHEET'!$A$2:$A$206,FALSE),4))","v":""},null,""]
[null,null,null,null,null,{"$f":"IF(ISBLANK(C941),\"\",_xlfn.CONCAT(LEFT(C941,4),\"-\",LEFT(B941,4),COUNTIF($C$11:C941,C941)))","v":""},{"$f":"IF(ISBLANK(B941),\"\",INDEX('Est. Useful Life - HIDE SHEET'!$A$2:$D$206,MATCH(CONCATENATE(B941,C941),'Est. Useful Life - HIDE SHEET'!$A$2:$A$206,FALSE),4))","v":""},null,""]
[null,null,null,null,null,{"$f":"IF(ISBLANK(C942),\"\",_xlfn.CONCAT(LEFT(C942,4),\"-\",LEFT(B942,4),COUNTIF($C$11:C942,C942)))","v":""},{"$f":"IF(ISBLANK(B942),\"\",INDEX('Est. Useful Life - HIDE SHEET'!$A$2:$D$206,MATCH(CONCATENATE(B942,C942),'Est. Useful Life - HIDE SHEET'!$A$2:$A$206,FALSE),4))","v":""},null,""]
[null,null,null,null,null,{"$f":"IF(ISBLANK(C943),\"\",_xlfn.CONCAT(LEFT(C943,4),\"-\",LEFT(B943,4),COUNTIF($C$11:C943,C943)))","v":""},{"$f":"IF(ISBLANK(B943),\"\",INDEX('Est. Useful Life - HIDE SHEET'!$A$2:$D$206,MATCH(CONCATENATE(B943,C943),'Est. Useful Life - HIDE SHEET'!$A$2:$A$206,FALSE),4))","v":""},null,""]
[null,null,null,null,null,{"$f":"IF(ISBLANK(C944),\"\",_xlfn.CONCAT(LEFT(C944,4),\"-\",LEFT(B944,4),COUNTIF($C$11:C944,C944)))","v":""},{"$f":"IF(ISBLANK(B944),\"\",INDEX('Est. Useful Life - HIDE SHEET'!$A$2:$D$206,MATCH(CONCATENATE(B944,C944),'Est. Useful Life - HIDE SHEET'!$A$2:$A$206,FALSE),4))","v":""},null,""]
[null,null,null,null,null,{"$f":"IF(ISBLANK(C945),\"\",_xlfn.CONCAT(LEFT(C945,4),\"-\",LEFT(B945,4),COUNTIF($C$11:C945,C945)))","v":""},{"$f":"IF(ISBLANK(B945),\"\",INDEX('Est. Useful Life - HIDE SHEET'!$A$2:$D$206,MATCH(CONCATENATE(B945,C945),'Est. Useful Life - HIDE SHEET'!$A$2:$A$206,FALSE),4))","v":""},null,""]
[null,null,null,null,null,{"$f":"IF(ISBLANK(C946),\"\",_xlfn.CONCAT(LEFT(C946,4),\"-\",LEFT(B946,4),COUNTIF($C$11:C946,C946)))","v":""},{"$f":"IF(ISBLANK(B946),\"\",INDEX('Est. Useful Life - HIDE SHEET'!$A$2:$D$206,MATCH(CONCATENATE(B946,C946),'Est. Useful Life - HIDE SHEET'!$A$2:$A$206,FALSE),4))","v":""},null,""]
[null,null,null,null,null,{"$f":"IF(ISBLANK(C947),\"\",_xlfn.CONCAT(LEFT(C947,4),\"-\",LEFT(B947,4),COUNTIF($C$11:C947,C947)))","v":""},{"$f":"IF(ISBLANK(B947),\"\",INDEX('Est. Useful Life - HIDE SHEET'!$A$2:$D$206,MATCH(CONCATENATE(B947,C947),'Est. Useful Life - HIDE SHEET'!$A$2:$A$206,FALSE),4))","v":""},null,""]
[null,null,null,null,null,{"$f":"IF(ISBLANK(C948),\"\",_xlfn.CONCAT(LEFT(C948,4),\"-\",LEFT(B948,4),COUNTIF($C$11:C948,C948)))","v":""},{"$f":"IF(ISBLANK(B948),\"\",INDEX('Est. Useful Life - HIDE SHEET'!$A$2:$D$206,MATCH(CONCATENATE(B948,C948),'Est. Useful Life - HIDE SHEET'!$A$2:$A$206,FALSE),4))","v":""},null,""]
[null,null,null,null,null,{"$f":"IF(ISBLANK(C949),\"\",_xlfn.CONCAT(LEFT(C949,4),\"-\",LEFT(B949,4),COUNTIF($C$11:C949,C949)))","v":""},{"$f":"IF(ISBLANK(B949),\"\",INDEX('Est. Useful Life - HIDE SHEET'!$A$2:$D$206,MATCH(CONCATENATE(B949,C949),'Est. Useful Life - HIDE SHEET'!$A$2:$A$206,FALSE),4))","v":""},null,""]
[null,null,null,null,null,{"$f":"IF(ISBLANK(C950),\"\",_xlfn.CONCAT(LEFT(C950,4),\"-\",LEFT(B950,4),COUNTIF($C$11:C950,C950)))","v":""},{"$f":"IF(ISBLANK(B950),\"\",INDEX('Est. Useful Life - HIDE SHEET'!$A$2:$D$206,MATCH(CONCATENATE(B950,C950),'Est. Useful Life - HIDE SHEET'!$A$2:$A$206,FALSE),4))","v":""},null,""]
[null,null,null,null,null,{"$f":"IF(ISBLANK(C951),\"\",_xlfn.CONCAT(LEFT(C951,4),\"-\",LEFT(B951,4),COUNTIF($C$11:C951,C951)))","v":""},{"$f":"IF(ISBLANK(B951),\"\",INDEX('Est. Useful Life - HIDE SHEET'!$A$2:$D$206,MATCH(CONCATENATE(B951,C951),'Est. Useful Life - HIDE SHEET'!$A$2:$A$206,FALSE),4))","v":""},null,""]
[null,null,null,null,null,{"$f":"IF(ISBLANK(C952),\"\",_xlfn.CONCAT(LEFT(C952,4),\"-\",LEFT(B952,4),COUNTIF($C$11:C952,C952)))","v":""},{"$f":"IF(ISBLANK(B952),\"\",INDEX('Est. Useful Life - HIDE SHEET'!$A$2:$D$206,MATCH(CONCATENATE(B952,C952),'Est. Useful Life - HIDE SHEET'!$A$2:$A$206,FALSE),4))","v":""},null,""]
[null,null,null,null,null,{"$f":"IF(ISBLANK(C953),\"\",_xlfn.CONCAT(LEFT(C953,4),\"-\",LEFT(B953,4),COUNTIF($C$11:C953,C953)))","v":""},{"$f":"IF(ISBLANK(B953),\"\",INDEX('Est. Useful Life - HIDE SHEET'!$A$2:$D$206,MATCH(CONCATENATE(B953,C953),'Est. Useful Life - HIDE SHEET'!$A$2:$A$206,FALSE),4))","v":""},null,""]
[null,null,null,null,null,{"$f":"IF(ISBLANK(C954),\"\",_xlfn.CONCAT(LEFT(C954,4),\"-\",LEFT(B954,4),COUNTIF($C$11:C954,C954)))","v":""},{"$f":"IF(ISBLANK(B954),\"\",INDEX('Est. Useful Life - HIDE SHEET'!$A$2:$D$206,MATCH(CONCATENATE(B954,C954),'Est. Useful Life - HIDE SHEET'!$A$2:$A$206,FALSE),4))","v":""},null,""]
[null,null,null,null,null,{"$f":"IF(ISBLANK(C955),\"\",_xlfn.CONCAT(LEFT(C955,4),\"-\",LEFT(B955,4),COUNTIF($C$11:C955,C955)))","v":""},{"$f":"IF(ISBLANK(B955),\"\",INDEX('Est. Useful Life - HIDE SHEET'!$A$2:$D$206,MATCH(CONCATENATE(B955,C955),'Est. Useful Life - HIDE SHEET'!$A$2:$A$206,FALSE),4))","v":""},null,""]
[null,null,null,null,null,{"$f":"IF(ISBLANK(C956),\"\",_xlfn.CONCAT(LEFT(C956,4),\"-\",LEFT(B956,4),COUNTIF($C$11:C956,C956)))","v":""},{"$f":"IF(ISBLANK(B956),\"\",INDEX('Est. Useful Life - HIDE SHEET'!$A$2:$D$206,MATCH(CONCATENATE(B956,C956),'Est. Useful Life - HIDE SHEET'!$A$2:$A$206,FALSE),4))","v":""},null,""]
[null,null,null,null,null,{"$f":"IF(ISBLANK(C957),\"\",_xlfn.CONCAT(LEFT(C957,4),\"-\",LEFT(B957,4),COUNTIF($C$11:C957,C957)))","v":""},{"$f":"IF(ISBLANK(B957),\"\",INDEX('Est. Useful Life - HIDE SHEET'!$A$2:$D$206,MATCH(CONCATENATE(B957,C957),'Est. Useful Life - HIDE SHEET'!$A$2:$A$206,FALSE),4))","v":""},null,""]
[null,null,null,null,null,{"$f":"IF(ISBLANK(C958),\"\",_xlfn.CONCAT(LEFT(C958,4),\"-\",LEFT(B958,4),COUNTIF($C$11:C958,C958)))","v":""},{"$f":"IF(ISBLANK(B958),\"\",INDEX('Est. Useful Life - HIDE SHEET'!$A$2:$D$206,MATCH(CONCATENATE(B958,C958),'Est. Useful Life - HIDE SHEET'!$A$2:$A$206,FALSE),4))","v":""},null,""]
[null,null,null,null,null,{"$f":"IF(ISBLANK(C959),\"\",_xlfn.CONCAT(LEFT(C959,4),\"-\",LEFT(B959,4),COUNTIF($C$11:C959,C959)))","v":""},{"$f":"IF(ISBLANK(B959),\"\",INDEX('Est. Useful Life - HIDE SHEET'!$A$2:$D$206,MATCH(CONCATENATE(B959,C959),'Est. Useful Life - HIDE SHEET'!$A$2:$A$206,FALSE),4))","v":""},null,""]
[null,null,null,null,null,{"$f":"IF(ISBLANK(C960),\"\",_xlfn.CONCAT(LEFT(C960,4),\"-\",LEFT(B960,4),COUNTIF($C$11:C960,C960)))","v":""},{"$f":"IF(ISBLANK(B960),\"\",INDEX('Est. Useful Life - HIDE SHEET'!$A$2:$D$206,MATCH(CONCATENATE(B960,C960),'Est. Useful Life - HIDE SHEET'!$A$2:$A$206,FALSE),4))","v":""},null,""]
[null,null,null,null,null,{"$f":"IF(ISBLANK(C961),\"\",_xlfn.CONCAT(LEFT(C961,4),\"-\",LEFT(B961,4),COUNTIF($C$11:C961,C961)))","v":""},{"$f":"IF(ISBLANK(B961),\"\",INDEX('Est. Useful Life - HIDE SHEET'!$A$2:$D$206,MATCH(CONCATENATE(B961,C961),'Est. Useful Life - HIDE SHEET'!$A$2:$A$206,FALSE),4))","v":""},null,""]
[null,null,null,null,null,{"$f":"IF(ISBLANK(C962),\"\",_xlfn.CONCAT(LEFT(C962,4),\"-\",LEFT(B962,4),COUNTIF($C$11:C962,C962)))","v":""},{"$f":"IF(ISBLANK(B962),\"\",INDEX('Est. Useful Life - HIDE SHEET'!$A$2:$D$206,MATCH(CONCATENATE(B962,C962),'Est. Useful Life - HIDE SHEET'!$A$2:$A$206,FALSE),4))","v":""},null,""]
[null,null,null,null,null,{"$f":"IF(ISBLANK(C963),\"\",_xlfn.CONCAT(LEFT(C963,4),\"-\",LEFT(B963,4),COUNTIF($C$11:C963,C963)))","v":""},{"$f":"IF(ISBLANK(B963),\"\",INDEX('Est. Useful Life - HIDE SHEET'!$A$2:$D$206,MATCH(CONCATENATE(B963,C963),'Est. Useful Life - HIDE SHEET'!$A$2:$A$206,FALSE),4))","v":""},null,""]
[null,null,null,null,null,{"$f":"IF(ISBLANK(C964),\"\",_xlfn.CONCAT(LEFT(C964,4),\"-\",LEFT(B964,4),COUNTIF($C$11:C964,C964)))","v":""},{"$f":"IF(ISBLANK(B964),\"\",INDEX('Est. Useful Life - HIDE SHEET'!$A$2:$D$206,MATCH(CONCATENATE(B964,C964),'Est. Useful Life - HIDE SHEET'!$A$2:$A$206,FALSE),4))","v":""},null,""]
[null,null,null,null,null,{"$f":"IF(ISBLANK(C965),\"\",_xlfn.CONCAT(LEFT(C965,4),\"-\",LEFT(B965,4),COUNTIF($C$11:C965,C965)))","v":""},{"$f":"IF(ISBLANK(B965),\"\",INDEX('Est. Useful Life - HIDE SHEET'!$A$2:$D$206,MATCH(CONCATENATE(B965,C965),'Est. Useful Life - HIDE SHEET'!$A$2:$A$206,FALSE),4))","v":""},null,""]
[null,null,null,null,null,{"$f":"IF(ISBLANK(C966),\"\",_xlfn.CONCAT(LEFT(C966,4),\"-\",LEFT(B966,4),COUNTIF($C$11:C966,C966)))","v":""},{"$f":"IF(ISBLANK(B966),\"\",INDEX('Est. Useful Life - HIDE SHEET'!$A$2:$D$206,MATCH(CONCATENATE(B966,C966),'Est. Useful Life - HIDE SHEET'!$A$2:$A$206,FALSE),4))","v":""},null,""]
[null,null,null,null,null,{"$f":"IF(ISBLANK(C967),\"\",_xlfn.CONCAT(LEFT(C967,4),\"-\",LEFT(B967,4),COUNTIF($C$11:C967,C967)))","v":""},{"$f":"IF(ISBLANK(B967),\"\",INDEX('Est. Useful Life - HIDE SHEET'!$A$2:$D$206,MATCH(CONCATENATE(B967,C967),'Est. Useful Life - HIDE SHEET'!$A$2:$A$206,FALSE),4))","v":""},null,""]
[null,null,null,null,null,{"$f":"IF(ISBLANK(C968),\"\",_xlfn.CONCAT(LEFT(C968,4),\"-\",LEFT(B968,4),COUNTIF($C$11:C968,C968)))","v":""},{"$f":"IF(ISBLANK(B968),\"\",INDEX('Est. Useful Life - HIDE SHEET'!$A$2:$D$206,MATCH(CONCATENATE(B968,C968),'Est. Useful Life - HIDE SHEET'!$A$2:$A$206,FALSE),4))","v":""},null,""]
[null,null,null,null,null,{"$f":"IF(ISBLANK(C969),\"\",_xlfn.CONCAT(LEFT(C969,4),\"-\",LEFT(B969,4),COUNTIF($C$11:C969,C969)))","v":""},{"$f":"IF(ISBLANK(B969),\"\",INDEX('Est. Useful Life - HIDE SHEET'!$A$2:$D$206,MATCH(CONCATENATE(B969,C969),'Est. Useful Life - HIDE SHEET'!$A$2:$A$206,FALSE),4))","v":""},null,""]
[null,null,null,null,null,{"$f":"IF(ISBLANK(C970),\"\",_xlfn.CONCAT(LEFT(C970,4),\"-\",LEFT(B970,4),COUNTIF($C$11:C970,C970)))","v":""},{"$f":"IF(ISBLANK(B970),\"\",INDEX('Est. Useful Life - HIDE SHEET'!$A$2:$D$206,MATCH(CONCATENATE(B970,C970),'Est. Useful Life - HIDE SHEET'!$A$2:$A$206,FALSE),4))","v":""},null,""]
[null,null,null,null,null,{"$f":"IF(ISBLANK(C971),\"\",_xlfn.CONCAT(LEFT(C971,4),\"-\",LEFT(B971,4),COUNTIF($C$11:C971,C971)))","v":""},{"$f":"IF(ISBLANK(B971),\"\",INDEX('Est. Useful Life - HIDE SHEET'!$A$2:$D$206,MATCH(CONCATENATE(B971,C971),'Est. Useful Life - HIDE SHEET'!$A$2:$A$206,FALSE),4))","v":""},null,""]
[null,null,null,null,null,{"$f":"IF(ISBLANK(C972),\"\",_xlfn.CONCAT(LEFT(C972,4),\"-\",LEFT(B972,4),COUNTIF($C$11:C972,C972)))","v":""},{"$f":"IF(ISBLANK(B972),\"\",INDEX('Est. Useful Life - HIDE SHEET'!$A$2:$D$206,MATCH(CONCATENATE(B972,C972),'Est. Useful Life - HIDE SHEET'!$A$2:$A$206,FALSE),4))","v":""},null,""]
[null,null,null,null,null,{"$f":"IF(ISBLANK(C973),\"\",_xlfn.CONCAT(LEFT(C973,4),\"-\",LEFT(B973,4),COUNTIF($C$11:C973,C973)))","v":""},{"$f":"IF(ISBLANK(B973),\"\",INDEX('Est. Useful Life - HIDE SHEET'!$A$2:$D$206,MATCH(CONCATENATE(B973,C973),'Est. Useful Life - HIDE SHEET'!$A$2:$A$206,FALSE),4))","v":""},null,""]
[null,null,null,null,null,{"$f":"IF(ISBLANK(C974),\"\",_xlfn.CONCAT(LEFT(C974,4),\"-\",LEFT(B974,4),COUNTIF($C$11:C974,C974)))","v":""},{"$f":"IF(ISBLANK(B974),\"\",INDEX('Est. Useful Life - HIDE SHEET'!$A$2:$D$206,MATCH(CONCATENATE(B974,C974),'Est. Useful Life - HIDE SHEET'!$A$2:$A$206,FALSE),4))","v":""},null,""]
[null,null,null,null,null,{"$f":"IF(ISBLANK(C975),\"\",_xlfn.CONCAT(LEFT(C975,4),\"-\",LEFT(B975,4),COUNTIF($C$11:C975,C975)))","v":""},{"$f":"IF(ISBLANK(B975),\"\",INDEX('Est. Useful Life - HIDE SHEET'!$A$2:$D$206,MATCH(CONCATENATE(B975,C975),'Est. Useful Life - HIDE SHEET'!$A$2:$A$206,FALSE),4))","v":""},null,""]
[null,null,null,null,null,{"$f":"IF(ISBLANK(C976),\"\",_xlfn.CONCAT(LEFT(C976,4),\"-\",LEFT(B976,4),COUNTIF($C$11:C976,C976)))","v":""},{"$f":"IF(ISBLANK(B976),\"\",INDEX('Est. Useful Life - HIDE SHEET'!$A$2:$D$206,MATCH(CONCATENATE(B976,C976),'Est. Useful Life - HIDE SHEET'!$A$2:$A$206,FALSE),4))","v":""},null,""]
[null,null,null,null,null,{"$f":"IF(ISBLANK(C977),\"\",_xlfn.CONCAT(LEFT(C977,4),\"-\",LEFT(B977,4),COUNTIF($C$11:C977,C977)))","v":""},{"$f":"IF(ISBLANK(B977),\"\",INDEX('Est. Useful Life - HIDE SHEET'!$A$2:$D$206,MATCH(CONCATENATE(B977,C977),'Est. Useful Life - HIDE SHEET'!$A$2:$A$206,FALSE),4))","v":""},null,""]
[null,null,null,null,null,{"$f":"IF(ISBLANK(C978),\"\",_xlfn.CONCAT(LEFT(C978,4),\"-\",LEFT(B978,4),COUNTIF($C$11:C978,C978)))","v":""},{"$f":"IF(ISBLANK(B978),\"\",INDEX('Est. Useful Life - HIDE SHEET'!$A$2:$D$206,MATCH(CONCATENATE(B978,C978),'Est. Useful Life - HIDE SHEET'!$A$2:$A$206,FALSE),4))","v":""},null,{"$f":"IF(ISNUMBER(G978),IF(ISNUMBER(H978),IF((G978-(INT((TODAY()-H978)/365)))<0,0,G978-(INT((TODAY()-H978)/365))),\"\"),\"\")","v":""}]
[null,null,null,null,null,{"$f":"IF(ISBLANK(C979),\"\",_xlfn.CONCAT(LEFT(C979,4),\"-\",LEFT(B979,4),COUNTIF($C$11:C979,C979)))","v":""},{"$f":"IF(ISBLANK(B979),\"\",INDEX('Est. Useful Life - HIDE SHEET'!$A$2:$D$206,MATCH(CONCATENATE(B979,C979),'Est. Useful Life - HIDE SHEET'!$A$2:$A$206,FALSE),4))","v":""},null,""]
[null,null,null,null,null,{"$f":"IF(ISBLANK(C980),\"\",_xlfn.CONCAT(LEFT(C980,4),\"-\",LEFT(B980,4),COUNTIF($C$11:C980,C980)))","v":""},{"$f":"IF(ISBLANK(B980),\"\",INDEX('Est. Useful Life - HIDE SHEET'!$A$2:$D$206,MATCH(CONCATENATE(B980,C980),'Est. Useful Life - HIDE SHEET'!$A$2:$A$206,FALSE),4))","v":""},null,""]
[null,null,null,null,null,{"$f":"IF(ISBLANK(C981),\"\",_xlfn.CONCAT(LEFT(C981,4),\"-\",LEFT(B981,4),COUNTIF($C$11:C981,C981)))","v":""},{"$f":"IF(ISBLANK(B981),\"\",INDEX('Est. Useful Life - HIDE SHEET'!$A$2:$D$206,MATCH(CONCATENATE(B981,C981),'Est. Useful Life - HIDE SHEET'!$A$2:$A$206,FALSE),4))","v":""},null,""]
[null,null,null,null,null,{"$f":"IF(ISBLANK(C982),\"\",_xlfn.CONCAT(LEFT(C982,4),\"-\",LEFT(B982,4),COUNTIF($C$11:C982,C982)))","v":""},{"$f":"IF(ISBLANK(B982),\"\",INDEX('Est. Useful Life - HIDE SHEET'!$A$2:$D$206,MATCH(CONCATENATE(B982,C982),'Est. Useful Life - HIDE SHEET'!$A$2:$A$206,FALSE),4))","v":""},null,""]
[null,null,null,null,null,{"$f":"IF(ISBLANK(C983),\"\",_xlfn.CONCAT(LEFT(C983,4),\"-\",LEFT(B983,4),COUNTIF($C$11:C983,C983)))","v":""},{"$f":"IF(ISBLANK(B983),\"\",INDEX('Est. Useful Life - HIDE SHEET'!$A$2:$D$206,MATCH(CONCATENATE(B983,C983),'Est. Useful Life - HIDE SHEET'!$A$2:$A$206,FALSE),4))","v":""},null,""]
[null,null,null,null,null,{"$f":"IF(ISBLANK(C984),\"\",_xlfn.CONCAT(LEFT(C984,4),\"-\",LEFT(B984,4),COUNTIF($C$11:C984,C984)))","v":""},{"$f":"IF(ISBLANK(B984),\"\",INDEX('Est. Useful Life - HIDE SHEET'!$A$2:$D$206,MATCH(CONCATENATE(B984,C984),'Est. Useful Life - HIDE SHEET'!$A$2:$A$206,FALSE),4))","v":""},null,""]
[null,null,null,null,null,{"$f":"IF(ISBLANK(C985),\"\",_xlfn.CONCAT(LEFT(C985,4),\"-\",LEFT(B985,4),COUNTIF($C$11:C985,C985)))","v":""},{"$f":"IF(ISBLANK(B985),\"\",INDEX('Est. Useful Life - HIDE SHEET'!$A$2:$D$206,MATCH(CONCATENATE(B985,C985),'Est. Useful Life - HIDE SHEET'!$A$2:$A$206,FALSE),4))","v":""},null,""]
[null,null,null,null,null,{"$f":"IF(ISBLANK(C986),\"\",_xlfn.CONCAT(LEFT(C986,4),\"-\",LEFT(B986,4),COUNTIF($C$11:C986,C986)))","v":""},{"$f":"IF(ISBLANK(B986),\"\",INDEX('Est. Useful Life - HIDE SHEET'!$A$2:$D$206,MATCH(CONCATENATE(B986,C986),'Est. Useful Life - HIDE SHEET'!$A$2:$A$206,FALSE),4))","v":""},null,""]
[null,null,null,null,null,{"$f":"IF(ISBLANK(C987),\"\",_xlfn.CONCAT(LEFT(C987,4),\"-\",LEFT(B987,4),COUNTIF($C$11:C987,C987)))","v":""},{"$f":"IF(ISBLANK(B987),\"\",INDEX('Est. Useful Life - HIDE SHEET'!$A$2:$D$206,MATCH(CONCATENATE(B987,C987),'Est. Useful Life - HIDE SHEET'!$A$2:$A$206,FALSE),4))","v":""},null,""]
[null,null,null,null,null,{"$f":"IF(ISBLANK(C988),\"\",_xlfn.CONCAT(LEFT(C988,4),\"-\",LEFT(B988,4),COUNTIF($C$11:C988,C988)))","v":""},{"$f":"IF(ISBLANK(B988),\"\",INDEX('Est. Useful Life - HIDE SHEET'!$A$2:$D$206,MATCH(CONCATENATE(B988,C988),'Est. Useful Life - HIDE SHEET'!$A$2:$A$206,FALSE),4))","v":""},null,""]
[null,null,null,null,null,{"$f":"IF(ISBLANK(C989),\"\",_xlfn.CONCAT(LEFT(C989,4),\"-\",LEFT(B989,4),COUNTIF($C$11:C989,C989)))","v":""},{"$f":"IF(ISBLANK(B989),\"\",INDEX('Est. Useful Life - HIDE SHEET'!$A$2:$D$206,MATCH(CONCATENATE(B989,C989),'Est. Useful Life - HIDE SHEET'!$A$2:$A$206,FALSE),4))","v":""},null,""]
[null,null,null,null,null,{"$f":"IF(ISBLANK(C990),\"\",_xlfn.CONCAT(LEFT(C990,4),\"-\",LEFT(B990,4),COUNTIF($C$11:C990,C990)))","v":""},{"$f":"IF(ISBLANK(B990),\"\",INDEX('Est. Useful Life - HIDE SHEET'!$A$2:$D$206,MATCH(CONCATENATE(B990,C990),'Est. Useful Life - HIDE SHEET'!$A$2:$A$206,FALSE),4))","v":""},null,""]
[null,null,null,null,null,{"$f":"IF(ISBLANK(C991),\"\",_xlfn.CONCAT(LEFT(C991,4),\"-\",LEFT(B991,4),COUNTIF($C$11:C991,C991)))","v":""},{"$f":"IF(ISBLANK(B991),\"\",INDEX('Est. Useful Life - HIDE SHEET'!$A$2:$D$206,MATCH(CONCATENATE(B991,C991),'Est. Useful Life - HIDE SHEET'!$A$2:$A$206,FALSE),4))","v":""},null,""]
[null,null,null,null,null,{"$f":"IF(ISBLANK(C992),\"\",_xlfn.CONCAT(LEFT(C992,4),\"-\",LEFT(B992,4),COUNTIF($C$11:C992,C992)))","v":""},{"$f":"IF(ISBLANK(B992),\"\",INDEX('Est. Useful Life - HIDE SHEET'!$A$2:$D$206,MATCH(CONCATENATE(B992,C992),'Est. Useful Life - HIDE SHEET'!$A$2:$A$206,FALSE),4))","v":""},null,""]
[null,null,null,null,null,{"$f":"IF(ISBLANK(C993),\"\",_xlfn.CONCAT(LEFT(C993,4),\"-\",LEFT(B993,4),COUNTIF($C$11:C993,C993)))","v":""},{"$f":"IF(ISBLANK(B993),\"\",INDEX('Est. Useful Life - HIDE SHEET'!$A$2:$D$206,MATCH(CONCATENATE(B993,C993),'Est. Useful Life - HIDE SHEET'!$A$2:$A$206,FALSE),4))","v":""},null,""]
[null,null,null,null,null,{"$f":"IF(ISBLANK(C994),\"\",_xlfn.CONCAT(LEFT(C994,4),\"-\",LEFT(B994,4),COUNTIF($C$11:C994,C994)))","v":""},{"$f":"IF(ISBLANK(B994),\"\",INDEX('Est. Useful Life - HIDE SHEET'!$A$2:$D$206,MATCH(CONCATENATE(B994,C994),'Est. Useful Life - HIDE SHEET'!$A$2:$A$206,FALSE),4))","v":""},null,""]
[null,null,null,null,null,{"$f":"IF(ISBLANK(C995),\"\",_xlfn.CONCAT(LEFT(C995,4),\"-\",LEFT(B995,4),COUNTIF($C$11:C995,C995)))","v":""},{"$f":"IF(ISBLANK(B995),\"\",INDEX('Est. Useful Life - HIDE SHEET'!$A$2:$D$206,MATCH(CONCATENATE(B995,C995),'Est. Useful Life - HIDE SHEET'!$A$2:$A$206,FALSE),4))","v":""},null,""]
[null,null,null,null,null,{"$f":"IF(ISBLANK(C996),\"\",_xlfn.CONCAT(LEFT(C996,4),\"-\",LEFT(B996,4),COUNTIF($C$11:C996,C996)))","v":""},{"$f":"IF(ISBLANK(B996),\"\",INDEX('Est. Useful Life - HIDE SHEET'!$A$2:$D$206,MATCH(CONCATENATE(B996,C996),'Est. Useful Life - HIDE SHEET'!$A$2:$A$206,FALSE),4))","v":""},null,""]
[null,null,null,null,null,{"$f":"IF(ISBLANK(C997),\"\",_xlfn.CONCAT(LEFT(C997,4),\"-\",LEFT(B997,4),COUNTIF($C$11:C997,C997)))","v":""},{"$f":"IF(ISBLANK(B997),\"\",INDEX('Est. Useful Life - HIDE SHEET'!$A$2:$D$206,MATCH(CONCATENATE(B997,C997),'Est. Useful Life - HIDE SHEET'!$A$2:$A$206,FALSE),4))","v":""},null,""]
[null,null,null,null,null,{"$f":"IF(ISBLANK(C998),\"\",_xlfn.CONCAT(LEFT(C998,4),\"-\",LEFT(B998,4),COUNTIF($C$11:C998,C998)))","v":""},{"$f":"IF(ISBLANK(B998),\"\",INDEX('Est. Useful Life - HIDE SHEET'!$A$2:$D$206,MATCH(CONCATENATE(B998,C998),'Est. Useful Life - HIDE SHEET'!$A$2:$A$206,FALSE),4))","v":""},null,""]
[null,null,null,null,null,{"$f":"IF(ISBLANK(C999),\"\",_xlfn.CONCAT(LEFT(C999,4),\"-\",LEFT(B999,4),COUNTIF($C$11:C999,C999)))","v":""},{"$f":"IF(ISBLANK(B999),\"\",INDEX('Est. Useful Life - HIDE SHEET'!$A$2:$D$206,MATCH(CONCATENATE(B999,C999),'Est. Useful Life - HIDE SHEET'!$A$2:$A$206,FALSE),4))","v":""},null,""]
[null,null,null,null,null,{"$f":"IF(ISBLANK(C1000),\"\",_xlfn.CONCAT(LEFT(C1000,4),\"-\",LEFT(B1000,4),COUNTIF($C$11:C1000,C1000)))","v":""},{"$f":"IF(ISBLANK(B1000),\"\",INDEX('Est. Useful Life - HIDE SHEET'!$A$2:$D$206,MATCH(CONCATENATE(B1000,C1000),'Est. Useful Life - HIDE SHEET'!$A$2:$A$206,FALSE),4))","v":""},null,""]

{"sheet":"2a_Condition Assessment","index":6,"n_rows":199,"n_cols":7,"rows_kept":199,"cut":false,"hidden":false,"merged":[[0,1,4,4]]}
[null,"INSTRUCTIONS:\nEnter information in cells, either manually or using dropdown menus. \nCells colored Blue contain dropdown menus for selection.\nCells colored Yellow are values from previous sheets and cannot be edited.\nCells colored Green are calculated output values. ",null,null,null,"Additional resources:"]
[null,null,null,null,null,{"$f":"HYPERLINK(\"http://www.wvdhhr.org/oehs/eed/i&cd/Asset_management.asp\", \"Asset Management for Your Water System\")","v":"Asset Management for Your Water System"}]
[null,null,null,null,null,{"$f":"HYPERLINK(\"http://southwestefc.unm.edu/amkan/main.php?chapterId=Front&page=1\", \"Asset Management Manual: A.M. Kan Work! - Section 3 and Appendix A\")","v":"Asset Management Manual: A.M. Kan Work! - Section 3 and Appendix A"}]
[null,null,null,null,null,{"$f":"HYPERLINK(\"http://simple.werf.org/simple/media/Condition/refs/WERFSAMConditionAssessmentProtocols.pdf\", \"Condition Assessment Strategies and Protocols for Water and Wastewater Utility Assets - Appendix C\")","v":"Condition Assessment Strategies and Protocols for Water and Wastewater Utility Assets - Appendix C"}]
[null,null,null,null,null,{"$f":"HYPERLINK(\"https://www.epa.gov/sites/production/files/2016-01/documents/assess-performance-failure-modes.pdf\", \"Fundamentals of Asset Management - Slide 15\")","v":"Fundamentals of Asset Management - Slide 15"}]
["ID","Asset Category and Type","Asset Description","Remaining Useful Life ","Current Condition of Asset","Reliability - \nDoes the asset need frequent repairs in addition to routine maintenance?","Condition Assessment Score \n(higher score indicates elevated concern)"]
[null,null,null,null,null,null,{"$f":"IF(ISBLANK(B7),\"\",ROUND((SUM((IF(E7=\"Very Poor\",4,IF(E7=\"Poor\",3,IF(E7=\"Fair\",2,IF(E7=\"Good\",1,0))))*INDEX('Weighting Tables - HIDE SHEET'!$A$1:$C$9,MATCH(\"Current Condition\",'Weighting Tables - HIDE SHEET'!$A$1:$A$9,FALSE),3)),IF(F7=\"Yes\",1*INDEX('Weighting Tables - HIDE SHEET'!$A$1:$C$9,MATCH(\"Reliability\",'Weighting Tables - HIDE SHEET'!$A$1:$A$9,FALSE),3)))/'Weighting Tables - HIDE SHEET'!$G$2)*10,0))","v":""}]
[null,null,null,null,null,null,{"$f":"IF(ISBLANK(B8),\"\",ROUND((SUM((IF(E8=\"Very Poor\",4,IF(E8=\"Poor\",3,IF(E8=\"Fair\",2,IF(E8=\"Good\",1,0))))*INDEX('Weighting Tables - HIDE SHEET'!$A$1:$C$9,MATCH(\"Current Condition\",'Weighting Tables - HIDE SHEET'!$A$1:$A$9,FALSE),3)),IF(F8=\"Yes\",1*INDEX('Weighting Tables - HIDE SHEET'!$A$1:$C$9,MATCH(\"Reliability\",'Weighting Tables - HIDE SHEET'!$A$1:$A$9,FALSE),3)))/'Weighting Tables - HIDE SHEET'!$G$2)*10,0))","v":""}]
[null,null,null,null,null,null,{"$f":"IF(ISBLANK(B9),\"\",ROUND((SUM((IF(E9=\"Very Poor\",4,IF(E9=\"Poor\",3,IF(E9=\"Fair\",2,IF(E9=\"Good\",1,0))))*INDEX('Weighting Tables - HIDE SHEET'!$A$1:$C$9,MATCH(\"Current Condition\",'Weighting Tables - HIDE SHEET'!$A$1:$A$9,FALSE),3)),IF(F9=\"Yes\",1*INDEX('Weighting Tables - HIDE SHEET'!$A$1:$C$9,MATCH(\"Reliability\",'Weighting Tables - HIDE SHEET'!$A$1:$A$9,FALSE),3)))/'Weighting Tables - HIDE SHEET'!$G$2)*10,0))","v":""}]
[null,null,null,null,null,null,{"$f":"IF(ISBLANK(B10),\"\",ROUND((SUM((IF(E10=\"Very Poor\",4,IF(E10=\"Poor\",3,IF(E10=\"Fair\",2,IF(E10=\"Good\",1,0))))*INDEX('Weighting Tables - HIDE SHEET'!$A$1:$C$9,MATCH(\"Current Condition\",'Weighting Tables - HIDE SHEET'!$A$1:$A$9,FALSE),3)),IF(F10=\"Yes\",1*INDEX('Weighting Tables - HIDE SHEET'!$A$1:$C$9,MATCH(\"Reliability\",'Weighting Tables - HIDE SHEET'!$A$1:$A$9,FALSE),3)))/'Weighting Tables - HIDE SHEET'!$G$2)*10,0))","v":""}]
[null,null,null,null,null,null,{"$f":"IF(ISBLANK(B11),\"\",ROUND((SUM((IF(E11=\"Very Poor\",4,IF(E11=\"Poor\",3,IF(E11=\"Fair\",2,IF(E11=\"Good\",1,0))))*INDEX('Weighting Tables - HIDE SHEET'!$A$1:$C$9,MATCH(\"Current Condition\",'Weighting Tables - HIDE SHEET'!$A$1:$A$9,FALSE),3)),IF(F11=\"Yes\",1*INDEX('Weighting Tables - HIDE SHEET'!$A$1:$C$9,MATCH(\"Reliability\",'Weighting Tables - HIDE SHEET'!$A$1:$A$9,FALSE),3)))/'Weighting Tables - HIDE SHEET'!$G$2)*10,0))","v":""}]
[null,null,null,null,null,null,{"$f":"IF(ISBLANK(B12),\"\",ROUND((SUM((IF(E12=\"Very Poor\",4,IF(E12=\"Poor\",3,IF(E12=\"Fair\",2,IF(E12=\"Good\",1,0))))*INDEX('Weighting Tables - HIDE SHEET'!$A$1:$C$9,MATCH(\"Current Condition\",'Weighting Tables - HIDE SHEET'!$A$1:$A$9,FALSE),3)),IF(F12=\"Yes\",1*INDEX('Weighting Tables - HIDE SHEET'!$A$1:$C$9,MATCH(\"Reliability\",'Weighting Tables - HIDE SHEET'!$A$1:$A$9,FALSE),3)))/'Weighting Tables - HIDE SHEET'!$G$2)*10,0))","v":""}]
[null,null,null,null,null,null,{"$f":"IF(ISBLANK(B13),\"\",ROUND((SUM((IF(E13=\"Very Poor\",4,IF(E13=\"Poor\",3,IF(E13=\"Fair\",2,IF(E13=\"Good\",1,0))))*INDEX('Weighting Tables - HIDE SHEET'!$A$1:$C$9,MATCH(\"Current Condition\",'Weighting Tables - HIDE SHEET'!$A$1:$A$9,FALSE),3)),IF(F13=\"Yes\",1*INDEX('Weighting Tables - HIDE SHEET'!$A$1:$C$9,MATCH(\"Reliability\",'Weighting Tables - HIDE SHEET'!$A$1:$A$9,FALSE),3)))/'Weighting Tables - HIDE SHEET'!$G$2)*10,0))","v":""}]
[null,null,null,null,null,null,{"$f":"IF(ISBLANK(B14),\"\",ROUND((SUM((IF(E14=\"Very Poor\",4,IF(E14=\"Poor\",3,IF(E14=\"Fair\",2,IF(E14=\"Good\",1,0))))*INDEX('Weighting Tables - HIDE SHEET'!$A$1:$C$9,MATCH(\"Current Condition\",'Weighting Tables - HIDE SHEET'!$A$1:$A$9,FALSE),3)),IF(F14=\"Yes\",1*INDEX('Weighting Tables - HIDE SHEET'!$A$1:$C$9,MATCH(\"Reliability\",'Weighting Tables - HIDE SHEET'!$A$1:$A$9,FALSE),3)))/'Weighting Tables - HIDE SHEET'!$G$2)*10,0))","v":""}]
[null,null,null,null,null,null,{"$f":"IF(ISBLANK(B15),\"\",ROUND((SUM((IF(E15=\"Very Poor\",4,IF(E15=\"Poor\",3,IF(E15=\"Fair\",2,IF(E15=\"Good\",1,0))))*INDEX('Weighting Tables - HIDE SHEET'!$A$1:$C$9,MATCH(\"Current Condition\",'Weighting Tables - HIDE SHEET'!$A$1:$A$9,FALSE),3)),IF(F15=\"Yes\",1*INDEX('Weighting Tables - HIDE SHEET'!$A$1:$C$9,MATCH(\"Reliability\",'Weighting Tables - HIDE SHEET'!$A$1:$A$9,FALSE),3)))/'Weighting Tables - HIDE SHEET'!$G$2)*10,0))","v":""}]
[null,null,null,null,null,null,{"$f":"IF(ISBLANK(B16),\"\",ROUND((SUM((IF(E16=\"Very Poor\",4,IF(E16=\"Poor\",3,IF(E16=\"Fair\",2,IF(E16=\"Good\",1,0))))*INDEX('Weighting Tables - HIDE SHEET'!$A$1:$C$9,MATCH(\"Current Condition\",'Weighting Tables - HIDE SHEET'!$A$1:$A$9,FALSE),3)),IF(F16=\"Yes\",1*INDEX('Weighting Tables - HIDE SHEET'!$A$1:$C$9,MATCH(\"Reliability\",'Weighting Tables - HIDE SHEET'!$A$1:$A$9,FALSE),3)))/'Weighting Tables - HIDE SHEET'!$G$2)*10,0))","v":""}]
[null,null,null,null,null,null,{"$f":"IF(ISBLANK(B17),\"\",ROUND((SUM((IF(E17=\"Very Poor\",4,IF(E17=\"Poor\",3,IF(E17=\"Fair\",2,IF(E17=\"Good\",1,0))))*INDEX('Weighting Tables - HIDE SHEET'!$A$1:$C$9,MATCH(\"Current Condition\",'Weighting Tables - HIDE SHEET'!$A$1:$A$9,FALSE),3)),IF(F17=\"Yes\",1*INDEX('Weighting Tables - HIDE SHEET'!$A$1:$C$9,MATCH(\"Reliability\",'Weighting Tables - HIDE SHEET'!$A$1:$A$9,FALSE),3)))/'Weighting Tables - HIDE SHEET'!$G$2)*10,0))","v":""}]
[null,null,null,null,null,null,{"$f":"IF(ISBLANK(B18),\"\",ROUND((SUM((IF(E18=\"Very Poor\",4,IF(E18=\"Poor\",3,IF(E18=\"Fair\",2,IF(E18=\"Good\",1,0))))*INDEX('Weighting Tables - HIDE SHEET'!$A$1:$C$9,MATCH(\"Current Condition\",'Weighting Tables - HIDE SHEET'!$A$1:$A$9,FALSE),3)),IF(F18=\"Yes\",1*INDEX('Weighting Tables - HIDE SHEET'!$A$1:$C$9,MATCH(\"Reliability\",'Weighting Tables - HIDE SHEET'!$A$1:$A$9,FALSE),3)))/'Weighting Tables - HIDE SHEET'!$G$2)*10,0))","v":""}]
[null,null,null,null,null,null,{"$f":"IF(ISBLANK(B19),\"\",ROUND((SUM((IF(E19=\"Very Poor\",4,IF(E19=\"Poor\",3,IF(E19=\"Fair\",2,IF(E19=\"Good\",1,0))))*INDEX('Weighting Tables - HIDE SHEET'!$A$1:$C$9,MATCH(\"Current Condition\",'Weighting Tables - HIDE SHEET'!$A$1:$A$9,FALSE),3)),IF(F19=\"Yes\",1*INDEX('Weighting Tables - HIDE SHEET'!$A$1:$C$9,MATCH(\"Reliability\",'Weighting Tables - HIDE SHEET'!$A$1:$A$9,FALSE),3)))/'Weighting Tables - HIDE SHEET'!$G$2)*10,0))","v":""}]
[null,null,null,null,null,null,{"$f":"IF(ISBLANK(B20),\"\",ROUND((SUM((IF(E20=\"Very Poor\",4,IF(E20=\"Poor\",3,IF(E20=\"Fair\",2,IF(E20=\"Good\",1,0))))*INDEX('Weighting Tables - HIDE SHEET'!$A$1:$C$9,MATCH(\"Current Condition\",'Weighting Tables - HIDE SHEET'!$A$1:$A$9,FALSE),3)),IF(F20=\"Yes\",1*INDEX('Weighting Tables - HIDE SHEET'!$A$1:$C$9,MATCH(\"Reliability\",'Weighting Tables - HIDE SHEET'!$A$1:$A$9,FALSE),3)))/'Weighting Tables - HIDE SHEET'!$G$2)*10,0))","v":""}]
[null,null,null,null,null,null,{"$f":"IF(ISBLANK(B21),\"\",ROUND((SUM((IF(E21=\"Very Poor\",4,IF(E21=\"Poor\",3,IF(E21=\"Fair\",2,IF(E21=\"Good\",1,0))))*INDEX('Weighting Tables - HIDE SHEET'!$A$1:$C$9,MATCH(\"Current Condition\",'Weighting Tables - HIDE SHEET'!$A$1:$A$9,FALSE),3)),IF(F21=\"Yes\",1*INDEX('Weighting Tables - HIDE SHEET'!$A$1:$C$9,MATCH(\"Reliability\",'Weighting Tables - HIDE SHEET'!$A$1:$A$9,FALSE),3)))/'Weighting Tables - HIDE SHEET'!$G$2)*10,0))","v":""}]
[null,null,null,null,null,null,{"$f":"IF(ISBLANK(B22),\"\",ROUND((SUM((IF(E22=\"Very Poor\",4,IF(E22=\"Poor\",3,IF(E22=\"Fair\",2,IF(E22=\"Good\",1,0))))*INDEX('Weighting Tables - HIDE SHEET'!$A$1:$C$9,MATCH(\"Current Condition\",'Weighting Tables - HIDE SHEET'!$A$1:$A$9,FALSE),3)),IF(F22=\"Yes\",1*INDEX('Weighting Tables - HIDE SHEET'!$A$1:$C$9,MATCH(\"Reliability\",'Weighting Tables - HIDE SHEET'!$A$1:$A$9,FALSE),3)))/'Weighting Tables - HIDE SHEET'!$G$2)*10,0))","v":""}]
[null,null,null,null,null,null,{"$f":"IF(ISBLANK(B23),\"\",ROUND((SUM((IF(E23=\"Very Poor\",4,IF(E23=\"Poor\",3,IF(E23=\"Fair\",2,IF(E23=\"Good\",1,0))))*INDEX('Weighting Tables - HIDE SHEET'!$A$1:$C$9,MATCH(\"Current Condition\",'Weighting Tables - HIDE SHEET'!$A$1:$A$9,FALSE),3)),IF(F23=\"Yes\",1*INDEX('Weighting Tables - HIDE SHEET'!$A$1:$C$9,MATCH(\"Reliability\",'Weighting Tables - HIDE SHEET'!$A$1:$A$9,FALSE),3)))/'Weighting Tables - HIDE SHEET'!$G$2)*10,0))","v":""}]
[null,null,null,null,null,null,{"$f":"IF(ISBLANK(B24),\"\",ROUND((SUM((IF(E24=\"Very Poor\",4,IF(E24=\"Poor\",3,IF(E24=\"Fair\",2,IF(E24=\"Good\",1,0))))*INDEX('Weighting Tables - HIDE SHEET'!$A$1:$C$9,MATCH(\"Current Condition\",'Weighting Tables - HIDE SHEET'!$A$1:$A$9,FALSE),3)),IF(F24=\"Yes\",1*INDEX('Weighting Tables - HIDE SHEET'!$A$1:$C$9,MATCH(\"Reliability\",'Weighting Tables - HIDE SHEET'!$A$1:$A$9,FALSE),3)))/'Weighting Tables - HIDE SHEET'!$G$2)*10,0))","v":""}]
[null,null,null,null,null,null,{"$f":"IF(ISBLANK(B25),\"\",ROUND((SUM((IF(E25=\"Very Poor\",4,IF(E25=\"Poor\",3,IF(E25=\"Fair\",2,IF(E25=\"Good\",1,0))))*INDEX('Weighting Tables - HIDE SHEET'!$A$1:$C$9,MATCH(\"Current Condition\",'Weighting Tables - HIDE SHEET'!$A$1:$A$9,FALSE),3)),IF(F25=\"Yes\",1*INDEX('Weighting Tables - HIDE SHEET'!$A$1:$C$9,MATCH(\"Reliability\",'Weighting Tables - HIDE SHEET'!$A$1:$A$9,FALSE),3)))/'Weighting Tables - HIDE SHEET'!$G$2)*10,0))","v":""}]
[null,null,null,null,null,null,{"$f":"IF(ISBLANK(B26),\"\",ROUND((SUM((IF(E26=\"Very Poor\",4,IF(E26=\"Poor\",3,IF(E26=\"Fair\",2,IF(E26=\"Good\",1,0))))*INDEX('Weighting Tables - HIDE SHEET'!$A$1:$C$9,MATCH(\"Current Condition\",'Weighting Tables - HIDE SHEET'!$A$1:$A$9,FALSE),3)),IF(F26=\"Yes\",1*INDEX('Weighting Tables - HIDE SHEET'!$A$1:$C$9,MATCH(\"Reliability\",'Weighting Tables - HIDE SHEET'!$A$1:$A$9,FALSE),3)))/'Weighting Tables - HIDE SHEET'!$G$2)*10,0))","v":""}]
[null,null,null,null,null,null,{"$f":"IF(ISBLANK(B27),\"\",ROUND((SUM((IF(E27=\"Very Poor\",4,IF(E27=\"Poor\",3,IF(E27=\"Fair\",2,IF(E27=\"Good\",1,0))))*INDEX('Weighting Tables - HIDE SHEET'!$A$1:$C$9,MATCH(\"Current Condition\",'Weighting Tables - HIDE SHEET'!$A$1:$A$9,FALSE),3)),IF(F27=\"Yes\",1*INDEX('Weighting Tables - HIDE SHEET'!$A$1:$C$9,MATCH(\"Reliability\",'Weighting Tables - HIDE SHEET'!$A$1:$A$9,FALSE),3)))/'Weighting Tables - HIDE SHEET'!$G$2)*10,0))","v":""}]
[null,null,null,null,null,null,{"$f":"IF(ISBLANK(B28),\"\",ROUND((SUM((IF(E28=\"Very Poor\",4,IF(E28=\"Poor\",3,IF(E28=\"Fair\",2,IF(E28=\"Good\",1,0))))*INDEX('Weighting Tables - HIDE SHEET'!$A$1:$C$9,MATCH(\"Current Condition\",'Weighting Tables - HIDE SHEET'!$A$1:$A$9,FALSE),3)),IF(F28=\"Yes\",1*INDEX('Weighting Tables - HIDE SHEET'!$A$1:$C$9,MATCH(\"Reliability\",'Weighting Tables - HIDE SHEET'!$A$1:$A$9,FALSE),3)))/'Weighting Tables - HIDE SHEET'!$G$2)*10,0))","v":""}]
[null,null,null,null,null,null,{"$f":"IF(ISBLANK(B29),\"\",ROUND((SUM((IF(E29=\"Very Poor\",4,IF(E29=\"Poor\",3,IF(E29=\"Fair\",2,IF(E29=\"Good\",1,0))))*INDEX('Weighting Tables - HIDE SHEET'!$A$1:$C$9,MATCH(\"Current Condition\",'Weighting Tables - HIDE SHEET'!$A$1:$A$9,FALSE),3)),IF(F29=\"Yes\",1*INDEX('Weighting Tables - HIDE SHEET'!$A$1:$C$9,MATCH(\"Reliability\",'Weighting Tables - HIDE SHEET'!$A$1:$A$9,FALSE),3)))/'Weighting Tables - HIDE SHEET'!$G$2)*10,0))","v":""}]
[null,null,null,null,null,null,{"$f":"IF(ISBLANK(B30),\"\",ROUND((SUM((IF(E30=\"Very Poor\",4,IF(E30=\"Poor\",3,IF(E30=\"Fair\",2,IF(E30=\"Good\",1,0))))*INDEX('Weighting Tables - HIDE SHEET'!$A$1:$C$9,MATCH(\"Current Condition\",'Weighting Tables - HIDE SHEET'!$A$1:$A$9,FALSE),3)),IF(F30=\"Yes\",1*INDEX('Weighting Tables - HIDE SHEET'!$A$1:$C$9,MATCH(\"Reliability\",'Weighting Tables - HIDE SHEET'!$A$1:$A$9,FALSE),3)))/'Weighting Tables - HIDE SHEET'!$G$2)*10,0))","v":""}]
[null,null,null,null,null,null,{"$f":"IF(ISBLANK(B31),\"\",ROUND((SUM((IF(E31=\"Very Poor\",4,IF(E31=\"Poor\",3,IF(E31=\"Fair\",2,IF(E31=\"Good\",1,0))))*INDEX('Weighting Tables - HIDE SHEET'!$A$1:$C$9,MATCH(\"Current Condition\",'Weighting Tables - HIDE SHEET'!$A$1:$A$9,FALSE),3)),IF(F31=\"Yes\",1*INDEX('Weighting Tables - HIDE SHEET'!$A$1:$C$9,MATCH(\"Reliability\",'Weighting Tables - HIDE SHEET'!$A$1:$A$9,FALSE),3)))/'Weighting Tables - HIDE SHEET'!$G$2)*10,0))","v":""}]
[null,null,null,null,null,null,{"$f":"IF(ISBLANK(B32),\"\",ROUND((SUM((IF(E32=\"Very Poor\",4,IF(E32=\"Poor\",3,IF(E32=\"Fair\",2,IF(E32=\"Good\",1,0))))*INDEX('Weighting Tables - HIDE SHEET'!$A$1:$C$9,MATCH(\"Current Condition\",'Weighting Tables - HIDE SHEET'!$A$1:$A$9,FALSE),3)),IF(F32=\"Yes\",1*INDEX('Weighting Tables - HIDE SHEET'!$A$1:$C$9,MATCH(\"Reliability\",'Weighting Tables - HIDE SHEET'!$A$1:$A$9,FALSE),3)))/'Weighting Tables - HIDE SHEET'!$G$2)*10,0))","v":""}]
[null,null,null,null,null,null,{"$f":"IF(ISBLANK(B33),\"\",ROUND((SUM((IF(E33=\"Very Poor\",4,IF(E33=\"Poor\",3,IF(E33=\"Fair\",2,IF(E33=\"Good\",1,0))))*INDEX('Weighting Tables - HIDE SHEET'!$A$1:$C$9,MATCH(\"Current Condition\",'Weighting Tables - HIDE SHEET'!$A$1:$A$9,FALSE),3)),IF(F33=\"Yes\",1*INDEX('Weighting Tables - HIDE SHEET'!$A$1:$C$9,MATCH(\"Reliability\",'Weighting Tables - HIDE SHEET'!$A$1:$A$9,FALSE),3)))/'Weighting Tables - HIDE SHEET'!$G$2)*10,0))","v":""}]
[null,null,null,null,null,null,{"$f":"IF(ISBLANK(B34),\"\",ROUND((SUM((IF(E34=\"Very Poor\",4,IF(E34=\"Poor\",3,IF(E34=\"Fair\",2,IF(E34=\"Good\",1,0))))*INDEX('Weighting Tables - HIDE SHEET'!$A$1:$C$9,MATCH(\"Current Condition\",'Weighting Tables - HIDE SHEET'!$A$1:$A$9,FALSE),3)),IF(F34=\"Yes\",1*INDEX('Weighting Tables - HIDE SHEET'!$A$1:$C$9,MATCH(\"Reliability\",'Weighting Tables - HIDE SHEET'!$A$1:$A$9,FALSE),3)))/'Weighting Tables - HIDE SHEET'!$G$2)*10,0))","v":""}]
[null,null,null,null,null,null,{"$f":"IF(ISBLANK(B35),\"\",ROUND((SUM((IF(E35=\"Very Poor\",4,IF(E35=\"Poor\",3,IF(E35=\"Fair\",2,IF(E35=\"Good\",1,0))))*INDEX('Weighting Tables - HIDE SHEET'!$A$1:$C$9,MATCH(\"Current Condition\",'Weighting Tables - HIDE SHEET'!$A$1:$A$9,FALSE),3)),IF(F35=\"Yes\",1*INDEX('Weighting Tables - HIDE SHEET'!$A$1:$C$9,MATCH(\"Reliability\",'Weighting Tables - HIDE SHEET'!$A$1:$A$9,FALSE),3)))/'Weighting Tables - HIDE SHEET'!$G$2)*10,0))","v":""}]
[null,null,null,null,null,null,{"$f":"IF(ISBLANK(B36),\"\",ROUND((SUM((IF(E36=\"Very Poor\",4,IF(E36=\"Poor\",3,IF(E36=\"Fair\",2,IF(E36=\"Good\",1,0))))*INDEX('Weighting Tables - HIDE SHEET'!$A$1:$C$9,MATCH(\"Current Condition\",'Weighting Tables - HIDE SHEET'!$A$1:$A$9,FALSE),3)),IF(F36=\"Yes\",1*INDEX('Weighting Tables - HIDE SHEET'!$A$1:$C$9,MATCH(\"Reliability\",'Weighting Tables - HIDE SHEET'!$A$1:$A$9,FALSE),3)))/'Weighting Tables - HIDE SHEET'!$G$2)*10,0))","v":""}]
[null,null,null,null,null,null,{"$f":"IF(ISBLANK(B37),\"\",ROUND((SUM((IF(E37=\"Very Poor\",4,IF(E37=\"Poor\",3,IF(E37=\"Fair\",2,IF(E37=\"Good\",1,0))))*INDEX('Weighting Tables - HIDE SHEET'!$A$1:$C$9,MATCH(\"Current Condition\",'Weighting Tables - HIDE SHEET'!$A$1:$A$9,FALSE),3)),IF(F37=\"Yes\",1*INDEX('Weighting Tables - HIDE SHEET'!$A$1:$C$9,MATCH(\"Reliability\",'Weighting Tables - HIDE SHEET'!$A$1:$A$9,FALSE),3)))/'Weighting Tables - HIDE SHEET'!$G$2)*10,0))","v":""}]
[null,null,null,null,null,null,{"$f":"IF(ISBLANK(B38),\"\",ROUND((SUM((IF(E38=\"Very Poor\",4,IF(E38=\"Poor\",3,IF(E38=\"Fair\",2,IF(E38=\"Good\",1,0))))*INDEX('Weighting Tables - HIDE SHEET'!$A$1:$C$9,MATCH(\"Current Condition\",'Weighting Tables - HIDE SHEET'!$A$1:$A$9,FALSE),3)),IF(F38=\"Yes\",1*INDEX('Weighting Tables - HIDE SHEET'!$A$1:$C$9,MATCH(\"Reliability\",'Weighting Tables - HIDE SHEET'!$A$1:$A$9,FALSE),3)))/'Weighting Tables - HIDE SHEET'!$G$2)*10,0))","v":""}]
[null,null,null,null,null,null,{"$f":"IF(ISBLANK(B39),\"\",ROUND((SUM((IF(E39=\"Very Poor\",4,IF(E39=\"Poor\",3,IF(E39=\"Fair\",2,IF(E39=\"Good\",1,0))))*INDEX('Weighting Tables - HIDE SHEET'!$A$1:$C$9,MATCH(\"Current Condition\",'Weighting Tables - HIDE SHEET'!$A$1:$A$9,FALSE),3)),IF(F39=\"Yes\",1*INDEX('Weighting Tables - HIDE SHEET'!$A$1:$C$9,MATCH(\"Reliability\",'Weighting Tables - HIDE SHEET'!$A$1:$A$9,FALSE),3)))/'Weighting Tables - HIDE SHEET'!$G$2)*10,0))","v":""}]
[null,null,null,null,null,null,{"$f":"IF(ISBLANK(B40),\"\",ROUND((SUM((IF(E40=\"Very Poor\",4,IF(E40=\"Poor\",3,IF(E40=\"Fair\",2,IF(E40=\"Good\",1,0))))*INDEX('Weighting Tables - HIDE SHEET'!$A$1:$C$9,MATCH(\"Current Condition\",'Weighting Tables - HIDE SHEET'!$A$1:$A$9,FALSE),3)),IF(F40=\"Yes\",1*INDEX('Weighting Tables - HIDE SHEET'!$A$1:$C$9,MATCH(\"Reliability\",'Weighting Tables - HIDE SHEET'!$A$1:$A$9,FALSE),3)))/'Weighting Tables - HIDE SHEET'!$G$2)*10,0))","v":""}]
[null,null,null,null,null,null,{"$f":"IF(ISBLANK(B41),\"\",ROUND((SUM((IF(E41=\"Very Poor\",4,IF(E41=\"Poor\",3,IF(E41=\"Fair\",2,IF(E41=\"Good\",1,0))))*INDEX('Weighting Tables - HIDE SHEET'!$A$1:$C$9,MATCH(\"Current Condition\",'Weighting Tables - HIDE SHEET'!$A$1:$A$9,FALSE),3)),IF(F41=\"Yes\",1*INDEX('Weighting Tables - HIDE SHEET'!$A$1:$C$9,MATCH(\"Reliability\",'Weighting Tables - HIDE SHEET'!$A$1:$A$9,FALSE),3)))/'Weighting Tables - HIDE SHEET'!$G$2)*10,0))","v":""}]
[null,null,null,null,null,null,{"$f":"IF(ISBLANK(B42),\"\",ROUND((SUM((IF(E42=\"Very Poor\",4,IF(E42=\"Poor\",3,IF(E42=\"Fair\",2,IF(E42=\"Good\",1,0))))*INDEX('Weighting Tables - HIDE SHEET'!$A$1:$C$9,MATCH(\"Current Condition\",'Weighting Tables - HIDE SHEET'!$A$1:$A$9,FALSE),3)),IF(F42=\"Yes\",1*INDEX('Weighting Tables - HIDE SHEET'!$A$1:$C$9,MATCH(\"Reliability\",'Weighting Tables - HIDE SHEET'!$A$1:$A$9,FALSE),3)))/'Weighting Tables - HIDE SHEET'!$G$2)*10,0))","v":""}]
[null,null,null,null,null,null,{"$f":"IF(ISBLANK(B43),\"\",ROUND((SUM((IF(E43=\"Very Poor\",4,IF(E43=\"Poor\",3,IF(E43=\"Fair\",2,IF(E43=\"Good\",1,0))))*INDEX('Weighting Tables - HIDE SHEET'!$A$1:$C$9,MATCH(\"Current Condition\",'Weighting Tables - HIDE SHEET'!$A$1:$A$9,FALSE),3)),IF(F43=\"Yes\",1*INDEX('Weighting Tables - HIDE SHEET'!$A$1:$C$9,MATCH(\"Reliability\",'Weighting Tables - HIDE SHEET'!$A$1:$A$9,FALSE),3)))/'Weighting Tables - HIDE SHEET'!$G$2)*10,0))","v":""}]
[null,null,null,null,null,null,{"$f":"IF(ISBLANK(B44),\"\",ROUND((SUM((IF(E44=\"Very Poor\",4,IF(E44=\"Poor\",3,IF(E44=\"Fair\",2,IF(E44=\"Good\",1,0))))*INDEX('Weighting Tables - HIDE SHEET'!$A$1:$C$9,MATCH(\"Current Condition\",'Weighting Tables - HIDE SHEET'!$A$1:$A$9,FALSE),3)),IF(F44=\"Yes\",1*INDEX('Weighting Tables - HIDE SHEET'!$A$1:$C$9,MATCH(\"Reliability\",'Weighting Tables - HIDE SHEET'!$A$1:$A$9,FALSE),3)))/'Weighting Tables - HIDE SHEET'!$G$2)*10,0))","v":""}]
[null,null,null,null,null,null,{"$f":"IF(ISBLANK(B45),\"\",ROUND((SUM((IF(E45=\"Very Poor\",4,IF(E45=\"Poor\",3,IF(E45=\"Fair\",2,IF(E45=\"Good\",1,0))))*INDEX('Weighting Tables - HIDE SHEET'!$A$1:$C$9,MATCH(\"Current Condition\",'Weighting Tables - HIDE SHEET'!$A$1:$A$9,FALSE),3)),IF(F45=\"Yes\",1*INDEX('Weighting Tables - HIDE SHEET'!$A$1:$C$9,MATCH(\"Reliability\",'Weighting Tables - HIDE SHEET'!$A$1:$A$9,FALSE),3)))/'Weighting Tables - HIDE SHEET'!$G$2)*10,0))","v":""}]
[null,null,null,null,null,null,{"$f":"IF(ISBLANK(B46),\"\",ROUND((SUM((IF(E46=\"Very Poor\",4,IF(E46=\"Poor\",3,IF(E46=\"Fair\",2,IF(E46=\"Good\",1,0))))*INDEX('Weighting Tables - HIDE SHEET'!$A$1:$C$9,MATCH(\"Current Condition\",'Weighting Tables - HIDE SHEET'!$A$1:$A$9,FALSE),3)),IF(F46=\"Yes\",1*INDEX('Weighting Tables - HIDE SHEET'!$A$1:$C$9,MATCH(\"Reliability\",'Weighting Tables - HIDE SHEET'!$A$1:$A$9,FALSE),3)))/'Weighting Tables - HIDE SHEET'!$G$2)*10,0))","v":""}]
[null,null,null,null,null,null,{"$f":"IF(ISBLANK(B47),\"\",ROUND((SUM((IF(E47=\"Very Poor\",4,IF(E47=\"Poor\",3,IF(E47=\"Fair\",2,IF(E47=\"Good\",1,0))))*INDEX('Weighting Tables - HIDE SHEET'!$A$1:$C$9,MATCH(\"Current Condition\",'Weighting Tables - HIDE SHEET'!$A$1:$A$9,FALSE),3)),IF(F47=\"Yes\",1*INDEX('Weighting Tables - HIDE SHEET'!$A$1:$C$9,MATCH(\"Reliability\",'Weighting Tables - HIDE SHEET'!$A$1:$A$9,FALSE),3)))/'Weighting Tables - HIDE SHEET'!$G$2)*10,0))","v":""}]
[null,null,null,null,null,null,{"$f":"IF(ISBLANK(B48),\"\",ROUND((SUM((IF(E48=\"Very Poor\",4,IF(E48=\"Poor\",3,IF(E48=\"Fair\",2,IF(E48=\"Good\",1,0))))*INDEX('Weighting Tables - HIDE SHEET'!$A$1:$C$9,MATCH(\"Current Condition\",'Weighting Tables - HIDE SHEET'!$A$1:$A$9,FALSE),3)),IF(F48=\"Yes\",1*INDEX('Weighting Tables - HIDE SHEET'!$A$1:$C$9,MATCH(\"Reliability\",'Weighting Tables - HIDE SHEET'!$A$1:$A$9,FALSE),3)))/'Weighting Tables - HIDE SHEET'!$G$2)*10,0))","v":""}]
[null,null,null,null,null,null,{"$f":"IF(ISBLANK(B49),\"\",ROUND((SUM((IF(E49=\"Very Poor\",4,IF(E49=\"Poor\",3,IF(E49=\"Fair\",2,IF(E49=\"Good\",1,0))))*INDEX('Weighting Tables - HIDE SHEET'!$A$1:$C$9,MATCH(\"Current Condition\",'Weighting Tables - HIDE SHEET'!$A$1:$A$9,FALSE),3)),IF(F49=\"Yes\",1*INDEX('Weighting Tables - HIDE SHEET'!$A$1:$C$9,MATCH(\"Reliability\",'Weighting Tables - HIDE SHEET'!$A$1:$A$9,FALSE),3)))/'Weighting Tables - HIDE SHEET'!$G$2)*10,0))","v":""}]
[null,null,null,null,null,null,{"$f":"IF(ISBLANK(B50),\"\",ROUND((SUM((IF(E50=\"Very Poor\",4,IF(E50=\"Poor\",3,IF(E50=\"Fair\",2,IF(E50=\"Good\",1,0))))*INDEX('Weighting Tables - HIDE SHEET'!$A$1:$C$9,MATCH(\"Current Condition\",'Weighting Tables - HIDE SHEET'!$A$1:$A$9,FALSE),3)),IF(F50=\"Yes\",1*INDEX('Weighting Tables - HIDE SHEET'!$A$1:$C$9,MATCH(\"Reliability\",'Weighting Tables - HIDE SHEET'!$A$1:$A$9,FALSE),3)))/'Weighting Tables - HIDE SHEET'!$G$2)*10,0))","v":""}]
[null,null,null,null,null,null,{"$f":"IF(ISBLANK(B51),\"\",ROUND((SUM((IF(E51=\"Very Poor\",4,IF(E51=\"Poor\",3,IF(E51=\"Fair\",2,IF(E51=\"Good\",1,0))))*INDEX('Weighting Tables - HIDE SHEET'!$A$1:$C$9,MATCH(\"Current Condition\",'Weighting Tables - HIDE SHEET'!$A$1:$A$9,FALSE),3)),IF(F51=\"Yes\",1*INDEX('Weighting Tables - HIDE SHEET'!$A$1:$C$9,MATCH(\"Reliability\",'Weighting Tables - HIDE SHEET'!$A$1:$A$9,FALSE),3)))/'Weighting Tables - HIDE SHEET'!$G$2)*10,0))","v":""}]
[null,null,null,null,null,null,{"$f":"IF(ISBLANK(B52),\"\",ROUND((SUM((IF(E52=\"Very Poor\",4,IF(E52=\"Poor\",3,IF(E52=\"Fair\",2,IF(E52=\"Good\",1,0))))*INDEX('Weighting Tables - HIDE SHEET'!$A$1:$C$9,MATCH(\"Current Condition\",'Weighting Tables - HIDE SHEET'!$A$1:$A$9,FALSE),3)),IF(F52=\"Yes\",1*INDEX('Weighting Tables - HIDE SHEET'!$A$1:$C$9,MATCH(\"Reliability\",'Weighting Tables - HIDE SHEET'!$A$1:$A$9,FALSE),3)))/'Weighting Tables - HIDE SHEET'!$G$2)*10,0))","v":""}]
[null,null,null,null,null,null,{"$f":"IF(ISBLANK(B53),\"\",ROUND((SUM((IF(E53=\"Very Poor\",4,IF(E53=\"Poor\",3,IF(E53=\"Fair\",2,IF(E53=\"Good\",1,0))))*INDEX('Weighting Tables - HIDE SHEET'!$A$1:$C$9,MATCH(\"Current Condition\",'Weighting Tables - HIDE SHEET'!$A$1:$A$9,FALSE),3)),IF(F53=\"Yes\",1*INDEX('Weighting Tables - HIDE SHEET'!$A$1:$C$9,MATCH(\"Reliability\",'Weighting Tables - HIDE SHEET'!$A$1:$A$9,FALSE),3)))/'Weighting Tables - HIDE SHEET'!$G$2)*10,0))","v":""}]
[null,null,null,null,null,null,{"$f":"IF(ISBLANK(B54),\"\",ROUND((SUM((IF(E54=\"Very Poor\",4,IF(E54=\"Poor\",3,IF(E54=\"Fair\",2,IF(E54=\"Good\",1,0))))*INDEX('Weighting Tables - HIDE SHEET'!$A$1:$C$9,MATCH(\"Current Condition\",'Weighting Tables - HIDE SHEET'!$A$1:$A$9,FALSE),3)),IF(F54=\"Yes\",1*INDEX('Weighting Tables - HIDE SHEET'!$A$1:$C$9,MATCH(\"Reliability\",'Weighting Tables - HIDE SHEET'!$A$1:$A$9,FALSE),3)))/'Weighting Tables - HIDE SHEET'!$G$2)*10,0))","v":""}]
[null,null,null,null,null,null,{"$f":"IF(ISBLANK(B55),\"\",ROUND((SUM((IF(E55=\"Very Poor\",4,IF(E55=\"Poor\",3,IF(E55=\"Fair\",2,IF(E55=\"Good\",1,0))))*INDEX('Weighting Tables - HIDE SHEET'!$A$1:$C$9,MATCH(\"Current Condition\",'Weighting Tables - HIDE SHEET'!$A$1:$A$9,FALSE),3)),IF(F55=\"Yes\",1*INDEX('Weighting Tables - HIDE SHEET'!$A$1:$C$9,MATCH(\"Reliability\",'Weighting Tables - HIDE SHEET'!$A$1:$A$9,FALSE),3)))/'Weighting Tables - HIDE SHEET'!$G$2)*10,0))","v":""}]
[null,null,null,null,null,null,{"$f":"IF(ISBLANK(B56),\"\",ROUND((SUM((IF(E56=\"Very Poor\",4,IF(E56=\"Poor\",3,IF(E56=\"Fair\",2,IF(E56=\"Good\",1,0))))*INDEX('Weighting Tables - HIDE SHEET'!$A$1:$C$9,MATCH(\"Current Condition\",'Weighting Tables - HIDE SHEET'!$A$1:$A$9,FALSE),3)),IF(F56=\"Yes\",1*INDEX('Weighting Tables - HIDE SHEET'!$A$1:$C$9,MATCH(\"Reliability\",'Weighting Tables - HIDE SHEET'!$A$1:$A$9,FALSE),3)))/'Weighting Tables - HIDE SHEET'!$G$2)*10,0))","v":""}]
[null,null,null,null,null,null,{"$f":"IF(ISBLANK(B57),\"\",ROUND((SUM((IF(E57=\"Very Poor\",4,IF(E57=\"Poor\",3,IF(E57=\"Fair\",2,IF(E57=\"Good\",1,0))))*INDEX('Weighting Tables - HIDE SHEET'!$A$1:$C$9,MATCH(\"Current Condition\",'Weighting Tables - HIDE SHEET'!$A$1:$A$9,FALSE),3)),IF(F57=\"Yes\",1*INDEX('Weighting Tables - HIDE SHEET'!$A$1:$C$9,MATCH(\"Reliability\",'Weighting Tables - HIDE SHEET'!$A$1:$A$9,FALSE),3)))/'Weighting Tables - HIDE SHEET'!$G$2)*10,0))","v":""}]
[null,null,null,null,null,null,{"$f":"IF(ISBLANK(B58),\"\",ROUND((SUM((IF(E58=\"Very Poor\",4,IF(E58=\"Poor\",3,IF(E58=\"Fair\",2,IF(E58=\"Good\",1,0))))*INDEX('Weighting Tables - HIDE SHEET'!$A$1:$C$9,MATCH(\"Current Condition\",'Weighting Tables - HIDE SHEET'!$A$1:$A$9,FALSE),3)),IF(F58=\"Yes\",1*INDEX('Weighting Tables - HIDE SHEET'!$A$1:$C$9,MATCH(\"Reliability\",'Weighting Tables - HIDE SHEET'!$A$1:$A$9,FALSE),3)))/'Weighting Tables - HIDE SHEET'!$G$2)*10,0))","v":""}]
[null,null,null,null,null,null,{"$f":"IF(ISBLANK(B59),\"\",ROUND((SUM((IF(E59=\"Very Poor\",4,IF(E59=\"Poor\",3,IF(E59=\"Fair\",2,IF(E59=\"Good\",1,0))))*INDEX('Weighting Tables - HIDE SHEET'!$A$1:$C$9,MATCH(\"Current Condition\",'Weighting Tables - HIDE SHEET'!$A$1:$A$9,FALSE),3)),IF(F59=\"Yes\",1*INDEX('Weighting Tables - HIDE SHEET'!$A$1:$C$9,MATCH(\"Reliability\",'Weighting Tables - HIDE SHEET'!$A$1:$A$9,FALSE),3)))/'Weighting Tables - HIDE SHEET'!$G$2)*10,0))","v":""}]
[null,null,null,null,null,null,{"$f":"IF(ISBLANK(B60),\"\",ROUND((SUM((IF(E60=\"Very Poor\",4,IF(E60=\"Poor\",3,IF(E60=\"Fair\",2,IF(E60=\"Good\",1,0))))*INDEX('Weighting Tables - HIDE SHEET'!$A$1:$C$9,MATCH(\"Current Condition\",'Weighting Tables - HIDE SHEET'!$A$1:$A$9,FALSE),3)),IF(F60=\"Yes\",1*INDEX('Weighting Tables - HIDE SHEET'!$A$1:$C$9,MATCH(\"Reliability\",'Weighting Tables - HIDE SHEET'!$A$1:$A$9,FALSE),3)))/'Weighting Tables - HIDE SHEET'!$G$2)*10,0))","v":""}]
[null,null,null,null,null,null,{"$f":"IF(ISBLANK(B61),\"\",ROUND((SUM((IF(E61=\"Very Poor\",4,IF(E61=\"Poor\",3,IF(E61=\"Fair\",2,IF(E61=\"Good\",1,0))))*INDEX('Weighting Tables - HIDE SHEET'!$A$1:$C$9,MATCH(\"Current Condition\",'Weighting Tables - HIDE SHEET'!$A$1:$A$9,FALSE),3)),IF(F61=\"Yes\",1*INDEX('Weighting Tables - HIDE SHEET'!$A$1:$C$9,MATCH(\"Reliability\",'Weighting Tables - HIDE SHEET'!$A$1:$A$9,FALSE),3)))/'Weighting Tables - HIDE SHEET'!$G$2)*10,0))","v":""}]
[null,null,null,null,null,null,{"$f":"IF(ISBLANK(B62),\"\",ROUND((SUM((IF(E62=\"Very Poor\",4,IF(E62=\"Poor\",3,IF(E62=\"Fair\",2,IF(E62=\"Good\",1,0))))*INDEX('Weighting Tables - HIDE SHEET'!$A$1:$C$9,MATCH(\"Current Condition\",'Weighting Tables - HIDE SHEET'!$A$1:$A$9,FALSE),3)),IF(F62=\"Yes\",1*INDEX('Weighting Tables - HIDE SHEET'!$A$1:$C$9,MATCH(\"Reliability\",'Weighting Tables - HIDE SHEET'!$A$1:$A$9,FALSE),3)))/'Weighting Tables - HIDE SHEET'!$G$2)*10,0))","v":""}]
[null,null,null,null,null,null,{"$f":"IF(ISBLANK(B63),\"\",ROUND((SUM((IF(E63=\"Very Poor\",4,IF(E63=\"Poor\",3,IF(E63=\"Fair\",2,IF(E63=\"Good\",1,0))))*INDEX('Weighting Tables - HIDE SHEET'!$A$1:$C$9,MATCH(\"Current Condition\",'Weighting Tables - HIDE SHEET'!$A$1:$A$9,FALSE),3)),IF(F63=\"Yes\",1*INDEX('Weighting Tables - HIDE SHEET'!$A$1:$C$9,MATCH(\"Reliability\",'Weighting Tables - HIDE SHEET'!$A$1:$A$9,FALSE),3)))/'Weighting Tables - HIDE SHEET'!$G$2)*10,0))","v":""}]
[null,null,null,null,null,null,{"$f":"IF(ISBLANK(B64),\"\",ROUND((SUM((IF(E64=\"Very Poor\",4,IF(E64=\"Poor\",3,IF(E64=\"Fair\",2,IF(E64=\"Good\",1,0))))*INDEX('Weighting Tables - HIDE SHEET'!$A$1:$C$9,MATCH(\"Current Condition\",'Weighting Tables - HIDE SHEET'!$A$1:$A$9,FALSE),3)),IF(F64=\"Yes\",1*INDEX('Weighting Tables - HIDE SHEET'!$A$1:$C$9,MATCH(\"Reliability\",'Weighting Tables - HIDE SHEET'!$A$1:$A$9,FALSE),3)))/'Weighting Tables - HIDE SHEET'!$G$2)*10,0))","v":""}]
[null,null,null,null,null,null,{"$f":"IF(ISBLANK(B65),\"\",ROUND((SUM((IF(E65=\"Very Poor\",4,IF(E65=\"Poor\",3,IF(E65=\"Fair\",2,IF(E65=\"Good\",1,0))))*INDEX('Weighting Tables - HIDE SHEET'!$A$1:$C$9,MATCH(\"Current Condition\",'Weighting Tables - HIDE SHEET'!$A$1:$A$9,FALSE),3)),IF(F65=\"Yes\",1*INDEX('Weighting Tables - HIDE SHEET'!$A$1:$C$9,MATCH(\"Reliability\",'Weighting Tables - HIDE SHEET'!$A$1:$A$9,FALSE),3)))/'Weighting Tables - HIDE SHEET'!$G$2)*10,0))","v":""}]
[null,null,null,null,null,null,{"$f":"IF(ISBLANK(B66),\"\",ROUND((SUM((IF(E66=\"Very Poor\",4,IF(E66=\"Poor\",3,IF(E66=\"Fair\",2,IF(E66=\"Good\",1,0))))*INDEX('Weighting Tables - HIDE SHEET'!$A$1:$C$9,MATCH(\"Current Condition\",'Weighting Tables - HIDE SHEET'!$A$1:$A$9,FALSE),3)),IF(F66=\"Yes\",1*INDEX('Weighting Tables - HIDE SHEET'!$A$1:$C$9,MATCH(\"Reliability\",'Weighting Tables - HIDE SHEET'!$A$1:$A$9,FALSE),3)))/'Weighting Tables - HIDE SHEET'!$G$2)*10,0))","v":""}]
[null,null,null,null,null,null,{"$f":"IF(ISBLANK(B67),\"\",ROUND((SUM((IF(E67=\"Very Poor\",4,IF(E67=\"Poor\",3,IF(E67=\"Fair\",2,IF(E67=\"Good\",1,0))))*INDEX('Weighting Tables - HIDE SHEET'!$A$1:$C$9,MATCH(\"Current Condition\",'Weighting Tables - HIDE SHEET'!$A$1:$A$9,FALSE),3)),IF(F67=\"Yes\",1*INDEX('Weighting Tables - HIDE SHEET'!$A$1:$C$9,MATCH(\"Reliability\",'Weighting Tables - HIDE SHEET'!$A$1:$A$9,FALSE),3)))/'Weighting Tables - HIDE SHEET'!$G$2)*10,0))","v":""}]
[null,null,null,null,null,null,{"$f":"IF(ISBLANK(B68),\"\",ROUND((SUM((IF(E68=\"Very Poor\",4,IF(E68=\"Poor\",3,IF(E68=\"Fair\",2,IF(E68=\"Good\",1,0))))*INDEX('Weighting Tables - HIDE SHEET'!$A$1:$C$9,MATCH(\"Current Condition\",'Weighting Tables - HIDE SHEET'!$A$1:$A$9,FALSE),3)),IF(F68=\"Yes\",1*INDEX('Weighting Tables - HIDE SHEET'!$A$1:$C$9,MATCH(\"Reliability\",'Weighting Tables - HIDE SHEET'!$A$1:$A$9,FALSE),3)))/'Weighting Tables - HIDE SHEET'!$G$2)*10,0))","v":""}]
[null,null,null,null,null,null,{"$f":"IF(ISBLANK(B69),\"\",ROUND((SUM((IF(E69=\"Very Poor\",4,IF(E69=\"Poor\",3,IF(E69=\"Fair\",2,IF(E69=\"Good\",1,0))))*INDEX('Weighting Tables - HIDE SHEET'!$A$1:$C$9,MATCH(\"Current Condition\",'Weighting Tables - HIDE SHEET'!$A$1:$A$9,FALSE),3)),IF(F69=\"Yes\",1*INDEX('Weighting Tables - HIDE SHEET'!$A$1:$C$9,MATCH(\"Reliability\",'Weighting Tables - HIDE SHEET'!$A$1:$A$9,FALSE),3)))/'Weighting Tables - HIDE SHEET'!$G$2)*10,0))","v":""}]
[null,null,null,null,null,null,{"$f":"IF(ISBLANK(B70),\"\",ROUND((SUM((IF(E70=\"Very Poor\",4,IF(E70=\"Poor\",3,IF(E70=\"Fair\",2,IF(E70=\"Good\",1,0))))*INDEX('Weighting Tables - HIDE SHEET'!$A$1:$C$9,MATCH(\"Current Condition\",'Weighting Tables - HIDE SHEET'!$A$1:$A$9,FALSE),3)),IF(F70=\"Yes\",1*INDEX('Weighting Tables - HIDE SHEET'!$A$1:$C$9,MATCH(\"Reliability\",'Weighting Tables - HIDE SHEET'!$A$1:$A$9,FALSE),3)))/'Weighting Tables - HIDE SHEET'!$G$2)*10,0))","v":""}]
[null,null,null,null,null,null,{"$f":"IF(ISBLANK(B71),\"\",ROUND((SUM((IF(E71=\"Very Poor\",4,IF(E71=\"Poor\",3,IF(E71=\"Fair\",2,IF(E71=\"Good\",1,0))))*INDEX('Weighting Tables - HIDE SHEET'!$A$1:$C$9,MATCH(\"Current Condition\",'Weighting Tables - HIDE SHEET'!$A$1:$A$9,FALSE),3)),IF(F71=\"Yes\",1*INDEX('Weighting Tables - HIDE SHEET'!$A$1:$C$9,MATCH(\"Reliability\",'Weighting Tables - HIDE SHEET'!$A$1:$A$9,FALSE),3)))/'Weighting Tables - HIDE SHEET'!$G$2)*10,0))","v":""}]
[null,null,null,null,null,null,{"$f":"IF(ISBLANK(B72),\"\",ROUND((SUM((IF(E72=\"Very Poor\",4,IF(E72=\"Poor\",3,IF(E72=\"Fair\",2,IF(E72=\"Good\",1,0))))*INDEX('Weighting Tables - HIDE SHEET'!$A$1:$C$9,MATCH(\"Current Condition\",'Weighting Tables - HIDE SHEET'!$A$1:$A$9,FALSE),3)),IF(F72=\"Yes\",1*INDEX('Weighting Tables - HIDE SHEET'!$A$1:$C$9,MATCH(\"Reliability\",'Weighting Tables - HIDE SHEET'!$A$1:$A$9,FALSE),3)))/'Weighting Tables - HIDE SHEET'!$G$2)*10,0))","v":""}]
[null,null,null,null,null,null,{"$f":"IF(ISBLANK(B73),\"\",ROUND((SUM((IF(E73=\"Very Poor\",4,IF(E73=\"Poor\",3,IF(E73=\"Fair\",2,IF(E73=\"Good\",1,0))))*INDEX('Weighting Tables - HIDE SHEET'!$A$1:$C$9,MATCH(\"Current Condition\",'Weighting Tables - HIDE SHEET'!$A$1:$A$9,FALSE),3)),IF(F73=\"Yes\",1*INDEX('Weighting Tables - HIDE SHEET'!$A$1:$C$9,MATCH(\"Reliability\",'Weighting Tables - HIDE SHEET'!$A$1:$A$9,FALSE),3)))/'Weighting Tables - HIDE SHEET'!$G$2)*10,0))","v":""}]
[null,null,null,null,null,null,{"$f":"IF(ISBLANK(B74),\"\",ROUND((SUM((IF(E74=\"Very Poor\",4,IF(E74=\"Poor\",3,IF(E74=\"Fair\",2,IF(E74=\"Good\",1,0))))*INDEX('Weighting Tables - HIDE SHEET'!$A$1:$C$9,MATCH(\"Current Condition\",'Weighting Tables - HIDE SHEET'!$A$1:$A$9,FALSE),3)),IF(F74=\"Yes\",1*INDEX('Weighting Tables - HIDE SHEET'!$A$1:$C$9,MATCH(\"Reliability\",'Weighting Tables - HIDE SHEET'!$A$1:$A$9,FALSE),3)))/'Weighting Tables - HIDE SHEET'!$G$2)*10,0))","v":""}]
[null,null,null,null,null,null,{"$f":"IF(ISBLANK(B75),\"\",ROUND((SUM((IF(E75=\"Very Poor\",4,IF(E75=\"Poor\",3,IF(E75=\"Fair\",2,IF(E75=\"Good\",1,0))))*INDEX('Weighting Tables - HIDE SHEET'!$A$1:$C$9,MATCH(\"Current Condition\",'Weighting Tables - HIDE SHEET'!$A$1:$A$9,FALSE),3)),IF(F75=\"Yes\",1*INDEX('Weighting Tables - HIDE SHEET'!$A$1:$C$9,MATCH(\"Reliability\",'Weighting Tables - HIDE SHEET'!$A$1:$A$9,FALSE),3)))/'Weighting Tables - HIDE SHEET'!$G$2)*10,0))","v":""}]
[null,null,null,null,null,null,{"$f":"IF(ISBLANK(B76),\"\",ROUND((SUM((IF(E76=\"Very Poor\",4,IF(E76=\"Poor\",3,IF(E76=\"Fair\",2,IF(E76=\"Good\",1,0))))*INDEX('Weighting Tables - HIDE SHEET'!$A$1:$C$9,MATCH(\"Current Condition\",'Weighting Tables - HIDE SHEET'!$A$1:$A$9,FALSE),3)),IF(F76=\"Yes\",1*INDEX('Weighting Tables - HIDE SHEET'!$A$1:$C$9,MATCH(\"Reliability\",'Weighting Tables - HIDE SHEET'!$A$1:$A$9,FALSE),3)))/'Weighting Tables - HIDE SHEET'!$G$2)*10,0))","v":""}]
[null,null,null,null,null,null,{"$f":"IF(ISBLANK(B77),\"\",ROUND((SUM((IF(E77=\"Very Poor\",4,IF(E77=\"Poor\",3,IF(E77=\"Fair\",2,IF(E77=\"Good\",1,0))))*INDEX('Weighting Tables - HIDE SHEET'!$A$1:$C$9,MATCH(\"Current Condition\",'Weighting Tables - HIDE SHEET'!$A$1:$A$9,FALSE),3)),IF(F77=\"Yes\",1*INDEX('Weighting Tables - HIDE SHEET'!$A$1:$C$9,MATCH(\"Reliability\",'Weighting Tables - HIDE SHEET'!$A$1:$A$9,FALSE),3)))/'Weighting Tables - HIDE SHEET'!$G$2)*10,0))","v":""}]
[null,null,null,null,null,null,{"$f":"IF(ISBLANK(B78),\"\",ROUND((SUM((IF(E78=\"Very Poor\",4,IF(E78=\"Poor\",3,IF(E78=\"Fair\",2,IF(E78=\"Good\",1,0))))*INDEX('Weighting Tables - HIDE SHEET'!$A$1:$C$9,MATCH(\"Current Condition\",'Weighting Tables - HIDE SHEET'!$A$1:$A$9,FALSE),3)),IF(F78=\"Yes\",1*INDEX('Weighting Tables - HIDE SHEET'!$A$1:$C$9,MATCH(\"Reliability\",'Weighting Tables - HIDE SHEET'!$A$1:$A$9,FALSE),3)))/'Weighting Tables - HIDE SHEET'!$G$2)*10,0))","v":""}]
[null,null,null,null,null,null,{"$f":"IF(ISBLANK(B79),\"\",ROUND((SUM((IF(E79=\"Very Poor\",4,IF(E79=\"Poor\",3,IF(E79=\"Fair\",2,IF(E79=\"Good\",1,0))))*INDEX('Weighting Tables - HIDE SHEET'!$A$1:$C$9,MATCH(\"Current Condition\",'Weighting Tables - HIDE SHEET'!$A$1:$A$9,FALSE),3)),IF(F79=\"Yes\",1*INDEX('Weighting Tables - HIDE SHEET'!$A$1:$C$9,MATCH(\"Reliability\",'Weighting Tables - HIDE SHEET'!$A$1:$A$9,FALSE),3)))/'Weighting Tables - HIDE SHEET'!$G$2)*10,0))","v":""}]
[null,null,null,null,null,null,{"$f":"IF(ISBLANK(B80),\"\",ROUND((SUM((IF(E80=\"Very Poor\",4,IF(E80=\"Poor\",3,IF(E80=\"Fair\",2,IF(E80=\"Good\",1,0))))*INDEX('Weighting Tables - HIDE SHEET'!$A$1:$C$9,MATCH(\"Current Condition\",'Weighting Tables - HIDE SHEET'!$A$1:$A$9,FALSE),3)),IF(F80=\"Yes\",1*INDEX('Weighting Tables - HIDE SHEET'!$A$1:$C$9,MATCH(\"Reliability\",'Weighting Tables - HIDE SHEET'!$A$1:$A$9,FALSE),3)))/'Weighting Tables - HIDE SHEET'!$G$2)*10,0))","v":""}]
[null,null,null,null,null,null,{"$f":"IF(ISBLANK(B81),\"\",ROUND((SUM((IF(E81=\"Very Poor\",4,IF(E81=\"Poor\",3,IF(E81=\"Fair\",2,IF(E81=\"Good\",1,0))))*INDEX('Weighting Tables - HIDE SHEET'!$A$1:$C$9,MATCH(\"Current Condition\",'Weighting Tables - HIDE SHEET'!$A$1:$A$9,FALSE),3)),IF(F81=\"Yes\",1*INDEX('Weighting Tables - HIDE SHEET'!$A$1:$C$9,MATCH(\"Reliability\",'Weighting Tables - HIDE SHEET'!$A$1:$A$9,FALSE),3)))/'Weighting Tables - HIDE SHEET'!$G$2)*10,0))","v":""}]
[null,null,null,null,null,null,{"$f":"IF(ISBLANK(B82),\"\",ROUND((SUM((IF(E82=\"Very Poor\",4,IF(E82=\"Poor\",3,IF(E82=\"Fair\",2,IF(E82=\"Good\",1,0))))*INDEX('Weighting Tables - HIDE SHEET'!$A$1:$C$9,MATCH(\"Current Condition\",'Weighting Tables - HIDE SHEET'!$A$1:$A$9,FALSE),3)),IF(F82=\"Yes\",1*INDEX('Weighting Tables - HIDE SHEET'!$A$1:$C$9,MATCH(\"Reliability\",'Weighting Tables - HIDE SHEET'!$A$1:$A$9,FALSE),3)))/'Weighting Tables - HIDE SHEET'!$G$2)*10,0))","v":""}]
[null,null,null,null,null,null,{"$f":"IF(ISBLANK(B83),\"\",ROUND((SUM((IF(E83=\"Very Poor\",4,IF(E83=\"Poor\",3,IF(E83=\"Fair\",2,IF(E83=\"Good\",1,0))))*INDEX('Weighting Tables - HIDE SHEET'!$A$1:$C$9,MATCH(\"Current Condition\",'Weighting Tables - HIDE SHEET'!$A$1:$A$9,FALSE),3)),IF(F83=\"Yes\",1*INDEX('Weighting Tables - HIDE SHEET'!$A$1:$C$9,MATCH(\"Reliability\",'Weighting Tables - HIDE SHEET'!$A$1:$A$9,FALSE),3)))/'Weighting Tables - HIDE SHEET'!$G$2)*10,0))","v":""}]
[null,null,null,null,null,null,{"$f":"IF(ISBLANK(B84),\"\",ROUND((SUM((IF(E84=\"Very Poor\",4,IF(E84=\"Poor\",3,IF(E84=\"Fair\",2,IF(E84=\"Good\",1,0))))*INDEX('Weighting Tables - HIDE SHEET'!$A$1:$C$9,MATCH(\"Current Condition\",'Weighting Tables - HIDE SHEET'!$A$1:$A$9,FALSE),3)),IF(F84=\"Yes\",1*INDEX('Weighting Tables - HIDE SHEET'!$A$1:$C$9,MATCH(\"Reliability\",'Weighting Tables - HIDE SHEET'!$A$1:$A$9,FALSE),3)))/'Weighting Tables - HIDE SHEET'!$G$2)*10,0))","v":""}]
[null,null,null,null,null,null,{"$f":"IF(ISBLANK(B85),\"\",ROUND((SUM((IF(E85=\"Very Poor\",4,IF(E85=\"Poor\",3,IF(E85=\"Fair\",2,IF(E85=\"Good\",1,0))))*INDEX('Weighting Tables - HIDE SHEET'!$A$1:$C$9,MATCH(\"Current Condition\",'Weighting Tables - HIDE SHEET'!$A$1:$A$9,FALSE),3)),IF(F85=\"Yes\",1*INDEX('Weighting Tables - HIDE SHEET'!$A$1:$C$9,MATCH(\"Reliability\",'Weighting Tables - HIDE SHEET'!$A$1:$A$9,FALSE),3)))/'Weighting Tables - HIDE SHEET'!$G$2)*10,0))","v":""}]
[null,null,null,null,null,null,{"$f":"IF(ISBLANK(B86),\"\",ROUND((SUM((IF(E86=\"Very Poor\",4,IF(E86=\"Poor\",3,IF(E86=\"Fair\",2,IF(E86=\"Good\",1,0))))*INDEX('Weighting Tables - HIDE SHEET'!$A$1:$C$9,MATCH(\"Current Condition\",'Weighting Tables - HIDE SHEET'!$A$1:$A$9,FALSE),3)),IF(F86=\"Yes\",1*INDEX('Weighting Tables - HIDE SHEET'!$A$1:$C$9,MATCH(\"Reliability\",'Weighting Tables - HIDE SHEET'!$A$1:$A$9,FALSE),3)))/'Weighting Tables - HIDE SHEET'!$G$2)*10,0))","v":""}]
[null,null,null,null,null,null,{"$f":"IF(ISBLANK(B87),\"\",ROUND((SUM((IF(E87=\"Very Poor\",4,IF(E87=\"Poor\",3,IF(E87=\"Fair\",2,IF(E87=\"Good\",1,0))))*INDEX('Weighting Tables - HIDE SHEET'!$A$1:$C$9,MATCH(\"Current Condition\",'Weighting Tables - HIDE SHEET'!$A$1:$A$9,FALSE),3)),IF(F87=\"Yes\",1*INDEX('Weighting Tables - HIDE SHEET'!$A$1:$C$9,MATCH(\"Reliability\",'Weighting Tables - HIDE SHEET'!$A$1:$A$9,FALSE),3)))/'Weighting Tables - HIDE SHEET'!$G$2)*10,0))","v":""}]
[null,null,null,null,null,null,{"$f":"IF(ISBLANK(B88),\"\",ROUND((SUM((IF(E88=\"Very Poor\",4,IF(E88=\"Poor\",3,IF(E88=\"Fair\",2,IF(E88=\"Good\",1,0))))*INDEX('Weighting Tables - HIDE SHEET'!$A$1:$C$9,MATCH(\"Current Condition\",'Weighting Tables - HIDE SHEET'!$A$1:$A$9,FALSE),3)),IF(F88=\"Yes\",1*INDEX('Weighting Tables - HIDE SHEET'!$A$1:$C$9,MATCH(\"Reliability\",'Weighting Tables - HIDE SHEET'!$A$1:$A$9,FALSE),3)))/'Weighting Tables - HIDE SHEET'!$G$2)*10,0))","v":""}]
[null,null,null,null,null,null,{"$f":"IF(ISBLANK(B89),\"\",ROUND((SUM((IF(E89=\"Very Poor\",4,IF(E89=\"Poor\",3,IF(E89=\"Fair\",2,IF(E89=\"Good\",1,0))))*INDEX('Weighting Tables - HIDE SHEET'!$A$1:$C$9,MATCH(\"Current Condition\",'Weighting Tables - HIDE SHEET'!$A$1:$A$9,FALSE),3)),IF(F89=\"Yes\",1*INDEX('Weighting Tables - HIDE SHEET'!$A$1:$C$9,MATCH(\"Reliability\",'Weighting Tables - HIDE SHEET'!$A$1:$A$9,FALSE),3)))/'Weighting Tables - HIDE SHEET'!$G$2)*10,0))","v":""}]
[null,null,null,null,null,null,{"$f":"IF(ISBLANK(B90),\"\",ROUND((SUM((IF(E90=\"Very Poor\",4,IF(E90=\"Poor\",3,IF(E90=\"Fair\",2,IF(E90=\"Good\",1,0))))*INDEX('Weighting Tables - HIDE SHEET'!$A$1:$C$9,MATCH(\"Current Condition\",'Weighting Tables - HIDE SHEET'!$A$1:$A$9,FALSE),3)),IF(F90=\"Yes\",1*INDEX('Weighting Tables - HIDE SHEET'!$A$1:$C$9,MATCH(\"Reliability\",'Weighting Tables - HIDE SHEET'!$A$1:$A$9,FALSE),3)))/'Weighting Tables - HIDE SHEET'!$G$2)*10,0))","v":""}]
[null,null,null,null,null,null,{"$f":"IF(ISBLANK(B91),\"\",ROUND((SUM((IF(E91=\"Very Poor\",4,IF(E91=\"Poor\",3,IF(E91=\"Fair\",2,IF(E91=\"Good\",1,0))))*INDEX('Weighting Tables - HIDE SHEET'!$A$1:$C$9,MATCH(\"Current Condition\",'Weighting Tables - HIDE SHEET'!$A$1:$A$9,FALSE),3)),IF(F91=\"Yes\",1*INDEX('Weighting Tables - HIDE SHEET'!$A$1:$C$9,MATCH(\"Reliability\",'Weighting Tables - HIDE SHEET'!$A$1:$A$9,FALSE),3)))/'Weighting Tables - HIDE SHEET'!$G$2)*10,0))","v":""}]
[null,null,null,null,null,null,{"$f":"IF(ISBLANK(B92),\"\",ROUND((SUM((IF(E92=\"Very Poor\",4,IF(E92=\"Poor\",3,IF(E92=\"Fair\",2,IF(E92=\"Good\",1,0))))*INDEX('Weighting Tables - HIDE SHEET'!$A$1:$C$9,MATCH(\"Current Condition\",'Weighting Tables - HIDE SHEET'!$A$1:$A$9,FALSE),3)),IF(F92=\"Yes\",1*INDEX('Weighting Tables - HIDE SHEET'!$A$1:$C$9,MATCH(\"Reliability\",'Weighting Tables - HIDE SHEET'!$A$1:$A$9,FALSE),3)))/'Weighting Tables - HIDE SHEET'!$G$2)*10,0))","v":""}]
[null,null,null,null,null,null,{"$f":"IF(ISBLANK(B93),\"\",ROUND((SUM((IF(E93=\"Very Poor\",4,IF(E93=\"Poor\",3,IF(E93=\"Fair\",2,IF(E93=\"Good\",1,0))))*INDEX('Weighting Tables - HIDE SHEET'!$A$1:$C$9,MATCH(\"Current Condition\",'Weighting Tables - HIDE SHEET'!$A$1:$A$9,FALSE),3)),IF(F93=\"Yes\",1*INDEX('Weighting Tables - HIDE SHEET'!$A$1:$C$9,MATCH(\"Reliability\",'Weighting Tables - HIDE SHEET'!$A$1:$A$9,FALSE),3)))/'Weighting Tables - HIDE SHEET'!$G$2)*10,0))","v":""}]
[null,null,null,null,null,null,{"$f":"IF(ISBLANK(B94),\"\",ROUND((SUM((IF(E94=\"Very Poor\",4,IF(E94=\"Poor\",3,IF(E94=\"Fair\",2,IF(E94=\"Good\",1,0))))*INDEX('Weighting Tables - HIDE SHEET'!$A$1:$C$9,MATCH(\"Current Condition\",'Weighting Tables - HIDE SHEET'!$A$1:$A$9,FALSE),3)),IF(F94=\"Yes\",1*INDEX('Weighting Tables - HIDE SHEET'!$A$1:$C$9,MATCH(\"Reliability\",'Weighting Tables - HIDE SHEET'!$A$1:$A$9,FALSE),3)))/'Weighting Tables - HIDE SHEET'!$G$2)*10,0))","v":""}]
[null,null,null,null,null,null,{"$f":"IF(ISBLANK(B95),\"\",ROUND((SUM((IF(E95=\"Very Poor\",4,IF(E95=\"Poor\",3,IF(E95=\"Fair\",2,IF(E95=\"Good\",1,0))))*INDEX('Weighting Tables - HIDE SHEET'!$A$1:$C$9,MATCH(\"Current Condition\",'Weighting Tables - HIDE SHEET'!$A$1:$A$9,FALSE),3)),IF(F95=\"Yes\",1*INDEX('Weighting Tables - HIDE SHEET'!$A$1:$C$9,MATCH(\"Reliability\",'Weighting Tables - HIDE SHEET'!$A$1:$A$9,FALSE),3)))/'Weighting Tables - HIDE SHEET'!$G$2)*10,0))","v":""}]
[null,null,null,null,null,null,{"$f":"IF(ISBLANK(B96),\"\",ROUND((SUM((IF(E96=\"Very Poor\",4,IF(E96=\"Poor\",3,IF(E96=\"Fair\",2,IF(E96=\"Good\",1,0))))*INDEX('Weighting Tables - HIDE SHEET'!$A$1:$C$9,MATCH(\"Current Condition\",'Weighting Tables - HIDE SHEET'!$A$1:$A$9,FALSE),3)),IF(F96=\"Yes\",1*INDEX('Weighting Tables - HIDE SHEET'!$A$1:$C$9,MATCH(\"Reliability\",'Weighting Tables - HIDE SHEET'!$A$1:$A$9,FALSE),3)))/'Weighting Tables - HIDE SHEET'!$G$2)*10,0))","v":""}]
[null,null,null,null,null,null,{"$f":"IF(ISBLANK(B97),\"\",ROUND((SUM((IF(E97=\"Very Poor\",4,IF(E97=\"Poor\",3,IF(E97=\"Fair\",2,IF(E97=\"Good\",1,0))))*INDEX('Weighting Tables - HIDE SHEET'!$A$1:$C$9,MATCH(\"Current Condition\",'Weighting Tables - HIDE SHEET'!$A$1:$A$9,FALSE),3)),IF(F97=\"Yes\",1*INDEX('Weighting Tables - HIDE SHEET'!$A$1:$C$9,MATCH(\"Reliability\",'Weighting Tables - HIDE SHEET'!$A$1:$A$9,FALSE),3)))/'Weighting Tables - HIDE SHEET'!$G$2)*10,0))","v":""}]
[null,null,null,null,null,null,{"$f":"IF(ISBLANK(B98),\"\",ROUND((SUM((IF(E98=\"Very Poor\",4,IF(E98=\"Poor\",3,IF(E98=\"Fair\",2,IF(E98=\"Good\",1,0))))*INDEX('Weighting Tables - HIDE SHEET'!$A$1:$C$9,MATCH(\"Current Condition\",'Weighting Tables - HIDE SHEET'!$A$1:$A$9,FALSE),3)),IF(F98=\"Yes\",1*INDEX('Weighting Tables - HIDE SHEET'!$A$1:$C$9,MATCH(\"Reliability\",'Weighting Tables - HIDE SHEET'!$A$1:$A$9,FALSE),3)))/'Weighting Tables - HIDE SHEET'!$G$2)*10,0))","v":""}]
[null,null,null,null,null,null,{"$f":"IF(ISBLANK(B99),\"\",ROUND((SUM((IF(E99=\"Very Poor\",4,IF(E99=\"Poor\",3,IF(E99=\"Fair\",2,IF(E99=\"Good\",1,0))))*INDEX('Weighting Tables - HIDE SHEET'!$A$1:$C$9,MATCH(\"Current Condition\",'Weighting Tables - HIDE SHEET'!$A$1:$A$9,FALSE),3)),IF(F99=\"Yes\",1*INDEX('Weighting Tables - HIDE SHEET'!$A$1:$C$9,MATCH(\"Reliability\",'Weighting Tables - HIDE SHEET'!$A$1:$A$9,FALSE),3)))/'Weighting Tables - HIDE SHEET'!$G$2)*10,0))","v":""}]
[null,null,null,null,null,null,{"$f":"IF(ISBLANK(B100),\"\",ROUND((SUM((IF(E100=\"Very Poor\",4,IF(E100=\"Poor\",3,IF(E100=\"Fair\",2,IF(E100=\"Good\",1,0))))*INDEX('Weighting Tables - HIDE SHEET'!$A$1:$C$9,MATCH(\"Current Condition\",'Weighting Tables - HIDE SHEET'!$A$1:$A$9,FALSE),3)),IF(F100=\"Yes\",1*INDEX('Weighting Tables - HIDE SHEET'!$A$1:$C$9,MATCH(\"Reliability\",'Weighting Tables - HIDE SHEET'!$A$1:$A$9,FALSE),3)))/'Weighting Tables - HIDE SHEET'!$G$2)*10,0))","v":""}]
[null,null,null,null,null,null,{"$f":"IF(ISBLANK(B101),\"\",ROUND((SUM((IF(E101=\"Very Poor\",4,IF(E101=\"Poor\",3,IF(E101=\"Fair\",2,IF(E101=\"Good\",1,0))))*INDEX('Weighting Tables - HIDE SHEET'!$A$1:$C$9,MATCH(\"Current Condition\",'Weighting Tables - HIDE SHEET'!$A$1:$A$9,FALSE),3)),IF(F101=\"Yes\",1*INDEX('Weighting Tables - HIDE SHEET'!$A$1:$C$9,MATCH(\"Reliability\",'Weighting Tables - HIDE SHEET'!$A$1:$A$9,FALSE),3)))/'Weighting Tables - HIDE SHEET'!$G$2)*10,0))","v":""}]
[null,null,null,null,null,null,{"$f":"IF(ISBLANK(B102),\"\",ROUND((SUM((IF(E102=\"Very Poor\",4,IF(E102=\"Poor\",3,IF(E102=\"Fair\",2,IF(E102=\"Good\",1,0))))*INDEX('Weighting Tables - HIDE SHEET'!$A$1:$C$9,MATCH(\"Current Condition\",'Weighting Tables - HIDE SHEET'!$A$1:$A$9,FALSE),3)),IF(F102=\"Yes\",1*INDEX('Weighting Tables - HIDE SHEET'!$A$1:$C$9,MATCH(\"Reliability\",'Weighting Tables - HIDE SHEET'!$A$1:$A$9,FALSE),3)))/'Weighting Tables - HIDE SHEET'!$G$2)*10,0))","v":""}]
[null,null,null,null,null,null,{"$f":"IF(ISBLANK(B103),\"\",ROUND((SUM((IF(E103=\"Very Poor\",4,IF(E103=\"Poor\",3,IF(E103=\"Fair\",2,IF(E103=\"Good\",1,0))))*INDEX('Weighting Tables - HIDE SHEET'!$A$1:$C$9,MATCH(\"Current Condition\",'Weighting Tables - HIDE SHEET'!$A$1:$A$9,FALSE),3)),IF(F103=\"Yes\",1*INDEX('Weighting Tables - HIDE SHEET'!$A$1:$C$9,MATCH(\"Reliability\",'Weighting Tables - HIDE SHEET'!$A$1:$A$9,FALSE),3)))/'Weighting Tables - HIDE SHEET'!$G$2)*10,0))","v":""}]
[null,null,null,null,null,null,{"$f":"IF(ISBLANK(B104),\"\",ROUND((SUM((IF(E104=\"Very Poor\",4,IF(E104=\"Poor\",3,IF(E104=\"Fair\",2,IF(E104=\"Good\",1,0))))*INDEX('Weighting Tables - HIDE SHEET'!$A$1:$C$9,MATCH(\"Current Condition\",'Weighting Tables - HIDE SHEET'!$A$1:$A$9,FALSE),3)),IF(F104=\"Yes\",1*INDEX('Weighting Tables - HIDE SHEET'!$A$1:$C$9,MATCH(\"Reliability\",'Weighting Tables - HIDE SHEET'!$A$1:$A$9,FALSE),3)))/'Weighting Tables - HIDE SHEET'!$G$2)*10,0))","v":""}]
[null,null,null,null,null,null,{"$f":"IF(ISBLANK(B105),\"\",ROUND((SUM((IF(E105=\"Very Poor\",4,IF(E105=\"Poor\",3,IF(E105=\"Fair\",2,IF(E105=\"Good\",1,0))))*INDEX('Weighting Tables - HIDE SHEET'!$A$1:$C$9,MATCH(\"Current Condition\",'Weighting Tables - HIDE SHEET'!$A$1:$A$9,FALSE),3)),IF(F105=\"Yes\",1*INDEX('Weighting Tables - HIDE SHEET'!$A$1:$C$9,MATCH(\"Reliability\",'Weighting Tables - HIDE SHEET'!$A$1:$A$9,FALSE),3)))/'Weighting Tables - HIDE SHEET'!$G$2)*10,0))","v":""}]
[null,null,null,null,null,null,{"$f":"IF(ISBLANK(B106),\"\",ROUND((SUM((IF(E106=\"Very Poor\",4,IF(E106=\"Poor\",3,IF(E106=\"Fair\",2,IF(E106=\"Good\",1,0))))*INDEX('Weighting Tables - HIDE SHEET'!$A$1:$C$9,MATCH(\"Current Condition\",'Weighting Tables - HIDE SHEET'!$A$1:$A$9,FALSE),3)),IF(F106=\"Yes\",1*INDEX('Weighting Tables - HIDE SHEET'!$A$1:$C$9,MATCH(\"Reliability\",'Weighting Tables - HIDE SHEET'!$A$1:$A$9,FALSE),3)))/'Weighting Tables - HIDE SHEET'!$G$2)*10,0))","v":""}]
[null,null,null,null,null,null,{"$f":"IF(ISBLANK(B107),\"\",ROUND((SUM((IF(E107=\"Very Poor\",4,IF(E107=\"Poor\",3,IF(E107=\"Fair\",2,IF(E107=\"Good\",1,0))))*INDEX('Weighting Tables - HIDE SHEET'!$A$1:$C$9,MATCH(\"Current Condition\",'Weighting Tables - HIDE SHEET'!$A$1:$A$9,FALSE),3)),IF(F107=\"Yes\",1*INDEX('Weighting Tables - HIDE SHEET'!$A$1:$C$9,MATCH(\"Reliability\",'Weighting Tables - HIDE SHEET'!$A$1:$A$9,FALSE),3)))/'Weighting Tables - HIDE SHEET'!$G$2)*10,0))","v":""}]
[null,null,null,null,null,null,{"$f":"IF(ISBLANK(B108),\"\",ROUND((SUM((IF(E108=\"Very Poor\",4,IF(E108=\"Poor\",3,IF(E108=\"Fair\",2,IF(E108=\"Good\",1,0))))*INDEX('Weighting Tables - HIDE SHEET'!$A$1:$C$9,MATCH(\"Current Condition\",'Weighting Tables - HIDE SHEET'!$A$1:$A$9,FALSE),3)),IF(F108=\"Yes\",1*INDEX('Weighting Tables - HIDE SHEET'!$A$1:$C$9,MATCH(\"Reliability\",'Weighting Tables - HIDE SHEET'!$A$1:$A$9,FALSE),3)))/'Weighting Tables - HIDE SHEET'!$G$2)*10,0))","v":""}]
[null,null,null,null,null,null,{"$f":"IF(ISBLANK(B109),\"\",ROUND((SUM((IF(E109=\"Very Poor\",4,IF(E109=\"Poor\",3,IF(E109=\"Fair\",2,IF(E109=\"Good\",1,0))))*INDEX('Weighting Tables - HIDE SHEET'!$A$1:$C$9,MATCH(\"Current Condition\",'Weighting Tables - HIDE SHEET'!$A$1:$A$9,FALSE),3)),IF(F109=\"Yes\",1*INDEX('Weighting Tables - HIDE SHEET'!$A$1:$C$9,MATCH(\"Reliability\",'Weighting Tables - HIDE SHEET'!$A$1:$A$9,FALSE),3)))/'Weighting Tables - HIDE SHEET'!$G$2)*10,0))","v":""}]
[null,null,null,null,null,null,{"$f":"IF(ISBLANK(B110),\"\",ROUND((SUM((IF(E110=\"Very Poor\",4,IF(E110=\"Poor\",3,IF(E110=\"Fair\",2,IF(E110=\"Good\",1,0))))*INDEX('Weighting Tables - HIDE SHEET'!$A$1:$C$9,MATCH(\"Current Condition\",'Weighting Tables - HIDE SHEET'!$A$1:$A$9,FALSE),3)),IF(F110=\"Yes\",1*INDEX('Weighting Tables - HIDE SHEET'!$A$1:$C$9,MATCH(\"Reliability\",'Weighting Tables - HIDE SHEET'!$A$1:$A$9,FALSE),3)))/'Weighting Tables - HIDE SHEET'!$G$2)*10,0))","v":""}]
[null,null,null,null,null,null,{"$f":"IF(ISBLANK(B111),\"\",ROUND((SUM((IF(E111=\"Very Poor\",4,IF(E111=\"Poor\",3,IF(E111=\"Fair\",2,IF(E111=\"Good\",1,0))))*INDEX('Weighting Tables - HIDE SHEET'!$A$1:$C$9,MATCH(\"Current Condition\",'Weighting Tables - HIDE SHEET'!$A$1:$A$9,FALSE),3)),IF(F111=\"Yes\",1*INDEX('Weighting Tables - HIDE SHEET'!$A$1:$C$9,MATCH(\"Reliability\",'Weighting Tables - HIDE SHEET'!$A$1:$A$9,FALSE),3)))/'Weighting Tables - HIDE SHEET'!$G$2)*10,0))","v":""}]
[null,null,null,null,null,null,{"$f":"IF(ISBLANK(B112),\"\",ROUND((SUM((IF(E112=\"Very Poor\",4,IF(E112=\"Poor\",3,IF(E112=\"Fair\",2,IF(E112=\"Good\",1,0))))*INDEX('Weighting Tables - HIDE SHEET'!$A$1:$C$9,MATCH(\"Current Condition\",'Weighting Tables - HIDE SHEET'!$A$1:$A$9,FALSE),3)),IF(F112=\"Yes\",1*INDEX('Weighting Tables - HIDE SHEET'!$A$1:$C$9,MATCH(\"Reliability\",'Weighting Tables - HIDE SHEET'!$A$1:$A$9,FALSE),3)))/'Weighting Tables - HIDE SHEET'!$G$2)*10,0))","v":""}]
[null,null,null,null,null,null,{"$f":"IF(ISBLANK(B113),\"\",ROUND((SUM((IF(E113=\"Very Poor\",4,IF(E113=\"Poor\",3,IF(E113=\"Fair\",2,IF(E113=\"Good\",1,0))))*INDEX('Weighting Tables - HIDE SHEET'!$A$1:$C$9,MATCH(\"Current Condition\",'Weighting Tables - HIDE SHEET'!$A$1:$A$9,FALSE),3)),IF(F113=\"Yes\",1*INDEX('Weighting Tables - HIDE SHEET'!$A$1:$C$9,MATCH(\"Reliability\",'Weighting Tables - HIDE SHEET'!$A$1:$A$9,FALSE),3)))/'Weighting Tables - HIDE SHEET'!$G$2)*10,0))","v":""}]
[null,null,null,null,null,null,{"$f":"IF(ISBLANK(B114),\"\",ROUND((SUM((IF(E114=\"Very Poor\",4,IF(E114=\"Poor\",3,IF(E114=\"Fair\",2,IF(E114=\"Good\",1,0))))*INDEX('Weighting Tables - HIDE SHEET'!$A$1:$C$9,MATCH(\"Current Condition\",'Weighting Tables - HIDE SHEET'!$A$1:$A$9,FALSE),3)),IF(F114=\"Yes\",1*INDEX('Weighting Tables - HIDE SHEET'!$A$1:$C$9,MATCH(\"Reliability\",'Weighting Tables - HIDE SHEET'!$A$1:$A$9,FALSE),3)))/'Weighting Tables - HIDE SHEET'!$G$2)*10,0))","v":""}]
[null,null,null,null,null,null,{"$f":"IF(ISBLANK(B115),\"\",ROUND((SUM((IF(E115=\"Very Poor\",4,IF(E115=\"Poor\",3,IF(E115=\"Fair\",2,IF(E115=\"Good\",1,0))))*INDEX('Weighting Tables - HIDE SHEET'!$A$1:$C$9,MATCH(\"Current Condition\",'Weighting Tables - HIDE SHEET'!$A$1:$A$9,FALSE),3)),IF(F115=\"Yes\",1*INDEX('Weighting Tables - HIDE SHEET'!$A$1:$C$9,MATCH(\"Reliability\",'Weighting Tables - HIDE SHEET'!$A$1:$A$9,FALSE),3)))/'Weighting Tables - HIDE SHEET'!$G$2)*10,0))","v":""}]
[null,null,null,null,null,null,{"$f":"IF(ISBLANK(B116),\"\",ROUND((SUM((IF(E116=\"Very Poor\",4,IF(E116=\"Poor\",3,IF(E116=\"Fair\",2,IF(E116=\"Good\",1,0))))*INDEX('Weighting Tables - HIDE SHEET'!$A$1:$C$9,MATCH(\"Current Condition\",'Weighting Tables - HIDE SHEET'!$A$1:$A$9,FALSE),3)),IF(F116=\"Yes\",1*INDEX('Weighting Tables - HIDE SHEET'!$A$1:$C$9,MATCH(\"Reliability\",'Weighting Tables - HIDE SHEET'!$A$1:$A$9,FALSE),3)))/'Weighting Tables - HIDE SHEET'!$G$2)*10,0))","v":""}]
[null,null,null,null,null,null,{"$f":"IF(ISBLANK(B117),\"\",ROUND((SUM((IF(E117=\"Very Poor\",4,IF(E117=\"Poor\",3,IF(E117=\"Fair\",2,IF(E117=\"Good\",1,0))))*INDEX('Weighting Tables - HIDE SHEET'!$A$1:$C$9,MATCH(\"Current Condition\",'Weighting Tables - HIDE SHEET'!$A$1:$A$9,FALSE),3)),IF(F117=\"Yes\",1*INDEX('Weighting Tables - HIDE SHEET'!$A$1:$C$9,MATCH(\"Reliability\",'Weighting Tables - HIDE SHEET'!$A$1:$A$9,FALSE),3)))/'Weighting Tables - HIDE SHEET'!$G$2)*10,0))","v":""}]
[null,null,null,null,null,null,{"$f":"IF(ISBLANK(B118),\"\",ROUND((SUM((IF(E118=\"Very Poor\",4,IF(E118=\"Poor\",3,IF(E118=\"Fair\",2,IF(E118=\"Good\",1,0))))*INDEX('Weighting Tables - HIDE SHEET'!$A$1:$C$9,MATCH(\"Current Condition\",'Weighting Tables - HIDE SHEET'!$A$1:$A$9,FALSE),3)),IF(F118=\"Yes\",1*INDEX('Weighting Tables - HIDE SHEET'!$A$1:$C$9,MATCH(\"Reliability\",'Weighting Tables - HIDE SHEET'!$A$1:$A$9,FALSE),3)))/'Weighting Tables - HIDE SHEET'!$G$2)*10,0))","v":""}]
[null,null,null,null,null,null,{"$f":"IF(ISBLANK(B119),\"\",ROUND((SUM((IF(E119=\"Very Poor\",4,IF(E119=\"Poor\",3,IF(E119=\"Fair\",2,IF(E119=\"Good\",1,0))))*INDEX('Weighting Tables - HIDE SHEET'!$A$1:$C$9,MATCH(\"Current Condition\",'Weighting Tables - HIDE SHEET'!$A$1:$A$9,FALSE),3)),IF(F119=\"Yes\",1*INDEX('Weighting Tables - HIDE SHEET'!$A$1:$C$9,MATCH(\"Reliability\",'Weighting Tables - HIDE SHEET'!$A$1:$A$9,FALSE),3)))/'Weighting Tables - HIDE SHEET'!$G$2)*10,0))","v":""}]
[null,null,null,null,null,null,{"$f":"IF(ISBLANK(B120),\"\",ROUND((SUM((IF(E120=\"Very Poor\",4,IF(E120=\"Poor\",3,IF(E120=\"Fair\",2,IF(E120=\"Good\",1,0))))*INDEX('Weighting Tables - HIDE SHEET'!$A$1:$C$9,MATCH(\"Current Condition\",'Weighting Tables - HIDE SHEET'!$A$1:$A$9,FALSE),3)),IF(F120=\"Yes\",1*INDEX('Weighting Tables - HIDE SHEET'!$A$1:$C$9,MATCH(\"Reliability\",'Weighting Tables - HIDE SHEET'!$A$1:$A$9,FALSE),3)))/'Weighting Tables - HIDE SHEET'!$G$2)*10,0))","v":""}]
[null,null,null,null,null,null,{"$f":"IF(ISBLANK(B121),\"\",ROUND((SUM((IF(E121=\"Very Poor\",4,IF(E121=\"Poor\",3,IF(E121=\"Fair\",2,IF(E121=\"Good\",1,0))))*INDEX('Weighting Tables - HIDE SHEET'!$A$1:$C$9,MATCH(\"Current Condition\",'Weighting Tables - HIDE SHEET'!$A$1:$A$9,FALSE),3)),IF(F121=\"Yes\",1*INDEX('Weighting Tables - HIDE SHEET'!$A$1:$C$9,MATCH(\"Reliability\",'Weighting Tables - HIDE SHEET'!$A$1:$A$9,FALSE),3)))/'Weighting Tables - HIDE SHEET'!$G$2)*10,0))","v":""}]
[null,null,null,null,null,null,{"$f":"IF(ISBLANK(B122),\"\",ROUND((SUM((IF(E122=\"Very Poor\",4,IF(E122=\"Poor\",3,IF(E122=\"Fair\",2,IF(E122=\"Good\",1,0))))*INDEX('Weighting Tables - HIDE SHEET'!$A$1:$C$9,MATCH(\"Current Condition\",'Weighting Tables - HIDE SHEET'!$A$1:$A$9,FALSE),3)),IF(F122=\"Yes\",1*INDEX('Weighting Tables - HIDE SHEET'!$A$1:$C$9,MATCH(\"Reliability\",'Weighting Tables - HIDE SHEET'!$A$1:$A$9,FALSE),3)))/'Weighting Tables - HIDE SHEET'!$G$2)*10,0))","v":""}]
[null,null,null,null,null,null,{"$f":"IF(ISBLANK(B123),\"\",ROUND((SUM((IF(E123=\"Very Poor\",4,IF(E123=\"Poor\",3,IF(E123=\"Fair\",2,IF(E123=\"Good\",1,0))))*INDEX('Weighting Tables - HIDE SHEET'!$A$1:$C$9,MATCH(\"Current Condition\",'Weighting Tables - HIDE SHEET'!$A$1:$A$9,FALSE),3)),IF(F123=\"Yes\",1*INDEX('Weighting Tables - HIDE SHEET'!$A$1:$C$9,MATCH(\"Reliability\",'Weighting Tables - HIDE SHEET'!$A$1:$A$9,FALSE),3)))/'Weighting Tables - HIDE SHEET'!$G$2)*10,0))","v":""}]
[null,null,null,null,null,null,{"$f":"IF(ISBLANK(B124),\"\",ROUND((SUM((IF(E124=\"Very Poor\",4,IF(E124=\"Poor\",3,IF(E124=\"Fair\",2,IF(E124=\"Good\",1,0))))*INDEX('Weighting Tables - HIDE SHEET'!$A$1:$C$9,MATCH(\"Current Condition\",'Weighting Tables - HIDE SHEET'!$A$1:$A$9,FALSE),3)),IF(F124=\"Yes\",1*INDEX('Weighting Tables - HIDE SHEET'!$A$1:$C$9,MATCH(\"Reliability\",'Weighting Tables - HIDE SHEET'!$A$1:$A$9,FALSE),3)))/'Weighting Tables - HIDE SHEET'!$G$2)*10,0))","v":""}]
[null,null,null,null,null,null,{"$f":"IF(ISBLANK(B125),\"\",ROUND((SUM((IF(E125=\"Very Poor\",4,IF(E125=\"Poor\",3,IF(E125=\"Fair\",2,IF(E125=\"Good\",1,0))))*INDEX('Weighting Tables - HIDE SHEET'!$A$1:$C$9,MATCH(\"Current Condition\",'Weighting Tables - HIDE SHEET'!$A$1:$A$9,FALSE),3)),IF(F125=\"Yes\",1*INDEX('Weighting Tables - HIDE SHEET'!$A$1:$C$9,MATCH(\"Reliability\",'Weighting Tables - HIDE SHEET'!$A$1:$A$9,FALSE),3)))/'Weighting Tables - HIDE SHEET'!$G$2)*10,0))","v":""}]
[null,null,null,null,null,null,{"$f":"IF(ISBLANK(B126),\"\",ROUND((SUM((IF(E126=\"Very Poor\",4,IF(E126=\"Poor\",3,IF(E126=\"Fair\",2,IF(E126=\"Good\",1,0))))*INDEX('Weighting Tables - HIDE SHEET'!$A$1:$C$9,MATCH(\"Current Condition\",'Weighting Tables - HIDE SHEET'!$A$1:$A$9,FALSE),3)),IF(F126=\"Yes\",1*INDEX('Weighting Tables - HIDE SHEET'!$A$1:$C$9,MATCH(\"Reliability\",'Weighting Tables - HIDE SHEET'!$A$1:$A$9,FALSE),3)))/'Weighting Tables - HIDE SHEET'!$G$2)*10,0))","v":""}]
[null,null,null,null,null,null,{"$f":"IF(ISBLANK(B127),\"\",ROUND((SUM((IF(E127=\"Very Poor\",4,IF(E127=\"Poor\",3,IF(E127=\"Fair\",2,IF(E127=\"Good\",1,0))))*INDEX('Weighting Tables - HIDE SHEET'!$A$1:$C$9,MATCH(\"Current Condition\",'Weighting Tables - HIDE SHEET'!$A$1:$A$9,FALSE),3)),IF(F127=\"Yes\",1*INDEX('Weighting Tables - HIDE SHEET'!$A$1:$C$9,MATCH(\"Reliability\",'Weighting Tables - HIDE SHEET'!$A$1:$A$9,FALSE),3)))/'Weighting Tables - HIDE SHEET'!$G$2)*10,0))","v":""}]
[null,null,null,null,null,null,{"$f":"IF(ISBLANK(B128),\"\",ROUND((SUM((IF(E128=\"Very Poor\",4,IF(E128=\"Poor\",3,IF(E128=\"Fair\",2,IF(E128=\"Good\",1,0))))*INDEX('Weighting Tables - HIDE SHEET'!$A$1:$C$9,MATCH(\"Current Condition\",'Weighting Tables - HIDE SHEET'!$A$1:$A$9,FALSE),3)),IF(F128=\"Yes\",1*INDEX('Weighting Tables - HIDE SHEET'!$A$1:$C$9,MATCH(\"Reliability\",'Weighting Tables - HIDE SHEET'!$A$1:$A$9,FALSE),3)))/'Weighting Tables - HIDE SHEET'!$G$2)*10,0))","v":""}]
[null,null,null,null,null,null,{"$f":"IF(ISBLANK(B129),\"\",ROUND((SUM((IF(E129=\"Very Poor\",4,IF(E129=\"Poor\",3,IF(E129=\"Fair\",2,IF(E129=\"Good\",1,0))))*INDEX('Weighting Tables - HIDE SHEET'!$A$1:$C$9,MATCH(\"Current Condition\",'Weighting Tables - HIDE SHEET'!$A$1:$A$9,FALSE),3)),IF(F129=\"Yes\",1*INDEX('Weighting Tables - HIDE SHEET'!$A$1:$C$9,MATCH(\"Reliability\",'Weighting Tables - HIDE SHEET'!$A$1:$A$9,FALSE),3)))/'Weighting Tables - HIDE SHEET'!$G$2)*10,0))","v":""}]
[null,null,null,null,null,null,{"$f":"IF(ISBLANK(B130),\"\",ROUND((SUM((IF(E130=\"Very Poor\",4,IF(E130=\"Poor\",3,IF(E130=\"Fair\",2,IF(E130=\"Good\",1,0))))*INDEX('Weighting Tables - HIDE SHEET'!$A$1:$C$9,MATCH(\"Current Condition\",'Weighting Tables - HIDE SHEET'!$A$1:$A$9,FALSE),3)),IF(F130=\"Yes\",1*INDEX('Weighting Tables - HIDE SHEET'!$A$1:$C$9,MATCH(\"Reliability\",'Weighting Tables - HIDE SHEET'!$A$1:$A$9,FALSE),3)))/'Weighting Tables - HIDE SHEET'!$G$2)*10,0))","v":""}]
[null,null,null,null,null,null,{"$f":"IF(ISBLANK(B131),\"\",ROUND((SUM((IF(E131=\"Very Poor\",4,IF(E131=\"Poor\",3,IF(E131=\"Fair\",2,IF(E131=\"Good\",1,0))))*INDEX('Weighting Tables - HIDE SHEET'!$A$1:$C$9,MATCH(\"Current Condition\",'Weighting Tables - HIDE SHEET'!$A$1:$A$9,FALSE),3)),IF(F131=\"Yes\",1*INDEX('Weighting Tables - HIDE SHEET'!$A$1:$C$9,MATCH(\"Reliability\",'Weighting Tables - HIDE SHEET'!$A$1:$A$9,FALSE),3)))/'Weighting Tables - HIDE SHEET'!$G$2)*10,0))","v":""}]
[null,null,null,null,null,null,{"$f":"IF(ISBLANK(B132),\"\",ROUND((SUM((IF(E132=\"Very Poor\",4,IF(E132=\"Poor\",3,IF(E132=\"Fair\",2,IF(E132=\"Good\",1,0))))*INDEX('Weighting Tables - HIDE SHEET'!$A$1:$C$9,MATCH(\"Current Condition\",'Weighting Tables - HIDE SHEET'!$A$1:$A$9,FALSE),3)),IF(F132=\"Yes\",1*INDEX('Weighting Tables - HIDE SHEET'!$A$1:$C$9,MATCH(\"Reliability\",'Weighting Tables - HIDE SHEET'!$A$1:$A$9,FALSE),3)))/'Weighting Tables - HIDE SHEET'!$G$2)*10,0))","v":""}]
[null,null,null,null,null,null,{"$f":"IF(ISBLANK(B133),\"\",ROUND((SUM((IF(E133=\"Very Poor\",4,IF(E133=\"Poor\",3,IF(E133=\"Fair\",2,IF(E133=\"Good\",1,0))))*INDEX('Weighting Tables - HIDE SHEET'!$A$1:$C$9,MATCH(\"Current Condition\",'Weighting Tables - HIDE SHEET'!$A$1:$A$9,FALSE),3)),IF(F133=\"Yes\",1*INDEX('Weighting Tables - HIDE SHEET'!$A$1:$C$9,MATCH(\"Reliability\",'Weighting Tables - HIDE SHEET'!$A$1:$A$9,FALSE),3)))/'Weighting Tables - HIDE SHEET'!$G$2)*10,0))","v":""}]
[null,null,null,null,null,null,{"$f":"IF(ISBLANK(B134),\"\",ROUND((SUM((IF(E134=\"Very Poor\",4,IF(E134=\"Poor\",3,IF(E134=\"Fair\",2,IF(E134=\"Good\",1,0))))*INDEX('Weighting Tables - HIDE SHEET'!$A$1:$C$9,MATCH(\"Current Condition\",'Weighting Tables - HIDE SHEET'!$A$1:$A$9,FALSE),3)),IF(F134=\"Yes\",1*INDEX('Weighting Tables - HIDE SHEET'!$A$1:$C$9,MATCH(\"Reliability\",'Weighting Tables - HIDE SHEET'!$A$1:$A$9,FALSE),3)))/'Weighting Tables - HIDE SHEET'!$G$2)*10,0))","v":""}]
[null,null,null,null,null,null,{"$f":"IF(ISBLANK(B135),\"\",ROUND((SUM((IF(E135=\"Very Poor\",4,IF(E135=\"Poor\",3,IF(E135=\"Fair\",2,IF(E135=\"Good\",1,0))))*INDEX('Weighting Tables - HIDE SHEET'!$A$1:$C$9,MATCH(\"Current Condition\",'Weighting Tables - HIDE SHEET'!$A$1:$A$9,FALSE),3)),IF(F135=\"Yes\",1*INDEX('Weighting Tables - HIDE SHEET'!$A$1:$C$9,MATCH(\"Reliability\",'Weighting Tables - HIDE SHEET'!$A$1:$A$9,FALSE),3)))/'Weighting Tables - HIDE SHEET'!$G$2)*10,0))","v":""}]
[null,null,null,null,null,null,{"$f":"IF(ISBLANK(B136),\"\",ROUND((SUM((IF(E136=\"Very Poor\",4,IF(E136=\"Poor\",3,IF(E136=\"Fair\",2,IF(E136=\"Good\",1,0))))*INDEX('Weighting Tables - HIDE SHEET'!$A$1:$C$9,MATCH(\"Current Condition\",'Weighting Tables - HIDE SHEET'!$A$1:$A$9,FALSE),3)),IF(F136=\"Yes\",1*INDEX('Weighting Tables - HIDE SHEET'!$A$1:$C$9,MATCH(\"Reliability\",'Weighting Tables - HIDE SHEET'!$A$1:$A$9,FALSE),3)))/'Weighting Tables - HIDE SHEET'!$G$2)*10,0))","v":""}]
[null,null,null,null,null,null,{"$f":"IF(ISBLANK(B137),\"\",ROUND((SUM((IF(E137=\"Very Poor\",4,IF(E137=\"Poor\",3,IF(E137=\"Fair\",2,IF(E137=\"Good\",1,0))))*INDEX('Weighting Tables - HIDE SHEET'!$A$1:$C$9,MATCH(\"Current Condition\",'Weighting Tables - HIDE SHEET'!$A$1:$A$9,FALSE),3)),IF(F137=\"Yes\",1*INDEX('Weighting Tables - HIDE SHEET'!$A$1:$C$9,MATCH(\"Reliability\",'Weighting Tables - HIDE SHEET'!$A$1:$A$9,FALSE),3)))/'Weighting Tables - HIDE SHEET'!$G$2)*10,0))","v":""}]
[null,null,null,null,null,null,{"$f":"IF(ISBLANK(B138),\"\",ROUND((SUM((IF(E138=\"Very Poor\",4,IF(E138=\"Poor\",3,IF(E138=\"Fair\",2,IF(E138=\"Good\",1,0))))*INDEX('Weighting Tables - HIDE SHEET'!$A$1:$C$9,MATCH(\"Current Condition\",'Weighting Tables - HIDE SHEET'!$A$1:$A$9,FALSE),3)),IF(F138=\"Yes\",1*INDEX('Weighting Tables - HIDE SHEET'!$A$1:$C$9,MATCH(\"Reliability\",'Weighting Tables - HIDE SHEET'!$A$1:$A$9,FALSE),3)))/'Weighting Tables - HIDE SHEET'!$G$2)*10,0))","v":""}]
[null,null,null,null,null,null,{"$f":"IF(ISBLANK(B139),\"\",ROUND((SUM((IF(E139=\"Very Poor\",4,IF(E139=\"Poor\",3,IF(E139=\"Fair\",2,IF(E139=\"Good\",1,0))))*INDEX('Weighting Tables - HIDE SHEET'!$A$1:$C$9,MATCH(\"Current Condition\",'Weighting Tables - HIDE SHEET'!$A$1:$A$9,FALSE),3)),IF(F139=\"Yes\",1*INDEX('Weighting Tables - HIDE SHEET'!$A$1:$C$9,MATCH(\"Reliability\",'Weighting Tables - HIDE SHEET'!$A$1:$A$9,FALSE),3)))/'Weighting Tables - HIDE SHEET'!$G$2)*10,0))","v":""}]
[null,null,null,null,null,null,{"$f":"IF(ISBLANK(B140),\"\",ROUND((SUM((IF(E140=\"Very Poor\",4,IF(E140=\"Poor\",3,IF(E140=\"Fair\",2,IF(E140=\"Good\",1,0))))*INDEX('Weighting Tables - HIDE SHEET'!$A$1:$C$9,MATCH(\"Current Condition\",'Weighting Tables - HIDE SHEET'!$A$1:$A$9,FALSE),3)),IF(F140=\"Yes\",1*INDEX('Weighting Tables - HIDE SHEET'!$A$1:$C$9,MATCH(\"Reliability\",'Weighting Tables - HIDE SHEET'!$A$1:$A$9,FALSE),3)))/'Weighting Tables - HIDE SHEET'!$G$2)*10,0))","v":""}]
[null,null,null,null,null,null,{"$f":"IF(ISBLANK(B141),\"\",ROUND((SUM((IF(E141=\"Very Poor\",4,IF(E141=\"Poor\",3,IF(E141=\"Fair\",2,IF(E141=\"Good\",1,0))))*INDEX('Weighting Tables - HIDE SHEET'!$A$1:$C$9,MATCH(\"Current Condition\",'Weighting Tables - HIDE SHEET'!$A$1:$A$9,FALSE),3)),IF(F141=\"Yes\",1*INDEX('Weighting Tables - HIDE SHEET'!$A$1:$C$9,MATCH(\"Reliability\",'Weighting Tables - HIDE SHEET'!$A$1:$A$9,FALSE),3)))/'Weighting Tables - HIDE SHEET'!$G$2)*10,0))","v":""}]
[null,null,null,null,null,null,{"$f":"IF(ISBLANK(B142),\"\",ROUND((SUM((IF(E142=\"Very Poor\",4,IF(E142=\"Poor\",3,IF(E142=\"Fair\",2,IF(E142=\"Good\",1,0))))*INDEX('Weighting Tables - HIDE SHEET'!$A$1:$C$9,MATCH(\"Current Condition\",'Weighting Tables - HIDE SHEET'!$A$1:$A$9,FALSE),3)),IF(F142=\"Yes\",1*INDEX('Weighting Tables - HIDE SHEET'!$A$1:$C$9,MATCH(\"Reliability\",'Weighting Tables - HIDE SHEET'!$A$1:$A$9,FALSE),3)))/'Weighting Tables - HIDE SHEET'!$G$2)*10,0))","v":""}]
[null,null,null,null,null,null,{"$f":"IF(ISBLANK(B143),\"\",ROUND((SUM((IF(E143=\"Very Poor\",4,IF(E143=\"Poor\",3,IF(E143=\"Fair\",2,IF(E143=\"Good\",1,0))))*INDEX('Weighting Tables - HIDE SHEET'!$A$1:$C$9,MATCH(\"Current Condition\",'Weighting Tables - HIDE SHEET'!$A$1:$A$9,FALSE),3)),IF(F143=\"Yes\",1*INDEX('Weighting Tables - HIDE SHEET'!$A$1:$C$9,MATCH(\"Reliability\",'Weighting Tables - HIDE SHEET'!$A$1:$A$9,FALSE),3)))/'Weighting Tables - HIDE SHEET'!$G$2)*10,0))","v":""}]
[null,null,null,null,null,null,{"$f":"IF(ISBLANK(B144),\"\",ROUND((SUM((IF(E144=\"Very Poor\",4,IF(E144=\"Poor\",3,IF(E144=\"Fair\",2,IF(E144=\"Good\",1,0))))*INDEX('Weighting Tables - HIDE SHEET'!$A$1:$C$9,MATCH(\"Current Condition\",'Weighting Tables - HIDE SHEET'!$A$1:$A$9,FALSE),3)),IF(F144=\"Yes\",1*INDEX('Weighting Tables - HIDE SHEET'!$A$1:$C$9,MATCH(\"Reliability\",'Weighting Tables - HIDE SHEET'!$A$1:$A$9,FALSE),3)))/'Weighting Tables - HIDE SHEET'!$G$2)*10,0))","v":""}]
[null,null,null,null,null,null,{"$f":"IF(ISBLANK(B145),\"\",ROUND((SUM((IF(E145=\"Very Poor\",4,IF(E145=\"Poor\",3,IF(E145=\"Fair\",2,IF(E145=\"Good\",1,0))))*INDEX('Weighting Tables - HIDE SHEET'!$A$1:$C$9,MATCH(\"Current Condition\",'Weighting Tables - HIDE SHEET'!$A$1:$A$9,FALSE),3)),IF(F145=\"Yes\",1*INDEX('Weighting Tables - HIDE SHEET'!$A$1:$C$9,MATCH(\"Reliability\",'Weighting Tables - HIDE SHEET'!$A$1:$A$9,FALSE),3)))/'Weighting Tables - HIDE SHEET'!$G$2)*10,0))","v":""}]
[null,null,null,null,null,null,{"$f":"IF(ISBLANK(B146),\"\",ROUND((SUM((IF(E146=\"Very Poor\",4,IF(E146=\"Poor\",3,IF(E146=\"Fair\",2,IF(E146=\"Good\",1,0))))*INDEX('Weighting Tables - HIDE SHEET'!$A$1:$C$9,MATCH(\"Current Condition\",'Weighting Tables - HIDE SHEET'!$A$1:$A$9,FALSE),3)),IF(F146=\"Yes\",1*INDEX('Weighting Tables - HIDE SHEET'!$A$1:$C$9,MATCH(\"Reliability\",'Weighting Tables - HIDE SHEET'!$A$1:$A$9,FALSE),3)))/'Weighting Tables - HIDE SHEET'!$G$2)*10,0))","v":""}]
[null,null,null,null,null,null,{"$f":"IF(ISBLANK(B147),\"\",ROUND((SUM((IF(E147=\"Very Poor\",4,IF(E147=\"Poor\",3,IF(E147=\"Fair\",2,IF(E147=\"Good\",1,0))))*INDEX('Weighting Tables - HIDE SHEET'!$A$1:$C$9,MATCH(\"Current Condition\",'Weighting Tables - HIDE SHEET'!$A$1:$A$9,FALSE),3)),IF(F147=\"Yes\",1*INDEX('Weighting Tables - HIDE SHEET'!$A$1:$C$9,MATCH(\"Reliability\",'Weighting Tables - HIDE SHEET'!$A$1:$A$9,FALSE),3)))/'Weighting Tables - HIDE SHEET'!$G$2)*10,0))","v":""}]
[null,null,null,null,null,null,{"$f":"IF(ISBLANK(B148),\"\",ROUND((SUM((IF(E148=\"Very Poor\",4,IF(E148=\"Poor\",3,IF(E148=\"Fair\",2,IF(E148=\"Good\",1,0))))*INDEX('Weighting Tables - HIDE SHEET'!$A$1:$C$9,MATCH(\"Current Condition\",'Weighting Tables - HIDE SHEET'!$A$1:$A$9,FALSE),3)),IF(F148=\"Yes\",1*INDEX('Weighting Tables - HIDE SHEET'!$A$1:$C$9,MATCH(\"Reliability\",'Weighting Tables - HIDE SHEET'!$A$1:$A$9,FALSE),3)))/'Weighting Tables - HIDE SHEET'!$G$2)*10,0))","v":""}]
[null,null,null,null,null,null,{"$f":"IF(ISBLANK(B149),\"\",ROUND((SUM((IF(E149=\"Very Poor\",4,IF(E149=\"Poor\",3,IF(E149=\"Fair\",2,IF(E149=\"Good\",1,0))))*INDEX('Weighting Tables - HIDE SHEET'!$A$1:$C$9,MATCH(\"Current Condition\",'Weighting Tables - HIDE SHEET'!$A$1:$A$9,FALSE),3)),IF(F149=\"Yes\",1*INDEX('Weighting Tables - HIDE SHEET'!$A$1:$C$9,MATCH(\"Reliability\",'Weighting Tables - HIDE SHEET'!$A$1:$A$9,FALSE),3)))/'Weighting Tables - HIDE SHEET'!$G$2)*10,0))","v":""}]
[null,null,null,null,null,null,{"$f":"IF(ISBLANK(B150),\"\",ROUND((SUM((IF(E150=\"Very Poor\",4,IF(E150=\"Poor\",3,IF(E150=\"Fair\",2,IF(E150=\"Good\",1,0))))*INDEX('Weighting Tables - HIDE SHEET'!$A$1:$C$9,MATCH(\"Current Condition\",'Weighting Tables - HIDE SHEET'!$A$1:$A$9,FALSE),3)),IF(F150=\"Yes\",1*INDEX('Weighting Tables - HIDE SHEET'!$A$1:$C$9,MATCH(\"Reliability\",'Weighting Tables - HIDE SHEET'!$A$1:$A$9,FALSE),3)))/'Weighting Tables - HIDE SHEET'!$G$2)*10,0))","v":""}]
[null,null,null,null,null,null,{"$f":"IF(ISBLANK(B151),\"\",ROUND((SUM((IF(E151=\"Very Poor\",4,IF(E151=\"Poor\",3,IF(E151=\"Fair\",2,IF(E151=\"Good\",1,0))))*INDEX('Weighting Tables - HIDE SHEET'!$A$1:$C$9,MATCH(\"Current Condition\",'Weighting Tables - HIDE SHEET'!$A$1:$A$9,FALSE),3)),IF(F151=\"Yes\",1*INDEX('Weighting Tables - HIDE SHEET'!$A$1:$C$9,MATCH(\"Reliability\",'Weighting Tables - HIDE SHEET'!$A$1:$A$9,FALSE),3)))/'Weighting Tables - HIDE SHEET'!$G$2)*10,0))","v":""}]
[null,null,null,null,null,null,{"$f":"IF(ISBLANK(B152),\"\",ROUND((SUM((IF(E152=\"Very Poor\",4,IF(E152=\"Poor\",3,IF(E152=\"Fair\",2,IF(E152=\"Good\",1,0))))*INDEX('Weighting Tables - HIDE SHEET'!$A$1:$C$9,MATCH(\"Current Condition\",'Weighting Tables - HIDE SHEET'!$A$1:$A$9,FALSE),3)),IF(F152=\"Yes\",1*INDEX('Weighting Tables - HIDE SHEET'!$A$1:$C$9,MATCH(\"Reliability\",'Weighting Tables - HIDE SHEET'!$A$1:$A$9,FALSE),3)))/'Weighting Tables - HIDE SHEET'!$G$2)*10,0))","v":""}]
[null,null,null,null,null,null,{"$f":"IF(ISBLANK(B153),\"\",ROUND((SUM((IF(E153=\"Very Poor\",4,IF(E153=\"Poor\",3,IF(E153=\"Fair\",2,IF(E153=\"Good\",1,0))))*INDEX('Weighting Tables - HIDE SHEET'!$A$1:$C$9,MATCH(\"Current Condition\",'Weighting Tables - HIDE SHEET'!$A$1:$A$9,FALSE),3)),IF(F153=\"Yes\",1*INDEX('Weighting Tables - HIDE SHEET'!$A$1:$C$9,MATCH(\"Reliability\",'Weighting Tables - HIDE SHEET'!$A$1:$A$9,FALSE),3)))/'Weighting Tables - HIDE SHEET'!$G$2)*10,0))","v":""}]
[null,null,null,null,null,null,{"$f":"IF(ISBLANK(B154),\"\",ROUND((SUM((IF(E154=\"Very Poor\",4,IF(E154=\"Poor\",3,IF(E154=\"Fair\",2,IF(E154=\"Good\",1,0))))*INDEX('Weighting Tables - HIDE SHEET'!$A$1:$C$9,MATCH(\"Current Condition\",'Weighting Tables - HIDE SHEET'!$A$1:$A$9,FALSE),3)),IF(F154=\"Yes\",1*INDEX('Weighting Tables - HIDE SHEET'!$A$1:$C$9,MATCH(\"Reliability\",'Weighting Tables - HIDE SHEET'!$A$1:$A$9,FALSE),3)))/'Weighting Tables - HIDE SHEET'!$G$2)*10,0))","v":""}]
[null,null,null,null,null,null,{"$f":"IF(ISBLANK(B155),\"\",ROUND((SUM((IF(E155=\"Very Poor\",4,IF(E155=\"Poor\",3,IF(E155=\"Fair\",2,IF(E155=\"Good\",1,0))))*INDEX('Weighting Tables - HIDE SHEET'!$A$1:$C$9,MATCH(\"Current Condition\",'Weighting Tables - HIDE SHEET'!$A$1:$A$9,FALSE),3)),IF(F155=\"Yes\",1*INDEX('Weighting Tables - HIDE SHEET'!$A$1:$C$9,MATCH(\"Reliability\",'Weighting Tables - HIDE SHEET'!$A$1:$A$9,FALSE),3)))/'Weighting Tables - HIDE SHEET'!$G$2)*10,0))","v":""}]
[null,null,null,null,null,null,{"$f":"IF(ISBLANK(B156),\"\",ROUND((SUM((IF(E156=\"Very Poor\",4,IF(E156=\"Poor\",3,IF(E156=\"Fair\",2,IF(E156=\"Good\",1,0))))*INDEX('Weighting Tables - HIDE SHEET'!$A$1:$C$9,MATCH(\"Current Condition\",'Weighting Tables - HIDE SHEET'!$A$1:$A$9,FALSE),3)),IF(F156=\"Yes\",1*INDEX('Weighting Tables - HIDE SHEET'!$A$1:$C$9,MATCH(\"Reliability\",'Weighting Tables - HIDE SHEET'!$A$1:$A$9,FALSE),3)))/'Weighting Tables - HIDE SHEET'!$G$2)*10,0))","v":""}]
[null,null,null,null,null,null,{"$f":"IF(ISBLANK(B157),\"\",ROUND((SUM((IF(E157=\"Very Poor\",4,IF(E157=\"Poor\",3,IF(E157=\"Fair\",2,IF(E157=\"Good\",1,0))))*INDEX('Weighting Tables - HIDE SHEET'!$A$1:$C$9,MATCH(\"Current Condition\",'Weighting Tables - HIDE SHEET'!$A$1:$A$9,FALSE),3)),IF(F157=\"Yes\",1*INDEX('Weighting Tables - HIDE SHEET'!$A$1:$C$9,MATCH(\"Reliability\",'Weighting Tables - HIDE SHEET'!$A$1:$A$9,FALSE),3)))/'Weighting Tables - HIDE SHEET'!$G$2)*10,0))","v":""}]
[null,null,null,null,null,null,{"$f":"IF(ISBLANK(B158),\"\",ROUND((SUM((IF(E158=\"Very Poor\",4,IF(E158=\"Poor\",3,IF(E158=\"Fair\",2,IF(E158=\"Good\",1,0))))*INDEX('Weighting Tables - HIDE SHEET'!$A$1:$C$9,MATCH(\"Current Condition\",'Weighting Tables - HIDE SHEET'!$A$1:$A$9,FALSE),3)),IF(F158=\"Yes\",1*INDEX('Weighting Tables - HIDE SHEET'!$A$1:$C$9,MATCH(\"Reliability\",'Weighting Tables - HIDE SHEET'!$A$1:$A$9,FALSE),3)))/'Weighting Tables - HIDE SHEET'!$G$2)*10,0))","v":""}]
[null,null,null,null,null,null,{"$f":"IF(ISBLANK(B159),\"\",ROUND((SUM((IF(E159=\"Very Poor\",4,IF(E159=\"Poor\",3,IF(E159=\"Fair\",2,IF(E159=\"Good\",1,0))))*INDEX('Weighting Tables - HIDE SHEET'!$A$1:$C$9,MATCH(\"Current Condition\",'Weighting Tables - HIDE SHEET'!$A$1:$A$9,FALSE),3)),IF(F159=\"Yes\",1*INDEX('Weighting Tables - HIDE SHEET'!$A$1:$C$9,MATCH(\"Reliability\",'Weighting Tables - HIDE SHEET'!$A$1:$A$9,FALSE),3)))/'Weighting Tables - HIDE SHEET'!$G$2)*10,0))","v":""}]
[null,null,null,null,null,null,{"$f":"IF(ISBLANK(B160),\"\",ROUND((SUM((IF(E160=\"Very Poor\",4,IF(E160=\"Poor\",3,IF(E160=\"Fair\",2,IF(E160=\"Good\",1,0))))*INDEX('Weighting Tables - HIDE SHEET'!$A$1:$C$9,MATCH(\"Current Condition\",'Weighting Tables - HIDE SHEET'!$A$1:$A$9,FALSE),3)),IF(F160=\"Yes\",1*INDEX('Weighting Tables - HIDE SHEET'!$A$1:$C$9,MATCH(\"Reliability\",'Weighting Tables - HIDE SHEET'!$A$1:$A$9,FALSE),3)))/'Weighting Tables - HIDE SHEET'!$G$2)*10,0))","v":""}]
[null,null,null,null,null,null,{"$f":"IF(ISBLANK(B161),\"\",ROUND((SUM((IF(E161=\"Very Poor\",4,IF(E161=\"Poor\",3,IF(E161=\"Fair\",2,IF(E161=\"Good\",1,0))))*INDEX('Weighting Tables - HIDE SHEET'!$A$1:$C$9,MATCH(\"Current Condition\",'Weighting Tables - HIDE SHEET'!$A$1:$A$9,FALSE),3)),IF(F161=\"Yes\",1*INDEX('Weighting Tables - HIDE SHEET'!$A$1:$C$9,MATCH(\"Reliability\",'Weighting Tables - HIDE SHEET'!$A$1:$A$9,FALSE),3)))/'Weighting Tables - HIDE SHEET'!$G$2)*10,0))","v":""}]
[null,null,null,null,null,null,{"$f":"IF(ISBLANK(B162),\"\",ROUND((SUM((IF(E162=\"Very Poor\",4,IF(E162=\"Poor\",3,IF(E162=\"Fair\",2,IF(E162=\"Good\",1,0))))*INDEX('Weighting Tables - HIDE SHEET'!$A$1:$C$9,MATCH(\"Current Condition\",'Weighting Tables - HIDE SHEET'!$A$1:$A$9,FALSE),3)),IF(F162=\"Yes\",1*INDEX('Weighting Tables - HIDE SHEET'!$A$1:$C$9,MATCH(\"Reliability\",'Weighting Tables - HIDE SHEET'!$A$1:$A$9,FALSE),3)))/'Weighting Tables - HIDE SHEET'!$G$2)*10,0))","v":""}]
[null,null,null,null,null,null,{"$f":"IF(ISBLANK(B163),\"\",ROUND((SUM((IF(E163=\"Very Poor\",4,IF(E163=\"Poor\",3,IF(E163=\"Fair\",2,IF(E163=\"Good\",1,0))))*INDEX('Weighting Tables - HIDE SHEET'!$A$1:$C$9,MATCH(\"Current Condition\",'Weighting Tables - HIDE SHEET'!$A$1:$A$9,FALSE),3)),IF(F163=\"Yes\",1*INDEX('Weighting Tables - HIDE SHEET'!$A$1:$C$9,MATCH(\"Reliability\",'Weighting Tables - HIDE SHEET'!$A$1:$A$9,FALSE),3)))/'Weighting Tables - HIDE SHEET'!$G$2)*10,0))","v":""}]
[null,null,null,null,null,null,{"$f":"IF(ISBLANK(B164),\"\",ROUND((SUM((IF(E164=\"Very Poor\",4,IF(E164=\"Poor\",3,IF(E164=\"Fair\",2,IF(E164=\"Good\",1,0))))*INDEX('Weighting Tables - HIDE SHEET'!$A$1:$C$9,MATCH(\"Current Condition\",'Weighting Tables - HIDE SHEET'!$A$1:$A$9,FALSE),3)),IF(F164=\"Yes\",1*INDEX('Weighting Tables - HIDE SHEET'!$A$1:$C$9,MATCH(\"Reliability\",'Weighting Tables - HIDE SHEET'!$A$1:$A$9,FALSE),3)))/'Weighting Tables - HIDE SHEET'!$G$2)*10,0))","v":""}]
[null,null,null,null,null,null,{"$f":"IF(ISBLANK(B165),\"\",ROUND((SUM((IF(E165=\"Very Poor\",4,IF(E165=\"Poor\",3,IF(E165=\"Fair\",2,IF(E165=\"Good\",1,0))))*INDEX('Weighting Tables - HIDE SHEET'!$A$1:$C$9,MATCH(\"Current Condition\",'Weighting Tables - HIDE SHEET'!$A$1:$A$9,FALSE),3)),IF(F165=\"Yes\",1*INDEX('Weighting Tables - HIDE SHEET'!$A$1:$C$9,MATCH(\"Reliability\",'Weighting Tables - HIDE SHEET'!$A$1:$A$9,FALSE),3)))/'Weighting Tables - HIDE SHEET'!$G$2)*10,0))","v":""}]
[null,null,null,null,null,null,{"$f":"IF(ISBLANK(B166),\"\",ROUND((SUM((IF(E166=\"Very Poor\",4,IF(E166=\"Poor\",3,IF(E166=\"Fair\",2,IF(E166=\"Good\",1,0))))*INDEX('Weighting Tables - HIDE SHEET'!$A$1:$C$9,MATCH(\"Current Condition\",'Weighting Tables - HIDE SHEET'!$A$1:$A$9,FALSE),3)),IF(F166=\"Yes\",1*INDEX('Weighting Tables - HIDE SHEET'!$A$1:$C$9,MATCH(\"Reliability\",'Weighting Tables - HIDE SHEET'!$A$1:$A$9,FALSE),3)))/'Weighting Tables - HIDE SHEET'!$G$2)*10,0))","v":""}]
[null,null,null,null,null,null,{"$f":"IF(ISBLANK(B167),\"\",ROUND((SUM((IF(E167=\"Very Poor\",4,IF(E167=\"Poor\",3,IF(E167=\"Fair\",2,IF(E167=\"Good\",1,0))))*INDEX('Weighting Tables - HIDE SHEET'!$A$1:$C$9,MATCH(\"Current Condition\",'Weighting Tables - HIDE SHEET'!$A$1:$A$9,FALSE),3)),IF(F167=\"Yes\",1*INDEX('Weighting Tables - HIDE SHEET'!$A$1:$C$9,MATCH(\"Reliability\",'Weighting Tables - HIDE SHEET'!$A$1:$A$9,FALSE),3)))/'Weighting Tables - HIDE SHEET'!$G$2)*10,0))","v":""}]
[null,null,null,null,null,null,{"$f":"IF(ISBLANK(B168),\"\",ROUND((SUM((IF(E168=\"Very Poor\",4,IF(E168=\"Poor\",3,IF(E168=\"Fair\",2,IF(E168=\"Good\",1,0))))*INDEX('Weighting Tables - HIDE SHEET'!$A$1:$C$9,MATCH(\"Current Condition\",'Weighting Tables - HIDE SHEET'!$A$1:$A$9,FALSE),3)),IF(F168=\"Yes\",1*INDEX('Weighting Tables - HIDE SHEET'!$A$1:$C$9,MATCH(\"Reliability\",'Weighting Tables - HIDE SHEET'!$A$1:$A$9,FALSE),3)))/'Weighting Tables - HIDE SHEET'!$G$2)*10,0))","v":""}]
[null,null,null,null,null,null,{"$f":"IF(ISBLANK(B169),\"\",ROUND((SUM((IF(E169=\"Very Poor\",4,IF(E169=\"Poor\",3,IF(E169=\"Fair\",2,IF(E169=\"Good\",1,0))))*INDEX('Weighting Tables - HIDE SHEET'!$A$1:$C$9,MATCH(\"Current Condition\",'Weighting Tables - HIDE SHEET'!$A$1:$A$9,FALSE),3)),IF(F169=\"Yes\",1*INDEX('Weighting Tables - HIDE SHEET'!$A$1:$C$9,MATCH(\"Reliability\",'Weighting Tables - HIDE SHEET'!$A$1:$A$9,FALSE),3)))/'Weighting Tables - HIDE SHEET'!$G$2)*10,0))","v":""}]
[null,null,null,null,null,null,{"$f":"IF(ISBLANK(B170),\"\",ROUND((SUM((IF(E170=\"Very Poor\",4,IF(E170=\"Poor\",3,IF(E170=\"Fair\",2,IF(E170=\"Good\",1,0))))*INDEX('Weighting Tables - HIDE SHEET'!$A$1:$C$9,MATCH(\"Current Condition\",'Weighting Tables - HIDE SHEET'!$A$1:$A$9,FALSE),3)),IF(F170=\"Yes\",1*INDEX('Weighting Tables - HIDE SHEET'!$A$1:$C$9,MATCH(\"Reliability\",'Weighting Tables - HIDE SHEET'!$A$1:$A$9,FALSE),3)))/'Weighting Tables - HIDE SHEET'!$G$2)*10,0))","v":""}]
[null,null,null,null,null,null,{"$f":"IF(ISBLANK(B171),\"\",ROUND((SUM((IF(E171=\"Very Poor\",4,IF(E171=\"Poor\",3,IF(E171=\"Fair\",2,IF(E171=\"Good\",1,0))))*INDEX('Weighting Tables - HIDE SHEET'!$A$1:$C$9,MATCH(\"Current Condition\",'Weighting Tables - HIDE SHEET'!$A$1:$A$9,FALSE),3)),IF(F171=\"Yes\",1*INDEX('Weighting Tables - HIDE SHEET'!$A$1:$C$9,MATCH(\"Reliability\",'Weighting Tables - HIDE SHEET'!$A$1:$A$9,FALSE),3)))/'Weighting Tables - HIDE SHEET'!$G$2)*10,0))","v":""}]
[null,null,null,null,null,null,{"$f":"IF(ISBLANK(B172),\"\",ROUND((SUM((IF(E172=\"Very Poor\",4,IF(E172=\"Poor\",3,IF(E172=\"Fair\",2,IF(E172=\"Good\",1,0))))*INDEX('Weighting Tables - HIDE SHEET'!$A$1:$C$9,MATCH(\"Current Condition\",'Weighting Tables - HIDE SHEET'!$A$1:$A$9,FALSE),3)),IF(F172=\"Yes\",1*INDEX('Weighting Tables - HIDE SHEET'!$A$1:$C$9,MATCH(\"Reliability\",'Weighting Tables - HIDE SHEET'!$A$1:$A$9,FALSE),3)))/'Weighting Tables - HIDE SHEET'!$G$2)*10,0))","v":""}]
[null,null,null,null,null,null,{"$f":"IF(ISBLANK(B173),\"\",ROUND((SUM((IF(E173=\"Very Poor\",4,IF(E173=\"Poor\",3,IF(E173=\"Fair\",2,IF(E173=\"Good\",1,0))))*INDEX('Weighting Tables - HIDE SHEET'!$A$1:$C$9,MATCH(\"Current Condition\",'Weighting Tables - HIDE SHEET'!$A$1:$A$9,FALSE),3)),IF(F173=\"Yes\",1*INDEX('Weighting Tables - HIDE SHEET'!$A$1:$C$9,MATCH(\"Reliability\",'Weighting Tables - HIDE SHEET'!$A$1:$A$9,FALSE),3)))/'Weighting Tables - HIDE SHEET'!$G$2)*10,0))","v":""}]
[null,null,null,null,null,null,{"$f":"IF(ISBLANK(B174),\"\",ROUND((SUM((IF(E174=\"Very Poor\",4,IF(E174=\"Poor\",3,IF(E174=\"Fair\",2,IF(E174=\"Good\",1,0))))*INDEX('Weighting Tables - HIDE SHEET'!$A$1:$C$9,MATCH(\"Current Condition\",'Weighting Tables - HIDE SHEET'!$A$1:$A$9,FALSE),3)),IF(F174=\"Yes\",1*INDEX('Weighting Tables - HIDE SHEET'!$A$1:$C$9,MATCH(\"Reliability\",'Weighting Tables - HIDE SHEET'!$A$1:$A$9,FALSE),3)))/'Weighting Tables - HIDE SHEET'!$G$2)*10,0))","v":""}]
[null,null,null,null,null,null,{"$f":"IF(ISBLANK(B175),\"\",ROUND((SUM((IF(E175=\"Very Poor\",4,IF(E175=\"Poor\",3,IF(E175=\"Fair\",2,IF(E175=\"Good\",1,0))))*INDEX('Weighting Tables - HIDE SHEET'!$A$1:$C$9,MATCH(\"Current Condition\",'Weighting Tables - HIDE SHEET'!$A$1:$A$9,FALSE),3)),IF(F175=\"Yes\",1*INDEX('Weighting Tables - HIDE SHEET'!$A$1:$C$9,MATCH(\"Reliability\",'Weighting Tables - HIDE SHEET'!$A$1:$A$9,FALSE),3)))/'Weighting Tables - HIDE SHEET'!$G$2)*10,0))","v":""}]
[null,null,null,null,null,null,{"$f":"IF(ISBLANK(B176),\"\",ROUND((SUM((IF(E176=\"Very Poor\",4,IF(E176=\"Poor\",3,IF(E176=\"Fair\",2,IF(E176=\"Good\",1,0))))*INDEX('Weighting Tables - HIDE SHEET'!$A$1:$C$9,MATCH(\"Current Condition\",'Weighting Tables - HIDE SHEET'!$A$1:$A$9,FALSE),3)),IF(F176=\"Yes\",1*INDEX('Weighting Tables - HIDE SHEET'!$A$1:$C$9,MATCH(\"Reliability\",'Weighting Tables - HIDE SHEET'!$A$1:$A$9,FALSE),3)))/'Weighting Tables - HIDE SHEET'!$G$2)*10,0))","v":""}]
[null,null,null,null,null,null,{"$f":"IF(ISBLANK(B177),\"\",ROUND((SUM((IF(E177=\"Very Poor\",4,IF(E177=\"Poor\",3,IF(E177=\"Fair\",2,IF(E177=\"Good\",1,0))))*INDEX('Weighting Tables - HIDE SHEET'!$A$1:$C$9,MATCH(\"Current Condition\",'Weighting Tables - HIDE SHEET'!$A$1:$A$9,FALSE),3)),IF(F177=\"Yes\",1*INDEX('Weighting Tables - HIDE SHEET'!$A$1:$C$9,MATCH(\"Reliability\",'Weighting Tables - HIDE SHEET'!$A$1:$A$9,FALSE),3)))/'Weighting Tables - HIDE SHEET'!$G$2)*10,0))","v":""}]
[null,null,null,null,null,null,{"$f":"IF(ISBLANK(B178),\"\",ROUND((SUM((IF(E178=\"Very Poor\",4,IF(E178=\"Poor\",3,IF(E178=\"Fair\",2,IF(E178=\"Good\",1,0))))*INDEX('Weighting Tables - HIDE SHEET'!$A$1:$C$9,MATCH(\"Current Condition\",'Weighting Tables - HIDE SHEET'!$A$1:$A$9,FALSE),3)),IF(F178=\"Yes\",1*INDEX('Weighting Tables - HIDE SHEET'!$A$1:$C$9,MATCH(\"Reliability\",'Weighting Tables - HIDE SHEET'!$A$1:$A$9,FALSE),3)))/'Weighting Tables - HIDE SHEET'!$G$2)*10,0))","v":""}]
[null,null,null,null,null,null,{"$f":"IF(ISBLANK(B179),\"\",ROUND((SUM((IF(E179=\"Very Poor\",4,IF(E179=\"Poor\",3,IF(E179=\"Fair\",2,IF(E179=\"Good\",1,0))))*INDEX('Weighting Tables - HIDE SHEET'!$A$1:$C$9,MATCH(\"Current Condition\",'Weighting Tables - HIDE SHEET'!$A$1:$A$9,FALSE),3)),IF(F179=\"Yes\",1*INDEX('Weighting Tables - HIDE SHEET'!$A$1:$C$9,MATCH(\"Reliability\",'Weighting Tables - HIDE SHEET'!$A$1:$A$9,FALSE),3)))/'Weighting Tables - HIDE SHEET'!$G$2)*10,0))","v":""}]
[null,null,null,null,null,null,{"$f":"IF(ISBLANK(B180),\"\",ROUND((SUM((IF(E180=\"Very Poor\",4,IF(E180=\"Poor\",3,IF(E180=\"Fair\",2,IF(E180=\"Good\",1,0))))*INDEX('Weighting Tables - HIDE SHEET'!$A$1:$C$9,MATCH(\"Current Condition\",'Weighting Tables - HIDE SHEET'!$A$1:$A$9,FALSE),3)),IF(F180=\"Yes\",1*INDEX('Weighting Tables - HIDE SHEET'!$A$1:$C$9,MATCH(\"Reliability\",'Weighting Tables - HIDE SHEET'!$A$1:$A$9,FALSE),3)))/'Weighting Tables - HIDE SHEET'!$G$2)*10,0))","v":""}]
[null,null,null,null,null,null,{"$f":"IF(ISBLANK(B181),\"\",ROUND((SUM((IF(E181=\"Very Poor\",4,IF(E181=\"Poor\",3,IF(E181=\"Fair\",2,IF(E181=\"Good\",1,0))))*INDEX('Weighting Tables - HIDE SHEET'!$A$1:$C$9,MATCH(\"Current Condition\",'Weighting Tables - HIDE SHEET'!$A$1:$A$9,FALSE),3)),IF(F181=\"Yes\",1*INDEX('Weighting Tables - HIDE SHEET'!$A$1:$C$9,MATCH(\"Reliability\",'Weighting Tables - HIDE SHEET'!$A$1:$A$9,FALSE),3)))/'Weighting Tables - HIDE SHEET'!$G$2)*10,0))","v":""}]
[null,null,null,null,null,null,{"$f":"IF(ISBLANK(B182),\"\",ROUND((SUM((IF(E182=\"Very Poor\",4,IF(E182=\"Poor\",3,IF(E182=\"Fair\",2,IF(E182=\"Good\",1,0))))*INDEX('Weighting Tables - HIDE SHEET'!$A$1:$C$9,MATCH(\"Current Condition\",'Weighting Tables - HIDE SHEET'!$A$1:$A$9,FALSE),3)),IF(F182=\"Yes\",1*INDEX('Weighting Tables - HIDE SHEET'!$A$1:$C$9,MATCH(\"Reliability\",'Weighting Tables - HIDE SHEET'!$A$1:$A$9,FALSE),3)))/'Weighting Tables - HIDE SHEET'!$G$2)*10,0))","v":""}]
[null,null,null,null,null,null,{"$f":"IF(ISBLANK(B183),\"\",ROUND((SUM((IF(E183=\"Very Poor\",4,IF(E183=\"Poor\",3,IF(E183=\"Fair\",2,IF(E183=\"Good\",1,0))))*INDEX('Weighting Tables - HIDE SHEET'!$A$1:$C$9,MATCH(\"Current Condition\",'Weighting Tables - HIDE SHEET'!$A$1:$A$9,FALSE),3)),IF(F183=\"Yes\",1*INDEX('Weighting Tables - HIDE SHEET'!$A$1:$C$9,MATCH(\"Reliability\",'Weighting Tables - HIDE SHEET'!$A$1:$A$9,FALSE),3)))/'Weighting Tables - HIDE SHEET'!$G$2)*10,0))","v":""}]
[null,null,null,null,null,null,{"$f":"IF(ISBLANK(B184),\"\",ROUND((SUM((IF(E184=\"Very Poor\",4,IF(E184=\"Poor\",3,IF(E184=\"Fair\",2,IF(E184=\"Good\",1,0))))*INDEX('Weighting Tables - HIDE SHEET'!$A$1:$C$9,MATCH(\"Current Condition\",'Weighting Tables - HIDE SHEET'!$A$1:$A$9,FALSE),3)),IF(F184=\"Yes\",1*INDEX('Weighting Tables - HIDE SHEET'!$A$1:$C$9,MATCH(\"Reliability\",'Weighting Tables - HIDE SHEET'!$A$1:$A$9,FALSE),3)))/'Weighting Tables - HIDE SHEET'!$G$2)*10,0))","v":""}]
[null,null,null,null,null,null,{"$f":"IF(ISBLANK(B185),\"\",ROUND((SUM((IF(E185=\"Very Poor\",4,IF(E185=\"Poor\",3,IF(E185=\"Fair\",2,IF(E185=\"Good\",1,0))))*INDEX('Weighting Tables - HIDE SHEET'!$A$1:$C$9,MATCH(\"Current Condition\",'Weighting Tables - HIDE SHEET'!$A$1:$A$9,FALSE),3)),IF(F185=\"Yes\",1*INDEX('Weighting Tables - HIDE SHEET'!$A$1:$C$9,MATCH(\"Reliability\",'Weighting Tables - HIDE SHEET'!$A$1:$A$9,FALSE),3)))/'Weighting Tables - HIDE SHEET'!$G$2)*10,0))","v":""}]
[null,null,null,null,null,null,{"$f":"IF(ISBLANK(B186),\"\",ROUND((SUM((IF(E186=\"Very Poor\",4,IF(E186=\"Poor\",3,IF(E186=\"Fair\",2,IF(E186=\"Good\",1,0))))*INDEX('Weighting Tables - HIDE SHEET'!$A$1:$C$9,MATCH(\"Current Condition\",'Weighting Tables - HIDE SHEET'!$A$1:$A$9,FALSE),3)),IF(F186=\"Yes\",1*INDEX('Weighting Tables - HIDE SHEET'!$A$1:$C$9,MATCH(\"Reliability\",'Weighting Tables - HIDE SHEET'!$A$1:$A$9,FALSE),3)))/'Weighting Tables - HIDE SHEET'!$G$2)*10,0))","v":""}]
[null,null,null,null,null,null,{"$f":"IF(ISBLANK(B187),\"\",ROUND((SUM((IF(E187=\"Very Poor\",4,IF(E187=\"Poor\",3,IF(E187=\"Fair\",2,IF(E187=\"Good\",1,0))))*INDEX('Weighting Tables - HIDE SHEET'!$A$1:$C$9,MATCH(\"Current Condition\",'Weighting Tables - HIDE SHEET'!$A$1:$A$9,FALSE),3)),IF(F187=\"Yes\",1*INDEX('Weighting Tables - HIDE SHEET'!$A$1:$C$9,MATCH(\"Reliability\",'Weighting Tables - HIDE SHEET'!$A$1:$A$9,FALSE),3)))/'Weighting Tables - HIDE SHEET'!$G$2)*10,0))","v":""}]
[null,null,null,null,null,null,{"$f":"IF(ISBLANK(B188),\"\",ROUND((SUM((IF(E188=\"Very Poor\",4,IF(E188=\"Poor\",3,IF(E188=\"Fair\",2,IF(E188=\"Good\",1,0))))*INDEX('Weighting Tables - HIDE SHEET'!$A$1:$C$9,MATCH(\"Current Condition\",'Weighting Tables - HIDE SHEET'!$A$1:$A$9,FALSE),3)),IF(F188=\"Yes\",1*INDEX('Weighting Tables - HIDE SHEET'!$A$1:$C$9,MATCH(\"Reliability\",'Weighting Tables - HIDE SHEET'!$A$1:$A$9,FALSE),3)))/'Weighting Tables - HIDE SHEET'!$G$2)*10,0))","v":""}]
[null,null,null,null,null,null,{"$f":"IF(ISBLANK(B189),\"\",ROUND((SUM((IF(E189=\"Very Poor\",4,IF(E189=\"Poor\",3,IF(E189=\"Fair\",2,IF(E189=\"Good\",1,0))))*INDEX('Weighting Tables - HIDE SHEET'!$A$1:$C$9,MATCH(\"Current Condition\",'Weighting Tables - HIDE SHEET'!$A$1:$A$9,FALSE),3)),IF(F189=\"Yes\",1*INDEX('Weighting Tables - HIDE SHEET'!$A$1:$C$9,MATCH(\"Reliability\",'Weighting Tables - HIDE SHEET'!$A$1:$A$9,FALSE),3)))/'Weighting Tables - HIDE SHEET'!$G$2)*10,0))","v":""}]
[null,null,null,null,null,null,{"$f":"IF(ISBLANK(B190),\"\",ROUND((SUM((IF(E190=\"Very Poor\",4,IF(E190=\"Poor\",3,IF(E190=\"Fair\",2,IF(E190=\"Good\",1,0))))*INDEX('Weighting Tables - HIDE SHEET'!$A$1:$C$9,MATCH(\"Current Condition\",'Weighting Tables - HIDE SHEET'!$A$1:$A$9,FALSE),3)),IF(F190=\"Yes\",1*INDEX('Weighting Tables - HIDE SHEET'!$A$1:$C$9,MATCH(\"Reliability\",'Weighting Tables - HIDE SHEET'!$A$1:$A$9,FALSE),3)))/'Weighting Tables - HIDE SHEET'!$G$2)*10,0))","v":""}]
[null,null,null,null,null,null,{"$f":"IF(ISBLANK(B191),\"\",ROUND((SUM((IF(E191=\"Very Poor\",4,IF(E191=\"Poor\",3,IF(E191=\"Fair\",2,IF(E191=\"Good\",1,0))))*INDEX('Weighting Tables - HIDE SHEET'!$A$1:$C$9,MATCH(\"Current Condition\",'Weighting Tables - HIDE SHEET'!$A$1:$A$9,FALSE),3)),IF(F191=\"Yes\",1*INDEX('Weighting Tables - HIDE SHEET'!$A$1:$C$9,MATCH(\"Reliability\",'Weighting Tables - HIDE SHEET'!$A$1:$A$9,FALSE),3)))/'Weighting Tables - HIDE SHEET'!$G$2)*10,0))","v":""}]
[null,null,null,null,null,null,{"$f":"IF(ISBLANK(B192),\"\",ROUND((SUM((IF(E192=\"Very Poor\",4,IF(E192=\"Poor\",3,IF(E192=\"Fair\",2,IF(E192=\"Good\",1,0))))*INDEX('Weighting Tables - HIDE SHEET'!$A$1:$C$9,MATCH(\"Current Condition\",'Weighting Tables - HIDE SHEET'!$A$1:$A$9,FALSE),3)),IF(F192=\"Yes\",1*INDEX('Weighting Tables - HIDE SHEET'!$A$1:$C$9,MATCH(\"Reliability\",'Weighting Tables - HIDE SHEET'!$A$1:$A$9,FALSE),3)))/'Weighting Tables - HIDE SHEET'!$G$2)*10,0))","v":""}]
[null,null,null,null,null,null,{"$f":"IF(ISBLANK(B193),\"\",ROUND((SUM((IF(E193=\"Very Poor\",4,IF(E193=\"Poor\",3,IF(E193=\"Fair\",2,IF(E193=\"Good\",1,0))))*INDEX('Weighting Tables - HIDE SHEET'!$A$1:$C$9,MATCH(\"Current Condition\",'Weighting Tables - HIDE SHEET'!$A$1:$A$9,FALSE),3)),IF(F193=\"Yes\",1*INDEX('Weighting Tables - HIDE SHEET'!$A$1:$C$9,MATCH(\"Reliability\",'Weighting Tables - HIDE SHEET'!$A$1:$A$9,FALSE),3)))/'Weighting Tables - HIDE SHEET'!$G$2)*10,0))","v":""}]
[null,null,null,null,null,null,{"$f":"IF(ISBLANK(B194),\"\",ROUND((SUM((IF(E194=\"Very Poor\",4,IF(E194=\"Poor\",3,IF(E194=\"Fair\",2,IF(E194=\"Good\",1,0))))*INDEX('Weighting Tables - HIDE SHEET'!$A$1:$C$9,MATCH(\"Current Condition\",'Weighting Tables - HIDE SHEET'!$A$1:$A$9,FALSE),3)),IF(F194=\"Yes\",1*INDEX('Weighting Tables - HIDE SHEET'!$A$1:$C$9,MATCH(\"Reliability\",'Weighting Tables - HIDE SHEET'!$A$1:$A$9,FALSE),3)))/'Weighting Tables - HIDE SHEET'!$G$2)*10,0))","v":""}]
[null,null,null,null,null,null,{"$f":"IF(ISBLANK(B195),\"\",ROUND((SUM((IF(E195=\"Very Poor\",4,IF(E195=\"Poor\",3,IF(E195=\"Fair\",2,IF(E195=\"Good\",1,0))))*INDEX('Weighting Tables - HIDE SHEET'!$A$1:$C$9,MATCH(\"Current Condition\",'Weighting Tables - HIDE SHEET'!$A$1:$A$9,FALSE),3)),IF(F195=\"Yes\",1*INDEX('Weighting Tables - HIDE SHEET'!$A$1:$C$9,MATCH(\"Reliability\",'Weighting Tables - HIDE SHEET'!$A$1:$A$9,FALSE),3)))/'Weighting Tables - HIDE SHEET'!$G$2)*10,0))","v":""}]
[null,null,null,null,null,null,{"$f":"IF(ISBLANK(B196),\"\",ROUND((SUM((IF(E196=\"Very Poor\",4,IF(E196=\"Poor\",3,IF(E196=\"Fair\",2,IF(E196=\"Good\",1,0))))*INDEX('Weighting Tables - HIDE SHEET'!$A$1:$C$9,MATCH(\"Current Condition\",'Weighting Tables - HIDE SHEET'!$A$1:$A$9,FALSE),3)),IF(F196=\"Yes\",1*INDEX('Weighting Tables - HIDE SHEET'!$A$1:$C$9,MATCH(\"Reliability\",'Weighting Tables - HIDE SHEET'!$A$1:$A$9,FALSE),3)))/'Weighting Tables - HIDE SHEET'!$G$2)*10,0))","v":""}]
[null,null,null,null,null,null,{"$f":"IF(ISBLANK(B197),\"\",ROUND((SUM((IF(E197=\"Very Poor\",4,IF(E197=\"Poor\",3,IF(E197=\"Fair\",2,IF(E197=\"Good\",1,0))))*INDEX('Weighting Tables - HIDE SHEET'!$A$1:$C$9,MATCH(\"Current Condition\",'Weighting Tables - HIDE SHEET'!$A$1:$A$9,FALSE),3)),IF(F197=\"Yes\",1*INDEX('Weighting Tables - HIDE SHEET'!$A$1:$C$9,MATCH(\"Reliability\",'Weighting Tables - HIDE SHEET'!$A$1:$A$9,FALSE),3)))/'Weighting Tables - HIDE SHEET'!$G$2)*10,0))","v":""}]
[null,null,null,null,null,null,{"$f":"IF(ISBLANK(B198),\"\",ROUND((SUM((IF(E198=\"Very Poor\",4,IF(E198=\"Poor\",3,IF(E198=\"Fair\",2,IF(E198=\"Good\",1,0))))*INDEX('Weighting Tables - HIDE SHEET'!$A$1:$C$9,MATCH(\"Current Condition\",'Weighting Tables - HIDE SHEET'!$A$1:$A$9,FALSE),3)),IF(F198=\"Yes\",1*INDEX('Weighting Tables - HIDE SHEET'!$A$1:$C$9,MATCH(\"Reliability\",'Weighting Tables - HIDE SHEET'!$A$1:$A$9,FALSE),3)))/'Weighting Tables - HIDE SHEET'!$G$2)*10,0))","v":""}]
[null,null,null,null,null,null,{"$f":"IF(ISBLANK(B199),\"\",ROUND((SUM((IF(E199=\"Very Poor\",4,IF(E199=\"Poor\",3,IF(E199=\"Fair\",2,IF(E199=\"Good\",1,0))))*INDEX('Weighting Tables - HIDE SHEET'!$A$1:$C$9,MATCH(\"Current Condition\",'Weighting Tables - HIDE SHEET'!$A$1:$A$9,FALSE),3)),IF(F199=\"Yes\",1*INDEX('Weighting Tables - HIDE SHEET'!$A$1:$C$9,MATCH(\"Reliability\",'Weighting Tables - HIDE SHEET'!$A$1:$A$9,FALSE),3)))/'Weighting Tables - HIDE SHEET'!$G$2)*10,0))","v":""}]

{"sheet":"2b_Vulnerability Assessment","index":7,"n_rows":200,"n_cols":14,"rows_kept":200,"cut":false,"hidden":false,"merged":[[0,1,4,5],[5,3,6,3],[5,1,6,1],[5,9,5,13],[5,5,5,8],[5,4,6,4],[5,2,6,2]]}
[null,"INSTRUCTIONS:\nEnter information in cells, either manually or using dropdown menus. \nCells colored Blue contain dropdown menus for selection.\nCells colored Yellow are values from previous sheets and cannot be edited.\nCells colored Green are calculated output values. ",null,null,null,null,"Additional Resources:"]
[null,null,null,null,null,null,{"$f":"HYPERLINK(\"http://www.wvdhhr.org/oehs/eed/i&cd/Asset_management.asp\", \"Asset Management for Your Water System\")","v":"Asset Management for Your Water System"}]
[null,null,null,null,null,null,{"$f":"HYPERLINK(\"https://www.epa.gov/sites/production/files/2016-01/documents/assess-performance-failure-modes.pdf\", \"Fundamentals of Asset Management, Slide 15\")","v":"Fundamentals of Asset Management, Slide 15"}]
[null,null,null,null,null,null,{"$f":"+HYPERLINK(\"https://www.epa.gov/sites/production/files/2015-04/documents/epa816k03002.pdf\", \"Taking Stock of your Small Water System: A Simple Asset Inventory for Very Small Water Systems\")","v":"Taking Stock of your Small Water System: A Simple Asset Inventory for Very Small Water Systems"}]
[]
[null,"Asset Category and Type","Asset Description","Condition Assessment Score","Redundancy or Back-Up - Does your asset have redundancy or do you have a back-up  asset on hand, or could you easily acquire one?","Consequence of Failure",null,null,null,"Probability of Failure"]
["ID",null,null,null,null,"Importance - How many customers could lose service if the asset fails?","Regulatory Compliance - Could asset failure lead to a regulatory violation?","Public Health and Environmental  Concerns - Could asset failure lead to a public health or enviornmental concern?","CoF Score","Estimated Remaining  Life - Is the asset in the last 1/3 of its remaining useful life?","Capacity - Are you operating the asset above, at, or below intended capacity?","Reliability - (column filled automatically from previous response)","Repair Schedule - Has the rate of repairs increased within the past 0-2 years?","PoF Score"]
[null,null,null,null,null,null,null,null,{"$f":"IF(B8=\"\",\"\",ROUND(SUM(IF(F8=\"Greater than 75%\",4,IF(F8=\"50-75%\",3,IF(F8=\"25-50%\",2,IF(F8=\"Less than 25%\",1,0))))*INDEX('Weighting Tables - HIDE SHEET'!$A$1:$C$11,MATCH(\"Importance\",'Weighting Tables - HIDE SHEET'!$A$1:$A$11,FALSE),3),IF(G8=\"Yes\",1*INDEX('Weighting Tables - HIDE SHEET'!$A$1:$C$11,MATCH(\"Compliance\",'Weighting Tables - HIDE SHEET'!$A$1:$A$11,FALSE),3)),IF(H8=\"Yes\",1*INDEX('Weighting Tables - HIDE SHEET'!$A$1:$C$11,MATCH(\"Public Health and Environment\",'Weighting Tables - HIDE SHEET'!$A$1:$A$11,FALSE),3)))/'Weighting Tables - HIDE SHEET'!$G$3*10,0))","v":""},null,null,null,null,{"$f":"IF(ISBLANK(B8),\"\",ROUND(SUM(IF(J8=\"Yes\",1*INDEX('Weighting Tables - HIDE SHEET'!$A$1:$C$9,MATCH(\"Estimated Remaining Life\",'Weighting Tables - HIDE SHEET'!$A$1:$A$9,FALSE),3)),(IF(K8=\"Beyond capacity\",2,IF(K8=\"At capacity\",1,0))*INDEX('Weighting Tables - HIDE SHEET'!$A$1:$C$9,MATCH(\"Capacity\",'Weighting Tables - HIDE SHEET'!$A$1:$A$9,FALSE),3)),IF(L8=\"Yes\",1*INDEX('Weighting Tables - HIDE SHEET'!$A$1:$C$9,MATCH(\"Reliability\",'Weighting Tables - HIDE SHEET'!$A$1:$A$9,FALSE),3)),IF(M8=\"Yes\",1*INDEX('Weighting Tables - HIDE SHEET'!$A$1:$C$9,MATCH(\"Repair Schedule\",'Weighting Tables - HIDE SHEET'!$A$1:$A$9,FALSE),3)))/'Weighting Tables - HIDE SHEET'!$G$4*10,0))","v":""}]
[null,null,null,null,null,null,null,null,{"$f":"IF(B9=\"\",\"\",ROUND(SUM(IF(F9=\"Greater than 75%\",4,IF(F9=\"50-75%\",3,IF(F9=\"25-50%\",2,IF(F9=\"Less than 25%\",1,0))))*INDEX('Weighting Tables - HIDE SHEET'!$A$1:$C$11,MATCH(\"Importance\",'Weighting Tables - HIDE SHEET'!$A$1:$A$11,FALSE),3),IF(G9=\"Yes\",1*INDEX('Weighting Tables - HIDE SHEET'!$A$1:$C$11,MATCH(\"Compliance\",'Weighting Tables - HIDE SHEET'!$A$1:$A$11,FALSE),3)),IF(H9=\"Yes\",1*INDEX('Weighting Tables - HIDE SHEET'!$A$1:$C$11,MATCH(\"Public Health and Environment\",'Weighting Tables - HIDE SHEET'!$A$1:$A$11,FALSE),3)))/'Weighting Tables - HIDE SHEET'!$G$3*10,0))","v":""},null,null,null,null,{"$f":"IF(ISBLANK(B9),\"\",ROUND(SUM(IF(J9=\"Yes\",1*INDEX('Weighting Tables - HIDE SHEET'!$A$1:$C$9,MATCH(\"Estimated Remaining Life\",'Weighting Tables - HIDE SHEET'!$A$1:$A$9,FALSE),3)),(IF(K9=\"Beyond capacity\",2,IF(K9=\"At capacity\",1,0))*INDEX('Weighting Tables - HIDE SHEET'!$A$1:$C$9,MATCH(\"Capacity\",'Weighting Tables - HIDE SHEET'!$A$1:$A$9,FALSE),3)),IF(L9=\"Yes\",1*INDEX('Weighting Tables - HIDE SHEET'!$A$1:$C$9,MATCH(\"Reliability\",'Weighting Tables - HIDE SHEET'!$A$1:$A$9,FALSE),3)),IF(M9=\"Yes\",1*INDEX('Weighting Tables - HIDE SHEET'!$A$1:$C$9,MATCH(\"Repair Schedule\",'Weighting Tables - HIDE SHEET'!$A$1:$A$9,FALSE),3)))/'Weighting Tables - HIDE SHEET'!$G$4*10,0))","v":""}]
[null,null,null,null,null,null,null,null,{"$f":"IF(B10=\"\",\"\",ROUND(SUM(IF(F10=\"Greater than 75%\",4,IF(F10=\"50-75%\",3,IF(F10=\"25-50%\",2,IF(F10=\"Less than 25%\",1,0))))*INDEX('Weighting Tables - HIDE SHEET'!$A$1:$C$11,MATCH(\"Importance\",'Weighting Tables - HIDE SHEET'!$A$1:$A$11,FALSE),3),IF(G10=\"Yes\",1*INDEX('Weighting Tables - HIDE SHEET'!$A$1:$C$11,MATCH(\"Compliance\",'Weighting Tables - HIDE SHEET'!$A$1:$A$11,FALSE),3)),IF(H10=\"Yes\",1*INDEX('Weighting Tables - HIDE SHEET'!$A$1:$C$11,MATCH(\"Public Health and Environment\",'Weighting Tables - HIDE SHEET'!$A$1:$A$11,FALSE),3)))/'Weighting Tables - HIDE SHEET'!$G$3*10,0))","v":""},null,null,null,null,{"$f":"IF(ISBLANK(B10),\"\",ROUND(SUM(IF(J10=\"Yes\",1*INDEX('Weighting Tables - HIDE SHEET'!$A$1:$C$9,MATCH(\"Estimated Remaining Life\",'Weighting Tables - HIDE SHEET'!$A$1:$A$9,FALSE),3)),(IF(K10=\"Beyond capacity\",2,IF(K10=\"At capacity\",1,0))*INDEX('Weighting Tables - HIDE SHEET'!$A$1:$C$9,MATCH(\"Capacity\",'Weighting Tables - HIDE SHEET'!$A$1:$A$9,FALSE),3)),IF(L10=\"Yes\",1*INDEX('Weighting Tables - HIDE SHEET'!$A$1:$C$9,MATCH(\"Reliability\",'Weighting Tables - HIDE SHEET'!$A$1:$A$9,FALSE),3)),IF(M10=\"Yes\",1*INDEX('Weighting Tables - HIDE SHEET'!$A$1:$C$9,MATCH(\"Repair Schedule\",'Weighting Tables - HIDE SHEET'!$A$1:$A$9,FALSE),3)))/'Weighting Tables - HIDE SHEET'!$G$4*10,0))","v":""}]
[null,null,null,null,null,null,null,null,{"$f":"IF(B11=\"\",\"\",ROUND(SUM(IF(F11=\"Greater than 75%\",4,IF(F11=\"50-75%\",3,IF(F11=\"25-50%\",2,IF(F11=\"Less than 25%\",1,0))))*INDEX('Weighting Tables - HIDE SHEET'!$A$1:$C$11,MATCH(\"Importance\",'Weighting Tables - HIDE SHEET'!$A$1:$A$11,FALSE),3),IF(G11=\"Yes\",1*INDEX('Weighting Tables - HIDE SHEET'!$A$1:$C$11,MATCH(\"Compliance\",'Weighting Tables - HIDE SHEET'!$A$1:$A$11,FALSE),3)),IF(H11=\"Yes\",1*INDEX('Weighting Tables - HIDE SHEET'!$A$1:$C$11,MATCH(\"Public Health and Environment\",'Weighting Tables - HIDE SHEET'!$A$1:$A$11,FALSE),3)))/'Weighting Tables - HIDE SHEET'!$G$3*10,0))","v":""},null,null,null,null,{"$f":"IF(ISBLANK(B11),\"\",ROUND(SUM(IF(J11=\"Yes\",1*INDEX('Weighting Tables - HIDE SHEET'!$A$1:$C$9,MATCH(\"Estimated Remaining Life\",'Weighting Tables - HIDE SHEET'!$A$1:$A$9,FALSE),3)),(IF(K11=\"Beyond capacity\",2,IF(K11=\"At capacity\",1,0))*INDEX('Weighting Tables - HIDE SHEET'!$A$1:$C$9,MATCH(\"Capacity\",'Weighting Tables - HIDE SHEET'!$A$1:$A$9,FALSE),3)),IF(L11=\"Yes\",1*INDEX('Weighting Tables - HIDE SHEET'!$A$1:$C$9,MATCH(\"Reliability\",'Weighting Tables - HIDE SHEET'!$A$1:$A$9,FALSE),3)),IF(M11=\"Yes\",1*INDEX('Weighting Tables - HIDE SHEET'!$A$1:$C$9,MATCH(\"Repair Schedule\",'Weighting Tables - HIDE SHEET'!$A$1:$A$9,FALSE),3)))/'Weighting Tables - HIDE SHEET'!$G$4*10,0))","v":""}]
[null,null,null,null,null,null,null,null,{"$f":"IF(B12=\"\",\"\",ROUND(SUM(IF(F12=\"Greater than 75%\",4,IF(F12=\"50-75%\",3,IF(F12=\"25-50%\",2,IF(F12=\"Less than 25%\",1,0))))*INDEX('Weighting Tables - HIDE SHEET'!$A$1:$C$11,MATCH(\"Importance\",'Weighting Tables - HIDE SHEET'!$A$1:$A$11,FALSE),3),IF(G12=\"Yes\",1*INDEX('Weighting Tables - HIDE SHEET'!$A$1:$C$11,MATCH(\"Compliance\",'Weighting Tables - HIDE SHEET'!$A$1:$A$11,FALSE),3)),IF(H12=\"Yes\",1*INDEX('Weighting Tables - HIDE SHEET'!$A$1:$C$11,MATCH(\"Public Health and Environment\",'Weighting Tables - HIDE SHEET'!$A$1:$A$11,FALSE),3)))/'Weighting Tables - HIDE SHEET'!$G$3*10,0))","v":""},null,null,null,null,{"$f":"IF(ISBLANK(B12),\"\",ROUND(SUM(IF(J12=\"Yes\",1*INDEX('Weighting Tables - HIDE SHEET'!$A$1:$C$9,MATCH(\"Estimated Remaining Life\",'Weighting Tables - HIDE SHEET'!$A$1:$A$9,FALSE),3)),(IF(K12=\"Beyond capacity\",2,IF(K12=\"At capacity\",1,0))*INDEX('Weighting Tables - HIDE SHEET'!$A$1:$C$9,MATCH(\"Capacity\",'Weighting Tables - HIDE SHEET'!$A$1:$A$9,FALSE),3)),IF(L12=\"Yes\",1*INDEX('Weighting Tables - HIDE SHEET'!$A$1:$C$9,MATCH(\"Reliability\",'Weighting Tables - HIDE SHEET'!$A$1:$A$9,FALSE),3)),IF(M12=\"Yes\",1*INDEX('Weighting Tables - HIDE SHEET'!$A$1:$C$9,MATCH(\"Repair Schedule\",'Weighting Tables - HIDE SHEET'!$A$1:$A$9,FALSE),3)))/'Weighting Tables - HIDE SHEET'!$G$4*10,0))","v":""}]
[null,null,null,null,null,null,null,null,{"$f":"IF(B13=\"\",\"\",ROUND(SUM(IF(F13=\"Greater than 75%\",4,IF(F13=\"50-75%\",3,IF(F13=\"25-50%\",2,IF(F13=\"Less than 25%\",1,0))))*INDEX('Weighting Tables - HIDE SHEET'!$A$1:$C$11,MATCH(\"Importance\",'Weighting Tables - HIDE SHEET'!$A$1:$A$11,FALSE),3),IF(G13=\"Yes\",1*INDEX('Weighting Tables - HIDE SHEET'!$A$1:$C$11,MATCH(\"Compliance\",'Weighting Tables - HIDE SHEET'!$A$1:$A$11,FALSE),3)),IF(H13=\"Yes\",1*INDEX('Weighting Tables - HIDE SHEET'!$A$1:$C$11,MATCH(\"Public Health and Environment\",'Weighting Tables - HIDE SHEET'!$A$1:$A$11,FALSE),3)))/'Weighting Tables - HIDE SHEET'!$G$3*10,0))","v":""},null,null,null,null,{"$f":"IF(ISBLANK(B13),\"\",ROUND(SUM(IF(J13=\"Yes\",1*INDEX('Weighting Tables - HIDE SHEET'!$A$1:$C$9,MATCH(\"Estimated Remaining Life\",'Weighting Tables - HIDE SHEET'!$A$1:$A$9,FALSE),3)),(IF(K13=\"Beyond capacity\",2,IF(K13=\"At capacity\",1,0))*INDEX('Weighting Tables - HIDE SHEET'!$A$1:$C$9,MATCH(\"Capacity\",'Weighting Tables - HIDE SHEET'!$A$1:$A$9,FALSE),3)),IF(L13=\"Yes\",1*INDEX('Weighting Tables - HIDE SHEET'!$A$1:$C$9,MATCH(\"Reliability\",'Weighting Tables - HIDE SHEET'!$A$1:$A$9,FALSE),3)),IF(M13=\"Yes\",1*INDEX('Weighting Tables - HIDE SHEET'!$A$1:$C$9,MATCH(\"Repair Schedule\",'Weighting Tables - HIDE SHEET'!$A$1:$A$9,FALSE),3)))/'Weighting Tables - HIDE SHEET'!$G$4*10,0))","v":""}]
[null,null,null,null,null,null,null,null,{"$f":"IF(B14=\"\",\"\",ROUND(SUM(IF(F14=\"Greater than 75%\",4,IF(F14=\"50-75%\",3,IF(F14=\"25-50%\",2,IF(F14=\"Less than 25%\",1,0))))*INDEX('Weighting Tables - HIDE SHEET'!$A$1:$C$11,MATCH(\"Importance\",'Weighting Tables - HIDE SHEET'!$A$1:$A$11,FALSE),3),IF(G14=\"Yes\",1*INDEX('Weighting Tables - HIDE SHEET'!$A$1:$C$11,MATCH(\"Compliance\",'Weighting Tables - HIDE SHEET'!$A$1:$A$11,FALSE),3)),IF(H14=\"Yes\",1*INDEX('Weighting Tables - HIDE SHEET'!$A$1:$C$11,MATCH(\"Public Health and Environment\",'Weighting Tables - HIDE SHEET'!$A$1:$A$11,FALSE),3)))/'Weighting Tables - HIDE SHEET'!$G$3*10,0))","v":""},null,null,null,null,{"$f":"IF(ISBLANK(B14),\"\",ROUND(SUM(IF(J14=\"Yes\",1*INDEX('Weighting Tables - HIDE SHEET'!$A$1:$C$9,MATCH(\"Estimated Remaining Life\",'Weighting Tables - HIDE SHEET'!$A$1:$A$9,FALSE),3)),(IF(K14=\"Beyond capacity\",2,IF(K14=\"At capacity\",1,0))*INDEX('Weighting Tables - HIDE SHEET'!$A$1:$C$9,MATCH(\"Capacity\",'Weighting Tables - HIDE SHEET'!$A$1:$A$9,FALSE),3)),IF(L14=\"Yes\",1*INDEX('Weighting Tables - HIDE SHEET'!$A$1:$C$9,MATCH(\"Reliability\",'Weighting Tables - HIDE SHEET'!$A$1:$A$9,FALSE),3)),IF(M14=\"Yes\",1*INDEX('Weighting Tables - HIDE SHEET'!$A$1:$C$9,MATCH(\"Repair Schedule\",'Weighting Tables - HIDE SHEET'!$A$1:$A$9,FALSE),3)))/'Weighting Tables - HIDE SHEET'!$G$4*10,0))","v":""}]
[null,null,null,null,null,null,null,null,{"$f":"IF(B15=\"\",\"\",ROUND(SUM(IF(F15=\"Greater than 75%\",4,IF(F15=\"50-75%\",3,IF(F15=\"25-50%\",2,IF(F15=\"Less than 25%\",1,0))))*INDEX('Weighting Tables - HIDE SHEET'!$A$1:$C$11,MATCH(\"Importance\",'Weighting Tables - HIDE SHEET'!$A$1:$A$11,FALSE),3),IF(G15=\"Yes\",1*INDEX('Weighting Tables - HIDE SHEET'!$A$1:$C$11,MATCH(\"Compliance\",'Weighting Tables - HIDE SHEET'!$A$1:$A$11,FALSE),3)),IF(H15=\"Yes\",1*INDEX('Weighting Tables - HIDE SHEET'!$A$1:$C$11,MATCH(\"Public Health and Environment\",'Weighting Tables - HIDE SHEET'!$A$1:$A$11,FALSE),3)))/'Weighting Tables - HIDE SHEET'!$G$3*10,0))","v":""},null,null,null,null,{"$f":"IF(ISBLANK(B15),\"\",ROUND(SUM(IF(J15=\"Yes\",1*INDEX('Weighting Tables - HIDE SHEET'!$A$1:$C$9,MATCH(\"Estimated Remaining Life\",'Weighting Tables - HIDE SHEET'!$A$1:$A$9,FALSE),3)),(IF(K15=\"Beyond capacity\",2,IF(K15=\"At capacity\",1,0))*INDEX('Weighting Tables - HIDE SHEET'!$A$1:$C$9,MATCH(\"Capacity\",'Weighting Tables - HIDE SHEET'!$A$1:$A$9,FALSE),3)),IF(L15=\"Yes\",1*INDEX('Weighting Tables - HIDE SHEET'!$A$1:$C$9,MATCH(\"Reliability\",'Weighting Tables - HIDE SHEET'!$A$1:$A$9,FALSE),3)),IF(M15=\"Yes\",1*INDEX('Weighting Tables - HIDE SHEET'!$A$1:$C$9,MATCH(\"Repair Schedule\",'Weighting Tables - HIDE SHEET'!$A$1:$A$9,FALSE),3)))/'Weighting Tables - HIDE SHEET'!$G$4*10,0))","v":""}]
[null,null,null,null,null,null,null,null,{"$f":"IF(B16=\"\",\"\",ROUND(SUM(IF(F16=\"Greater than 75%\",4,IF(F16=\"50-75%\",3,IF(F16=\"25-50%\",2,IF(F16=\"Less than 25%\",1,0))))*INDEX('Weighting Tables - HIDE SHEET'!$A$1:$C$11,MATCH(\"Importance\",'Weighting Tables - HIDE SHEET'!$A$1:$A$11,FALSE),3),IF(G16=\"Yes\",1*INDEX('Weighting Tables - HIDE SHEET'!$A$1:$C$11,MATCH(\"Compliance\",'Weighting Tables - HIDE SHEET'!$A$1:$A$11,FALSE),3)),IF(H16=\"Yes\",1*INDEX('Weighting Tables - HIDE SHEET'!$A$1:$C$11,MATCH(\"Public Health and Environment\",'Weighting Tables - HIDE SHEET'!$A$1:$A$11,FALSE),3)))/'Weighting Tables - HIDE SHEET'!$G$3*10,0))","v":""},null,null,null,null,{"$f":"IF(ISBLANK(B16),\"\",ROUND(SUM(IF(J16=\"Yes\",1*INDEX('Weighting Tables - HIDE SHEET'!$A$1:$C$9,MATCH(\"Estimated Remaining Life\",'Weighting Tables - HIDE SHEET'!$A$1:$A$9,FALSE),3)),(IF(K16=\"Beyond capacity\",2,IF(K16=\"At capacity\",1,0))*INDEX('Weighting Tables - HIDE SHEET'!$A$1:$C$9,MATCH(\"Capacity\",'Weighting Tables - HIDE SHEET'!$A$1:$A$9,FALSE),3)),IF(L16=\"Yes\",1*INDEX('Weighting Tables - HIDE SHEET'!$A$1:$C$9,MATCH(\"Reliability\",'Weighting Tables - HIDE SHEET'!$A$1:$A$9,FALSE),3)),IF(M16=\"Yes\",1*INDEX('Weighting Tables - HIDE SHEET'!$A$1:$C$9,MATCH(\"Repair Schedule\",'Weighting Tables - HIDE SHEET'!$A$1:$A$9,FALSE),3)))/'Weighting Tables - HIDE SHEET'!$G$4*10,0))","v":""}]
[null,null,null,null,null,null,null,null,{"$f":"IF(B17=\"\",\"\",ROUND(SUM(IF(F17=\"Greater than 75%\",4,IF(F17=\"50-75%\",3,IF(F17=\"25-50%\",2,IF(F17=\"Less than 25%\",1,0))))*INDEX('Weighting Tables - HIDE SHEET'!$A$1:$C$11,MATCH(\"Importance\",'Weighting Tables - HIDE SHEET'!$A$1:$A$11,FALSE),3),IF(G17=\"Yes\",1*INDEX('Weighting Tables - HIDE SHEET'!$A$1:$C$11,MATCH(\"Compliance\",'Weighting Tables - HIDE SHEET'!$A$1:$A$11,FALSE),3)),IF(H17=\"Yes\",1*INDEX('Weighting Tables - HIDE SHEET'!$A$1:$C$11,MATCH(\"Public Health and Environment\",'Weighting Tables - HIDE SHEET'!$A$1:$A$11,FALSE),3)))/'Weighting Tables - HIDE SHEET'!$G$3*10,0))","v":""},null,null,null,null,{"$f":"IF(ISBLANK(B17),\"\",ROUND(SUM(IF(J17=\"Yes\",1*INDEX('Weighting Tables - HIDE SHEET'!$A$1:$C$9,MATCH(\"Estimated Remaining Life\",'Weighting Tables - HIDE SHEET'!$A$1:$A$9,FALSE),3)),(IF(K17=\"Beyond capacity\",2,IF(K17=\"At capacity\",1,0))*INDEX('Weighting Tables - HIDE SHEET'!$A$1:$C$9,MATCH(\"Capacity\",'Weighting Tables - HIDE SHEET'!$A$1:$A$9,FALSE),3)),IF(L17=\"Yes\",1*INDEX('Weighting Tables - HIDE SHEET'!$A$1:$C$9,MATCH(\"Reliability\",'Weighting Tables - HIDE SHEET'!$A$1:$A$9,FALSE),3)),IF(M17=\"Yes\",1*INDEX('Weighting Tables - HIDE SHEET'!$A$1:$C$9,MATCH(\"Repair Schedule\",'Weighting Tables - HIDE SHEET'!$A$1:$A$9,FALSE),3)))/'Weighting Tables - HIDE SHEET'!$G$4*10,0))","v":""}]
[null,null,null,null,null,null,null,null,{"$f":"IF(B18=\"\",\"\",ROUND(SUM(IF(F18=\"Greater than 75%\",4,IF(F18=\"50-75%\",3,IF(F18=\"25-50%\",2,IF(F18=\"Less than 25%\",1,0))))*INDEX('Weighting Tables - HIDE SHEET'!$A$1:$C$11,MATCH(\"Importance\",'Weighting Tables - HIDE SHEET'!$A$1:$A$11,FALSE),3),IF(G18=\"Yes\",1*INDEX('Weighting Tables - HIDE SHEET'!$A$1:$C$11,MATCH(\"Compliance\",'Weighting Tables - HIDE SHEET'!$A$1:$A$11,FALSE),3)),IF(H18=\"Yes\",1*INDEX('Weighting Tables - HIDE SHEET'!$A$1:$C$11,MATCH(\"Public Health and Environment\",'Weighting Tables - HIDE SHEET'!$A$1:$A$11,FALSE),3)))/'Weighting Tables - HIDE SHEET'!$G$3*10,0))","v":""},null,null,null,null,{"$f":"IF(ISBLANK(B18),\"\",ROUND(SUM(IF(J18=\"Yes\",1*INDEX('Weighting Tables - HIDE SHEET'!$A$1:$C$9,MATCH(\"Estimated Remaining Life\",'Weighting Tables - HIDE SHEET'!$A$1:$A$9,FALSE),3)),(IF(K18=\"Beyond capacity\",2,IF(K18=\"At capacity\",1,0))*INDEX('Weighting Tables - HIDE SHEET'!$A$1:$C$9,MATCH(\"Capacity\",'Weighting Tables - HIDE SHEET'!$A$1:$A$9,FALSE),3)),IF(L18=\"Yes\",1*INDEX('Weighting Tables - HIDE SHEET'!$A$1:$C$9,MATCH(\"Reliability\",'Weighting Tables - HIDE SHEET'!$A$1:$A$9,FALSE),3)),IF(M18=\"Yes\",1*INDEX('Weighting Tables - HIDE SHEET'!$A$1:$C$9,MATCH(\"Repair Schedule\",'Weighting Tables - HIDE SHEET'!$A$1:$A$9,FALSE),3)))/'Weighting Tables - HIDE SHEET'!$G$4*10,0))","v":""}]
[null,null,null,null,null,null,null,null,{"$f":"IF(B19=\"\",\"\",ROUND(SUM(IF(F19=\"Greater than 75%\",4,IF(F19=\"50-75%\",3,IF(F19=\"25-50%\",2,IF(F19=\"Less than 25%\",1,0))))*INDEX('Weighting Tables - HIDE SHEET'!$A$1:$C$11,MATCH(\"Importance\",'Weighting Tables - HIDE SHEET'!$A$1:$A$11,FALSE),3),IF(G19=\"Yes\",1*INDEX('Weighting Tables - HIDE SHEET'!$A$1:$C$11,MATCH(\"Compliance\",'Weighting Tables - HIDE SHEET'!$A$1:$A$11,FALSE),3)),IF(H19=\"Yes\",1*INDEX('Weighting Tables - HIDE SHEET'!$A$1:$C$11,MATCH(\"Public Health and Environment\",'Weighting Tables - HIDE SHEET'!$A$1:$A$11,FALSE),3)))/'Weighting Tables - HIDE SHEET'!$G$3*10,0))","v":""},null,null,null,null,{"$f":"IF(ISBLANK(B19),\"\",ROUND(SUM(IF(J19=\"Yes\",1*INDEX('Weighting Tables - HIDE SHEET'!$A$1:$C$9,MATCH(\"Estimated Remaining Life\",'Weighting Tables - HIDE SHEET'!$A$1:$A$9,FALSE),3)),(IF(K19=\"Beyond capacity\",2,IF(K19=\"At capacity\",1,0))*INDEX('Weighting Tables - HIDE SHEET'!$A$1:$C$9,MATCH(\"Capacity\",'Weighting Tables - HIDE SHEET'!$A$1:$A$9,FALSE),3)),IF(L19=\"Yes\",1*INDEX('Weighting Tables - HIDE SHEET'!$A$1:$C$9,MATCH(\"Reliability\",'Weighting Tables - HIDE SHEET'!$A$1:$A$9,FALSE),3)),IF(M19=\"Yes\",1*INDEX('Weighting Tables - HIDE SHEET'!$A$1:$C$9,MATCH(\"Repair Schedule\",'Weighting Tables - HIDE SHEET'!$A$1:$A$9,FALSE),3)))/'Weighting Tables - HIDE SHEET'!$G$4*10,0))","v":""}]
[null,null,null,null,null,null,null,null,{"$f":"IF(B20=\"\",\"\",ROUND(SUM(IF(F20=\"Greater than 75%\",4,IF(F20=\"50-75%\",3,IF(F20=\"25-50%\",2,IF(F20=\"Less than 25%\",1,0))))*INDEX('Weighting Tables - HIDE SHEET'!$A$1:$C$11,MATCH(\"Importance\",'Weighting Tables - HIDE SHEET'!$A$1:$A$11,FALSE),3),IF(G20=\"Yes\",1*INDEX('Weighting Tables - HIDE SHEET'!$A$1:$C$11,MATCH(\"Compliance\",'Weighting Tables - HIDE SHEET'!$A$1:$A$11,FALSE),3)),IF(H20=\"Yes\",1*INDEX('Weighting Tables - HIDE SHEET'!$A$1:$C$11,MATCH(\"Public Health and Environment\",'Weighting Tables - HIDE SHEET'!$A$1:$A$11,FALSE),3)))/'Weighting Tables - HIDE SHEET'!$G$3*10,0))","v":""},null,null,null,null,{"$f":"IF(ISBLANK(B20),\"\",ROUND(SUM(IF(J20=\"Yes\",1*INDEX('Weighting Tables - HIDE SHEET'!$A$1:$C$9,MATCH(\"Estimated Remaining Life\",'Weighting Tables - HIDE SHEET'!$A$1:$A$9,FALSE),3)),(IF(K20=\"Beyond capacity\",2,IF(K20=\"At capacity\",1,0))*INDEX('Weighting Tables - HIDE SHEET'!$A$1:$C$9,MATCH(\"Capacity\",'Weighting Tables - HIDE SHEET'!$A$1:$A$9,FALSE),3)),IF(L20=\"Yes\",1*INDEX('Weighting Tables - HIDE SHEET'!$A$1:$C$9,MATCH(\"Reliability\",'Weighting Tables - HIDE SHEET'!$A$1:$A$9,FALSE),3)),IF(M20=\"Yes\",1*INDEX('Weighting Tables - HIDE SHEET'!$A$1:$C$9,MATCH(\"Repair Schedule\",'Weighting Tables - HIDE SHEET'!$A$1:$A$9,FALSE),3)))/'Weighting Tables - HIDE SHEET'!$G$4*10,0))","v":""}]
[null,null,null,null,null,null,null,null,{"$f":"IF(B21=\"\",\"\",ROUND(SUM(IF(F21=\"Greater than 75%\",4,IF(F21=\"50-75%\",3,IF(F21=\"25-50%\",2,IF(F21=\"Less than 25%\",1,0))))*INDEX('Weighting Tables - HIDE SHEET'!$A$1:$C$11,MATCH(\"Importance\",'Weighting Tables - HIDE SHEET'!$A$1:$A$11,FALSE),3),IF(G21=\"Yes\",1*INDEX('Weighting Tables - HIDE SHEET'!$A$1:$C$11,MATCH(\"Compliance\",'Weighting Tables - HIDE SHEET'!$A$1:$A$11,FALSE),3)),IF(H21=\"Yes\",1*INDEX('Weighting Tables - HIDE SHEET'!$A$1:$C$11,MATCH(\"Public Health and Environment\",'Weighting Tables - HIDE SHEET'!$A$1:$A$11,FALSE),3)))/'Weighting Tables - HIDE SHEET'!$G$3*10,0))","v":""},null,null,null,null,{"$f":"IF(ISBLANK(B21),\"\",ROUND(SUM(IF(J21=\"Yes\",1*INDEX('Weighting Tables - HIDE SHEET'!$A$1:$C$9,MATCH(\"Estimated Remaining Life\",'Weighting Tables - HIDE SHEET'!$A$1:$A$9,FALSE),3)),(IF(K21=\"Beyond capacity\",2,IF(K21=\"At capacity\",1,0))*INDEX('Weighting Tables - HIDE SHEET'!$A$1:$C$9,MATCH(\"Capacity\",'Weighting Tables - HIDE SHEET'!$A$1:$A$9,FALSE),3)),IF(L21=\"Yes\",1*INDEX('Weighting Tables - HIDE SHEET'!$A$1:$C$9,MATCH(\"Reliability\",'Weighting Tables - HIDE SHEET'!$A$1:$A$9,FALSE),3)),IF(M21=\"Yes\",1*INDEX('Weighting Tables - HIDE SHEET'!$A$1:$C$9,MATCH(\"Repair Schedule\",'Weighting Tables - HIDE SHEET'!$A$1:$A$9,FALSE),3)))/'Weighting Tables - HIDE SHEET'!$G$4*10,0))","v":""}]
[null,null,null,null,null,null,null,null,{"$f":"IF(B22=\"\",\"\",ROUND(SUM(IF(F22=\"Greater than 75%\",4,IF(F22=\"50-75%\",3,IF(F22=\"25-50%\",2,IF(F22=\"Less than 25%\",1,0))))*INDEX('Weighting Tables - HIDE SHEET'!$A$1:$C$11,MATCH(\"Importance\",'Weighting Tables - HIDE SHEET'!$A$1:$A$11,FALSE),3),IF(G22=\"Yes\",1*INDEX('Weighting Tables - HIDE SHEET'!$A$1:$C$11,MATCH(\"Compliance\",'Weighting Tables - HIDE SHEET'!$A$1:$A$11,FALSE),3)),IF(H22=\"Yes\",1*INDEX('Weighting Tables - HIDE SHEET'!$A$1:$C$11,MATCH(\"Public Health and Environment\",'Weighting Tables - HIDE SHEET'!$A$1:$A$11,FALSE),3)))/'Weighting Tables - HIDE SHEET'!$G$3*10,0))","v":""},null,null,null,null,{"$f":"IF(ISBLANK(B22),\"\",ROUND(SUM(IF(J22=\"Yes\",1*INDEX('Weighting Tables - HIDE SHEET'!$A$1:$C$9,MATCH(\"Estimated Remaining Life\",'Weighting Tables - HIDE SHEET'!$A$1:$A$9,FALSE),3)),(IF(K22=\"Beyond capacity\",2,IF(K22=\"At capacity\",1,0))*INDEX('Weighting Tables - HIDE SHEET'!$A$1:$C$9,MATCH(\"Capacity\",'Weighting Tables - HIDE SHEET'!$A$1:$A$9,FALSE),3)),IF(L22=\"Yes\",1*INDEX('Weighting Tables - HIDE SHEET'!$A$1:$C$9,MATCH(\"Reliability\",'Weighting Tables - HIDE SHEET'!$A$1:$A$9,FALSE),3)),IF(M22=\"Yes\",1*INDEX('Weighting Tables - HIDE SHEET'!$A$1:$C$9,MATCH(\"Repair Schedule\",'Weighting Tables - HIDE SHEET'!$A$1:$A$9,FALSE),3)))/'Weighting Tables - HIDE SHEET'!$G$4*10,0))","v":""}]
[null,null,null,null,null,null,null,null,{"$f":"IF(B23=\"\",\"\",ROUND(SUM(IF(F23=\"Greater than 75%\",4,IF(F23=\"50-75%\",3,IF(F23=\"25-50%\",2,IF(F23=\"Less than 25%\",1,0))))*INDEX('Weighting Tables - HIDE SHEET'!$A$1:$C$11,MATCH(\"Importance\",'Weighting Tables - HIDE SHEET'!$A$1:$A$11,FALSE),3),IF(G23=\"Yes\",1*INDEX('Weighting Tables - HIDE SHEET'!$A$1:$C$11,MATCH(\"Compliance\",'Weighting Tables - HIDE SHEET'!$A$1:$A$11,FALSE),3)),IF(H23=\"Yes\",1*INDEX('Weighting Tables - HIDE SHEET'!$A$1:$C$11,MATCH(\"Public Health and Environment\",'Weighting Tables - HIDE SHEET'!$A$1:$A$11,FALSE),3)))/'Weighting Tables - HIDE SHEET'!$G$3*10,0))","v":""},null,null,null,null,{"$f":"IF(ISBLANK(B23),\"\",ROUND(SUM(IF(J23=\"Yes\",1*INDEX('Weighting Tables - HIDE SHEET'!$A$1:$C$9,MATCH(\"Estimated Remaining Life\",'Weighting Tables - HIDE SHEET'!$A$1:$A$9,FALSE),3)),(IF(K23=\"Beyond capacity\",2,IF(K23=\"At capacity\",1,0))*INDEX('Weighting Tables - HIDE SHEET'!$A$1:$C$9,MATCH(\"Capacity\",'Weighting Tables - HIDE SHEET'!$A$1:$A$9,FALSE),3)),IF(L23=\"Yes\",1*INDEX('Weighting Tables - HIDE SHEET'!$A$1:$C$9,MATCH(\"Reliability\",'Weighting Tables - HIDE SHEET'!$A$1:$A$9,FALSE),3)),IF(M23=\"Yes\",1*INDEX('Weighting Tables - HIDE SHEET'!$A$1:$C$9,MATCH(\"Repair Schedule\",'Weighting Tables - HIDE SHEET'!$A$1:$A$9,FALSE),3)))/'Weighting Tables - HIDE SHEET'!$G$4*10,0))","v":""}]
[null,null,null,null,null,null,null,null,{"$f":"IF(B24=\"\",\"\",ROUND(SUM(IF(F24=\"Greater than 75%\",4,IF(F24=\"50-75%\",3,IF(F24=\"25-50%\",2,IF(F24=\"Less than 25%\",1,0))))*INDEX('Weighting Tables - HIDE SHEET'!$A$1:$C$11,MATCH(\"Importance\",'Weighting Tables - HIDE SHEET'!$A$1:$A$11,FALSE),3),IF(G24=\"Yes\",1*INDEX('Weighting Tables - HIDE SHEET'!$A$1:$C$11,MATCH(\"Compliance\",'Weighting Tables - HIDE SHEET'!$A$1:$A$11,FALSE),3)),IF(H24=\"Yes\",1*INDEX('Weighting Tables - HIDE SHEET'!$A$1:$C$11,MATCH(\"Public Health and Environment\",'Weighting Tables - HIDE SHEET'!$A$1:$A$11,FALSE),3)))/'Weighting Tables - HIDE SHEET'!$G$3*10,0))","v":""},null,null,null,null,{"$f":"IF(ISBLANK(B24),\"\",ROUND(SUM(IF(J24=\"Yes\",1*INDEX('Weighting Tables - HIDE SHEET'!$A$1:$C$9,MATCH(\"Estimated Remaining Life\",'Weighting Tables - HIDE SHEET'!$A$1:$A$9,FALSE),3)),(IF(K24=\"Beyond capacity\",2,IF(K24=\"At capacity\",1,0))*INDEX('Weighting Tables - HIDE SHEET'!$A$1:$C$9,MATCH(\"Capacity\",'Weighting Tables - HIDE SHEET'!$A$1:$A$9,FALSE),3)),IF(L24=\"Yes\",1*INDEX('Weighting Tables - HIDE SHEET'!$A$1:$C$9,MATCH(\"Reliability\",'Weighting Tables - HIDE SHEET'!$A$1:$A$9,FALSE),3)),IF(M24=\"Yes\",1*INDEX('Weighting Tables - HIDE SHEET'!$A$1:$C$9,MATCH(\"Repair Schedule\",'Weighting Tables - HIDE SHEET'!$A$1:$A$9,FALSE),3)))/'Weighting Tables - HIDE SHEET'!$G$4*10,0))","v":""}]
[null,null,null,null,null,null,null,null,{"$f":"IF(B25=\"\",\"\",ROUND(SUM(IF(F25=\"Greater than 75%\",4,IF(F25=\"50-75%\",3,IF(F25=\"25-50%\",2,IF(F25=\"Less than 25%\",1,0))))*INDEX('Weighting Tables - HIDE SHEET'!$A$1:$C$11,MATCH(\"Importance\",'Weighting Tables - HIDE SHEET'!$A$1:$A$11,FALSE),3),IF(G25=\"Yes\",1*INDEX('Weighting Tables - HIDE SHEET'!$A$1:$C$11,MATCH(\"Compliance\",'Weighting Tables - HIDE SHEET'!$A$1:$A$11,FALSE),3)),IF(H25=\"Yes\",1*INDEX('Weighting Tables - HIDE SHEET'!$A$1:$C$11,MATCH(\"Public Health and Environment\",'Weighting Tables - HIDE SHEET'!$A$1:$A$11,FALSE),3)))/'Weighting Tables - HIDE SHEET'!$G$3*10,0))","v":""},null,null,null,null,{"$f":"IF(ISBLANK(B25),\"\",ROUND(SUM(IF(J25=\"Yes\",1*INDEX('Weighting Tables - HIDE SHEET'!$A$1:$C$9,MATCH(\"Estimated Remaining Life\",'Weighting Tables - HIDE SHEET'!$A$1:$A$9,FALSE),3)),(IF(K25=\"Beyond capacity\",2,IF(K25=\"At capacity\",1,0))*INDEX('Weighting Tables - HIDE SHEET'!$A$1:$C$9,MATCH(\"Capacity\",'Weighting Tables - HIDE SHEET'!$A$1:$A$9,FALSE),3)),IF(L25=\"Yes\",1*INDEX('Weighting Tables - HIDE SHEET'!$A$1:$C$9,MATCH(\"Reliability\",'Weighting Tables - HIDE SHEET'!$A$1:$A$9,FALSE),3)),IF(M25=\"Yes\",1*INDEX('Weighting Tables - HIDE SHEET'!$A$1:$C$9,MATCH(\"Repair Schedule\",'Weighting Tables - HIDE SHEET'!$A$1:$A$9,FALSE),3)))/'Weighting Tables - HIDE SHEET'!$G$4*10,0))","v":""}]
[null,null,null,null,null,null,null,null,{"$f":"IF(B26=\"\",\"\",ROUND(SUM(IF(F26=\"Greater than 75%\",4,IF(F26=\"50-75%\",3,IF(F26=\"25-50%\",2,IF(F26=\"Less than 25%\",1,0))))*INDEX('Weighting Tables - HIDE SHEET'!$A$1:$C$11,MATCH(\"Importance\",'Weighting Tables - HIDE SHEET'!$A$1:$A$11,FALSE),3),IF(G26=\"Yes\",1*INDEX('Weighting Tables - HIDE SHEET'!$A$1:$C$11,MATCH(\"Compliance\",'Weighting Tables - HIDE SHEET'!$A$1:$A$11,FALSE),3)),IF(H26=\"Yes\",1*INDEX('Weighting Tables - HIDE SHEET'!$A$1:$C$11,MATCH(\"Public Health and Environment\",'Weighting Tables - HIDE SHEET'!$A$1:$A$11,FALSE),3)))/'Weighting Tables - HIDE SHEET'!$G$3*10,0))","v":""},null,null,null,null,{"$f":"IF(ISBLANK(B26),\"\",ROUND(SUM(IF(J26=\"Yes\",1*INDEX('Weighting Tables - HIDE SHEET'!$A$1:$C$9,MATCH(\"Estimated Remaining Life\",'Weighting Tables - HIDE SHEET'!$A$1:$A$9,FALSE),3)),(IF(K26=\"Beyond capacity\",2,IF(K26=\"At capacity\",1,0))*INDEX('Weighting Tables - HIDE SHEET'!$A$1:$C$9,MATCH(\"Capacity\",'Weighting Tables - HIDE SHEET'!$A$1:$A$9,FALSE),3)),IF(L26=\"Yes\",1*INDEX('Weighting Tables - HIDE SHEET'!$A$1:$C$9,MATCH(\"Reliability\",'Weighting Tables - HIDE SHEET'!$A$1:$A$9,FALSE),3)),IF(M26=\"Yes\",1*INDEX('Weighting Tables - HIDE SHEET'!$A$1:$C$9,MATCH(\"Repair Schedule\",'Weighting Tables - HIDE SHEET'!$A$1:$A$9,FALSE),3)))/'Weighting Tables - HIDE SHEET'!$G$4*10,0))","v":""}]
[null,null,null,null,null,null,null,null,{"$f":"IF(B27=\"\",\"\",ROUND(SUM(IF(F27=\"Greater than 75%\",4,IF(F27=\"50-75%\",3,IF(F27=\"25-50%\",2,IF(F27=\"Less than 25%\",1,0))))*INDEX('Weighting Tables - HIDE SHEET'!$A$1:$C$11,MATCH(\"Importance\",'Weighting Tables - HIDE SHEET'!$A$1:$A$11,FALSE),3),IF(G27=\"Yes\",1*INDEX('Weighting Tables - HIDE SHEET'!$A$1:$C$11,MATCH(\"Compliance\",'Weighting Tables - HIDE SHEET'!$A$1:$A$11,FALSE),3)),IF(H27=\"Yes\",1*INDEX('Weighting Tables - HIDE SHEET'!$A$1:$C$11,MATCH(\"Public Health and Environment\",'Weighting Tables - HIDE SHEET'!$A$1:$A$11,FALSE),3)))/'Weighting Tables - HIDE SHEET'!$G$3*10,0))","v":""},null,null,null,null,{"$f":"IF(ISBLANK(B27),\"\",ROUND(SUM(IF(J27=\"Yes\",1*INDEX('Weighting Tables - HIDE SHEET'!$A$1:$C$9,MATCH(\"Estimated Remaining Life\",'Weighting Tables - HIDE SHEET'!$A$1:$A$9,FALSE),3)),(IF(K27=\"Beyond capacity\",2,IF(K27=\"At capacity\",1,0))*INDEX('Weighting Tables - HIDE SHEET'!$A$1:$C$9,MATCH(\"Capacity\",'Weighting Tables - HIDE SHEET'!$A$1:$A$9,FALSE),3)),IF(L27=\"Yes\",1*INDEX('Weighting Tables - HIDE SHEET'!$A$1:$C$9,MATCH(\"Reliability\",'Weighting Tables - HIDE SHEET'!$A$1:$A$9,FALSE),3)),IF(M27=\"Yes\",1*INDEX('Weighting Tables - HIDE SHEET'!$A$1:$C$9,MATCH(\"Repair Schedule\",'Weighting Tables - HIDE SHEET'!$A$1:$A$9,FALSE),3)))/'Weighting Tables - HIDE SHEET'!$G$4*10,0))","v":""}]
[null,null,null,null,null,null,null,null,{"$f":"IF(B28=\"\",\"\",ROUND(SUM(IF(F28=\"Greater than 75%\",4,IF(F28=\"50-75%\",3,IF(F28=\"25-50%\",2,IF(F28=\"Less than 25%\",1,0))))*INDEX('Weighting Tables - HIDE SHEET'!$A$1:$C$11,MATCH(\"Importance\",'Weighting Tables - HIDE SHEET'!$A$1:$A$11,FALSE),3),IF(G28=\"Yes\",1*INDEX('Weighting Tables - HIDE SHEET'!$A$1:$C$11,MATCH(\"Compliance\",'Weighting Tables - HIDE SHEET'!$A$1:$A$11,FALSE),3)),IF(H28=\"Yes\",1*INDEX('Weighting Tables - HIDE SHEET'!$A$1:$C$11,MATCH(\"Public Health and Environment\",'Weighting Tables - HIDE SHEET'!$A$1:$A$11,FALSE),3)))/'Weighting Tables - HIDE SHEET'!$G$3*10,0))","v":""},null,null,null,null,{"$f":"IF(ISBLANK(B28),\"\",ROUND(SUM(IF(J28=\"Yes\",1*INDEX('Weighting Tables - HIDE SHEET'!$A$1:$C$9,MATCH(\"Estimated Remaining Life\",'Weighting Tables - HIDE SHEET'!$A$1:$A$9,FALSE),3)),(IF(K28=\"Beyond capacity\",2,IF(K28=\"At capacity\",1,0))*INDEX('Weighting Tables - HIDE SHEET'!$A$1:$C$9,MATCH(\"Capacity\",'Weighting Tables - HIDE SHEET'!$A$1:$A$9,FALSE),3)),IF(L28=\"Yes\",1*INDEX('Weighting Tables - HIDE SHEET'!$A$1:$C$9,MATCH(\"Reliability\",'Weighting Tables - HIDE SHEET'!$A$1:$A$9,FALSE),3)),IF(M28=\"Yes\",1*INDEX('Weighting Tables - HIDE SHEET'!$A$1:$C$9,MATCH(\"Repair Schedule\",'Weighting Tables - HIDE SHEET'!$A$1:$A$9,FALSE),3)))/'Weighting Tables - HIDE SHEET'!$G$4*10,0))","v":""}]
[null,null,null,null,null,null,null,null,{"$f":"IF(B29=\"\",\"\",ROUND(SUM(IF(F29=\"Greater than 75%\",4,IF(F29=\"50-75%\",3,IF(F29=\"25-50%\",2,IF(F29=\"Less than 25%\",1,0))))*INDEX('Weighting Tables - HIDE SHEET'!$A$1:$C$11,MATCH(\"Importance\",'Weighting Tables - HIDE SHEET'!$A$1:$A$11,FALSE),3),IF(G29=\"Yes\",1*INDEX('Weighting Tables - HIDE SHEET'!$A$1:$C$11,MATCH(\"Compliance\",'Weighting Tables - HIDE SHEET'!$A$1:$A$11,FALSE),3)),IF(H29=\"Yes\",1*INDEX('Weighting Tables - HIDE SHEET'!$A$1:$C$11,MATCH(\"Public Health and Environment\",'Weighting Tables - HIDE SHEET'!$A$1:$A$11,FALSE),3)))/'Weighting Tables - HIDE SHEET'!$G$3*10,0))","v":""},null,null,null,null,{"$f":"IF(ISBLANK(B29),\"\",ROUND(SUM(IF(J29=\"Yes\",1*INDEX('Weighting Tables - HIDE SHEET'!$A$1:$C$9,MATCH(\"Estimated Remaining Life\",'Weighting Tables - HIDE SHEET'!$A$1:$A$9,FALSE),3)),(IF(K29=\"Beyond capacity\",2,IF(K29=\"At capacity\",1,0))*INDEX('Weighting Tables - HIDE SHEET'!$A$1:$C$9,MATCH(\"Capacity\",'Weighting Tables - HIDE SHEET'!$A$1:$A$9,FALSE),3)),IF(L29=\"Yes\",1*INDEX('Weighting Tables - HIDE SHEET'!$A$1:$C$9,MATCH(\"Reliability\",'Weighting Tables - HIDE SHEET'!$A$1:$A$9,FALSE),3)),IF(M29=\"Yes\",1*INDEX('Weighting Tables - HIDE SHEET'!$A$1:$C$9,MATCH(\"Repair Schedule\",'Weighting Tables - HIDE SHEET'!$A$1:$A$9,FALSE),3)))/'Weighting Tables - HIDE SHEET'!$G$4*10,0))","v":""}]
[null,null,null,null,null,null,null,null,{"$f":"IF(B30=\"\",\"\",ROUND(SUM(IF(F30=\"Greater than 75%\",4,IF(F30=\"50-75%\",3,IF(F30=\"25-50%\",2,IF(F30=\"Less than 25%\",1,0))))*INDEX('Weighting Tables - HIDE SHEET'!$A$1:$C$11,MATCH(\"Importance\",'Weighting Tables - HIDE SHEET'!$A$1:$A$11,FALSE),3),IF(G30=\"Yes\",1*INDEX('Weighting Tables - HIDE SHEET'!$A$1:$C$11,MATCH(\"Compliance\",'Weighting Tables - HIDE SHEET'!$A$1:$A$11,FALSE),3)),IF(H30=\"Yes\",1*INDEX('Weighting Tables - HIDE SHEET'!$A$1:$C$11,MATCH(\"Public Health and Environment\",'Weighting Tables - HIDE SHEET'!$A$1:$A$11,FALSE),3)))/'Weighting Tables - HIDE SHEET'!$G$3*10,0))","v":""},null,null,null,null,{"$f":"IF(ISBLANK(B30),\"\",ROUND(SUM(IF(J30=\"Yes\",1*INDEX('Weighting Tables - HIDE SHEET'!$A$1:$C$9,MATCH(\"Estimated Remaining Life\",'Weighting Tables - HIDE SHEET'!$A$1:$A$9,FALSE),3)),(IF(K30=\"Beyond capacity\",2,IF(K30=\"At capacity\",1,0))*INDEX('Weighting Tables - HIDE SHEET'!$A$1:$C$9,MATCH(\"Capacity\",'Weighting Tables - HIDE SHEET'!$A$1:$A$9,FALSE),3)),IF(L30=\"Yes\",1*INDEX('Weighting Tables - HIDE SHEET'!$A$1:$C$9,MATCH(\"Reliability\",'Weighting Tables - HIDE SHEET'!$A$1:$A$9,FALSE),3)),IF(M30=\"Yes\",1*INDEX('Weighting Tables - HIDE SHEET'!$A$1:$C$9,MATCH(\"Repair Schedule\",'Weighting Tables - HIDE SHEET'!$A$1:$A$9,FALSE),3)))/'Weighting Tables - HIDE SHEET'!$G$4*10,0))","v":""}]
[null,null,null,null,null,null,null,null,{"$f":"IF(B31=\"\",\"\",ROUND(SUM(IF(F31=\"Greater than 75%\",4,IF(F31=\"50-75%\",3,IF(F31=\"25-50%\",2,IF(F31=\"Less than 25%\",1,0))))*INDEX('Weighting Tables - HIDE SHEET'!$A$1:$C$11,MATCH(\"Importance\",'Weighting Tables - HIDE SHEET'!$A$1:$A$11,FALSE),3),IF(G31=\"Yes\",1*INDEX('Weighting Tables - HIDE SHEET'!$A$1:$C$11,MATCH(\"Compliance\",'Weighting Tables - HIDE SHEET'!$A$1:$A$11,FALSE),3)),IF(H31=\"Yes\",1*INDEX('Weighting Tables - HIDE SHEET'!$A$1:$C$11,MATCH(\"Public Health and Environment\",'Weighting Tables - HIDE SHEET'!$A$1:$A$11,FALSE),3)))/'Weighting Tables - HIDE SHEET'!$G$3*10,0))","v":""},null,null,null,null,{"$f":"IF(ISBLANK(B31),\"\",ROUND(SUM(IF(J31=\"Yes\",1*INDEX('Weighting Tables - HIDE SHEET'!$A$1:$C$9,MATCH(\"Estimated Remaining Life\",'Weighting Tables - HIDE SHEET'!$A$1:$A$9,FALSE),3)),(IF(K31=\"Beyond capacity\",2,IF(K31=\"At capacity\",1,0))*INDEX('Weighting Tables - HIDE SHEET'!$A$1:$C$9,MATCH(\"Capacity\",'Weighting Tables - HIDE SHEET'!$A$1:$A$9,FALSE),3)),IF(L31=\"Yes\",1*INDEX('Weighting Tables - HIDE SHEET'!$A$1:$C$9,MATCH(\"Reliability\",'Weighting Tables - HIDE SHEET'!$A$1:$A$9,FALSE),3)),IF(M31=\"Yes\",1*INDEX('Weighting Tables - HIDE SHEET'!$A$1:$C$9,MATCH(\"Repair Schedule\",'Weighting Tables - HIDE SHEET'!$A$1:$A$9,FALSE),3)))/'Weighting Tables - HIDE SHEET'!$G$4*10,0))","v":""}]
[null,null,null,null,null,null,null,null,{"$f":"IF(B32=\"\",\"\",ROUND(SUM(IF(F32=\"Greater than 75%\",4,IF(F32=\"50-75%\",3,IF(F32=\"25-50%\",2,IF(F32=\"Less than 25%\",1,0))))*INDEX('Weighting Tables - HIDE SHEET'!$A$1:$C$11,MATCH(\"Importance\",'Weighting Tables - HIDE SHEET'!$A$1:$A$11,FALSE),3),IF(G32=\"Yes\",1*INDEX('Weighting Tables - HIDE SHEET'!$A$1:$C$11,MATCH(\"Compliance\",'Weighting Tables - HIDE SHEET'!$A$1:$A$11,FALSE),3)),IF(H32=\"Yes\",1*INDEX('Weighting Tables - HIDE SHEET'!$A$1:$C$11,MATCH(\"Public Health and Environment\",'Weighting Tables - HIDE SHEET'!$A$1:$A$11,FALSE),3)))/'Weighting Tables - HIDE SHEET'!$G$3*10,0))","v":""},null,null,null,null,{"$f":"IF(ISBLANK(B32),\"\",ROUND(SUM(IF(J32=\"Yes\",1*INDEX('Weighting Tables - HIDE SHEET'!$A$1:$C$9,MATCH(\"Estimated Remaining Life\",'Weighting Tables - HIDE SHEET'!$A$1:$A$9,FALSE),3)),(IF(K32=\"Beyond capacity\",2,IF(K32=\"At capacity\",1,0))*INDEX('Weighting Tables - HIDE SHEET'!$A$1:$C$9,MATCH(\"Capacity\",'Weighting Tables - HIDE SHEET'!$A$1:$A$9,FALSE),3)),IF(L32=\"Yes\",1*INDEX('Weighting Tables - HIDE SHEET'!$A$1:$C$9,MATCH(\"Reliability\",'Weighting Tables - HIDE SHEET'!$A$1:$A$9,FALSE),3)),IF(M32=\"Yes\",1*INDEX('Weighting Tables - HIDE SHEET'!$A$1:$C$9,MATCH(\"Repair Schedule\",'Weighting Tables - HIDE SHEET'!$A$1:$A$9,FALSE),3)))/'Weighting Tables - HIDE SHEET'!$G$4*10,0))","v":""}]
[null,null,null,null,null,null,null,null,{"$f":"IF(B33=\"\",\"\",ROUND(SUM(IF(F33=\"Greater than 75%\",4,IF(F33=\"50-75%\",3,IF(F33=\"25-50%\",2,IF(F33=\"Less than 25%\",1,0))))*INDEX('Weighting Tables - HIDE SHEET'!$A$1:$C$11,MATCH(\"Importance\",'Weighting Tables - HIDE SHEET'!$A$1:$A$11,FALSE),3),IF(G33=\"Yes\",1*INDEX('Weighting Tables - HIDE SHEET'!$A$1:$C$11,MATCH(\"Compliance\",'Weighting Tables - HIDE SHEET'!$A$1:$A$11,FALSE),3)),IF(H33=\"Yes\",1*INDEX('Weighting Tables - HIDE SHEET'!$A$1:$C$11,MATCH(\"Public Health and Environment\",'Weighting Tables - HIDE SHEET'!$A$1:$A$11,FALSE),3)))/'Weighting Tables - HIDE SHEET'!$G$3*10,0))","v":""},null,null,null,null,{"$f":"IF(ISBLANK(B33),\"\",ROUND(SUM(IF(J33=\"Yes\",1*INDEX('Weighting Tables - HIDE SHEET'!$A$1:$C$9,MATCH(\"Estimated Remaining Life\",'Weighting Tables - HIDE SHEET'!$A$1:$A$9,FALSE),3)),(IF(K33=\"Beyond capacity\",2,IF(K33=\"At capacity\",1,0))*INDEX('Weighting Tables - HIDE SHEET'!$A$1:$C$9,MATCH(\"Capacity\",'Weighting Tables - HIDE SHEET'!$A$1:$A$9,FALSE),3)),IF(L33=\"Yes\",1*INDEX('Weighting Tables - HIDE SHEET'!$A$1:$C$9,MATCH(\"Reliability\",'Weighting Tables - HIDE SHEET'!$A$1:$A$9,FALSE),3)),IF(M33=\"Yes\",1*INDEX('Weighting Tables - HIDE SHEET'!$A$1:$C$9,MATCH(\"Repair Schedule\",'Weighting Tables - HIDE SHEET'!$A$1:$A$9,FALSE),3)))/'Weighting Tables - HIDE SHEET'!$G$4*10,0))","v":""}]
[null,null,null,null,null,null,null,null,{"$f":"IF(B34=\"\",\"\",ROUND(SUM(IF(F34=\"Greater than 75%\",4,IF(F34=\"50-75%\",3,IF(F34=\"25-50%\",2,IF(F34=\"Less than 25%\",1,0))))*INDEX('Weighting Tables - HIDE SHEET'!$A$1:$C$11,MATCH(\"Importance\",'Weighting Tables - HIDE SHEET'!$A$1:$A$11,FALSE),3),IF(G34=\"Yes\",1*INDEX('Weighting Tables - HIDE SHEET'!$A$1:$C$11,MATCH(\"Compliance\",'Weighting Tables - HIDE SHEET'!$A$1:$A$11,FALSE),3)),IF(H34=\"Yes\",1*INDEX('Weighting Tables - HIDE SHEET'!$A$1:$C$11,MATCH(\"Public Health and Environment\",'Weighting Tables - HIDE SHEET'!$A$1:$A$11,FALSE),3)))/'Weighting Tables - HIDE SHEET'!$G$3*10,0))","v":""},null,null,null,null,{"$f":"IF(ISBLANK(B34),\"\",ROUND(SUM(IF(J34=\"Yes\",1*INDEX('Weighting Tables - HIDE SHEET'!$A$1:$C$9,MATCH(\"Estimated Remaining Life\",'Weighting Tables - HIDE SHEET'!$A$1:$A$9,FALSE),3)),(IF(K34=\"Beyond capacity\",2,IF(K34=\"At capacity\",1,0))*INDEX('Weighting Tables - HIDE SHEET'!$A$1:$C$9,MATCH(\"Capacity\",'Weighting Tables - HIDE SHEET'!$A$1:$A$9,FALSE),3)),IF(L34=\"Yes\",1*INDEX('Weighting Tables - HIDE SHEET'!$A$1:$C$9,MATCH(\"Reliability\",'Weighting Tables - HIDE SHEET'!$A$1:$A$9,FALSE),3)),IF(M34=\"Yes\",1*INDEX('Weighting Tables - HIDE SHEET'!$A$1:$C$9,MATCH(\"Repair Schedule\",'Weighting Tables - HIDE SHEET'!$A$1:$A$9,FALSE),3)))/'Weighting Tables - HIDE SHEET'!$G$4*10,0))","v":""}]
[null,null,null,null,null,null,null,null,{"$f":"IF(B35=\"\",\"\",ROUND(SUM(IF(F35=\"Greater than 75%\",4,IF(F35=\"50-75%\",3,IF(F35=\"25-50%\",2,IF(F35=\"Less than 25%\",1,0))))*INDEX('Weighting Tables - HIDE SHEET'!$A$1:$C$11,MATCH(\"Importance\",'Weighting Tables - HIDE SHEET'!$A$1:$A$11,FALSE),3),IF(G35=\"Yes\",1*INDEX('Weighting Tables - HIDE SHEET'!$A$1:$C$11,MATCH(\"Compliance\",'Weighting Tables - HIDE SHEET'!$A$1:$A$11,FALSE),3)),IF(H35=\"Yes\",1*INDEX('Weighting Tables - HIDE SHEET'!$A$1:$C$11,MATCH(\"Public Health and Environment\",'Weighting Tables - HIDE SHEET'!$A$1:$A$11,FALSE),3)))/'Weighting Tables - HIDE SHEET'!$G$3*10,0))","v":""},null,null,null,null,{"$f":"IF(ISBLANK(B35),\"\",ROUND(SUM(IF(J35=\"Yes\",1*INDEX('Weighting Tables - HIDE SHEET'!$A$1:$C$9,MATCH(\"Estimated Remaining Life\",'Weighting Tables - HIDE SHEET'!$A$1:$A$9,FALSE),3)),(IF(K35=\"Beyond capacity\",2,IF(K35=\"At capacity\",1,0))*INDEX('Weighting Tables - HIDE SHEET'!$A$1:$C$9,MATCH(\"Capacity\",'Weighting Tables - HIDE SHEET'!$A$1:$A$9,FALSE),3)),IF(L35=\"Yes\",1*INDEX('Weighting Tables - HIDE SHEET'!$A$1:$C$9,MATCH(\"Reliability\",'Weighting Tables - HIDE SHEET'!$A$1:$A$9,FALSE),3)),IF(M35=\"Yes\",1*INDEX('Weighting Tables - HIDE SHEET'!$A$1:$C$9,MATCH(\"Repair Schedule\",'Weighting Tables - HIDE SHEET'!$A$1:$A$9,FALSE),3)))/'Weighting Tables - HIDE SHEET'!$G$4*10,0))","v":""}]
[null,null,null,null,null,null,null,null,{"$f":"IF(B36=\"\",\"\",ROUND(SUM(IF(F36=\"Greater than 75%\",4,IF(F36=\"50-75%\",3,IF(F36=\"25-50%\",2,IF(F36=\"Less than 25%\",1,0))))*INDEX('Weighting Tables - HIDE SHEET'!$A$1:$C$11,MATCH(\"Importance\",'Weighting Tables - HIDE SHEET'!$A$1:$A$11,FALSE),3),IF(G36=\"Yes\",1*INDEX('Weighting Tables - HIDE SHEET'!$A$1:$C$11,MATCH(\"Compliance\",'Weighting Tables - HIDE SHEET'!$A$1:$A$11,FALSE),3)),IF(H36=\"Yes\",1*INDEX('Weighting Tables - HIDE SHEET'!$A$1:$C$11,MATCH(\"Public Health and Environment\",'Weighting Tables - HIDE SHEET'!$A$1:$A$11,FALSE),3)))/'Weighting Tables - HIDE SHEET'!$G$3*10,0))","v":""},null,null,null,null,{"$f":"IF(ISBLANK(B36),\"\",ROUND(SUM(IF(J36=\"Yes\",1*INDEX('Weighting Tables - HIDE SHEET'!$A$1:$C$9,MATCH(\"Estimated Remaining Life\",'Weighting Tables - HIDE SHEET'!$A$1:$A$9,FALSE),3)),(IF(K36=\"Beyond capacity\",2,IF(K36=\"At capacity\",1,0))*INDEX('Weighting Tables - HIDE SHEET'!$A$1:$C$9,MATCH(\"Capacity\",'Weighting Tables - HIDE SHEET'!$A$1:$A$9,FALSE),3)),IF(L36=\"Yes\",1*INDEX('Weighting Tables - HIDE SHEET'!$A$1:$C$9,MATCH(\"Reliability\",'Weighting Tables - HIDE SHEET'!$A$1:$A$9,FALSE),3)),IF(M36=\"Yes\",1*INDEX('Weighting Tables - HIDE SHEET'!$A$1:$C$9,MATCH(\"Repair Schedule\",'Weighting Tables - HIDE SHEET'!$A$1:$A$9,FALSE),3)))/'Weighting Tables - HIDE SHEET'!$G$4*10,0))","v":""}]
[null,null,null,null,null,null,null,null,{"$f":"IF(B37=\"\",\"\",ROUND(SUM(IF(F37=\"Greater than 75%\",4,IF(F37=\"50-75%\",3,IF(F37=\"25-50%\",2,IF(F37=\"Less than 25%\",1,0))))*INDEX('Weighting Tables - HIDE SHEET'!$A$1:$C$11,MATCH(\"Importance\",'Weighting Tables - HIDE SHEET'!$A$1:$A$11,FALSE),3),IF(G37=\"Yes\",1*INDEX('Weighting Tables - HIDE SHEET'!$A$1:$C$11,MATCH(\"Compliance\",'Weighting Tables - HIDE SHEET'!$A$1:$A$11,FALSE),3)),IF(H37=\"Yes\",1*INDEX('Weighting Tables - HIDE SHEET'!$A$1:$C$11,MATCH(\"Public Health and Environment\",'Weighting Tables - HIDE SHEET'!$A$1:$A$11,FALSE),3)))/'Weighting Tables - HIDE SHEET'!$G$3*10,0))","v":""},null,null,null,null,{"$f":"IF(ISBLANK(B37),\"\",ROUND(SUM(IF(J37=\"Yes\",1*INDEX('Weighting Tables - HIDE SHEET'!$A$1:$C$9,MATCH(\"Estimated Remaining Life\",'Weighting Tables - HIDE SHEET'!$A$1:$A$9,FALSE),3)),(IF(K37=\"Beyond capacity\",2,IF(K37=\"At capacity\",1,0))*INDEX('Weighting Tables - HIDE SHEET'!$A$1:$C$9,MATCH(\"Capacity\",'Weighting Tables - HIDE SHEET'!$A$1:$A$9,FALSE),3)),IF(L37=\"Yes\",1*INDEX('Weighting Tables - HIDE SHEET'!$A$1:$C$9,MATCH(\"Reliability\",'Weighting Tables - HIDE SHEET'!$A$1:$A$9,FALSE),3)),IF(M37=\"Yes\",1*INDEX('Weighting Tables - HIDE SHEET'!$A$1:$C$9,MATCH(\"Repair Schedule\",'Weighting Tables - HIDE SHEET'!$A$1:$A$9,FALSE),3)))/'Weighting Tables - HIDE SHEET'!$G$4*10,0))","v":""}]
[null,null,null,null,null,null,null,null,{"$f":"IF(B38=\"\",\"\",ROUND(SUM(IF(F38=\"Greater than 75%\",4,IF(F38=\"50-75%\",3,IF(F38=\"25-50%\",2,IF(F38=\"Less than 25%\",1,0))))*INDEX('Weighting Tables - HIDE SHEET'!$A$1:$C$11,MATCH(\"Importance\",'Weighting Tables - HIDE SHEET'!$A$1:$A$11,FALSE),3),IF(G38=\"Yes\",1*INDEX('Weighting Tables - HIDE SHEET'!$A$1:$C$11,MATCH(\"Compliance\",'Weighting Tables - HIDE SHEET'!$A$1:$A$11,FALSE),3)),IF(H38=\"Yes\",1*INDEX('Weighting Tables - HIDE SHEET'!$A$1:$C$11,MATCH(\"Public Health and Environment\",'Weighting Tables - HIDE SHEET'!$A$1:$A$11,FALSE),3)))/'Weighting Tables - HIDE SHEET'!$G$3*10,0))","v":""},null,null,null,null,{"$f":"IF(ISBLANK(B38),\"\",ROUND(SUM(IF(J38=\"Yes\",1*INDEX('Weighting Tables - HIDE SHEET'!$A$1:$C$9,MATCH(\"Estimated Remaining Life\",'Weighting Tables - HIDE SHEET'!$A$1:$A$9,FALSE),3)),(IF(K38=\"Beyond capacity\",2,IF(K38=\"At capacity\",1,0))*INDEX('Weighting Tables - HIDE SHEET'!$A$1:$C$9,MATCH(\"Capacity\",'Weighting Tables - HIDE SHEET'!$A$1:$A$9,FALSE),3)),IF(L38=\"Yes\",1*INDEX('Weighting Tables - HIDE SHEET'!$A$1:$C$9,MATCH(\"Reliability\",'Weighting Tables - HIDE SHEET'!$A$1:$A$9,FALSE),3)),IF(M38=\"Yes\",1*INDEX('Weighting Tables - HIDE SHEET'!$A$1:$C$9,MATCH(\"Repair Schedule\",'Weighting Tables - HIDE SHEET'!$A$1:$A$9,FALSE),3)))/'Weighting Tables - HIDE SHEET'!$G$4*10,0))","v":""}]
[null,null,null,null,null,null,null,null,{"$f":"IF(B39=\"\",\"\",ROUND(SUM(IF(F39=\"Greater than 75%\",4,IF(F39=\"50-75%\",3,IF(F39=\"25-50%\",2,IF(F39=\"Less than 25%\",1,0))))*INDEX('Weighting Tables - HIDE SHEET'!$A$1:$C$11,MATCH(\"Importance\",'Weighting Tables - HIDE SHEET'!$A$1:$A$11,FALSE),3),IF(G39=\"Yes\",1*INDEX('Weighting Tables - HIDE SHEET'!$A$1:$C$11,MATCH(\"Compliance\",'Weighting Tables - HIDE SHEET'!$A$1:$A$11,FALSE),3)),IF(H39=\"Yes\",1*INDEX('Weighting Tables - HIDE SHEET'!$A$1:$C$11,MATCH(\"Public Health and Environment\",'Weighting Tables - HIDE SHEET'!$A$1:$A$11,FALSE),3)))/'Weighting Tables - HIDE SHEET'!$G$3*10,0))","v":""},null,null,null,null,{"$f":"IF(ISBLANK(B39),\"\",ROUND(SUM(IF(J39=\"Yes\",1*INDEX('Weighting Tables - HIDE SHEET'!$A$1:$C$9,MATCH(\"Estimated Remaining Life\",'Weighting Tables - HIDE SHEET'!$A$1:$A$9,FALSE),3)),(IF(K39=\"Beyond capacity\",2,IF(K39=\"At capacity\",1,0))*INDEX('Weighting Tables - HIDE SHEET'!$A$1:$C$9,MATCH(\"Capacity\",'Weighting Tables - HIDE SHEET'!$A$1:$A$9,FALSE),3)),IF(L39=\"Yes\",1*INDEX('Weighting Tables - HIDE SHEET'!$A$1:$C$9,MATCH(\"Reliability\",'Weighting Tables - HIDE SHEET'!$A$1:$A$9,FALSE),3)),IF(M39=\"Yes\",1*INDEX('Weighting Tables - HIDE SHEET'!$A$1:$C$9,MATCH(\"Repair Schedule\",'Weighting Tables - HIDE SHEET'!$A$1:$A$9,FALSE),3)))/'Weighting Tables - HIDE SHEET'!$G$4*10,0))","v":""}]
[null,null,null,null,null,null,null,null,{"$f":"IF(B40=\"\",\"\",ROUND(SUM(IF(F40=\"Greater than 75%\",4,IF(F40=\"50-75%\",3,IF(F40=\"25-50%\",2,IF(F40=\"Less than 25%\",1,0))))*INDEX('Weighting Tables - HIDE SHEET'!$A$1:$C$11,MATCH(\"Importance\",'Weighting Tables - HIDE SHEET'!$A$1:$A$11,FALSE),3),IF(G40=\"Yes\",1*INDEX('Weighting Tables - HIDE SHEET'!$A$1:$C$11,MATCH(\"Compliance\",'Weighting Tables - HIDE SHEET'!$A$1:$A$11,FALSE),3)),IF(H40=\"Yes\",1*INDEX('Weighting Tables - HIDE SHEET'!$A$1:$C$11,MATCH(\"Public Health and Environment\",'Weighting Tables - HIDE SHEET'!$A$1:$A$11,FALSE),3)))/'Weighting Tables - HIDE SHEET'!$G$3*10,0))","v":""},null,null,null,null,{"$f":"IF(ISBLANK(B40),\"\",ROUND(SUM(IF(J40=\"Yes\",1*INDEX('Weighting Tables - HIDE SHEET'!$A$1:$C$9,MATCH(\"Estimated Remaining Life\",'Weighting Tables - HIDE SHEET'!$A$1:$A$9,FALSE),3)),(IF(K40=\"Beyond capacity\",2,IF(K40=\"At capacity\",1,0))*INDEX('Weighting Tables - HIDE SHEET'!$A$1:$C$9,MATCH(\"Capacity\",'Weighting Tables - HIDE SHEET'!$A$1:$A$9,FALSE),3)),IF(L40=\"Yes\",1*INDEX('Weighting Tables - HIDE SHEET'!$A$1:$C$9,MATCH(\"Reliability\",'Weighting Tables - HIDE SHEET'!$A$1:$A$9,FALSE),3)),IF(M40=\"Yes\",1*INDEX('Weighting Tables - HIDE SHEET'!$A$1:$C$9,MATCH(\"Repair Schedule\",'Weighting Tables - HIDE SHEET'!$A$1:$A$9,FALSE),3)))/'Weighting Tables - HIDE SHEET'!$G$4*10,0))","v":""}]
[null,null,null,null,null,null,null,null,{"$f":"IF(B41=\"\",\"\",ROUND(SUM(IF(F41=\"Greater than 75%\",4,IF(F41=\"50-75%\",3,IF(F41=\"25-50%\",2,IF(F41=\"Less than 25%\",1,0))))*INDEX('Weighting Tables - HIDE SHEET'!$A$1:$C$11,MATCH(\"Importance\",'Weighting Tables - HIDE SHEET'!$A$1:$A$11,FALSE),3),IF(G41=\"Yes\",1*INDEX('Weighting Tables - HIDE SHEET'!$A$1:$C$11,MATCH(\"Compliance\",'Weighting Tables - HIDE SHEET'!$A$1:$A$11,FALSE),3)),IF(H41=\"Yes\",1*INDEX('Weighting Tables - HIDE SHEET'!$A$1:$C$11,MATCH(\"Public Health and Environment\",'Weighting Tables - HIDE SHEET'!$A$1:$A$11,FALSE),3)))/'Weighting Tables - HIDE SHEET'!$G$3*10,0))","v":""},null,null,null,null,{"$f":"IF(ISBLANK(B41),\"\",ROUND(SUM(IF(J41=\"Yes\",1*INDEX('Weighting Tables - HIDE SHEET'!$A$1:$C$9,MATCH(\"Estimated Remaining Life\",'Weighting Tables - HIDE SHEET'!$A$1:$A$9,FALSE),3)),(IF(K41=\"Beyond capacity\",2,IF(K41=\"At capacity\",1,0))*INDEX('Weighting Tables - HIDE SHEET'!$A$1:$C$9,MATCH(\"Capacity\",'Weighting Tables - HIDE SHEET'!$A$1:$A$9,FALSE),3)),IF(L41=\"Yes\",1*INDEX('Weighting Tables - HIDE SHEET'!$A$1:$C$9,MATCH(\"Reliability\",'Weighting Tables - HIDE SHEET'!$A$1:$A$9,FALSE),3)),IF(M41=\"Yes\",1*INDEX('Weighting Tables - HIDE SHEET'!$A$1:$C$9,MATCH(\"Repair Schedule\",'Weighting Tables - HIDE SHEET'!$A$1:$A$9,FALSE),3)))/'Weighting Tables - HIDE SHEET'!$G$4*10,0))","v":""}]
[null,null,null,null,null,null,null,null,{"$f":"IF(B42=\"\",\"\",ROUND(SUM(IF(F42=\"Greater than 75%\",4,IF(F42=\"50-75%\",3,IF(F42=\"25-50%\",2,IF(F42=\"Less than 25%\",1,0))))*INDEX('Weighting Tables - HIDE SHEET'!$A$1:$C$11,MATCH(\"Importance\",'Weighting Tables - HIDE SHEET'!$A$1:$A$11,FALSE),3),IF(G42=\"Yes\",1*INDEX('Weighting Tables - HIDE SHEET'!$A$1:$C$11,MATCH(\"Compliance\",'Weighting Tables - HIDE SHEET'!$A$1:$A$11,FALSE),3)),IF(H42=\"Yes\",1*INDEX('Weighting Tables - HIDE SHEET'!$A$1:$C$11,MATCH(\"Public Health and Environment\",'Weighting Tables - HIDE SHEET'!$A$1:$A$11,FALSE),3)))/'Weighting Tables - HIDE SHEET'!$G$3*10,0))","v":""},null,null,null,null,{"$f":"IF(ISBLANK(B42),\"\",ROUND(SUM(IF(J42=\"Yes\",1*INDEX('Weighting Tables - HIDE SHEET'!$A$1:$C$9,MATCH(\"Estimated Remaining Life\",'Weighting Tables - HIDE SHEET'!$A$1:$A$9,FALSE),3)),(IF(K42=\"Beyond capacity\",2,IF(K42=\"At capacity\",1,0))*INDEX('Weighting Tables - HIDE SHEET'!$A$1:$C$9,MATCH(\"Capacity\",'Weighting Tables - HIDE SHEET'!$A$1:$A$9,FALSE),3)),IF(L42=\"Yes\",1*INDEX('Weighting Tables - HIDE SHEET'!$A$1:$C$9,MATCH(\"Reliability\",'Weighting Tables - HIDE SHEET'!$A$1:$A$9,FALSE),3)),IF(M42=\"Yes\",1*INDEX('Weighting Tables - HIDE SHEET'!$A$1:$C$9,MATCH(\"Repair Schedule\",'Weighting Tables - HIDE SHEET'!$A$1:$A$9,FALSE),3)))/'Weighting Tables - HIDE SHEET'!$G$4*10,0))","v":""}]
[null,null,null,null,null,null,null,null,{"$f":"IF(B43=\"\",\"\",ROUND(SUM(IF(F43=\"Greater than 75%\",4,IF(F43=\"50-75%\",3,IF(F43=\"25-50%\",2,IF(F43=\"Less than 25%\",1,0))))*INDEX('Weighting Tables - HIDE SHEET'!$A$1:$C$11,MATCH(\"Importance\",'Weighting Tables - HIDE SHEET'!$A$1:$A$11,FALSE),3),IF(G43=\"Yes\",1*INDEX('Weighting Tables - HIDE SHEET'!$A$1:$C$11,MATCH(\"Compliance\",'Weighting Tables - HIDE SHEET'!$A$1:$A$11,FALSE),3)),IF(H43=\"Yes\",1*INDEX('Weighting Tables - HIDE SHEET'!$A$1:$C$11,MATCH(\"Public Health and Environment\",'Weighting Tables - HIDE SHEET'!$A$1:$A$11,FALSE),3)))/'Weighting Tables - HIDE SHEET'!$G$3*10,0))","v":""},null,null,null,null,{"$f":"IF(ISBLANK(B43),\"\",ROUND(SUM(IF(J43=\"Yes\",1*INDEX('Weighting Tables - HIDE SHEET'!$A$1:$C$9,MATCH(\"Estimated Remaining Life\",'Weighting Tables - HIDE SHEET'!$A$1:$A$9,FALSE),3)),(IF(K43=\"Beyond capacity\",2,IF(K43=\"At capacity\",1,0))*INDEX('Weighting Tables - HIDE SHEET'!$A$1:$C$9,MATCH(\"Capacity\",'Weighting Tables - HIDE SHEET'!$A$1:$A$9,FALSE),3)),IF(L43=\"Yes\",1*INDEX('Weighting Tables - HIDE SHEET'!$A$1:$C$9,MATCH(\"Reliability\",'Weighting Tables - HIDE SHEET'!$A$1:$A$9,FALSE),3)),IF(M43=\"Yes\",1*INDEX('Weighting Tables - HIDE SHEET'!$A$1:$C$9,MATCH(\"Repair Schedule\",'Weighting Tables - HIDE SHEET'!$A$1:$A$9,FALSE),3)))/'Weighting Tables - HIDE SHEET'!$G$4*10,0))","v":""}]
[null,null,null,null,null,null,null,null,{"$f":"IF(B44=\"\",\"\",ROUND(SUM(IF(F44=\"Greater than 75%\",4,IF(F44=\"50-75%\",3,IF(F44=\"25-50%\",2,IF(F44=\"Less than 25%\",1,0))))*INDEX('Weighting Tables - HIDE SHEET'!$A$1:$C$11,MATCH(\"Importance\",'Weighting Tables - HIDE SHEET'!$A$1:$A$11,FALSE),3),IF(G44=\"Yes\",1*INDEX('Weighting Tables - HIDE SHEET'!$A$1:$C$11,MATCH(\"Compliance\",'Weighting Tables - HIDE SHEET'!$A$1:$A$11,FALSE),3)),IF(H44=\"Yes\",1*INDEX('Weighting Tables - HIDE SHEET'!$A$1:$C$11,MATCH(\"Public Health and Environment\",'Weighting Tables - HIDE SHEET'!$A$1:$A$11,FALSE),3)))/'Weighting Tables - HIDE SHEET'!$G$3*10,0))","v":""},null,null,null,null,{"$f":"IF(ISBLANK(B44),\"\",ROUND(SUM(IF(J44=\"Yes\",1*INDEX('Weighting Tables - HIDE SHEET'!$A$1:$C$9,MATCH(\"Estimated Remaining Life\",'Weighting Tables - HIDE SHEET'!$A$1:$A$9,FALSE),3)),(IF(K44=\"Beyond capacity\",2,IF(K44=\"At capacity\",1,0))*INDEX('Weighting Tables - HIDE SHEET'!$A$1:$C$9,MATCH(\"Capacity\",'Weighting Tables - HIDE SHEET'!$A$1:$A$9,FALSE),3)),IF(L44=\"Yes\",1*INDEX('Weighting Tables - HIDE SHEET'!$A$1:$C$9,MATCH(\"Reliability\",'Weighting Tables - HIDE SHEET'!$A$1:$A$9,FALSE),3)),IF(M44=\"Yes\",1*INDEX('Weighting Tables - HIDE SHEET'!$A$1:$C$9,MATCH(\"Repair Schedule\",'Weighting Tables - HIDE SHEET'!$A$1:$A$9,FALSE),3)))/'Weighting Tables - HIDE SHEET'!$G$4*10,0))","v":""}]
[null,null,null,null,null,null,null,null,{"$f":"IF(B45=\"\",\"\",ROUND(SUM(IF(F45=\"Greater than 75%\",4,IF(F45=\"50-75%\",3,IF(F45=\"25-50%\",2,IF(F45=\"Less than 25%\",1,0))))*INDEX('Weighting Tables - HIDE SHEET'!$A$1:$C$11,MATCH(\"Importance\",'Weighting Tables - HIDE SHEET'!$A$1:$A$11,FALSE),3),IF(G45=\"Yes\",1*INDEX('Weighting Tables - HIDE SHEET'!$A$1:$C$11,MATCH(\"Compliance\",'Weighting Tables - HIDE SHEET'!$A$1:$A$11,FALSE),3)),IF(H45=\"Yes\",1*INDEX('Weighting Tables - HIDE SHEET'!$A$1:$C$11,MATCH(\"Public Health and Environment\",'Weighting Tables - HIDE SHEET'!$A$1:$A$11,FALSE),3)))/'Weighting Tables - HIDE SHEET'!$G$3*10,0))","v":""},null,null,null,null,{"$f":"IF(ISBLANK(B45),\"\",ROUND(SUM(IF(J45=\"Yes\",1*INDEX('Weighting Tables - HIDE SHEET'!$A$1:$C$9,MATCH(\"Estimated Remaining Life\",'Weighting Tables - HIDE SHEET'!$A$1:$A$9,FALSE),3)),(IF(K45=\"Beyond capacity\",2,IF(K45=\"At capacity\",1,0))*INDEX('Weighting Tables - HIDE SHEET'!$A$1:$C$9,MATCH(\"Capacity\",'Weighting Tables - HIDE SHEET'!$A$1:$A$9,FALSE),3)),IF(L45=\"Yes\",1*INDEX('Weighting Tables - HIDE SHEET'!$A$1:$C$9,MATCH(\"Reliability\",'Weighting Tables - HIDE SHEET'!$A$1:$A$9,FALSE),3)),IF(M45=\"Yes\",1*INDEX('Weighting Tables - HIDE SHEET'!$A$1:$C$9,MATCH(\"Repair Schedule\",'Weighting Tables - HIDE SHEET'!$A$1:$A$9,FALSE),3)))/'Weighting Tables - HIDE SHEET'!$G$4*10,0))","v":""}]
[null,null,null,null,null,null,null,null,{"$f":"IF(B46=\"\",\"\",ROUND(SUM(IF(F46=\"Greater than 75%\",4,IF(F46=\"50-75%\",3,IF(F46=\"25-50%\",2,IF(F46=\"Less than 25%\",1,0))))*INDEX('Weighting Tables - HIDE SHEET'!$A$1:$C$11,MATCH(\"Importance\",'Weighting Tables - HIDE SHEET'!$A$1:$A$11,FALSE),3),IF(G46=\"Yes\",1*INDEX('Weighting Tables - HIDE SHEET'!$A$1:$C$11,MATCH(\"Compliance\",'Weighting Tables - HIDE SHEET'!$A$1:$A$11,FALSE),3)),IF(H46=\"Yes\",1*INDEX('Weighting Tables - HIDE SHEET'!$A$1:$C$11,MATCH(\"Public Health and Environment\",'Weighting Tables - HIDE SHEET'!$A$1:$A$11,FALSE),3)))/'Weighting Tables - HIDE SHEET'!$G$3*10,0))","v":""},null,null,null,null,{"$f":"IF(ISBLANK(B46),\"\",ROUND(SUM(IF(J46=\"Yes\",1*INDEX('Weighting Tables - HIDE SHEET'!$A$1:$C$9,MATCH(\"Estimated Remaining Life\",'Weighting Tables - HIDE SHEET'!$A$1:$A$9,FALSE),3)),(IF(K46=\"Beyond capacity\",2,IF(K46=\"At capacity\",1,0))*INDEX('Weighting Tables - HIDE SHEET'!$A$1:$C$9,MATCH(\"Capacity\",'Weighting Tables - HIDE SHEET'!$A$1:$A$9,FALSE),3)),IF(L46=\"Yes\",1*INDEX('Weighting Tables - HIDE SHEET'!$A$1:$C$9,MATCH(\"Reliability\",'Weighting Tables - HIDE SHEET'!$A$1:$A$9,FALSE),3)),IF(M46=\"Yes\",1*INDEX('Weighting Tables - HIDE SHEET'!$A$1:$C$9,MATCH(\"Repair Schedule\",'Weighting Tables - HIDE SHEET'!$A$1:$A$9,FALSE),3)))/'Weighting Tables - HIDE SHEET'!$G$4*10,0))","v":""}]
[null,null,null,null,null,null,null,null,{"$f":"IF(B47=\"\",\"\",ROUND(SUM(IF(F47=\"Greater than 75%\",4,IF(F47=\"50-75%\",3,IF(F47=\"25-50%\",2,IF(F47=\"Less than 25%\",1,0))))*INDEX('Weighting Tables - HIDE SHEET'!$A$1:$C$11,MATCH(\"Importance\",'Weighting Tables - HIDE SHEET'!$A$1:$A$11,FALSE),3),IF(G47=\"Yes\",1*INDEX('Weighting Tables - HIDE SHEET'!$A$1:$C$11,MATCH(\"Compliance\",'Weighting Tables - HIDE SHEET'!$A$1:$A$11,FALSE),3)),IF(H47=\"Yes\",1*INDEX('Weighting Tables - HIDE SHEET'!$A$1:$C$11,MATCH(\"Public Health and Environment\",'Weighting Tables - HIDE SHEET'!$A$1:$A$11,FALSE),3)))/'Weighting Tables - HIDE SHEET'!$G$3*10,0))","v":""},null,null,null,null,{"$f":"IF(ISBLANK(B47),\"\",ROUND(SUM(IF(J47=\"Yes\",1*INDEX('Weighting Tables - HIDE SHEET'!$A$1:$C$9,MATCH(\"Estimated Remaining Life\",'Weighting Tables - HIDE SHEET'!$A$1:$A$9,FALSE),3)),(IF(K47=\"Beyond capacity\",2,IF(K47=\"At capacity\",1,0))*INDEX('Weighting Tables - HIDE SHEET'!$A$1:$C$9,MATCH(\"Capacity\",'Weighting Tables - HIDE SHEET'!$A$1:$A$9,FALSE),3)),IF(L47=\"Yes\",1*INDEX('Weighting Tables - HIDE SHEET'!$A$1:$C$9,MATCH(\"Reliability\",'Weighting Tables - HIDE SHEET'!$A$1:$A$9,FALSE),3)),IF(M47=\"Yes\",1*INDEX('Weighting Tables - HIDE SHEET'!$A$1:$C$9,MATCH(\"Repair Schedule\",'Weighting Tables - HIDE SHEET'!$A$1:$A$9,FALSE),3)))/'Weighting Tables - HIDE SHEET'!$G$4*10,0))","v":""}]
[null,null,null,null,null,null,null,null,{"$f":"IF(B48=\"\",\"\",ROUND(SUM(IF(F48=\"Greater than 75%\",4,IF(F48=\"50-75%\",3,IF(F48=\"25-50%\",2,IF(F48=\"Less than 25%\",1,0))))*INDEX('Weighting Tables - HIDE SHEET'!$A$1:$C$11,MATCH(\"Importance\",'Weighting Tables - HIDE SHEET'!$A$1:$A$11,FALSE),3),IF(G48=\"Yes\",1*INDEX('Weighting Tables - HIDE SHEET'!$A$1:$C$11,MATCH(\"Compliance\",'Weighting Tables - HIDE SHEET'!$A$1:$A$11,FALSE),3)),IF(H48=\"Yes\",1*INDEX('Weighting Tables - HIDE SHEET'!$A$1:$C$11,MATCH(\"Public Health and Environment\",'Weighting Tables - HIDE SHEET'!$A$1:$A$11,FALSE),3)))/'Weighting Tables - HIDE SHEET'!$G$3*10,0))","v":""},null,null,null,null,{"$f":"IF(ISBLANK(B48),\"\",ROUND(SUM(IF(J48=\"Yes\",1*INDEX('Weighting Tables - HIDE SHEET'!$A$1:$C$9,MATCH(\"Estimated Remaining Life\",'Weighting Tables - HIDE SHEET'!$A$1:$A$9,FALSE),3)),(IF(K48=\"Beyond capacity\",2,IF(K48=\"At capacity\",1,0))*INDEX('Weighting Tables - HIDE SHEET'!$A$1:$C$9,MATCH(\"Capacity\",'Weighting Tables - HIDE SHEET'!$A$1:$A$9,FALSE),3)),IF(L48=\"Yes\",1*INDEX('Weighting Tables - HIDE SHEET'!$A$1:$C$9,MATCH(\"Reliability\",'Weighting Tables - HIDE SHEET'!$A$1:$A$9,FALSE),3)),IF(M48=\"Yes\",1*INDEX('Weighting Tables - HIDE SHEET'!$A$1:$C$9,MATCH(\"Repair Schedule\",'Weighting Tables - HIDE SHEET'!$A$1:$A$9,FALSE),3)))/'Weighting Tables - HIDE SHEET'!$G$4*10,0))","v":""}]
[null,null,null,null,null,null,null,null,{"$f":"IF(B49=\"\",\"\",ROUND(SUM(IF(F49=\"Greater than 75%\",4,IF(F49=\"50-75%\",3,IF(F49=\"25-50%\",2,IF(F49=\"Less than 25%\",1,0))))*INDEX('Weighting Tables - HIDE SHEET'!$A$1:$C$11,MATCH(\"Importance\",'Weighting Tables - HIDE SHEET'!$A$1:$A$11,FALSE),3),IF(G49=\"Yes\",1*INDEX('Weighting Tables - HIDE SHEET'!$A$1:$C$11,MATCH(\"Compliance\",'Weighting Tables - HIDE SHEET'!$A$1:$A$11,FALSE),3)),IF(H49=\"Yes\",1*INDEX('Weighting Tables - HIDE SHEET'!$A$1:$C$11,MATCH(\"Public Health and Environment\",'Weighting Tables - HIDE SHEET'!$A$1:$A$11,FALSE),3)))/'Weighting Tables - HIDE SHEET'!$G$3*10,0))","v":""},null,null,null,null,{"$f":"IF(ISBLANK(B49),\"\",ROUND(SUM(IF(J49=\"Yes\",1*INDEX('Weighting Tables - HIDE SHEET'!$A$1:$C$9,MATCH(\"Estimated Remaining Life\",'Weighting Tables - HIDE SHEET'!$A$1:$A$9,FALSE),3)),(IF(K49=\"Beyond capacity\",2,IF(K49=\"At capacity\",1,0))*INDEX('Weighting Tables - HIDE SHEET'!$A$1:$C$9,MATCH(\"Capacity\",'Weighting Tables - HIDE SHEET'!$A$1:$A$9,FALSE),3)),IF(L49=\"Yes\",1*INDEX('Weighting Tables - HIDE SHEET'!$A$1:$C$9,MATCH(\"Reliability\",'Weighting Tables - HIDE SHEET'!$A$1:$A$9,FALSE),3)),IF(M49=\"Yes\",1*INDEX('Weighting Tables - HIDE SHEET'!$A$1:$C$9,MATCH(\"Repair Schedule\",'Weighting Tables - HIDE SHEET'!$A$1:$A$9,FALSE),3)))/'Weighting Tables - HIDE SHEET'!$G$4*10,0))","v":""}]
[null,null,null,null,null,null,null,null,{"$f":"IF(B50=\"\",\"\",ROUND(SUM(IF(F50=\"Greater than 75%\",4,IF(F50=\"50-75%\",3,IF(F50=\"25-50%\",2,IF(F50=\"Less than 25%\",1,0))))*INDEX('Weighting Tables - HIDE SHEET'!$A$1:$C$11,MATCH(\"Importance\",'Weighting Tables - HIDE SHEET'!$A$1:$A$11,FALSE),3),IF(G50=\"Yes\",1*INDEX('Weighting Tables - HIDE SHEET'!$A$1:$C$11,MATCH(\"Compliance\",'Weighting Tables - HIDE SHEET'!$A$1:$A$11,FALSE),3)),IF(H50=\"Yes\",1*INDEX('Weighting Tables - HIDE SHEET'!$A$1:$C$11,MATCH(\"Public Health and Environment\",'Weighting Tables - HIDE SHEET'!$A$1:$A$11,FALSE),3)))/'Weighting Tables - HIDE SHEET'!$G$3*10,0))","v":""},null,null,null,null,{"$f":"IF(ISBLANK(B50),\"\",ROUND(SUM(IF(J50=\"Yes\",1*INDEX('Weighting Tables - HIDE SHEET'!$A$1:$C$9,MATCH(\"Estimated Remaining Life\",'Weighting Tables - HIDE SHEET'!$A$1:$A$9,FALSE),3)),(IF(K50=\"Beyond capacity\",2,IF(K50=\"At capacity\",1,0))*INDEX('Weighting Tables - HIDE SHEET'!$A$1:$C$9,MATCH(\"Capacity\",'Weighting Tables - HIDE SHEET'!$A$1:$A$9,FALSE),3)),IF(L50=\"Yes\",1*INDEX('Weighting Tables - HIDE SHEET'!$A$1:$C$9,MATCH(\"Reliability\",'Weighting Tables - HIDE SHEET'!$A$1:$A$9,FALSE),3)),IF(M50=\"Yes\",1*INDEX('Weighting Tables - HIDE SHEET'!$A$1:$C$9,MATCH(\"Repair Schedule\",'Weighting Tables - HIDE SHEET'!$A$1:$A$9,FALSE),3)))/'Weighting Tables - HIDE SHEET'!$G$4*10,0))","v":""}]
[null,null,null,null,null,null,null,null,{"$f":"IF(B51=\"\",\"\",ROUND(SUM(IF(F51=\"Greater than 75%\",4,IF(F51=\"50-75%\",3,IF(F51=\"25-50%\",2,IF(F51=\"Less than 25%\",1,0))))*INDEX('Weighting Tables - HIDE SHEET'!$A$1:$C$11,MATCH(\"Importance\",'Weighting Tables - HIDE SHEET'!$A$1:$A$11,FALSE),3),IF(G51=\"Yes\",1*INDEX('Weighting Tables - HIDE SHEET'!$A$1:$C$11,MATCH(\"Compliance\",'Weighting Tables - HIDE SHEET'!$A$1:$A$11,FALSE),3)),IF(H51=\"Yes\",1*INDEX('Weighting Tables - HIDE SHEET'!$A$1:$C$11,MATCH(\"Public Health and Environment\",'Weighting Tables - HIDE SHEET'!$A$1:$A$11,FALSE),3)))/'Weighting Tables - HIDE SHEET'!$G$3*10,0))","v":""},null,null,null,null,{"$f":"IF(ISBLANK(B51),\"\",ROUND(SUM(IF(J51=\"Yes\",1*INDEX('Weighting Tables - HIDE SHEET'!$A$1:$C$9,MATCH(\"Estimated Remaining Life\",'Weighting Tables - HIDE SHEET'!$A$1:$A$9,FALSE),3)),(IF(K51=\"Beyond capacity\",2,IF(K51=\"At capacity\",1,0))*INDEX('Weighting Tables - HIDE SHEET'!$A$1:$C$9,MATCH(\"Capacity\",'Weighting Tables - HIDE SHEET'!$A$1:$A$9,FALSE),3)),IF(L51=\"Yes\",1*INDEX('Weighting Tables - HIDE SHEET'!$A$1:$C$9,MATCH(\"Reliability\",'Weighting Tables - HIDE SHEET'!$A$1:$A$9,FALSE),3)),IF(M51=\"Yes\",1*INDEX('Weighting Tables - HIDE SHEET'!$A$1:$C$9,MATCH(\"Repair Schedule\",'Weighting Tables - HIDE SHEET'!$A$1:$A$9,FALSE),3)))/'Weighting Tables - HIDE SHEET'!$G$4*10,0))","v":""}]
[null,null,null,null,null,null,null,null,{"$f":"IF(B52=\"\",\"\",ROUND(SUM(IF(F52=\"Greater than 75%\",4,IF(F52=\"50-75%\",3,IF(F52=\"25-50%\",2,IF(F52=\"Less than 25%\",1,0))))*INDEX('Weighting Tables - HIDE SHEET'!$A$1:$C$11,MATCH(\"Importance\",'Weighting Tables - HIDE SHEET'!$A$1:$A$11,FALSE),3),IF(G52=\"Yes\",1*INDEX('Weighting Tables - HIDE SHEET'!$A$1:$C$11,MATCH(\"Compliance\",'Weighting Tables - HIDE SHEET'!$A$1:$A$11,FALSE),3)),IF(H52=\"Yes\",1*INDEX('Weighting Tables - HIDE SHEET'!$A$1:$C$11,MATCH(\"Public Health and Environment\",'Weighting Tables - HIDE SHEET'!$A$1:$A$11,FALSE),3)))/'Weighting Tables - HIDE SHEET'!$G$3*10,0))","v":""},null,null,null,null,{"$f":"IF(ISBLANK(B52),\"\",ROUND(SUM(IF(J52=\"Yes\",1*INDEX('Weighting Tables - HIDE SHEET'!$A$1:$C$9,MATCH(\"Estimated Remaining Life\",'Weighting Tables - HIDE SHEET'!$A$1:$A$9,FALSE),3)),(IF(K52=\"Beyond capacity\",2,IF(K52=\"At capacity\",1,0))*INDEX('Weighting Tables - HIDE SHEET'!$A$1:$C$9,MATCH(\"Capacity\",'Weighting Tables - HIDE SHEET'!$A$1:$A$9,FALSE),3)),IF(L52=\"Yes\",1*INDEX('Weighting Tables - HIDE SHEET'!$A$1:$C$9,MATCH(\"Reliability\",'Weighting Tables - HIDE SHEET'!$A$1:$A$9,FALSE),3)),IF(M52=\"Yes\",1*INDEX('Weighting Tables - HIDE SHEET'!$A$1:$C$9,MATCH(\"Repair Schedule\",'Weighting Tables - HIDE SHEET'!$A$1:$A$9,FALSE),3)))/'Weighting Tables - HIDE SHEET'!$G$4*10,0))","v":""}]
[null,null,null,null,null,null,null,null,{"$f":"IF(B53=\"\",\"\",ROUND(SUM(IF(F53=\"Greater than 75%\",4,IF(F53=\"50-75%\",3,IF(F53=\"25-50%\",2,IF(F53=\"Less than 25%\",1,0))))*INDEX('Weighting Tables - HIDE SHEET'!$A$1:$C$11,MATCH(\"Importance\",'Weighting Tables - HIDE SHEET'!$A$1:$A$11,FALSE),3),IF(G53=\"Yes\",1*INDEX('Weighting Tables - HIDE SHEET'!$A$1:$C$11,MATCH(\"Compliance\",'Weighting Tables - HIDE SHEET'!$A$1:$A$11,FALSE),3)),IF(H53=\"Yes\",1*INDEX('Weighting Tables - HIDE SHEET'!$A$1:$C$11,MATCH(\"Public Health and Environment\",'Weighting Tables - HIDE SHEET'!$A$1:$A$11,FALSE),3)))/'Weighting Tables - HIDE SHEET'!$G$3*10,0))","v":""},null,null,null,null,{"$f":"IF(ISBLANK(B53),\"\",ROUND(SUM(IF(J53=\"Yes\",1*INDEX('Weighting Tables - HIDE SHEET'!$A$1:$C$9,MATCH(\"Estimated Remaining Life\",'Weighting Tables - HIDE SHEET'!$A$1:$A$9,FALSE),3)),(IF(K53=\"Beyond capacity\",2,IF(K53=\"At capacity\",1,0))*INDEX('Weighting Tables - HIDE SHEET'!$A$1:$C$9,MATCH(\"Capacity\",'Weighting Tables - HIDE SHEET'!$A$1:$A$9,FALSE),3)),IF(L53=\"Yes\",1*INDEX('Weighting Tables - HIDE SHEET'!$A$1:$C$9,MATCH(\"Reliability\",'Weighting Tables - HIDE SHEET'!$A$1:$A$9,FALSE),3)),IF(M53=\"Yes\",1*INDEX('Weighting Tables - HIDE SHEET'!$A$1:$C$9,MATCH(\"Repair Schedule\",'Weighting Tables - HIDE SHEET'!$A$1:$A$9,FALSE),3)))/'Weighting Tables - HIDE SHEET'!$G$4*10,0))","v":""}]
[null,null,null,null,null,null,null,null,{"$f":"IF(B54=\"\",\"\",ROUND(SUM(IF(F54=\"Greater than 75%\",4,IF(F54=\"50-75%\",3,IF(F54=\"25-50%\",2,IF(F54=\"Less than 25%\",1,0))))*INDEX('Weighting Tables - HIDE SHEET'!$A$1:$C$11,MATCH(\"Importance\",'Weighting Tables - HIDE SHEET'!$A$1:$A$11,FALSE),3),IF(G54=\"Yes\",1*INDEX('Weighting Tables - HIDE SHEET'!$A$1:$C$11,MATCH(\"Compliance\",'Weighting Tables - HIDE SHEET'!$A$1:$A$11,FALSE),3)),IF(H54=\"Yes\",1*INDEX('Weighting Tables - HIDE SHEET'!$A$1:$C$11,MATCH(\"Public Health and Environment\",'Weighting Tables - HIDE SHEET'!$A$1:$A$11,FALSE),3)))/'Weighting Tables - HIDE SHEET'!$G$3*10,0))","v":""},null,null,null,null,{"$f":"IF(ISBLANK(B54),\"\",ROUND(SUM(IF(J54=\"Yes\",1*INDEX('Weighting Tables - HIDE SHEET'!$A$1:$C$9,MATCH(\"Estimated Remaining Life\",'Weighting Tables - HIDE SHEET'!$A$1:$A$9,FALSE),3)),(IF(K54=\"Beyond capacity\",2,IF(K54=\"At capacity\",1,0))*INDEX('Weighting Tables - HIDE SHEET'!$A$1:$C$9,MATCH(\"Capacity\",'Weighting Tables - HIDE SHEET'!$A$1:$A$9,FALSE),3)),IF(L54=\"Yes\",1*INDEX('Weighting Tables - HIDE SHEET'!$A$1:$C$9,MATCH(\"Reliability\",'Weighting Tables - HIDE SHEET'!$A$1:$A$9,FALSE),3)),IF(M54=\"Yes\",1*INDEX('Weighting Tables - HIDE SHEET'!$A$1:$C$9,MATCH(\"Repair Schedule\",'Weighting Tables - HIDE SHEET'!$A$1:$A$9,FALSE),3)))/'Weighting Tables - HIDE SHEET'!$G$4*10,0))","v":""}]
[null,null,null,null,null,null,null,null,{"$f":"IF(B55=\"\",\"\",ROUND(SUM(IF(F55=\"Greater than 75%\",4,IF(F55=\"50-75%\",3,IF(F55=\"25-50%\",2,IF(F55=\"Less than 25%\",1,0))))*INDEX('Weighting Tables - HIDE SHEET'!$A$1:$C$11,MATCH(\"Importance\",'Weighting Tables - HIDE SHEET'!$A$1:$A$11,FALSE),3),IF(G55=\"Yes\",1*INDEX('Weighting Tables - HIDE SHEET'!$A$1:$C$11,MATCH(\"Compliance\",'Weighting Tables - HIDE SHEET'!$A$1:$A$11,FALSE),3)),IF(H55=\"Yes\",1*INDEX('Weighting Tables - HIDE SHEET'!$A$1:$C$11,MATCH(\"Public Health and Environment\",'Weighting Tables - HIDE SHEET'!$A$1:$A$11,FALSE),3)))/'Weighting Tables - HIDE SHEET'!$G$3*10,0))","v":""},null,null,null,null,{"$f":"IF(ISBLANK(B55),\"\",ROUND(SUM(IF(J55=\"Yes\",1*INDEX('Weighting Tables - HIDE SHEET'!$A$1:$C$9,MATCH(\"Estimated Remaining Life\",'Weighting Tables - HIDE SHEET'!$A$1:$A$9,FALSE),3)),(IF(K55=\"Beyond capacity\",2,IF(K55=\"At capacity\",1,0))*INDEX('Weighting Tables - HIDE SHEET'!$A$1:$C$9,MATCH(\"Capacity\",'Weighting Tables - HIDE SHEET'!$A$1:$A$9,FALSE),3)),IF(L55=\"Yes\",1*INDEX('Weighting Tables - HIDE SHEET'!$A$1:$C$9,MATCH(\"Reliability\",'Weighting Tables - HIDE SHEET'!$A$1:$A$9,FALSE),3)),IF(M55=\"Yes\",1*INDEX('Weighting Tables - HIDE SHEET'!$A$1:$C$9,MATCH(\"Repair Schedule\",'Weighting Tables - HIDE SHEET'!$A$1:$A$9,FALSE),3)))/'Weighting Tables - HIDE SHEET'!$G$4*10,0))","v":""}]
[null,null,null,null,null,null,null,null,{"$f":"IF(B56=\"\",\"\",ROUND(SUM(IF(F56=\"Greater than 75%\",4,IF(F56=\"50-75%\",3,IF(F56=\"25-50%\",2,IF(F56=\"Less than 25%\",1,0))))*INDEX('Weighting Tables - HIDE SHEET'!$A$1:$C$11,MATCH(\"Importance\",'Weighting Tables - HIDE SHEET'!$A$1:$A$11,FALSE),3),IF(G56=\"Yes\",1*INDEX('Weighting Tables - HIDE SHEET'!$A$1:$C$11,MATCH(\"Compliance\",'Weighting Tables - HIDE SHEET'!$A$1:$A$11,FALSE),3)),IF(H56=\"Yes\",1*INDEX('Weighting Tables - HIDE SHEET'!$A$1:$C$11,MATCH(\"Public Health and Environment\",'Weighting Tables - HIDE SHEET'!$A$1:$A$11,FALSE),3)))/'Weighting Tables - HIDE SHEET'!$G$3*10,0))","v":""},null,null,null,null,{"$f":"IF(ISBLANK(B56),\"\",ROUND(SUM(IF(J56=\"Yes\",1*INDEX('Weighting Tables - HIDE SHEET'!$A$1:$C$9,MATCH(\"Estimated Remaining Life\",'Weighting Tables - HIDE SHEET'!$A$1:$A$9,FALSE),3)),(IF(K56=\"Beyond capacity\",2,IF(K56=\"At capacity\",1,0))*INDEX('Weighting Tables - HIDE SHEET'!$A$1:$C$9,MATCH(\"Capacity\",'Weighting Tables - HIDE SHEET'!$A$1:$A$9,FALSE),3)),IF(L56=\"Yes\",1*INDEX('Weighting Tables - HIDE SHEET'!$A$1:$C$9,MATCH(\"Reliability\",'Weighting Tables - HIDE SHEET'!$A$1:$A$9,FALSE),3)),IF(M56=\"Yes\",1*INDEX('Weighting Tables - HIDE SHEET'!$A$1:$C$9,MATCH(\"Repair Schedule\",'Weighting Tables - HIDE SHEET'!$A$1:$A$9,FALSE),3)))/'Weighting Tables - HIDE SHEET'!$G$4*10,0))","v":""}]
[null,null,null,null,null,null,null,null,{"$f":"IF(B57=\"\",\"\",ROUND(SUM(IF(F57=\"Greater than 75%\",4,IF(F57=\"50-75%\",3,IF(F57=\"25-50%\",2,IF(F57=\"Less than 25%\",1,0))))*INDEX('Weighting Tables - HIDE SHEET'!$A$1:$C$11,MATCH(\"Importance\",'Weighting Tables - HIDE SHEET'!$A$1:$A$11,FALSE),3),IF(G57=\"Yes\",1*INDEX('Weighting Tables - HIDE SHEET'!$A$1:$C$11,MATCH(\"Compliance\",'Weighting Tables - HIDE SHEET'!$A$1:$A$11,FALSE),3)),IF(H57=\"Yes\",1*INDEX('Weighting Tables - HIDE SHEET'!$A$1:$C$11,MATCH(\"Public Health and Environment\",'Weighting Tables - HIDE SHEET'!$A$1:$A$11,FALSE),3)))/'Weighting Tables - HIDE SHEET'!$G$3*10,0))","v":""},null,null,null,null,{"$f":"IF(ISBLANK(B57),\"\",ROUND(SUM(IF(J57=\"Yes\",1*INDEX('Weighting Tables - HIDE SHEET'!$A$1:$C$9,MATCH(\"Estimated Remaining Life\",'Weighting Tables - HIDE SHEET'!$A$1:$A$9,FALSE),3)),(IF(K57=\"Beyond capacity\",2,IF(K57=\"At capacity\",1,0))*INDEX('Weighting Tables - HIDE SHEET'!$A$1:$C$9,MATCH(\"Capacity\",'Weighting Tables - HIDE SHEET'!$A$1:$A$9,FALSE),3)),IF(L57=\"Yes\",1*INDEX('Weighting Tables - HIDE SHEET'!$A$1:$C$9,MATCH(\"Reliability\",'Weighting Tables - HIDE SHEET'!$A$1:$A$9,FALSE),3)),IF(M57=\"Yes\",1*INDEX('Weighting Tables - HIDE SHEET'!$A$1:$C$9,MATCH(\"Repair Schedule\",'Weighting Tables - HIDE SHEET'!$A$1:$A$9,FALSE),3)))/'Weighting Tables - HIDE SHEET'!$G$4*10,0))","v":""}]
[null,null,null,null,null,null,null,null,{"$f":"IF(B58=\"\",\"\",ROUND(SUM(IF(F58=\"Greater than 75%\",4,IF(F58=\"50-75%\",3,IF(F58=\"25-50%\",2,IF(F58=\"Less than 25%\",1,0))))*INDEX('Weighting Tables - HIDE SHEET'!$A$1:$C$11,MATCH(\"Importance\",'Weighting Tables - HIDE SHEET'!$A$1:$A$11,FALSE),3),IF(G58=\"Yes\",1*INDEX('Weighting Tables - HIDE SHEET'!$A$1:$C$11,MATCH(\"Compliance\",'Weighting Tables - HIDE SHEET'!$A$1:$A$11,FALSE),3)),IF(H58=\"Yes\",1*INDEX('Weighting Tables - HIDE SHEET'!$A$1:$C$11,MATCH(\"Public Health and Environment\",'Weighting Tables - HIDE SHEET'!$A$1:$A$11,FALSE),3)))/'Weighting Tables - HIDE SHEET'!$G$3*10,0))","v":""},null,null,null,null,{"$f":"IF(ISBLANK(B58),\"\",ROUND(SUM(IF(J58=\"Yes\",1*INDEX('Weighting Tables - HIDE SHEET'!$A$1:$C$9,MATCH(\"Estimated Remaining Life\",'Weighting Tables - HIDE SHEET'!$A$1:$A$9,FALSE),3)),(IF(K58=\"Beyond capacity\",2,IF(K58=\"At capacity\",1,0))*INDEX('Weighting Tables - HIDE SHEET'!$A$1:$C$9,MATCH(\"Capacity\",'Weighting Tables - HIDE SHEET'!$A$1:$A$9,FALSE),3)),IF(L58=\"Yes\",1*INDEX('Weighting Tables - HIDE SHEET'!$A$1:$C$9,MATCH(\"Reliability\",'Weighting Tables - HIDE SHEET'!$A$1:$A$9,FALSE),3)),IF(M58=\"Yes\",1*INDEX('Weighting Tables - HIDE SHEET'!$A$1:$C$9,MATCH(\"Repair Schedule\",'Weighting Tables - HIDE SHEET'!$A$1:$A$9,FALSE),3)))/'Weighting Tables - HIDE SHEET'!$G$4*10,0))","v":""}]
[null,null,null,null,null,null,null,null,{"$f":"IF(B59=\"\",\"\",ROUND(SUM(IF(F59=\"Greater than 75%\",4,IF(F59=\"50-75%\",3,IF(F59=\"25-50%\",2,IF(F59=\"Less than 25%\",1,0))))*INDEX('Weighting Tables - HIDE SHEET'!$A$1:$C$11,MATCH(\"Importance\",'Weighting Tables - HIDE SHEET'!$A$1:$A$11,FALSE),3),IF(G59=\"Yes\",1*INDEX('Weighting Tables - HIDE SHEET'!$A$1:$C$11,MATCH(\"Compliance\",'Weighting Tables - HIDE SHEET'!$A$1:$A$11,FALSE),3)),IF(H59=\"Yes\",1*INDEX('Weighting Tables - HIDE SHEET'!$A$1:$C$11,MATCH(\"Public Health and Environment\",'Weighting Tables - HIDE SHEET'!$A$1:$A$11,FALSE),3)))/'Weighting Tables - HIDE SHEET'!$G$3*10,0))","v":""},null,null,null,null,{"$f":"IF(ISBLANK(B59),\"\",ROUND(SUM(IF(J59=\"Yes\",1*INDEX('Weighting Tables - HIDE SHEET'!$A$1:$C$9,MATCH(\"Estimated Remaining Life\",'Weighting Tables - HIDE SHEET'!$A$1:$A$9,FALSE),3)),(IF(K59=\"Beyond capacity\",2,IF(K59=\"At capacity\",1,0))*INDEX('Weighting Tables - HIDE SHEET'!$A$1:$C$9,MATCH(\"Capacity\",'Weighting Tables - HIDE SHEET'!$A$1:$A$9,FALSE),3)),IF(L59=\"Yes\",1*INDEX('Weighting Tables - HIDE SHEET'!$A$1:$C$9,MATCH(\"Reliability\",'Weighting Tables - HIDE SHEET'!$A$1:$A$9,FALSE),3)),IF(M59=\"Yes\",1*INDEX('Weighting Tables - HIDE SHEET'!$A$1:$C$9,MATCH(\"Repair Schedule\",'Weighting Tables - HIDE SHEET'!$A$1:$A$9,FALSE),3)))/'Weighting Tables - HIDE SHEET'!$G$4*10,0))","v":""}]
[null,null,null,null,null,null,null,null,{"$f":"IF(B60=\"\",\"\",ROUND(SUM(IF(F60=\"Greater than 75%\",4,IF(F60=\"50-75%\",3,IF(F60=\"25-50%\",2,IF(F60=\"Less than 25%\",1,0))))*INDEX('Weighting Tables - HIDE SHEET'!$A$1:$C$11,MATCH(\"Importance\",'Weighting Tables - HIDE SHEET'!$A$1:$A$11,FALSE),3),IF(G60=\"Yes\",1*INDEX('Weighting Tables - HIDE SHEET'!$A$1:$C$11,MATCH(\"Compliance\",'Weighting Tables - HIDE SHEET'!$A$1:$A$11,FALSE),3)),IF(H60=\"Yes\",1*INDEX('Weighting Tables - HIDE SHEET'!$A$1:$C$11,MATCH(\"Public Health and Environment\",'Weighting Tables - HIDE SHEET'!$A$1:$A$11,FALSE),3)))/'Weighting Tables - HIDE SHEET'!$G$3*10,0))","v":""},null,null,null,null,{"$f":"IF(ISBLANK(B60),\"\",ROUND(SUM(IF(J60=\"Yes\",1*INDEX('Weighting Tables - HIDE SHEET'!$A$1:$C$9,MATCH(\"Estimated Remaining Life\",'Weighting Tables - HIDE SHEET'!$A$1:$A$9,FALSE),3)),(IF(K60=\"Beyond capacity\",2,IF(K60=\"At capacity\",1,0))*INDEX('Weighting Tables - HIDE SHEET'!$A$1:$C$9,MATCH(\"Capacity\",'Weighting Tables - HIDE SHEET'!$A$1:$A$9,FALSE),3)),IF(L60=\"Yes\",1*INDEX('Weighting Tables - HIDE SHEET'!$A$1:$C$9,MATCH(\"Reliability\",'Weighting Tables - HIDE SHEET'!$A$1:$A$9,FALSE),3)),IF(M60=\"Yes\",1*INDEX('Weighting Tables - HIDE SHEET'!$A$1:$C$9,MATCH(\"Repair Schedule\",'Weighting Tables - HIDE SHEET'!$A$1:$A$9,FALSE),3)))/'Weighting Tables - HIDE SHEET'!$G$4*10,0))","v":""}]
[null,null,null,null,null,null,null,null,{"$f":"IF(B61=\"\",\"\",ROUND(SUM(IF(F61=\"Greater than 75%\",4,IF(F61=\"50-75%\",3,IF(F61=\"25-50%\",2,IF(F61=\"Less than 25%\",1,0))))*INDEX('Weighting Tables - HIDE SHEET'!$A$1:$C$11,MATCH(\"Importance\",'Weighting Tables - HIDE SHEET'!$A$1:$A$11,FALSE),3),IF(G61=\"Yes\",1*INDEX('Weighting Tables - HIDE SHEET'!$A$1:$C$11,MATCH(\"Compliance\",'Weighting Tables - HIDE SHEET'!$A$1:$A$11,FALSE),3)),IF(H61=\"Yes\",1*INDEX('Weighting Tables - HIDE SHEET'!$A$1:$C$11,MATCH(\"Public Health and Environment\",'Weighting Tables - HIDE SHEET'!$A$1:$A$11,FALSE),3)))/'Weighting Tables - HIDE SHEET'!$G$3*10,0))","v":""},null,null,null,null,{"$f":"IF(ISBLANK(B61),\"\",ROUND(SUM(IF(J61=\"Yes\",1*INDEX('Weighting Tables - HIDE SHEET'!$A$1:$C$9,MATCH(\"Estimated Remaining Life\",'Weighting Tables - HIDE SHEET'!$A$1:$A$9,FALSE),3)),(IF(K61=\"Beyond capacity\",2,IF(K61=\"At capacity\",1,0))*INDEX('Weighting Tables - HIDE SHEET'!$A$1:$C$9,MATCH(\"Capacity\",'Weighting Tables - HIDE SHEET'!$A$1:$A$9,FALSE),3)),IF(L61=\"Yes\",1*INDEX('Weighting Tables - HIDE SHEET'!$A$1:$C$9,MATCH(\"Reliability\",'Weighting Tables - HIDE SHEET'!$A$1:$A$9,FALSE),3)),IF(M61=\"Yes\",1*INDEX('Weighting Tables - HIDE SHEET'!$A$1:$C$9,MATCH(\"Repair Schedule\",'Weighting Tables - HIDE SHEET'!$A$1:$A$9,FALSE),3)))/'Weighting Tables - HIDE SHEET'!$G$4*10,0))","v":""}]
[null,null,null,null,null,null,null,null,{"$f":"IF(B62=\"\",\"\",ROUND(SUM(IF(F62=\"Greater than 75%\",4,IF(F62=\"50-75%\",3,IF(F62=\"25-50%\",2,IF(F62=\"Less than 25%\",1,0))))*INDEX('Weighting Tables - HIDE SHEET'!$A$1:$C$11,MATCH(\"Importance\",'Weighting Tables - HIDE SHEET'!$A$1:$A$11,FALSE),3),IF(G62=\"Yes\",1*INDEX('Weighting Tables - HIDE SHEET'!$A$1:$C$11,MATCH(\"Compliance\",'Weighting Tables - HIDE SHEET'!$A$1:$A$11,FALSE),3)),IF(H62=\"Yes\",1*INDEX('Weighting Tables - HIDE SHEET'!$A$1:$C$11,MATCH(\"Public Health and Environment\",'Weighting Tables - HIDE SHEET'!$A$1:$A$11,FALSE),3)))/'Weighting Tables - HIDE SHEET'!$G$3*10,0))","v":""},null,null,null,null,{"$f":"IF(ISBLANK(B62),\"\",ROUND(SUM(IF(J62=\"Yes\",1*INDEX('Weighting Tables - HIDE SHEET'!$A$1:$C$9,MATCH(\"Estimated Remaining Life\",'Weighting Tables - HIDE SHEET'!$A$1:$A$9,FALSE),3)),(IF(K62=\"Beyond capacity\",2,IF(K62=\"At capacity\",1,0))*INDEX('Weighting Tables - HIDE SHEET'!$A$1:$C$9,MATCH(\"Capacity\",'Weighting Tables - HIDE SHEET'!$A$1:$A$9,FALSE),3)),IF(L62=\"Yes\",1*INDEX('Weighting Tables - HIDE SHEET'!$A$1:$C$9,MATCH(\"Reliability\",'Weighting Tables - HIDE SHEET'!$A$1:$A$9,FALSE),3)),IF(M62=\"Yes\",1*INDEX('Weighting Tables - HIDE SHEET'!$A$1:$C$9,MATCH(\"Repair Schedule\",'Weighting Tables - HIDE SHEET'!$A$1:$A$9,FALSE),3)))/'Weighting Tables - HIDE SHEET'!$G$4*10,0))","v":""}]
[null,null,null,null,null,null,null,null,{"$f":"IF(B63=\"\",\"\",ROUND(SUM(IF(F63=\"Greater than 75%\",4,IF(F63=\"50-75%\",3,IF(F63=\"25-50%\",2,IF(F63=\"Less than 25%\",1,0))))*INDEX('Weighting Tables - HIDE SHEET'!$A$1:$C$11,MATCH(\"Importance\",'Weighting Tables - HIDE SHEET'!$A$1:$A$11,FALSE),3),IF(G63=\"Yes\",1*INDEX('Weighting Tables - HIDE SHEET'!$A$1:$C$11,MATCH(\"Compliance\",'Weighting Tables - HIDE SHEET'!$A$1:$A$11,FALSE),3)),IF(H63=\"Yes\",1*INDEX('Weighting Tables - HIDE SHEET'!$A$1:$C$11,MATCH(\"Public Health and Environment\",'Weighting Tables - HIDE SHEET'!$A$1:$A$11,FALSE),3)))/'Weighting Tables - HIDE SHEET'!$G$3*10,0))","v":""},null,null,null,null,{"$f":"IF(ISBLANK(B63),\"\",ROUND(SUM(IF(J63=\"Yes\",1*INDEX('Weighting Tables - HIDE SHEET'!$A$1:$C$9,MATCH(\"Estimated Remaining Life\",'Weighting Tables - HIDE SHEET'!$A$1:$A$9,FALSE),3)),(IF(K63=\"Beyond capacity\",2,IF(K63=\"At capacity\",1,0))*INDEX('Weighting Tables - HIDE SHEET'!$A$1:$C$9,MATCH(\"Capacity\",'Weighting Tables - HIDE SHEET'!$A$1:$A$9,FALSE),3)),IF(L63=\"Yes\",1*INDEX('Weighting Tables - HIDE SHEET'!$A$1:$C$9,MATCH(\"Reliability\",'Weighting Tables - HIDE SHEET'!$A$1:$A$9,FALSE),3)),IF(M63=\"Yes\",1*INDEX('Weighting Tables - HIDE SHEET'!$A$1:$C$9,MATCH(\"Repair Schedule\",'Weighting Tables - HIDE SHEET'!$A$1:$A$9,FALSE),3)))/'Weighting Tables - HIDE SHEET'!$G$4*10,0))","v":""}]
[null,null,null,null,null,null,null,null,{"$f":"IF(B64=\"\",\"\",ROUND(SUM(IF(F64=\"Greater than 75%\",4,IF(F64=\"50-75%\",3,IF(F64=\"25-50%\",2,IF(F64=\"Less than 25%\",1,0))))*INDEX('Weighting Tables - HIDE SHEET'!$A$1:$C$11,MATCH(\"Importance\",'Weighting Tables - HIDE SHEET'!$A$1:$A$11,FALSE),3),IF(G64=\"Yes\",1*INDEX('Weighting Tables - HIDE SHEET'!$A$1:$C$11,MATCH(\"Compliance\",'Weighting Tables - HIDE SHEET'!$A$1:$A$11,FALSE),3)),IF(H64=\"Yes\",1*INDEX('Weighting Tables - HIDE SHEET'!$A$1:$C$11,MATCH(\"Public Health and Environment\",'Weighting Tables - HIDE SHEET'!$A$1:$A$11,FALSE),3)))/'Weighting Tables - HIDE SHEET'!$G$3*10,0))","v":""},null,null,null,null,{"$f":"IF(ISBLANK(B64),\"\",ROUND(SUM(IF(J64=\"Yes\",1*INDEX('Weighting Tables - HIDE SHEET'!$A$1:$C$9,MATCH(\"Estimated Remaining Life\",'Weighting Tables - HIDE SHEET'!$A$1:$A$9,FALSE),3)),(IF(K64=\"Beyond capacity\",2,IF(K64=\"At capacity\",1,0))*INDEX('Weighting Tables - HIDE SHEET'!$A$1:$C$9,MATCH(\"Capacity\",'Weighting Tables - HIDE SHEET'!$A$1:$A$9,FALSE),3)),IF(L64=\"Yes\",1*INDEX('Weighting Tables - HIDE SHEET'!$A$1:$C$9,MATCH(\"Reliability\",'Weighting Tables - HIDE SHEET'!$A$1:$A$9,FALSE),3)),IF(M64=\"Yes\",1*INDEX('Weighting Tables - HIDE SHEET'!$A$1:$C$9,MATCH(\"Repair Schedule\",'Weighting Tables - HIDE SHEET'!$A$1:$A$9,FALSE),3)))/'Weighting Tables - HIDE SHEET'!$G$4*10,0))","v":""}]
[null,null,null,null,null,null,null,null,{"$f":"IF(B65=\"\",\"\",ROUND(SUM(IF(F65=\"Greater than 75%\",4,IF(F65=\"50-75%\",3,IF(F65=\"25-50%\",2,IF(F65=\"Less than 25%\",1,0))))*INDEX('Weighting Tables - HIDE SHEET'!$A$1:$C$11,MATCH(\"Importance\",'Weighting Tables - HIDE SHEET'!$A$1:$A$11,FALSE),3),IF(G65=\"Yes\",1*INDEX('Weighting Tables - HIDE SHEET'!$A$1:$C$11,MATCH(\"Compliance\",'Weighting Tables - HIDE SHEET'!$A$1:$A$11,FALSE),3)),IF(H65=\"Yes\",1*INDEX('Weighting Tables - HIDE SHEET'!$A$1:$C$11,MATCH(\"Public Health and Environment\",'Weighting Tables - HIDE SHEET'!$A$1:$A$11,FALSE),3)))/'Weighting Tables - HIDE SHEET'!$G$3*10,0))","v":""},null,null,null,null,{"$f":"IF(ISBLANK(B65),\"\",ROUND(SUM(IF(J65=\"Yes\",1*INDEX('Weighting Tables - HIDE SHEET'!$A$1:$C$9,MATCH(\"Estimated Remaining Life\",'Weighting Tables - HIDE SHEET'!$A$1:$A$9,FALSE),3)),(IF(K65=\"Beyond capacity\",2,IF(K65=\"At capacity\",1,0))*INDEX('Weighting Tables - HIDE SHEET'!$A$1:$C$9,MATCH(\"Capacity\",'Weighting Tables - HIDE SHEET'!$A$1:$A$9,FALSE),3)),IF(L65=\"Yes\",1*INDEX('Weighting Tables - HIDE SHEET'!$A$1:$C$9,MATCH(\"Reliability\",'Weighting Tables - HIDE SHEET'!$A$1:$A$9,FALSE),3)),IF(M65=\"Yes\",1*INDEX('Weighting Tables - HIDE SHEET'!$A$1:$C$9,MATCH(\"Repair Schedule\",'Weighting Tables - HIDE SHEET'!$A$1:$A$9,FALSE),3)))/'Weighting Tables - HIDE SHEET'!$G$4*10,0))","v":""}]
[null,null,null,null,null,null,null,null,{"$f":"IF(B66=\"\",\"\",ROUND(SUM(IF(F66=\"Greater than 75%\",4,IF(F66=\"50-75%\",3,IF(F66=\"25-50%\",2,IF(F66=\"Less than 25%\",1,0))))*INDEX('Weighting Tables - HIDE SHEET'!$A$1:$C$11,MATCH(\"Importance\",'Weighting Tables - HIDE SHEET'!$A$1:$A$11,FALSE),3),IF(G66=\"Yes\",1*INDEX('Weighting Tables - HIDE SHEET'!$A$1:$C$11,MATCH(\"Compliance\",'Weighting Tables - HIDE SHEET'!$A$1:$A$11,FALSE),3)),IF(H66=\"Yes\",1*INDEX('Weighting Tables - HIDE SHEET'!$A$1:$C$11,MATCH(\"Public Health and Environment\",'Weighting Tables - HIDE SHEET'!$A$1:$A$11,FALSE),3)))/'Weighting Tables - HIDE SHEET'!$G$3*10,0))","v":""},null,null,null,null,{"$f":"IF(ISBLANK(B66),\"\",ROUND(SUM(IF(J66=\"Yes\",1*INDEX('Weighting Tables - HIDE SHEET'!$A$1:$C$9,MATCH(\"Estimated Remaining Life\",'Weighting Tables - HIDE SHEET'!$A$1:$A$9,FALSE),3)),(IF(K66=\"Beyond capacity\",2,IF(K66=\"At capacity\",1,0))*INDEX('Weighting Tables - HIDE SHEET'!$A$1:$C$9,MATCH(\"Capacity\",'Weighting Tables - HIDE SHEET'!$A$1:$A$9,FALSE),3)),IF(L66=\"Yes\",1*INDEX('Weighting Tables - HIDE SHEET'!$A$1:$C$9,MATCH(\"Reliability\",'Weighting Tables - HIDE SHEET'!$A$1:$A$9,FALSE),3)),IF(M66=\"Yes\",1*INDEX('Weighting Tables - HIDE SHEET'!$A$1:$C$9,MATCH(\"Repair Schedule\",'Weighting Tables - HIDE SHEET'!$A$1:$A$9,FALSE),3)))/'Weighting Tables - HIDE SHEET'!$G$4*10,0))","v":""}]
[null,null,null,null,null,null,null,null,{"$f":"IF(B67=\"\",\"\",ROUND(SUM(IF(F67=\"Greater than 75%\",4,IF(F67=\"50-75%\",3,IF(F67=\"25-50%\",2,IF(F67=\"Less than 25%\",1,0))))*INDEX('Weighting Tables - HIDE SHEET'!$A$1:$C$11,MATCH(\"Importance\",'Weighting Tables - HIDE SHEET'!$A$1:$A$11,FALSE),3),IF(G67=\"Yes\",1*INDEX('Weighting Tables - HIDE SHEET'!$A$1:$C$11,MATCH(\"Compliance\",'Weighting Tables - HIDE SHEET'!$A$1:$A$11,FALSE),3)),IF(H67=\"Yes\",1*INDEX('Weighting Tables - HIDE SHEET'!$A$1:$C$11,MATCH(\"Public Health and Environment\",'Weighting Tables - HIDE SHEET'!$A$1:$A$11,FALSE),3)))/'Weighting Tables - HIDE SHEET'!$G$3*10,0))","v":""},null,null,null,null,{"$f":"IF(ISBLANK(B67),\"\",ROUND(SUM(IF(J67=\"Yes\",1*INDEX('Weighting Tables - HIDE SHEET'!$A$1:$C$9,MATCH(\"Estimated Remaining Life\",'Weighting Tables - HIDE SHEET'!$A$1:$A$9,FALSE),3)),(IF(K67=\"Beyond capacity\",2,IF(K67=\"At capacity\",1,0))*INDEX('Weighting Tables - HIDE SHEET'!$A$1:$C$9,MATCH(\"Capacity\",'Weighting Tables - HIDE SHEET'!$A$1:$A$9,FALSE),3)),IF(L67=\"Yes\",1*INDEX('Weighting Tables - HIDE SHEET'!$A$1:$C$9,MATCH(\"Reliability\",'Weighting Tables - HIDE SHEET'!$A$1:$A$9,FALSE),3)),IF(M67=\"Yes\",1*INDEX('Weighting Tables - HIDE SHEET'!$A$1:$C$9,MATCH(\"Repair Schedule\",'Weighting Tables - HIDE SHEET'!$A$1:$A$9,FALSE),3)))/'Weighting Tables - HIDE SHEET'!$G$4*10,0))","v":""}]
[null,null,null,null,null,null,null,null,{"$f":"IF(B68=\"\",\"\",ROUND(SUM(IF(F68=\"Greater than 75%\",4,IF(F68=\"50-75%\",3,IF(F68=\"25-50%\",2,IF(F68=\"Less than 25%\",1,0))))*INDEX('Weighting Tables - HIDE SHEET'!$A$1:$C$11,MATCH(\"Importance\",'Weighting Tables - HIDE SHEET'!$A$1:$A$11,FALSE),3),IF(G68=\"Yes\",1*INDEX('Weighting Tables - HIDE SHEET'!$A$1:$C$11,MATCH(\"Compliance\",'Weighting Tables - HIDE SHEET'!$A$1:$A$11,FALSE),3)),IF(H68=\"Yes\",1*INDEX('Weighting Tables - HIDE SHEET'!$A$1:$C$11,MATCH(\"Public Health and Environment\",'Weighting Tables - HIDE SHEET'!$A$1:$A$11,FALSE),3)))/'Weighting Tables - HIDE SHEET'!$G$3*10,0))","v":""},null,null,null,null,{"$f":"IF(ISBLANK(B68),\"\",ROUND(SUM(IF(J68=\"Yes\",1*INDEX('Weighting Tables - HIDE SHEET'!$A$1:$C$9,MATCH(\"Estimated Remaining Life\",'Weighting Tables - HIDE SHEET'!$A$1:$A$9,FALSE),3)),(IF(K68=\"Beyond capacity\",2,IF(K68=\"At capacity\",1,0))*INDEX('Weighting Tables - HIDE SHEET'!$A$1:$C$9,MATCH(\"Capacity\",'Weighting Tables - HIDE SHEET'!$A$1:$A$9,FALSE),3)),IF(L68=\"Yes\",1*INDEX('Weighting Tables - HIDE SHEET'!$A$1:$C$9,MATCH(\"Reliability\",'Weighting Tables - HIDE SHEET'!$A$1:$A$9,FALSE),3)),IF(M68=\"Yes\",1*INDEX('Weighting Tables - HIDE SHEET'!$A$1:$C$9,MATCH(\"Repair Schedule\",'Weighting Tables - HIDE SHEET'!$A$1:$A$9,FALSE),3)))/'Weighting Tables - HIDE SHEET'!$G$4*10,0))","v":""}]
[null,null,null,null,null,null,null,null,{"$f":"IF(B69=\"\",\"\",ROUND(SUM(IF(F69=\"Greater than 75%\",4,IF(F69=\"50-75%\",3,IF(F69=\"25-50%\",2,IF(F69=\"Less than 25%\",1,0))))*INDEX('Weighting Tables - HIDE SHEET'!$A$1:$C$11,MATCH(\"Importance\",'Weighting Tables - HIDE SHEET'!$A$1:$A$11,FALSE),3),IF(G69=\"Yes\",1*INDEX('Weighting Tables - HIDE SHEET'!$A$1:$C$11,MATCH(\"Compliance\",'Weighting Tables - HIDE SHEET'!$A$1:$A$11,FALSE),3)),IF(H69=\"Yes\",1*INDEX('Weighting Tables - HIDE SHEET'!$A$1:$C$11,MATCH(\"Public Health and Environment\",'Weighting Tables - HIDE SHEET'!$A$1:$A$11,FALSE),3)))/'Weighting Tables - HIDE SHEET'!$G$3*10,0))","v":""},null,null,null,null,{"$f":"IF(ISBLANK(B69),\"\",ROUND(SUM(IF(J69=\"Yes\",1*INDEX('Weighting Tables - HIDE SHEET'!$A$1:$C$9,MATCH(\"Estimated Remaining Life\",'Weighting Tables - HIDE SHEET'!$A$1:$A$9,FALSE),3)),(IF(K69=\"Beyond capacity\",2,IF(K69=\"At capacity\",1,0))*INDEX('Weighting Tables - HIDE SHEET'!$A$1:$C$9,MATCH(\"Capacity\",'Weighting Tables - HIDE SHEET'!$A$1:$A$9,FALSE),3)),IF(L69=\"Yes\",1*INDEX('Weighting Tables - HIDE SHEET'!$A$1:$C$9,MATCH(\"Reliability\",'Weighting Tables - HIDE SHEET'!$A$1:$A$9,FALSE),3)),IF(M69=\"Yes\",1*INDEX('Weighting Tables - HIDE SHEET'!$A$1:$C$9,MATCH(\"Repair Schedule\",'Weighting Tables - HIDE SHEET'!$A$1:$A$9,FALSE),3)))/'Weighting Tables - HIDE SHEET'!$G$4*10,0))","v":""}]
[null,null,null,null,null,null,null,null,{"$f":"IF(B70=\"\",\"\",ROUND(SUM(IF(F70=\"Greater than 75%\",4,IF(F70=\"50-75%\",3,IF(F70=\"25-50%\",2,IF(F70=\"Less than 25%\",1,0))))*INDEX('Weighting Tables - HIDE SHEET'!$A$1:$C$11,MATCH(\"Importance\",'Weighting Tables - HIDE SHEET'!$A$1:$A$11,FALSE),3),IF(G70=\"Yes\",1*INDEX('Weighting Tables - HIDE SHEET'!$A$1:$C$11,MATCH(\"Compliance\",'Weighting Tables - HIDE SHEET'!$A$1:$A$11,FALSE),3)),IF(H70=\"Yes\",1*INDEX('Weighting Tables - HIDE SHEET'!$A$1:$C$11,MATCH(\"Public Health and Environment\",'Weighting Tables - HIDE SHEET'!$A$1:$A$11,FALSE),3)))/'Weighting Tables - HIDE SHEET'!$G$3*10,0))","v":""},null,null,null,null,{"$f":"IF(ISBLANK(B70),\"\",ROUND(SUM(IF(J70=\"Yes\",1*INDEX('Weighting Tables - HIDE SHEET'!$A$1:$C$9,MATCH(\"Estimated Remaining Life\",'Weighting Tables - HIDE SHEET'!$A$1:$A$9,FALSE),3)),(IF(K70=\"Beyond capacity\",2,IF(K70=\"At capacity\",1,0))*INDEX('Weighting Tables - HIDE SHEET'!$A$1:$C$9,MATCH(\"Capacity\",'Weighting Tables - HIDE SHEET'!$A$1:$A$9,FALSE),3)),IF(L70=\"Yes\",1*INDEX('Weighting Tables - HIDE SHEET'!$A$1:$C$9,MATCH(\"Reliability\",'Weighting Tables - HIDE SHEET'!$A$1:$A$9,FALSE),3)),IF(M70=\"Yes\",1*INDEX('Weighting Tables - HIDE SHEET'!$A$1:$C$9,MATCH(\"Repair Schedule\",'Weighting Tables - HIDE SHEET'!$A$1:$A$9,FALSE),3)))/'Weighting Tables - HIDE SHEET'!$G$4*10,0))","v":""}]
[null,null,null,null,null,null,null,null,{"$f":"IF(B71=\"\",\"\",ROUND(SUM(IF(F71=\"Greater than 75%\",4,IF(F71=\"50-75%\",3,IF(F71=\"25-50%\",2,IF(F71=\"Less than 25%\",1,0))))*INDEX('Weighting Tables - HIDE SHEET'!$A$1:$C$11,MATCH(\"Importance\",'Weighting Tables - HIDE SHEET'!$A$1:$A$11,FALSE),3),IF(G71=\"Yes\",1*INDEX('Weighting Tables - HIDE SHEET'!$A$1:$C$11,MATCH(\"Compliance\",'Weighting Tables - HIDE SHEET'!$A$1:$A$11,FALSE),3)),IF(H71=\"Yes\",1*INDEX('Weighting Tables - HIDE SHEET'!$A$1:$C$11,MATCH(\"Public Health and Environment\",'Weighting Tables - HIDE SHEET'!$A$1:$A$11,FALSE),3)))/'Weighting Tables - HIDE SHEET'!$G$3*10,0))","v":""},null,null,null,null,{"$f":"IF(ISBLANK(B71),\"\",ROUND(SUM(IF(J71=\"Yes\",1*INDEX('Weighting Tables - HIDE SHEET'!$A$1:$C$9,MATCH(\"Estimated Remaining Life\",'Weighting Tables - HIDE SHEET'!$A$1:$A$9,FALSE),3)),(IF(K71=\"Beyond capacity\",2,IF(K71=\"At capacity\",1,0))*INDEX('Weighting Tables - HIDE SHEET'!$A$1:$C$9,MATCH(\"Capacity\",'Weighting Tables - HIDE SHEET'!$A$1:$A$9,FALSE),3)),IF(L71=\"Yes\",1*INDEX('Weighting Tables - HIDE SHEET'!$A$1:$C$9,MATCH(\"Reliability\",'Weighting Tables - HIDE SHEET'!$A$1:$A$9,FALSE),3)),IF(M71=\"Yes\",1*INDEX('Weighting Tables - HIDE SHEET'!$A$1:$C$9,MATCH(\"Repair Schedule\",'Weighting Tables - HIDE SHEET'!$A$1:$A$9,FALSE),3)))/'Weighting Tables - HIDE SHEET'!$G$4*10,0))","v":""}]
[null,null,null,null,null,null,null,null,{"$f":"IF(B72=\"\",\"\",ROUND(SUM(IF(F72=\"Greater than 75%\",4,IF(F72=\"50-75%\",3,IF(F72=\"25-50%\",2,IF(F72=\"Less than 25%\",1,0))))*INDEX('Weighting Tables - HIDE SHEET'!$A$1:$C$11,MATCH(\"Importance\",'Weighting Tables - HIDE SHEET'!$A$1:$A$11,FALSE),3),IF(G72=\"Yes\",1*INDEX('Weighting Tables - HIDE SHEET'!$A$1:$C$11,MATCH(\"Compliance\",'Weighting Tables - HIDE SHEET'!$A$1:$A$11,FALSE),3)),IF(H72=\"Yes\",1*INDEX('Weighting Tables - HIDE SHEET'!$A$1:$C$11,MATCH(\"Public Health and Environment\",'Weighting Tables - HIDE SHEET'!$A$1:$A$11,FALSE),3)))/'Weighting Tables - HIDE SHEET'!$G$3*10,0))","v":""},null,null,null,null,{"$f":"IF(ISBLANK(B72),\"\",ROUND(SUM(IF(J72=\"Yes\",1*INDEX('Weighting Tables - HIDE SHEET'!$A$1:$C$9,MATCH(\"Estimated Remaining Life\",'Weighting Tables - HIDE SHEET'!$A$1:$A$9,FALSE),3)),(IF(K72=\"Beyond capacity\",2,IF(K72=\"At capacity\",1,0))*INDEX('Weighting Tables - HIDE SHEET'!$A$1:$C$9,MATCH(\"Capacity\",'Weighting Tables - HIDE SHEET'!$A$1:$A$9,FALSE),3)),IF(L72=\"Yes\",1*INDEX('Weighting Tables - HIDE SHEET'!$A$1:$C$9,MATCH(\"Reliability\",'Weighting Tables - HIDE SHEET'!$A$1:$A$9,FALSE),3)),IF(M72=\"Yes\",1*INDEX('Weighting Tables - HIDE SHEET'!$A$1:$C$9,MATCH(\"Repair Schedule\",'Weighting Tables - HIDE SHEET'!$A$1:$A$9,FALSE),3)))/'Weighting Tables - HIDE SHEET'!$G$4*10,0))","v":""}]
[null,null,null,null,null,null,null,null,{"$f":"IF(B73=\"\",\"\",ROUND(SUM(IF(F73=\"Greater than 75%\",4,IF(F73=\"50-75%\",3,IF(F73=\"25-50%\",2,IF(F73=\"Less than 25%\",1,0))))*INDEX('Weighting Tables - HIDE SHEET'!$A$1:$C$11,MATCH(\"Importance\",'Weighting Tables - HIDE SHEET'!$A$1:$A$11,FALSE),3),IF(G73=\"Yes\",1*INDEX('Weighting Tables - HIDE SHEET'!$A$1:$C$11,MATCH(\"Compliance\",'Weighting Tables - HIDE SHEET'!$A$1:$A$11,FALSE),3)),IF(H73=\"Yes\",1*INDEX('Weighting Tables - HIDE SHEET'!$A$1:$C$11,MATCH(\"Public Health and Environment\",'Weighting Tables - HIDE SHEET'!$A$1:$A$11,FALSE),3)))/'Weighting Tables - HIDE SHEET'!$G$3*10,0))","v":""},null,null,null,null,{"$f":"IF(ISBLANK(B73),\"\",ROUND(SUM(IF(J73=\"Yes\",1*INDEX('Weighting Tables - HIDE SHEET'!$A$1:$C$9,MATCH(\"Estimated Remaining Life\",'Weighting Tables - HIDE SHEET'!$A$1:$A$9,FALSE),3)),(IF(K73=\"Beyond capacity\",2,IF(K73=\"At capacity\",1,0))*INDEX('Weighting Tables - HIDE SHEET'!$A$1:$C$9,MATCH(\"Capacity\",'Weighting Tables - HIDE SHEET'!$A$1:$A$9,FALSE),3)),IF(L73=\"Yes\",1*INDEX('Weighting Tables - HIDE SHEET'!$A$1:$C$9,MATCH(\"Reliability\",'Weighting Tables - HIDE SHEET'!$A$1:$A$9,FALSE),3)),IF(M73=\"Yes\",1*INDEX('Weighting Tables - HIDE SHEET'!$A$1:$C$9,MATCH(\"Repair Schedule\",'Weighting Tables - HIDE SHEET'!$A$1:$A$9,FALSE),3)))/'Weighting Tables - HIDE SHEET'!$G$4*10,0))","v":""}]
[null,null,null,null,null,null,null,null,{"$f":"IF(B74=\"\",\"\",ROUND(SUM(IF(F74=\"Greater than 75%\",4,IF(F74=\"50-75%\",3,IF(F74=\"25-50%\",2,IF(F74=\"Less than 25%\",1,0))))*INDEX('Weighting Tables - HIDE SHEET'!$A$1:$C$11,MATCH(\"Importance\",'Weighting Tables - HIDE SHEET'!$A$1:$A$11,FALSE),3),IF(G74=\"Yes\",1*INDEX('Weighting Tables - HIDE SHEET'!$A$1:$C$11,MATCH(\"Compliance\",'Weighting Tables - HIDE SHEET'!$A$1:$A$11,FALSE),3)),IF(H74=\"Yes\",1*INDEX('Weighting Tables - HIDE SHEET'!$A$1:$C$11,MATCH(\"Public Health and Environment\",'Weighting Tables - HIDE SHEET'!$A$1:$A$11,FALSE),3)))/'Weighting Tables - HIDE SHEET'!$G$3*10,0))","v":""},null,null,null,null,{"$f":"IF(ISBLANK(B74),\"\",ROUND(SUM(IF(J74=\"Yes\",1*INDEX('Weighting Tables - HIDE SHEET'!$A$1:$C$9,MATCH(\"Estimated Remaining Life\",'Weighting Tables - HIDE SHEET'!$A$1:$A$9,FALSE),3)),(IF(K74=\"Beyond capacity\",2,IF(K74=\"At capacity\",1,0))*INDEX('Weighting Tables - HIDE SHEET'!$A$1:$C$9,MATCH(\"Capacity\",'Weighting Tables - HIDE SHEET'!$A$1:$A$9,FALSE),3)),IF(L74=\"Yes\",1*INDEX('Weighting Tables - HIDE SHEET'!$A$1:$C$9,MATCH(\"Reliability\",'Weighting Tables - HIDE SHEET'!$A$1:$A$9,FALSE),3)),IF(M74=\"Yes\",1*INDEX('Weighting Tables - HIDE SHEET'!$A$1:$C$9,MATCH(\"Repair Schedule\",'Weighting Tables - HIDE SHEET'!$A$1:$A$9,FALSE),3)))/'Weighting Tables - HIDE SHEET'!$G$4*10,0))","v":""}]
[null,null,null,null,null,null,null,null,{"$f":"IF(B75=\"\",\"\",ROUND(SUM(IF(F75=\"Greater than 75%\",4,IF(F75=\"50-75%\",3,IF(F75=\"25-50%\",2,IF(F75=\"Less than 25%\",1,0))))*INDEX('Weighting Tables - HIDE SHEET'!$A$1:$C$11,MATCH(\"Importance\",'Weighting Tables - HIDE SHEET'!$A$1:$A$11,FALSE),3),IF(G75=\"Yes\",1*INDEX('Weighting Tables - HIDE SHEET'!$A$1:$C$11,MATCH(\"Compliance\",'Weighting Tables - HIDE SHEET'!$A$1:$A$11,FALSE),3)),IF(H75=\"Yes\",1*INDEX('Weighting Tables - HIDE SHEET'!$A$1:$C$11,MATCH(\"Public Health and Environment\",'Weighting Tables - HIDE SHEET'!$A$1:$A$11,FALSE),3)))/'Weighting Tables - HIDE SHEET'!$G$3*10,0))","v":""},null,null,null,null,{"$f":"IF(ISBLANK(B75),\"\",ROUND(SUM(IF(J75=\"Yes\",1*INDEX('Weighting Tables - HIDE SHEET'!$A$1:$C$9,MATCH(\"Estimated Remaining Life\",'Weighting Tables - HIDE SHEET'!$A$1:$A$9,FALSE),3)),(IF(K75=\"Beyond capacity\",2,IF(K75=\"At capacity\",1,0))*INDEX('Weighting Tables - HIDE SHEET'!$A$1:$C$9,MATCH(\"Capacity\",'Weighting Tables - HIDE SHEET'!$A$1:$A$9,FALSE),3)),IF(L75=\"Yes\",1*INDEX('Weighting Tables - HIDE SHEET'!$A$1:$C$9,MATCH(\"Reliability\",'Weighting Tables - HIDE SHEET'!$A$1:$A$9,FALSE),3)),IF(M75=\"Yes\",1*INDEX('Weighting Tables - HIDE SHEET'!$A$1:$C$9,MATCH(\"Repair Schedule\",'Weighting Tables - HIDE SHEET'!$A$1:$A$9,FALSE),3)))/'Weighting Tables - HIDE SHEET'!$G$4*10,0))","v":""}]
[null,null,null,null,null,null,null,null,{"$f":"IF(B76=\"\",\"\",ROUND(SUM(IF(F76=\"Greater than 75%\",4,IF(F76=\"50-75%\",3,IF(F76=\"25-50%\",2,IF(F76=\"Less than 25%\",1,0))))*INDEX('Weighting Tables - HIDE SHEET'!$A$1:$C$11,MATCH(\"Importance\",'Weighting Tables - HIDE SHEET'!$A$1:$A$11,FALSE),3),IF(G76=\"Yes\",1*INDEX('Weighting Tables - HIDE SHEET'!$A$1:$C$11,MATCH(\"Compliance\",'Weighting Tables - HIDE SHEET'!$A$1:$A$11,FALSE),3)),IF(H76=\"Yes\",1*INDEX('Weighting Tables - HIDE SHEET'!$A$1:$C$11,MATCH(\"Public Health and Environment\",'Weighting Tables - HIDE SHEET'!$A$1:$A$11,FALSE),3)))/'Weighting Tables - HIDE SHEET'!$G$3*10,0))","v":""},null,null,null,null,{"$f":"IF(ISBLANK(B76),\"\",ROUND(SUM(IF(J76=\"Yes\",1*INDEX('Weighting Tables - HIDE SHEET'!$A$1:$C$9,MATCH(\"Estimated Remaining Life\",'Weighting Tables - HIDE SHEET'!$A$1:$A$9,FALSE),3)),(IF(K76=\"Beyond capacity\",2,IF(K76=\"At capacity\",1,0))*INDEX('Weighting Tables - HIDE SHEET'!$A$1:$C$9,MATCH(\"Capacity\",'Weighting Tables - HIDE SHEET'!$A$1:$A$9,FALSE),3)),IF(L76=\"Yes\",1*INDEX('Weighting Tables - HIDE SHEET'!$A$1:$C$9,MATCH(\"Reliability\",'Weighting Tables - HIDE SHEET'!$A$1:$A$9,FALSE),3)),IF(M76=\"Yes\",1*INDEX('Weighting Tables - HIDE SHEET'!$A$1:$C$9,MATCH(\"Repair Schedule\",'Weighting Tables - HIDE SHEET'!$A$1:$A$9,FALSE),3)))/'Weighting Tables - HIDE SHEET'!$G$4*10,0))","v":""}]
[null,null,null,null,null,null,null,null,{"$f":"IF(B77=\"\",\"\",ROUND(SUM(IF(F77=\"Greater than 75%\",4,IF(F77=\"50-75%\",3,IF(F77=\"25-50%\",2,IF(F77=\"Less than 25%\",1,0))))*INDEX('Weighting Tables - HIDE SHEET'!$A$1:$C$11,MATCH(\"Importance\",'Weighting Tables - HIDE SHEET'!$A$1:$A$11,FALSE),3),IF(G77=\"Yes\",1*INDEX('Weighting Tables - HIDE SHEET'!$A$1:$C$11,MATCH(\"Compliance\",'Weighting Tables - HIDE SHEET'!$A$1:$A$11,FALSE),3)),IF(H77=\"Yes\",1*INDEX('Weighting Tables - HIDE SHEET'!$A$1:$C$11,MATCH(\"Public Health and Environment\",'Weighting Tables - HIDE SHEET'!$A$1:$A$11,FALSE),3)))/'Weighting Tables - HIDE SHEET'!$G$3*10,0))","v":""},null,null,null,null,{"$f":"IF(ISBLANK(B77),\"\",ROUND(SUM(IF(J77=\"Yes\",1*INDEX('Weighting Tables - HIDE SHEET'!$A$1:$C$9,MATCH(\"Estimated Remaining Life\",'Weighting Tables - HIDE SHEET'!$A$1:$A$9,FALSE),3)),(IF(K77=\"Beyond capacity\",2,IF(K77=\"At capacity\",1,0))*INDEX('Weighting Tables - HIDE SHEET'!$A$1:$C$9,MATCH(\"Capacity\",'Weighting Tables - HIDE SHEET'!$A$1:$A$9,FALSE),3)),IF(L77=\"Yes\",1*INDEX('Weighting Tables - HIDE SHEET'!$A$1:$C$9,MATCH(\"Reliability\",'Weighting Tables - HIDE SHEET'!$A$1:$A$9,FALSE),3)),IF(M77=\"Yes\",1*INDEX('Weighting Tables - HIDE SHEET'!$A$1:$C$9,MATCH(\"Repair Schedule\",'Weighting Tables - HIDE SHEET'!$A$1:$A$9,FALSE),3)))/'Weighting Tables - HIDE SHEET'!$G$4*10,0))","v":""}]
[null,null,null,null,null,null,null,null,{"$f":"IF(B78=\"\",\"\",ROUND(SUM(IF(F78=\"Greater than 75%\",4,IF(F78=\"50-75%\",3,IF(F78=\"25-50%\",2,IF(F78=\"Less than 25%\",1,0))))*INDEX('Weighting Tables - HIDE SHEET'!$A$1:$C$11,MATCH(\"Importance\",'Weighting Tables - HIDE SHEET'!$A$1:$A$11,FALSE),3),IF(G78=\"Yes\",1*INDEX('Weighting Tables - HIDE SHEET'!$A$1:$C$11,MATCH(\"Compliance\",'Weighting Tables - HIDE SHEET'!$A$1:$A$11,FALSE),3)),IF(H78=\"Yes\",1*INDEX('Weighting Tables - HIDE SHEET'!$A$1:$C$11,MATCH(\"Public Health and Environment\",'Weighting Tables - HIDE SHEET'!$A$1:$A$11,FALSE),3)))/'Weighting Tables - HIDE SHEET'!$G$3*10,0))","v":""},null,null,null,null,{"$f":"IF(ISBLANK(B78),\"\",ROUND(SUM(IF(J78=\"Yes\",1*INDEX('Weighting Tables - HIDE SHEET'!$A$1:$C$9,MATCH(\"Estimated Remaining Life\",'Weighting Tables - HIDE SHEET'!$A$1:$A$9,FALSE),3)),(IF(K78=\"Beyond capacity\",2,IF(K78=\"At capacity\",1,0))*INDEX('Weighting Tables - HIDE SHEET'!$A$1:$C$9,MATCH(\"Capacity\",'Weighting Tables - HIDE SHEET'!$A$1:$A$9,FALSE),3)),IF(L78=\"Yes\",1*INDEX('Weighting Tables - HIDE SHEET'!$A$1:$C$9,MATCH(\"Reliability\",'Weighting Tables - HIDE SHEET'!$A$1:$A$9,FALSE),3)),IF(M78=\"Yes\",1*INDEX('Weighting Tables - HIDE SHEET'!$A$1:$C$9,MATCH(\"Repair Schedule\",'Weighting Tables - HIDE SHEET'!$A$1:$A$9,FALSE),3)))/'Weighting Tables - HIDE SHEET'!$G$4*10,0))","v":""}]
[null,null,null,null,null,null,null,null,{"$f":"IF(B79=\"\",\"\",ROUND(SUM(IF(F79=\"Greater than 75%\",4,IF(F79=\"50-75%\",3,IF(F79=\"25-50%\",2,IF(F79=\"Less than 25%\",1,0))))*INDEX('Weighting Tables - HIDE SHEET'!$A$1:$C$11,MATCH(\"Importance\",'Weighting Tables - HIDE SHEET'!$A$1:$A$11,FALSE),3),IF(G79=\"Yes\",1*INDEX('Weighting Tables - HIDE SHEET'!$A$1:$C$11,MATCH(\"Compliance\",'Weighting Tables - HIDE SHEET'!$A$1:$A$11,FALSE),3)),IF(H79=\"Yes\",1*INDEX('Weighting Tables - HIDE SHEET'!$A$1:$C$11,MATCH(\"Public Health and Environment\",'Weighting Tables - HIDE SHEET'!$A$1:$A$11,FALSE),3)))/'Weighting Tables - HIDE SHEET'!$G$3*10,0))","v":""},null,null,null,null,{"$f":"IF(ISBLANK(B79),\"\",ROUND(SUM(IF(J79=\"Yes\",1*INDEX('Weighting Tables - HIDE SHEET'!$A$1:$C$9,MATCH(\"Estimated Remaining Life\",'Weighting Tables - HIDE SHEET'!$A$1:$A$9,FALSE),3)),(IF(K79=\"Beyond capacity\",2,IF(K79=\"At capacity\",1,0))*INDEX('Weighting Tables - HIDE SHEET'!$A$1:$C$9,MATCH(\"Capacity\",'Weighting Tables - HIDE SHEET'!$A$1:$A$9,FALSE),3)),IF(L79=\"Yes\",1*INDEX('Weighting Tables - HIDE SHEET'!$A$1:$C$9,MATCH(\"Reliability\",'Weighting Tables - HIDE SHEET'!$A$1:$A$9,FALSE),3)),IF(M79=\"Yes\",1*INDEX('Weighting Tables - HIDE SHEET'!$A$1:$C$9,MATCH(\"Repair Schedule\",'Weighting Tables - HIDE SHEET'!$A$1:$A$9,FALSE),3)))/'Weighting Tables - HIDE SHEET'!$G$4*10,0))","v":""}]
[null,null,null,null,null,null,null,null,{"$f":"IF(B80=\"\",\"\",ROUND(SUM(IF(F80=\"Greater than 75%\",4,IF(F80=\"50-75%\",3,IF(F80=\"25-50%\",2,IF(F80=\"Less than 25%\",1,0))))*INDEX('Weighting Tables - HIDE SHEET'!$A$1:$C$11,MATCH(\"Importance\",'Weighting Tables - HIDE SHEET'!$A$1:$A$11,FALSE),3),IF(G80=\"Yes\",1*INDEX('Weighting Tables - HIDE SHEET'!$A$1:$C$11,MATCH(\"Compliance\",'Weighting Tables - HIDE SHEET'!$A$1:$A$11,FALSE),3)),IF(H80=\"Yes\",1*INDEX('Weighting Tables - HIDE SHEET'!$A$1:$C$11,MATCH(\"Public Health and Environment\",'Weighting Tables - HIDE SHEET'!$A$1:$A$11,FALSE),3)))/'Weighting Tables - HIDE SHEET'!$G$3*10,0))","v":""},null,null,null,null,{"$f":"IF(ISBLANK(B80),\"\",ROUND(SUM(IF(J80=\"Yes\",1*INDEX('Weighting Tables - HIDE SHEET'!$A$1:$C$9,MATCH(\"Estimated Remaining Life\",'Weighting Tables - HIDE SHEET'!$A$1:$A$9,FALSE),3)),(IF(K80=\"Beyond capacity\",2,IF(K80=\"At capacity\",1,0))*INDEX('Weighting Tables - HIDE SHEET'!$A$1:$C$9,MATCH(\"Capacity\",'Weighting Tables - HIDE SHEET'!$A$1:$A$9,FALSE),3)),IF(L80=\"Yes\",1*INDEX('Weighting Tables - HIDE SHEET'!$A$1:$C$9,MATCH(\"Reliability\",'Weighting Tables - HIDE SHEET'!$A$1:$A$9,FALSE),3)),IF(M80=\"Yes\",1*INDEX('Weighting Tables - HIDE SHEET'!$A$1:$C$9,MATCH(\"Repair Schedule\",'Weighting Tables - HIDE SHEET'!$A$1:$A$9,FALSE),3)))/'Weighting Tables - HIDE SHEET'!$G$4*10,0))","v":""}]
[null,null,null,null,null,null,null,null,{"$f":"IF(B81=\"\",\"\",ROUND(SUM(IF(F81=\"Greater than 75%\",4,IF(F81=\"50-75%\",3,IF(F81=\"25-50%\",2,IF(F81=\"Less than 25%\",1,0))))*INDEX('Weighting Tables - HIDE SHEET'!$A$1:$C$11,MATCH(\"Importance\",'Weighting Tables - HIDE SHEET'!$A$1:$A$11,FALSE),3),IF(G81=\"Yes\",1*INDEX('Weighting Tables - HIDE SHEET'!$A$1:$C$11,MATCH(\"Compliance\",'Weighting Tables - HIDE SHEET'!$A$1:$A$11,FALSE),3)),IF(H81=\"Yes\",1*INDEX('Weighting Tables - HIDE SHEET'!$A$1:$C$11,MATCH(\"Public Health and Environment\",'Weighting Tables - HIDE SHEET'!$A$1:$A$11,FALSE),3)))/'Weighting Tables - HIDE SHEET'!$G$3*10,0))","v":""},null,null,null,null,{"$f":"IF(ISBLANK(B81),\"\",ROUND(SUM(IF(J81=\"Yes\",1*INDEX('Weighting Tables - HIDE SHEET'!$A$1:$C$9,MATCH(\"Estimated Remaining Life\",'Weighting Tables - HIDE SHEET'!$A$1:$A$9,FALSE),3)),(IF(K81=\"Beyond capacity\",2,IF(K81=\"At capacity\",1,0))*INDEX('Weighting Tables - HIDE SHEET'!$A$1:$C$9,MATCH(\"Capacity\",'Weighting Tables - HIDE SHEET'!$A$1:$A$9,FALSE),3)),IF(L81=\"Yes\",1*INDEX('Weighting Tables - HIDE SHEET'!$A$1:$C$9,MATCH(\"Reliability\",'Weighting Tables - HIDE SHEET'!$A$1:$A$9,FALSE),3)),IF(M81=\"Yes\",1*INDEX('Weighting Tables - HIDE SHEET'!$A$1:$C$9,MATCH(\"Repair Schedule\",'Weighting Tables - HIDE SHEET'!$A$1:$A$9,FALSE),3)))/'Weighting Tables - HIDE SHEET'!$G$4*10,0))","v":""}]
[null,null,null,null,null,null,null,null,{"$f":"IF(B82=\"\",\"\",ROUND(SUM(IF(F82=\"Greater than 75%\",4,IF(F82=\"50-75%\",3,IF(F82=\"25-50%\",2,IF(F82=\"Less than 25%\",1,0))))*INDEX('Weighting Tables - HIDE SHEET'!$A$1:$C$11,MATCH(\"Importance\",'Weighting Tables - HIDE SHEET'!$A$1:$A$11,FALSE),3),IF(G82=\"Yes\",1*INDEX('Weighting Tables - HIDE SHEET'!$A$1:$C$11,MATCH(\"Compliance\",'Weighting Tables - HIDE SHEET'!$A$1:$A$11,FALSE),3)),IF(H82=\"Yes\",1*INDEX('Weighting Tables - HIDE SHEET'!$A$1:$C$11,MATCH(\"Public Health and Environment\",'Weighting Tables - HIDE SHEET'!$A$1:$A$11,FALSE),3)))/'Weighting Tables - HIDE SHEET'!$G$3*10,0))","v":""},null,null,null,null,{"$f":"IF(ISBLANK(B82),\"\",ROUND(SUM(IF(J82=\"Yes\",1*INDEX('Weighting Tables - HIDE SHEET'!$A$1:$C$9,MATCH(\"Estimated Remaining Life\",'Weighting Tables - HIDE SHEET'!$A$1:$A$9,FALSE),3)),(IF(K82=\"Beyond capacity\",2,IF(K82=\"At capacity\",1,0))*INDEX('Weighting Tables - HIDE SHEET'!$A$1:$C$9,MATCH(\"Capacity\",'Weighting Tables - HIDE SHEET'!$A$1:$A$9,FALSE),3)),IF(L82=\"Yes\",1*INDEX('Weighting Tables - HIDE SHEET'!$A$1:$C$9,MATCH(\"Reliability\",'Weighting Tables - HIDE SHEET'!$A$1:$A$9,FALSE),3)),IF(M82=\"Yes\",1*INDEX('Weighting Tables - HIDE SHEET'!$A$1:$C$9,MATCH(\"Repair Schedule\",'Weighting Tables - HIDE SHEET'!$A$1:$A$9,FALSE),3)))/'Weighting Tables - HIDE SHEET'!$G$4*10,0))","v":""}]
[null,null,null,null,null,null,null,null,{"$f":"IF(B83=\"\",\"\",ROUND(SUM(IF(F83=\"Greater than 75%\",4,IF(F83=\"50-75%\",3,IF(F83=\"25-50%\",2,IF(F83=\"Less than 25%\",1,0))))*INDEX('Weighting Tables - HIDE SHEET'!$A$1:$C$11,MATCH(\"Importance\",'Weighting Tables - HIDE SHEET'!$A$1:$A$11,FALSE),3),IF(G83=\"Yes\",1*INDEX('Weighting Tables - HIDE SHEET'!$A$1:$C$11,MATCH(\"Compliance\",'Weighting Tables - HIDE SHEET'!$A$1:$A$11,FALSE),3)),IF(H83=\"Yes\",1*INDEX('Weighting Tables - HIDE SHEET'!$A$1:$C$11,MATCH(\"Public Health and Environment\",'Weighting Tables - HIDE SHEET'!$A$1:$A$11,FALSE),3)))/'Weighting Tables - HIDE SHEET'!$G$3*10,0))","v":""},null,null,null,null,{"$f":"IF(ISBLANK(B83),\"\",ROUND(SUM(IF(J83=\"Yes\",1*INDEX('Weighting Tables - HIDE SHEET'!$A$1:$C$9,MATCH(\"Estimated Remaining Life\",'Weighting Tables - HIDE SHEET'!$A$1:$A$9,FALSE),3)),(IF(K83=\"Beyond capacity\",2,IF(K83=\"At capacity\",1,0))*INDEX('Weighting Tables - HIDE SHEET'!$A$1:$C$9,MATCH(\"Capacity\",'Weighting Tables - HIDE SHEET'!$A$1:$A$9,FALSE),3)),IF(L83=\"Yes\",1*INDEX('Weighting Tables - HIDE SHEET'!$A$1:$C$9,MATCH(\"Reliability\",'Weighting Tables - HIDE SHEET'!$A$1:$A$9,FALSE),3)),IF(M83=\"Yes\",1*INDEX('Weighting Tables - HIDE SHEET'!$A$1:$C$9,MATCH(\"Repair Schedule\",'Weighting Tables - HIDE SHEET'!$A$1:$A$9,FALSE),3)))/'Weighting Tables - HIDE SHEET'!$G$4*10,0))","v":""}]
[null,null,null,null,null,null,null,null,{"$f":"IF(B84=\"\",\"\",ROUND(SUM(IF(F84=\"Greater than 75%\",4,IF(F84=\"50-75%\",3,IF(F84=\"25-50%\",2,IF(F84=\"Less than 25%\",1,0))))*INDEX('Weighting Tables - HIDE SHEET'!$A$1:$C$11,MATCH(\"Importance\",'Weighting Tables - HIDE SHEET'!$A$1:$A$11,FALSE),3),IF(G84=\"Yes\",1*INDEX('Weighting Tables - HIDE SHEET'!$A$1:$C$11,MATCH(\"Compliance\",'Weighting Tables - HIDE SHEET'!$A$1:$A$11,FALSE),3)),IF(H84=\"Yes\",1*INDEX('Weighting Tables - HIDE SHEET'!$A$1:$C$11,MATCH(\"Public Health and Environment\",'Weighting Tables - HIDE SHEET'!$A$1:$A$11,FALSE),3)))/'Weighting Tables - HIDE SHEET'!$G$3*10,0))","v":""},null,null,null,null,{"$f":"IF(ISBLANK(B84),\"\",ROUND(SUM(IF(J84=\"Yes\",1*INDEX('Weighting Tables - HIDE SHEET'!$A$1:$C$9,MATCH(\"Estimated Remaining Life\",'Weighting Tables - HIDE SHEET'!$A$1:$A$9,FALSE),3)),(IF(K84=\"Beyond capacity\",2,IF(K84=\"At capacity\",1,0))*INDEX('Weighting Tables - HIDE SHEET'!$A$1:$C$9,MATCH(\"Capacity\",'Weighting Tables - HIDE SHEET'!$A$1:$A$9,FALSE),3)),IF(L84=\"Yes\",1*INDEX('Weighting Tables - HIDE SHEET'!$A$1:$C$9,MATCH(\"Reliability\",'Weighting Tables - HIDE SHEET'!$A$1:$A$9,FALSE),3)),IF(M84=\"Yes\",1*INDEX('Weighting Tables - HIDE SHEET'!$A$1:$C$9,MATCH(\"Repair Schedule\",'Weighting Tables - HIDE SHEET'!$A$1:$A$9,FALSE),3)))/'Weighting Tables - HIDE SHEET'!$G$4*10,0))","v":""}]
[null,null,null,null,null,null,null,null,{"$f":"IF(B85=\"\",\"\",ROUND(SUM(IF(F85=\"Greater than 75%\",4,IF(F85=\"50-75%\",3,IF(F85=\"25-50%\",2,IF(F85=\"Less than 25%\",1,0))))*INDEX('Weighting Tables - HIDE SHEET'!$A$1:$C$11,MATCH(\"Importance\",'Weighting Tables - HIDE SHEET'!$A$1:$A$11,FALSE),3),IF(G85=\"Yes\",1*INDEX('Weighting Tables - HIDE SHEET'!$A$1:$C$11,MATCH(\"Compliance\",'Weighting Tables - HIDE SHEET'!$A$1:$A$11,FALSE),3)),IF(H85=\"Yes\",1*INDEX('Weighting Tables - HIDE SHEET'!$A$1:$C$11,MATCH(\"Public Health and Environment\",'Weighting Tables - HIDE SHEET'!$A$1:$A$11,FALSE),3)))/'Weighting Tables - HIDE SHEET'!$G$3*10,0))","v":""},null,null,null,null,{"$f":"IF(ISBLANK(B85),\"\",ROUND(SUM(IF(J85=\"Yes\",1*INDEX('Weighting Tables - HIDE SHEET'!$A$1:$C$9,MATCH(\"Estimated Remaining Life\",'Weighting Tables - HIDE SHEET'!$A$1:$A$9,FALSE),3)),(IF(K85=\"Beyond capacity\",2,IF(K85=\"At capacity\",1,0))*INDEX('Weighting Tables - HIDE SHEET'!$A$1:$C$9,MATCH(\"Capacity\",'Weighting Tables - HIDE SHEET'!$A$1:$A$9,FALSE),3)),IF(L85=\"Yes\",1*INDEX('Weighting Tables - HIDE SHEET'!$A$1:$C$9,MATCH(\"Reliability\",'Weighting Tables - HIDE SHEET'!$A$1:$A$9,FALSE),3)),IF(M85=\"Yes\",1*INDEX('Weighting Tables - HIDE SHEET'!$A$1:$C$9,MATCH(\"Repair Schedule\",'Weighting Tables - HIDE SHEET'!$A$1:$A$9,FALSE),3)))/'Weighting Tables - HIDE SHEET'!$G$4*10,0))","v":""}]
[null,null,null,null,null,null,null,null,{"$f":"IF(B86=\"\",\"\",ROUND(SUM(IF(F86=\"Greater than 75%\",4,IF(F86=\"50-75%\",3,IF(F86=\"25-50%\",2,IF(F86=\"Less than 25%\",1,0))))*INDEX('Weighting Tables - HIDE SHEET'!$A$1:$C$11,MATCH(\"Importance\",'Weighting Tables - HIDE SHEET'!$A$1:$A$11,FALSE),3),IF(G86=\"Yes\",1*INDEX('Weighting Tables - HIDE SHEET'!$A$1:$C$11,MATCH(\"Compliance\",'Weighting Tables - HIDE SHEET'!$A$1:$A$11,FALSE),3)),IF(H86=\"Yes\",1*INDEX('Weighting Tables - HIDE SHEET'!$A$1:$C$11,MATCH(\"Public Health and Environment\",'Weighting Tables - HIDE SHEET'!$A$1:$A$11,FALSE),3)))/'Weighting Tables - HIDE SHEET'!$G$3*10,0))","v":""},null,null,null,null,{"$f":"IF(ISBLANK(B86),\"\",ROUND(SUM(IF(J86=\"Yes\",1*INDEX('Weighting Tables - HIDE SHEET'!$A$1:$C$9,MATCH(\"Estimated Remaining Life\",'Weighting Tables - HIDE SHEET'!$A$1:$A$9,FALSE),3)),(IF(K86=\"Beyond capacity\",2,IF(K86=\"At capacity\",1,0))*INDEX('Weighting Tables - HIDE SHEET'!$A$1:$C$9,MATCH(\"Capacity\",'Weighting Tables - HIDE SHEET'!$A$1:$A$9,FALSE),3)),IF(L86=\"Yes\",1*INDEX('Weighting Tables - HIDE SHEET'!$A$1:$C$9,MATCH(\"Reliability\",'Weighting Tables - HIDE SHEET'!$A$1:$A$9,FALSE),3)),IF(M86=\"Yes\",1*INDEX('Weighting Tables - HIDE SHEET'!$A$1:$C$9,MATCH(\"Repair Schedule\",'Weighting Tables - HIDE SHEET'!$A$1:$A$9,FALSE),3)))/'Weighting Tables - HIDE SHEET'!$G$4*10,0))","v":""}]
[null,null,null,null,null,null,null,null,{"$f":"IF(B87=\"\",\"\",ROUND(SUM(IF(F87=\"Greater than 75%\",4,IF(F87=\"50-75%\",3,IF(F87=\"25-50%\",2,IF(F87=\"Less than 25%\",1,0))))*INDEX('Weighting Tables - HIDE SHEET'!$A$1:$C$11,MATCH(\"Importance\",'Weighting Tables - HIDE SHEET'!$A$1:$A$11,FALSE),3),IF(G87=\"Yes\",1*INDEX('Weighting Tables - HIDE SHEET'!$A$1:$C$11,MATCH(\"Compliance\",'Weighting Tables - HIDE SHEET'!$A$1:$A$11,FALSE),3)),IF(H87=\"Yes\",1*INDEX('Weighting Tables - HIDE SHEET'!$A$1:$C$11,MATCH(\"Public Health and Environment\",'Weighting Tables - HIDE SHEET'!$A$1:$A$11,FALSE),3)))/'Weighting Tables - HIDE SHEET'!$G$3*10,0))","v":""},null,null,null,null,{"$f":"IF(ISBLANK(B87),\"\",ROUND(SUM(IF(J87=\"Yes\",1*INDEX('Weighting Tables - HIDE SHEET'!$A$1:$C$9,MATCH(\"Estimated Remaining Life\",'Weighting Tables - HIDE SHEET'!$A$1:$A$9,FALSE),3)),(IF(K87=\"Beyond capacity\",2,IF(K87=\"At capacity\",1,0))*INDEX('Weighting Tables - HIDE SHEET'!$A$1:$C$9,MATCH(\"Capacity\",'Weighting Tables - HIDE SHEET'!$A$1:$A$9,FALSE),3)),IF(L87=\"Yes\",1*INDEX('Weighting Tables - HIDE SHEET'!$A$1:$C$9,MATCH(\"Reliability\",'Weighting Tables - HIDE SHEET'!$A$1:$A$9,FALSE),3)),IF(M87=\"Yes\",1*INDEX('Weighting Tables - HIDE SHEET'!$A$1:$C$9,MATCH(\"Repair Schedule\",'Weighting Tables - HIDE SHEET'!$A$1:$A$9,FALSE),3)))/'Weighting Tables - HIDE SHEET'!$G$4*10,0))","v":""}]
[null,null,null,null,null,null,null,null,{"$f":"IF(B88=\"\",\"\",ROUND(SUM(IF(F88=\"Greater than 75%\",4,IF(F88=\"50-75%\",3,IF(F88=\"25-50%\",2,IF(F88=\"Less than 25%\",1,0))))*INDEX('Weighting Tables - HIDE SHEET'!$A$1:$C$11,MATCH(\"Importance\",'Weighting Tables - HIDE SHEET'!$A$1:$A$11,FALSE),3),IF(G88=\"Yes\",1*INDEX('Weighting Tables - HIDE SHEET'!$A$1:$C$11,MATCH(\"Compliance\",'Weighting Tables - HIDE SHEET'!$A$1:$A$11,FALSE),3)),IF(H88=\"Yes\",1*INDEX('Weighting Tables - HIDE SHEET'!$A$1:$C$11,MATCH(\"Public Health and Environment\",'Weighting Tables - HIDE SHEET'!$A$1:$A$11,FALSE),3)))/'Weighting Tables - HIDE SHEET'!$G$3*10,0))","v":""},null,null,null,null,{"$f":"IF(ISBLANK(B88),\"\",ROUND(SUM(IF(J88=\"Yes\",1*INDEX('Weighting Tables - HIDE SHEET'!$A$1:$C$9,MATCH(\"Estimated Remaining Life\",'Weighting Tables - HIDE SHEET'!$A$1:$A$9,FALSE),3)),(IF(K88=\"Beyond capacity\",2,IF(K88=\"At capacity\",1,0))*INDEX('Weighting Tables - HIDE SHEET'!$A$1:$C$9,MATCH(\"Capacity\",'Weighting Tables - HIDE SHEET'!$A$1:$A$9,FALSE),3)),IF(L88=\"Yes\",1*INDEX('Weighting Tables - HIDE SHEET'!$A$1:$C$9,MATCH(\"Reliability\",'Weighting Tables - HIDE SHEET'!$A$1:$A$9,FALSE),3)),IF(M88=\"Yes\",1*INDEX('Weighting Tables - HIDE SHEET'!$A$1:$C$9,MATCH(\"Repair Schedule\",'Weighting Tables - HIDE SHEET'!$A$1:$A$9,FALSE),3)))/'Weighting Tables - HIDE SHEET'!$G$4*10,0))","v":""}]
[null,null,null,null,null,null,null,null,{"$f":"IF(B89=\"\",\"\",ROUND(SUM(IF(F89=\"Greater than 75%\",4,IF(F89=\"50-75%\",3,IF(F89=\"25-50%\",2,IF(F89=\"Less than 25%\",1,0))))*INDEX('Weighting Tables - HIDE SHEET'!$A$1:$C$11,MATCH(\"Importance\",'Weighting Tables - HIDE SHEET'!$A$1:$A$11,FALSE),3),IF(G89=\"Yes\",1*INDEX('Weighting Tables - HIDE SHEET'!$A$1:$C$11,MATCH(\"Compliance\",'Weighting Tables - HIDE SHEET'!$A$1:$A$11,FALSE),3)),IF(H89=\"Yes\",1*INDEX('Weighting Tables - HIDE SHEET'!$A$1:$C$11,MATCH(\"Public Health and Environment\",'Weighting Tables - HIDE SHEET'!$A$1:$A$11,FALSE),3)))/'Weighting Tables - HIDE SHEET'!$G$3*10,0))","v":""},null,null,null,null,{"$f":"IF(ISBLANK(B89),\"\",ROUND(SUM(IF(J89=\"Yes\",1*INDEX('Weighting Tables - HIDE SHEET'!$A$1:$C$9,MATCH(\"Estimated Remaining Life\",'Weighting Tables - HIDE SHEET'!$A$1:$A$9,FALSE),3)),(IF(K89=\"Beyond capacity\",2,IF(K89=\"At capacity\",1,0))*INDEX('Weighting Tables - HIDE SHEET'!$A$1:$C$9,MATCH(\"Capacity\",'Weighting Tables - HIDE SHEET'!$A$1:$A$9,FALSE),3)),IF(L89=\"Yes\",1*INDEX('Weighting Tables - HIDE SHEET'!$A$1:$C$9,MATCH(\"Reliability\",'Weighting Tables - HIDE SHEET'!$A$1:$A$9,FALSE),3)),IF(M89=\"Yes\",1*INDEX('Weighting Tables - HIDE SHEET'!$A$1:$C$9,MATCH(\"Repair Schedule\",'Weighting Tables - HIDE SHEET'!$A$1:$A$9,FALSE),3)))/'Weighting Tables - HIDE SHEET'!$G$4*10,0))","v":""}]
[null,null,null,null,null,null,null,null,{"$f":"IF(B90=\"\",\"\",ROUND(SUM(IF(F90=\"Greater than 75%\",4,IF(F90=\"50-75%\",3,IF(F90=\"25-50%\",2,IF(F90=\"Less than 25%\",1,0))))*INDEX('Weighting Tables - HIDE SHEET'!$A$1:$C$11,MATCH(\"Importance\",'Weighting Tables - HIDE SHEET'!$A$1:$A$11,FALSE),3),IF(G90=\"Yes\",1*INDEX('Weighting Tables - HIDE SHEET'!$A$1:$C$11,MATCH(\"Compliance\",'Weighting Tables - HIDE SHEET'!$A$1:$A$11,FALSE),3)),IF(H90=\"Yes\",1*INDEX('Weighting Tables - HIDE SHEET'!$A$1:$C$11,MATCH(\"Public Health and Environment\",'Weighting Tables - HIDE SHEET'!$A$1:$A$11,FALSE),3)))/'Weighting Tables - HIDE SHEET'!$G$3*10,0))","v":""},null,null,null,null,{"$f":"IF(ISBLANK(B90),\"\",ROUND(SUM(IF(J90=\"Yes\",1*INDEX('Weighting Tables - HIDE SHEET'!$A$1:$C$9,MATCH(\"Estimated Remaining Life\",'Weighting Tables - HIDE SHEET'!$A$1:$A$9,FALSE),3)),(IF(K90=\"Beyond capacity\",2,IF(K90=\"At capacity\",1,0))*INDEX('Weighting Tables - HIDE SHEET'!$A$1:$C$9,MATCH(\"Capacity\",'Weighting Tables - HIDE SHEET'!$A$1:$A$9,FALSE),3)),IF(L90=\"Yes\",1*INDEX('Weighting Tables - HIDE SHEET'!$A$1:$C$9,MATCH(\"Reliability\",'Weighting Tables - HIDE SHEET'!$A$1:$A$9,FALSE),3)),IF(M90=\"Yes\",1*INDEX('Weighting Tables - HIDE SHEET'!$A$1:$C$9,MATCH(\"Repair Schedule\",'Weighting Tables - HIDE SHEET'!$A$1:$A$9,FALSE),3)))/'Weighting Tables - HIDE SHEET'!$G$4*10,0))","v":""}]
[null,null,null,null,null,null,null,null,{"$f":"IF(B91=\"\",\"\",ROUND(SUM(IF(F91=\"Greater than 75%\",4,IF(F91=\"50-75%\",3,IF(F91=\"25-50%\",2,IF(F91=\"Less than 25%\",1,0))))*INDEX('Weighting Tables - HIDE SHEET'!$A$1:$C$11,MATCH(\"Importance\",'Weighting Tables - HIDE SHEET'!$A$1:$A$11,FALSE),3),IF(G91=\"Yes\",1*INDEX('Weighting Tables - HIDE SHEET'!$A$1:$C$11,MATCH(\"Compliance\",'Weighting Tables - HIDE SHEET'!$A$1:$A$11,FALSE),3)),IF(H91=\"Yes\",1*INDEX('Weighting Tables - HIDE SHEET'!$A$1:$C$11,MATCH(\"Public Health and Environment\",'Weighting Tables - HIDE SHEET'!$A$1:$A$11,FALSE),3)))/'Weighting Tables - HIDE SHEET'!$G$3*10,0))","v":""},null,null,null,null,{"$f":"IF(ISBLANK(B91),\"\",ROUND(SUM(IF(J91=\"Yes\",1*INDEX('Weighting Tables - HIDE SHEET'!$A$1:$C$9,MATCH(\"Estimated Remaining Life\",'Weighting Tables - HIDE SHEET'!$A$1:$A$9,FALSE),3)),(IF(K91=\"Beyond capacity\",2,IF(K91=\"At capacity\",1,0))*INDEX('Weighting Tables - HIDE SHEET'!$A$1:$C$9,MATCH(\"Capacity\",'Weighting Tables - HIDE SHEET'!$A$1:$A$9,FALSE),3)),IF(L91=\"Yes\",1*INDEX('Weighting Tables - HIDE SHEET'!$A$1:$C$9,MATCH(\"Reliability\",'Weighting Tables - HIDE SHEET'!$A$1:$A$9,FALSE),3)),IF(M91=\"Yes\",1*INDEX('Weighting Tables - HIDE SHEET'!$A$1:$C$9,MATCH(\"Repair Schedule\",'Weighting Tables - HIDE SHEET'!$A$1:$A$9,FALSE),3)))/'Weighting Tables - HIDE SHEET'!$G$4*10,0))","v":""}]
[null,null,null,null,null,null,null,null,{"$f":"IF(B92=\"\",\"\",ROUND(SUM(IF(F92=\"Greater than 75%\",4,IF(F92=\"50-75%\",3,IF(F92=\"25-50%\",2,IF(F92=\"Less than 25%\",1,0))))*INDEX('Weighting Tables - HIDE SHEET'!$A$1:$C$11,MATCH(\"Importance\",'Weighting Tables - HIDE SHEET'!$A$1:$A$11,FALSE),3),IF(G92=\"Yes\",1*INDEX('Weighting Tables - HIDE SHEET'!$A$1:$C$11,MATCH(\"Compliance\",'Weighting Tables - HIDE SHEET'!$A$1:$A$11,FALSE),3)),IF(H92=\"Yes\",1*INDEX('Weighting Tables - HIDE SHEET'!$A$1:$C$11,MATCH(\"Public Health and Environment\",'Weighting Tables - HIDE SHEET'!$A$1:$A$11,FALSE),3)))/'Weighting Tables - HIDE SHEET'!$G$3*10,0))","v":""},null,null,null,null,{"$f":"IF(ISBLANK(B92),\"\",ROUND(SUM(IF(J92=\"Yes\",1*INDEX('Weighting Tables - HIDE SHEET'!$A$1:$C$9,MATCH(\"Estimated Remaining Life\",'Weighting Tables - HIDE SHEET'!$A$1:$A$9,FALSE),3)),(IF(K92=\"Beyond capacity\",2,IF(K92=\"At capacity\",1,0))*INDEX('Weighting Tables - HIDE SHEET'!$A$1:$C$9,MATCH(\"Capacity\",'Weighting Tables - HIDE SHEET'!$A$1:$A$9,FALSE),3)),IF(L92=\"Yes\",1*INDEX('Weighting Tables - HIDE SHEET'!$A$1:$C$9,MATCH(\"Reliability\",'Weighting Tables - HIDE SHEET'!$A$1:$A$9,FALSE),3)),IF(M92=\"Yes\",1*INDEX('Weighting Tables - HIDE SHEET'!$A$1:$C$9,MATCH(\"Repair Schedule\",'Weighting Tables - HIDE SHEET'!$A$1:$A$9,FALSE),3)))/'Weighting Tables - HIDE SHEET'!$G$4*10,0))","v":""}]
[null,null,null,null,null,null,null,null,{"$f":"IF(B93=\"\",\"\",ROUND(SUM(IF(F93=\"Greater than 75%\",4,IF(F93=\"50-75%\",3,IF(F93=\"25-50%\",2,IF(F93=\"Less than 25%\",1,0))))*INDEX('Weighting Tables - HIDE SHEET'!$A$1:$C$11,MATCH(\"Importance\",'Weighting Tables - HIDE SHEET'!$A$1:$A$11,FALSE),3),IF(G93=\"Yes\",1*INDEX('Weighting Tables - HIDE SHEET'!$A$1:$C$11,MATCH(\"Compliance\",'Weighting Tables - HIDE SHEET'!$A$1:$A$11,FALSE),3)),IF(H93=\"Yes\",1*INDEX('Weighting Tables - HIDE SHEET'!$A$1:$C$11,MATCH(\"Public Health and Environment\",'Weighting Tables - HIDE SHEET'!$A$1:$A$11,FALSE),3)))/'Weighting Tables - HIDE SHEET'!$G$3*10,0))","v":""},null,null,null,null,{"$f":"IF(ISBLANK(B93),\"\",ROUND(SUM(IF(J93=\"Yes\",1*INDEX('Weighting Tables - HIDE SHEET'!$A$1:$C$9,MATCH(\"Estimated Remaining Life\",'Weighting Tables - HIDE SHEET'!$A$1:$A$9,FALSE),3)),(IF(K93=\"Beyond capacity\",2,IF(K93=\"At capacity\",1,0))*INDEX('Weighting Tables - HIDE SHEET'!$A$1:$C$9,MATCH(\"Capacity\",'Weighting Tables - HIDE SHEET'!$A$1:$A$9,FALSE),3)),IF(L93=\"Yes\",1*INDEX('Weighting Tables - HIDE SHEET'!$A$1:$C$9,MATCH(\"Reliability\",'Weighting Tables - HIDE SHEET'!$A$1:$A$9,FALSE),3)),IF(M93=\"Yes\",1*INDEX('Weighting Tables - HIDE SHEET'!$A$1:$C$9,MATCH(\"Repair Schedule\",'Weighting Tables - HIDE SHEET'!$A$1:$A$9,FALSE),3)))/'Weighting Tables - HIDE SHEET'!$G$4*10,0))","v":""}]
[null,null,null,null,null,null,null,null,{"$f":"IF(B94=\"\",\"\",ROUND(SUM(IF(F94=\"Greater than 75%\",4,IF(F94=\"50-75%\",3,IF(F94=\"25-50%\",2,IF(F94=\"Less than 25%\",1,0))))*INDEX('Weighting Tables - HIDE SHEET'!$A$1:$C$11,MATCH(\"Importance\",'Weighting Tables - HIDE SHEET'!$A$1:$A$11,FALSE),3),IF(G94=\"Yes\",1*INDEX('Weighting Tables - HIDE SHEET'!$A$1:$C$11,MATCH(\"Compliance\",'Weighting Tables - HIDE SHEET'!$A$1:$A$11,FALSE),3)),IF(H94=\"Yes\",1*INDEX('Weighting Tables - HIDE SHEET'!$A$1:$C$11,MATCH(\"Public Health and Environment\",'Weighting Tables - HIDE SHEET'!$A$1:$A$11,FALSE),3)))/'Weighting Tables - HIDE SHEET'!$G$3*10,0))","v":""},null,null,null,null,{"$f":"IF(ISBLANK(B94),\"\",ROUND(SUM(IF(J94=\"Yes\",1*INDEX('Weighting Tables - HIDE SHEET'!$A$1:$C$9,MATCH(\"Estimated Remaining Life\",'Weighting Tables - HIDE SHEET'!$A$1:$A$9,FALSE),3)),(IF(K94=\"Beyond capacity\",2,IF(K94=\"At capacity\",1,0))*INDEX('Weighting Tables - HIDE SHEET'!$A$1:$C$9,MATCH(\"Capacity\",'Weighting Tables - HIDE SHEET'!$A$1:$A$9,FALSE),3)),IF(L94=\"Yes\",1*INDEX('Weighting Tables - HIDE SHEET'!$A$1:$C$9,MATCH(\"Reliability\",'Weighting Tables - HIDE SHEET'!$A$1:$A$9,FALSE),3)),IF(M94=\"Yes\",1*INDEX('Weighting Tables - HIDE SHEET'!$A$1:$C$9,MATCH(\"Repair Schedule\",'Weighting Tables - HIDE SHEET'!$A$1:$A$9,FALSE),3)))/'Weighting Tables - HIDE SHEET'!$G$4*10,0))","v":""}]
[null,null,null,null,null,null,null,null,{"$f":"IF(B95=\"\",\"\",ROUND(SUM(IF(F95=\"Greater than 75%\",4,IF(F95=\"50-75%\",3,IF(F95=\"25-50%\",2,IF(F95=\"Less than 25%\",1,0))))*INDEX('Weighting Tables - HIDE SHEET'!$A$1:$C$11,MATCH(\"Importance\",'Weighting Tables - HIDE SHEET'!$A$1:$A$11,FALSE),3),IF(G95=\"Yes\",1*INDEX('Weighting Tables - HIDE SHEET'!$A$1:$C$11,MATCH(\"Compliance\",'Weighting Tables - HIDE SHEET'!$A$1:$A$11,FALSE),3)),IF(H95=\"Yes\",1*INDEX('Weighting Tables - HIDE SHEET'!$A$1:$C$11,MATCH(\"Public Health and Environment\",'Weighting Tables - HIDE SHEET'!$A$1:$A$11,FALSE),3)))/'Weighting Tables - HIDE SHEET'!$G$3*10,0))","v":""},null,null,null,null,{"$f":"IF(ISBLANK(B95),\"\",ROUND(SUM(IF(J95=\"Yes\",1*INDEX('Weighting Tables - HIDE SHEET'!$A$1:$C$9,MATCH(\"Estimated Remaining Life\",'Weighting Tables - HIDE SHEET'!$A$1:$A$9,FALSE),3)),(IF(K95=\"Beyond capacity\",2,IF(K95=\"At capacity\",1,0))*INDEX('Weighting Tables - HIDE SHEET'!$A$1:$C$9,MATCH(\"Capacity\",'Weighting Tables - HIDE SHEET'!$A$1:$A$9,FALSE),3)),IF(L95=\"Yes\",1*INDEX('Weighting Tables - HIDE SHEET'!$A$1:$C$9,MATCH(\"Reliability\",'Weighting Tables - HIDE SHEET'!$A$1:$A$9,FALSE),3)),IF(M95=\"Yes\",1*INDEX('Weighting Tables - HIDE SHEET'!$A$1:$C$9,MATCH(\"Repair Schedule\",'Weighting Tables - HIDE SHEET'!$A$1:$A$9,FALSE),3)))/'Weighting Tables - HIDE SHEET'!$G$4*10,0))","v":""}]
[null,null,null,null,null,null,null,null,{"$f":"IF(B96=\"\",\"\",ROUND(SUM(IF(F96=\"Greater than 75%\",4,IF(F96=\"50-75%\",3,IF(F96=\"25-50%\",2,IF(F96=\"Less than 25%\",1,0))))*INDEX('Weighting Tables - HIDE SHEET'!$A$1:$C$11,MATCH(\"Importance\",'Weighting Tables - HIDE SHEET'!$A$1:$A$11,FALSE),3),IF(G96=\"Yes\",1*INDEX('Weighting Tables - HIDE SHEET'!$A$1:$C$11,MATCH(\"Compliance\",'Weighting Tables - HIDE SHEET'!$A$1:$A$11,FALSE),3)),IF(H96=\"Yes\",1*INDEX('Weighting Tables - HIDE SHEET'!$A$1:$C$11,MATCH(\"Public Health and Environment\",'Weighting Tables - HIDE SHEET'!$A$1:$A$11,FALSE),3)))/'Weighting Tables - HIDE SHEET'!$G$3*10,0))","v":""},null,null,null,null,{"$f":"IF(ISBLANK(B96),\"\",ROUND(SUM(IF(J96=\"Yes\",1*INDEX('Weighting Tables - HIDE SHEET'!$A$1:$C$9,MATCH(\"Estimated Remaining Life\",'Weighting Tables - HIDE SHEET'!$A$1:$A$9,FALSE),3)),(IF(K96=\"Beyond capacity\",2,IF(K96=\"At capacity\",1,0))*INDEX('Weighting Tables - HIDE SHEET'!$A$1:$C$9,MATCH(\"Capacity\",'Weighting Tables - HIDE SHEET'!$A$1:$A$9,FALSE),3)),IF(L96=\"Yes\",1*INDEX('Weighting Tables - HIDE SHEET'!$A$1:$C$9,MATCH(\"Reliability\",'Weighting Tables - HIDE SHEET'!$A$1:$A$9,FALSE),3)),IF(M96=\"Yes\",1*INDEX('Weighting Tables - HIDE SHEET'!$A$1:$C$9,MATCH(\"Repair Schedule\",'Weighting Tables - HIDE SHEET'!$A$1:$A$9,FALSE),3)))/'Weighting Tables - HIDE SHEET'!$G$4*10,0))","v":""}]
[null,null,null,null,null,null,null,null,{"$f":"IF(B97=\"\",\"\",ROUND(SUM(IF(F97=\"Greater than 75%\",4,IF(F97=\"50-75%\",3,IF(F97=\"25-50%\",2,IF(F97=\"Less than 25%\",1,0))))*INDEX('Weighting Tables - HIDE SHEET'!$A$1:$C$11,MATCH(\"Importance\",'Weighting Tables - HIDE SHEET'!$A$1:$A$11,FALSE),3),IF(G97=\"Yes\",1*INDEX('Weighting Tables - HIDE SHEET'!$A$1:$C$11,MATCH(\"Compliance\",'Weighting Tables - HIDE SHEET'!$A$1:$A$11,FALSE),3)),IF(H97=\"Yes\",1*INDEX('Weighting Tables - HIDE SHEET'!$A$1:$C$11,MATCH(\"Public Health and Environment\",'Weighting Tables - HIDE SHEET'!$A$1:$A$11,FALSE),3)))/'Weighting Tables - HIDE SHEET'!$G$3*10,0))","v":""},null,null,null,null,{"$f":"IF(ISBLANK(B97),\"\",ROUND(SUM(IF(J97=\"Yes\",1*INDEX('Weighting Tables - HIDE SHEET'!$A$1:$C$9,MATCH(\"Estimated Remaining Life\",'Weighting Tables - HIDE SHEET'!$A$1:$A$9,FALSE),3)),(IF(K97=\"Beyond capacity\",2,IF(K97=\"At capacity\",1,0))*INDEX('Weighting Tables - HIDE SHEET'!$A$1:$C$9,MATCH(\"Capacity\",'Weighting Tables - HIDE SHEET'!$A$1:$A$9,FALSE),3)),IF(L97=\"Yes\",1*INDEX('Weighting Tables - HIDE SHEET'!$A$1:$C$9,MATCH(\"Reliability\",'Weighting Tables - HIDE SHEET'!$A$1:$A$9,FALSE),3)),IF(M97=\"Yes\",1*INDEX('Weighting Tables - HIDE SHEET'!$A$1:$C$9,MATCH(\"Repair Schedule\",'Weighting Tables - HIDE SHEET'!$A$1:$A$9,FALSE),3)))/'Weighting Tables - HIDE SHEET'!$G$4*10,0))","v":""}]
[null,null,null,null,null,null,null,null,{"$f":"IF(B98=\"\",\"\",ROUND(SUM(IF(F98=\"Greater than 75%\",4,IF(F98=\"50-75%\",3,IF(F98=\"25-50%\",2,IF(F98=\"Less than 25%\",1,0))))*INDEX('Weighting Tables - HIDE SHEET'!$A$1:$C$11,MATCH(\"Importance\",'Weighting Tables - HIDE SHEET'!$A$1:$A$11,FALSE),3),IF(G98=\"Yes\",1*INDEX('Weighting Tables - HIDE SHEET'!$A$1:$C$11,MATCH(\"Compliance\",'Weighting Tables - HIDE SHEET'!$A$1:$A$11,FALSE),3)),IF(H98=\"Yes\",1*INDEX('Weighting Tables - HIDE SHEET'!$A$1:$C$11,MATCH(\"Public Health and Environment\",'Weighting Tables - HIDE SHEET'!$A$1:$A$11,FALSE),3)))/'Weighting Tables - HIDE SHEET'!$G$3*10,0))","v":""},null,null,null,null,{"$f":"IF(ISBLANK(B98),\"\",ROUND(SUM(IF(J98=\"Yes\",1*INDEX('Weighting Tables - HIDE SHEET'!$A$1:$C$9,MATCH(\"Estimated Remaining Life\",'Weighting Tables - HIDE SHEET'!$A$1:$A$9,FALSE),3)),(IF(K98=\"Beyond capacity\",2,IF(K98=\"At capacity\",1,0))*INDEX('Weighting Tables - HIDE SHEET'!$A$1:$C$9,MATCH(\"Capacity\",'Weighting Tables - HIDE SHEET'!$A$1:$A$9,FALSE),3)),IF(L98=\"Yes\",1*INDEX('Weighting Tables - HIDE SHEET'!$A$1:$C$9,MATCH(\"Reliability\",'Weighting Tables - HIDE SHEET'!$A$1:$A$9,FALSE),3)),IF(M98=\"Yes\",1*INDEX('Weighting Tables - HIDE SHEET'!$A$1:$C$9,MATCH(\"Repair Schedule\",'Weighting Tables - HIDE SHEET'!$A$1:$A$9,FALSE),3)))/'Weighting Tables - HIDE SHEET'!$G$4*10,0))","v":""}]
[null,null,null,null,null,null,null,null,{"$f":"IF(B99=\"\",\"\",ROUND(SUM(IF(F99=\"Greater than 75%\",4,IF(F99=\"50-75%\",3,IF(F99=\"25-50%\",2,IF(F99=\"Less than 25%\",1,0))))*INDEX('Weighting Tables - HIDE SHEET'!$A$1:$C$11,MATCH(\"Importance\",'Weighting Tables - HIDE SHEET'!$A$1:$A$11,FALSE),3),IF(G99=\"Yes\",1*INDEX('Weighting Tables - HIDE SHEET'!$A$1:$C$11,MATCH(\"Compliance\",'Weighting Tables - HIDE SHEET'!$A$1:$A$11,FALSE),3)),IF(H99=\"Yes\",1*INDEX('Weighting Tables - HIDE SHEET'!$A$1:$C$11,MATCH(\"Public Health and Environment\",'Weighting Tables - HIDE SHEET'!$A$1:$A$11,FALSE),3)))/'Weighting Tables - HIDE SHEET'!$G$3*10,0))","v":""},null,null,null,null,{"$f":"IF(ISBLANK(B99),\"\",ROUND(SUM(IF(J99=\"Yes\",1*INDEX('Weighting Tables - HIDE SHEET'!$A$1:$C$9,MATCH(\"Estimated Remaining Life\",'Weighting Tables - HIDE SHEET'!$A$1:$A$9,FALSE),3)),(IF(K99=\"Beyond capacity\",2,IF(K99=\"At capacity\",1,0))*INDEX('Weighting Tables - HIDE SHEET'!$A$1:$C$9,MATCH(\"Capacity\",'Weighting Tables - HIDE SHEET'!$A$1:$A$9,FALSE),3)),IF(L99=\"Yes\",1*INDEX('Weighting Tables - HIDE SHEET'!$A$1:$C$9,MATCH(\"Reliability\",'Weighting Tables - HIDE SHEET'!$A$1:$A$9,FALSE),3)),IF(M99=\"Yes\",1*INDEX('Weighting Tables - HIDE SHEET'!$A$1:$C$9,MATCH(\"Repair Schedule\",'Weighting Tables - HIDE SHEET'!$A$1:$A$9,FALSE),3)))/'Weighting Tables - HIDE SHEET'!$G$4*10,0))","v":""}]
[null,null,null,null,null,null,null,null,{"$f":"IF(B100=\"\",\"\",ROUND(SUM(IF(F100=\"Greater than 75%\",4,IF(F100=\"50-75%\",3,IF(F100=\"25-50%\",2,IF(F100=\"Less than 25%\",1,0))))*INDEX('Weighting Tables - HIDE SHEET'!$A$1:$C$11,MATCH(\"Importance\",'Weighting Tables - HIDE SHEET'!$A$1:$A$11,FALSE),3),IF(G100=\"Yes\",1*INDEX('Weighting Tables - HIDE SHEET'!$A$1:$C$11,MATCH(\"Compliance\",'Weighting Tables - HIDE SHEET'!$A$1:$A$11,FALSE),3)),IF(H100=\"Yes\",1*INDEX('Weighting Tables - HIDE SHEET'!$A$1:$C$11,MATCH(\"Public Health and Environment\",'Weighting Tables - HIDE SHEET'!$A$1:$A$11,FALSE),3)))/'Weighting Tables - HIDE SHEET'!$G$3*10,0))","v":""},null,null,null,null,{"$f":"IF(ISBLANK(B100),\"\",ROUND(SUM(IF(J100=\"Yes\",1*INDEX('Weighting Tables - HIDE SHEET'!$A$1:$C$9,MATCH(\"Estimated Remaining Life\",'Weighting Tables - HIDE SHEET'!$A$1:$A$9,FALSE),3)),(IF(K100=\"Beyond capacity\",2,IF(K100=\"At capacity\",1,0))*INDEX('Weighting Tables - HIDE SHEET'!$A$1:$C$9,MATCH(\"Capacity\",'Weighting Tables - HIDE SHEET'!$A$1:$A$9,FALSE),3)),IF(L100=\"Yes\",1*INDEX('Weighting Tables - HIDE SHEET'!$A$1:$C$9,MATCH(\"Reliability\",'Weighting Tables - HIDE SHEET'!$A$1:$A$9,FALSE),3)),IF(M100=\"Yes\",1*INDEX('Weighting Tables - HIDE SHEET'!$A$1:$C$9,MATCH(\"Repair Schedule\",'Weighting Tables - HIDE SHEET'!$A$1:$A$9,FALSE),3)))/'Weighting Tables - HIDE SHEET'!$G$4*10,0))","v":""}]
[null,null,null,null,null,null,null,null,{"$f":"IF(B101=\"\",\"\",ROUND(SUM(IF(F101=\"Greater than 75%\",4,IF(F101=\"50-75%\",3,IF(F101=\"25-50%\",2,IF(F101=\"Less than 25%\",1,0))))*INDEX('Weighting Tables - HIDE SHEET'!$A$1:$C$11,MATCH(\"Importance\",'Weighting Tables - HIDE SHEET'!$A$1:$A$11,FALSE),3),IF(G101=\"Yes\",1*INDEX('Weighting Tables - HIDE SHEET'!$A$1:$C$11,MATCH(\"Compliance\",'Weighting Tables - HIDE SHEET'!$A$1:$A$11,FALSE),3)),IF(H101=\"Yes\",1*INDEX('Weighting Tables - HIDE SHEET'!$A$1:$C$11,MATCH(\"Public Health and Environment\",'Weighting Tables - HIDE SHEET'!$A$1:$A$11,FALSE),3)))/'Weighting Tables - HIDE SHEET'!$G$3*10,0))","v":""},null,null,null,null,{"$f":"IF(ISBLANK(B101),\"\",ROUND(SUM(IF(J101=\"Yes\",1*INDEX('Weighting Tables - HIDE SHEET'!$A$1:$C$9,MATCH(\"Estimated Remaining Life\",'Weighting Tables - HIDE SHEET'!$A$1:$A$9,FALSE),3)),(IF(K101=\"Beyond capacity\",2,IF(K101=\"At capacity\",1,0))*INDEX('Weighting Tables - HIDE SHEET'!$A$1:$C$9,MATCH(\"Capacity\",'Weighting Tables - HIDE SHEET'!$A$1:$A$9,FALSE),3)),IF(L101=\"Yes\",1*INDEX('Weighting Tables - HIDE SHEET'!$A$1:$C$9,MATCH(\"Reliability\",'Weighting Tables - HIDE SHEET'!$A$1:$A$9,FALSE),3)),IF(M101=\"Yes\",1*INDEX('Weighting Tables - HIDE SHEET'!$A$1:$C$9,MATCH(\"Repair Schedule\",'Weighting Tables - HIDE SHEET'!$A$1:$A$9,FALSE),3)))/'Weighting Tables - HIDE SHEET'!$G$4*10,0))","v":""}]
[null,null,null,null,null,null,null,null,{"$f":"IF(B102=\"\",\"\",ROUND(SUM(IF(F102=\"Greater than 75%\",4,IF(F102=\"50-75%\",3,IF(F102=\"25-50%\",2,IF(F102=\"Less than 25%\",1,0))))*INDEX('Weighting Tables - HIDE SHEET'!$A$1:$C$11,MATCH(\"Importance\",'Weighting Tables - HIDE SHEET'!$A$1:$A$11,FALSE),3),IF(G102=\"Yes\",1*INDEX('Weighting Tables - HIDE SHEET'!$A$1:$C$11,MATCH(\"Compliance\",'Weighting Tables - HIDE SHEET'!$A$1:$A$11,FALSE),3)),IF(H102=\"Yes\",1*INDEX('Weighting Tables - HIDE SHEET'!$A$1:$C$11,MATCH(\"Public Health and Environment\",'Weighting Tables - HIDE SHEET'!$A$1:$A$11,FALSE),3)))/'Weighting Tables - HIDE SHEET'!$G$3*10,0))","v":""},null,null,null,null,{"$f":"IF(ISBLANK(B102),\"\",ROUND(SUM(IF(J102=\"Yes\",1*INDEX('Weighting Tables - HIDE SHEET'!$A$1:$C$9,MATCH(\"Estimated Remaining Life\",'Weighting Tables - HIDE SHEET'!$A$1:$A$9,FALSE),3)),(IF(K102=\"Beyond capacity\",2,IF(K102=\"At capacity\",1,0))*INDEX('Weighting Tables - HIDE SHEET'!$A$1:$C$9,MATCH(\"Capacity\",'Weighting Tables - HIDE SHEET'!$A$1:$A$9,FALSE),3)),IF(L102=\"Yes\",1*INDEX('Weighting Tables - HIDE SHEET'!$A$1:$C$9,MATCH(\"Reliability\",'Weighting Tables - HIDE SHEET'!$A$1:$A$9,FALSE),3)),IF(M102=\"Yes\",1*INDEX('Weighting Tables - HIDE SHEET'!$A$1:$C$9,MATCH(\"Repair Schedule\",'Weighting Tables - HIDE SHEET'!$A$1:$A$9,FALSE),3)))/'Weighting Tables - HIDE SHEET'!$G$4*10,0))","v":""}]
[null,null,null,null,null,null,null,null,{"$f":"IF(B103=\"\",\"\",ROUND(SUM(IF(F103=\"Greater than 75%\",4,IF(F103=\"50-75%\",3,IF(F103=\"25-50%\",2,IF(F103=\"Less than 25%\",1,0))))*INDEX('Weighting Tables - HIDE SHEET'!$A$1:$C$11,MATCH(\"Importance\",'Weighting Tables - HIDE SHEET'!$A$1:$A$11,FALSE),3),IF(G103=\"Yes\",1*INDEX('Weighting Tables - HIDE SHEET'!$A$1:$C$11,MATCH(\"Compliance\",'Weighting Tables - HIDE SHEET'!$A$1:$A$11,FALSE),3)),IF(H103=\"Yes\",1*INDEX('Weighting Tables - HIDE SHEET'!$A$1:$C$11,MATCH(\"Public Health and Environment\",'Weighting Tables - HIDE SHEET'!$A$1:$A$11,FALSE),3)))/'Weighting Tables - HIDE SHEET'!$G$3*10,0))","v":""},null,null,null,null,{"$f":"IF(ISBLANK(B103),\"\",ROUND(SUM(IF(J103=\"Yes\",1*INDEX('Weighting Tables - HIDE SHEET'!$A$1:$C$9,MATCH(\"Estimated Remaining Life\",'Weighting Tables - HIDE SHEET'!$A$1:$A$9,FALSE),3)),(IF(K103=\"Beyond capacity\",2,IF(K103=\"At capacity\",1,0))*INDEX('Weighting Tables - HIDE SHEET'!$A$1:$C$9,MATCH(\"Capacity\",'Weighting Tables - HIDE SHEET'!$A$1:$A$9,FALSE),3)),IF(L103=\"Yes\",1*INDEX('Weighting Tables - HIDE SHEET'!$A$1:$C$9,MATCH(\"Reliability\",'Weighting Tables - HIDE SHEET'!$A$1:$A$9,FALSE),3)),IF(M103=\"Yes\",1*INDEX('Weighting Tables - HIDE SHEET'!$A$1:$C$9,MATCH(\"Repair Schedule\",'Weighting Tables - HIDE SHEET'!$A$1:$A$9,FALSE),3)))/'Weighting Tables - HIDE SHEET'!$G$4*10,0))","v":""}]
[null,null,null,null,null,null,null,null,{"$f":"IF(B104=\"\",\"\",ROUND(SUM(IF(F104=\"Greater than 75%\",4,IF(F104=\"50-75%\",3,IF(F104=\"25-50%\",2,IF(F104=\"Less than 25%\",1,0))))*INDEX('Weighting Tables - HIDE SHEET'!$A$1:$C$11,MATCH(\"Importance\",'Weighting Tables - HIDE SHEET'!$A$1:$A$11,FALSE),3),IF(G104=\"Yes\",1*INDEX('Weighting Tables - HIDE SHEET'!$A$1:$C$11,MATCH(\"Compliance\",'Weighting Tables - HIDE SHEET'!$A$1:$A$11,FALSE),3)),IF(H104=\"Yes\",1*INDEX('Weighting Tables - HIDE SHEET'!$A$1:$C$11,MATCH(\"Public Health and Environment\",'Weighting Tables - HIDE SHEET'!$A$1:$A$11,FALSE),3)))/'Weighting Tables - HIDE SHEET'!$G$3*10,0))","v":""},null,null,null,null,{"$f":"IF(ISBLANK(B104),\"\",ROUND(SUM(IF(J104=\"Yes\",1*INDEX('Weighting Tables - HIDE SHEET'!$A$1:$C$9,MATCH(\"Estimated Remaining Life\",'Weighting Tables - HIDE SHEET'!$A$1:$A$9,FALSE),3)),(IF(K104=\"Beyond capacity\",2,IF(K104=\"At capacity\",1,0))*INDEX('Weighting Tables - HIDE SHEET'!$A$1:$C$9,MATCH(\"Capacity\",'Weighting Tables - HIDE SHEET'!$A$1:$A$9,FALSE),3)),IF(L104=\"Yes\",1*INDEX('Weighting Tables - HIDE SHEET'!$A$1:$C$9,MATCH(\"Reliability\",'Weighting Tables - HIDE SHEET'!$A$1:$A$9,FALSE),3)),IF(M104=\"Yes\",1*INDEX('Weighting Tables - HIDE SHEET'!$A$1:$C$9,MATCH(\"Repair Schedule\",'Weighting Tables - HIDE SHEET'!$A$1:$A$9,FALSE),3)))/'Weighting Tables - HIDE SHEET'!$G$4*10,0))","v":""}]
[null,null,null,null,null,null,null,null,{"$f":"IF(B105=\"\",\"\",ROUND(SUM(IF(F105=\"Greater than 75%\",4,IF(F105=\"50-75%\",3,IF(F105=\"25-50%\",2,IF(F105=\"Less than 25%\",1,0))))*INDEX('Weighting Tables - HIDE SHEET'!$A$1:$C$11,MATCH(\"Importance\",'Weighting Tables - HIDE SHEET'!$A$1:$A$11,FALSE),3),IF(G105=\"Yes\",1*INDEX('Weighting Tables - HIDE SHEET'!$A$1:$C$11,MATCH(\"Compliance\",'Weighting Tables - HIDE SHEET'!$A$1:$A$11,FALSE),3)),IF(H105=\"Yes\",1*INDEX('Weighting Tables - HIDE SHEET'!$A$1:$C$11,MATCH(\"Public Health and Environment\",'Weighting Tables - HIDE SHEET'!$A$1:$A$11,FALSE),3)))/'Weighting Tables - HIDE SHEET'!$G$3*10,0))","v":""},null,null,null,null,{"$f":"IF(ISBLANK(B105),\"\",ROUND(SUM(IF(J105=\"Yes\",1*INDEX('Weighting Tables - HIDE SHEET'!$A$1:$C$9,MATCH(\"Estimated Remaining Life\",'Weighting Tables - HIDE SHEET'!$A$1:$A$9,FALSE),3)),(IF(K105=\"Beyond capacity\",2,IF(K105=\"At capacity\",1,0))*INDEX('Weighting Tables - HIDE SHEET'!$A$1:$C$9,MATCH(\"Capacity\",'Weighting Tables - HIDE SHEET'!$A$1:$A$9,FALSE),3)),IF(L105=\"Yes\",1*INDEX('Weighting Tables - HIDE SHEET'!$A$1:$C$9,MATCH(\"Reliability\",'Weighting Tables - HIDE SHEET'!$A$1:$A$9,FALSE),3)),IF(M105=\"Yes\",1*INDEX('Weighting Tables - HIDE SHEET'!$A$1:$C$9,MATCH(\"Repair Schedule\",'Weighting Tables - HIDE SHEET'!$A$1:$A$9,FALSE),3)))/'Weighting Tables - HIDE SHEET'!$G$4*10,0))","v":""}]
[null,null,null,null,null,null,null,null,{"$f":"IF(B106=\"\",\"\",ROUND(SUM(IF(F106=\"Greater than 75%\",4,IF(F106=\"50-75%\",3,IF(F106=\"25-50%\",2,IF(F106=\"Less than 25%\",1,0))))*INDEX('Weighting Tables - HIDE SHEET'!$A$1:$C$11,MATCH(\"Importance\",'Weighting Tables - HIDE SHEET'!$A$1:$A$11,FALSE),3),IF(G106=\"Yes\",1*INDEX('Weighting Tables - HIDE SHEET'!$A$1:$C$11,MATCH(\"Compliance\",'Weighting Tables - HIDE SHEET'!$A$1:$A$11,FALSE),3)),IF(H106=\"Yes\",1*INDEX('Weighting Tables - HIDE SHEET'!$A$1:$C$11,MATCH(\"Public Health and Environment\",'Weighting Tables - HIDE SHEET'!$A$1:$A$11,FALSE),3)))/'Weighting Tables - HIDE SHEET'!$G$3*10,0))","v":""},null,null,null,null,{"$f":"IF(ISBLANK(B106),\"\",ROUND(SUM(IF(J106=\"Yes\",1*INDEX('Weighting Tables - HIDE SHEET'!$A$1:$C$9,MATCH(\"Estimated Remaining Life\",'Weighting Tables - HIDE SHEET'!$A$1:$A$9,FALSE),3)),(IF(K106=\"Beyond capacity\",2,IF(K106=\"At capacity\",1,0))*INDEX('Weighting Tables - HIDE SHEET'!$A$1:$C$9,MATCH(\"Capacity\",'Weighting Tables - HIDE SHEET'!$A$1:$A$9,FALSE),3)),IF(L106=\"Yes\",1*INDEX('Weighting Tables - HIDE SHEET'!$A$1:$C$9,MATCH(\"Reliability\",'Weighting Tables - HIDE SHEET'!$A$1:$A$9,FALSE),3)),IF(M106=\"Yes\",1*INDEX('Weighting Tables - HIDE SHEET'!$A$1:$C$9,MATCH(\"Repair Schedule\",'Weighting Tables - HIDE SHEET'!$A$1:$A$9,FALSE),3)))/'Weighting Tables - HIDE SHEET'!$G$4*10,0))","v":""}]
[null,null,null,null,null,null,null,null,{"$f":"IF(B107=\"\",\"\",ROUND(SUM(IF(F107=\"Greater than 75%\",4,IF(F107=\"50-75%\",3,IF(F107=\"25-50%\",2,IF(F107=\"Less than 25%\",1,0))))*INDEX('Weighting Tables - HIDE SHEET'!$A$1:$C$11,MATCH(\"Importance\",'Weighting Tables - HIDE SHEET'!$A$1:$A$11,FALSE),3),IF(G107=\"Yes\",1*INDEX('Weighting Tables - HIDE SHEET'!$A$1:$C$11,MATCH(\"Compliance\",'Weighting Tables - HIDE SHEET'!$A$1:$A$11,FALSE),3)),IF(H107=\"Yes\",1*INDEX('Weighting Tables - HIDE SHEET'!$A$1:$C$11,MATCH(\"Public Health and Environment\",'Weighting Tables - HIDE SHEET'!$A$1:$A$11,FALSE),3)))/'Weighting Tables - HIDE SHEET'!$G$3*10,0))","v":""},null,null,null,null,{"$f":"IF(ISBLANK(B107),\"\",ROUND(SUM(IF(J107=\"Yes\",1*INDEX('Weighting Tables - HIDE SHEET'!$A$1:$C$9,MATCH(\"Estimated Remaining Life\",'Weighting Tables - HIDE SHEET'!$A$1:$A$9,FALSE),3)),(IF(K107=\"Beyond capacity\",2,IF(K107=\"At capacity\",1,0))*INDEX('Weighting Tables - HIDE SHEET'!$A$1:$C$9,MATCH(\"Capacity\",'Weighting Tables - HIDE SHEET'!$A$1:$A$9,FALSE),3)),IF(L107=\"Yes\",1*INDEX('Weighting Tables - HIDE SHEET'!$A$1:$C$9,MATCH(\"Reliability\",'Weighting Tables - HIDE SHEET'!$A$1:$A$9,FALSE),3)),IF(M107=\"Yes\",1*INDEX('Weighting Tables - HIDE SHEET'!$A$1:$C$9,MATCH(\"Repair Schedule\",'Weighting Tables - HIDE SHEET'!$A$1:$A$9,FALSE),3)))/'Weighting Tables - HIDE SHEET'!$G$4*10,0))","v":""}]
[null,null,null,null,null,null,null,null,{"$f":"IF(B108=\"\",\"\",ROUND(SUM(IF(F108=\"Greater than 75%\",4,IF(F108=\"50-75%\",3,IF(F108=\"25-50%\",2,IF(F108=\"Less than 25%\",1,0))))*INDEX('Weighting Tables - HIDE SHEET'!$A$1:$C$11,MATCH(\"Importance\",'Weighting Tables - HIDE SHEET'!$A$1:$A$11,FALSE),3),IF(G108=\"Yes\",1*INDEX('Weighting Tables - HIDE SHEET'!$A$1:$C$11,MATCH(\"Compliance\",'Weighting Tables - HIDE SHEET'!$A$1:$A$11,FALSE),3)),IF(H108=\"Yes\",1*INDEX('Weighting Tables - HIDE SHEET'!$A$1:$C$11,MATCH(\"Public Health and Environment\",'Weighting Tables - HIDE SHEET'!$A$1:$A$11,FALSE),3)))/'Weighting Tables - HIDE SHEET'!$G$3*10,0))","v":""},null,null,null,null,{"$f":"IF(ISBLANK(B108),\"\",ROUND(SUM(IF(J108=\"Yes\",1*INDEX('Weighting Tables - HIDE SHEET'!$A$1:$C$9,MATCH(\"Estimated Remaining Life\",'Weighting Tables - HIDE SHEET'!$A$1:$A$9,FALSE),3)),(IF(K108=\"Beyond capacity\",2,IF(K108=\"At capacity\",1,0))*INDEX('Weighting Tables - HIDE SHEET'!$A$1:$C$9,MATCH(\"Capacity\",'Weighting Tables - HIDE SHEET'!$A$1:$A$9,FALSE),3)),IF(L108=\"Yes\",1*INDEX('Weighting Tables - HIDE SHEET'!$A$1:$C$9,MATCH(\"Reliability\",'Weighting Tables - HIDE SHEET'!$A$1:$A$9,FALSE),3)),IF(M108=\"Yes\",1*INDEX('Weighting Tables - HIDE SHEET'!$A$1:$C$9,MATCH(\"Repair Schedule\",'Weighting Tables - HIDE SHEET'!$A$1:$A$9,FALSE),3)))/'Weighting Tables - HIDE SHEET'!$G$4*10,0))","v":""}]
[null,null,null,null,null,null,null,null,{"$f":"IF(B109=\"\",\"\",ROUND(SUM(IF(F109=\"Greater than 75%\",4,IF(F109=\"50-75%\",3,IF(F109=\"25-50%\",2,IF(F109=\"Less than 25%\",1,0))))*INDEX('Weighting Tables - HIDE SHEET'!$A$1:$C$11,MATCH(\"Importance\",'Weighting Tables - HIDE SHEET'!$A$1:$A$11,FALSE),3),IF(G109=\"Yes\",1*INDEX('Weighting Tables - HIDE SHEET'!$A$1:$C$11,MATCH(\"Compliance\",'Weighting Tables - HIDE SHEET'!$A$1:$A$11,FALSE),3)),IF(H109=\"Yes\",1*INDEX('Weighting Tables - HIDE SHEET'!$A$1:$C$11,MATCH(\"Public Health and Environment\",'Weighting Tables - HIDE SHEET'!$A$1:$A$11,FALSE),3)))/'Weighting Tables - HIDE SHEET'!$G$3*10,0))","v":""},null,null,null,null,{"$f":"IF(ISBLANK(B109),\"\",ROUND(SUM(IF(J109=\"Yes\",1*INDEX('Weighting Tables - HIDE SHEET'!$A$1:$C$9,MATCH(\"Estimated Remaining Life\",'Weighting Tables - HIDE SHEET'!$A$1:$A$9,FALSE),3)),(IF(K109=\"Beyond capacity\",2,IF(K109=\"At capacity\",1,0))*INDEX('Weighting Tables - HIDE SHEET'!$A$1:$C$9,MATCH(\"Capacity\",'Weighting Tables - HIDE SHEET'!$A$1:$A$9,FALSE),3)),IF(L109=\"Yes\",1*INDEX('Weighting Tables - HIDE SHEET'!$A$1:$C$9,MATCH(\"Reliability\",'Weighting Tables - HIDE SHEET'!$A$1:$A$9,FALSE),3)),IF(M109=\"Yes\",1*INDEX('Weighting Tables - HIDE SHEET'!$A$1:$C$9,MATCH(\"Repair Schedule\",'Weighting Tables - HIDE SHEET'!$A$1:$A$9,FALSE),3)))/'Weighting Tables - HIDE SHEET'!$G$4*10,0))","v":""}]
[null,null,null,null,null,null,null,null,{"$f":"IF(B110=\"\",\"\",ROUND(SUM(IF(F110=\"Greater than 75%\",4,IF(F110=\"50-75%\",3,IF(F110=\"25-50%\",2,IF(F110=\"Less than 25%\",1,0))))*INDEX('Weighting Tables - HIDE SHEET'!$A$1:$C$11,MATCH(\"Importance\",'Weighting Tables - HIDE SHEET'!$A$1:$A$11,FALSE),3),IF(G110=\"Yes\",1*INDEX('Weighting Tables - HIDE SHEET'!$A$1:$C$11,MATCH(\"Compliance\",'Weighting Tables - HIDE SHEET'!$A$1:$A$11,FALSE),3)),IF(H110=\"Yes\",1*INDEX('Weighting Tables - HIDE SHEET'!$A$1:$C$11,MATCH(\"Public Health and Environment\",'Weighting Tables - HIDE SHEET'!$A$1:$A$11,FALSE),3)))/'Weighting Tables - HIDE SHEET'!$G$3*10,0))","v":""},null,null,null,null,{"$f":"IF(ISBLANK(B110),\"\",ROUND(SUM(IF(J110=\"Yes\",1*INDEX('Weighting Tables - HIDE SHEET'!$A$1:$C$9,MATCH(\"Estimated Remaining Life\",'Weighting Tables - HIDE SHEET'!$A$1:$A$9,FALSE),3)),(IF(K110=\"Beyond capacity\",2,IF(K110=\"At capacity\",1,0))*INDEX('Weighting Tables - HIDE SHEET'!$A$1:$C$9,MATCH(\"Capacity\",'Weighting Tables - HIDE SHEET'!$A$1:$A$9,FALSE),3)),IF(L110=\"Yes\",1*INDEX('Weighting Tables - HIDE SHEET'!$A$1:$C$9,MATCH(\"Reliability\",'Weighting Tables - HIDE SHEET'!$A$1:$A$9,FALSE),3)),IF(M110=\"Yes\",1*INDEX('Weighting Tables - HIDE SHEET'!$A$1:$C$9,MATCH(\"Repair Schedule\",'Weighting Tables - HIDE SHEET'!$A$1:$A$9,FALSE),3)))/'Weighting Tables - HIDE SHEET'!$G$4*10,0))","v":""}]
[null,null,null,null,null,null,null,null,{"$f":"IF(B111=\"\",\"\",ROUND(SUM(IF(F111=\"Greater than 75%\",4,IF(F111=\"50-75%\",3,IF(F111=\"25-50%\",2,IF(F111=\"Less than 25%\",1,0))))*INDEX('Weighting Tables - HIDE SHEET'!$A$1:$C$11,MATCH(\"Importance\",'Weighting Tables - HIDE SHEET'!$A$1:$A$11,FALSE),3),IF(G111=\"Yes\",1*INDEX('Weighting Tables - HIDE SHEET'!$A$1:$C$11,MATCH(\"Compliance\",'Weighting Tables - HIDE SHEET'!$A$1:$A$11,FALSE),3)),IF(H111=\"Yes\",1*INDEX('Weighting Tables - HIDE SHEET'!$A$1:$C$11,MATCH(\"Public Health and Environment\",'Weighting Tables - HIDE SHEET'!$A$1:$A$11,FALSE),3)))/'Weighting Tables - HIDE SHEET'!$G$3*10,0))","v":""},null,null,null,null,{"$f":"IF(ISBLANK(B111),\"\",ROUND(SUM(IF(J111=\"Yes\",1*INDEX('Weighting Tables - HIDE SHEET'!$A$1:$C$9,MATCH(\"Estimated Remaining Life\",'Weighting Tables - HIDE SHEET'!$A$1:$A$9,FALSE),3)),(IF(K111=\"Beyond capacity\",2,IF(K111=\"At capacity\",1,0))*INDEX('Weighting Tables - HIDE SHEET'!$A$1:$C$9,MATCH(\"Capacity\",'Weighting Tables - HIDE SHEET'!$A$1:$A$9,FALSE),3)),IF(L111=\"Yes\",1*INDEX('Weighting Tables - HIDE SHEET'!$A$1:$C$9,MATCH(\"Reliability\",'Weighting Tables - HIDE SHEET'!$A$1:$A$9,FALSE),3)),IF(M111=\"Yes\",1*INDEX('Weighting Tables - HIDE SHEET'!$A$1:$C$9,MATCH(\"Repair Schedule\",'Weighting Tables - HIDE SHEET'!$A$1:$A$9,FALSE),3)))/'Weighting Tables - HIDE SHEET'!$G$4*10,0))","v":""}]
[null,null,null,null,null,null,null,null,{"$f":"IF(B112=\"\",\"\",ROUND(SUM(IF(F112=\"Greater than 75%\",4,IF(F112=\"50-75%\",3,IF(F112=\"25-50%\",2,IF(F112=\"Less than 25%\",1,0))))*INDEX('Weighting Tables - HIDE SHEET'!$A$1:$C$11,MATCH(\"Importance\",'Weighting Tables - HIDE SHEET'!$A$1:$A$11,FALSE),3),IF(G112=\"Yes\",1*INDEX('Weighting Tables - HIDE SHEET'!$A$1:$C$11,MATCH(\"Compliance\",'Weighting Tables - HIDE SHEET'!$A$1:$A$11,FALSE),3)),IF(H112=\"Yes\",1*INDEX('Weighting Tables - HIDE SHEET'!$A$1:$C$11,MATCH(\"Public Health and Environment\",'Weighting Tables - HIDE SHEET'!$A$1:$A$11,FALSE),3)))/'Weighting Tables - HIDE SHEET'!$G$3*10,0))","v":""},null,null,null,null,{"$f":"IF(ISBLANK(B112),\"\",ROUND(SUM(IF(J112=\"Yes\",1*INDEX('Weighting Tables - HIDE SHEET'!$A$1:$C$9,MATCH(\"Estimated Remaining Life\",'Weighting Tables - HIDE SHEET'!$A$1:$A$9,FALSE),3)),(IF(K112=\"Beyond capacity\",2,IF(K112=\"At capacity\",1,0))*INDEX('Weighting Tables - HIDE SHEET'!$A$1:$C$9,MATCH(\"Capacity\",'Weighting Tables - HIDE SHEET'!$A$1:$A$9,FALSE),3)),IF(L112=\"Yes\",1*INDEX('Weighting Tables - HIDE SHEET'!$A$1:$C$9,MATCH(\"Reliability\",'Weighting Tables - HIDE SHEET'!$A$1:$A$9,FALSE),3)),IF(M112=\"Yes\",1*INDEX('Weighting Tables - HIDE SHEET'!$A$1:$C$9,MATCH(\"Repair Schedule\",'Weighting Tables - HIDE SHEET'!$A$1:$A$9,FALSE),3)))/'Weighting Tables - HIDE SHEET'!$G$4*10,0))","v":""}]
[null,null,null,null,null,null,null,null,{"$f":"IF(B113=\"\",\"\",ROUND(SUM(IF(F113=\"Greater than 75%\",4,IF(F113=\"50-75%\",3,IF(F113=\"25-50%\",2,IF(F113=\"Less than 25%\",1,0))))*INDEX('Weighting Tables - HIDE SHEET'!$A$1:$C$11,MATCH(\"Importance\",'Weighting Tables - HIDE SHEET'!$A$1:$A$11,FALSE),3),IF(G113=\"Yes\",1*INDEX('Weighting Tables - HIDE SHEET'!$A$1:$C$11,MATCH(\"Compliance\",'Weighting Tables - HIDE SHEET'!$A$1:$A$11,FALSE),3)),IF(H113=\"Yes\",1*INDEX('Weighting Tables - HIDE SHEET'!$A$1:$C$11,MATCH(\"Public Health and Environment\",'Weighting Tables - HIDE SHEET'!$A$1:$A$11,FALSE),3)))/'Weighting Tables - HIDE SHEET'!$G$3*10,0))","v":""},null,null,null,null,{"$f":"IF(ISBLANK(B113),\"\",ROUND(SUM(IF(J113=\"Yes\",1*INDEX('Weighting Tables - HIDE SHEET'!$A$1:$C$9,MATCH(\"Estimated Remaining Life\",'Weighting Tables - HIDE SHEET'!$A$1:$A$9,FALSE),3)),(IF(K113=\"Beyond capacity\",2,IF(K113=\"At capacity\",1,0))*INDEX('Weighting Tables - HIDE SHEET'!$A$1:$C$9,MATCH(\"Capacity\",'Weighting Tables - HIDE SHEET'!$A$1:$A$9,FALSE),3)),IF(L113=\"Yes\",1*INDEX('Weighting Tables - HIDE SHEET'!$A$1:$C$9,MATCH(\"Reliability\",'Weighting Tables - HIDE SHEET'!$A$1:$A$9,FALSE),3)),IF(M113=\"Yes\",1*INDEX('Weighting Tables - HIDE SHEET'!$A$1:$C$9,MATCH(\"Repair Schedule\",'Weighting Tables - HIDE SHEET'!$A$1:$A$9,FALSE),3)))/'Weighting Tables - HIDE SHEET'!$G$4*10,0))","v":""}]
[null,null,null,null,null,null,null,null,{"$f":"IF(B114=\"\",\"\",ROUND(SUM(IF(F114=\"Greater than 75%\",4,IF(F114=\"50-75%\",3,IF(F114=\"25-50%\",2,IF(F114=\"Less than 25%\",1,0))))*INDEX('Weighting Tables - HIDE SHEET'!$A$1:$C$11,MATCH(\"Importance\",'Weighting Tables - HIDE SHEET'!$A$1:$A$11,FALSE),3),IF(G114=\"Yes\",1*INDEX('Weighting Tables - HIDE SHEET'!$A$1:$C$11,MATCH(\"Compliance\",'Weighting Tables - HIDE SHEET'!$A$1:$A$11,FALSE),3)),IF(H114=\"Yes\",1*INDEX('Weighting Tables - HIDE SHEET'!$A$1:$C$11,MATCH(\"Public Health and Environment\",'Weighting Tables - HIDE SHEET'!$A$1:$A$11,FALSE),3)))/'Weighting Tables - HIDE SHEET'!$G$3*10,0))","v":""},null,null,null,null,{"$f":"IF(ISBLANK(B114),\"\",ROUND(SUM(IF(J114=\"Yes\",1*INDEX('Weighting Tables - HIDE SHEET'!$A$1:$C$9,MATCH(\"Estimated Remaining Life\",'Weighting Tables - HIDE SHEET'!$A$1:$A$9,FALSE),3)),(IF(K114=\"Beyond capacity\",2,IF(K114=\"At capacity\",1,0))*INDEX('Weighting Tables - HIDE SHEET'!$A$1:$C$9,MATCH(\"Capacity\",'Weighting Tables - HIDE SHEET'!$A$1:$A$9,FALSE),3)),IF(L114=\"Yes\",1*INDEX('Weighting Tables - HIDE SHEET'!$A$1:$C$9,MATCH(\"Reliability\",'Weighting Tables - HIDE SHEET'!$A$1:$A$9,FALSE),3)),IF(M114=\"Yes\",1*INDEX('Weighting Tables - HIDE SHEET'!$A$1:$C$9,MATCH(\"Repair Schedule\",'Weighting Tables - HIDE SHEET'!$A$1:$A$9,FALSE),3)))/'Weighting Tables - HIDE SHEET'!$G$4*10,0))","v":""}]
[null,null,null,null,null,null,null,null,{"$f":"IF(B115=\"\",\"\",ROUND(SUM(IF(F115=\"Greater than 75%\",4,IF(F115=\"50-75%\",3,IF(F115=\"25-50%\",2,IF(F115=\"Less than 25%\",1,0))))*INDEX('Weighting Tables - HIDE SHEET'!$A$1:$C$11,MATCH(\"Importance\",'Weighting Tables - HIDE SHEET'!$A$1:$A$11,FALSE),3),IF(G115=\"Yes\",1*INDEX('Weighting Tables - HIDE SHEET'!$A$1:$C$11,MATCH(\"Compliance\",'Weighting Tables - HIDE SHEET'!$A$1:$A$11,FALSE),3)),IF(H115=\"Yes\",1*INDEX('Weighting Tables - HIDE SHEET'!$A$1:$C$11,MATCH(\"Public Health and Environment\",'Weighting Tables - HIDE SHEET'!$A$1:$A$11,FALSE),3)))/'Weighting Tables - HIDE SHEET'!$G$3*10,0))","v":""},null,null,null,null,{"$f":"IF(ISBLANK(B115),\"\",ROUND(SUM(IF(J115=\"Yes\",1*INDEX('Weighting Tables - HIDE SHEET'!$A$1:$C$9,MATCH(\"Estimated Remaining Life\",'Weighting Tables - HIDE SHEET'!$A$1:$A$9,FALSE),3)),(IF(K115=\"Beyond capacity\",2,IF(K115=\"At capacity\",1,0))*INDEX('Weighting Tables - HIDE SHEET'!$A$1:$C$9,MATCH(\"Capacity\",'Weighting Tables - HIDE SHEET'!$A$1:$A$9,FALSE),3)),IF(L115=\"Yes\",1*INDEX('Weighting Tables - HIDE SHEET'!$A$1:$C$9,MATCH(\"Reliability\",'Weighting Tables - HIDE SHEET'!$A$1:$A$9,FALSE),3)),IF(M115=\"Yes\",1*INDEX('Weighting Tables - HIDE SHEET'!$A$1:$C$9,MATCH(\"Repair Schedule\",'Weighting Tables - HIDE SHEET'!$A$1:$A$9,FALSE),3)))/'Weighting Tables - HIDE SHEET'!$G$4*10,0))","v":""}]
[null,null,null,null,null,null,null,null,{"$f":"IF(B116=\"\",\"\",ROUND(SUM(IF(F116=\"Greater than 75%\",4,IF(F116=\"50-75%\",3,IF(F116=\"25-50%\",2,IF(F116=\"Less than 25%\",1,0))))*INDEX('Weighting Tables - HIDE SHEET'!$A$1:$C$11,MATCH(\"Importance\",'Weighting Tables - HIDE SHEET'!$A$1:$A$11,FALSE),3),IF(G116=\"Yes\",1*INDEX('Weighting Tables - HIDE SHEET'!$A$1:$C$11,MATCH(\"Compliance\",'Weighting Tables - HIDE SHEET'!$A$1:$A$11,FALSE),3)),IF(H116=\"Yes\",1*INDEX('Weighting Tables - HIDE SHEET'!$A$1:$C$11,MATCH(\"Public Health and Environment\",'Weighting Tables - HIDE SHEET'!$A$1:$A$11,FALSE),3)))/'Weighting Tables - HIDE SHEET'!$G$3*10,0))","v":""},null,null,null,null,{"$f":"IF(ISBLANK(B116),\"\",ROUND(SUM(IF(J116=\"Yes\",1*INDEX('Weighting Tables - HIDE SHEET'!$A$1:$C$9,MATCH(\"Estimated Remaining Life\",'Weighting Tables - HIDE SHEET'!$A$1:$A$9,FALSE),3)),(IF(K116=\"Beyond capacity\",2,IF(K116=\"At capacity\",1,0))*INDEX('Weighting Tables - HIDE SHEET'!$A$1:$C$9,MATCH(\"Capacity\",'Weighting Tables - HIDE SHEET'!$A$1:$A$9,FALSE),3)),IF(L116=\"Yes\",1*INDEX('Weighting Tables - HIDE SHEET'!$A$1:$C$9,MATCH(\"Reliability\",'Weighting Tables - HIDE SHEET'!$A$1:$A$9,FALSE),3)),IF(M116=\"Yes\",1*INDEX('Weighting Tables - HIDE SHEET'!$A$1:$C$9,MATCH(\"Repair Schedule\",'Weighting Tables - HIDE SHEET'!$A$1:$A$9,FALSE),3)))/'Weighting Tables - HIDE SHEET'!$G$4*10,0))","v":""}]
[null,null,null,null,null,null,null,null,{"$f":"IF(B117=\"\",\"\",ROUND(SUM(IF(F117=\"Greater than 75%\",4,IF(F117=\"50-75%\",3,IF(F117=\"25-50%\",2,IF(F117=\"Less than 25%\",1,0))))*INDEX('Weighting Tables - HIDE SHEET'!$A$1:$C$11,MATCH(\"Importance\",'Weighting Tables - HIDE SHEET'!$A$1:$A$11,FALSE),3),IF(G117=\"Yes\",1*INDEX('Weighting Tables - HIDE SHEET'!$A$1:$C$11,MATCH(\"Compliance\",'Weighting Tables - HIDE SHEET'!$A$1:$A$11,FALSE),3)),IF(H117=\"Yes\",1*INDEX('Weighting Tables - HIDE SHEET'!$A$1:$C$11,MATCH(\"Public Health and Environment\",'Weighting Tables - HIDE SHEET'!$A$1:$A$11,FALSE),3)))/'Weighting Tables - HIDE SHEET'!$G$3*10,0))","v":""},null,null,null,null,{"$f":"IF(ISBLANK(B117),\"\",ROUND(SUM(IF(J117=\"Yes\",1*INDEX('Weighting Tables - HIDE SHEET'!$A$1:$C$9,MATCH(\"Estimated Remaining Life\",'Weighting Tables - HIDE SHEET'!$A$1:$A$9,FALSE),3)),(IF(K117=\"Beyond capacity\",2,IF(K117=\"At capacity\",1,0))*INDEX('Weighting Tables - HIDE SHEET'!$A$1:$C$9,MATCH(\"Capacity\",'Weighting Tables - HIDE SHEET'!$A$1:$A$9,FALSE),3)),IF(L117=\"Yes\",1*INDEX('Weighting Tables - HIDE SHEET'!$A$1:$C$9,MATCH(\"Reliability\",'Weighting Tables - HIDE SHEET'!$A$1:$A$9,FALSE),3)),IF(M117=\"Yes\",1*INDEX('Weighting Tables - HIDE SHEET'!$A$1:$C$9,MATCH(\"Repair Schedule\",'Weighting Tables - HIDE SHEET'!$A$1:$A$9,FALSE),3)))/'Weighting Tables - HIDE SHEET'!$G$4*10,0))","v":""}]
[null,null,null,null,null,null,null,null,{"$f":"IF(B118=\"\",\"\",ROUND(SUM(IF(F118=\"Greater than 75%\",4,IF(F118=\"50-75%\",3,IF(F118=\"25-50%\",2,IF(F118=\"Less than 25%\",1,0))))*INDEX('Weighting Tables - HIDE SHEET'!$A$1:$C$11,MATCH(\"Importance\",'Weighting Tables - HIDE SHEET'!$A$1:$A$11,FALSE),3),IF(G118=\"Yes\",1*INDEX('Weighting Tables - HIDE SHEET'!$A$1:$C$11,MATCH(\"Compliance\",'Weighting Tables - HIDE SHEET'!$A$1:$A$11,FALSE),3)),IF(H118=\"Yes\",1*INDEX('Weighting Tables - HIDE SHEET'!$A$1:$C$11,MATCH(\"Public Health and Environment\",'Weighting Tables - HIDE SHEET'!$A$1:$A$11,FALSE),3)))/'Weighting Tables - HIDE SHEET'!$G$3*10,0))","v":""},null,null,null,null,{"$f":"IF(ISBLANK(B118),\"\",ROUND(SUM(IF(J118=\"Yes\",1*INDEX('Weighting Tables - HIDE SHEET'!$A$1:$C$9,MATCH(\"Estimated Remaining Life\",'Weighting Tables - HIDE SHEET'!$A$1:$A$9,FALSE),3)),(IF(K118=\"Beyond capacity\",2,IF(K118=\"At capacity\",1,0))*INDEX('Weighting Tables - HIDE SHEET'!$A$1:$C$9,MATCH(\"Capacity\",'Weighting Tables - HIDE SHEET'!$A$1:$A$9,FALSE),3)),IF(L118=\"Yes\",1*INDEX('Weighting Tables - HIDE SHEET'!$A$1:$C$9,MATCH(\"Reliability\",'Weighting Tables - HIDE SHEET'!$A$1:$A$9,FALSE),3)),IF(M118=\"Yes\",1*INDEX('Weighting Tables - HIDE SHEET'!$A$1:$C$9,MATCH(\"Repair Schedule\",'Weighting Tables - HIDE SHEET'!$A$1:$A$9,FALSE),3)))/'Weighting Tables - HIDE SHEET'!$G$4*10,0))","v":""}]
[null,null,null,null,null,null,null,null,{"$f":"IF(B119=\"\",\"\",ROUND(SUM(IF(F119=\"Greater than 75%\",4,IF(F119=\"50-75%\",3,IF(F119=\"25-50%\",2,IF(F119=\"Less than 25%\",1,0))))*INDEX('Weighting Tables - HIDE SHEET'!$A$1:$C$11,MATCH(\"Importance\",'Weighting Tables - HIDE SHEET'!$A$1:$A$11,FALSE),3),IF(G119=\"Yes\",1*INDEX('Weighting Tables - HIDE SHEET'!$A$1:$C$11,MATCH(\"Compliance\",'Weighting Tables - HIDE SHEET'!$A$1:$A$11,FALSE),3)),IF(H119=\"Yes\",1*INDEX('Weighting Tables - HIDE SHEET'!$A$1:$C$11,MATCH(\"Public Health and Environment\",'Weighting Tables - HIDE SHEET'!$A$1:$A$11,FALSE),3)))/'Weighting Tables - HIDE SHEET'!$G$3*10,0))","v":""},null,null,null,null,{"$f":"IF(ISBLANK(B119),\"\",ROUND(SUM(IF(J119=\"Yes\",1*INDEX('Weighting Tables - HIDE SHEET'!$A$1:$C$9,MATCH(\"Estimated Remaining Life\",'Weighting Tables - HIDE SHEET'!$A$1:$A$9,FALSE),3)),(IF(K119=\"Beyond capacity\",2,IF(K119=\"At capacity\",1,0))*INDEX('Weighting Tables - HIDE SHEET'!$A$1:$C$9,MATCH(\"Capacity\",'Weighting Tables - HIDE SHEET'!$A$1:$A$9,FALSE),3)),IF(L119=\"Yes\",1*INDEX('Weighting Tables - HIDE SHEET'!$A$1:$C$9,MATCH(\"Reliability\",'Weighting Tables - HIDE SHEET'!$A$1:$A$9,FALSE),3)),IF(M119=\"Yes\",1*INDEX('Weighting Tables - HIDE SHEET'!$A$1:$C$9,MATCH(\"Repair Schedule\",'Weighting Tables - HIDE SHEET'!$A$1:$A$9,FALSE),3)))/'Weighting Tables - HIDE SHEET'!$G$4*10,0))","v":""}]
[null,null,null,null,null,null,null,null,{"$f":"IF(B120=\"\",\"\",ROUND(SUM(IF(F120=\"Greater than 75%\",4,IF(F120=\"50-75%\",3,IF(F120=\"25-50%\",2,IF(F120=\"Less than 25%\",1,0))))*INDEX('Weighting Tables - HIDE SHEET'!$A$1:$C$11,MATCH(\"Importance\",'Weighting Tables - HIDE SHEET'!$A$1:$A$11,FALSE),3),IF(G120=\"Yes\",1*INDEX('Weighting Tables - HIDE SHEET'!$A$1:$C$11,MATCH(\"Compliance\",'Weighting Tables - HIDE SHEET'!$A$1:$A$11,FALSE),3)),IF(H120=\"Yes\",1*INDEX('Weighting Tables - HIDE SHEET'!$A$1:$C$11,MATCH(\"Public Health and Environment\",'Weighting Tables - HIDE SHEET'!$A$1:$A$11,FALSE),3)))/'Weighting Tables - HIDE SHEET'!$G$3*10,0))","v":""},null,null,null,null,{"$f":"IF(ISBLANK(B120),\"\",ROUND(SUM(IF(J120=\"Yes\",1*INDEX('Weighting Tables - HIDE SHEET'!$A$1:$C$9,MATCH(\"Estimated Remaining Life\",'Weighting Tables - HIDE SHEET'!$A$1:$A$9,FALSE),3)),(IF(K120=\"Beyond capacity\",2,IF(K120=\"At capacity\",1,0))*INDEX('Weighting Tables - HIDE SHEET'!$A$1:$C$9,MATCH(\"Capacity\",'Weighting Tables - HIDE SHEET'!$A$1:$A$9,FALSE),3)),IF(L120=\"Yes\",1*INDEX('Weighting Tables - HIDE SHEET'!$A$1:$C$9,MATCH(\"Reliability\",'Weighting Tables - HIDE SHEET'!$A$1:$A$9,FALSE),3)),IF(M120=\"Yes\",1*INDEX('Weighting Tables - HIDE SHEET'!$A$1:$C$9,MATCH(\"Repair Schedule\",'Weighting Tables - HIDE SHEET'!$A$1:$A$9,FALSE),3)))/'Weighting Tables - HIDE SHEET'!$G$4*10,0))","v":""}]
[null,null,null,null,null,null,null,null,{"$f":"IF(B121=\"\",\"\",ROUND(SUM(IF(F121=\"Greater than 75%\",4,IF(F121=\"50-75%\",3,IF(F121=\"25-50%\",2,IF(F121=\"Less than 25%\",1,0))))*INDEX('Weighting Tables - HIDE SHEET'!$A$1:$C$11,MATCH(\"Importance\",'Weighting Tables - HIDE SHEET'!$A$1:$A$11,FALSE),3),IF(G121=\"Yes\",1*INDEX('Weighting Tables - HIDE SHEET'!$A$1:$C$11,MATCH(\"Compliance\",'Weighting Tables - HIDE SHEET'!$A$1:$A$11,FALSE),3)),IF(H121=\"Yes\",1*INDEX('Weighting Tables - HIDE SHEET'!$A$1:$C$11,MATCH(\"Public Health and Environment\",'Weighting Tables - HIDE SHEET'!$A$1:$A$11,FALSE),3)))/'Weighting Tables - HIDE SHEET'!$G$3*10,0))","v":""},null,null,null,null,{"$f":"IF(ISBLANK(B121),\"\",ROUND(SUM(IF(J121=\"Yes\",1*INDEX('Weighting Tables - HIDE SHEET'!$A$1:$C$9,MATCH(\"Estimated Remaining Life\",'Weighting Tables - HIDE SHEET'!$A$1:$A$9,FALSE),3)),(IF(K121=\"Beyond capacity\",2,IF(K121=\"At capacity\",1,0))*INDEX('Weighting Tables - HIDE SHEET'!$A$1:$C$9,MATCH(\"Capacity\",'Weighting Tables - HIDE SHEET'!$A$1:$A$9,FALSE),3)),IF(L121=\"Yes\",1*INDEX('Weighting Tables - HIDE SHEET'!$A$1:$C$9,MATCH(\"Reliability\",'Weighting Tables - HIDE SHEET'!$A$1:$A$9,FALSE),3)),IF(M121=\"Yes\",1*INDEX('Weighting Tables - HIDE SHEET'!$A$1:$C$9,MATCH(\"Repair Schedule\",'Weighting Tables - HIDE SHEET'!$A$1:$A$9,FALSE),3)))/'Weighting Tables - HIDE SHEET'!$G$4*10,0))","v":""}]
[null,null,null,null,null,null,null,null,{"$f":"IF(B122=\"\",\"\",ROUND(SUM(IF(F122=\"Greater than 75%\",4,IF(F122=\"50-75%\",3,IF(F122=\"25-50%\",2,IF(F122=\"Less than 25%\",1,0))))*INDEX('Weighting Tables - HIDE SHEET'!$A$1:$C$11,MATCH(\"Importance\",'Weighting Tables - HIDE SHEET'!$A$1:$A$11,FALSE),3),IF(G122=\"Yes\",1*INDEX('Weighting Tables - HIDE SHEET'!$A$1:$C$11,MATCH(\"Compliance\",'Weighting Tables - HIDE SHEET'!$A$1:$A$11,FALSE),3)),IF(H122=\"Yes\",1*INDEX('Weighting Tables - HIDE SHEET'!$A$1:$C$11,MATCH(\"Public Health and Environment\",'Weighting Tables - HIDE SHEET'!$A$1:$A$11,FALSE),3)))/'Weighting Tables - HIDE SHEET'!$G$3*10,0))","v":""},null,null,null,null,{"$f":"IF(ISBLANK(B122),\"\",ROUND(SUM(IF(J122=\"Yes\",1*INDEX('Weighting Tables - HIDE SHEET'!$A$1:$C$9,MATCH(\"Estimated Remaining Life\",'Weighting Tables - HIDE SHEET'!$A$1:$A$9,FALSE),3)),(IF(K122=\"Beyond capacity\",2,IF(K122=\"At capacity\",1,0))*INDEX('Weighting Tables - HIDE SHEET'!$A$1:$C$9,MATCH(\"Capacity\",'Weighting Tables - HIDE SHEET'!$A$1:$A$9,FALSE),3)),IF(L122=\"Yes\",1*INDEX('Weighting Tables - HIDE SHEET'!$A$1:$C$9,MATCH(\"Reliability\",'Weighting Tables - HIDE SHEET'!$A$1:$A$9,FALSE),3)),IF(M122=\"Yes\",1*INDEX('Weighting Tables - HIDE SHEET'!$A$1:$C$9,MATCH(\"Repair Schedule\",'Weighting Tables - HIDE SHEET'!$A$1:$A$9,FALSE),3)))/'Weighting Tables - HIDE SHEET'!$G$4*10,0))","v":""}]
[null,null,null,null,null,null,null,null,{"$f":"IF(B123=\"\",\"\",ROUND(SUM(IF(F123=\"Greater than 75%\",4,IF(F123=\"50-75%\",3,IF(F123=\"25-50%\",2,IF(F123=\"Less than 25%\",1,0))))*INDEX('Weighting Tables - HIDE SHEET'!$A$1:$C$11,MATCH(\"Importance\",'Weighting Tables - HIDE SHEET'!$A$1:$A$11,FALSE),3),IF(G123=\"Yes\",1*INDEX('Weighting Tables - HIDE SHEET'!$A$1:$C$11,MATCH(\"Compliance\",'Weighting Tables - HIDE SHEET'!$A$1:$A$11,FALSE),3)),IF(H123=\"Yes\",1*INDEX('Weighting Tables - HIDE SHEET'!$A$1:$C$11,MATCH(\"Public Health and Environment\",'Weighting Tables - HIDE SHEET'!$A$1:$A$11,FALSE),3)))/'Weighting Tables - HIDE SHEET'!$G$3*10,0))","v":""},null,null,null,null,{"$f":"IF(ISBLANK(B123),\"\",ROUND(SUM(IF(J123=\"Yes\",1*INDEX('Weighting Tables - HIDE SHEET'!$A$1:$C$9,MATCH(\"Estimated Remaining Life\",'Weighting Tables - HIDE SHEET'!$A$1:$A$9,FALSE),3)),(IF(K123=\"Beyond capacity\",2,IF(K123=\"At capacity\",1,0))*INDEX('Weighting Tables - HIDE SHEET'!$A$1:$C$9,MATCH(\"Capacity\",'Weighting Tables - HIDE SHEET'!$A$1:$A$9,FALSE),3)),IF(L123=\"Yes\",1*INDEX('Weighting Tables - HIDE SHEET'!$A$1:$C$9,MATCH(\"Reliability\",'Weighting Tables - HIDE SHEET'!$A$1:$A$9,FALSE),3)),IF(M123=\"Yes\",1*INDEX('Weighting Tables - HIDE SHEET'!$A$1:$C$9,MATCH(\"Repair Schedule\",'Weighting Tables - HIDE SHEET'!$A$1:$A$9,FALSE),3)))/'Weighting Tables - HIDE SHEET'!$G$4*10,0))","v":""}]
[null,null,null,null,null,null,null,null,{"$f":"IF(B124=\"\",\"\",ROUND(SUM(IF(F124=\"Greater than 75%\",4,IF(F124=\"50-75%\",3,IF(F124=\"25-50%\",2,IF(F124=\"Less than 25%\",1,0))))*INDEX('Weighting Tables - HIDE SHEET'!$A$1:$C$11,MATCH(\"Importance\",'Weighting Tables - HIDE SHEET'!$A$1:$A$11,FALSE),3),IF(G124=\"Yes\",1*INDEX('Weighting Tables - HIDE SHEET'!$A$1:$C$11,MATCH(\"Compliance\",'Weighting Tables - HIDE SHEET'!$A$1:$A$11,FALSE),3)),IF(H124=\"Yes\",1*INDEX('Weighting Tables - HIDE SHEET'!$A$1:$C$11,MATCH(\"Public Health and Environment\",'Weighting Tables - HIDE SHEET'!$A$1:$A$11,FALSE),3)))/'Weighting Tables - HIDE SHEET'!$G$3*10,0))","v":""},null,null,null,null,{"$f":"IF(ISBLANK(B124),\"\",ROUND(SUM(IF(J124=\"Yes\",1*INDEX('Weighting Tables - HIDE SHEET'!$A$1:$C$9,MATCH(\"Estimated Remaining Life\",'Weighting Tables - HIDE SHEET'!$A$1:$A$9,FALSE),3)),(IF(K124=\"Beyond capacity\",2,IF(K124=\"At capacity\",1,0))*INDEX('Weighting Tables - HIDE SHEET'!$A$1:$C$9,MATCH(\"Capacity\",'Weighting Tables - HIDE SHEET'!$A$1:$A$9,FALSE),3)),IF(L124=\"Yes\",1*INDEX('Weighting Tables - HIDE SHEET'!$A$1:$C$9,MATCH(\"Reliability\",'Weighting Tables - HIDE SHEET'!$A$1:$A$9,FALSE),3)),IF(M124=\"Yes\",1*INDEX('Weighting Tables - HIDE SHEET'!$A$1:$C$9,MATCH(\"Repair Schedule\",'Weighting Tables - HIDE SHEET'!$A$1:$A$9,FALSE),3)))/'Weighting Tables - HIDE SHEET'!$G$4*10,0))","v":""}]
[null,null,null,null,null,null,null,null,{"$f":"IF(B125=\"\",\"\",ROUND(SUM(IF(F125=\"Greater than 75%\",4,IF(F125=\"50-75%\",3,IF(F125=\"25-50%\",2,IF(F125=\"Less than 25%\",1,0))))*INDEX('Weighting Tables - HIDE SHEET'!$A$1:$C$11,MATCH(\"Importance\",'Weighting Tables - HIDE SHEET'!$A$1:$A$11,FALSE),3),IF(G125=\"Yes\",1*INDEX('Weighting Tables - HIDE SHEET'!$A$1:$C$11,MATCH(\"Compliance\",'Weighting Tables - HIDE SHEET'!$A$1:$A$11,FALSE),3)),IF(H125=\"Yes\",1*INDEX('Weighting Tables - HIDE SHEET'!$A$1:$C$11,MATCH(\"Public Health and Environment\",'Weighting Tables - HIDE SHEET'!$A$1:$A$11,FALSE),3)))/'Weighting Tables - HIDE SHEET'!$G$3*10,0))","v":""},null,null,null,null,{"$f":"IF(ISBLANK(B125),\"\",ROUND(SUM(IF(J125=\"Yes\",1*INDEX('Weighting Tables - HIDE SHEET'!$A$1:$C$9,MATCH(\"Estimated Remaining Life\",'Weighting Tables - HIDE SHEET'!$A$1:$A$9,FALSE),3)),(IF(K125=\"Beyond capacity\",2,IF(K125=\"At capacity\",1,0))*INDEX('Weighting Tables - HIDE SHEET'!$A$1:$C$9,MATCH(\"Capacity\",'Weighting Tables - HIDE SHEET'!$A$1:$A$9,FALSE),3)),IF(L125=\"Yes\",1*INDEX('Weighting Tables - HIDE SHEET'!$A$1:$C$9,MATCH(\"Reliability\",'Weighting Tables - HIDE SHEET'!$A$1:$A$9,FALSE),3)),IF(M125=\"Yes\",1*INDEX('Weighting Tables - HIDE SHEET'!$A$1:$C$9,MATCH(\"Repair Schedule\",'Weighting Tables - HIDE SHEET'!$A$1:$A$9,FALSE),3)))/'Weighting Tables - HIDE SHEET'!$G$4*10,0))","v":""}]
[null,null,null,null,null,null,null,null,{"$f":"IF(B126=\"\",\"\",ROUND(SUM(IF(F126=\"Greater than 75%\",4,IF(F126=\"50-75%\",3,IF(F126=\"25-50%\",2,IF(F126=\"Less than 25%\",1,0))))*INDEX('Weighting Tables - HIDE SHEET'!$A$1:$C$11,MATCH(\"Importance\",'Weighting Tables - HIDE SHEET'!$A$1:$A$11,FALSE),3),IF(G126=\"Yes\",1*INDEX('Weighting Tables - HIDE SHEET'!$A$1:$C$11,MATCH(\"Compliance\",'Weighting Tables - HIDE SHEET'!$A$1:$A$11,FALSE),3)),IF(H126=\"Yes\",1*INDEX('Weighting Tables - HIDE SHEET'!$A$1:$C$11,MATCH(\"Public Health and Environment\",'Weighting Tables - HIDE SHEET'!$A$1:$A$11,FALSE),3)))/'Weighting Tables - HIDE SHEET'!$G$3*10,0))","v":""},null,null,null,null,{"$f":"IF(ISBLANK(B126),\"\",ROUND(SUM(IF(J126=\"Yes\",1*INDEX('Weighting Tables - HIDE SHEET'!$A$1:$C$9,MATCH(\"Estimated Remaining Life\",'Weighting Tables - HIDE SHEET'!$A$1:$A$9,FALSE),3)),(IF(K126=\"Beyond capacity\",2,IF(K126=\"At capacity\",1,0))*INDEX('Weighting Tables - HIDE SHEET'!$A$1:$C$9,MATCH(\"Capacity\",'Weighting Tables - HIDE SHEET'!$A$1:$A$9,FALSE),3)),IF(L126=\"Yes\",1*INDEX('Weighting Tables - HIDE SHEET'!$A$1:$C$9,MATCH(\"Reliability\",'Weighting Tables - HIDE SHEET'!$A$1:$A$9,FALSE),3)),IF(M126=\"Yes\",1*INDEX('Weighting Tables - HIDE SHEET'!$A$1:$C$9,MATCH(\"Repair Schedule\",'Weighting Tables - HIDE SHEET'!$A$1:$A$9,FALSE),3)))/'Weighting Tables - HIDE SHEET'!$G$4*10,0))","v":""}]
[null,null,null,null,null,null,null,null,{"$f":"IF(B127=\"\",\"\",ROUND(SUM(IF(F127=\"Greater than 75%\",4,IF(F127=\"50-75%\",3,IF(F127=\"25-50%\",2,IF(F127=\"Less than 25%\",1,0))))*INDEX('Weighting Tables - HIDE SHEET'!$A$1:$C$11,MATCH(\"Importance\",'Weighting Tables - HIDE SHEET'!$A$1:$A$11,FALSE),3),IF(G127=\"Yes\",1*INDEX('Weighting Tables - HIDE SHEET'!$A$1:$C$11,MATCH(\"Compliance\",'Weighting Tables - HIDE SHEET'!$A$1:$A$11,FALSE),3)),IF(H127=\"Yes\",1*INDEX('Weighting Tables - HIDE SHEET'!$A$1:$C$11,MATCH(\"Public Health and Environment\",'Weighting Tables - HIDE SHEET'!$A$1:$A$11,FALSE),3)))/'Weighting Tables - HIDE SHEET'!$G$3*10,0))","v":""},null,null,null,null,{"$f":"IF(ISBLANK(B127),\"\",ROUND(SUM(IF(J127=\"Yes\",1*INDEX('Weighting Tables - HIDE SHEET'!$A$1:$C$9,MATCH(\"Estimated Remaining Life\",'Weighting Tables - HIDE SHEET'!$A$1:$A$9,FALSE),3)),(IF(K127=\"Beyond capacity\",2,IF(K127=\"At capacity\",1,0))*INDEX('Weighting Tables - HIDE SHEET'!$A$1:$C$9,MATCH(\"Capacity\",'Weighting Tables - HIDE SHEET'!$A$1:$A$9,FALSE),3)),IF(L127=\"Yes\",1*INDEX('Weighting Tables - HIDE SHEET'!$A$1:$C$9,MATCH(\"Reliability\",'Weighting Tables - HIDE SHEET'!$A$1:$A$9,FALSE),3)),IF(M127=\"Yes\",1*INDEX('Weighting Tables - HIDE SHEET'!$A$1:$C$9,MATCH(\"Repair Schedule\",'Weighting Tables - HIDE SHEET'!$A$1:$A$9,FALSE),3)))/'Weighting Tables - HIDE SHEET'!$G$4*10,0))","v":""}]
[null,null,null,null,null,null,null,null,{"$f":"IF(B128=\"\",\"\",ROUND(SUM(IF(F128=\"Greater than 75%\",4,IF(F128=\"50-75%\",3,IF(F128=\"25-50%\",2,IF(F128=\"Less than 25%\",1,0))))*INDEX('Weighting Tables - HIDE SHEET'!$A$1:$C$11,MATCH(\"Importance\",'Weighting Tables - HIDE SHEET'!$A$1:$A$11,FALSE),3),IF(G128=\"Yes\",1*INDEX('Weighting Tables - HIDE SHEET'!$A$1:$C$11,MATCH(\"Compliance\",'Weighting Tables - HIDE SHEET'!$A$1:$A$11,FALSE),3)),IF(H128=\"Yes\",1*INDEX('Weighting Tables - HIDE SHEET'!$A$1:$C$11,MATCH(\"Public Health and Environment\",'Weighting Tables - HIDE SHEET'!$A$1:$A$11,FALSE),3)))/'Weighting Tables - HIDE SHEET'!$G$3*10,0))","v":""},null,null,null,null,{"$f":"IF(ISBLANK(B128),\"\",ROUND(SUM(IF(J128=\"Yes\",1*INDEX('Weighting Tables - HIDE SHEET'!$A$1:$C$9,MATCH(\"Estimated Remaining Life\",'Weighting Tables - HIDE SHEET'!$A$1:$A$9,FALSE),3)),(IF(K128=\"Beyond capacity\",2,IF(K128=\"At capacity\",1,0))*INDEX('Weighting Tables - HIDE SHEET'!$A$1:$C$9,MATCH(\"Capacity\",'Weighting Tables - HIDE SHEET'!$A$1:$A$9,FALSE),3)),IF(L128=\"Yes\",1*INDEX('Weighting Tables - HIDE SHEET'!$A$1:$C$9,MATCH(\"Reliability\",'Weighting Tables - HIDE SHEET'!$A$1:$A$9,FALSE),3)),IF(M128=\"Yes\",1*INDEX('Weighting Tables - HIDE SHEET'!$A$1:$C$9,MATCH(\"Repair Schedule\",'Weighting Tables - HIDE SHEET'!$A$1:$A$9,FALSE),3)))/'Weighting Tables - HIDE SHEET'!$G$4*10,0))","v":""}]
[null,null,null,null,null,null,null,null,{"$f":"IF(B129=\"\",\"\",ROUND(SUM(IF(F129=\"Greater than 75%\",4,IF(F129=\"50-75%\",3,IF(F129=\"25-50%\",2,IF(F129=\"Less than 25%\",1,0))))*INDEX('Weighting Tables - HIDE SHEET'!$A$1:$C$11,MATCH(\"Importance\",'Weighting Tables - HIDE SHEET'!$A$1:$A$11,FALSE),3),IF(G129=\"Yes\",1*INDEX('Weighting Tables - HIDE SHEET'!$A$1:$C$11,MATCH(\"Compliance\",'Weighting Tables - HIDE SHEET'!$A$1:$A$11,FALSE),3)),IF(H129=\"Yes\",1*INDEX('Weighting Tables - HIDE SHEET'!$A$1:$C$11,MATCH(\"Public Health and Environment\",'Weighting Tables - HIDE SHEET'!$A$1:$A$11,FALSE),3)))/'Weighting Tables - HIDE SHEET'!$G$3*10,0))","v":""},null,null,null,null,{"$f":"IF(ISBLANK(B129),\"\",ROUND(SUM(IF(J129=\"Yes\",1*INDEX('Weighting Tables - HIDE SHEET'!$A$1:$C$9,MATCH(\"Estimated Remaining Life\",'Weighting Tables - HIDE SHEET'!$A$1:$A$9,FALSE),3)),(IF(K129=\"Beyond capacity\",2,IF(K129=\"At capacity\",1,0))*INDEX('Weighting Tables - HIDE SHEET'!$A$1:$C$9,MATCH(\"Capacity\",'Weighting Tables - HIDE SHEET'!$A$1:$A$9,FALSE),3)),IF(L129=\"Yes\",1*INDEX('Weighting Tables - HIDE SHEET'!$A$1:$C$9,MATCH(\"Reliability\",'Weighting Tables - HIDE SHEET'!$A$1:$A$9,FALSE),3)),IF(M129=\"Yes\",1*INDEX('Weighting Tables - HIDE SHEET'!$A$1:$C$9,MATCH(\"Repair Schedule\",'Weighting Tables - HIDE SHEET'!$A$1:$A$9,FALSE),3)))/'Weighting Tables - HIDE SHEET'!$G$4*10,0))","v":""}]
[null,null,null,null,null,null,null,null,{"$f":"IF(B130=\"\",\"\",ROUND(SUM(IF(F130=\"Greater than 75%\",4,IF(F130=\"50-75%\",3,IF(F130=\"25-50%\",2,IF(F130=\"Less than 25%\",1,0))))*INDEX('Weighting Tables - HIDE SHEET'!$A$1:$C$11,MATCH(\"Importance\",'Weighting Tables - HIDE SHEET'!$A$1:$A$11,FALSE),3),IF(G130=\"Yes\",1*INDEX('Weighting Tables - HIDE SHEET'!$A$1:$C$11,MATCH(\"Compliance\",'Weighting Tables - HIDE SHEET'!$A$1:$A$11,FALSE),3)),IF(H130=\"Yes\",1*INDEX('Weighting Tables - HIDE SHEET'!$A$1:$C$11,MATCH(\"Public Health and Environment\",'Weighting Tables - HIDE SHEET'!$A$1:$A$11,FALSE),3)))/'Weighting Tables - HIDE SHEET'!$G$3*10,0))","v":""},null,null,null,null,{"$f":"IF(ISBLANK(B130),\"\",ROUND(SUM(IF(J130=\"Yes\",1*INDEX('Weighting Tables - HIDE SHEET'!$A$1:$C$9,MATCH(\"Estimated Remaining Life\",'Weighting Tables - HIDE SHEET'!$A$1:$A$9,FALSE),3)),(IF(K130=\"Beyond capacity\",2,IF(K130=\"At capacity\",1,0))*INDEX('Weighting Tables - HIDE SHEET'!$A$1:$C$9,MATCH(\"Capacity\",'Weighting Tables - HIDE SHEET'!$A$1:$A$9,FALSE),3)),IF(L130=\"Yes\",1*INDEX('Weighting Tables - HIDE SHEET'!$A$1:$C$9,MATCH(\"Reliability\",'Weighting Tables - HIDE SHEET'!$A$1:$A$9,FALSE),3)),IF(M130=\"Yes\",1*INDEX('Weighting Tables - HIDE SHEET'!$A$1:$C$9,MATCH(\"Repair Schedule\",'Weighting Tables - HIDE SHEET'!$A$1:$A$9,FALSE),3)))/'Weighting Tables - HIDE SHEET'!$G$4*10,0))","v":""}]
[null,null,null,null,null,null,null,null,{"$f":"IF(B131=\"\",\"\",ROUND(SUM(IF(F131=\"Greater than 75%\",4,IF(F131=\"50-75%\",3,IF(F131=\"25-50%\",2,IF(F131=\"Less than 25%\",1,0))))*INDEX('Weighting Tables - HIDE SHEET'!$A$1:$C$11,MATCH(\"Importance\",'Weighting Tables - HIDE SHEET'!$A$1:$A$11,FALSE),3),IF(G131=\"Yes\",1*INDEX('Weighting Tables - HIDE SHEET'!$A$1:$C$11,MATCH(\"Compliance\",'Weighting Tables - HIDE SHEET'!$A$1:$A$11,FALSE),3)),IF(H131=\"Yes\",1*INDEX('Weighting Tables - HIDE SHEET'!$A$1:$C$11,MATCH(\"Public Health and Environment\",'Weighting Tables - HIDE SHEET'!$A$1:$A$11,FALSE),3)))/'Weighting Tables - HIDE SHEET'!$G$3*10,0))","v":""},null,null,null,null,{"$f":"IF(ISBLANK(B131),\"\",ROUND(SUM(IF(J131=\"Yes\",1*INDEX('Weighting Tables - HIDE SHEET'!$A$1:$C$9,MATCH(\"Estimated Remaining Life\",'Weighting Tables - HIDE SHEET'!$A$1:$A$9,FALSE),3)),(IF(K131=\"Beyond capacity\",2,IF(K131=\"At capacity\",1,0))*INDEX('Weighting Tables - HIDE SHEET'!$A$1:$C$9,MATCH(\"Capacity\",'Weighting Tables - HIDE SHEET'!$A$1:$A$9,FALSE),3)),IF(L131=\"Yes\",1*INDEX('Weighting Tables - HIDE SHEET'!$A$1:$C$9,MATCH(\"Reliability\",'Weighting Tables - HIDE SHEET'!$A$1:$A$9,FALSE),3)),IF(M131=\"Yes\",1*INDEX('Weighting Tables - HIDE SHEET'!$A$1:$C$9,MATCH(\"Repair Schedule\",'Weighting Tables - HIDE SHEET'!$A$1:$A$9,FALSE),3)))/'Weighting Tables - HIDE SHEET'!$G$4*10,0))","v":""}]
[null,null,null,null,null,null,null,null,{"$f":"IF(B132=\"\",\"\",ROUND(SUM(IF(F132=\"Greater than 75%\",4,IF(F132=\"50-75%\",3,IF(F132=\"25-50%\",2,IF(F132=\"Less than 25%\",1,0))))*INDEX('Weighting Tables - HIDE SHEET'!$A$1:$C$11,MATCH(\"Importance\",'Weighting Tables - HIDE SHEET'!$A$1:$A$11,FALSE),3),IF(G132=\"Yes\",1*INDEX('Weighting Tables - HIDE SHEET'!$A$1:$C$11,MATCH(\"Compliance\",'Weighting Tables - HIDE SHEET'!$A$1:$A$11,FALSE),3)),IF(H132=\"Yes\",1*INDEX('Weighting Tables - HIDE SHEET'!$A$1:$C$11,MATCH(\"Public Health and Environment\",'Weighting Tables - HIDE SHEET'!$A$1:$A$11,FALSE),3)))/'Weighting Tables - HIDE SHEET'!$G$3*10,0))","v":""},null,null,null,null,{"$f":"IF(ISBLANK(B132),\"\",ROUND(SUM(IF(J132=\"Yes\",1*INDEX('Weighting Tables - HIDE SHEET'!$A$1:$C$9,MATCH(\"Estimated Remaining Life\",'Weighting Tables - HIDE SHEET'!$A$1:$A$9,FALSE),3)),(IF(K132=\"Beyond capacity\",2,IF(K132=\"At capacity\",1,0))*INDEX('Weighting Tables - HIDE SHEET'!$A$1:$C$9,MATCH(\"Capacity\",'Weighting Tables - HIDE SHEET'!$A$1:$A$9,FALSE),3)),IF(L132=\"Yes\",1*INDEX('Weighting Tables - HIDE SHEET'!$A$1:$C$9,MATCH(\"Reliability\",'Weighting Tables - HIDE SHEET'!$A$1:$A$9,FALSE),3)),IF(M132=\"Yes\",1*INDEX('Weighting Tables - HIDE SHEET'!$A$1:$C$9,MATCH(\"Repair Schedule\",'Weighting Tables - HIDE SHEET'!$A$1:$A$9,FALSE),3)))/'Weighting Tables - HIDE SHEET'!$G$4*10,0))","v":""}]
[null,null,null,null,null,null,null,null,{"$f":"IF(B133=\"\",\"\",ROUND(SUM(IF(F133=\"Greater than 75%\",4,IF(F133=\"50-75%\",3,IF(F133=\"25-50%\",2,IF(F133=\"Less than 25%\",1,0))))*INDEX('Weighting Tables - HIDE SHEET'!$A$1:$C$11,MATCH(\"Importance\",'Weighting Tables - HIDE SHEET'!$A$1:$A$11,FALSE),3),IF(G133=\"Yes\",1*INDEX('Weighting Tables - HIDE SHEET'!$A$1:$C$11,MATCH(\"Compliance\",'Weighting Tables - HIDE SHEET'!$A$1:$A$11,FALSE),3)),IF(H133=\"Yes\",1*INDEX('Weighting Tables - HIDE SHEET'!$A$1:$C$11,MATCH(\"Public Health and Environment\",'Weighting Tables - HIDE SHEET'!$A$1:$A$11,FALSE),3)))/'Weighting Tables - HIDE SHEET'!$G$3*10,0))","v":""},null,null,null,null,{"$f":"IF(ISBLANK(B133),\"\",ROUND(SUM(IF(J133=\"Yes\",1*INDEX('Weighting Tables - HIDE SHEET'!$A$1:$C$9,MATCH(\"Estimated Remaining Life\",'Weighting Tables - HIDE SHEET'!$A$1:$A$9,FALSE),3)),(IF(K133=\"Beyond capacity\",2,IF(K133=\"At capacity\",1,0))*INDEX('Weighting Tables - HIDE SHEET'!$A$1:$C$9,MATCH(\"Capacity\",'Weighting Tables - HIDE SHEET'!$A$1:$A$9,FALSE),3)),IF(L133=\"Yes\",1*INDEX('Weighting Tables - HIDE SHEET'!$A$1:$C$9,MATCH(\"Reliability\",'Weighting Tables - HIDE SHEET'!$A$1:$A$9,FALSE),3)),IF(M133=\"Yes\",1*INDEX('Weighting Tables - HIDE SHEET'!$A$1:$C$9,MATCH(\"Repair Schedule\",'Weighting Tables - HIDE SHEET'!$A$1:$A$9,FALSE),3)))/'Weighting Tables - HIDE SHEET'!$G$4*10,0))","v":""}]
[null,null,null,null,null,null,null,null,{"$f":"IF(B134=\"\",\"\",ROUND(SUM(IF(F134=\"Greater than 75%\",4,IF(F134=\"50-75%\",3,IF(F134=\"25-50%\",2,IF(F134=\"Less than 25%\",1,0))))*INDEX('Weighting Tables - HIDE SHEET'!$A$1:$C$11,MATCH(\"Importance\",'Weighting Tables - HIDE SHEET'!$A$1:$A$11,FALSE),3),IF(G134=\"Yes\",1*INDEX('Weighting Tables - HIDE SHEET'!$A$1:$C$11,MATCH(\"Compliance\",'Weighting Tables - HIDE SHEET'!$A$1:$A$11,FALSE),3)),IF(H134=\"Yes\",1*INDEX('Weighting Tables - HIDE SHEET'!$A$1:$C$11,MATCH(\"Public Health and Environment\",'Weighting Tables - HIDE SHEET'!$A$1:$A$11,FALSE),3)))/'Weighting Tables - HIDE SHEET'!$G$3*10,0))","v":""},null,null,null,null,{"$f":"IF(ISBLANK(B134),\"\",ROUND(SUM(IF(J134=\"Yes\",1*INDEX('Weighting Tables - HIDE SHEET'!$A$1:$C$9,MATCH(\"Estimated Remaining Life\",'Weighting Tables - HIDE SHEET'!$A$1:$A$9,FALSE),3)),(IF(K134=\"Beyond capacity\",2,IF(K134=\"At capacity\",1,0))*INDEX('Weighting Tables - HIDE SHEET'!$A$1:$C$9,MATCH(\"Capacity\",'Weighting Tables - HIDE SHEET'!$A$1:$A$9,FALSE),3)),IF(L134=\"Yes\",1*INDEX('Weighting Tables - HIDE SHEET'!$A$1:$C$9,MATCH(\"Reliability\",'Weighting Tables - HIDE SHEET'!$A$1:$A$9,FALSE),3)),IF(M134=\"Yes\",1*INDEX('Weighting Tables - HIDE SHEET'!$A$1:$C$9,MATCH(\"Repair Schedule\",'Weighting Tables - HIDE SHEET'!$A$1:$A$9,FALSE),3)))/'Weighting Tables - HIDE SHEET'!$G$4*10,0))","v":""}]
[null,null,null,null,null,null,null,null,{"$f":"IF(B135=\"\",\"\",ROUND(SUM(IF(F135=\"Greater than 75%\",4,IF(F135=\"50-75%\",3,IF(F135=\"25-50%\",2,IF(F135=\"Less than 25%\",1,0))))*INDEX('Weighting Tables - HIDE SHEET'!$A$1:$C$11,MATCH(\"Importance\",'Weighting Tables - HIDE SHEET'!$A$1:$A$11,FALSE),3),IF(G135=\"Yes\",1*INDEX('Weighting Tables - HIDE SHEET'!$A$1:$C$11,MATCH(\"Compliance\",'Weighting Tables - HIDE SHEET'!$A$1:$A$11,FALSE),3)),IF(H135=\"Yes\",1*INDEX('Weighting Tables - HIDE SHEET'!$A$1:$C$11,MATCH(\"Public Health and Environment\",'Weighting Tables - HIDE SHEET'!$A$1:$A$11,FALSE),3)))/'Weighting Tables - HIDE SHEET'!$G$3*10,0))","v":""},null,null,null,null,{"$f":"IF(ISBLANK(B135),\"\",ROUND(SUM(IF(J135=\"Yes\",1*INDEX('Weighting Tables - HIDE SHEET'!$A$1:$C$9,MATCH(\"Estimated Remaining Life\",'Weighting Tables - HIDE SHEET'!$A$1:$A$9,FALSE),3)),(IF(K135=\"Beyond capacity\",2,IF(K135=\"At capacity\",1,0))*INDEX('Weighting Tables - HIDE SHEET'!$A$1:$C$9,MATCH(\"Capacity\",'Weighting Tables - HIDE SHEET'!$A$1:$A$9,FALSE),3)),IF(L135=\"Yes\",1*INDEX('Weighting Tables - HIDE SHEET'!$A$1:$C$9,MATCH(\"Reliability\",'Weighting Tables - HIDE SHEET'!$A$1:$A$9,FALSE),3)),IF(M135=\"Yes\",1*INDEX('Weighting Tables - HIDE SHEET'!$A$1:$C$9,MATCH(\"Repair Schedule\",'Weighting Tables - HIDE SHEET'!$A$1:$A$9,FALSE),3)))/'Weighting Tables - HIDE SHEET'!$G$4*10,0))","v":""}]
[null,null,null,null,null,null,null,null,{"$f":"IF(B136=\"\",\"\",ROUND(SUM(IF(F136=\"Greater than 75%\",4,IF(F136=\"50-75%\",3,IF(F136=\"25-50%\",2,IF(F136=\"Less than 25%\",1,0))))*INDEX('Weighting Tables - HIDE SHEET'!$A$1:$C$11,MATCH(\"Importance\",'Weighting Tables - HIDE SHEET'!$A$1:$A$11,FALSE),3),IF(G136=\"Yes\",1*INDEX('Weighting Tables - HIDE SHEET'!$A$1:$C$11,MATCH(\"Compliance\",'Weighting Tables - HIDE SHEET'!$A$1:$A$11,FALSE),3)),IF(H136=\"Yes\",1*INDEX('Weighting Tables - HIDE SHEET'!$A$1:$C$11,MATCH(\"Public Health and Environment\",'Weighting Tables - HIDE SHEET'!$A$1:$A$11,FALSE),3)))/'Weighting Tables - HIDE SHEET'!$G$3*10,0))","v":""},null,null,null,null,{"$f":"IF(ISBLANK(B136),\"\",ROUND(SUM(IF(J136=\"Yes\",1*INDEX('Weighting Tables - HIDE SHEET'!$A$1:$C$9,MATCH(\"Estimated Remaining Life\",'Weighting Tables - HIDE SHEET'!$A$1:$A$9,FALSE),3)),(IF(K136=\"Beyond capacity\",2,IF(K136=\"At capacity\",1,0))*INDEX('Weighting Tables - HIDE SHEET'!$A$1:$C$9,MATCH(\"Capacity\",'Weighting Tables - HIDE SHEET'!$A$1:$A$9,FALSE),3)),IF(L136=\"Yes\",1*INDEX('Weighting Tables - HIDE SHEET'!$A$1:$C$9,MATCH(\"Reliability\",'Weighting Tables - HIDE SHEET'!$A$1:$A$9,FALSE),3)),IF(M136=\"Yes\",1*INDEX('Weighting Tables - HIDE SHEET'!$A$1:$C$9,MATCH(\"Repair Schedule\",'Weighting Tables - HIDE SHEET'!$A$1:$A$9,FALSE),3)))/'Weighting Tables - HIDE SHEET'!$G$4*10,0))","v":""}]
[null,null,null,null,null,null,null,null,{"$f":"IF(B137=\"\",\"\",ROUND(SUM(IF(F137=\"Greater than 75%\",4,IF(F137=\"50-75%\",3,IF(F137=\"25-50%\",2,IF(F137=\"Less than 25%\",1,0))))*INDEX('Weighting Tables - HIDE SHEET'!$A$1:$C$11,MATCH(\"Importance\",'Weighting Tables - HIDE SHEET'!$A$1:$A$11,FALSE),3),IF(G137=\"Yes\",1*INDEX('Weighting Tables - HIDE SHEET'!$A$1:$C$11,MATCH(\"Compliance\",'Weighting Tables - HIDE SHEET'!$A$1:$A$11,FALSE),3)),IF(H137=\"Yes\",1*INDEX('Weighting Tables - HIDE SHEET'!$A$1:$C$11,MATCH(\"Public Health and Environment\",'Weighting Tables - HIDE SHEET'!$A$1:$A$11,FALSE),3)))/'Weighting Tables - HIDE SHEET'!$G$3*10,0))","v":""},null,null,null,null,{"$f":"IF(ISBLANK(B137),\"\",ROUND(SUM(IF(J137=\"Yes\",1*INDEX('Weighting Tables - HIDE SHEET'!$A$1:$C$9,MATCH(\"Estimated Remaining Life\",'Weighting Tables - HIDE SHEET'!$A$1:$A$9,FALSE),3)),(IF(K137=\"Beyond capacity\",2,IF(K137=\"At capacity\",1,0))*INDEX('Weighting Tables - HIDE SHEET'!$A$1:$C$9,MATCH(\"Capacity\",'Weighting Tables - HIDE SHEET'!$A$1:$A$9,FALSE),3)),IF(L137=\"Yes\",1*INDEX('Weighting Tables - HIDE SHEET'!$A$1:$C$9,MATCH(\"Reliability\",'Weighting Tables - HIDE SHEET'!$A$1:$A$9,FALSE),3)),IF(M137=\"Yes\",1*INDEX('Weighting Tables - HIDE SHEET'!$A$1:$C$9,MATCH(\"Repair Schedule\",'Weighting Tables - HIDE SHEET'!$A$1:$A$9,FALSE),3)))/'Weighting Tables - HIDE SHEET'!$G$4*10,0))","v":""}]
[null,null,null,null,null,null,null,null,{"$f":"IF(B138=\"\",\"\",ROUND(SUM(IF(F138=\"Greater than 75%\",4,IF(F138=\"50-75%\",3,IF(F138=\"25-50%\",2,IF(F138=\"Less than 25%\",1,0))))*INDEX('Weighting Tables - HIDE SHEET'!$A$1:$C$11,MATCH(\"Importance\",'Weighting Tables - HIDE SHEET'!$A$1:$A$11,FALSE),3),IF(G138=\"Yes\",1*INDEX('Weighting Tables - HIDE SHEET'!$A$1:$C$11,MATCH(\"Compliance\",'Weighting Tables - HIDE SHEET'!$A$1:$A$11,FALSE),3)),IF(H138=\"Yes\",1*INDEX('Weighting Tables - HIDE SHEET'!$A$1:$C$11,MATCH(\"Public Health and Environment\",'Weighting Tables - HIDE SHEET'!$A$1:$A$11,FALSE),3)))/'Weighting Tables - HIDE SHEET'!$G$3*10,0))","v":""},null,null,null,null,{"$f":"IF(ISBLANK(B138),\"\",ROUND(SUM(IF(J138=\"Yes\",1*INDEX('Weighting Tables - HIDE SHEET'!$A$1:$C$9,MATCH(\"Estimated Remaining Life\",'Weighting Tables - HIDE SHEET'!$A$1:$A$9,FALSE),3)),(IF(K138=\"Beyond capacity\",2,IF(K138=\"At capacity\",1,0))*INDEX('Weighting Tables - HIDE SHEET'!$A$1:$C$9,MATCH(\"Capacity\",'Weighting Tables - HIDE SHEET'!$A$1:$A$9,FALSE),3)),IF(L138=\"Yes\",1*INDEX('Weighting Tables - HIDE SHEET'!$A$1:$C$9,MATCH(\"Reliability\",'Weighting Tables - HIDE SHEET'!$A$1:$A$9,FALSE),3)),IF(M138=\"Yes\",1*INDEX('Weighting Tables - HIDE SHEET'!$A$1:$C$9,MATCH(\"Repair Schedule\",'Weighting Tables - HIDE SHEET'!$A$1:$A$9,FALSE),3)))/'Weighting Tables - HIDE SHEET'!$G$4*10,0))","v":""}]
[null,null,null,null,null,null,null,null,{"$f":"IF(B139=\"\",\"\",ROUND(SUM(IF(F139=\"Greater than 75%\",4,IF(F139=\"50-75%\",3,IF(F139=\"25-50%\",2,IF(F139=\"Less than 25%\",1,0))))*INDEX('Weighting Tables - HIDE SHEET'!$A$1:$C$11,MATCH(\"Importance\",'Weighting Tables - HIDE SHEET'!$A$1:$A$11,FALSE),3),IF(G139=\"Yes\",1*INDEX('Weighting Tables - HIDE SHEET'!$A$1:$C$11,MATCH(\"Compliance\",'Weighting Tables - HIDE SHEET'!$A$1:$A$11,FALSE),3)),IF(H139=\"Yes\",1*INDEX('Weighting Tables - HIDE SHEET'!$A$1:$C$11,MATCH(\"Public Health and Environment\",'Weighting Tables - HIDE SHEET'!$A$1:$A$11,FALSE),3)))/'Weighting Tables - HIDE SHEET'!$G$3*10,0))","v":""},null,null,null,null,{"$f":"IF(ISBLANK(B139),\"\",ROUND(SUM(IF(J139=\"Yes\",1*INDEX('Weighting Tables - HIDE SHEET'!$A$1:$C$9,MATCH(\"Estimated Remaining Life\",'Weighting Tables - HIDE SHEET'!$A$1:$A$9,FALSE),3)),(IF(K139=\"Beyond capacity\",2,IF(K139=\"At capacity\",1,0))*INDEX('Weighting Tables - HIDE SHEET'!$A$1:$C$9,MATCH(\"Capacity\",'Weighting Tables - HIDE SHEET'!$A$1:$A$9,FALSE),3)),IF(L139=\"Yes\",1*INDEX('Weighting Tables - HIDE SHEET'!$A$1:$C$9,MATCH(\"Reliability\",'Weighting Tables - HIDE SHEET'!$A$1:$A$9,FALSE),3)),IF(M139=\"Yes\",1*INDEX('Weighting Tables - HIDE SHEET'!$A$1:$C$9,MATCH(\"Repair Schedule\",'Weighting Tables - HIDE SHEET'!$A$1:$A$9,FALSE),3)))/'Weighting Tables - HIDE SHEET'!$G$4*10,0))","v":""}]
[null,null,null,null,null,null,null,null,{"$f":"IF(B140=\"\",\"\",ROUND(SUM(IF(F140=\"Greater than 75%\",4,IF(F140=\"50-75%\",3,IF(F140=\"25-50%\",2,IF(F140=\"Less than 25%\",1,0))))*INDEX('Weighting Tables - HIDE SHEET'!$A$1:$C$11,MATCH(\"Importance\",'Weighting Tables - HIDE SHEET'!$A$1:$A$11,FALSE),3),IF(G140=\"Yes\",1*INDEX('Weighting Tables - HIDE SHEET'!$A$1:$C$11,MATCH(\"Compliance\",'Weighting Tables - HIDE SHEET'!$A$1:$A$11,FALSE),3)),IF(H140=\"Yes\",1*INDEX('Weighting Tables - HIDE SHEET'!$A$1:$C$11,MATCH(\"Public Health and Environment\",'Weighting Tables - HIDE SHEET'!$A$1:$A$11,FALSE),3)))/'Weighting Tables - HIDE SHEET'!$G$3*10,0))","v":""},null,null,null,null,{"$f":"IF(ISBLANK(B140),\"\",ROUND(SUM(IF(J140=\"Yes\",1*INDEX('Weighting Tables - HIDE SHEET'!$A$1:$C$9,MATCH(\"Estimated Remaining Life\",'Weighting Tables - HIDE SHEET'!$A$1:$A$9,FALSE),3)),(IF(K140=\"Beyond capacity\",2,IF(K140=\"At capacity\",1,0))*INDEX('Weighting Tables - HIDE SHEET'!$A$1:$C$9,MATCH(\"Capacity\",'Weighting Tables - HIDE SHEET'!$A$1:$A$9,FALSE),3)),IF(L140=\"Yes\",1*INDEX('Weighting Tables - HIDE SHEET'!$A$1:$C$9,MATCH(\"Reliability\",'Weighting Tables - HIDE SHEET'!$A$1:$A$9,FALSE),3)),IF(M140=\"Yes\",1*INDEX('Weighting Tables - HIDE SHEET'!$A$1:$C$9,MATCH(\"Repair Schedule\",'Weighting Tables - HIDE SHEET'!$A$1:$A$9,FALSE),3)))/'Weighting Tables - HIDE SHEET'!$G$4*10,0))","v":""}]
[null,null,null,null,null,null,null,null,{"$f":"IF(B141=\"\",\"\",ROUND(SUM(IF(F141=\"Greater than 75%\",4,IF(F141=\"50-75%\",3,IF(F141=\"25-50%\",2,IF(F141=\"Less than 25%\",1,0))))*INDEX('Weighting Tables - HIDE SHEET'!$A$1:$C$11,MATCH(\"Importance\",'Weighting Tables - HIDE SHEET'!$A$1:$A$11,FALSE),3),IF(G141=\"Yes\",1*INDEX('Weighting Tables - HIDE SHEET'!$A$1:$C$11,MATCH(\"Compliance\",'Weighting Tables - HIDE SHEET'!$A$1:$A$11,FALSE),3)),IF(H141=\"Yes\",1*INDEX('Weighting Tables - HIDE SHEET'!$A$1:$C$11,MATCH(\"Public Health and Environment\",'Weighting Tables - HIDE SHEET'!$A$1:$A$11,FALSE),3)))/'Weighting Tables - HIDE SHEET'!$G$3*10,0))","v":""},null,null,null,null,{"$f":"IF(ISBLANK(B141),\"\",ROUND(SUM(IF(J141=\"Yes\",1*INDEX('Weighting Tables - HIDE SHEET'!$A$1:$C$9,MATCH(\"Estimated Remaining Life\",'Weighting Tables - HIDE SHEET'!$A$1:$A$9,FALSE),3)),(IF(K141=\"Beyond capacity\",2,IF(K141=\"At capacity\",1,0))*INDEX('Weighting Tables - HIDE SHEET'!$A$1:$C$9,MATCH(\"Capacity\",'Weighting Tables - HIDE SHEET'!$A$1:$A$9,FALSE),3)),IF(L141=\"Yes\",1*INDEX('Weighting Tables - HIDE SHEET'!$A$1:$C$9,MATCH(\"Reliability\",'Weighting Tables - HIDE SHEET'!$A$1:$A$9,FALSE),3)),IF(M141=\"Yes\",1*INDEX('Weighting Tables - HIDE SHEET'!$A$1:$C$9,MATCH(\"Repair Schedule\",'Weighting Tables - HIDE SHEET'!$A$1:$A$9,FALSE),3)))/'Weighting Tables - HIDE SHEET'!$G$4*10,0))","v":""}]
[null,null,null,null,null,null,null,null,{"$f":"IF(B142=\"\",\"\",ROUND(SUM(IF(F142=\"Greater than 75%\",4,IF(F142=\"50-75%\",3,IF(F142=\"25-50%\",2,IF(F142=\"Less than 25%\",1,0))))*INDEX('Weighting Tables - HIDE SHEET'!$A$1:$C$11,MATCH(\"Importance\",'Weighting Tables - HIDE SHEET'!$A$1:$A$11,FALSE),3),IF(G142=\"Yes\",1*INDEX('Weighting Tables - HIDE SHEET'!$A$1:$C$11,MATCH(\"Compliance\",'Weighting Tables - HIDE SHEET'!$A$1:$A$11,FALSE),3)),IF(H142=\"Yes\",1*INDEX('Weighting Tables - HIDE SHEET'!$A$1:$C$11,MATCH(\"Public Health and Environment\",'Weighting Tables - HIDE SHEET'!$A$1:$A$11,FALSE),3)))/'Weighting Tables - HIDE SHEET'!$G$3*10,0))","v":""},null,null,null,null,{"$f":"IF(ISBLANK(B142),\"\",ROUND(SUM(IF(J142=\"Yes\",1*INDEX('Weighting Tables - HIDE SHEET'!$A$1:$C$9,MATCH(\"Estimated Remaining Life\",'Weighting Tables - HIDE SHEET'!$A$1:$A$9,FALSE),3)),(IF(K142=\"Beyond capacity\",2,IF(K142=\"At capacity\",1,0))*INDEX('Weighting Tables - HIDE SHEET'!$A$1:$C$9,MATCH(\"Capacity\",'Weighting Tables - HIDE SHEET'!$A$1:$A$9,FALSE),3)),IF(L142=\"Yes\",1*INDEX('Weighting Tables - HIDE SHEET'!$A$1:$C$9,MATCH(\"Reliability\",'Weighting Tables - HIDE SHEET'!$A$1:$A$9,FALSE),3)),IF(M142=\"Yes\",1*INDEX('Weighting Tables - HIDE SHEET'!$A$1:$C$9,MATCH(\"Repair Schedule\",'Weighting Tables - HIDE SHEET'!$A$1:$A$9,FALSE),3)))/'Weighting Tables - HIDE SHEET'!$G$4*10,0))","v":""}]
[null,null,null,null,null,null,null,null,{"$f":"IF(B143=\"\",\"\",ROUND(SUM(IF(F143=\"Greater than 75%\",4,IF(F143=\"50-75%\",3,IF(F143=\"25-50%\",2,IF(F143=\"Less than 25%\",1,0))))*INDEX('Weighting Tables - HIDE SHEET'!$A$1:$C$11,MATCH(\"Importance\",'Weighting Tables - HIDE SHEET'!$A$1:$A$11,FALSE),3),IF(G143=\"Yes\",1*INDEX('Weighting Tables - HIDE SHEET'!$A$1:$C$11,MATCH(\"Compliance\",'Weighting Tables - HIDE SHEET'!$A$1:$A$11,FALSE),3)),IF(H143=\"Yes\",1*INDEX('Weighting Tables - HIDE SHEET'!$A$1:$C$11,MATCH(\"Public Health and Environment\",'Weighting Tables - HIDE SHEET'!$A$1:$A$11,FALSE),3)))/'Weighting Tables - HIDE SHEET'!$G$3*10,0))","v":""},null,null,null,null,{"$f":"IF(ISBLANK(B143),\"\",ROUND(SUM(IF(J143=\"Yes\",1*INDEX('Weighting Tables - HIDE SHEET'!$A$1:$C$9,MATCH(\"Estimated Remaining Life\",'Weighting Tables - HIDE SHEET'!$A$1:$A$9,FALSE),3)),(IF(K143=\"Beyond capacity\",2,IF(K143=\"At capacity\",1,0))*INDEX('Weighting Tables - HIDE SHEET'!$A$1:$C$9,MATCH(\"Capacity\",'Weighting Tables - HIDE SHEET'!$A$1:$A$9,FALSE),3)),IF(L143=\"Yes\",1*INDEX('Weighting Tables - HIDE SHEET'!$A$1:$C$9,MATCH(\"Reliability\",'Weighting Tables - HIDE SHEET'!$A$1:$A$9,FALSE),3)),IF(M143=\"Yes\",1*INDEX('Weighting Tables - HIDE SHEET'!$A$1:$C$9,MATCH(\"Repair Schedule\",'Weighting Tables - HIDE SHEET'!$A$1:$A$9,FALSE),3)))/'Weighting Tables - HIDE SHEET'!$G$4*10,0))","v":""}]
[null,null,null,null,null,null,null,null,{"$f":"IF(B144=\"\",\"\",ROUND(SUM(IF(F144=\"Greater than 75%\",4,IF(F144=\"50-75%\",3,IF(F144=\"25-50%\",2,IF(F144=\"Less than 25%\",1,0))))*INDEX('Weighting Tables - HIDE SHEET'!$A$1:$C$11,MATCH(\"Importance\",'Weighting Tables - HIDE SHEET'!$A$1:$A$11,FALSE),3),IF(G144=\"Yes\",1*INDEX('Weighting Tables - HIDE SHEET'!$A$1:$C$11,MATCH(\"Compliance\",'Weighting Tables - HIDE SHEET'!$A$1:$A$11,FALSE),3)),IF(H144=\"Yes\",1*INDEX('Weighting Tables - HIDE SHEET'!$A$1:$C$11,MATCH(\"Public Health and Environment\",'Weighting Tables - HIDE SHEET'!$A$1:$A$11,FALSE),3)))/'Weighting Tables - HIDE SHEET'!$G$3*10,0))","v":""},null,null,null,null,{"$f":"IF(ISBLANK(B144),\"\",ROUND(SUM(IF(J144=\"Yes\",1*INDEX('Weighting Tables - HIDE SHEET'!$A$1:$C$9,MATCH(\"Estimated Remaining Life\",'Weighting Tables - HIDE SHEET'!$A$1:$A$9,FALSE),3)),(IF(K144=\"Beyond capacity\",2,IF(K144=\"At capacity\",1,0))*INDEX('Weighting Tables - HIDE SHEET'!$A$1:$C$9,MATCH(\"Capacity\",'Weighting Tables - HIDE SHEET'!$A$1:$A$9,FALSE),3)),IF(L144=\"Yes\",1*INDEX('Weighting Tables - HIDE SHEET'!$A$1:$C$9,MATCH(\"Reliability\",'Weighting Tables - HIDE SHEET'!$A$1:$A$9,FALSE),3)),IF(M144=\"Yes\",1*INDEX('Weighting Tables - HIDE SHEET'!$A$1:$C$9,MATCH(\"Repair Schedule\",'Weighting Tables - HIDE SHEET'!$A$1:$A$9,FALSE),3)))/'Weighting Tables - HIDE SHEET'!$G$4*10,0))","v":""}]
[null,null,null,null,null,null,null,null,{"$f":"IF(B145=\"\",\"\",ROUND(SUM(IF(F145=\"Greater than 75%\",4,IF(F145=\"50-75%\",3,IF(F145=\"25-50%\",2,IF(F145=\"Less than 25%\",1,0))))*INDEX('Weighting Tables - HIDE SHEET'!$A$1:$C$11,MATCH(\"Importance\",'Weighting Tables - HIDE SHEET'!$A$1:$A$11,FALSE),3),IF(G145=\"Yes\",1*INDEX('Weighting Tables - HIDE SHEET'!$A$1:$C$11,MATCH(\"Compliance\",'Weighting Tables - HIDE SHEET'!$A$1:$A$11,FALSE),3)),IF(H145=\"Yes\",1*INDEX('Weighting Tables - HIDE SHEET'!$A$1:$C$11,MATCH(\"Public Health and Environment\",'Weighting Tables - HIDE SHEET'!$A$1:$A$11,FALSE),3)))/'Weighting Tables - HIDE SHEET'!$G$3*10,0))","v":""},null,null,null,null,{"$f":"IF(ISBLANK(B145),\"\",ROUND(SUM(IF(J145=\"Yes\",1*INDEX('Weighting Tables - HIDE SHEET'!$A$1:$C$9,MATCH(\"Estimated Remaining Life\",'Weighting Tables - HIDE SHEET'!$A$1:$A$9,FALSE),3)),(IF(K145=\"Beyond capacity\",2,IF(K145=\"At capacity\",1,0))*INDEX('Weighting Tables - HIDE SHEET'!$A$1:$C$9,MATCH(\"Capacity\",'Weighting Tables - HIDE SHEET'!$A$1:$A$9,FALSE),3)),IF(L145=\"Yes\",1*INDEX('Weighting Tables - HIDE SHEET'!$A$1:$C$9,MATCH(\"Reliability\",'Weighting Tables - HIDE SHEET'!$A$1:$A$9,FALSE),3)),IF(M145=\"Yes\",1*INDEX('Weighting Tables - HIDE SHEET'!$A$1:$C$9,MATCH(\"Repair Schedule\",'Weighting Tables - HIDE SHEET'!$A$1:$A$9,FALSE),3)))/'Weighting Tables - HIDE SHEET'!$G$4*10,0))","v":""}]
[null,null,null,null,null,null,null,null,{"$f":"IF(B146=\"\",\"\",ROUND(SUM(IF(F146=\"Greater than 75%\",4,IF(F146=\"50-75%\",3,IF(F146=\"25-50%\",2,IF(F146=\"Less than 25%\",1,0))))*INDEX('Weighting Tables - HIDE SHEET'!$A$1:$C$11,MATCH(\"Importance\",'Weighting Tables - HIDE SHEET'!$A$1:$A$11,FALSE),3),IF(G146=\"Yes\",1*INDEX('Weighting Tables - HIDE SHEET'!$A$1:$C$11,MATCH(\"Compliance\",'Weighting Tables - HIDE SHEET'!$A$1:$A$11,FALSE),3)),IF(H146=\"Yes\",1*INDEX('Weighting Tables - HIDE SHEET'!$A$1:$C$11,MATCH(\"Public Health and Environment\",'Weighting Tables - HIDE SHEET'!$A$1:$A$11,FALSE),3)))/'Weighting Tables - HIDE SHEET'!$G$3*10,0))","v":""},null,null,null,null,{"$f":"IF(ISBLANK(B146),\"\",ROUND(SUM(IF(J146=\"Yes\",1*INDEX('Weighting Tables - HIDE SHEET'!$A$1:$C$9,MATCH(\"Estimated Remaining Life\",'Weighting Tables - HIDE SHEET'!$A$1:$A$9,FALSE),3)),(IF(K146=\"Beyond capacity\",2,IF(K146=\"At capacity\",1,0))*INDEX('Weighting Tables - HIDE SHEET'!$A$1:$C$9,MATCH(\"Capacity\",'Weighting Tables - HIDE SHEET'!$A$1:$A$9,FALSE),3)),IF(L146=\"Yes\",1*INDEX('Weighting Tables - HIDE SHEET'!$A$1:$C$9,MATCH(\"Reliability\",'Weighting Tables - HIDE SHEET'!$A$1:$A$9,FALSE),3)),IF(M146=\"Yes\",1*INDEX('Weighting Tables - HIDE SHEET'!$A$1:$C$9,MATCH(\"Repair Schedule\",'Weighting Tables - HIDE SHEET'!$A$1:$A$9,FALSE),3)))/'Weighting Tables - HIDE SHEET'!$G$4*10,0))","v":""}]
[null,null,null,null,null,null,null,null,{"$f":"IF(B147=\"\",\"\",ROUND(SUM(IF(F147=\"Greater than 75%\",4,IF(F147=\"50-75%\",3,IF(F147=\"25-50%\",2,IF(F147=\"Less than 25%\",1,0))))*INDEX('Weighting Tables - HIDE SHEET'!$A$1:$C$11,MATCH(\"Importance\",'Weighting Tables - HIDE SHEET'!$A$1:$A$11,FALSE),3),IF(G147=\"Yes\",1*INDEX('Weighting Tables - HIDE SHEET'!$A$1:$C$11,MATCH(\"Compliance\",'Weighting Tables - HIDE SHEET'!$A$1:$A$11,FALSE),3)),IF(H147=\"Yes\",1*INDEX('Weighting Tables - HIDE SHEET'!$A$1:$C$11,MATCH(\"Public Health and Environment\",'Weighting Tables - HIDE SHEET'!$A$1:$A$11,FALSE),3)))/'Weighting Tables - HIDE SHEET'!$G$3*10,0))","v":""},null,null,null,null,{"$f":"IF(ISBLANK(B147),\"\",ROUND(SUM(IF(J147=\"Yes\",1*INDEX('Weighting Tables - HIDE SHEET'!$A$1:$C$9,MATCH(\"Estimated Remaining Life\",'Weighting Tables - HIDE SHEET'!$A$1:$A$9,FALSE),3)),(IF(K147=\"Beyond capacity\",2,IF(K147=\"At capacity\",1,0))*INDEX('Weighting Tables - HIDE SHEET'!$A$1:$C$9,MATCH(\"Capacity\",'Weighting Tables - HIDE SHEET'!$A$1:$A$9,FALSE),3)),IF(L147=\"Yes\",1*INDEX('Weighting Tables - HIDE SHEET'!$A$1:$C$9,MATCH(\"Reliability\",'Weighting Tables - HIDE SHEET'!$A$1:$A$9,FALSE),3)),IF(M147=\"Yes\",1*INDEX('Weighting Tables - HIDE SHEET'!$A$1:$C$9,MATCH(\"Repair Schedule\",'Weighting Tables - HIDE SHEET'!$A$1:$A$9,FALSE),3)))/'Weighting Tables - HIDE SHEET'!$G$4*10,0))","v":""}]
[null,null,null,null,null,null,null,null,{"$f":"IF(B148=\"\",\"\",ROUND(SUM(IF(F148=\"Greater than 75%\",4,IF(F148=\"50-75%\",3,IF(F148=\"25-50%\",2,IF(F148=\"Less than 25%\",1,0))))*INDEX('Weighting Tables - HIDE SHEET'!$A$1:$C$11,MATCH(\"Importance\",'Weighting Tables - HIDE SHEET'!$A$1:$A$11,FALSE),3),IF(G148=\"Yes\",1*INDEX('Weighting Tables - HIDE SHEET'!$A$1:$C$11,MATCH(\"Compliance\",'Weighting Tables - HIDE SHEET'!$A$1:$A$11,FALSE),3)),IF(H148=\"Yes\",1*INDEX('Weighting Tables - HIDE SHEET'!$A$1:$C$11,MATCH(\"Public Health and Environment\",'Weighting Tables - HIDE SHEET'!$A$1:$A$11,FALSE),3)))/'Weighting Tables - HIDE SHEET'!$G$3*10,0))","v":""},null,null,null,null,{"$f":"IF(ISBLANK(B148),\"\",ROUND(SUM(IF(J148=\"Yes\",1*INDEX('Weighting Tables - HIDE SHEET'!$A$1:$C$9,MATCH(\"Estimated Remaining Life\",'Weighting Tables - HIDE SHEET'!$A$1:$A$9,FALSE),3)),(IF(K148=\"Beyond capacity\",2,IF(K148=\"At capacity\",1,0))*INDEX('Weighting Tables - HIDE SHEET'!$A$1:$C$9,MATCH(\"Capacity\",'Weighting Tables - HIDE SHEET'!$A$1:$A$9,FALSE),3)),IF(L148=\"Yes\",1*INDEX('Weighting Tables - HIDE SHEET'!$A$1:$C$9,MATCH(\"Reliability\",'Weighting Tables - HIDE SHEET'!$A$1:$A$9,FALSE),3)),IF(M148=\"Yes\",1*INDEX('Weighting Tables - HIDE SHEET'!$A$1:$C$9,MATCH(\"Repair Schedule\",'Weighting Tables - HIDE SHEET'!$A$1:$A$9,FALSE),3)))/'Weighting Tables - HIDE SHEET'!$G$4*10,0))","v":""}]
[null,null,null,null,null,null,null,null,{"$f":"IF(B149=\"\",\"\",ROUND(SUM(IF(F149=\"Greater than 75%\",4,IF(F149=\"50-75%\",3,IF(F149=\"25-50%\",2,IF(F149=\"Less than 25%\",1,0))))*INDEX('Weighting Tables - HIDE SHEET'!$A$1:$C$11,MATCH(\"Importance\",'Weighting Tables - HIDE SHEET'!$A$1:$A$11,FALSE),3),IF(G149=\"Yes\",1*INDEX('Weighting Tables - HIDE SHEET'!$A$1:$C$11,MATCH(\"Compliance\",'Weighting Tables - HIDE SHEET'!$A$1:$A$11,FALSE),3)),IF(H149=\"Yes\",1*INDEX('Weighting Tables - HIDE SHEET'!$A$1:$C$11,MATCH(\"Public Health and Environment\",'Weighting Tables - HIDE SHEET'!$A$1:$A$11,FALSE),3)))/'Weighting Tables - HIDE SHEET'!$G$3*10,0))","v":""},null,null,null,null,{"$f":"IF(ISBLANK(B149),\"\",ROUND(SUM(IF(J149=\"Yes\",1*INDEX('Weighting Tables - HIDE SHEET'!$A$1:$C$9,MATCH(\"Estimated Remaining Life\",'Weighting Tables - HIDE SHEET'!$A$1:$A$9,FALSE),3)),(IF(K149=\"Beyond capacity\",2,IF(K149=\"At capacity\",1,0))*INDEX('Weighting Tables - HIDE SHEET'!$A$1:$C$9,MATCH(\"Capacity\",'Weighting Tables - HIDE SHEET'!$A$1:$A$9,FALSE),3)),IF(L149=\"Yes\",1*INDEX('Weighting Tables - HIDE SHEET'!$A$1:$C$9,MATCH(\"Reliability\",'Weighting Tables - HIDE SHEET'!$A$1:$A$9,FALSE),3)),IF(M149=\"Yes\",1*INDEX('Weighting Tables - HIDE SHEET'!$A$1:$C$9,MATCH(\"Repair Schedule\",'Weighting Tables - HIDE SHEET'!$A$1:$A$9,FALSE),3)))/'Weighting Tables - HIDE SHEET'!$G$4*10,0))","v":""}]
[null,null,null,null,null,null,null,null,{"$f":"IF(B150=\"\",\"\",ROUND(SUM(IF(F150=\"Greater than 75%\",4,IF(F150=\"50-75%\",3,IF(F150=\"25-50%\",2,IF(F150=\"Less than 25%\",1,0))))*INDEX('Weighting Tables - HIDE SHEET'!$A$1:$C$11,MATCH(\"Importance\",'Weighting Tables - HIDE SHEET'!$A$1:$A$11,FALSE),3),IF(G150=\"Yes\",1*INDEX('Weighting Tables - HIDE SHEET'!$A$1:$C$11,MATCH(\"Compliance\",'Weighting Tables - HIDE SHEET'!$A$1:$A$11,FALSE),3)),IF(H150=\"Yes\",1*INDEX('Weighting Tables - HIDE SHEET'!$A$1:$C$11,MATCH(\"Public Health and Environment\",'Weighting Tables - HIDE SHEET'!$A$1:$A$11,FALSE),3)))/'Weighting Tables - HIDE SHEET'!$G$3*10,0))","v":""},null,null,null,null,{"$f":"IF(ISBLANK(B150),\"\",ROUND(SUM(IF(J150=\"Yes\",1*INDEX('Weighting Tables - HIDE SHEET'!$A$1:$C$9,MATCH(\"Estimated Remaining Life\",'Weighting Tables - HIDE SHEET'!$A$1:$A$9,FALSE),3)),(IF(K150=\"Beyond capacity\",2,IF(K150=\"At capacity\",1,0))*INDEX('Weighting Tables - HIDE SHEET'!$A$1:$C$9,MATCH(\"Capacity\",'Weighting Tables - HIDE SHEET'!$A$1:$A$9,FALSE),3)),IF(L150=\"Yes\",1*INDEX('Weighting Tables - HIDE SHEET'!$A$1:$C$9,MATCH(\"Reliability\",'Weighting Tables - HIDE SHEET'!$A$1:$A$9,FALSE),3)),IF(M150=\"Yes\",1*INDEX('Weighting Tables - HIDE SHEET'!$A$1:$C$9,MATCH(\"Repair Schedule\",'Weighting Tables - HIDE SHEET'!$A$1:$A$9,FALSE),3)))/'Weighting Tables - HIDE SHEET'!$G$4*10,0))","v":""}]
[null,null,null,null,null,null,null,null,{"$f":"IF(B151=\"\",\"\",ROUND(SUM(IF(F151=\"Greater than 75%\",4,IF(F151=\"50-75%\",3,IF(F151=\"25-50%\",2,IF(F151=\"Less than 25%\",1,0))))*INDEX('Weighting Tables - HIDE SHEET'!$A$1:$C$11,MATCH(\"Importance\",'Weighting Tables - HIDE SHEET'!$A$1:$A$11,FALSE),3),IF(G151=\"Yes\",1*INDEX('Weighting Tables - HIDE SHEET'!$A$1:$C$11,MATCH(\"Compliance\",'Weighting Tables - HIDE SHEET'!$A$1:$A$11,FALSE),3)),IF(H151=\"Yes\",1*INDEX('Weighting Tables - HIDE SHEET'!$A$1:$C$11,MATCH(\"Public Health and Environment\",'Weighting Tables - HIDE SHEET'!$A$1:$A$11,FALSE),3)))/'Weighting Tables - HIDE SHEET'!$G$3*10,0))","v":""},null,null,null,null,{"$f":"IF(ISBLANK(B151),\"\",ROUND(SUM(IF(J151=\"Yes\",1*INDEX('Weighting Tables - HIDE SHEET'!$A$1:$C$9,MATCH(\"Estimated Remaining Life\",'Weighting Tables - HIDE SHEET'!$A$1:$A$9,FALSE),3)),(IF(K151=\"Beyond capacity\",2,IF(K151=\"At capacity\",1,0))*INDEX('Weighting Tables - HIDE SHEET'!$A$1:$C$9,MATCH(\"Capacity\",'Weighting Tables - HIDE SHEET'!$A$1:$A$9,FALSE),3)),IF(L151=\"Yes\",1*INDEX('Weighting Tables - HIDE SHEET'!$A$1:$C$9,MATCH(\"Reliability\",'Weighting Tables - HIDE SHEET'!$A$1:$A$9,FALSE),3)),IF(M151=\"Yes\",1*INDEX('Weighting Tables - HIDE SHEET'!$A$1:$C$9,MATCH(\"Repair Schedule\",'Weighting Tables - HIDE SHEET'!$A$1:$A$9,FALSE),3)))/'Weighting Tables - HIDE SHEET'!$G$4*10,0))","v":""}]
[null,null,null,null,null,null,null,null,{"$f":"IF(B152=\"\",\"\",ROUND(SUM(IF(F152=\"Greater than 75%\",4,IF(F152=\"50-75%\",3,IF(F152=\"25-50%\",2,IF(F152=\"Less than 25%\",1,0))))*INDEX('Weighting Tables - HIDE SHEET'!$A$1:$C$11,MATCH(\"Importance\",'Weighting Tables - HIDE SHEET'!$A$1:$A$11,FALSE),3),IF(G152=\"Yes\",1*INDEX('Weighting Tables - HIDE SHEET'!$A$1:$C$11,MATCH(\"Compliance\",'Weighting Tables - HIDE SHEET'!$A$1:$A$11,FALSE),3)),IF(H152=\"Yes\",1*INDEX('Weighting Tables - HIDE SHEET'!$A$1:$C$11,MATCH(\"Public Health and Environment\",'Weighting Tables - HIDE SHEET'!$A$1:$A$11,FALSE),3)))/'Weighting Tables - HIDE SHEET'!$G$3*10,0))","v":""},null,null,null,null,{"$f":"IF(ISBLANK(B152),\"\",ROUND(SUM(IF(J152=\"Yes\",1*INDEX('Weighting Tables - HIDE SHEET'!$A$1:$C$9,MATCH(\"Estimated Remaining Life\",'Weighting Tables - HIDE SHEET'!$A$1:$A$9,FALSE),3)),(IF(K152=\"Beyond capacity\",2,IF(K152=\"At capacity\",1,0))*INDEX('Weighting Tables - HIDE SHEET'!$A$1:$C$9,MATCH(\"Capacity\",'Weighting Tables - HIDE SHEET'!$A$1:$A$9,FALSE),3)),IF(L152=\"Yes\",1*INDEX('Weighting Tables - HIDE SHEET'!$A$1:$C$9,MATCH(\"Reliability\",'Weighting Tables - HIDE SHEET'!$A$1:$A$9,FALSE),3)),IF(M152=\"Yes\",1*INDEX('Weighting Tables - HIDE SHEET'!$A$1:$C$9,MATCH(\"Repair Schedule\",'Weighting Tables - HIDE SHEET'!$A$1:$A$9,FALSE),3)))/'Weighting Tables - HIDE SHEET'!$G$4*10,0))","v":""}]
[null,null,null,null,null,null,null,null,{"$f":"IF(B153=\"\",\"\",ROUND(SUM(IF(F153=\"Greater than 75%\",4,IF(F153=\"50-75%\",3,IF(F153=\"25-50%\",2,IF(F153=\"Less than 25%\",1,0))))*INDEX('Weighting Tables - HIDE SHEET'!$A$1:$C$11,MATCH(\"Importance\",'Weighting Tables - HIDE SHEET'!$A$1:$A$11,FALSE),3),IF(G153=\"Yes\",1*INDEX('Weighting Tables - HIDE SHEET'!$A$1:$C$11,MATCH(\"Compliance\",'Weighting Tables - HIDE SHEET'!$A$1:$A$11,FALSE),3)),IF(H153=\"Yes\",1*INDEX('Weighting Tables - HIDE SHEET'!$A$1:$C$11,MATCH(\"Public Health and Environment\",'Weighting Tables - HIDE SHEET'!$A$1:$A$11,FALSE),3)))/'Weighting Tables - HIDE SHEET'!$G$3*10,0))","v":""},null,null,null,null,{"$f":"IF(ISBLANK(B153),\"\",ROUND(SUM(IF(J153=\"Yes\",1*INDEX('Weighting Tables - HIDE SHEET'!$A$1:$C$9,MATCH(\"Estimated Remaining Life\",'Weighting Tables - HIDE SHEET'!$A$1:$A$9,FALSE),3)),(IF(K153=\"Beyond capacity\",2,IF(K153=\"At capacity\",1,0))*INDEX('Weighting Tables - HIDE SHEET'!$A$1:$C$9,MATCH(\"Capacity\",'Weighting Tables - HIDE SHEET'!$A$1:$A$9,FALSE),3)),IF(L153=\"Yes\",1*INDEX('Weighting Tables - HIDE SHEET'!$A$1:$C$9,MATCH(\"Reliability\",'Weighting Tables - HIDE SHEET'!$A$1:$A$9,FALSE),3)),IF(M153=\"Yes\",1*INDEX('Weighting Tables - HIDE SHEET'!$A$1:$C$9,MATCH(\"Repair Schedule\",'Weighting Tables - HIDE SHEET'!$A$1:$A$9,FALSE),3)))/'Weighting Tables - HIDE SHEET'!$G$4*10,0))","v":""}]
[null,null,null,null,null,null,null,null,{"$f":"IF(B154=\"\",\"\",ROUND(SUM(IF(F154=\"Greater than 75%\",4,IF(F154=\"50-75%\",3,IF(F154=\"25-50%\",2,IF(F154=\"Less than 25%\",1,0))))*INDEX('Weighting Tables - HIDE SHEET'!$A$1:$C$11,MATCH(\"Importance\",'Weighting Tables - HIDE SHEET'!$A$1:$A$11,FALSE),3),IF(G154=\"Yes\",1*INDEX('Weighting Tables - HIDE SHEET'!$A$1:$C$11,MATCH(\"Compliance\",'Weighting Tables - HIDE SHEET'!$A$1:$A$11,FALSE),3)),IF(H154=\"Yes\",1*INDEX('Weighting Tables - HIDE SHEET'!$A$1:$C$11,MATCH(\"Public Health and Environment\",'Weighting Tables - HIDE SHEET'!$A$1:$A$11,FALSE),3)))/'Weighting Tables - HIDE SHEET'!$G$3*10,0))","v":""},null,null,null,null,{"$f":"IF(ISBLANK(B154),\"\",ROUND(SUM(IF(J154=\"Yes\",1*INDEX('Weighting Tables - HIDE SHEET'!$A$1:$C$9,MATCH(\"Estimated Remaining Life\",'Weighting Tables - HIDE SHEET'!$A$1:$A$9,FALSE),3)),(IF(K154=\"Beyond capacity\",2,IF(K154=\"At capacity\",1,0))*INDEX('Weighting Tables - HIDE SHEET'!$A$1:$C$9,MATCH(\"Capacity\",'Weighting Tables - HIDE SHEET'!$A$1:$A$9,FALSE),3)),IF(L154=\"Yes\",1*INDEX('Weighting Tables - HIDE SHEET'!$A$1:$C$9,MATCH(\"Reliability\",'Weighting Tables - HIDE SHEET'!$A$1:$A$9,FALSE),3)),IF(M154=\"Yes\",1*INDEX('Weighting Tables - HIDE SHEET'!$A$1:$C$9,MATCH(\"Repair Schedule\",'Weighting Tables - HIDE SHEET'!$A$1:$A$9,FALSE),3)))/'Weighting Tables - HIDE SHEET'!$G$4*10,0))","v":""}]
[null,null,null,null,null,null,null,null,{"$f":"IF(B155=\"\",\"\",ROUND(SUM(IF(F155=\"Greater than 75%\",4,IF(F155=\"50-75%\",3,IF(F155=\"25-50%\",2,IF(F155=\"Less than 25%\",1,0))))*INDEX('Weighting Tables - HIDE SHEET'!$A$1:$C$11,MATCH(\"Importance\",'Weighting Tables - HIDE SHEET'!$A$1:$A$11,FALSE),3),IF(G155=\"Yes\",1*INDEX('Weighting Tables - HIDE SHEET'!$A$1:$C$11,MATCH(\"Compliance\",'Weighting Tables - HIDE SHEET'!$A$1:$A$11,FALSE),3)),IF(H155=\"Yes\",1*INDEX('Weighting Tables - HIDE SHEET'!$A$1:$C$11,MATCH(\"Public Health and Environment\",'Weighting Tables - HIDE SHEET'!$A$1:$A$11,FALSE),3)))/'Weighting Tables - HIDE SHEET'!$G$3*10,0))","v":""},null,null,null,null,{"$f":"IF(ISBLANK(B155),\"\",ROUND(SUM(IF(J155=\"Yes\",1*INDEX('Weighting Tables - HIDE SHEET'!$A$1:$C$9,MATCH(\"Estimated Remaining Life\",'Weighting Tables - HIDE SHEET'!$A$1:$A$9,FALSE),3)),(IF(K155=\"Beyond capacity\",2,IF(K155=\"At capacity\",1,0))*INDEX('Weighting Tables - HIDE SHEET'!$A$1:$C$9,MATCH(\"Capacity\",'Weighting Tables - HIDE SHEET'!$A$1:$A$9,FALSE),3)),IF(L155=\"Yes\",1*INDEX('Weighting Tables - HIDE SHEET'!$A$1:$C$9,MATCH(\"Reliability\",'Weighting Tables - HIDE SHEET'!$A$1:$A$9,FALSE),3)),IF(M155=\"Yes\",1*INDEX('Weighting Tables - HIDE SHEET'!$A$1:$C$9,MATCH(\"Repair Schedule\",'Weighting Tables - HIDE SHEET'!$A$1:$A$9,FALSE),3)))/'Weighting Tables - HIDE SHEET'!$G$4*10,0))","v":""}]
[null,null,null,null,null,null,null,null,{"$f":"IF(B156=\"\",\"\",ROUND(SUM(IF(F156=\"Greater than 75%\",4,IF(F156=\"50-75%\",3,IF(F156=\"25-50%\",2,IF(F156=\"Less than 25%\",1,0))))*INDEX('Weighting Tables - HIDE SHEET'!$A$1:$C$11,MATCH(\"Importance\",'Weighting Tables - HIDE SHEET'!$A$1:$A$11,FALSE),3),IF(G156=\"Yes\",1*INDEX('Weighting Tables - HIDE SHEET'!$A$1:$C$11,MATCH(\"Compliance\",'Weighting Tables - HIDE SHEET'!$A$1:$A$11,FALSE),3)),IF(H156=\"Yes\",1*INDEX('Weighting Tables - HIDE SHEET'!$A$1:$C$11,MATCH(\"Public Health and Environment\",'Weighting Tables - HIDE SHEET'!$A$1:$A$11,FALSE),3)))/'Weighting Tables - HIDE SHEET'!$G$3*10,0))","v":""},null,null,null,null,{"$f":"IF(ISBLANK(B156),\"\",ROUND(SUM(IF(J156=\"Yes\",1*INDEX('Weighting Tables - HIDE SHEET'!$A$1:$C$9,MATCH(\"Estimated Remaining Life\",'Weighting Tables - HIDE SHEET'!$A$1:$A$9,FALSE),3)),(IF(K156=\"Beyond capacity\",2,IF(K156=\"At capacity\",1,0))*INDEX('Weighting Tables - HIDE SHEET'!$A$1:$C$9,MATCH(\"Capacity\",'Weighting Tables - HIDE SHEET'!$A$1:$A$9,FALSE),3)),IF(L156=\"Yes\",1*INDEX('Weighting Tables - HIDE SHEET'!$A$1:$C$9,MATCH(\"Reliability\",'Weighting Tables - HIDE SHEET'!$A$1:$A$9,FALSE),3)),IF(M156=\"Yes\",1*INDEX('Weighting Tables - HIDE SHEET'!$A$1:$C$9,MATCH(\"Repair Schedule\",'Weighting Tables - HIDE SHEET'!$A$1:$A$9,FALSE),3)))/'Weighting Tables - HIDE SHEET'!$G$4*10,0))","v":""}]
[null,null,null,null,null,null,null,null,{"$f":"IF(B157=\"\",\"\",ROUND(SUM(IF(F157=\"Greater than 75%\",4,IF(F157=\"50-75%\",3,IF(F157=\"25-50%\",2,IF(F157=\"Less than 25%\",1,0))))*INDEX('Weighting Tables - HIDE SHEET'!$A$1:$C$11,MATCH(\"Importance\",'Weighting Tables - HIDE SHEET'!$A$1:$A$11,FALSE),3),IF(G157=\"Yes\",1*INDEX('Weighting Tables - HIDE SHEET'!$A$1:$C$11,MATCH(\"Compliance\",'Weighting Tables - HIDE SHEET'!$A$1:$A$11,FALSE),3)),IF(H157=\"Yes\",1*INDEX('Weighting Tables - HIDE SHEET'!$A$1:$C$11,MATCH(\"Public Health and Environment\",'Weighting Tables - HIDE SHEET'!$A$1:$A$11,FALSE),3)))/'Weighting Tables - HIDE SHEET'!$G$3*10,0))","v":""},null,null,null,null,{"$f":"IF(ISBLANK(B157),\"\",ROUND(SUM(IF(J157=\"Yes\",1*INDEX('Weighting Tables - HIDE SHEET'!$A$1:$C$9,MATCH(\"Estimated Remaining Life\",'Weighting Tables - HIDE SHEET'!$A$1:$A$9,FALSE),3)),(IF(K157=\"Beyond capacity\",2,IF(K157=\"At capacity\",1,0))*INDEX('Weighting Tables - HIDE SHEET'!$A$1:$C$9,MATCH(\"Capacity\",'Weighting Tables - HIDE SHEET'!$A$1:$A$9,FALSE),3)),IF(L157=\"Yes\",1*INDEX('Weighting Tables - HIDE SHEET'!$A$1:$C$9,MATCH(\"Reliability\",'Weighting Tables - HIDE SHEET'!$A$1:$A$9,FALSE),3)),IF(M157=\"Yes\",1*INDEX('Weighting Tables - HIDE SHEET'!$A$1:$C$9,MATCH(\"Repair Schedule\",'Weighting Tables - HIDE SHEET'!$A$1:$A$9,FALSE),3)))/'Weighting Tables - HIDE SHEET'!$G$4*10,0))","v":""}]
[null,null,null,null,null,null,null,null,{"$f":"IF(B158=\"\",\"\",ROUND(SUM(IF(F158=\"Greater than 75%\",4,IF(F158=\"50-75%\",3,IF(F158=\"25-50%\",2,IF(F158=\"Less than 25%\",1,0))))*INDEX('Weighting Tables - HIDE SHEET'!$A$1:$C$11,MATCH(\"Importance\",'Weighting Tables - HIDE SHEET'!$A$1:$A$11,FALSE),3),IF(G158=\"Yes\",1*INDEX('Weighting Tables - HIDE SHEET'!$A$1:$C$11,MATCH(\"Compliance\",'Weighting Tables - HIDE SHEET'!$A$1:$A$11,FALSE),3)),IF(H158=\"Yes\",1*INDEX('Weighting Tables - HIDE SHEET'!$A$1:$C$11,MATCH(\"Public Health and Environment\",'Weighting Tables - HIDE SHEET'!$A$1:$A$11,FALSE),3)))/'Weighting Tables - HIDE SHEET'!$G$3*10,0))","v":""},null,null,null,null,{"$f":"IF(ISBLANK(B158),\"\",ROUND(SUM(IF(J158=\"Yes\",1*INDEX('Weighting Tables - HIDE SHEET'!$A$1:$C$9,MATCH(\"Estimated Remaining Life\",'Weighting Tables - HIDE SHEET'!$A$1:$A$9,FALSE),3)),(IF(K158=\"Beyond capacity\",2,IF(K158=\"At capacity\",1,0))*INDEX('Weighting Tables - HIDE SHEET'!$A$1:$C$9,MATCH(\"Capacity\",'Weighting Tables - HIDE SHEET'!$A$1:$A$9,FALSE),3)),IF(L158=\"Yes\",1*INDEX('Weighting Tables - HIDE SHEET'!$A$1:$C$9,MATCH(\"Reliability\",'Weighting Tables - HIDE SHEET'!$A$1:$A$9,FALSE),3)),IF(M158=\"Yes\",1*INDEX('Weighting Tables - HIDE SHEET'!$A$1:$C$9,MATCH(\"Repair Schedule\",'Weighting Tables - HIDE SHEET'!$A$1:$A$9,FALSE),3)))/'Weighting Tables - HIDE SHEET'!$G$4*10,0))","v":""}]
[null,null,null,null,null,null,null,null,{"$f":"IF(B159=\"\",\"\",ROUND(SUM(IF(F159=\"Greater than 75%\",4,IF(F159=\"50-75%\",3,IF(F159=\"25-50%\",2,IF(F159=\"Less than 25%\",1,0))))*INDEX('Weighting Tables - HIDE SHEET'!$A$1:$C$11,MATCH(\"Importance\",'Weighting Tables - HIDE SHEET'!$A$1:$A$11,FALSE),3),IF(G159=\"Yes\",1*INDEX('Weighting Tables - HIDE SHEET'!$A$1:$C$11,MATCH(\"Compliance\",'Weighting Tables - HIDE SHEET'!$A$1:$A$11,FALSE),3)),IF(H159=\"Yes\",1*INDEX('Weighting Tables - HIDE SHEET'!$A$1:$C$11,MATCH(\"Public Health and Environment\",'Weighting Tables - HIDE SHEET'!$A$1:$A$11,FALSE),3)))/'Weighting Tables - HIDE SHEET'!$G$3*10,0))","v":""},null,null,null,null,{"$f":"IF(ISBLANK(B159),\"\",ROUND(SUM(IF(J159=\"Yes\",1*INDEX('Weighting Tables - HIDE SHEET'!$A$1:$C$9,MATCH(\"Estimated Remaining Life\",'Weighting Tables - HIDE SHEET'!$A$1:$A$9,FALSE),3)),(IF(K159=\"Beyond capacity\",2,IF(K159=\"At capacity\",1,0))*INDEX('Weighting Tables - HIDE SHEET'!$A$1:$C$9,MATCH(\"Capacity\",'Weighting Tables - HIDE SHEET'!$A$1:$A$9,FALSE),3)),IF(L159=\"Yes\",1*INDEX('Weighting Tables - HIDE SHEET'!$A$1:$C$9,MATCH(\"Reliability\",'Weighting Tables - HIDE SHEET'!$A$1:$A$9,FALSE),3)),IF(M159=\"Yes\",1*INDEX('Weighting Tables - HIDE SHEET'!$A$1:$C$9,MATCH(\"Repair Schedule\",'Weighting Tables - HIDE SHEET'!$A$1:$A$9,FALSE),3)))/'Weighting Tables - HIDE SHEET'!$G$4*10,0))","v":""}]
[null,null,null,null,null,null,null,null,{"$f":"IF(B160=\"\",\"\",ROUND(SUM(IF(F160=\"Greater than 75%\",4,IF(F160=\"50-75%\",3,IF(F160=\"25-50%\",2,IF(F160=\"Less than 25%\",1,0))))*INDEX('Weighting Tables - HIDE SHEET'!$A$1:$C$11,MATCH(\"Importance\",'Weighting Tables - HIDE SHEET'!$A$1:$A$11,FALSE),3),IF(G160=\"Yes\",1*INDEX('Weighting Tables - HIDE SHEET'!$A$1:$C$11,MATCH(\"Compliance\",'Weighting Tables - HIDE SHEET'!$A$1:$A$11,FALSE),3)),IF(H160=\"Yes\",1*INDEX('Weighting Tables - HIDE SHEET'!$A$1:$C$11,MATCH(\"Public Health and Environment\",'Weighting Tables - HIDE SHEET'!$A$1:$A$11,FALSE),3)))/'Weighting Tables - HIDE SHEET'!$G$3*10,0))","v":""},null,null,null,null,{"$f":"IF(ISBLANK(B160),\"\",ROUND(SUM(IF(J160=\"Yes\",1*INDEX('Weighting Tables - HIDE SHEET'!$A$1:$C$9,MATCH(\"Estimated Remaining Life\",'Weighting Tables - HIDE SHEET'!$A$1:$A$9,FALSE),3)),(IF(K160=\"Beyond capacity\",2,IF(K160=\"At capacity\",1,0))*INDEX('Weighting Tables - HIDE SHEET'!$A$1:$C$9,MATCH(\"Capacity\",'Weighting Tables - HIDE SHEET'!$A$1:$A$9,FALSE),3)),IF(L160=\"Yes\",1*INDEX('Weighting Tables - HIDE SHEET'!$A$1:$C$9,MATCH(\"Reliability\",'Weighting Tables - HIDE SHEET'!$A$1:$A$9,FALSE),3)),IF(M160=\"Yes\",1*INDEX('Weighting Tables - HIDE SHEET'!$A$1:$C$9,MATCH(\"Repair Schedule\",'Weighting Tables - HIDE SHEET'!$A$1:$A$9,FALSE),3)))/'Weighting Tables - HIDE SHEET'!$G$4*10,0))","v":""}]
[null,null,null,null,null,null,null,null,{"$f":"IF(B161=\"\",\"\",ROUND(SUM(IF(F161=\"Greater than 75%\",4,IF(F161=\"50-75%\",3,IF(F161=\"25-50%\",2,IF(F161=\"Less than 25%\",1,0))))*INDEX('Weighting Tables - HIDE SHEET'!$A$1:$C$11,MATCH(\"Importance\",'Weighting Tables - HIDE SHEET'!$A$1:$A$11,FALSE),3),IF(G161=\"Yes\",1*INDEX('Weighting Tables - HIDE SHEET'!$A$1:$C$11,MATCH(\"Compliance\",'Weighting Tables - HIDE SHEET'!$A$1:$A$11,FALSE),3)),IF(H161=\"Yes\",1*INDEX('Weighting Tables - HIDE SHEET'!$A$1:$C$11,MATCH(\"Public Health and Environment\",'Weighting Tables - HIDE SHEET'!$A$1:$A$11,FALSE),3)))/'Weighting Tables - HIDE SHEET'!$G$3*10,0))","v":""},null,null,null,null,{"$f":"IF(ISBLANK(B161),\"\",ROUND(SUM(IF(J161=\"Yes\",1*INDEX('Weighting Tables - HIDE SHEET'!$A$1:$C$9,MATCH(\"Estimated Remaining Life\",'Weighting Tables - HIDE SHEET'!$A$1:$A$9,FALSE),3)),(IF(K161=\"Beyond capacity\",2,IF(K161=\"At capacity\",1,0))*INDEX('Weighting Tables - HIDE SHEET'!$A$1:$C$9,MATCH(\"Capacity\",'Weighting Tables - HIDE SHEET'!$A$1:$A$9,FALSE),3)),IF(L161=\"Yes\",1*INDEX('Weighting Tables - HIDE SHEET'!$A$1:$C$9,MATCH(\"Reliability\",'Weighting Tables - HIDE SHEET'!$A$1:$A$9,FALSE),3)),IF(M161=\"Yes\",1*INDEX('Weighting Tables - HIDE SHEET'!$A$1:$C$9,MATCH(\"Repair Schedule\",'Weighting Tables - HIDE SHEET'!$A$1:$A$9,FALSE),3)))/'Weighting Tables - HIDE SHEET'!$G$4*10,0))","v":""}]
[null,null,null,null,null,null,null,null,{"$f":"IF(B162=\"\",\"\",ROUND(SUM(IF(F162=\"Greater than 75%\",4,IF(F162=\"50-75%\",3,IF(F162=\"25-50%\",2,IF(F162=\"Less than 25%\",1,0))))*INDEX('Weighting Tables - HIDE SHEET'!$A$1:$C$11,MATCH(\"Importance\",'Weighting Tables - HIDE SHEET'!$A$1:$A$11,FALSE),3),IF(G162=\"Yes\",1*INDEX('Weighting Tables - HIDE SHEET'!$A$1:$C$11,MATCH(\"Compliance\",'Weighting Tables - HIDE SHEET'!$A$1:$A$11,FALSE),3)),IF(H162=\"Yes\",1*INDEX('Weighting Tables - HIDE SHEET'!$A$1:$C$11,MATCH(\"Public Health and Environment\",'Weighting Tables - HIDE SHEET'!$A$1:$A$11,FALSE),3)))/'Weighting Tables - HIDE SHEET'!$G$3*10,0))","v":""},null,null,null,null,{"$f":"IF(ISBLANK(B162),\"\",ROUND(SUM(IF(J162=\"Yes\",1*INDEX('Weighting Tables - HIDE SHEET'!$A$1:$C$9,MATCH(\"Estimated Remaining Life\",'Weighting Tables - HIDE SHEET'!$A$1:$A$9,FALSE),3)),(IF(K162=\"Beyond capacity\",2,IF(K162=\"At capacity\",1,0))*INDEX('Weighting Tables - HIDE SHEET'!$A$1:$C$9,MATCH(\"Capacity\",'Weighting Tables - HIDE SHEET'!$A$1:$A$9,FALSE),3)),IF(L162=\"Yes\",1*INDEX('Weighting Tables - HIDE SHEET'!$A$1:$C$9,MATCH(\"Reliability\",'Weighting Tables - HIDE SHEET'!$A$1:$A$9,FALSE),3)),IF(M162=\"Yes\",1*INDEX('Weighting Tables - HIDE SHEET'!$A$1:$C$9,MATCH(\"Repair Schedule\",'Weighting Tables - HIDE SHEET'!$A$1:$A$9,FALSE),3)))/'Weighting Tables - HIDE SHEET'!$G$4*10,0))","v":""}]
[null,null,null,null,null,null,null,null,{"$f":"IF(B163=\"\",\"\",ROUND(SUM(IF(F163=\"Greater than 75%\",4,IF(F163=\"50-75%\",3,IF(F163=\"25-50%\",2,IF(F163=\"Less than 25%\",1,0))))*INDEX('Weighting Tables - HIDE SHEET'!$A$1:$C$11,MATCH(\"Importance\",'Weighting Tables - HIDE SHEET'!$A$1:$A$11,FALSE),3),IF(G163=\"Yes\",1*INDEX('Weighting Tables - HIDE SHEET'!$A$1:$C$11,MATCH(\"Compliance\",'Weighting Tables - HIDE SHEET'!$A$1:$A$11,FALSE),3)),IF(H163=\"Yes\",1*INDEX('Weighting Tables - HIDE SHEET'!$A$1:$C$11,MATCH(\"Public Health and Environment\",'Weighting Tables - HIDE SHEET'!$A$1:$A$11,FALSE),3)))/'Weighting Tables - HIDE SHEET'!$G$3*10,0))","v":""},null,null,null,null,{"$f":"IF(ISBLANK(B163),\"\",ROUND(SUM(IF(J163=\"Yes\",1*INDEX('Weighting Tables - HIDE SHEET'!$A$1:$C$9,MATCH(\"Estimated Remaining Life\",'Weighting Tables - HIDE SHEET'!$A$1:$A$9,FALSE),3)),(IF(K163=\"Beyond capacity\",2,IF(K163=\"At capacity\",1,0))*INDEX('Weighting Tables - HIDE SHEET'!$A$1:$C$9,MATCH(\"Capacity\",'Weighting Tables - HIDE SHEET'!$A$1:$A$9,FALSE),3)),IF(L163=\"Yes\",1*INDEX('Weighting Tables - HIDE SHEET'!$A$1:$C$9,MATCH(\"Reliability\",'Weighting Tables - HIDE SHEET'!$A$1:$A$9,FALSE),3)),IF(M163=\"Yes\",1*INDEX('Weighting Tables - HIDE SHEET'!$A$1:$C$9,MATCH(\"Repair Schedule\",'Weighting Tables - HIDE SHEET'!$A$1:$A$9,FALSE),3)))/'Weighting Tables - HIDE SHEET'!$G$4*10,0))","v":""}]
[null,null,null,null,null,null,null,null,{"$f":"IF(B164=\"\",\"\",ROUND(SUM(IF(F164=\"Greater than 75%\",4,IF(F164=\"50-75%\",3,IF(F164=\"25-50%\",2,IF(F164=\"Less than 25%\",1,0))))*INDEX('Weighting Tables - HIDE SHEET'!$A$1:$C$11,MATCH(\"Importance\",'Weighting Tables - HIDE SHEET'!$A$1:$A$11,FALSE),3),IF(G164=\"Yes\",1*INDEX('Weighting Tables - HIDE SHEET'!$A$1:$C$11,MATCH(\"Compliance\",'Weighting Tables - HIDE SHEET'!$A$1:$A$11,FALSE),3)),IF(H164=\"Yes\",1*INDEX('Weighting Tables - HIDE SHEET'!$A$1:$C$11,MATCH(\"Public Health and Environment\",'Weighting Tables - HIDE SHEET'!$A$1:$A$11,FALSE),3)))/'Weighting Tables - HIDE SHEET'!$G$3*10,0))","v":""},null,null,null,null,{"$f":"IF(ISBLANK(B164),\"\",ROUND(SUM(IF(J164=\"Yes\",1*INDEX('Weighting Tables - HIDE SHEET'!$A$1:$C$9,MATCH(\"Estimated Remaining Life\",'Weighting Tables - HIDE SHEET'!$A$1:$A$9,FALSE),3)),(IF(K164=\"Beyond capacity\",2,IF(K164=\"At capacity\",1,0))*INDEX('Weighting Tables - HIDE SHEET'!$A$1:$C$9,MATCH(\"Capacity\",'Weighting Tables - HIDE SHEET'!$A$1:$A$9,FALSE),3)),IF(L164=\"Yes\",1*INDEX('Weighting Tables - HIDE SHEET'!$A$1:$C$9,MATCH(\"Reliability\",'Weighting Tables - HIDE SHEET'!$A$1:$A$9,FALSE),3)),IF(M164=\"Yes\",1*INDEX('Weighting Tables - HIDE SHEET'!$A$1:$C$9,MATCH(\"Repair Schedule\",'Weighting Tables - HIDE SHEET'!$A$1:$A$9,FALSE),3)))/'Weighting Tables - HIDE SHEET'!$G$4*10,0))","v":""}]
[null,null,null,null,null,null,null,null,{"$f":"IF(B165=\"\",\"\",ROUND(SUM(IF(F165=\"Greater than 75%\",4,IF(F165=\"50-75%\",3,IF(F165=\"25-50%\",2,IF(F165=\"Less than 25%\",1,0))))*INDEX('Weighting Tables - HIDE SHEET'!$A$1:$C$11,MATCH(\"Importance\",'Weighting Tables - HIDE SHEET'!$A$1:$A$11,FALSE),3),IF(G165=\"Yes\",1*INDEX('Weighting Tables - HIDE SHEET'!$A$1:$C$11,MATCH(\"Compliance\",'Weighting Tables - HIDE SHEET'!$A$1:$A$11,FALSE),3)),IF(H165=\"Yes\",1*INDEX('Weighting Tables - HIDE SHEET'!$A$1:$C$11,MATCH(\"Public Health and Environment\",'Weighting Tables - HIDE SHEET'!$A$1:$A$11,FALSE),3)))/'Weighting Tables - HIDE SHEET'!$G$3*10,0))","v":""},null,null,null,null,{"$f":"IF(ISBLANK(B165),\"\",ROUND(SUM(IF(J165=\"Yes\",1*INDEX('Weighting Tables - HIDE SHEET'!$A$1:$C$9,MATCH(\"Estimated Remaining Life\",'Weighting Tables - HIDE SHEET'!$A$1:$A$9,FALSE),3)),(IF(K165=\"Beyond capacity\",2,IF(K165=\"At capacity\",1,0))*INDEX('Weighting Tables - HIDE SHEET'!$A$1:$C$9,MATCH(\"Capacity\",'Weighting Tables - HIDE SHEET'!$A$1:$A$9,FALSE),3)),IF(L165=\"Yes\",1*INDEX('Weighting Tables - HIDE SHEET'!$A$1:$C$9,MATCH(\"Reliability\",'Weighting Tables - HIDE SHEET'!$A$1:$A$9,FALSE),3)),IF(M165=\"Yes\",1*INDEX('Weighting Tables - HIDE SHEET'!$A$1:$C$9,MATCH(\"Repair Schedule\",'Weighting Tables - HIDE SHEET'!$A$1:$A$9,FALSE),3)))/'Weighting Tables - HIDE SHEET'!$G$4*10,0))","v":""}]
[null,null,null,null,null,null,null,null,{"$f":"IF(B166=\"\",\"\",ROUND(SUM(IF(F166=\"Greater than 75%\",4,IF(F166=\"50-75%\",3,IF(F166=\"25-50%\",2,IF(F166=\"Less than 25%\",1,0))))*INDEX('Weighting Tables - HIDE SHEET'!$A$1:$C$11,MATCH(\"Importance\",'Weighting Tables - HIDE SHEET'!$A$1:$A$11,FALSE),3),IF(G166=\"Yes\",1*INDEX('Weighting Tables - HIDE SHEET'!$A$1:$C$11,MATCH(\"Compliance\",'Weighting Tables - HIDE SHEET'!$A$1:$A$11,FALSE),3)),IF(H166=\"Yes\",1*INDEX('Weighting Tables - HIDE SHEET'!$A$1:$C$11,MATCH(\"Public Health and Environment\",'Weighting Tables - HIDE SHEET'!$A$1:$A$11,FALSE),3)))/'Weighting Tables - HIDE SHEET'!$G$3*10,0))","v":""},null,null,null,null,{"$f":"IF(ISBLANK(B166),\"\",ROUND(SUM(IF(J166=\"Yes\",1*INDEX('Weighting Tables - HIDE SHEET'!$A$1:$C$9,MATCH(\"Estimated Remaining Life\",'Weighting Tables - HIDE SHEET'!$A$1:$A$9,FALSE),3)),(IF(K166=\"Beyond capacity\",2,IF(K166=\"At capacity\",1,0))*INDEX('Weighting Tables - HIDE SHEET'!$A$1:$C$9,MATCH(\"Capacity\",'Weighting Tables - HIDE SHEET'!$A$1:$A$9,FALSE),3)),IF(L166=\"Yes\",1*INDEX('Weighting Tables - HIDE SHEET'!$A$1:$C$9,MATCH(\"Reliability\",'Weighting Tables - HIDE SHEET'!$A$1:$A$9,FALSE),3)),IF(M166=\"Yes\",1*INDEX('Weighting Tables - HIDE SHEET'!$A$1:$C$9,MATCH(\"Repair Schedule\",'Weighting Tables - HIDE SHEET'!$A$1:$A$9,FALSE),3)))/'Weighting Tables - HIDE SHEET'!$G$4*10,0))","v":""}]
[null,null,null,null,null,null,null,null,{"$f":"IF(B167=\"\",\"\",ROUND(SUM(IF(F167=\"Greater than 75%\",4,IF(F167=\"50-75%\",3,IF(F167=\"25-50%\",2,IF(F167=\"Less than 25%\",1,0))))*INDEX('Weighting Tables - HIDE SHEET'!$A$1:$C$11,MATCH(\"Importance\",'Weighting Tables - HIDE SHEET'!$A$1:$A$11,FALSE),3),IF(G167=\"Yes\",1*INDEX('Weighting Tables - HIDE SHEET'!$A$1:$C$11,MATCH(\"Compliance\",'Weighting Tables - HIDE SHEET'!$A$1:$A$11,FALSE),3)),IF(H167=\"Yes\",1*INDEX('Weighting Tables - HIDE SHEET'!$A$1:$C$11,MATCH(\"Public Health and Environment\",'Weighting Tables - HIDE SHEET'!$A$1:$A$11,FALSE),3)))/'Weighting Tables - HIDE SHEET'!$G$3*10,0))","v":""},null,null,null,null,{"$f":"IF(ISBLANK(B167),\"\",ROUND(SUM(IF(J167=\"Yes\",1*INDEX('Weighting Tables - HIDE SHEET'!$A$1:$C$9,MATCH(\"Estimated Remaining Life\",'Weighting Tables - HIDE SHEET'!$A$1:$A$9,FALSE),3)),(IF(K167=\"Beyond capacity\",2,IF(K167=\"At capacity\",1,0))*INDEX('Weighting Tables - HIDE SHEET'!$A$1:$C$9,MATCH(\"Capacity\",'Weighting Tables - HIDE SHEET'!$A$1:$A$9,FALSE),3)),IF(L167=\"Yes\",1*INDEX('Weighting Tables - HIDE SHEET'!$A$1:$C$9,MATCH(\"Reliability\",'Weighting Tables - HIDE SHEET'!$A$1:$A$9,FALSE),3)),IF(M167=\"Yes\",1*INDEX('Weighting Tables - HIDE SHEET'!$A$1:$C$9,MATCH(\"Repair Schedule\",'Weighting Tables - HIDE SHEET'!$A$1:$A$9,FALSE),3)))/'Weighting Tables - HIDE SHEET'!$G$4*10,0))","v":""}]
[null,null,null,null,null,null,null,null,{"$f":"IF(B168=\"\",\"\",ROUND(SUM(IF(F168=\"Greater than 75%\",4,IF(F168=\"50-75%\",3,IF(F168=\"25-50%\",2,IF(F168=\"Less than 25%\",1,0))))*INDEX('Weighting Tables - HIDE SHEET'!$A$1:$C$11,MATCH(\"Importance\",'Weighting Tables - HIDE SHEET'!$A$1:$A$11,FALSE),3),IF(G168=\"Yes\",1*INDEX('Weighting Tables - HIDE SHEET'!$A$1:$C$11,MATCH(\"Compliance\",'Weighting Tables - HIDE SHEET'!$A$1:$A$11,FALSE),3)),IF(H168=\"Yes\",1*INDEX('Weighting Tables - HIDE SHEET'!$A$1:$C$11,MATCH(\"Public Health and Environment\",'Weighting Tables - HIDE SHEET'!$A$1:$A$11,FALSE),3)))/'Weighting Tables - HIDE SHEET'!$G$3*10,0))","v":""},null,null,null,null,{"$f":"IF(ISBLANK(B168),\"\",ROUND(SUM(IF(J168=\"Yes\",1*INDEX('Weighting Tables - HIDE SHEET'!$A$1:$C$9,MATCH(\"Estimated Remaining Life\",'Weighting Tables - HIDE SHEET'!$A$1:$A$9,FALSE),3)),(IF(K168=\"Beyond capacity\",2,IF(K168=\"At capacity\",1,0))*INDEX('Weighting Tables - HIDE SHEET'!$A$1:$C$9,MATCH(\"Capacity\",'Weighting Tables - HIDE SHEET'!$A$1:$A$9,FALSE),3)),IF(L168=\"Yes\",1*INDEX('Weighting Tables - HIDE SHEET'!$A$1:$C$9,MATCH(\"Reliability\",'Weighting Tables - HIDE SHEET'!$A$1:$A$9,FALSE),3)),IF(M168=\"Yes\",1*INDEX('Weighting Tables - HIDE SHEET'!$A$1:$C$9,MATCH(\"Repair Schedule\",'Weighting Tables - HIDE SHEET'!$A$1:$A$9,FALSE),3)))/'Weighting Tables - HIDE SHEET'!$G$4*10,0))","v":""}]
[null,null,null,null,null,null,null,null,{"$f":"IF(B169=\"\",\"\",ROUND(SUM(IF(F169=\"Greater than 75%\",4,IF(F169=\"50-75%\",3,IF(F169=\"25-50%\",2,IF(F169=\"Less than 25%\",1,0))))*INDEX('Weighting Tables - HIDE SHEET'!$A$1:$C$11,MATCH(\"Importance\",'Weighting Tables - HIDE SHEET'!$A$1:$A$11,FALSE),3),IF(G169=\"Yes\",1*INDEX('Weighting Tables - HIDE SHEET'!$A$1:$C$11,MATCH(\"Compliance\",'Weighting Tables - HIDE SHEET'!$A$1:$A$11,FALSE),3)),IF(H169=\"Yes\",1*INDEX('Weighting Tables - HIDE SHEET'!$A$1:$C$11,MATCH(\"Public Health and Environment\",'Weighting Tables - HIDE SHEET'!$A$1:$A$11,FALSE),3)))/'Weighting Tables - HIDE SHEET'!$G$3*10,0))","v":""},null,null,null,null,{"$f":"IF(ISBLANK(B169),\"\",ROUND(SUM(IF(J169=\"Yes\",1*INDEX('Weighting Tables - HIDE SHEET'!$A$1:$C$9,MATCH(\"Estimated Remaining Life\",'Weighting Tables - HIDE SHEET'!$A$1:$A$9,FALSE),3)),(IF(K169=\"Beyond capacity\",2,IF(K169=\"At capacity\",1,0))*INDEX('Weighting Tables - HIDE SHEET'!$A$1:$C$9,MATCH(\"Capacity\",'Weighting Tables - HIDE SHEET'!$A$1:$A$9,FALSE),3)),IF(L169=\"Yes\",1*INDEX('Weighting Tables - HIDE SHEET'!$A$1:$C$9,MATCH(\"Reliability\",'Weighting Tables - HIDE SHEET'!$A$1:$A$9,FALSE),3)),IF(M169=\"Yes\",1*INDEX('Weighting Tables - HIDE SHEET'!$A$1:$C$9,MATCH(\"Repair Schedule\",'Weighting Tables - HIDE SHEET'!$A$1:$A$9,FALSE),3)))/'Weighting Tables - HIDE SHEET'!$G$4*10,0))","v":""}]
[null,null,null,null,null,null,null,null,{"$f":"IF(B170=\"\",\"\",ROUND(SUM(IF(F170=\"Greater than 75%\",4,IF(F170=\"50-75%\",3,IF(F170=\"25-50%\",2,IF(F170=\"Less than 25%\",1,0))))*INDEX('Weighting Tables - HIDE SHEET'!$A$1:$C$11,MATCH(\"Importance\",'Weighting Tables - HIDE SHEET'!$A$1:$A$11,FALSE),3),IF(G170=\"Yes\",1*INDEX('Weighting Tables - HIDE SHEET'!$A$1:$C$11,MATCH(\"Compliance\",'Weighting Tables - HIDE SHEET'!$A$1:$A$11,FALSE),3)),IF(H170=\"Yes\",1*INDEX('Weighting Tables - HIDE SHEET'!$A$1:$C$11,MATCH(\"Public Health and Environment\",'Weighting Tables - HIDE SHEET'!$A$1:$A$11,FALSE),3)))/'Weighting Tables - HIDE SHEET'!$G$3*10,0))","v":""},null,null,null,null,{"$f":"IF(ISBLANK(B170),\"\",ROUND(SUM(IF(J170=\"Yes\",1*INDEX('Weighting Tables - HIDE SHEET'!$A$1:$C$9,MATCH(\"Estimated Remaining Life\",'Weighting Tables - HIDE SHEET'!$A$1:$A$9,FALSE),3)),(IF(K170=\"Beyond capacity\",2,IF(K170=\"At capacity\",1,0))*INDEX('Weighting Tables - HIDE SHEET'!$A$1:$C$9,MATCH(\"Capacity\",'Weighting Tables - HIDE SHEET'!$A$1:$A$9,FALSE),3)),IF(L170=\"Yes\",1*INDEX('Weighting Tables - HIDE SHEET'!$A$1:$C$9,MATCH(\"Reliability\",'Weighting Tables - HIDE SHEET'!$A$1:$A$9,FALSE),3)),IF(M170=\"Yes\",1*INDEX('Weighting Tables - HIDE SHEET'!$A$1:$C$9,MATCH(\"Repair Schedule\",'Weighting Tables - HIDE SHEET'!$A$1:$A$9,FALSE),3)))/'Weighting Tables - HIDE SHEET'!$G$4*10,0))","v":""}]
[null,null,null,null,null,null,null,null,{"$f":"IF(B171=\"\",\"\",ROUND(SUM(IF(F171=\"Greater than 75%\",4,IF(F171=\"50-75%\",3,IF(F171=\"25-50%\",2,IF(F171=\"Less than 25%\",1,0))))*INDEX('Weighting Tables - HIDE SHEET'!$A$1:$C$11,MATCH(\"Importance\",'Weighting Tables - HIDE SHEET'!$A$1:$A$11,FALSE),3),IF(G171=\"Yes\",1*INDEX('Weighting Tables - HIDE SHEET'!$A$1:$C$11,MATCH(\"Compliance\",'Weighting Tables - HIDE SHEET'!$A$1:$A$11,FALSE),3)),IF(H171=\"Yes\",1*INDEX('Weighting Tables - HIDE SHEET'!$A$1:$C$11,MATCH(\"Public Health and Environment\",'Weighting Tables - HIDE SHEET'!$A$1:$A$11,FALSE),3)))/'Weighting Tables - HIDE SHEET'!$G$3*10,0))","v":""},null,null,null,null,{"$f":"IF(ISBLANK(B171),\"\",ROUND(SUM(IF(J171=\"Yes\",1*INDEX('Weighting Tables - HIDE SHEET'!$A$1:$C$9,MATCH(\"Estimated Remaining Life\",'Weighting Tables - HIDE SHEET'!$A$1:$A$9,FALSE),3)),(IF(K171=\"Beyond capacity\",2,IF(K171=\"At capacity\",1,0))*INDEX('Weighting Tables - HIDE SHEET'!$A$1:$C$9,MATCH(\"Capacity\",'Weighting Tables - HIDE SHEET'!$A$1:$A$9,FALSE),3)),IF(L171=\"Yes\",1*INDEX('Weighting Tables - HIDE SHEET'!$A$1:$C$9,MATCH(\"Reliability\",'Weighting Tables - HIDE SHEET'!$A$1:$A$9,FALSE),3)),IF(M171=\"Yes\",1*INDEX('Weighting Tables - HIDE SHEET'!$A$1:$C$9,MATCH(\"Repair Schedule\",'Weighting Tables - HIDE SHEET'!$A$1:$A$9,FALSE),3)))/'Weighting Tables - HIDE SHEET'!$G$4*10,0))","v":""}]
[null,null,null,null,null,null,null,null,{"$f":"IF(B172=\"\",\"\",ROUND(SUM(IF(F172=\"Greater than 75%\",4,IF(F172=\"50-75%\",3,IF(F172=\"25-50%\",2,IF(F172=\"Less than 25%\",1,0))))*INDEX('Weighting Tables - HIDE SHEET'!$A$1:$C$11,MATCH(\"Importance\",'Weighting Tables - HIDE SHEET'!$A$1:$A$11,FALSE),3),IF(G172=\"Yes\",1*INDEX('Weighting Tables - HIDE SHEET'!$A$1:$C$11,MATCH(\"Compliance\",'Weighting Tables - HIDE SHEET'!$A$1:$A$11,FALSE),3)),IF(H172=\"Yes\",1*INDEX('Weighting Tables - HIDE SHEET'!$A$1:$C$11,MATCH(\"Public Health and Environment\",'Weighting Tables - HIDE SHEET'!$A$1:$A$11,FALSE),3)))/'Weighting Tables - HIDE SHEET'!$G$3*10,0))","v":""},null,null,null,null,{"$f":"IF(ISBLANK(B172),\"\",ROUND(SUM(IF(J172=\"Yes\",1*INDEX('Weighting Tables - HIDE SHEET'!$A$1:$C$9,MATCH(\"Estimated Remaining Life\",'Weighting Tables - HIDE SHEET'!$A$1:$A$9,FALSE),3)),(IF(K172=\"Beyond capacity\",2,IF(K172=\"At capacity\",1,0))*INDEX('Weighting Tables - HIDE SHEET'!$A$1:$C$9,MATCH(\"Capacity\",'Weighting Tables - HIDE SHEET'!$A$1:$A$9,FALSE),3)),IF(L172=\"Yes\",1*INDEX('Weighting Tables - HIDE SHEET'!$A$1:$C$9,MATCH(\"Reliability\",'Weighting Tables - HIDE SHEET'!$A$1:$A$9,FALSE),3)),IF(M172=\"Yes\",1*INDEX('Weighting Tables - HIDE SHEET'!$A$1:$C$9,MATCH(\"Repair Schedule\",'Weighting Tables - HIDE SHEET'!$A$1:$A$9,FALSE),3)))/'Weighting Tables - HIDE SHEET'!$G$4*10,0))","v":""}]
[null,null,null,null,null,null,null,null,{"$f":"IF(B173=\"\",\"\",ROUND(SUM(IF(F173=\"Greater than 75%\",4,IF(F173=\"50-75%\",3,IF(F173=\"25-50%\",2,IF(F173=\"Less than 25%\",1,0))))*INDEX('Weighting Tables - HIDE SHEET'!$A$1:$C$11,MATCH(\"Importance\",'Weighting Tables - HIDE SHEET'!$A$1:$A$11,FALSE),3),IF(G173=\"Yes\",1*INDEX('Weighting Tables - HIDE SHEET'!$A$1:$C$11,MATCH(\"Compliance\",'Weighting Tables - HIDE SHEET'!$A$1:$A$11,FALSE),3)),IF(H173=\"Yes\",1*INDEX('Weighting Tables - HIDE SHEET'!$A$1:$C$11,MATCH(\"Public Health and Environment\",'Weighting Tables - HIDE SHEET'!$A$1:$A$11,FALSE),3)))/'Weighting Tables - HIDE SHEET'!$G$3*10,0))","v":""},null,null,null,null,{"$f":"IF(ISBLANK(B173),\"\",ROUND(SUM(IF(J173=\"Yes\",1*INDEX('Weighting Tables - HIDE SHEET'!$A$1:$C$9,MATCH(\"Estimated Remaining Life\",'Weighting Tables - HIDE SHEET'!$A$1:$A$9,FALSE),3)),(IF(K173=\"Beyond capacity\",2,IF(K173=\"At capacity\",1,0))*INDEX('Weighting Tables - HIDE SHEET'!$A$1:$C$9,MATCH(\"Capacity\",'Weighting Tables - HIDE SHEET'!$A$1:$A$9,FALSE),3)),IF(L173=\"Yes\",1*INDEX('Weighting Tables - HIDE SHEET'!$A$1:$C$9,MATCH(\"Reliability\",'Weighting Tables - HIDE SHEET'!$A$1:$A$9,FALSE),3)),IF(M173=\"Yes\",1*INDEX('Weighting Tables - HIDE SHEET'!$A$1:$C$9,MATCH(\"Repair Schedule\",'Weighting Tables - HIDE SHEET'!$A$1:$A$9,FALSE),3)))/'Weighting Tables - HIDE SHEET'!$G$4*10,0))","v":""}]
[null,null,null,null,null,null,null,null,{"$f":"IF(B174=\"\",\"\",ROUND(SUM(IF(F174=\"Greater than 75%\",4,IF(F174=\"50-75%\",3,IF(F174=\"25-50%\",2,IF(F174=\"Less than 25%\",1,0))))*INDEX('Weighting Tables - HIDE SHEET'!$A$1:$C$11,MATCH(\"Importance\",'Weighting Tables - HIDE SHEET'!$A$1:$A$11,FALSE),3),IF(G174=\"Yes\",1*INDEX('Weighting Tables - HIDE SHEET'!$A$1:$C$11,MATCH(\"Compliance\",'Weighting Tables - HIDE SHEET'!$A$1:$A$11,FALSE),3)),IF(H174=\"Yes\",1*INDEX('Weighting Tables - HIDE SHEET'!$A$1:$C$11,MATCH(\"Public Health and Environment\",'Weighting Tables - HIDE SHEET'!$A$1:$A$11,FALSE),3)))/'Weighting Tables - HIDE SHEET'!$G$3*10,0))","v":""},null,null,null,null,{"$f":"IF(ISBLANK(B174),\"\",ROUND(SUM(IF(J174=\"Yes\",1*INDEX('Weighting Tables - HIDE SHEET'!$A$1:$C$9,MATCH(\"Estimated Remaining Life\",'Weighting Tables - HIDE SHEET'!$A$1:$A$9,FALSE),3)),(IF(K174=\"Beyond capacity\",2,IF(K174=\"At capacity\",1,0))*INDEX('Weighting Tables - HIDE SHEET'!$A$1:$C$9,MATCH(\"Capacity\",'Weighting Tables - HIDE SHEET'!$A$1:$A$9,FALSE),3)),IF(L174=\"Yes\",1*INDEX('Weighting Tables - HIDE SHEET'!$A$1:$C$9,MATCH(\"Reliability\",'Weighting Tables - HIDE SHEET'!$A$1:$A$9,FALSE),3)),IF(M174=\"Yes\",1*INDEX('Weighting Tables - HIDE SHEET'!$A$1:$C$9,MATCH(\"Repair Schedule\",'Weighting Tables - HIDE SHEET'!$A$1:$A$9,FALSE),3)))/'Weighting Tables - HIDE SHEET'!$G$4*10,0))","v":""}]
[null,null,null,null,null,null,null,null,{"$f":"IF(B175=\"\",\"\",ROUND(SUM(IF(F175=\"Greater than 75%\",4,IF(F175=\"50-75%\",3,IF(F175=\"25-50%\",2,IF(F175=\"Less than 25%\",1,0))))*INDEX('Weighting Tables - HIDE SHEET'!$A$1:$C$11,MATCH(\"Importance\",'Weighting Tables - HIDE SHEET'!$A$1:$A$11,FALSE),3),IF(G175=\"Yes\",1*INDEX('Weighting Tables - HIDE SHEET'!$A$1:$C$11,MATCH(\"Compliance\",'Weighting Tables - HIDE SHEET'!$A$1:$A$11,FALSE),3)),IF(H175=\"Yes\",1*INDEX('Weighting Tables - HIDE SHEET'!$A$1:$C$11,MATCH(\"Public Health and Environment\",'Weighting Tables - HIDE SHEET'!$A$1:$A$11,FALSE),3)))/'Weighting Tables - HIDE SHEET'!$G$3*10,0))","v":""},null,null,null,null,{"$f":"IF(ISBLANK(B175),\"\",ROUND(SUM(IF(J175=\"Yes\",1*INDEX('Weighting Tables - HIDE SHEET'!$A$1:$C$9,MATCH(\"Estimated Remaining Life\",'Weighting Tables - HIDE SHEET'!$A$1:$A$9,FALSE),3)),(IF(K175=\"Beyond capacity\",2,IF(K175=\"At capacity\",1,0))*INDEX('Weighting Tables - HIDE SHEET'!$A$1:$C$9,MATCH(\"Capacity\",'Weighting Tables - HIDE SHEET'!$A$1:$A$9,FALSE),3)),IF(L175=\"Yes\",1*INDEX('Weighting Tables - HIDE SHEET'!$A$1:$C$9,MATCH(\"Reliability\",'Weighting Tables - HIDE SHEET'!$A$1:$A$9,FALSE),3)),IF(M175=\"Yes\",1*INDEX('Weighting Tables - HIDE SHEET'!$A$1:$C$9,MATCH(\"Repair Schedule\",'Weighting Tables - HIDE SHEET'!$A$1:$A$9,FALSE),3)))/'Weighting Tables - HIDE SHEET'!$G$4*10,0))","v":""}]
[null,null,null,null,null,null,null,null,{"$f":"IF(B176=\"\",\"\",ROUND(SUM(IF(F176=\"Greater than 75%\",4,IF(F176=\"50-75%\",3,IF(F176=\"25-50%\",2,IF(F176=\"Less than 25%\",1,0))))*INDEX('Weighting Tables - HIDE SHEET'!$A$1:$C$11,MATCH(\"Importance\",'Weighting Tables - HIDE SHEET'!$A$1:$A$11,FALSE),3),IF(G176=\"Yes\",1*INDEX('Weighting Tables - HIDE SHEET'!$A$1:$C$11,MATCH(\"Compliance\",'Weighting Tables - HIDE SHEET'!$A$1:$A$11,FALSE),3)),IF(H176=\"Yes\",1*INDEX('Weighting Tables - HIDE SHEET'!$A$1:$C$11,MATCH(\"Public Health and Environment\",'Weighting Tables - HIDE SHEET'!$A$1:$A$11,FALSE),3)))/'Weighting Tables - HIDE SHEET'!$G$3*10,0))","v":""},null,null,null,null,{"$f":"IF(ISBLANK(B176),\"\",ROUND(SUM(IF(J176=\"Yes\",1*INDEX('Weighting Tables - HIDE SHEET'!$A$1:$C$9,MATCH(\"Estimated Remaining Life\",'Weighting Tables - HIDE SHEET'!$A$1:$A$9,FALSE),3)),(IF(K176=\"Beyond capacity\",2,IF(K176=\"At capacity\",1,0))*INDEX('Weighting Tables - HIDE SHEET'!$A$1:$C$9,MATCH(\"Capacity\",'Weighting Tables - HIDE SHEET'!$A$1:$A$9,FALSE),3)),IF(L176=\"Yes\",1*INDEX('Weighting Tables - HIDE SHEET'!$A$1:$C$9,MATCH(\"Reliability\",'Weighting Tables - HIDE SHEET'!$A$1:$A$9,FALSE),3)),IF(M176=\"Yes\",1*INDEX('Weighting Tables - HIDE SHEET'!$A$1:$C$9,MATCH(\"Repair Schedule\",'Weighting Tables - HIDE SHEET'!$A$1:$A$9,FALSE),3)))/'Weighting Tables - HIDE SHEET'!$G$4*10,0))","v":""}]
[null,null,null,null,null,null,null,null,{"$f":"IF(B177=\"\",\"\",ROUND(SUM(IF(F177=\"Greater than 75%\",4,IF(F177=\"50-75%\",3,IF(F177=\"25-50%\",2,IF(F177=\"Less than 25%\",1,0))))*INDEX('Weighting Tables - HIDE SHEET'!$A$1:$C$11,MATCH(\"Importance\",'Weighting Tables - HIDE SHEET'!$A$1:$A$11,FALSE),3),IF(G177=\"Yes\",1*INDEX('Weighting Tables - HIDE SHEET'!$A$1:$C$11,MATCH(\"Compliance\",'Weighting Tables - HIDE SHEET'!$A$1:$A$11,FALSE),3)),IF(H177=\"Yes\",1*INDEX('Weighting Tables - HIDE SHEET'!$A$1:$C$11,MATCH(\"Public Health and Environment\",'Weighting Tables - HIDE SHEET'!$A$1:$A$11,FALSE),3)))/'Weighting Tables - HIDE SHEET'!$G$3*10,0))","v":""},null,null,null,null,{"$f":"IF(ISBLANK(B177),\"\",ROUND(SUM(IF(J177=\"Yes\",1*INDEX('Weighting Tables - HIDE SHEET'!$A$1:$C$9,MATCH(\"Estimated Remaining Life\",'Weighting Tables - HIDE SHEET'!$A$1:$A$9,FALSE),3)),(IF(K177=\"Beyond capacity\",2,IF(K177=\"At capacity\",1,0))*INDEX('Weighting Tables - HIDE SHEET'!$A$1:$C$9,MATCH(\"Capacity\",'Weighting Tables - HIDE SHEET'!$A$1:$A$9,FALSE),3)),IF(L177=\"Yes\",1*INDEX('Weighting Tables - HIDE SHEET'!$A$1:$C$9,MATCH(\"Reliability\",'Weighting Tables - HIDE SHEET'!$A$1:$A$9,FALSE),3)),IF(M177=\"Yes\",1*INDEX('Weighting Tables - HIDE SHEET'!$A$1:$C$9,MATCH(\"Repair Schedule\",'Weighting Tables - HIDE SHEET'!$A$1:$A$9,FALSE),3)))/'Weighting Tables - HIDE SHEET'!$G$4*10,0))","v":""}]
[null,null,null,null,null,null,null,null,{"$f":"IF(B178=\"\",\"\",ROUND(SUM(IF(F178=\"Greater than 75%\",4,IF(F178=\"50-75%\",3,IF(F178=\"25-50%\",2,IF(F178=\"Less than 25%\",1,0))))*INDEX('Weighting Tables - HIDE SHEET'!$A$1:$C$11,MATCH(\"Importance\",'Weighting Tables - HIDE SHEET'!$A$1:$A$11,FALSE),3),IF(G178=\"Yes\",1*INDEX('Weighting Tables - HIDE SHEET'!$A$1:$C$11,MATCH(\"Compliance\",'Weighting Tables - HIDE SHEET'!$A$1:$A$11,FALSE),3)),IF(H178=\"Yes\",1*INDEX('Weighting Tables - HIDE SHEET'!$A$1:$C$11,MATCH(\"Public Health and Environment\",'Weighting Tables - HIDE SHEET'!$A$1:$A$11,FALSE),3)))/'Weighting Tables - HIDE SHEET'!$G$3*10,0))","v":""},null,null,null,null,{"$f":"IF(ISBLANK(B178),\"\",ROUND(SUM(IF(J178=\"Yes\",1*INDEX('Weighting Tables - HIDE SHEET'!$A$1:$C$9,MATCH(\"Estimated Remaining Life\",'Weighting Tables - HIDE SHEET'!$A$1:$A$9,FALSE),3)),(IF(K178=\"Beyond capacity\",2,IF(K178=\"At capacity\",1,0))*INDEX('Weighting Tables - HIDE SHEET'!$A$1:$C$9,MATCH(\"Capacity\",'Weighting Tables - HIDE SHEET'!$A$1:$A$9,FALSE),3)),IF(L178=\"Yes\",1*INDEX('Weighting Tables - HIDE SHEET'!$A$1:$C$9,MATCH(\"Reliability\",'Weighting Tables - HIDE SHEET'!$A$1:$A$9,FALSE),3)),IF(M178=\"Yes\",1*INDEX('Weighting Tables - HIDE SHEET'!$A$1:$C$9,MATCH(\"Repair Schedule\",'Weighting Tables - HIDE SHEET'!$A$1:$A$9,FALSE),3)))/'Weighting Tables - HIDE SHEET'!$G$4*10,0))","v":""}]
[null,null,null,null,null,null,null,null,{"$f":"IF(B179=\"\",\"\",ROUND(SUM(IF(F179=\"Greater than 75%\",4,IF(F179=\"50-75%\",3,IF(F179=\"25-50%\",2,IF(F179=\"Less than 25%\",1,0))))*INDEX('Weighting Tables - HIDE SHEET'!$A$1:$C$11,MATCH(\"Importance\",'Weighting Tables - HIDE SHEET'!$A$1:$A$11,FALSE),3),IF(G179=\"Yes\",1*INDEX('Weighting Tables - HIDE SHEET'!$A$1:$C$11,MATCH(\"Compliance\",'Weighting Tables - HIDE SHEET'!$A$1:$A$11,FALSE),3)),IF(H179=\"Yes\",1*INDEX('Weighting Tables - HIDE SHEET'!$A$1:$C$11,MATCH(\"Public Health and Environment\",'Weighting Tables - HIDE SHEET'!$A$1:$A$11,FALSE),3)))/'Weighting Tables - HIDE SHEET'!$G$3*10,0))","v":""},null,null,null,null,{"$f":"IF(ISBLANK(B179),\"\",ROUND(SUM(IF(J179=\"Yes\",1*INDEX('Weighting Tables - HIDE SHEET'!$A$1:$C$9,MATCH(\"Estimated Remaining Life\",'Weighting Tables - HIDE SHEET'!$A$1:$A$9,FALSE),3)),(IF(K179=\"Beyond capacity\",2,IF(K179=\"At capacity\",1,0))*INDEX('Weighting Tables - HIDE SHEET'!$A$1:$C$9,MATCH(\"Capacity\",'Weighting Tables - HIDE SHEET'!$A$1:$A$9,FALSE),3)),IF(L179=\"Yes\",1*INDEX('Weighting Tables - HIDE SHEET'!$A$1:$C$9,MATCH(\"Reliability\",'Weighting Tables - HIDE SHEET'!$A$1:$A$9,FALSE),3)),IF(M179=\"Yes\",1*INDEX('Weighting Tables - HIDE SHEET'!$A$1:$C$9,MATCH(\"Repair Schedule\",'Weighting Tables - HIDE SHEET'!$A$1:$A$9,FALSE),3)))/'Weighting Tables - HIDE SHEET'!$G$4*10,0))","v":""}]
[null,null,null,null,null,null,null,null,{"$f":"IF(B180=\"\",\"\",ROUND(SUM(IF(F180=\"Greater than 75%\",4,IF(F180=\"50-75%\",3,IF(F180=\"25-50%\",2,IF(F180=\"Less than 25%\",1,0))))*INDEX('Weighting Tables - HIDE SHEET'!$A$1:$C$11,MATCH(\"Importance\",'Weighting Tables - HIDE SHEET'!$A$1:$A$11,FALSE),3),IF(G180=\"Yes\",1*INDEX('Weighting Tables - HIDE SHEET'!$A$1:$C$11,MATCH(\"Compliance\",'Weighting Tables - HIDE SHEET'!$A$1:$A$11,FALSE),3)),IF(H180=\"Yes\",1*INDEX('Weighting Tables - HIDE SHEET'!$A$1:$C$11,MATCH(\"Public Health and Environment\",'Weighting Tables - HIDE SHEET'!$A$1:$A$11,FALSE),3)))/'Weighting Tables - HIDE SHEET'!$G$3*10,0))","v":""},null,null,null,null,{"$f":"IF(ISBLANK(B180),\"\",ROUND(SUM(IF(J180=\"Yes\",1*INDEX('Weighting Tables - HIDE SHEET'!$A$1:$C$9,MATCH(\"Estimated Remaining Life\",'Weighting Tables - HIDE SHEET'!$A$1:$A$9,FALSE),3)),(IF(K180=\"Beyond capacity\",2,IF(K180=\"At capacity\",1,0))*INDEX('Weighting Tables - HIDE SHEET'!$A$1:$C$9,MATCH(\"Capacity\",'Weighting Tables - HIDE SHEET'!$A$1:$A$9,FALSE),3)),IF(L180=\"Yes\",1*INDEX('Weighting Tables - HIDE SHEET'!$A$1:$C$9,MATCH(\"Reliability\",'Weighting Tables - HIDE SHEET'!$A$1:$A$9,FALSE),3)),IF(M180=\"Yes\",1*INDEX('Weighting Tables - HIDE SHEET'!$A$1:$C$9,MATCH(\"Repair Schedule\",'Weighting Tables - HIDE SHEET'!$A$1:$A$9,FALSE),3)))/'Weighting Tables - HIDE SHEET'!$G$4*10,0))","v":""}]
[null,null,null,null,null,null,null,null,{"$f":"IF(B181=\"\",\"\",ROUND(SUM(IF(F181=\"Greater than 75%\",4,IF(F181=\"50-75%\",3,IF(F181=\"25-50%\",2,IF(F181=\"Less than 25%\",1,0))))*INDEX('Weighting Tables - HIDE SHEET'!$A$1:$C$11,MATCH(\"Importance\",'Weighting Tables - HIDE SHEET'!$A$1:$A$11,FALSE),3),IF(G181=\"Yes\",1*INDEX('Weighting Tables - HIDE SHEET'!$A$1:$C$11,MATCH(\"Compliance\",'Weighting Tables - HIDE SHEET'!$A$1:$A$11,FALSE),3)),IF(H181=\"Yes\",1*INDEX('Weighting Tables - HIDE SHEET'!$A$1:$C$11,MATCH(\"Public Health and Environment\",'Weighting Tables - HIDE SHEET'!$A$1:$A$11,FALSE),3)))/'Weighting Tables - HIDE SHEET'!$G$3*10,0))","v":""},null,null,null,null,{"$f":"IF(ISBLANK(B181),\"\",ROUND(SUM(IF(J181=\"Yes\",1*INDEX('Weighting Tables - HIDE SHEET'!$A$1:$C$9,MATCH(\"Estimated Remaining Life\",'Weighting Tables - HIDE SHEET'!$A$1:$A$9,FALSE),3)),(IF(K181=\"Beyond capacity\",2,IF(K181=\"At capacity\",1,0))*INDEX('Weighting Tables - HIDE SHEET'!$A$1:$C$9,MATCH(\"Capacity\",'Weighting Tables - HIDE SHEET'!$A$1:$A$9,FALSE),3)),IF(L181=\"Yes\",1*INDEX('Weighting Tables - HIDE SHEET'!$A$1:$C$9,MATCH(\"Reliability\",'Weighting Tables - HIDE SHEET'!$A$1:$A$9,FALSE),3)),IF(M181=\"Yes\",1*INDEX('Weighting Tables - HIDE SHEET'!$A$1:$C$9,MATCH(\"Repair Schedule\",'Weighting Tables - HIDE SHEET'!$A$1:$A$9,FALSE),3)))/'Weighting Tables - HIDE SHEET'!$G$4*10,0))","v":""}]
[null,null,null,null,null,null,null,null,{"$f":"IF(B182=\"\",\"\",ROUND(SUM(IF(F182=\"Greater than 75%\",4,IF(F182=\"50-75%\",3,IF(F182=\"25-50%\",2,IF(F182=\"Less than 25%\",1,0))))*INDEX('Weighting Tables - HIDE SHEET'!$A$1:$C$11,MATCH(\"Importance\",'Weighting Tables - HIDE SHEET'!$A$1:$A$11,FALSE),3),IF(G182=\"Yes\",1*INDEX('Weighting Tables - HIDE SHEET'!$A$1:$C$11,MATCH(\"Compliance\",'Weighting Tables - HIDE SHEET'!$A$1:$A$11,FALSE),3)),IF(H182=\"Yes\",1*INDEX('Weighting Tables - HIDE SHEET'!$A$1:$C$11,MATCH(\"Public Health and Environment\",'Weighting Tables - HIDE SHEET'!$A$1:$A$11,FALSE),3)))/'Weighting Tables - HIDE SHEET'!$G$3*10,0))","v":""},null,null,null,null,{"$f":"IF(ISBLANK(B182),\"\",ROUND(SUM(IF(J182=\"Yes\",1*INDEX('Weighting Tables - HIDE SHEET'!$A$1:$C$9,MATCH(\"Estimated Remaining Life\",'Weighting Tables - HIDE SHEET'!$A$1:$A$9,FALSE),3)),(IF(K182=\"Beyond capacity\",2,IF(K182=\"At capacity\",1,0))*INDEX('Weighting Tables - HIDE SHEET'!$A$1:$C$9,MATCH(\"Capacity\",'Weighting Tables - HIDE SHEET'!$A$1:$A$9,FALSE),3)),IF(L182=\"Yes\",1*INDEX('Weighting Tables - HIDE SHEET'!$A$1:$C$9,MATCH(\"Reliability\",'Weighting Tables - HIDE SHEET'!$A$1:$A$9,FALSE),3)),IF(M182=\"Yes\",1*INDEX('Weighting Tables - HIDE SHEET'!$A$1:$C$9,MATCH(\"Repair Schedule\",'Weighting Tables - HIDE SHEET'!$A$1:$A$9,FALSE),3)))/'Weighting Tables - HIDE SHEET'!$G$4*10,0))","v":""}]
[null,null,null,null,null,null,null,null,{"$f":"IF(B183=\"\",\"\",ROUND(SUM(IF(F183=\"Greater than 75%\",4,IF(F183=\"50-75%\",3,IF(F183=\"25-50%\",2,IF(F183=\"Less than 25%\",1,0))))*INDEX('Weighting Tables - HIDE SHEET'!$A$1:$C$11,MATCH(\"Importance\",'Weighting Tables - HIDE SHEET'!$A$1:$A$11,FALSE),3),IF(G183=\"Yes\",1*INDEX('Weighting Tables - HIDE SHEET'!$A$1:$C$11,MATCH(\"Compliance\",'Weighting Tables - HIDE SHEET'!$A$1:$A$11,FALSE),3)),IF(H183=\"Yes\",1*INDEX('Weighting Tables - HIDE SHEET'!$A$1:$C$11,MATCH(\"Public Health and Environment\",'Weighting Tables - HIDE SHEET'!$A$1:$A$11,FALSE),3)))/'Weighting Tables - HIDE SHEET'!$G$3*10,0))","v":""},null,null,null,null,{"$f":"IF(ISBLANK(B183),\"\",ROUND(SUM(IF(J183=\"Yes\",1*INDEX('Weighting Tables - HIDE SHEET'!$A$1:$C$9,MATCH(\"Estimated Remaining Life\",'Weighting Tables - HIDE SHEET'!$A$1:$A$9,FALSE),3)),(IF(K183=\"Beyond capacity\",2,IF(K183=\"At capacity\",1,0))*INDEX('Weighting Tables - HIDE SHEET'!$A$1:$C$9,MATCH(\"Capacity\",'Weighting Tables - HIDE SHEET'!$A$1:$A$9,FALSE),3)),IF(L183=\"Yes\",1*INDEX('Weighting Tables - HIDE SHEET'!$A$1:$C$9,MATCH(\"Reliability\",'Weighting Tables - HIDE SHEET'!$A$1:$A$9,FALSE),3)),IF(M183=\"Yes\",1*INDEX('Weighting Tables - HIDE SHEET'!$A$1:$C$9,MATCH(\"Repair Schedule\",'Weighting Tables - HIDE SHEET'!$A$1:$A$9,FALSE),3)))/'Weighting Tables - HIDE SHEET'!$G$4*10,0))","v":""}]
[null,null,null,null,null,null,null,null,{"$f":"IF(B184=\"\",\"\",ROUND(SUM(IF(F184=\"Greater than 75%\",4,IF(F184=\"50-75%\",3,IF(F184=\"25-50%\",2,IF(F184=\"Less than 25%\",1,0))))*INDEX('Weighting Tables - HIDE SHEET'!$A$1:$C$11,MATCH(\"Importance\",'Weighting Tables - HIDE SHEET'!$A$1:$A$11,FALSE),3),IF(G184=\"Yes\",1*INDEX('Weighting Tables - HIDE SHEET'!$A$1:$C$11,MATCH(\"Compliance\",'Weighting Tables - HIDE SHEET'!$A$1:$A$11,FALSE),3)),IF(H184=\"Yes\",1*INDEX('Weighting Tables - HIDE SHEET'!$A$1:$C$11,MATCH(\"Public Health and Environment\",'Weighting Tables - HIDE SHEET'!$A$1:$A$11,FALSE),3)))/'Weighting Tables - HIDE SHEET'!$G$3*10,0))","v":""},null,null,null,null,{"$f":"IF(ISBLANK(B184),\"\",ROUND(SUM(IF(J184=\"Yes\",1*INDEX('Weighting Tables - HIDE SHEET'!$A$1:$C$9,MATCH(\"Estimated Remaining Life\",'Weighting Tables - HIDE SHEET'!$A$1:$A$9,FALSE),3)),(IF(K184=\"Beyond capacity\",2,IF(K184=\"At capacity\",1,0))*INDEX('Weighting Tables - HIDE SHEET'!$A$1:$C$9,MATCH(\"Capacity\",'Weighting Tables - HIDE SHEET'!$A$1:$A$9,FALSE),3)),IF(L184=\"Yes\",1*INDEX('Weighting Tables - HIDE SHEET'!$A$1:$C$9,MATCH(\"Reliability\",'Weighting Tables - HIDE SHEET'!$A$1:$A$9,FALSE),3)),IF(M184=\"Yes\",1*INDEX('Weighting Tables - HIDE SHEET'!$A$1:$C$9,MATCH(\"Repair Schedule\",'Weighting Tables - HIDE SHEET'!$A$1:$A$9,FALSE),3)))/'Weighting Tables - HIDE SHEET'!$G$4*10,0))","v":""}]
[null,null,null,null,null,null,null,null,{"$f":"IF(B185=\"\",\"\",ROUND(SUM(IF(F185=\"Greater than 75%\",4,IF(F185=\"50-75%\",3,IF(F185=\"25-50%\",2,IF(F185=\"Less than 25%\",1,0))))*INDEX('Weighting Tables - HIDE SHEET'!$A$1:$C$11,MATCH(\"Importance\",'Weighting Tables - HIDE SHEET'!$A$1:$A$11,FALSE),3),IF(G185=\"Yes\",1*INDEX('Weighting Tables - HIDE SHEET'!$A$1:$C$11,MATCH(\"Compliance\",'Weighting Tables - HIDE SHEET'!$A$1:$A$11,FALSE),3)),IF(H185=\"Yes\",1*INDEX('Weighting Tables - HIDE SHEET'!$A$1:$C$11,MATCH(\"Public Health and Environment\",'Weighting Tables - HIDE SHEET'!$A$1:$A$11,FALSE),3)))/'Weighting Tables - HIDE SHEET'!$G$3*10,0))","v":""},null,null,null,null,{"$f":"IF(ISBLANK(B185),\"\",ROUND(SUM(IF(J185=\"Yes\",1*INDEX('Weighting Tables - HIDE SHEET'!$A$1:$C$9,MATCH(\"Estimated Remaining Life\",'Weighting Tables - HIDE SHEET'!$A$1:$A$9,FALSE),3)),(IF(K185=\"Beyond capacity\",2,IF(K185=\"At capacity\",1,0))*INDEX('Weighting Tables - HIDE SHEET'!$A$1:$C$9,MATCH(\"Capacity\",'Weighting Tables - HIDE SHEET'!$A$1:$A$9,FALSE),3)),IF(L185=\"Yes\",1*INDEX('Weighting Tables - HIDE SHEET'!$A$1:$C$9,MATCH(\"Reliability\",'Weighting Tables - HIDE SHEET'!$A$1:$A$9,FALSE),3)),IF(M185=\"Yes\",1*INDEX('Weighting Tables - HIDE SHEET'!$A$1:$C$9,MATCH(\"Repair Schedule\",'Weighting Tables - HIDE SHEET'!$A$1:$A$9,FALSE),3)))/'Weighting Tables - HIDE SHEET'!$G$4*10,0))","v":""}]
[null,null,null,null,null,null,null,null,{"$f":"IF(B186=\"\",\"\",ROUND(SUM(IF(F186=\"Greater than 75%\",4,IF(F186=\"50-75%\",3,IF(F186=\"25-50%\",2,IF(F186=\"Less than 25%\",1,0))))*INDEX('Weighting Tables - HIDE SHEET'!$A$1:$C$11,MATCH(\"Importance\",'Weighting Tables - HIDE SHEET'!$A$1:$A$11,FALSE),3),IF(G186=\"Yes\",1*INDEX('Weighting Tables - HIDE SHEET'!$A$1:$C$11,MATCH(\"Compliance\",'Weighting Tables - HIDE SHEET'!$A$1:$A$11,FALSE),3)),IF(H186=\"Yes\",1*INDEX('Weighting Tables - HIDE SHEET'!$A$1:$C$11,MATCH(\"Public Health and Environment\",'Weighting Tables - HIDE SHEET'!$A$1:$A$11,FALSE),3)))/'Weighting Tables - HIDE SHEET'!$G$3*10,0))","v":""},null,null,null,null,{"$f":"IF(ISBLANK(B186),\"\",ROUND(SUM(IF(J186=\"Yes\",1*INDEX('Weighting Tables - HIDE SHEET'!$A$1:$C$9,MATCH(\"Estimated Remaining Life\",'Weighting Tables - HIDE SHEET'!$A$1:$A$9,FALSE),3)),(IF(K186=\"Beyond capacity\",2,IF(K186=\"At capacity\",1,0))*INDEX('Weighting Tables - HIDE SHEET'!$A$1:$C$9,MATCH(\"Capacity\",'Weighting Tables - HIDE SHEET'!$A$1:$A$9,FALSE),3)),IF(L186=\"Yes\",1*INDEX('Weighting Tables - HIDE SHEET'!$A$1:$C$9,MATCH(\"Reliability\",'Weighting Tables - HIDE SHEET'!$A$1:$A$9,FALSE),3)),IF(M186=\"Yes\",1*INDEX('Weighting Tables - HIDE SHEET'!$A$1:$C$9,MATCH(\"Repair Schedule\",'Weighting Tables - HIDE SHEET'!$A$1:$A$9,FALSE),3)))/'Weighting Tables - HIDE SHEET'!$G$4*10,0))","v":""}]
[null,null,null,null,null,null,null,null,{"$f":"IF(B187=\"\",\"\",ROUND(SUM(IF(F187=\"Greater than 75%\",4,IF(F187=\"50-75%\",3,IF(F187=\"25-50%\",2,IF(F187=\"Less than 25%\",1,0))))*INDEX('Weighting Tables - HIDE SHEET'!$A$1:$C$11,MATCH(\"Importance\",'Weighting Tables - HIDE SHEET'!$A$1:$A$11,FALSE),3),IF(G187=\"Yes\",1*INDEX('Weighting Tables - HIDE SHEET'!$A$1:$C$11,MATCH(\"Compliance\",'Weighting Tables - HIDE SHEET'!$A$1:$A$11,FALSE),3)),IF(H187=\"Yes\",1*INDEX('Weighting Tables - HIDE SHEET'!$A$1:$C$11,MATCH(\"Public Health and Environment\",'Weighting Tables - HIDE SHEET'!$A$1:$A$11,FALSE),3)))/'Weighting Tables - HIDE SHEET'!$G$3*10,0))","v":""},null,null,null,null,{"$f":"IF(ISBLANK(B187),\"\",ROUND(SUM(IF(J187=\"Yes\",1*INDEX('Weighting Tables - HIDE SHEET'!$A$1:$C$9,MATCH(\"Estimated Remaining Life\",'Weighting Tables - HIDE SHEET'!$A$1:$A$9,FALSE),3)),(IF(K187=\"Beyond capacity\",2,IF(K187=\"At capacity\",1,0))*INDEX('Weighting Tables - HIDE SHEET'!$A$1:$C$9,MATCH(\"Capacity\",'Weighting Tables - HIDE SHEET'!$A$1:$A$9,FALSE),3)),IF(L187=\"Yes\",1*INDEX('Weighting Tables - HIDE SHEET'!$A$1:$C$9,MATCH(\"Reliability\",'Weighting Tables - HIDE SHEET'!$A$1:$A$9,FALSE),3)),IF(M187=\"Yes\",1*INDEX('Weighting Tables - HIDE SHEET'!$A$1:$C$9,MATCH(\"Repair Schedule\",'Weighting Tables - HIDE SHEET'!$A$1:$A$9,FALSE),3)))/'Weighting Tables - HIDE SHEET'!$G$4*10,0))","v":""}]
[null,null,null,null,null,null,null,null,{"$f":"IF(B188=\"\",\"\",ROUND(SUM(IF(F188=\"Greater than 75%\",4,IF(F188=\"50-75%\",3,IF(F188=\"25-50%\",2,IF(F188=\"Less than 25%\",1,0))))*INDEX('Weighting Tables - HIDE SHEET'!$A$1:$C$11,MATCH(\"Importance\",'Weighting Tables - HIDE SHEET'!$A$1:$A$11,FALSE),3),IF(G188=\"Yes\",1*INDEX('Weighting Tables - HIDE SHEET'!$A$1:$C$11,MATCH(\"Compliance\",'Weighting Tables - HIDE SHEET'!$A$1:$A$11,FALSE),3)),IF(H188=\"Yes\",1*INDEX('Weighting Tables - HIDE SHEET'!$A$1:$C$11,MATCH(\"Public Health and Environment\",'Weighting Tables - HIDE SHEET'!$A$1:$A$11,FALSE),3)))/'Weighting Tables - HIDE SHEET'!$G$3*10,0))","v":""},null,null,null,null,{"$f":"IF(ISBLANK(B188),\"\",ROUND(SUM(IF(J188=\"Yes\",1*INDEX('Weighting Tables - HIDE SHEET'!$A$1:$C$9,MATCH(\"Estimated Remaining Life\",'Weighting Tables - HIDE SHEET'!$A$1:$A$9,FALSE),3)),(IF(K188=\"Beyond capacity\",2,IF(K188=\"At capacity\",1,0))*INDEX('Weighting Tables - HIDE SHEET'!$A$1:$C$9,MATCH(\"Capacity\",'Weighting Tables - HIDE SHEET'!$A$1:$A$9,FALSE),3)),IF(L188=\"Yes\",1*INDEX('Weighting Tables - HIDE SHEET'!$A$1:$C$9,MATCH(\"Reliability\",'Weighting Tables - HIDE SHEET'!$A$1:$A$9,FALSE),3)),IF(M188=\"Yes\",1*INDEX('Weighting Tables - HIDE SHEET'!$A$1:$C$9,MATCH(\"Repair Schedule\",'Weighting Tables - HIDE SHEET'!$A$1:$A$9,FALSE),3)))/'Weighting Tables - HIDE SHEET'!$G$4*10,0))","v":""}]
[null,null,null,null,null,null,null,null,{"$f":"IF(B189=\"\",\"\",ROUND(SUM(IF(F189=\"Greater than 75%\",4,IF(F189=\"50-75%\",3,IF(F189=\"25-50%\",2,IF(F189=\"Less than 25%\",1,0))))*INDEX('Weighting Tables - HIDE SHEET'!$A$1:$C$11,MATCH(\"Importance\",'Weighting Tables - HIDE SHEET'!$A$1:$A$11,FALSE),3),IF(G189=\"Yes\",1*INDEX('Weighting Tables - HIDE SHEET'!$A$1:$C$11,MATCH(\"Compliance\",'Weighting Tables - HIDE SHEET'!$A$1:$A$11,FALSE),3)),IF(H189=\"Yes\",1*INDEX('Weighting Tables - HIDE SHEET'!$A$1:$C$11,MATCH(\"Public Health and Environment\",'Weighting Tables - HIDE SHEET'!$A$1:$A$11,FALSE),3)))/'Weighting Tables - HIDE SHEET'!$G$3*10,0))","v":""},null,null,null,null,{"$f":"IF(ISBLANK(B189),\"\",ROUND(SUM(IF(J189=\"Yes\",1*INDEX('Weighting Tables - HIDE SHEET'!$A$1:$C$9,MATCH(\"Estimated Remaining Life\",'Weighting Tables - HIDE SHEET'!$A$1:$A$9,FALSE),3)),(IF(K189=\"Beyond capacity\",2,IF(K189=\"At capacity\",1,0))*INDEX('Weighting Tables - HIDE SHEET'!$A$1:$C$9,MATCH(\"Capacity\",'Weighting Tables - HIDE SHEET'!$A$1:$A$9,FALSE),3)),IF(L189=\"Yes\",1*INDEX('Weighting Tables - HIDE SHEET'!$A$1:$C$9,MATCH(\"Reliability\",'Weighting Tables - HIDE SHEET'!$A$1:$A$9,FALSE),3)),IF(M189=\"Yes\",1*INDEX('Weighting Tables - HIDE SHEET'!$A$1:$C$9,MATCH(\"Repair Schedule\",'Weighting Tables - HIDE SHEET'!$A$1:$A$9,FALSE),3)))/'Weighting Tables - HIDE SHEET'!$G$4*10,0))","v":""}]
[null,null,null,null,null,null,null,null,{"$f":"IF(B190=\"\",\"\",ROUND(SUM(IF(F190=\"Greater than 75%\",4,IF(F190=\"50-75%\",3,IF(F190=\"25-50%\",2,IF(F190=\"Less than 25%\",1,0))))*INDEX('Weighting Tables - HIDE SHEET'!$A$1:$C$11,MATCH(\"Importance\",'Weighting Tables - HIDE SHEET'!$A$1:$A$11,FALSE),3),IF(G190=\"Yes\",1*INDEX('Weighting Tables - HIDE SHEET'!$A$1:$C$11,MATCH(\"Compliance\",'Weighting Tables - HIDE SHEET'!$A$1:$A$11,FALSE),3)),IF(H190=\"Yes\",1*INDEX('Weighting Tables - HIDE SHEET'!$A$1:$C$11,MATCH(\"Public Health and Environment\",'Weighting Tables - HIDE SHEET'!$A$1:$A$11,FALSE),3)))/'Weighting Tables - HIDE SHEET'!$G$3*10,0))","v":""},null,null,null,null,{"$f":"IF(ISBLANK(B190),\"\",ROUND(SUM(IF(J190=\"Yes\",1*INDEX('Weighting Tables - HIDE SHEET'!$A$1:$C$9,MATCH(\"Estimated Remaining Life\",'Weighting Tables - HIDE SHEET'!$A$1:$A$9,FALSE),3)),(IF(K190=\"Beyond capacity\",2,IF(K190=\"At capacity\",1,0))*INDEX('Weighting Tables - HIDE SHEET'!$A$1:$C$9,MATCH(\"Capacity\",'Weighting Tables - HIDE SHEET'!$A$1:$A$9,FALSE),3)),IF(L190=\"Yes\",1*INDEX('Weighting Tables - HIDE SHEET'!$A$1:$C$9,MATCH(\"Reliability\",'Weighting Tables - HIDE SHEET'!$A$1:$A$9,FALSE),3)),IF(M190=\"Yes\",1*INDEX('Weighting Tables - HIDE SHEET'!$A$1:$C$9,MATCH(\"Repair Schedule\",'Weighting Tables - HIDE SHEET'!$A$1:$A$9,FALSE),3)))/'Weighting Tables - HIDE SHEET'!$G$4*10,0))","v":""}]
[null,null,null,null,null,null,null,null,{"$f":"IF(B191=\"\",\"\",ROUND(SUM(IF(F191=\"Greater than 75%\",4,IF(F191=\"50-75%\",3,IF(F191=\"25-50%\",2,IF(F191=\"Less than 25%\",1,0))))*INDEX('Weighting Tables - HIDE SHEET'!$A$1:$C$11,MATCH(\"Importance\",'Weighting Tables - HIDE SHEET'!$A$1:$A$11,FALSE),3),IF(G191=\"Yes\",1*INDEX('Weighting Tables - HIDE SHEET'!$A$1:$C$11,MATCH(\"Compliance\",'Weighting Tables - HIDE SHEET'!$A$1:$A$11,FALSE),3)),IF(H191=\"Yes\",1*INDEX('Weighting Tables - HIDE SHEET'!$A$1:$C$11,MATCH(\"Public Health and Environment\",'Weighting Tables - HIDE SHEET'!$A$1:$A$11,FALSE),3)))/'Weighting Tables - HIDE SHEET'!$G$3*10,0))","v":""},null,null,null,null,{"$f":"IF(ISBLANK(B191),\"\",ROUND(SUM(IF(J191=\"Yes\",1*INDEX('Weighting Tables - HIDE SHEET'!$A$1:$C$9,MATCH(\"Estimated Remaining Life\",'Weighting Tables - HIDE SHEET'!$A$1:$A$9,FALSE),3)),(IF(K191=\"Beyond capacity\",2,IF(K191=\"At capacity\",1,0))*INDEX('Weighting Tables - HIDE SHEET'!$A$1:$C$9,MATCH(\"Capacity\",'Weighting Tables - HIDE SHEET'!$A$1:$A$9,FALSE),3)),IF(L191=\"Yes\",1*INDEX('Weighting Tables - HIDE SHEET'!$A$1:$C$9,MATCH(\"Reliability\",'Weighting Tables - HIDE SHEET'!$A$1:$A$9,FALSE),3)),IF(M191=\"Yes\",1*INDEX('Weighting Tables - HIDE SHEET'!$A$1:$C$9,MATCH(\"Repair Schedule\",'Weighting Tables - HIDE SHEET'!$A$1:$A$9,FALSE),3)))/'Weighting Tables - HIDE SHEET'!$G$4*10,0))","v":""}]
[null,null,null,null,null,null,null,null,{"$f":"IF(B192=\"\",\"\",ROUND(SUM(IF(F192=\"Greater than 75%\",4,IF(F192=\"50-75%\",3,IF(F192=\"25-50%\",2,IF(F192=\"Less than 25%\",1,0))))*INDEX('Weighting Tables - HIDE SHEET'!$A$1:$C$11,MATCH(\"Importance\",'Weighting Tables - HIDE SHEET'!$A$1:$A$11,FALSE),3),IF(G192=\"Yes\",1*INDEX('Weighting Tables - HIDE SHEET'!$A$1:$C$11,MATCH(\"Compliance\",'Weighting Tables - HIDE SHEET'!$A$1:$A$11,FALSE),3)),IF(H192=\"Yes\",1*INDEX('Weighting Tables - HIDE SHEET'!$A$1:$C$11,MATCH(\"Public Health and Environment\",'Weighting Tables - HIDE SHEET'!$A$1:$A$11,FALSE),3)))/'Weighting Tables - HIDE SHEET'!$G$3*10,0))","v":""},null,null,null,null,{"$f":"IF(ISBLANK(B192),\"\",ROUND(SUM(IF(J192=\"Yes\",1*INDEX('Weighting Tables - HIDE SHEET'!$A$1:$C$9,MATCH(\"Estimated Remaining Life\",'Weighting Tables - HIDE SHEET'!$A$1:$A$9,FALSE),3)),(IF(K192=\"Beyond capacity\",2,IF(K192=\"At capacity\",1,0))*INDEX('Weighting Tables - HIDE SHEET'!$A$1:$C$9,MATCH(\"Capacity\",'Weighting Tables - HIDE SHEET'!$A$1:$A$9,FALSE),3)),IF(L192=\"Yes\",1*INDEX('Weighting Tables - HIDE SHEET'!$A$1:$C$9,MATCH(\"Reliability\",'Weighting Tables - HIDE SHEET'!$A$1:$A$9,FALSE),3)),IF(M192=\"Yes\",1*INDEX('Weighting Tables - HIDE SHEET'!$A$1:$C$9,MATCH(\"Repair Schedule\",'Weighting Tables - HIDE SHEET'!$A$1:$A$9,FALSE),3)))/'Weighting Tables - HIDE SHEET'!$G$4*10,0))","v":""}]
[null,null,null,null,null,null,null,null,{"$f":"IF(B193=\"\",\"\",ROUND(SUM(IF(F193=\"Greater than 75%\",4,IF(F193=\"50-75%\",3,IF(F193=\"25-50%\",2,IF(F193=\"Less than 25%\",1,0))))*INDEX('Weighting Tables - HIDE SHEET'!$A$1:$C$11,MATCH(\"Importance\",'Weighting Tables - HIDE SHEET'!$A$1:$A$11,FALSE),3),IF(G193=\"Yes\",1*INDEX('Weighting Tables - HIDE SHEET'!$A$1:$C$11,MATCH(\"Compliance\",'Weighting Tables - HIDE SHEET'!$A$1:$A$11,FALSE),3)),IF(H193=\"Yes\",1*INDEX('Weighting Tables - HIDE SHEET'!$A$1:$C$11,MATCH(\"Public Health and Environment\",'Weighting Tables - HIDE SHEET'!$A$1:$A$11,FALSE),3)))/'Weighting Tables - HIDE SHEET'!$G$3*10,0))","v":""},null,null,null,null,{"$f":"IF(ISBLANK(B193),\"\",ROUND(SUM(IF(J193=\"Yes\",1*INDEX('Weighting Tables - HIDE SHEET'!$A$1:$C$9,MATCH(\"Estimated Remaining Life\",'Weighting Tables - HIDE SHEET'!$A$1:$A$9,FALSE),3)),(IF(K193=\"Beyond capacity\",2,IF(K193=\"At capacity\",1,0))*INDEX('Weighting Tables - HIDE SHEET'!$A$1:$C$9,MATCH(\"Capacity\",'Weighting Tables - HIDE SHEET'!$A$1:$A$9,FALSE),3)),IF(L193=\"Yes\",1*INDEX('Weighting Tables - HIDE SHEET'!$A$1:$C$9,MATCH(\"Reliability\",'Weighting Tables - HIDE SHEET'!$A$1:$A$9,FALSE),3)),IF(M193=\"Yes\",1*INDEX('Weighting Tables - HIDE SHEET'!$A$1:$C$9,MATCH(\"Repair Schedule\",'Weighting Tables - HIDE SHEET'!$A$1:$A$9,FALSE),3)))/'Weighting Tables - HIDE SHEET'!$G$4*10,0))","v":""}]
[null,null,null,null,null,null,null,null,{"$f":"IF(B194=\"\",\"\",ROUND(SUM(IF(F194=\"Greater than 75%\",4,IF(F194=\"50-75%\",3,IF(F194=\"25-50%\",2,IF(F194=\"Less than 25%\",1,0))))*INDEX('Weighting Tables - HIDE SHEET'!$A$1:$C$11,MATCH(\"Importance\",'Weighting Tables - HIDE SHEET'!$A$1:$A$11,FALSE),3),IF(G194=\"Yes\",1*INDEX('Weighting Tables - HIDE SHEET'!$A$1:$C$11,MATCH(\"Compliance\",'Weighting Tables - HIDE SHEET'!$A$1:$A$11,FALSE),3)),IF(H194=\"Yes\",1*INDEX('Weighting Tables - HIDE SHEET'!$A$1:$C$11,MATCH(\"Public Health and Environment\",'Weighting Tables - HIDE SHEET'!$A$1:$A$11,FALSE),3)))/'Weighting Tables - HIDE SHEET'!$G$3*10,0))","v":""},null,null,null,null,{"$f":"IF(ISBLANK(B194),\"\",ROUND(SUM(IF(J194=\"Yes\",1*INDEX('Weighting Tables - HIDE SHEET'!$A$1:$C$9,MATCH(\"Estimated Remaining Life\",'Weighting Tables - HIDE SHEET'!$A$1:$A$9,FALSE),3)),(IF(K194=\"Beyond capacity\",2,IF(K194=\"At capacity\",1,0))*INDEX('Weighting Tables - HIDE SHEET'!$A$1:$C$9,MATCH(\"Capacity\",'Weighting Tables - HIDE SHEET'!$A$1:$A$9,FALSE),3)),IF(L194=\"Yes\",1*INDEX('Weighting Tables - HIDE SHEET'!$A$1:$C$9,MATCH(\"Reliability\",'Weighting Tables - HIDE SHEET'!$A$1:$A$9,FALSE),3)),IF(M194=\"Yes\",1*INDEX('Weighting Tables - HIDE SHEET'!$A$1:$C$9,MATCH(\"Repair Schedule\",'Weighting Tables - HIDE SHEET'!$A$1:$A$9,FALSE),3)))/'Weighting Tables - HIDE SHEET'!$G$4*10,0))","v":""}]
[null,null,null,null,null,null,null,null,{"$f":"IF(B195=\"\",\"\",ROUND(SUM(IF(F195=\"Greater than 75%\",4,IF(F195=\"50-75%\",3,IF(F195=\"25-50%\",2,IF(F195=\"Less than 25%\",1,0))))*INDEX('Weighting Tables - HIDE SHEET'!$A$1:$C$11,MATCH(\"Importance\",'Weighting Tables - HIDE SHEET'!$A$1:$A$11,FALSE),3),IF(G195=\"Yes\",1*INDEX('Weighting Tables - HIDE SHEET'!$A$1:$C$11,MATCH(\"Compliance\",'Weighting Tables - HIDE SHEET'!$A$1:$A$11,FALSE),3)),IF(H195=\"Yes\",1*INDEX('Weighting Tables - HIDE SHEET'!$A$1:$C$11,MATCH(\"Public Health and Environment\",'Weighting Tables - HIDE SHEET'!$A$1:$A$11,FALSE),3)))/'Weighting Tables - HIDE SHEET'!$G$3*10,0))","v":""},null,null,null,null,{"$f":"IF(ISBLANK(B195),\"\",ROUND(SUM(IF(J195=\"Yes\",1*INDEX('Weighting Tables - HIDE SHEET'!$A$1:$C$9,MATCH(\"Estimated Remaining Life\",'Weighting Tables - HIDE SHEET'!$A$1:$A$9,FALSE),3)),(IF(K195=\"Beyond capacity\",2,IF(K195=\"At capacity\",1,0))*INDEX('Weighting Tables - HIDE SHEET'!$A$1:$C$9,MATCH(\"Capacity\",'Weighting Tables - HIDE SHEET'!$A$1:$A$9,FALSE),3)),IF(L195=\"Yes\",1*INDEX('Weighting Tables - HIDE SHEET'!$A$1:$C$9,MATCH(\"Reliability\",'Weighting Tables - HIDE SHEET'!$A$1:$A$9,FALSE),3)),IF(M195=\"Yes\",1*INDEX('Weighting Tables - HIDE SHEET'!$A$1:$C$9,MATCH(\"Repair Schedule\",'Weighting Tables - HIDE SHEET'!$A$1:$A$9,FALSE),3)))/'Weighting Tables - HIDE SHEET'!$G$4*10,0))","v":""}]
[null,null,null,null,null,null,null,null,{"$f":"IF(B196=\"\",\"\",ROUND(SUM(IF(F196=\"Greater than 75%\",4,IF(F196=\"50-75%\",3,IF(F196=\"25-50%\",2,IF(F196=\"Less than 25%\",1,0))))*INDEX('Weighting Tables - HIDE SHEET'!$A$1:$C$11,MATCH(\"Importance\",'Weighting Tables - HIDE SHEET'!$A$1:$A$11,FALSE),3),IF(G196=\"Yes\",1*INDEX('Weighting Tables - HIDE SHEET'!$A$1:$C$11,MATCH(\"Compliance\",'Weighting Tables - HIDE SHEET'!$A$1:$A$11,FALSE),3)),IF(H196=\"Yes\",1*INDEX('Weighting Tables - HIDE SHEET'!$A$1:$C$11,MATCH(\"Public Health and Environment\",'Weighting Tables - HIDE SHEET'!$A$1:$A$11,FALSE),3)))/'Weighting Tables - HIDE SHEET'!$G$3*10,0))","v":""},null,null,null,null,{"$f":"IF(ISBLANK(B196),\"\",ROUND(SUM(IF(J196=\"Yes\",1*INDEX('Weighting Tables - HIDE SHEET'!$A$1:$C$9,MATCH(\"Estimated Remaining Life\",'Weighting Tables - HIDE SHEET'!$A$1:$A$9,FALSE),3)),(IF(K196=\"Beyond capacity\",2,IF(K196=\"At capacity\",1,0))*INDEX('Weighting Tables - HIDE SHEET'!$A$1:$C$9,MATCH(\"Capacity\",'Weighting Tables - HIDE SHEET'!$A$1:$A$9,FALSE),3)),IF(L196=\"Yes\",1*INDEX('Weighting Tables - HIDE SHEET'!$A$1:$C$9,MATCH(\"Reliability\",'Weighting Tables - HIDE SHEET'!$A$1:$A$9,FALSE),3)),IF(M196=\"Yes\",1*INDEX('Weighting Tables - HIDE SHEET'!$A$1:$C$9,MATCH(\"Repair Schedule\",'Weighting Tables - HIDE SHEET'!$A$1:$A$9,FALSE),3)))/'Weighting Tables - HIDE SHEET'!$G$4*10,0))","v":""}]
[null,null,null,null,null,null,null,null,{"$f":"IF(B197=\"\",\"\",ROUND(SUM(IF(F197=\"Greater than 75%\",4,IF(F197=\"50-75%\",3,IF(F197=\"25-50%\",2,IF(F197=\"Less than 25%\",1,0))))*INDEX('Weighting Tables - HIDE SHEET'!$A$1:$C$11,MATCH(\"Importance\",'Weighting Tables - HIDE SHEET'!$A$1:$A$11,FALSE),3),IF(G197=\"Yes\",1*INDEX('Weighting Tables - HIDE SHEET'!$A$1:$C$11,MATCH(\"Compliance\",'Weighting Tables - HIDE SHEET'!$A$1:$A$11,FALSE),3)),IF(H197=\"Yes\",1*INDEX('Weighting Tables - HIDE SHEET'!$A$1:$C$11,MATCH(\"Public Health and Environment\",'Weighting Tables - HIDE SHEET'!$A$1:$A$11,FALSE),3)))/'Weighting Tables - HIDE SHEET'!$G$3*10,0))","v":""},null,null,null,null,{"$f":"IF(ISBLANK(B197),\"\",ROUND(SUM(IF(J197=\"Yes\",1*INDEX('Weighting Tables - HIDE SHEET'!$A$1:$C$9,MATCH(\"Estimated Remaining Life\",'Weighting Tables - HIDE SHEET'!$A$1:$A$9,FALSE),3)),(IF(K197=\"Beyond capacity\",2,IF(K197=\"At capacity\",1,0))*INDEX('Weighting Tables - HIDE SHEET'!$A$1:$C$9,MATCH(\"Capacity\",'Weighting Tables - HIDE SHEET'!$A$1:$A$9,FALSE),3)),IF(L197=\"Yes\",1*INDEX('Weighting Tables - HIDE SHEET'!$A$1:$C$9,MATCH(\"Reliability\",'Weighting Tables - HIDE SHEET'!$A$1:$A$9,FALSE),3)),IF(M197=\"Yes\",1*INDEX('Weighting Tables - HIDE SHEET'!$A$1:$C$9,MATCH(\"Repair Schedule\",'Weighting Tables - HIDE SHEET'!$A$1:$A$9,FALSE),3)))/'Weighting Tables - HIDE SHEET'!$G$4*10,0))","v":""}]
[null,null,null,null,null,null,null,null,{"$f":"IF(B198=\"\",\"\",ROUND(SUM(IF(F198=\"Greater than 75%\",4,IF(F198=\"50-75%\",3,IF(F198=\"25-50%\",2,IF(F198=\"Less than 25%\",1,0))))*INDEX('Weighting Tables - HIDE SHEET'!$A$1:$C$11,MATCH(\"Importance\",'Weighting Tables - HIDE SHEET'!$A$1:$A$11,FALSE),3),IF(G198=\"Yes\",1*INDEX('Weighting Tables - HIDE SHEET'!$A$1:$C$11,MATCH(\"Compliance\",'Weighting Tables - HIDE SHEET'!$A$1:$A$11,FALSE),3)),IF(H198=\"Yes\",1*INDEX('Weighting Tables - HIDE SHEET'!$A$1:$C$11,MATCH(\"Public Health and Environment\",'Weighting Tables - HIDE SHEET'!$A$1:$A$11,FALSE),3)))/'Weighting Tables - HIDE SHEET'!$G$3*10,0))","v":""},null,null,null,null,{"$f":"IF(ISBLANK(B198),\"\",ROUND(SUM(IF(J198=\"Yes\",1*INDEX('Weighting Tables - HIDE SHEET'!$A$1:$C$9,MATCH(\"Estimated Remaining Life\",'Weighting Tables - HIDE SHEET'!$A$1:$A$9,FALSE),3)),(IF(K198=\"Beyond capacity\",2,IF(K198=\"At capacity\",1,0))*INDEX('Weighting Tables - HIDE SHEET'!$A$1:$C$9,MATCH(\"Capacity\",'Weighting Tables - HIDE SHEET'!$A$1:$A$9,FALSE),3)),IF(L198=\"Yes\",1*INDEX('Weighting Tables - HIDE SHEET'!$A$1:$C$9,MATCH(\"Reliability\",'Weighting Tables - HIDE SHEET'!$A$1:$A$9,FALSE),3)),IF(M198=\"Yes\",1*INDEX('Weighting Tables - HIDE SHEET'!$A$1:$C$9,MATCH(\"Repair Schedule\",'Weighting Tables - HIDE SHEET'!$A$1:$A$9,FALSE),3)))/'Weighting Tables - HIDE SHEET'!$G$4*10,0))","v":""}]
[null,null,null,null,null,null,null,null,{"$f":"IF(B199=\"\",\"\",ROUND(SUM(IF(F199=\"Greater than 75%\",4,IF(F199=\"50-75%\",3,IF(F199=\"25-50%\",2,IF(F199=\"Less than 25%\",1,0))))*INDEX('Weighting Tables - HIDE SHEET'!$A$1:$C$11,MATCH(\"Importance\",'Weighting Tables - HIDE SHEET'!$A$1:$A$11,FALSE),3),IF(G199=\"Yes\",1*INDEX('Weighting Tables - HIDE SHEET'!$A$1:$C$11,MATCH(\"Compliance\",'Weighting Tables - HIDE SHEET'!$A$1:$A$11,FALSE),3)),IF(H199=\"Yes\",1*INDEX('Weighting Tables - HIDE SHEET'!$A$1:$C$11,MATCH(\"Public Health and Environment\",'Weighting Tables - HIDE SHEET'!$A$1:$A$11,FALSE),3)))/'Weighting Tables - HIDE SHEET'!$G$3*10,0))","v":""},null,null,null,null,{"$f":"IF(ISBLANK(B199),\"\",ROUND(SUM(IF(J199=\"Yes\",1*INDEX('Weighting Tables - HIDE SHEET'!$A$1:$C$9,MATCH(\"Estimated Remaining Life\",'Weighting Tables - HIDE SHEET'!$A$1:$A$9,FALSE),3)),(IF(K199=\"Beyond capacity\",2,IF(K199=\"At capacity\",1,0))*INDEX('Weighting Tables - HIDE SHEET'!$A$1:$C$9,MATCH(\"Capacity\",'Weighting Tables - HIDE SHEET'!$A$1:$A$9,FALSE),3)),IF(L199=\"Yes\",1*INDEX('Weighting Tables - HIDE SHEET'!$A$1:$C$9,MATCH(\"Reliability\",'Weighting Tables - HIDE SHEET'!$A$1:$A$9,FALSE),3)),IF(M199=\"Yes\",1*INDEX('Weighting Tables - HIDE SHEET'!$A$1:$C$9,MATCH(\"Repair Schedule\",'Weighting Tables - HIDE SHEET'!$A$1:$A$9,FALSE),3)))/'Weighting Tables - HIDE SHEET'!$G$4*10,0))","v":""}]
[null,null,null,null,null,null,null,null,{"$f":"IF(B200=\"\",\"\",ROUND(SUM(IF(F200=\"Greater than 75%\",4,IF(F200=\"50-75%\",3,IF(F200=\"25-50%\",2,IF(F200=\"Less than 25%\",1,0))))*INDEX('Weighting Tables - HIDE SHEET'!$A$1:$C$11,MATCH(\"Importance\",'Weighting Tables - HIDE SHEET'!$A$1:$A$11,FALSE),3),IF(G200=\"Yes\",1*INDEX('Weighting Tables - HIDE SHEET'!$A$1:$C$11,MATCH(\"Compliance\",'Weighting Tables - HIDE SHEET'!$A$1:$A$11,FALSE),3)),IF(H200=\"Yes\",1*INDEX('Weighting Tables - HIDE SHEET'!$A$1:$C$11,MATCH(\"Public Health and Environment\",'Weighting Tables - HIDE SHEET'!$A$1:$A$11,FALSE),3)))/'Weighting Tables - HIDE SHEET'!$G$3*10,0))","v":""},null,null,null,null,{"$f":"IF(ISBLANK(B200),\"\",ROUND(SUM(IF(J200=\"Yes\",1*INDEX('Weighting Tables - HIDE SHEET'!$A$1:$C$9,MATCH(\"Estimated Remaining Life\",'Weighting Tables - HIDE SHEET'!$A$1:$A$9,FALSE),3)),(IF(K200=\"Beyond capacity\",2,IF(K200=\"At capacity\",1,0))*INDEX('Weighting Tables - HIDE SHEET'!$A$1:$C$9,MATCH(\"Capacity\",'Weighting Tables - HIDE SHEET'!$A$1:$A$9,FALSE),3)),IF(L200=\"Yes\",1*INDEX('Weighting Tables - HIDE SHEET'!$A$1:$C$9,MATCH(\"Reliability\",'Weighting Tables - HIDE SHEET'!$A$1:$A$9,FALSE),3)),IF(M200=\"Yes\",1*INDEX('Weighting Tables - HIDE SHEET'!$A$1:$C$9,MATCH(\"Repair Schedule\",'Weighting Tables - HIDE SHEET'!$A$1:$A$9,FALSE),3)))/'Weighting Tables - HIDE SHEET'!$G$4*10,0))","v":""}]

{"sheet":"2c_Critical Assets","index":8,"n_rows":200,"n_cols":10,"rows_kept":200,"cut":false,"hidden":false,"merged":[[0,1,5,6]]}
[null,"INSTRUCTIONS:\nNo selections are required for this sheet. Users should review information here to ensure it is correct. \nCells colored Yellow are values from previous sheets and cannot be edited.\nCells colored Green are calculated output values. \nThe final outputs of this tool are the Criticality Score, Combined Score, and Rank Columns.",null,null,null,null,null,"Additional resources:"]
[null,null,null,null,null,null,null,{"$f":"HYPERLINK(\"http://www.wvdhhr.org/oehs/eed/i&cd/Asset_management.asp\", \"Asset Management for Your Water System\")","v":"Asset Management for Your Water System"}]
[null,null,null,null,null,null,null,{"$f":"HYPERLINK(\"http://www.wvdhhr.org/oehs/eed/i&cd/Documents/Asset%20Management%20Documents/CUPSS_Guidance_Website_06_03_16/04%20-%20AM_Conditions_Assessment_Protocol.pdf\", \"Developing Asset Management Plans Using CUPSS\")","v":"Developing Asset Management Plans Using CUPSS"}]
[null,null,null,null,null,null,null,{"$f":"HYPERLINK(\"https://www.env.nm.gov/dwb/assistance/documents/AssetManagementGuide.pdf\", \"Asset Management: A Guide for Water and Wastewater Systems\")","v":"Asset Management: A Guide for Water and Wastewater Systems"}]
[null,null,null,null,null,null,null,{"$f":"HYPERLINK(\"http://southwestefc.unm.edu/amkan/main.php?chapterId=Front&page=1\", \"Asset Management Manual: A.M. Kan Work! - Section 3 and Appendix A\")","v":"Asset Management Manual: A.M. Kan Work! - Section 3 and Appendix A"}]
[]
["ID","Asset Category and Type","Asset Description","CoF Score","PoF Score","Redundancy","Condition Assessment Score","Criticality Score\n(higher number indicates more critical)","Combined Score\n(higher number indicates more critical)","Rank \n(ordered from highest priority asset [highest score] to lower priority assets)"]
[null,null,null,null,null,null,null,{"$f":"IF(ISBLANK(B8),\"\", IF(F8=\"Yes\",(D8*E8)*0.75,D8*E8))","v":""},{"$f":"IF(ISBLANK(B8),\"\",G8+H8)","v":""},{"$f":"IF(ISBLANK(B8),\"\",RANK((I8),$I$8:$I$200))","v":""}]
[null,null,null,null,null,null,null,{"$f":"IF(ISBLANK(B9),\"\", IF(F9=\"Yes\",(D9*E9)*0.75,D9*E9))","v":""},{"$f":"IF(ISBLANK(B9),\"\",G9+H9)","v":""},{"$f":"IF(ISBLANK(B9),\"\",RANK((I9),$I$8:$I$200))","v":""}]
[null,null,null,null,null,null,null,"","",""]
[null,null,null,null,null,null,null,"","",""]
[null,null,null,null,null,null,null,"","",""]
[null,null,null,null,null,null,null,"","",""]
[null,null,null,null,null,null,null,"","",""]
[null,null,null,null,null,null,null,"","",""]
[null,null,null,null,null,null,null,"","",""]
[null,null,null,null,null,null,null,"","",""]
[null,null,null,null,null,null,null,"","",""]
[null,null,null,null,null,null,null,"","",""]
[null,null,null,null,null,null,null,"","",""]
[null,null,null,null,null,null,null,"","",""]
[null,null,null,null,null,null,null,"","",""]
[null,null,null,null,null,null,null,"","",""]
[null,null,null,null,null,null,null,"","",""]
[null,null,null,null,null,null,null,"","",""]
[null,null,null,null,null,null,null,"","",""]
[null,null,null,null,null,null,null,"","",""]
[null,null,null,null,null,null,null,"","",""]
[null,null,null,null,null,null,null,"","",""]
[null,null,null,null,null,null,null,"","",""]
[null,null,null,null,null,null,null,"","",""]
[null,null,null,null,null,null,null,"","",""]
[null,null,null,null,null,null,null,"","",""]
[null,null,null,null,null,null,null,"","",""]
[null,null,null,null,null,null,null,"","",""]
[null,null,null,null,null,null,null,"","",""]
[null,null,null,null,null,null,null,"","",""]
[null,null,null,null,null,null,null,"","",""]
[null,null,null,null,null,null,null,"","",""]
[null,null,null,null,null,null,null,"","",""]
[null,null,null,null,null,null,null,"","",""]
[null,null,null,null,null,null,null,"","",""]
[null,null,null,null,null,null,null,"","",""]
[null,null,null,null,null,null,null,"","",""]
[null,null,null,null,null,null,null,"","",""]
[null,null,null,null,null,null,null,"","",""]
[null,null,null,null,null,null,null,"","",""]
[null,null,null,null,null,null,null,"","",""]
[null,null,null,null,null,null,null,"","",""]
[null,null,null,null,null,null,null,"","",""]
[null,null,null,null,null,null,null,"","",""]
[null,null,null,null,null,null,null,"","",""]
[null,null,null,null,null,null,null,"","",""]
[null,null,null,null,null,null,null,"","",""]
[null,null,null,null,null,null,null,"","",""]
[null,null,null,null,null,null,null,"","",""]
[null,null,null,null,null,null,null,"","",""]
[null,null,null,null,null,null,null,"","",""]
[null,null,null,null,null,null,null,"","",""]
[null,null,null,null,null,null,null,"","",""]
[null,null,null,null,null,null,null,"","",""]
[null,null,null,null,null,null,null,"","",""]
[null,null,null,null,null,null,null,"","",""]
[null,null,null,null,null,null,null,"","",""]
[null,null,null,null,null,null,null,"","",""]
[null,null,null,null,null,null,null,"","",""]
[null,null,null,null,null,null,null,"","",""]
[null,null,null,null,null,null,null,"","",""]
[null,null,null,null,null,null,null,"","",""]
[null,null,null,null,null,null,null,"","",""]
[null,null,null,null,null,null,null,"","",""]
[null,null,null,null,null,null,null,"","",""]
[null,null,null,null,null,null,null,{"$f":"IF(ISBLANK(B73),\"\", IF(F73=\"Yes\",(D73*E73)*0.75,D73*E73))","v":""},{"$f":"IF(ISBLANK(B73),\"\",G73+H73)","v":""},{"$f":"IF(ISBLANK(B73),\"\",RANK((I73),$I$8:$I$200))","v":""}]
[null,null,null,null,null,null,null,"","",""]
[null,null,null,null,null,null,null,"","",""]
[null,null,null,null,null,null,null,"","",""]
[null,null,null,null,null,null,null,"","",""]
[null,null,null,null,null,null,null,"","",""]
[null,null,null,null,null,null,null,"","",""]
[null,null,null,null,null,null,null,"","",""]
[null,null,null,null,null,null,null,"","",""]
[null,null,null,null,null,null,null,"","",""]
[null,null,null,null,null,null,null,"","",""]
[null,null,null,null,null,null,null,"","",""]
[null,null,null,null,null,null,null,"","",""]
[null,null,null,null,null,null,null,"","",""]
[null,null,null,null,null,null,null,"","",""]
[null,null,null,null,null,null,null,"","",""]
[null,null,null,null,null,null,null,"","",""]
[null,null,null,null,null,null,null,"","",""]
[null,null,null,null,null,null,null,"","",""]
[null,null,null,null,null,null,null,"","",""]
[null,null,null,null,null,null,null,"","",""]
[null,null,null,null,null,null,null,"","",""]
[null,null,null,null,null,null,null,"","",""]
[null,null,null,null,null,null,null,"","",""]
[null,null,null,null,null,null,null,"","",""]
[null,null,null,null,null,null,null,"","",""]
[null,null,null,null,null,null,null,"","",""]
[null,null,null,null,null,null,null,"","",""]
[null,null,null,null,null,null,null,"","",""]
[null,null,null,null,null,null,null,"","",""]
[null,null,null,null,null,null,null,"","",""]
[null,null,null,null,null,null,null,"","",""]
[null,null,null,null,null,null,null,"","",""]
[null,null,null,null,null,null,null,"","",""]
[null,null,null,null,null,null,null,"","",""]
[null,null,null,null,null,null,null,"","",""]
[null,null,null,null,null,null,null,"","",""]
[null,null,null,null,null,null,null,"","",""]
[null,null,null,null,null,null,null,"","",""]
[null,null,null,null,null,null,null,"","",""]
[null,null,null,null,null,null,null,"","",""]
[null,null,null,null,null,null,null,"","",""]
[null,null,null,null,null,null,null,"","",""]
[null,null,null,null,null,null,null,"","",""]
[null,null,null,null,null,null,null,"","",""]
[null,null,null,null,null,null,null,"","",""]
[null,null,null,null,null,null,null,"","",""]
[null,null,null,null,null,null,null,"","",""]
[null,null,null,null,null,null,null,"","",""]
[null,null,null,null,null,null,null,"","",""]
[null,null,null,null,null,null,null,"","",""]
[null,null,null,null,null,null,null,"","",""]
[null,null,null,null,null,null,null,"","",""]
[null,null,null,null,null,null,null,"","",""]
[null,null,null,null,null,null,null,"","",""]
[null,null,null,null,null,null,null,"","",""]
[null,null,null,null,null,null,null,"","",""]
[null,null,null,null,null,null,null,"","",""]
[null,null,null,null,null,null,null,"","",""]
[null,null,null,null,null,null,null,"","",""]
[null,null,null,null,null,null,null,"","",""]
[null,null,null,null,null,null,null,"","",""]
[null,null,null,null,null,null,null,"","",""]
[null,null,null,null,null,null,null,"","",""]
[null,null,null,null,null,null,null,{"$f":"IF(ISBLANK(B137),\"\", IF(F137=\"Yes\",(D137*E137)*0.75,D137*E137))","v":""},{"$f":"IF(ISBLANK(B137),\"\",G137+H137)","v":""},{"$f":"IF(ISBLANK(B137),\"\",RANK((I137),$I$8:$I$200))","v":""}]
[null,null,null,null,null,null,null,"","",""]
[null,null,null,null,null,null,null,"","",""]
[null,null,null,null,null,null,null,"","",""]
[null,null,null,null,null,null,null,"","",""]
[null,null,null,null,null,null,null,"","",""]
[null,null,null,null,null,null,null,"","",""]
[null,null,null,null,null,null,null,"","",""]
[null,null,null,null,null,null,null,"","",""]
[null,null,null,null,null,null,null,"","",""]
[null,null,null,null,null,null,null,"","",""]
[null,null,null,null,null,null,null,"","",""]
[null,null,null,null,null,null,null,"","",""]
[null,null,null,null,null,null,null,"","",""]
[null,null,null,null,null,null,null,"","",""]
[null,null,null,null,null,null,null,"","",""]
[null,null,null,null,null,null,null,"","",""]
[null,null,null,null,null,null,null,"","",""]
[null,null,null,null,null,null,null,"","",""]
[null,null,null,null,null,null,null,"","",""]
[null,null,null,null,null,null,null,"","",""]
[null,null,null,null,null,null,null,"","",""]
[null,null,null,null,null,null,null,"","",""]
[null,null,null,null,null,null,null,"","",""]
[null,null,null,null,null,null,null,"","",""]
[null,null,null,null,null,null,null,"","",""]
[null,null,null,null,null,null,null,"","",""]
[null,null,null,null,null,null,null,"","",""]
[null,null,null,null,null,null,null,"","",""]
[null,null,null,null,null,null,null,"","",""]
[null,null,null,null,null,null,null,"","",""]
[null,null,null,null,null,null,null,"","",""]
[null,null,null,null,null,null,null,"","",""]
[null,null,null,null,null,null,null,"","",""]
[null,null,null,null,null,null,null,"","",""]
[null,null,null,null,null,null,null,"","",""]
[null,null,null,null,null,null,null,"","",""]
[null,null,null,null,null,null,null,"","",""]
[null,null,null,null,null,null,null,"","",""]
[null,null,null,null,null,null,null,"","",""]
[null,null,null,null,null,null,null,"","",""]
[null,null,null,null,null,null,null,"","",""]
[null,null,null,null,null,null,null,"","",""]
[null,null,null,null,null,null,null,"","",""]
[null,null,null,null,null,null,null,"","",""]
[null,null,null,null,null,null,null,"","",""]
[null,null,null,null,null,null,null,"","",""]
[null,null,null,null,null,null,null,"","",""]
[null,null,null,null,null,null,null,"","",""]
[null,null,null,null,null,null,null,"","",""]
[null,null,null,null,null,null,null,"","",""]
[null,null,null,null,null,null,null,"","",""]
[null,null,null,null,null,null,null,"","",""]
[null,null,null,null,null,null,null,"","",""]
[null,null,null,null,null,null,null,"","",""]
[null,null,null,null,null,null,null,"","",""]
[null,null,null,null,null,null,null,"","",""]
[null,null,null,null,null,null,null,"","",""]
[null,null,null,null,null,null,null,"","",""]
[null,null,null,null,null,null,null,"","",""]
[null,null,null,null,null,null,null,"","",""]
[null,null,null,null,null,null,null,"","",""]
[null,null,null,null,null,null,null,"","",""]
[null,null,null,null,null,null,null,"","",""]

{"sheet":"3a_Product Lists - USER SHEET","index":9,"n_rows":9,"n_cols":12,"rows_kept":9,"cut":false,"hidden":false,"merged":[]}
["Pump Product","Contact Info","Hydrant Product","Contact Info","Meter Product","Contact Info","Pipe Product","Contact Info","Source Product","Contact Info"]
[]
[]
[]
[]
[]
[]
[]
["Storage Product","Contact Info","Other Product","Contact Info","Treatment Product","Contact Info","Valve Product","Contact Info","Control System Product","Contact Info","Analytical Equipment Product","Contact Info"]

{"sheet":"3b_Additional Resources","index":10,"n_rows":10,"n_cols":3,"rows_kept":10,"cut":false,"hidden":false,"merged":[]}
["Resource","Organization","Description"]
[{"$f":"HYPERLINK(\"https://www.env.nm.gov/dwb/assistance/documents/AssetManagementGuide.pdf\", \"Asset Management: A Guide for Water and Wastewater Systems\")","v":"Asset Management: A Guide for Water and Wastewater Systems"},"Southwest Environmental Finance Center (formerly the New Mexico Environmental Finance Center)","Guidebook outlining the purpose and core steps of asset management."]
[{"$f":"HYPERLINK(\"https://nepis.epa.gov/Exe/ZyPDF.cgi?Dockey=2000261D.txt\", \"Asset Management: A Handbook for Small Water Systems\")","v":"Asset Management: A Handbook for Small Water Systems"},"U.S. Environmental Protection Agency","Step-wise introduction to the principles of asset management, for small community water systems"]
[{"$f":"HYPERLINK(\"http://southwestefc.unm.edu/amkan/main.php?chapterId=Front&page=1\", \"Asset Management Manual: A.M. Kan Work!\")","v":"Asset Management Manual: A.M. Kan Work!"},"Southwest Environmental Finance Center ","Comprehensive asset management and energy efficiency manual for water and wastewater systems, including video clips from water system and community representatives"]
[{"$f":"HYPERLINK(\"http://simple.werf.org/Books/Contents/Asset-Management-for-Small-Utilities\", \"Asset Management for Small Utilities\")","v":"Asset Management for Small Utilities"},"Water Environment Research Foundation","Guidelines and worksheets for asset inventories, priority ranking, and asset management plan implementation"]
[{"$f":"HYPERLINK(\"http://www.wvdhhr.org/oehs/eed/i&cd/Asset_management.asp\", \"Asset Management for Your Water System\")","v":"Asset Management for Your Water System"},"West Virginia Department of Health and Human Resources","Guidance documents, worksheet tools, and supplemental resources for developing an asset management plan"]
[{"$f":"HYPERLINK(\"http://simple.werf.org/simple/media/Condition/refs/WERFSAMConditionAssessmentProtocols.pdf\", \"Condition Assessment Strategies and Protocols for Water and Wastewater Utility Assets - Appendix C\")","v":"Condition Assessment Strategies and Protocols for Water and Wastewater Utility Assets - Appendix C"},"Water Environment Research Foundation","Guidance on conducting condition assessments for water and wastewater assets"]
[{"$f":"HYPERLINK(\"https://www.epa.gov/sustainable-water-infrastructure/asset-management-workshops-training-slides\", \"Fundamentals of Asset Management\")","v":"Fundamentals of Asset Management"},"U.S. Environmental Protection Agency","Ten-module, slide-based training on developing an asset management program"]
[{"$f":"HYPERLINK(\"http://simple.werf.org/Pages/Weblinks\", \"Sustainable Infrastructure Management Program Learning Environment\")","v":"Sustainable Infrastructure Management Program Learning Environment"},"Water Environment Research Foundation","On-line learning environment and supplemental resources for developing asset management plans "]
[{"$f":"+HYPERLINK(\"https://www.epa.gov/sites/production/files/2015-04/documents/epa816k03002.pdf\", \"Taking Stock of your Small Water System: A Simple Asset Inventory for Very Small Water Systems\")","v":"Taking Stock of your Small Water System: A Simple Asset Inventory for Very Small Water Systems"},"U.S. Environmental Protection Agency","Guide for small water systems on developing a simple asset inventory"]

{"sheet":"3b_Condition Rating Guidance","index":11,"n_rows":11,"n_cols":3,"rows_kept":11,"cut":false,"hidden":false,"merged":[]}
["Asset Category","Condition Ratings Guidance","Notes"]
["Valve ","Motor Hours: Excellent = <1,000 hrs; Good = 10,000-50,00 hrs; Fair = 50,000-100,000 hrs; Poor = 100,000-200,000 hrs; Very Poor = >200,000 hrs\n\nVibrations Detected: Excellent = No unusual vibrations; Good = Minor; Fair = Moderate; Poor = Considerable; Very Poor = Major\n\nTemperature: Excellent = No unusual temp;  Good = Minimal heat; Fair = Heat detected by hand; Poor = Heat uncomfortable to touch; Very Poor = Too hot to touch \n\nNoise: Excellent = No unusual noise; Good = Slight whine/rattle; Fair = Moderate whine/rattle heard over pump noise; Poor = Loud whine/rattle; Very Poor = Disturbingly loud \n\nLeaking Seals: Excellent = No visible signs; Good = Minor leaking seals; Fair = Moderate leaking seals; Poor = Considerate leaking seals; Very Poor = Major leaking seals ","Assessment of temperature and leaking seals will not be possible for submersible pumps."]
["Hydrant","Operation: Excellent = Fully operational; Good = Slight resistance when opening/closing; Fair = Moderate resistance in stem when opening/closing; Poor = Considerable resistance in stem when opening/closing; Very Poor = Unable to open/close\n\nMissing/defective Items: Excellent = None; Good = Rounded operating nut; Fair = Missing cap and/or rounded operating nut; Poor = Defective items, missing items, rounded nuts; Very Poor = Missing parts, misaligned nozzles, rounded operating nuts, considerable deficiency\n\nPaint Condition: Excellent = Great condition; Good = Good condition; Fair = Moderate condition, chips in paint; Poor = Paint chipped, dulled, thin in areas; Very Poor = Poor condition, chipped or faded paint"]
["Meter","Accuracy: Excellent = No slowdown detected; Good = Slight decrease in average demand; Fair = Noticeable decrease in average demand; Poor = Considerable decrease in average demand; Very Poor = Meter register does not move between montly readings\n\nLeaks: Excellent = No visible water in meter pit or in meter; Good = Slight condensation on glass; Fair = Moderate water in meter pit and/or water behind glass; Poor = Considerable water in meter pit and/or water behind glass; Very Poor = Major water in meter pit and/or water behind glass, visibly leaking from meter setter.\n\nYears Since Last Calibration (Flow Meters): Excellent = <1 year; Good = 1-2 years; Fair = 2-3 years; Poor = 3-4 years; Very Poor = >4 years\n\nUnplanned Outages: Excellent = 0/year; Good = 1/year; Fair = 2/year; Poor = 3/year; Very Poor = More than 3/year"]
["Pipe","Number of Leaks or Breaks in Past 5 Years: Excellent = 0 leaks or breaks per mile; Good = 1 leak or break per mile per year; Fair = 2 leaks or breaks per mile per year; Poor = 3-4 leaks or breaks per mile per year; Very Poor = >4 leaks or breaks per mile per year\n\nCCTV Inspection: Excellent = Clean pipe walls, no illegal connections, no visible leaks. Good = Minor tuburculation or buildup on pipe walls, no illegal connections, no visible leaks; Fair = Minor tuburculation or build up on pipe walls, no illegal connections, some minor leaks; Poor = Moderate tuburculation or build up on pipe walls, no illegal connections, minor to substantial leaks visible.  Very Poor = Any of the following - excessive tuburculation or build up on pipe walls substantially restricting flow, one or more illegal connection, substantial leaks, one or more breaks in pipe."]
["Source","Surface Water Intake Screen: Excellent = Screen and piping in good shape; Good = Minor visible deterioration of screen and/or pipe; Fair = Moderate visible deterioration of screen and/or pipe; Poor = Considerable deterioration of screen and/or pipe; Very Poor = Screen and/or pipe are severaly damaged/deteriorated/missing\n\nWell: Excellent = No apparent signs of deterioration of casing or well head, no reduction in static water level or well production; Good = Minor deterioration of casing, well head, or capacity; Fair = Moderate deterioration of casing, well head, or production; Fair = Considerable deterioration of casing, well head or production; Very Poor = Well is no longer producing adequate supply and/or has experienced substantial deterioration of well casing or well head.\n\nRaw Water Dike/Reservoir Walls: Excellent = Stable slope, no unwanted vegetation; Good = Some erosion of walls, some unwanted vegetation; Fair = Moderate deterioration of walls and/or unwanted vegetation; Poor = Considerable deterioration of walls and/or unwanted vegetation; Very Poor = Substantial deterioration of walls and/or excessive unwanted vegetation.\n\nRaw Water Reservoir Sedimentation: Excellent = No build up of sedimentation. Good = Minor sedimentation at bottom of reservoir; Fair = Moderate sedimentation but not yet affecting storage capacity; Poor = Considerable sedimentation affecting storage capacity; Very Poor = Substantial sedimentation having impact on storage capacity and carry over to intake/discharge. "]
["Storage","Storage Capacity: Excellent = At least 20% growth available; Good = At least 15% growth available; Fair = At least 10% growth available; Poor = At least 5% growth available; Very Poor = 0% growth available\n\nExterior Paint/Tank Exterior: Excellent = No chipping or visible thin spots; Good = Minor areas of chipping, rust or thin areas; Fair = Moderate chipping, rust, cracks or thin areas; Poor = Considerable chipping, rust, cracks, or thin areas; Very Poor = Major cracks, thin areas, or visible leaks\n\nHydropneumatic/Captive Air Tank: Excellent = No visible deterioration, proper pump run times; Good = Minor visible deterioration, occasional pump run issues; Fair = Moderate deterioration of tank and/or piping and occasional pump run issues; Poor = Considerable visible deterioration of tank and/or piping, no longer achieving recommend pump run times; Very Poor = Major visible deterioration of tank, leaking of tank and/or piping, excessive pump run times an on-going problem.\n\nFencing and Gate: Excellent = The site is secure; Good = Security devices have minor damage but no unauthorized personnel can enter; Fair = Moderate damage allowing unauthorized persons to enter; Poor = Considerable damage to security devices; Very Poor = No security/site exposed to threat\n\nEarthen Basin Dike/Reservoir Walls: Excellent = Stable slope, no unwanted vegetation; Good = Some erosion of walls, some unwanted vegetation; Fair = Moderate deterioration of walls and/or unwanted vegetation; Poor = Considerable deterioration of walls and/or unwanted vegetation; Very Poor = Substantial deterioration of walls and/or excessive unwanted vegetation.\n\nEarthen Basin Sedimentation: Excellent = No build up of sedimentation. Good = Minor sedimentation at bottom of reservoir; Fair = Moderate sedimentation but not yet affecting storage capacity; Poor = Considerable sedimentation affecting storage capacity; Very Poor = Substantial sedimentation having impact on storage capacity and carry over to intake/discharge. \n\nOther things to consider: Leaking of tank, concrete ringwall condition, condition of vents/hatch/overflow "]
["Other","Building: Excellent = No deterioratoin of siding, roof, foundation, doors and windows; Good = Some deterioration; Fair = Moderate deterioration; Poor = Considerable deterioration; Very Poor = Substantial deterioration\n\nGenerator: Excellent = No visible deterioration, fully operable whenever needed. Good = Minor deterioration and/or some difficulty in start up; Fair = Moderate deterioration and/or difficult to start when needed; Poor = Considerable deterioration and/or does not start or remain running as needed; Very Poor = Substantial deterioration and not reliable to start or run as needed.\n\nVehicles: Excellent = No deterioration and runs reliably; Good = Some deterioration but runs reliably. Fair = Moderate deterioration and some engine repair needed; Poor = Considerable deterioration and engine repair needed; Very Poor = Substantial deterioration, engine repair needed, does not run reliably.\n\nOther things to consider: Assets operating within manufacturers' recommendations. "]
["Treatment","Condition of Ion Exhange Media Treatment Vessel: Excellent = No visible deterioration of vessel, media very recently replaced; Good = Minor visible deterioration of vessel, media recently replaced/regenerated; Fair = Moderate visible deterioration of vessel, media still within expected life; Poor = Considerable visible deterioration, media in need of regeneration or replacement; Very Poor = Substantial deterioration of media vessel including possible leaking, media in need of replacement. \n\nCondition of Filter Media: Excellent = No visible deposits or change in media color, no loss of media depth; Good = Minor visible deposits or change in media color, some loss of media depth; Fair = Moderate deposits and visible change in color and/or loss of media depth; Poor = Considerable visible deposits or change in media color and/or considerable loss of media depth; Very Poor = Heavy deposits and visible color change and/or substantial loss of media depth.\n\nPlant Flow Output: Excellent = Flow within 5% of expected output; Good = Flow within 10% of expected output; Fair = Flow within 15% of expected output; Poor = Flow within 40% of expected output; Very Poor = Flow < 40% of expected output\n\nFiltered Water Turbidity: Excellent = Continually meets required level; Good = Rarely exceeds required level; Fair = Occasionally exceeds required level; Poor = Occasionally exceeds required level and is out of compliance;  Very Poor = Frequently exceeds required level and is out of compliance\n\nChemical Feed Lines: Excellent = No detectable leakage; Good = Minor detectable leakage; Fair = Moderate detectable leakage; Poor = Considerable detectable leakage; Very Poor = Heavy detectable leakage\n\nUnplanned Outages: Excellent = 0/year; Good = 1/year; Fair = 2/year; Poor = 3/year; Very Poor = >3 per year"]
["Valve ","Operation: Excellent = Easy to operate; Good = Minor resistance to operation; Fair = Moderate resistance to operation; Poor = Very hard to operates; Very Poor = cannot operate valve \n\nValve Box and Cover: Excellent = Good condition; Good = Minor deficiencies; Fair = Moderate deficiencies; Poor = Considerable deficiencies; Very Poor = Cracks in valve box or missing/damaged cover\n\nLeakage: Excellent = No detectable leakage; Good = Minor detectable leakage; Fair = Moderate leakage but servicable; Poor = Considerable leakage, barely servicable; Very Poor = Heavy leakage, not servicable\n\nPaking Leakage: Excellent = The site is secure; Good = Security devices have minor damage but no unauthorized personnel can enter; Fair = Moderate damage allowing unauthorized persons to enter; Poor = Considerable damage to security devices; Very Poor = No security/site exposed to threat","Leakage of valve and packing difficult to assess for buried distribution valves."]
["Control System","Controls: Excellent = Fully operational, just updated. Good = Minor issues with operability, recently updated; Fair = Moderate issues with operability, updates due; Poor = Considerable issues with operability, updates required and overdue; Very Poor = Substantial issues with operability, updates requried and long overdue.\n\nOther things to consider: Controls operating within manufacturers' recommendations. "]