{"text_format":"1","workbook":"xlsx","n_sheets":4,"sheets":["Dryer","Results Summary","Calculations","Datasets"],"not_rendered":{"charts":0,"images":17,"macros":1,"external_links":1,"defined_names":33,"comments":0,"pivot_tables":0},"unopened":[],"bounds":{"document_bytes":16777216,"sheet_cells":100000,"rows_first":2000,"rows_last":500,"rows_between":2000,"halvings":0,"cell_chars":16384,"cell_head_chars":4096},"cells_cut":0,"cells_raw":0,"read":"whole","date_system":"1900"}

{"sheet":"Dryer","index":0,"n_rows":87,"n_cols":21,"rows_kept":87,"cut":false,"hidden":false,"merged":[[8,19,9,19],[8,20,9,20],[84,0,84,1],[74,0,74,1],[75,0,75,1],[76,0,76,1],[77,0,77,1],[78,0,78,1],[69,0,69,1],[70,0,70,1],[71,0,71,1],[72,0,72,1],[73,0,73,1],[63,0,63,1],[85,0,85,1],[86,0,86,1],[79,0,79,1],[80,0,80,1],[81,0,81,1],[82,0,82,1],[83,0,83,1],[64,0,64,1],[65,0,65,1],[67,0,67,1],[68,0,68,1],[59,0,59,1],[60,0,60,1],[61,0,61,1],[62,0,62,1],[53,0,53,1],[54,0,54,1],[55,0,55,1],[52,0,52,1],[47,0,47,1],[48,0,48,1],[49,0,49,1],[50,0,50,1],[51,0,51,1],[42,0,42,1],[43,0,43,1],[44,0,44,1],[45,0,45,1],[46,0,46,1],[37,0,37,1],[38,0,38,1],[39,0,39,1],[40,0,40,1],[41,0,41,1],[5,12,5,15],[6,3,6,6],[6,12,6,15],[36,0,36,1],[8,0,8,2],[8,3,8,5],[8,12,8,14],[28,0,28,1],[29,0,29,1],[30,0,30,1],[31,0,31,1],[34,0,34,1],[33,0,33,1],[32,0,32,1],[8,9,8,11],[9,0,9,2],[10,0,10,2],[10,3,10,5],[10,9,10,11],[10,12,10,14],[9,12,9,14],[9,3,9,5],[9,9,9,11]]}
[null,null,null,null,null,null,null,null,null,null,null,null,null,null,null,null,null,"Essential Unit Conversion"]
["Universal Calculation Spreadsheets"]
["Dryers",null,null,null,null,null,null,null,null,null,null,null,null,null,null,null,null,"From ",null,"To"]
[null,null,null,null,null,null,null,null,null,null,null,null,null,null,null,null,null,null,"MMSCF",{"$f":"R4*1020","v":0},"MMBtu"]
["Please, enter information describing the Dryer"]
[null,null,null,null,null,null,null,null,null,null,null,null,null,null,null,null,null,null,"lb/MMSCF",{"$f":"R6/1020","v":0},"lb/MMBtu"]
[null,null,null,"Current Capacity",null,null,null,null,null,null,null,null,"Maximum Proposed Capacity"]
[]
["Number of Dryers",null,null,null,null,null,"Units",null,null,"Number of Dryers",null,null,null,null,null,"Units",null,1,"hr/yr",{"$f":"R9*R10","v":0},"ton/yr"]
["Maximum permitted hourly throughput",null,null,null,null,null,"ton/hr",null,null,"Maximum permitted hourly throughput",null,null,null,null,null,"ton/hr",null,null,"ton/hr"]
["Maximum permitted annual throughput",null,null,null,null,null,"ton/year",null,null,"Maximum permitted annual throughput",null,null,null,null,null,"ton/year"]
[]
["Please, enter information describing specific dryer properties"]
[null,"ID","Emission Unit Name","Capacity, tons/hr","Control Type*","Maximum Rated Capacity, MMBtu/hr","Dryer Type","Particulate Control","Maximum permitted annual throughput, ton/yr",null,"ID","Emission Unit Name","Capacity, tons/hr","Control Type*","Maximum Rated Capacity, MMBtu/hr","Dryer Type","Particulate Control","Maximum permitted annual throughput, ton/yr"]
["1st Dryer",null,null,null,null,null,null,null,null,"1st Dryer"]
["2nd Dryer",null,null,null,null,null,null,null,null,"2nd Dryer"]
["3rd Dryer",null,null,null,null,null,null,null,null,"3rd Dryer"]
["4th Dryer",null,null,null,null,null,null,null,null,"4th Dryer"]
["5th Dryer",null,null,null,null,null,null,null,null,"5th Dryer"]
["6th Dryer",null,null,null,null,null,null,null,null,"6th Dryer"]
["7th Dryer",null,null,null,null,null,null,null,null,"7th Dryer"]
["8th Dryer",null,null,null,null,null,null,null,null,"8th Dryer"]
["9th Dryer",null,null,null,null,null,null,null,null,"9th Dryer"]
["10th Dryer",null,null,null,null,null,null,null,null,"10th Dryer"]
[]
["Please, enter information describing specific permit limits or source specific emissions"]
["If the limit or data are in other units, please, convert them to lb/MMBtu"]
[null,null,"1st Dryer Limit (lb/MMBtu)","2nd Dryer Limit (lb/MMBtu)","3rd Dryer Limit (lb/MMBtu)","4th Dryer Limit (lb/MMBtu)","5th Dryer Limit (lb/MMBtu)","6th Dryer Limit (lb/MMBtu)","7th Dryer Limit (lb/MMBtu)","8th Dryer Limit (lb/MMBtu)","9th Dryer Limit (lb/MMBtu)","10th Dryer Limit (lb/MMBtu)"]
["PMfilterable"]
["PM10"]
["PM2.5"]
["SO2"]
["NOx"]
["CO"]
["VOC"]
["Individual HAP"]
["  Benzene "]
["  Dichlorobenzene "]
["  Hexane "]
["  Lead Compounds"]
["  Naphthalene "]
["  Polycyclic Organic Matter "]
["  Toluene "]
["  Arsenic Compounds"]
["  Beryllium Compounds"]
["  Cadmium Compounds"]
["  Chromium Compounds"]
["  Cobalt Compounds"]
["  Manganese Compounds"]
["  Mercury Compounds"]
["  Nickel Compounds"]
["  Selenium Compounds"]
["Total HAPs"]
["  Carbon Dioxide (CO2)"]
["  Methane (CH4)"]
["  Nitrous Oxide (N2O)"]
[]
[]
[null,null,"1st Dryer Limit (lb/MMBtu)","2nd Dryer Limit (lb/MMBtu)","3rd Dryer Limit (lb/MMBtu)","4th Dryer Limit (lb/MMBtu)","5th Dryer Limit (lb/MMBtu)","6th Dryer Limit (lb/MMBtu)","7th Dryer Limit (lb/MMBtu)","8th Dryer Limit (lb/MMBtu)","9th Dryer Limit (lb/MMBtu)","10th Dryer Limit (lb/MMBtu)"]
["PMfilterable"]
["PM10"]
["PM2.5"]
["SO2"]
["NOx"]
["CO"]
["VOC"]
["Individual HAP"]
["  Benzene "]
["  Dichlorobenzene "]
["  Hexane "]
["  Lead Compounds"]
["  Naphthalene "]
["  Polycyclic Organic Matter "]
["  Toluene "]
["  Arsenic Compounds"]
["  Beryllium Compounds"]
["  Cadmium Compounds"]
["  Chromium Compounds"]
["  Cobalt Compounds"]
["  Manganese Compounds"]
["  Mercury Compounds"]
["  Nickel Compounds"]
["  Selenium Compounds"]
["Total HAPs"]
["  Carbon Dioxide (CO2)"]
["  Methane (CH4)"]
["  Nitrous Oxide (N2O)"]

{"sheet":"Results Summary","index":1,"n_rows":46,"n_cols":11,"rows_kept":46,"cut":false,"hidden":false,"merged":[[41,0,41,2],[41,4,41,6],[41,8,41,10],[5,4,6,4],[5,8,6,8],[5,1,5,2],[5,5,5,6],[5,9,5,10],[17,0,17,2],[17,4,17,6],[36,4,36,6],[36,0,36,2],[17,8,17,10],[36,8,36,10],[5,0,6,0]]}
[]
["Universal Calculation Spreadsheets"]
["Results Summary"]
[]
["Non-Fugitive PTE"]
["Pollutants","Current PTE",null,null,"Pollutants","Total PTE after Project","DDGS dryers",null,"Pollutants","Project PTE"]
[null,"(lb/hr)","(ton/yr)",null,null,"(lb/hr)","(ton/yr)",null,null,"(lb/hr)","(ton/yr)"]
["  PMfilterable",{"$f":"Calculations!CJ7","v":0},{"$f":"Calculations!CW7","v":0},null,"  PMfilterable",{"$f":"Calculations!CJ48","v":0},{"$f":"Calculations!CW48","v":0},null,"  PMfilterable",{"$f":"F8-B8","v":0},{"$f":"G8-C8","v":0}]
["  PM10",{"$f":"Calculations!CJ8","v":0},{"$f":"Calculations!CW8","v":0},null,"  PM10",{"$f":"Calculations!CJ49","v":0},{"$f":"Calculations!CW49","v":0},null,"  PM10",{"$f":"F9-B9","v":0},{"$f":"G9-C9","v":0}]
["  PM2.5",{"$f":"Calculations!CJ9","v":0},{"$f":"Calculations!CW9","v":0},null,"  PM2.5",{"$f":"Calculations!CJ50","v":0},{"$f":"Calculations!CW50","v":0},null,"  PM2.5",0,0]
["  SO2",{"$f":"Calculations!CJ10","v":0},{"$f":"Calculations!CW10","v":0},null,"  SO2",{"$f":"Calculations!CJ51","v":0},{"$f":"Calculations!CW51","v":0},null,"  SO2",0,0]
["  NOx",{"$f":"Calculations!CJ11","v":0},{"$f":"Calculations!CW11","v":0},null,"  NOx",{"$f":"Calculations!CJ52","v":0},{"$f":"Calculations!CW52","v":0},null,"  NOx",0,0]
["  CO",{"$f":"Calculations!CJ12","v":0},{"$f":"Calculations!CW12","v":0},null,"  CO",{"$f":"Calculations!CJ53","v":0},{"$f":"Calculations!CW53","v":0},null,"  CO",0,0]
["  VOC",{"$f":"Calculations!CJ13","v":0},{"$f":"Calculations!CW13","v":0},null,"  VOC",{"$f":"Calculations!CJ54","v":0},{"$f":"Calculations!CW54","v":0},null,"  VOC",0,0]
["  Hydrogen Sulfide ",{"$f":"Calculations!CJ14","v":0},{"$f":"Calculations!CW14","v":0},null,"  Hydrogen Sulfide ",{"$f":"Calculations!CJ55","v":0},{"$f":"Calculations!CW55","v":0},null,"  Hydrogen Sulfide "]
["  Sulfuric Acid",{"$f":"Calculations!CJ15","v":0},{"$f":"Calculations!CW15","v":0},null,"  Sulfuric Acid",{"$f":"Calculations!CJ56","v":0},{"$f":"Calculations!CW56","v":0},null,"  Sulfuric Acid"]
["  Fluorides ",{"$f":"Calculations!CJ16","v":0},{"$f":"Calculations!CW16","v":0},null,"  Fluorides ",{"$f":"Calculations!CJ57","v":0},{"$f":"Calculations!CW57","v":0},null,"  Fluorides "]
["Individual HAP",null,null,null,"Individual HAP",null,null,null,"Individual HAP"]
["  Acetaldehyde",null,null,null,"  Acetaldehyde",null,null,null,"  Acetaldehyde",{"$f":"F19-B19","v":0},{"$f":"G19-C19","v":0}]
["  Acrolein",null,null,null,"  Acrolein",null,null,null,"  Acrolein",0,0]
["  Arsenic compounds",{"$f":"Calculations!CJ22","v":0},{"$f":"Calculations!CW22","v":0},null,"  Arsenic compounds",{"$f":"Calculations!CJ63","v":0},{"$f":"Calculations!CW63","v":0},null,"  Arsenic compounds",0,0]
["  Benzene",{"$f":"Calculations!CJ15","v":0},{"$f":"Calculations!CW15","v":0},null,"  Benzene",{"$f":"Calculations!CJ56","v":0},{"$f":"Calculations!CW56","v":0},null,"  Benzene",0,0]
["  Benzyl chloride",null,null,null,"  Benzyl chloride",null,null,null,"  Benzyl chloride",0,0]
["  Beryllium compounds",{"$f":"Calculations!CJ23","v":0},{"$f":"Calculations!CW23","v":0},null,"  Beryllium compounds",{"$f":"Calculations!CJ64","v":0},{"$f":"Calculations!CW64","v":0},null,"  Beryllium compounds",0,0]
["  Cadmium compounds",{"$f":"Calculations!CJ24","v":0},{"$f":"Calculations!CW24","v":0},null,"  Cadmium compounds",{"$f":"Calculations!CJ65","v":0},{"$f":"Calculations!CW65","v":0},null,"  Cadmium compounds",0,0]
["  Cyanide compounds",null,null,null,"  Cyanide compounds",null,null,null,"  Cyanide compounds",0,0]
["  Formaldehyde",null,null,null,"  Formaldehyde",null,null,null,"  Formaldehyde",0,0]
["  Hexane",{"$f":"Calculations!CJ17","v":0},{"$f":"Calculations!CW17","v":0},null,"  Hexane",{"$f":"Calculations!CJ58","v":0},{"$f":"Calculations!CW58","v":0},null,"  Hexane",0,0]
["  Hydrochloric acid",null,null,null,"  Hydrochloric acid",null,null,null,"  Hydrochloric acid",0,0]
["  Lead Compounds",{"$f":"Calculations!CJ18","v":0},{"$f":"Calculations!CW18","v":0},null,"  Lead Compounds",{"$f":"Calculations!CJ59","v":0},{"$f":"Calculations!CW59","v":0},null,"  Lead Compounds",0,0]
["  Mercury compounds",{"$f":"Calculations!CJ28","v":0},{"$f":"Calculations!CW28","v":0},null,"  Mercury compounds",{"$f":"Calculations!CJ69","v":0},{"$f":"Calculations!CW69","v":0},null,"  Mercury compounds",0,0]
["  Methanol",null,null,null,"  Methanol",null,null,null,"  Methanol",0,0]
["  Methyl hydrazine",null,null,null,"  Methyl hydrazine",null,null,null,"  Methyl hydrazine",0,0]
["  Selenium compounds",{"$f":"Calculations!CJ30","v":0},{"$f":"Calculations!CW30","v":0},null,"  Selenium compounds",{"$f":"Calculations!CJ71","v":0},{"$f":"Calculations!CW71","v":0},null,"  Selenium compounds",0,0]
["Other HAPs",{"$f":"B36-SUM(B19:B34)","v":0},{"$f":"C36-SUM(C19:C34)","v":0},null,"Other HAPs",{"$f":"F36-SUM(F19:F34)","v":0},{"$f":"G36-SUM(G19:G34)","v":0},null,"Other HAPs",0,0]
["Total HAPs",{"$f":"Calculations!CJ31","v":0},{"$f":"Calculations!CW31","v":0},null,"Total HAPs",{"$f":"Calculations!CJ72","v":0},{"$f":"Calculations!CW72","v":0},null,"Total HAPs",0,0]
["Greenhouse Gases (GHG) (Mass Basis)",null,null,null,"Greenhouse Gases (GHG) (Mass Basis)",null,null,null,"Greenhouse Gases (GHG) (Mass Basis)"]
["  Carbon Dioxide ",{"$f":"Calculations!CJ33","v":0},{"$f":"Calculations!CW33","v":0},null,"  Carbon Dioxide ",{"$f":"Calculations!CJ74","v":0},{"$f":"Calculations!CW74","v":0},null,"  Carbon Dioxide ",{"$f":"F38-B38","v":0},{"$f":"G38-C38","v":0}]
["  Methane",{"$f":"Calculations!CJ34","v":0},{"$f":"Calculations!CW34","v":0},null,"  Methane",{"$f":"Calculations!CJ75","v":0},{"$f":"Calculations!CW75","v":0},null,"  Methane",0,0]
["  Nitrous Oxide",{"$f":"Calculations!CJ35","v":0},{"$f":"Calculations!CW35","v":0},null,"  Nitrous Oxide",{"$f":"Calculations!CJ76","v":0},{"$f":"Calculations!CW76","v":0},null,"  Nitrous Oxide",0,0]
["Total GHGs ",{"$f":"Calculations!CJ36","v":0},{"$f":"Calculations!CW36","v":0},null,"Total GHGs ",{"$f":"Calculations!CJ77","v":0},{"$f":"Calculations!CW77","v":0},null,"Total GHGs ",0,0]
["Greenhouse Gases (GHG) (CO2 Equivalent Basis)",null,null,null,"Greenhouse Gases (GHG) (CO2 Equivalent Basis)",null,null,null,"Greenhouse Gases (GHG) (CO2 Equivalent Basis)"]
["  Carbon Dioxide ",{"$f":"Calculations!CJ38","v":0},{"$f":"Calculations!CW38","v":0},null,"  Carbon Dioxide ",{"$f":"Calculations!CJ79","v":0},{"$f":"Calculations!CW79","v":0},null,"  Carbon Dioxide ",{"$f":"F43-B43","v":0},{"$f":"G43-C43","v":0}]
["  Methane",{"$f":"Calculations!CJ39","v":0},{"$f":"Calculations!CW39","v":0},null,"  Methane",{"$f":"Calculations!CJ80","v":0},{"$f":"Calculations!CW80","v":0},null,"  Methane",0,0]
["  Nitrous Oxide",{"$f":"Calculations!CJ40","v":0},{"$f":"Calculations!CW40","v":0},null,"  Nitrous Oxide",{"$f":"Calculations!CJ81","v":0},{"$f":"Calculations!CW81","v":0},null,"  Nitrous Oxide",0,0]
["Total GHGs ",{"$f":"Calculations!CJ41","v":0},{"$f":"Calculations!CW41","v":0},null,"Total GHGs ",{"$f":"Calculations!CJ82","v":0},{"$f":"Calculations!CW82","v":0},null,"Total GHGs ",0,0]

{"sheet":"Calculations","index":2,"n_rows":85,"n_cols":101,"rows_kept":85,"cut":false,"hidden":false,"merged":[[72,1,72,10],[72,13,72,22],[45,37,46,37],[46,25,46,35],[46,38,46,48],[54,1,54,10],[54,13,54,22],[45,12,46,12],[46,1,46,10],[45,24,46,24],[2,37,2,48],[4,37,5,37],[5,38,5,48],[44,0,44,10],[44,12,44,22],[44,24,44,35],[43,37,43,48],[31,1,31,10],[13,1,13,10],[13,13,13,22],[31,13,31,22],[41,0,41,3],[3,12,3,22],[5,25,5,35],[3,24,3,35],[4,24,5,24],[4,12,5,12],[0,0,0,3],[4,0,5,0],[5,1,5,10],[3,0,3,10],[45,50,46,50],[45,63,46,63],[46,51,46,61],[46,64,46,74],[45,0,46,0],[33,57,33,59],[10,63,10,74],[11,63,12,63],[12,64,12,74],[44,63,44,74],[10,50,10,61],[11,50,12,50],[12,51,12,61],[44,50,44,61],[33,51,33,53],[3,50,3,61],[3,63,3,74],[3,76,3,87],[3,89,3,100],[4,76,5,76],[4,89,5,89],[5,77,5,87],[5,90,5,100],[4,50,5,50],[4,63,5,63],[5,51,5,61],[5,64,5,74],[44,76,44,87],[44,89,44,100],[45,76,46,76],[45,89,46,89],[46,77,46,87],[46,90,46,100],[74,51,74,53],[74,57,74,59],[51,63,51,74],[52,50,53,50],[52,63,53,63],[53,51,53,61],[53,64,53,74],[51,50,51,61]]}
["Drying Operations"]
["Emissions from Drying - Drying Process Emissions"]
[null,null,null,null,null,null,null,null,null,null,null,null,null,null,null,null,null,null,null,null,null,null,null,null,null,null,null,null,null,null,null,null,null,null,null,null,null,"PTE in ton/yr = PTE in lb/hr x annual hours limit / 2000"]
["Emission Factors*",null,null,null,null,null,null,null,null,null,null,null,"Chosen Emission Factors: Manufacturer's Guarantee (If Available) or AP-42 in lb/MMBtu*",null,null,null,null,null,null,null,null,null,null,null,"PTE in lb/hr = Emission Factor x Maximum Rated Capacity, MMBtu/hr",null,null,null,null,null,null,null,null,null,null,null,null,"Annual hours limit",{"$f":"IF(Dryer!D15=0,0,Dryer!I15/Dryer!D15)","v":0},{"$f":"IF(Dryer!D16=0,0,Dryer!I16/Dryer!D16)","v":0},{"$f":"IF(Dryer!D17=0,0,Dryer!I17/Dryer!D17)","v":0},{"$f":"IF(Dryer!D18=0,0,Dryer!I18/Dryer!D18)","v":0},{"$f":"IF(Dryer!D19=0,0,Dryer!I19/Dryer!D19)","v":0},{"$f":"IF(Dryer!D20=0,0,Dryer!I20/Dryer!D20)","v":0},{"$f":"IF(Dryer!D21=0,0,Dryer!I21/Dryer!D21)","v":0},{"$f":"IF(Dryer!D22=0,0,Dryer!I22/Dryer!D22)","v":0},{"$f":"IF(Dryer!D23=0,0,Dryer!I23/Dryer!D23)","v":0},{"$f":"IF(Dryer!D24=0,0,Dryer!I24/Dryer!D24)","v":0},null,null,"PTE in lb/hr based on grain drying process = Emission Factor (lb/ton) x Maximum permitted hourly rate (ton/hr)",null,null,null,null,null,null,null,null,null,null,null,null,"PTE in lb/yr based on grain drying process = Emission Factor (lb/ton) x Maximum permitted annual rate (ton/yr)",null,null,null,null,null,null,null,null,null,null,null,null,"Final PTE in lb/hr = Combustion Emissions + Process Emissions",null,null,null,null,null,null,null,null,null,null,null,null,"Final PTE in ton/yr = Combustion Emissions + Process Emissions"]
["Pollutant","1st Dryer","2nd Dryer","3rd Dryer","4th Dryer","5th Dryer","6th Dryer","7th Dryer","8th Dryer","9th Dryer","10th Dryer",null,"Pollutant","1st Dryer","2nd Dryer","3rd Dryer","4th Dryer","5th Dryer","6th Dryer","7th Dryer","8th Dryer","9th Dryer","10th Dryer",null,"Pollutant","1st Dryer","2nd Dryer","3rd Dryer","4th Dryer","5th Dryer","6th Dryer","7th Dryer","8th Dryer","9th Dryer","10th Dryer","Total ",null,"Pollutant","1st Dryer","2nd Dryer","3rd Dryer","4th Dryer","5th Dryer","6th Dryer","7th Dryer","8th Dryer","9th Dryer","10th Dryer","Total ",null,"Pollutant","1st Dryer","2nd Dryer","3rd Dryer","4th Dryer","5th Dryer","6th Dryer","7th Dryer","8th Dryer","9th Dryer","10th Dryer","Total ",null,"Pollutant","1st Dryer","2nd Dryer","3rd Dryer","4th Dryer","5th Dryer","6th Dryer","7th Dryer","8th Dryer","9th Dryer","10th Dryer","Total ",null,"Pollutant","1st Dryer","2nd Dryer","3rd Dryer","4th Dryer","5th Dryer","6th Dryer","7th Dryer","8th Dryer","9th Dryer","10th Dryer","Total ",null,"Pollutant","1st Dryer","2nd Dryer","3rd Dryer","4th Dryer","5th Dryer","6th Dryer","7th Dryer","8th Dryer","9th Dryer","10th Dryer","Total "]
[null,"(lb/MMscf)",null,null,null,null,null,null,null,null,null,null,null,null,null,null,null,null,null,null,null,null,null,null,null,"(lb/hr)",null,null,null,null,null,null,null,null,null,null,null,null,"(ton/year)",null,null,null,null,null,null,null,null,null,null,null,null,"(lb/hr)",null,null,null,null,null,null,null,null,null,null,null,null,"(lb/year)",null,null,null,null,null,null,null,null,null,null,null,null,"(lb/hr)",null,null,null,null,null,null,null,null,null,null,null,null,"(ton/year)"]
["PMfilterable",7.6,7.6,7.6,7.6,7.6,7.6,7.6,7.6,7.6,7.6,null,"PMfilterable",{"$f":"IF(Dryer!C29=0,B7/1020,Dryer!C29)","v":7.4509803921568628E-3},{"$f":"IF(Dryer!D29=0,C7/1020,Dryer!D29)","v":7.4509803921568628E-3},{"$f":"IF(Dryer!E29=0,D7/1020,Dryer!E29)","v":7.4509803921568628E-3},{"$f":"IF(Dryer!F29=0,E7/1020,Dryer!F29)","v":7.4509803921568628E-3},{"$f":"IF(Dryer!G29=0,F7/1020,Dryer!G29)","v":7.4509803921568628E-3},{"$f":"IF(Dryer!H29=0,G7/1020,Dryer!H29)","v":7.4509803921568628E-3},{"$f":"IF(Dryer!I29=0,H7/1020,Dryer!I29)","v":7.4509803921568628E-3},{"$f":"IF(Dryer!J29=0,I7/1020,Dryer!J29)","v":7.4509803921568628E-3},{"$f":"IF(Dryer!K29=0,J7/1020,Dryer!K29)","v":7.4509803921568628E-3},{"$f":"IF(Dryer!L29=0,K7/1020,Dryer!L29)","v":7.4509803921568628E-3},null,"PMfilterable",{"$f":"IF(AZ27=1,N7*Dryer!$F$15,N7*Dryer!$F$15*$BA$40*(1-$BA$41))","v":0},{"$f":"IF(BA27=1,O7*Dryer!$F$16,O7*Dryer!$F$16*$BA$40*(1-$BA$41))","v":0},{"$f":"IF(BB27=1,P7*Dryer!$F$17,P7*Dryer!$F$17*$BA$40*(1-$BA$41))","v":0},{"$f":"IF(BC27=1,Q7*Dryer!$F$18,Q7*Dryer!$F$18*$BA$40*(1-$BA$41))","v":0},{"$f":"IF(BD27=1,R7*Dryer!$F$19,R7*Dryer!$F$19*$BA$40*(1-$BA$41))","v":0},{"$f":"IF(BE27=1,S7*Dryer!$F$20,S7*Dryer!$F$20*$BA$40*(1-$BA$41))","v":0},{"$f":"IF(BF27=1,T7*Dryer!$F$21,T7*Dryer!$F$21*$BA$40*(1-$BA$41))","v":0},{"$f":"IF(BG27=1,U7*Dryer!$F$22,U7*Dryer!$F$22*$BA$40*(1-$BA$41))","v":0},{"$f":"IF(BH27=1,V7*Dryer!$F$23,V7*Dryer!$F$23*$BA$40*(1-$BA$41))","v":0},{"$f":"IF(BI27=1,W7*Dryer!$F$24,W7*Dryer!$F$24*$BA$40*(1-$BA$41))","v":0},{"$f":"SUM(Z7:AI7)","v":0},null,"PMfilterable",{"$f":"IF(AM$4=0,Z7*8760/2000,Z7*AM$4/2000)","v":0},{"$f":"IF(AN$4=0,AA7*8760/2000,AA7*AN$4/2000)","v":0},0,0,0,0,0,0,0,0,{"$f":"SUM(AM7:AV7)","v":0},null,"PMfilterable",{"$f":"IF(Dryer!G15=\"\",3,LOOKUP(Dryer!G15,Calculations!$AZ$35:$BB$35,Calculations!$AZ$36:$BB$36))*Dryer!D15","v":0},{"$f":"IF(Dryer!G16=\"\",3,LOOKUP(Dryer!G16,Calculations!$AZ$35:$BB$35,Calculations!$AZ$36:$BB$36))*Dryer!D16","v":0},{"$f":"IF(Dryer!G17=\"\",3,LOOKUP(Dryer!G17,Calculations!$AZ$35:$BB$35,Calculations!$AZ$36:$BB$36))*Dryer!D17","v":0},{"$f":"IF(Dryer!G18=\"\",3,LOOKUP(Dryer!G18,Calculations!$AZ$35:$BB$35,Calculations!$AZ$36:$BB$36))*Dryer!D18","v":0},{"$f":"IF(Dryer!G19=\"\",3,LOOKUP(Dryer!G19,Calculations!$AZ$35:$BB$35,Calculations!$AZ$36:$BB$36))*Dryer!D19","v":0},{"$f":"IF(Dryer!G20=\"\",3,LOOKUP(Dryer!G20,Calculations!$AZ$35:$BB$35,Calculations!$AZ$36:$BB$36))*Dryer!D20","v":0},{"$f":"IF(Dryer!G21=\"\",3,LOOKUP(Dryer!G21,Calculations!$AZ$35:$BB$35,Calculations!$AZ$36:$BB$36))*Dryer!D21","v":0},{"$f":"IF(Dryer!G22=\"\",3,LOOKUP(Dryer!G22,Calculations!$AZ$35:$BB$35,Calculations!$AZ$36:$BB$36))*Dryer!D22","v":0},{"$f":"IF(Dryer!G23=\"\",3,LOOKUP(Dryer!G23,Calculations!$AZ$35:$BB$35,Calculations!$AZ$36:$BB$36))*Dryer!D23","v":0},{"$f":"IF(Dryer!G24=\"\",3,LOOKUP(Dryer!G24,Calculations!$AZ$35:$BB$35,Calculations!$AZ$36:$BB$36))*Dryer!D24","v":0},{"$f":"IF(BC28=0,SUM(AZ7:BI7),IF(BC28<=BC30,BC28*BA36,IF(BC28<=(BC30+BC31),(BC30*BA36+(BC28-BC30)*BB36),(BC30*BA36+BC31*BB36+(BC28-BC30-BC31)*AZ36))))","v":0},null,"PMfilterable",{"$f":"IF(Dryer!G15=\"\",3,LOOKUP(Dryer!G15,Calculations!$AZ$35:$BB$35,Calculations!$AZ$36:$BB$36))*Dryer!D15*IF(AM4=0,8760,AM4)","v":0},{"$f":"IF(Dryer!G16=\"\",3,LOOKUP(Dryer!G16,Calculations!$AZ$35:$BB$35,Calculations!$AZ$36:$BB$36))*Dryer!D16*IF(AN4=0,8760,AN4)","v":0},{"$f":"IF(Dryer!G17=\"\",3,LOOKUP(Dryer!G17,Calculations!$AZ$35:$BB$35,Calculations!$AZ$36:$BB$36))*Dryer!D17*IF(AO4=0,8760,AO4)","v":0},{"$f":"IF(Dryer!G18=\"\",3,LOOKUP(Dryer!G18,Calculations!$AZ$35:$BB$35,Calculations!$AZ$36:$BB$36))*Dryer!D18*IF(AP4=0,8760,AP4)","v":0},{"$f":"IF(Dryer!G19=\"\",3,LOOKUP(Dryer!G19,Calculations!$AZ$35:$BB$35,Calculations!$AZ$36:$BB$36))*Dryer!D19*IF(AQ4=0,8760,AQ4)","v":0},{"$f":"IF(Dryer!G20=\"\",3,LOOKUP(Dryer!G20,Calculations!$AZ$35:$BB$35,Calculations!$AZ$36:$BB$36))*Dryer!D20*IF(AR4=0,8760,AR4)","v":0},{"$f":"IF(Dryer!G21=\"\",3,LOOKUP(Dryer!G21,Calculations!$AZ$35:$BB$35,Calculations!$AZ$36:$BB$36))*Dryer!D21*IF(AS4=0,8760,AS4)","v":0},{"$f":"IF(Dryer!G22=\"\",3,LOOKUP(Dryer!G22,Calculations!$AZ$35:$BB$35,Calculations!$AZ$36:$BB$36))*Dryer!D22*IF(AT4=0,8760,AT4)","v":0},{"$f":"IF(Dryer!G23=\"\",3,LOOKUP(Dryer!G23,Calculations!$AZ$35:$BB$35,Calculations!$AZ$36:$BB$36))*Dryer!D23*IF(AU4=0,8760,AU4)","v":0},{"$f":"IF(Dryer!G24=\"\",3,LOOKUP(Dryer!G24,Calculations!$AZ$35:$BB$35,Calculations!$AZ$36:$BB$36))*Dryer!D24*IF(AV4=0,8760,AV4)","v":0},{"$f":"IF(BC29=0,SUM(BM7:BV7),IF(BC29<=BC30*8760,BC29*BA36,IF(BC29<=(BC30+BC31)*8760,(BC30*BA36+(BC29-BC30)*BB36),(BC30*BA36+BC31*BB36+(BC29-BC30-BC31)*AZ36))))","v":0},null,"PMfilterable",{"$f":"Z7+AZ14","v":0},{"$f":"AA7+BA14","v":0},0,0,0,0,0,0,0,0,{"$f":"AJ7+BJ14","v":0},null,"PMfilterable",{"$f":"AM7+BM14/2000","v":0},{"$f":"AN7+BN14/2000","v":0},0,0,0,0,0,0,0,0,0]
["PM10",7.6,7.6,7.6,7.6,7.6,7.6,7.6,7.6,7.6,7.6,null,"PM10",{"$f":"IF(Dryer!C30=0,B8/1020,Dryer!C30)","v":7.4509803921568628E-3},{"$f":"IF(Dryer!D30=0,C8/1020,Dryer!D30)","v":7.4509803921568628E-3},{"$f":"IF(Dryer!E30=0,D8/1020,Dryer!E30)","v":7.4509803921568628E-3},{"$f":"IF(Dryer!F30=0,E8/1020,Dryer!F30)","v":7.4509803921568628E-3},{"$f":"IF(Dryer!G30=0,F8/1020,Dryer!G30)","v":7.4509803921568628E-3},{"$f":"IF(Dryer!H30=0,G8/1020,Dryer!H30)","v":7.4509803921568628E-3},{"$f":"IF(Dryer!I30=0,H8/1020,Dryer!I30)","v":7.4509803921568628E-3},{"$f":"IF(Dryer!J30=0,I8/1020,Dryer!J30)","v":7.4509803921568628E-3},{"$f":"IF(Dryer!K30=0,J8/1020,Dryer!K30)","v":7.4509803921568628E-3},{"$f":"IF(Dryer!L30=0,K8/1020,Dryer!L30)","v":7.4509803921568628E-3},null,"PM10",{"$f":"IF(AZ27=1,N8*Dryer!$F$15,N8*Dryer!$F$15*$BA$40*(1-$BA$41))","v":0},{"$f":"IF(BA27=1,O8*Dryer!$F$16,O8*Dryer!$F$16*$BA$40*(1-$BA$41))","v":0},{"$f":"IF(BB27=1,P8*Dryer!$F$17,P8*Dryer!$F$17*$BA$40*(1-$BA$41))","v":0},{"$f":"IF(BC27=1,Q8*Dryer!$F$18,Q8*Dryer!$F$18*$BA$40*(1-$BA$41))","v":0},{"$f":"IF(BD27=1,R8*Dryer!$F$19,R8*Dryer!$F$19*$BA$40*(1-$BA$41))","v":0},{"$f":"IF(BE27=1,S8*Dryer!$F$20,S8*Dryer!$F$20*$BA$40*(1-$BA$41))","v":0},{"$f":"IF(BF27=1,T8*Dryer!$F$21,T8*Dryer!$F$21*$BA$40*(1-$BA$41))","v":0},{"$f":"IF(BG27=1,U8*Dryer!$F$22,U8*Dryer!$F$22*$BA$40*(1-$BA$41))","v":0},{"$f":"IF(BH27=1,V8*Dryer!$F$23,V8*Dryer!$F$23*$BA$40*(1-$BA$41))","v":0},{"$f":"IF(BI27=1,W8*Dryer!$F$24,W8*Dryer!$F$24*$BA$40*(1-$BA$41))","v":0},{"$f":"SUM(Z8:AI8)","v":0},null,"PM10",{"$f":"IF(AM$4=0,Z8*8760/2000,Z8*AM$4/2000)","v":0},{"$f":"IF(AN$4=0,AA8*8760/2000,AA8*AN$4/2000)","v":0},{"$f":"IF(AO$4=0,AB8*8760/2000,AB8*AO$4/2000)","v":0},{"$f":"IF(AP$4=0,AC8*8760/2000,AC8*AP$4/2000)","v":0},{"$f":"IF(AQ$4=0,AD8*8760/2000,AD8*AQ$4/2000)","v":0},{"$f":"IF(AR$4=0,AE8*8760/2000,AE8*AR$4/2000)","v":0},{"$f":"IF(AS$4=0,AF8*8760/2000,AF8*AS$4/2000)","v":0},{"$f":"IF(AT$4=0,AG8*8760/2000,AG8*AT$4/2000)","v":0},{"$f":"IF(AU$4=0,AH8*8760/2000,AH8*AU$4/2000)","v":0},{"$f":"IF(AV$4=0,AI8*8760/2000,AI8*AV$4/2000)","v":0},{"$f":"SUM(AM8:AV8)","v":0},null,"PM10",{"$f":"IF(Dryer!G15=\"\",0.75,LOOKUP(Dryer!G15,Calculations!$AZ$35:$BB$35,Calculations!$AZ$37:$BB$37))*Dryer!D15","v":0},{"$f":"IF(Dryer!G16=\"\",0.75,LOOKUP(Dryer!G16,Calculations!$AZ$35:$BB$35,Calculations!$AZ$37:$BB$37))*Dryer!D16","v":0},{"$f":"IF(Dryer!G17=\"\",0.75,LOOKUP(Dryer!G17,Calculations!$AZ$35:$BB$35,Calculations!$AZ$37:$BB$37))*Dryer!D17","v":0},{"$f":"IF(Dryer!G18=\"\",0.75,LOOKUP(Dryer!G18,Calculations!$AZ$35:$BB$35,Calculations!$AZ$37:$BB$37))*Dryer!D18","v":0},{"$f":"IF(Dryer!G19=\"\",0.75,LOOKUP(Dryer!G19,Calculations!$AZ$35:$BB$35,Calculations!$AZ$37:$BB$37))*Dryer!D19","v":0},{"$f":"IF(Dryer!G20=\"\",0.75,LOOKUP(Dryer!G20,Calculations!$AZ$35:$BB$35,Calculations!$AZ$37:$BB$37))*Dryer!D20","v":0},{"$f":"IF(Dryer!G21=\"\",0.75,LOOKUP(Dryer!G21,Calculations!$AZ$35:$BB$35,Calculations!$AZ$37:$BB$37))*Dryer!D21","v":0},{"$f":"IF(Dryer!G22=\"\",0.75,LOOKUP(Dryer!G22,Calculations!$AZ$35:$BB$35,Calculations!$AZ$37:$BB$37))*Dryer!D22","v":0},{"$f":"IF(Dryer!G23=\"\",0.75,LOOKUP(Dryer!G23,Calculations!$AZ$35:$BB$35,Calculations!$AZ$37:$BB$37))*Dryer!D23","v":0},{"$f":"IF(Dryer!G24=\"\",0.75,LOOKUP(Dryer!G24,Calculations!$AZ$35:$BB$35,Calculations!$AZ$37:$BB$37))*Dryer!D24","v":0},{"$f":"IF(BC28=0,SUM(AZ8:BI8),IF(BC28<=BC30,BC28*BA37,IF(BC28<=(BC30+BC31),(BC30*BA37+(BC28-BC30)*BB37),(BC30*BA37+BC31*BB37+(BC28-BC30-BC31)*AZ37))))","v":0},null,"PM10",{"$f":"IF(Dryer!G15=\"\",0.75,LOOKUP(Dryer!G15,Calculations!$AZ$35:$BB$35,Calculations!$AZ$37:$BB$37))*Dryer!D15*IF(AM4=0,8760,AM4)","v":0},{"$f":"IF(Dryer!G16=\"\",0.75,LOOKUP(Dryer!G16,Calculations!$AZ$35:$BB$35,Calculations!$AZ$37:$BB$37))*Dryer!D16*IF(AN4=0,8760,AN4)","v":0},{"$f":"IF(Dryer!G17=\"\",0.75,LOOKUP(Dryer!G17,Calculations!$AZ$35:$BB$35,Calculations!$AZ$37:$BB$37))*Dryer!D17*IF(AO4=0,8760,AO4)","v":0},{"$f":"IF(Dryer!G18=\"\",0.75,LOOKUP(Dryer!G18,Calculations!$AZ$35:$BB$35,Calculations!$AZ$37:$BB$37))*Dryer!D18*IF(AP4=0,8760,AP4)","v":0},{"$f":"IF(Dryer!G19=\"\",0.75,LOOKUP(Dryer!G19,Calculations!$AZ$35:$BB$35,Calculations!$AZ$37:$BB$37))*Dryer!D19*IF(AQ4=0,8760,AQ4)","v":0},{"$f":"IF(Dryer!G20=\"\",0.75,LOOKUP(Dryer!G20,Calculations!$AZ$35:$BB$35,Calculations!$AZ$37:$BB$37))*Dryer!D20*IF(AR4=0,8760,AR4)","v":0},{"$f":"IF(Dryer!G21=\"\",0.75,LOOKUP(Dryer!G21,Calculations!$AZ$35:$BB$35,Calculations!$AZ$37:$BB$37))*Dryer!D21*IF(AS4=0,8760,AS4)","v":0},{"$f":"IF(Dryer!G22=\"\",0.75,LOOKUP(Dryer!G22,Calculations!$AZ$35:$BB$35,Calculations!$AZ$37:$BB$37))*Dryer!D22*IF(AT4=0,8760,AT4)","v":0},{"$f":"IF(Dryer!G23=\"\",0.75,LOOKUP(Dryer!G23,Calculations!$AZ$35:$BB$35,Calculations!$AZ$37:$BB$37))*Dryer!D23*IF(AU4=0,8760,AU4)","v":0},{"$f":"IF(Dryer!G24=\"\",0.75,LOOKUP(Dryer!G24,Calculations!$AZ$35:$BB$35,Calculations!$AZ$37:$BB$37))*Dryer!D24*IF(AV4=0,8760,AV4)","v":0},{"$f":"IF(BC29=0,SUM(BM8:BV8),IF(BC29<=BC30*8760,BC29*BA37,IF(BC29<=(BC30+BC31)*8760,(BC30*BA37+(BC29-BC30)*BB37),(BC30*BA37+BC31*BB37+(BC29-BC30-BC31)*AZ37))))","v":0},null,"PM10",{"$f":"Z8+AZ15","v":0},{"$f":"AA8+BA15","v":0},{"$f":"AB8+BB15","v":0},{"$f":"AC8+BC15","v":0},{"$f":"AD8+BD15","v":0},{"$f":"AE8+BE15","v":0},{"$f":"AF8+BF15","v":0},{"$f":"AG8+BG15","v":0},{"$f":"AH8+BH15","v":0},{"$f":"AI8+BI15","v":0},{"$f":"AJ8+BJ15","v":0},null,"PM10",{"$f":"AM8+BM15/2000","v":0},{"$f":"AN8+BN15/2000","v":0},{"$f":"AO8+BO15/2000","v":0},{"$f":"AP8+BP15/2000","v":0},{"$f":"AQ8+BQ15/2000","v":0},{"$f":"AR8+BR15/2000","v":0},{"$f":"AS8+BS15/2000","v":0},{"$f":"AT8+BT15/2000","v":0},{"$f":"AU8+BU15/2000","v":0},{"$f":"AV8+BV15/2000","v":0},{"$f":"AW8+BW15/2000","v":0}]
["PM2.5",7.6,7.6,7.6,7.6,7.6,7.6,7.6,7.6,7.6,7.6,null,"PM2.5",{"$f":"IF(Dryer!C31=0,B9/1020,Dryer!C31)","v":7.4509803921568628E-3},{"$f":"IF(Dryer!D31=0,C9/1020,Dryer!D31)","v":7.4509803921568628E-3},{"$f":"IF(Dryer!E31=0,D9/1020,Dryer!E31)","v":7.4509803921568628E-3},{"$f":"IF(Dryer!F31=0,E9/1020,Dryer!F31)","v":7.4509803921568628E-3},{"$f":"IF(Dryer!G31=0,F9/1020,Dryer!G31)","v":7.4509803921568628E-3},{"$f":"IF(Dryer!H31=0,G9/1020,Dryer!H31)","v":7.4509803921568628E-3},{"$f":"IF(Dryer!I31=0,H9/1020,Dryer!I31)","v":7.4509803921568628E-3},{"$f":"IF(Dryer!J31=0,I9/1020,Dryer!J31)","v":7.4509803921568628E-3},{"$f":"IF(Dryer!K31=0,J9/1020,Dryer!K31)","v":7.4509803921568628E-3},{"$f":"IF(Dryer!L31=0,K9/1020,Dryer!L31)","v":7.4509803921568628E-3},null,"PM2.5",{"$f":"IF(AZ27=1,N9*Dryer!$F$15,N9*Dryer!$F$15*$BA$40*(1-$BA$41))","v":0},{"$f":"IF(BA27=1,O9*Dryer!$F$16,O9*Dryer!$F$16*$BA$40*(1-$BA$41))","v":0},{"$f":"IF(BB27=1,P9*Dryer!$F$17,P9*Dryer!$F$17*$BA$40*(1-$BA$41))","v":0},{"$f":"IF(BC27=1,Q9*Dryer!$F$18,Q9*Dryer!$F$18*$BA$40*(1-$BA$41))","v":0},{"$f":"IF(BD27=1,R9*Dryer!$F$19,R9*Dryer!$F$19*$BA$40*(1-$BA$41))","v":0},{"$f":"IF(BE27=1,S9*Dryer!$F$20,S9*Dryer!$F$20*$BA$40*(1-$BA$41))","v":0},{"$f":"IF(BF27=1,T9*Dryer!$F$21,T9*Dryer!$F$21*$BA$40*(1-$BA$41))","v":0},{"$f":"IF(BG27=1,U9*Dryer!$F$22,U9*Dryer!$F$22*$BA$40*(1-$BA$41))","v":0},{"$f":"IF(BH27=1,V9*Dryer!$F$23,V9*Dryer!$F$23*$BA$40*(1-$BA$41))","v":0},{"$f":"IF(BI27=1,W9*Dryer!$F$24,W9*Dryer!$F$24*$BA$40*(1-$BA$41))","v":0},0,null,"PM2.5",{"$f":"IF(AM$4=0,Z9*8760/2000,Z9*AM$4/2000)","v":0},{"$f":"IF(AN$4=0,AA9*8760/2000,AA9*AN$4/2000)","v":0},{"$f":"IF(AO$4=0,AB9*8760/2000,AB9*AO$4/2000)","v":0},{"$f":"IF(AP$4=0,AC9*8760/2000,AC9*AP$4/2000)","v":0},{"$f":"IF(AQ$4=0,AD9*8760/2000,AD9*AQ$4/2000)","v":0},{"$f":"IF(AR$4=0,AE9*8760/2000,AE9*AR$4/2000)","v":0},{"$f":"IF(AS$4=0,AF9*8760/2000,AF9*AS$4/2000)","v":0},{"$f":"IF(AT$4=0,AG9*8760/2000,AG9*AT$4/2000)","v":0},{"$f":"IF(AU$4=0,AH9*8760/2000,AH9*AU$4/2000)","v":0},{"$f":"IF(AV$4=0,AI9*8760/2000,AI9*AV$4/2000)","v":0},0,null,"PM2.5",{"$f":"IF(Dryer!G15=\"\",0.13,LOOKUP(Dryer!G15,Calculations!$AZ$35:$BB$35,Calculations!$AZ$38:$BB$38))*Dryer!D15","v":0},{"$f":"IF(Dryer!G16=\"\",0.13,LOOKUP(Dryer!G16,Calculations!$AZ$35:$BB$35,Calculations!$AZ$38:$BB$38))*Dryer!D16","v":0},{"$f":"IF(Dryer!G17=\"\",0.13,LOOKUP(Dryer!G17,Calculations!$AZ$35:$BB$35,Calculations!$AZ$38:$BB$38))*Dryer!D17","v":0},{"$f":"IF(Dryer!G18=\"\",0.13,LOOKUP(Dryer!G18,Calculations!$AZ$35:$BB$35,Calculations!$AZ$38:$BB$38))*Dryer!D18","v":0},{"$f":"IF(Dryer!G19=\"\",0.13,LOOKUP(Dryer!G19,Calculations!$AZ$35:$BB$35,Calculations!$AZ$38:$BB$38))*Dryer!D19","v":0},{"$f":"IF(Dryer!G20=\"\",0.13,LOOKUP(Dryer!G20,Calculations!$AZ$35:$BB$35,Calculations!$AZ$38:$BB$38))*Dryer!D20","v":0},{"$f":"IF(Dryer!G21=\"\",0.13,LOOKUP(Dryer!G21,Calculations!$AZ$35:$BB$35,Calculations!$AZ$38:$BB$38))*Dryer!D21","v":0},{"$f":"IF(Dryer!G22=\"\",0.13,LOOKUP(Dryer!G22,Calculations!$AZ$35:$BB$35,Calculations!$AZ$38:$BB$38))*Dryer!D22","v":0},{"$f":"IF(Dryer!G23=\"\",0.13,LOOKUP(Dryer!G23,Calculations!$AZ$35:$BB$35,Calculations!$AZ$38:$BB$38))*Dryer!D23","v":0},{"$f":"IF(Dryer!G24=\"\",0.13,LOOKUP(Dryer!G24,Calculations!$AZ$35:$BB$35,Calculations!$AZ$38:$BB$38))*Dryer!D24","v":0},{"$f":"IF(BC28=0,SUM(AZ9:BI9),IF(BC28<=BC30,BC28*BA38,IF(BC28<=(BC30+BC31),(BC30*BA38+(BC28-BC30)*BB38),(BC30*BA38+BC31*BB38+(BC28-BC30-BC31)*AZ38))))","v":0},null,"PM2.5",{"$f":"IF(Dryer!G15=\"\",0.13,LOOKUP(Dryer!G15,Calculations!$AZ$35:$BB$35,Calculations!$AZ$38:$BB$38))*Dryer!D15*IF(AM4=0,8760,AM4)","v":0},{"$f":"IF(Dryer!G16=\"\",0.13,LOOKUP(Dryer!G16,Calculations!$AZ$35:$BB$35,Calculations!$AZ$38:$BB$38))*Dryer!D16*IF(AN4=0,8760,AN4)","v":0},{"$f":"IF(Dryer!G17=\"\",0.13,LOOKUP(Dryer!G17,Calculations!$AZ$35:$BB$35,Calculations!$AZ$38:$BB$38))*Dryer!D17*IF(AO4=0,8760,AO4)","v":0},{"$f":"IF(Dryer!G18=\"\",0.13,LOOKUP(Dryer!G18,Calculations!$AZ$35:$BB$35,Calculations!$AZ$38:$BB$38))*Dryer!D18*IF(AP4=0,8760,AP4)","v":0},{"$f":"IF(Dryer!G19=\"\",0.13,LOOKUP(Dryer!G19,Calculations!$AZ$35:$BB$35,Calculations!$AZ$38:$BB$38))*Dryer!D19*IF(AQ4=0,8760,AQ4)","v":0},{"$f":"IF(Dryer!G20=\"\",0.13,LOOKUP(Dryer!G20,Calculations!$AZ$35:$BB$35,Calculations!$AZ$38:$BB$38))*Dryer!D20*IF(AR4=0,8760,AR4)","v":0},{"$f":"IF(Dryer!G21=\"\",0.13,LOOKUP(Dryer!G21,Calculations!$AZ$35:$BB$35,Calculations!$AZ$38:$BB$38))*Dryer!D21*IF(AS4=0,8760,AS4)","v":0},{"$f":"IF(Dryer!G22=\"\",0.13,LOOKUP(Dryer!G22,Calculations!$AZ$35:$BB$35,Calculations!$AZ$38:$BB$38))*Dryer!D22*IF(AT4=0,8760,AT4)","v":0},{"$f":"IF(Dryer!G23=\"\",0.13,LOOKUP(Dryer!G23,Calculations!$AZ$35:$BB$35,Calculations!$AZ$38:$BB$38))*Dryer!D23*IF(AU4=0,8760,AU4)","v":0},{"$f":"IF(Dryer!G24=\"\",0.13,LOOKUP(Dryer!G24,Calculations!$AZ$35:$BB$35,Calculations!$AZ$38:$BB$38))*Dryer!D24*IF(AV4=0,8760,AV4)","v":0},{"$f":"IF(BC29=0,SUM(BM9:BV9),IF(BC29<=BC30*8760,BC29*BA38,IF(BC29<=(BC30+BC31)*8760,(BC30*BA38+(BC29-BC30)*BB38),(BC30*BA38+BC31*BB38+(BC29-BC30-BC31)*AZ38))))","v":0},null,"PM2.5",0,0,0,0,0,0,0,0,0,0,0,null,"PM2.5",{"$f":"AM9+BM16/2000","v":0},0,0,0,0,0,0,0,0,0,0]
["SO2",0.6,0.6,0.6,0.6,0.6,0.6,0.6,0.6,0.6,0.6,null,"SO2",{"$f":"IF(Dryer!C32=0,B10/1020,Dryer!C32)","v":5.8823529411764701E-4},{"$f":"IF(Dryer!D32=0,C10/1020,Dryer!D32)","v":5.8823529411764701E-4},{"$f":"IF(Dryer!E32=0,D10/1020,Dryer!E32)","v":5.8823529411764701E-4},{"$f":"IF(Dryer!F32=0,E10/1020,Dryer!F32)","v":5.8823529411764701E-4},{"$f":"IF(Dryer!G32=0,F10/1020,Dryer!G32)","v":5.8823529411764701E-4},{"$f":"IF(Dryer!H32=0,G10/1020,Dryer!H32)","v":5.8823529411764701E-4},{"$f":"IF(Dryer!I32=0,H10/1020,Dryer!I32)","v":5.8823529411764701E-4},{"$f":"IF(Dryer!J32=0,I10/1020,Dryer!J32)","v":5.8823529411764701E-4},{"$f":"IF(Dryer!K32=0,J10/1020,Dryer!K32)","v":5.8823529411764701E-4},{"$f":"IF(Dryer!L32=0,K10/1020,Dryer!L32)","v":5.8823529411764701E-4},null,"SO2",{"$f":"N10*Dryer!$F$15","v":0},{"$f":"O10*Dryer!$F$16","v":0},{"$f":"P10*Dryer!$F$17","v":0},{"$f":"Q10*Dryer!$F$18","v":0},{"$f":"R10*Dryer!$F$19","v":0},{"$f":"S10*Dryer!$F$20","v":0},{"$f":"T10*Dryer!$F$21","v":0},{"$f":"U10*Dryer!$F$22","v":0},{"$f":"V10*Dryer!$F$23","v":0},{"$f":"W10*Dryer!$F$24","v":0},0,null,"SO2",0,0,0,0,0,0,0,0,0,0,0,null,null,null,null,null,null,null,null,null,null,null,null,null,null,null,null,null,null,null,null,null,null,null,null,null,null,null,"SO2",{"$f":"Z10","v":0},{"$f":"AA10","v":0},0,0,0,0,0,0,0,0,{"$f":"SUM(BZ10:CI10)","v":0},null,"SO2",{"$f":"AM10","v":0},{"$f":"AN10","v":0},0,0,0,0,0,0,0,0,0]
["NOx",{"$f":"IF(Dryer!E15=Datasets!$AA$3,50,IF(Dryer!E15=Datasets!$AA$4,32,100))","v":100},{"$f":"IF(Dryer!E16=Datasets!$AA$3,50,IF(Dryer!E16=Datasets!$AA$4,32,100))","v":100},{"$f":"IF(Dryer!E17=Datasets!$AA$3,50,IF(Dryer!E17=Datasets!$AA$4,32,100))","v":100},{"$f":"IF(Dryer!E18=Datasets!$AA$3,50,IF(Dryer!E18=Datasets!$AA$4,32,100))","v":100},{"$f":"IF(Dryer!E19=Datasets!$AA$3,50,IF(Dryer!E19=Datasets!$AA$4,32,100))","v":100},{"$f":"IF(Dryer!E20=Datasets!$AA$3,50,IF(Dryer!E20=Datasets!$AA$4,32,100))","v":100},{"$f":"IF(Dryer!E21=Datasets!$AA$3,50,IF(Dryer!E21=Datasets!$AA$4,32,100))","v":100},{"$f":"IF(Dryer!E22=Datasets!$AA$3,50,IF(Dryer!E22=Datasets!$AA$4,32,100))","v":100},{"$f":"IF(Dryer!E23=Datasets!$AA$3,50,IF(Dryer!E23=Datasets!$AA$4,32,100))","v":100},{"$f":"IF(Dryer!E24=Datasets!$AA$3,50,IF(Dryer!E24=Datasets!$AA$4,32,100))","v":100},null,"NOx",{"$f":"IF(Dryer!C33=0,B11/1020,Dryer!C33)","v":9.8039215686274508E-2},{"$f":"IF(Dryer!D33=0,C11/1020,Dryer!D33)","v":9.8039215686274508E-2},{"$f":"IF(Dryer!E33=0,D11/1020,Dryer!E33)","v":9.8039215686274508E-2},{"$f":"IF(Dryer!F33=0,E11/1020,Dryer!F33)","v":9.8039215686274508E-2},{"$f":"IF(Dryer!G33=0,F11/1020,Dryer!G33)","v":9.8039215686274508E-2},{"$f":"IF(Dryer!H33=0,G11/1020,Dryer!H33)","v":9.8039215686274508E-2},{"$f":"IF(Dryer!I33=0,H11/1020,Dryer!I33)","v":9.8039215686274508E-2},{"$f":"IF(Dryer!J33=0,I11/1020,Dryer!J33)","v":9.8039215686274508E-2},{"$f":"IF(Dryer!K33=0,J11/1020,Dryer!K33)","v":9.8039215686274508E-2},{"$f":"IF(Dryer!L33=0,K11/1020,Dryer!L33)","v":9.8039215686274508E-2},null,"NOx",{"$f":"N11*Dryer!$F$15","v":0},{"$f":"O11*Dryer!$F$16","v":0},{"$f":"P11*Dryer!$F$17","v":0},{"$f":"Q11*Dryer!$F$18","v":0},{"$f":"R11*Dryer!$F$19","v":0},{"$f":"S11*Dryer!$F$20","v":0},{"$f":"T11*Dryer!$F$21","v":0},{"$f":"U11*Dryer!$F$22","v":0},{"$f":"V11*Dryer!$F$23","v":0},{"$f":"W11*Dryer!$F$24","v":0},{"$f":"SUM(Z11:AI11)","v":0},null,"NOx",0,0,0,0,0,0,0,0,0,0,0,null,"PTE in lb/hr considering baghouse control = Emission Factor (lb/ton) x Maximum permitted hourly rate (ton/hr)",null,null,null,null,null,null,null,null,null,null,null,null,"PTE in lb/yr considering baghouse control = Emission Factor (lb/ton) x Maximum permitted annual rate (ton/yr)",null,null,null,null,null,null,null,null,null,null,null,null,"NOx",{"$f":"Z11","v":0},{"$f":"AA11","v":0},{"$f":"AB11","v":0},{"$f":"AC11","v":0},{"$f":"AD11","v":0},{"$f":"AE11","v":0},{"$f":"AF11","v":0},{"$f":"AG11","v":0},{"$f":"AH11","v":0},{"$f":"AI11","v":0},{"$f":"SUM(BZ11:CI11)","v":0},null,"NOx",{"$f":"AM11","v":0},{"$f":"AN11","v":0},{"$f":"AO11","v":0},{"$f":"AP11","v":0},{"$f":"AQ11","v":0},{"$f":"AR11","v":0},{"$f":"AS11","v":0},{"$f":"AT11","v":0},{"$f":"AU11","v":0},{"$f":"AV11","v":0},{"$f":"AW11","v":0}]
["CO",84,84,84,84,84,84,84,84,84,84,null,"CO",{"$f":"IF(Dryer!C34=0,B12/1020,Dryer!C34)","v":8.2352941176470587E-2},{"$f":"IF(Dryer!D34=0,C12/1020,Dryer!D34)","v":8.2352941176470587E-2},{"$f":"IF(Dryer!E34=0,D12/1020,Dryer!E34)","v":8.2352941176470587E-2},{"$f":"IF(Dryer!F34=0,E12/1020,Dryer!F34)","v":8.2352941176470587E-2},{"$f":"IF(Dryer!G34=0,F12/1020,Dryer!G34)","v":8.2352941176470587E-2},{"$f":"IF(Dryer!H34=0,G12/1020,Dryer!H34)","v":8.2352941176470587E-2},{"$f":"IF(Dryer!I34=0,H12/1020,Dryer!I34)","v":8.2352941176470587E-2},{"$f":"IF(Dryer!J34=0,I12/1020,Dryer!J34)","v":8.2352941176470587E-2},{"$f":"IF(Dryer!K34=0,J12/1020,Dryer!K34)","v":8.2352941176470587E-2},{"$f":"IF(Dryer!L34=0,K12/1020,Dryer!L34)","v":8.2352941176470587E-2},null,"CO",{"$f":"N12*Dryer!$F$15","v":0},{"$f":"O12*Dryer!$F$16","v":0},{"$f":"P12*Dryer!$F$17","v":0},{"$f":"Q12*Dryer!$F$18","v":0},{"$f":"R12*Dryer!$F$19","v":0},{"$f":"S12*Dryer!$F$20","v":0},{"$f":"T12*Dryer!$F$21","v":0},{"$f":"U12*Dryer!$F$22","v":0},{"$f":"V12*Dryer!$F$23","v":0},{"$f":"W12*Dryer!$F$24","v":0},{"$f":"SUM(Z12:AI12)","v":0},null,"CO",0,0,0,0,0,0,0,0,0,0,0,null,"Pollutant","1st Dryer","2nd Dryer","3rd Dryer","4th Dryer","5th Dryer","6th Dryer","7th Dryer","8th Dryer","9th Dryer","10th Dryer","Total ",null,"Pollutant","1st Dryer","2nd Dryer","3rd Dryer","4th Dryer","5th Dryer","6th Dryer","7th Dryer","8th Dryer","9th Dryer","10th Dryer","Total ",null,"CO",0,0,0,0,0,0,0,0,0,0,{"$f":"SUM(BZ12:CI12)","v":0},null,"CO",0,0,0,0,0,0,0,0,0,0,0]
["VOC",5.5,5.5,5.5,5.5,5.5,5.5,5.5,5.5,5.5,5.5,null,"VOC",{"$f":"IF(Dryer!C35=0,B13/1020,Dryer!C35)","v":5.392156862745098E-3},{"$f":"IF(Dryer!D35=0,C13/1020,Dryer!D35)","v":5.392156862745098E-3},{"$f":"IF(Dryer!E35=0,D13/1020,Dryer!E35)","v":5.392156862745098E-3},{"$f":"IF(Dryer!F35=0,E13/1020,Dryer!F35)","v":5.392156862745098E-3},{"$f":"IF(Dryer!G35=0,F13/1020,Dryer!G35)","v":5.392156862745098E-3},{"$f":"IF(Dryer!H35=0,G13/1020,Dryer!H35)","v":5.392156862745098E-3},{"$f":"IF(Dryer!I35=0,H13/1020,Dryer!I35)","v":5.392156862745098E-3},{"$f":"IF(Dryer!J35=0,I13/1020,Dryer!J35)","v":5.392156862745098E-3},{"$f":"IF(Dryer!K35=0,J13/1020,Dryer!K35)","v":5.392156862745098E-3},{"$f":"IF(Dryer!L35=0,K13/1020,Dryer!L35)","v":5.392156862745098E-3},null,"VOC",{"$f":"N13*Dryer!$F$15","v":0},{"$f":"O13*Dryer!$F$16","v":0},{"$f":"P13*Dryer!$F$17","v":0},{"$f":"Q13*Dryer!$F$18","v":0},{"$f":"R13*Dryer!$F$19","v":0},{"$f":"S13*Dryer!$F$20","v":0},{"$f":"T13*Dryer!$F$21","v":0},{"$f":"U13*Dryer!$F$22","v":0},{"$f":"V13*Dryer!$F$23","v":0},{"$f":"W13*Dryer!$F$24","v":0},{"$f":"SUM(Z13:AI13)","v":0},null,"VOC",0,0,0,0,0,0,0,0,0,0,0,null,null,"(lb/hr)",null,null,null,null,null,null,null,null,null,null,null,null,"(lb/year)",null,null,null,null,null,null,null,null,null,null,null,"VOC",0,0,0,0,0,0,0,0,0,0,{"$f":"SUM(BZ13:CI13)","v":0},null,"VOC",0,0,0,0,0,0,0,0,0,0,0]
["Individual HAP","(lb/MMscf)",null,null,null,null,null,null,null,null,null,null,"Individual HAP",null,null,null,null,null,null,null,null,null,null,null,"Individual HAP",null,null,null,null,null,null,null,null,null,null,null,null,"Individual HAP",null,null,null,null,null,null,null,null,null,null,null,null,"PMfilterable",{"$f":"IF(AZ27=1,AZ7,AZ7*$BA$40*(1-$BA$41))","v":0},0,0,0,0,0,0,0,0,0,{"$f":"IF(OR(BC28=0,BC28>=SUM(BC30:BC32)),SUM(AZ14:BI14),IF(BC28<=BI30,BC28*BA36,IF(BC28<=(BI30+BI31),(BI30*BA36+(BC28-BI30)*BB36),IF(BC28<=(BI30+BI31+BI32),(BI30*BA36+BI31*BB36+(BC28-BI30-BI31)*AZ36),IF(BC28<=(BC30+BI31+BI32),(BI30*BA36+BI31*BB36+BI32*AZ36+(BC28-BI30)*BG36),IF(BC28<=(BC30+BC31+BI32),(BI30*BA36+BI31*BB36+BI32*AZ36+(BC30-BI30)*BG36+(BC28-BI31)*BH36),(BI30*BA36+BI31*BB36+BI32*AZ36+(BC30-BI30)*BG36+(BC31-BI31)*BH36+(BC28-BI32)*BF36)))))))","v":0},null,"PMfilterable",{"$f":"IF(AZ27=1,BM7,BM7*$BA$40*(1-$BA$41))","v":0},0,0,0,0,0,0,0,0,0,{"$f":"IF(OR(BC29=0,BC29>=8760*SUM(BC30:BC32)),SUM(BM14:BV14),IF(BC29<=BI30*8760,BC29*BA36,IF(BC29<=(BI30+BI31)*8760,(BI30*BA36*8760+(BC29-BI30*8760)*BB36),IF(BC29<=(BI30+BI31+BI32)*8760,(BI30*BA36*8760+BI31*BB36*8760+(BC29-BI30*8760-BI31*8760)*AZ36),IF(BC29<=(BC30+BI31+BI32)*8760,(BI30*BA36*8760+BI31*BB36*8760+BI32*AZ36*8760+(BC29-BI30*8760)*BG36),IF(BC29<=(BC30+BC31+BI32)*8760,(BI30*BA36*8760+BI31*BB36*8760+BI32*AZ36*8760+(BC30-BI30)*BG36*8760+(BC29-BI31*8760)*BH36),(BI30*BA36*8760+BI31*BB36*8760+BI32*AZ36*8760+(BC30-BI30)*BG36*8760+(BC31-BI31)*BH36*8760+(BC29-BI32*8760)*BF36)))))))","v":0},null,"Individual HAP",null,null,null,null,null,null,null,null,null,null,null,null,"Individual HAP"]
["  Benzene ",2.0999999999999999E-3,2.0999999999999999E-3,2.0999999999999999E-3,2.0999999999999999E-3,2.0999999999999999E-3,2.0999999999999999E-3,2.0999999999999999E-3,2.0999999999999999E-3,2.0999999999999999E-3,2.0999999999999999E-3,null,"  Benzene ",{"$f":"IF(Dryer!C37=0,B15/1020,Dryer!C37)","v":2.0588235294117645E-6},{"$f":"IF(Dryer!D37=0,C15/1020,Dryer!D37)","v":2.0588235294117645E-6},{"$f":"IF(Dryer!E37=0,D15/1020,Dryer!E37)","v":2.0588235294117645E-6},{"$f":"IF(Dryer!F37=0,E15/1020,Dryer!F37)","v":2.0588235294117645E-6},{"$f":"IF(Dryer!G37=0,F15/1020,Dryer!G37)","v":2.0588235294117645E-6},{"$f":"IF(Dryer!H37=0,G15/1020,Dryer!H37)","v":2.0588235294117645E-6},{"$f":"IF(Dryer!I37=0,H15/1020,Dryer!I37)","v":2.0588235294117645E-6},{"$f":"IF(Dryer!J37=0,I15/1020,Dryer!J37)","v":2.0588235294117645E-6},{"$f":"IF(Dryer!K37=0,J15/1020,Dryer!K37)","v":2.0588235294117645E-6},{"$f":"IF(Dryer!L37=0,K15/1020,Dryer!L37)","v":2.0588235294117645E-6},null,"  Benzene ",{"$f":"N15*Dryer!$F$15","v":0},{"$f":"O15*Dryer!$F$16","v":0},{"$f":"P15*Dryer!$F$17","v":0},{"$f":"Q15*Dryer!$F$18","v":0},{"$f":"R15*Dryer!$F$19","v":0},{"$f":"S15*Dryer!$F$20","v":0},{"$f":"T15*Dryer!$F$21","v":0},{"$f":"U15*Dryer!$F$22","v":0},{"$f":"V15*Dryer!$F$23","v":0},{"$f":"W15*Dryer!$F$24","v":0},0,null,"  Benzene ",{"$f":"IF(AM$4=0,Z15*8760/2000,Z15*AM$4/2000)","v":0},{"$f":"IF(AN$4=0,AA15*8760/2000,AA15*AN$4/2000)","v":0},{"$f":"IF(AO$4=0,AB15*8760/2000,AB15*AO$4/2000)","v":0},{"$f":"IF(AP$4=0,AC15*8760/2000,AC15*AP$4/2000)","v":0},{"$f":"IF(AQ$4=0,AD15*8760/2000,AD15*AQ$4/2000)","v":0},{"$f":"IF(AR$4=0,AE15*8760/2000,AE15*AR$4/2000)","v":0},{"$f":"IF(AS$4=0,AF15*8760/2000,AF15*AS$4/2000)","v":0},{"$f":"IF(AT$4=0,AG15*8760/2000,AG15*AT$4/2000)","v":0},{"$f":"IF(AU$4=0,AH15*8760/2000,AH15*AU$4/2000)","v":0},{"$f":"IF(AV$4=0,AI15*8760/2000,AI15*AV$4/2000)","v":0},0,null,"PM10",{"$f":"IF(AZ27=1,AZ8,AZ8*$BA$40*(1-$BA$41))","v":0},0,0,0,0,0,0,0,0,0,{"$f":"IF(OR(BC28=0,BC28>=SUM(BC30:BC32)),SUM(AZ15:BI15),IF(BC28<=BI30,BC28*BA37,IF(BC28<=(BI30+BI31),(BI30*BA37+(BC28-BI30)*BB37),IF(BC28<=(BI30+BI31+BI32),(BI30*BA37+BI31*BB37+(BC28-BI30-BI31)*AZ37),IF(BC28<=(BC30+BI31+BI32),(BI30*BA37+BI31*BB37+BI32*AZ37+(BC28-BI30)*BG37),IF(BC28<=(BC30+BC31+BI32),(BI30*BA37+BI31*BB37+BI32*AZ37+(BC30-BI30)*BG37+(BC28-BI31)*BH37),(BI30*BA37+BI31*BB37+BI32*AZ37+(BC30-BI30)*BG37+(BC31-BI31)*BH37+(BC28-BI32)*BF37)))))))","v":0},null,"PM10",{"$f":"IF(AZ27=1,BM8,BM8*$BA$40*(1-$BA$41))","v":0},0,0,0,0,0,0,0,0,0,{"$f":"IF(OR(BC29=0,BC29>=8760*SUM(BC30:BC32)),SUM(BM15:BV15),IF(BC29<=BI30*8760,BC29*BA37,IF(BC29<=(BI30+BI31)*8760,(BI30*BA37*8760+(BC29-BI30*8760)*BB37),IF(BC29<=(BI30+BI31+BI32)*8760,(BI30*BA37*8760+BI31*BB37*8760+(BC29-BI30*8760-BI31*8760)*AZ37),IF(BC29<=(BC30+BI31+BI32)*8760,(BI30*BA37*8760+BI31*BB37*8760+BI32*AZ37*8760+(BC29-BI30*8760)*BG37),IF(BC29<=(BC30+BC31+BI32)*8760,(BI30*BA37*8760+BI31*BB37*8760+BI32*AZ37*8760+(BC30-BI30)*BG37*8760+(BC29-BI31*8760)*BH37),(BI30*BA37*8760+BI31*BB37*8760+BI32*AZ37*8760+(BC30-BI30)*BG37*8760+(BC31-BI31)*BH37*8760+(BC29-BI32*8760)*BF37)))))))","v":0},null,"  Benzene ",{"$f":"Z15","v":0},{"$f":"AA15","v":0},0,0,0,0,0,0,0,0,{"$f":"SUM(BZ15:CI15)","v":0},null,"  Benzene ",{"$f":"AM15","v":0},{"$f":"AN15","v":0},{"$f":"AO15","v":0},{"$f":"AP15","v":0},{"$f":"AQ15","v":0},{"$f":"AR15","v":0},{"$f":"AS15","v":0},{"$f":"AT15","v":0},{"$f":"AU15","v":0},{"$f":"AV15","v":0},{"$f":"AW15","v":0}]
["  Dichlorobenzene ",1.1999999999999999E-3,1.1999999999999999E-3,1.1999999999999999E-3,1.1999999999999999E-3,1.1999999999999999E-3,1.1999999999999999E-3,1.1999999999999999E-3,1.1999999999999999E-3,1.1999999999999999E-3,1.1999999999999999E-3,null,"  Dichlorobenzene ",{"$f":"IF(Dryer!C38=0,B16/1020,Dryer!C38)","v":1.176470588235294E-6},{"$f":"IF(Dryer!D38=0,C16/1020,Dryer!D38)","v":1.176470588235294E-6},{"$f":"IF(Dryer!E38=0,D16/1020,Dryer!E38)","v":1.176470588235294E-6},{"$f":"IF(Dryer!F38=0,E16/1020,Dryer!F38)","v":1.176470588235294E-6},{"$f":"IF(Dryer!G38=0,F16/1020,Dryer!G38)","v":1.176470588235294E-6},{"$f":"IF(Dryer!H38=0,G16/1020,Dryer!H38)","v":1.176470588235294E-6},{"$f":"IF(Dryer!I38=0,H16/1020,Dryer!I38)","v":1.176470588235294E-6},{"$f":"IF(Dryer!J38=0,I16/1020,Dryer!J38)","v":1.176470588235294E-6},{"$f":"IF(Dryer!K38=0,J16/1020,Dryer!K38)","v":1.176470588235294E-6},{"$f":"IF(Dryer!L38=0,K16/1020,Dryer!L38)","v":1.176470588235294E-6},null,"  Dichlorobenzene ",{"$f":"N16*Dryer!$F$15","v":0},{"$f":"O16*Dryer!$F$16","v":0},{"$f":"P16*Dryer!$F$17","v":0},{"$f":"Q16*Dryer!$F$18","v":0},{"$f":"R16*Dryer!$F$19","v":0},{"$f":"S16*Dryer!$F$20","v":0},{"$f":"T16*Dryer!$F$21","v":0},{"$f":"U16*Dryer!$F$22","v":0},{"$f":"V16*Dryer!$F$23","v":0},{"$f":"W16*Dryer!$F$24","v":0},0,null,"  Dichlorobenzene ",0,0,0,0,0,0,0,0,0,0,0,null,"PM2.5",{"$f":"IF(AZ27=1,AZ9,AZ9*$BA$40*(1-$BA$41))","v":0},0,0,0,0,0,0,0,0,0,{"$f":"IF(OR(BC28=0,BC28>=SUM(BC30:BC32)),SUM(AZ16:BI16),IF(BC28<=BI30,BC28*BA38,IF(BC28<=(BI30+BI31),(BI30*BA38+(BC28-BI30)*BB38),IF(BC28<=(BI30+BI31+BI32),(BI30*BA38+BI31*BB38+(BC28-BI30-BI31)*AZ38),IF(BC28<=(BC30+BI31+BI32),(BI30*BA38+BI31*BB38+BI32*AZ38+(BC28-BI30)*BG38),IF(BC28<=(BC30+BC31+BI32),(BI30*BA38+BI31*BB38+BI32*AZ38+(BC30-BI30)*BG38+(BC28-BI31)*BH38),(BI30*BA38+BI31*BB38+BI32*AZ38+(BC30-BI30)*BG38+(BC31-BI31)*BH38+(BC28-BI32)*BF38)))))))","v":0},null,"PM2.5",{"$f":"IF(AZ27=1,BM9,BM9*$BA$40*(1-$BA$41))","v":0},0,0,0,0,0,0,0,0,0,{"$f":"IF(OR(BC29=0,BC29>=8760*SUM(BC30:BC32)),SUM(BM16:BV16),IF(BC29<=BI30*8760,BC29*BA38,IF(BC29<=(BI30+BI31)*8760,(BI30*BA38*8760+(BC29-BI30*8760)*BB38),IF(BC29<=(BI30+BI31+BI32)*8760,(BI30*BA38*8760+BI31*BB38*8760+(BC29-BI30*8760-BI31*8760)*AZ38),IF(BC29<=(BC30+BI31+BI32)*8760,(BI30*BA38*8760+BI31*BB38*8760+BI32*AZ38*8760+(BC29-BI30*8760)*BG38),IF(BC29<=(BC30+BC31+BI32)*8760,(BI30*BA38*8760+BI31*BB38*8760+BI32*AZ38*8760+(BC30-BI30)*BG38*8760+(BC29-BI31*8760)*BH38),(BI30*BA38*8760+BI31*BB38*8760+BI32*AZ38*8760+(BC30-BI30)*BG38*8760+(BC31-BI31)*BH38*8760+(BC29-BI32*8760)*BF38)))))))","v":0},null,"  Dichlorobenzene ",{"$f":"Z16","v":0},{"$f":"AA16","v":0},{"$f":"AB16","v":0},{"$f":"AC16","v":0},{"$f":"AD16","v":0},{"$f":"AE16","v":0},{"$f":"AF16","v":0},{"$f":"AG16","v":0},{"$f":"AH16","v":0},{"$f":"AI16","v":0},0,null,"  Dichlorobenzene ",0,0,0,0,0,0,0,0,0,0,0]
["  Hexane ",1.8,1.8,1.8,1.8,1.8,1.8,1.8,1.8,1.8,1.8,null,"  Hexane ",{"$f":"IF(Dryer!C39=0,B17/1020,Dryer!C39)","v":1.7647058823529412E-3},{"$f":"IF(Dryer!D39=0,C17/1020,Dryer!D39)","v":1.7647058823529412E-3},{"$f":"IF(Dryer!E39=0,D17/1020,Dryer!E39)","v":1.7647058823529412E-3},{"$f":"IF(Dryer!F39=0,E17/1020,Dryer!F39)","v":1.7647058823529412E-3},{"$f":"IF(Dryer!G39=0,F17/1020,Dryer!G39)","v":1.7647058823529412E-3},{"$f":"IF(Dryer!H39=0,G17/1020,Dryer!H39)","v":1.7647058823529412E-3},{"$f":"IF(Dryer!I39=0,H17/1020,Dryer!I39)","v":1.7647058823529412E-3},{"$f":"IF(Dryer!J39=0,I17/1020,Dryer!J39)","v":1.7647058823529412E-3},{"$f":"IF(Dryer!K39=0,J17/1020,Dryer!K39)","v":1.7647058823529412E-3},{"$f":"IF(Dryer!L39=0,K17/1020,Dryer!L39)","v":1.7647058823529412E-3},null,"  Hexane ",{"$f":"N17*Dryer!$F$15","v":0},{"$f":"O17*Dryer!$F$16","v":0},{"$f":"P17*Dryer!$F$17","v":0},{"$f":"Q17*Dryer!$F$18","v":0},{"$f":"R17*Dryer!$F$19","v":0},{"$f":"S17*Dryer!$F$20","v":0},{"$f":"T17*Dryer!$F$21","v":0},{"$f":"U17*Dryer!$F$22","v":0},{"$f":"V17*Dryer!$F$23","v":0},{"$f":"W17*Dryer!$F$24","v":0},0,null,"  Hexane ",0,0,0,0,0,0,0,0,0,0,0,null,null,null,null,null,null,null,null,null,null,null,null,null,null,null,null,null,null,null,null,null,null,null,null,null,null,null,"  Hexane ",0,0,0,0,0,0,0,0,0,0,0,null,"  Hexane ",0,0,0,0,0,0,0,0,0,0,0]
["  Lead Compounds",5.0000000000000001E-4,5.0000000000000001E-4,5.0000000000000001E-4,5.0000000000000001E-4,5.0000000000000001E-4,5.0000000000000001E-4,5.0000000000000001E-4,5.0000000000000001E-4,5.0000000000000001E-4,5.0000000000000001E-4,null,"  Lead Compounds",{"$f":"IF(Dryer!C40=0,B18/1020,Dryer!C40)","v":4.9019607843137254E-7},{"$f":"IF(Dryer!D40=0,C18/1020,Dryer!D40)","v":4.9019607843137254E-7},{"$f":"IF(Dryer!E40=0,D18/1020,Dryer!E40)","v":4.9019607843137254E-7},{"$f":"IF(Dryer!F40=0,E18/1020,Dryer!F40)","v":4.9019607843137254E-7},{"$f":"IF(Dryer!G40=0,F18/1020,Dryer!G40)","v":4.9019607843137254E-7},{"$f":"IF(Dryer!H40=0,G18/1020,Dryer!H40)","v":4.9019607843137254E-7},{"$f":"IF(Dryer!I40=0,H18/1020,Dryer!I40)","v":4.9019607843137254E-7},{"$f":"IF(Dryer!J40=0,I18/1020,Dryer!J40)","v":4.9019607843137254E-7},{"$f":"IF(Dryer!K40=0,J18/1020,Dryer!K40)","v":4.9019607843137254E-7},{"$f":"IF(Dryer!L40=0,K18/1020,Dryer!L40)","v":4.9019607843137254E-7},null,"  Lead Compounds",{"$f":"N18*Dryer!$F$15","v":0},{"$f":"O18*Dryer!$F$16","v":0},{"$f":"P18*Dryer!$F$17","v":0},{"$f":"Q18*Dryer!$F$18","v":0},{"$f":"R18*Dryer!$F$19","v":0},{"$f":"S18*Dryer!$F$20","v":0},{"$f":"T18*Dryer!$F$21","v":0},{"$f":"U18*Dryer!$F$22","v":0},{"$f":"V18*Dryer!$F$23","v":0},{"$f":"W18*Dryer!$F$24","v":0},0,null,"  Lead Compounds",0,0,0,0,0,0,0,0,0,0,0,null,null,null,null,null,null,null,null,null,null,null,null,null,null,null,null,null,null,null,null,null,null,null,null,null,null,null,"  Lead Compounds",0,0,0,0,0,0,0,0,0,0,0,null,"  Lead Compounds",0,0,0,0,0,0,0,0,0,0,0]
["  Naphthalene ",6.0999999999999997E-4,6.0999999999999997E-4,6.0999999999999997E-4,6.0999999999999997E-4,6.0999999999999997E-4,6.0999999999999997E-4,6.0999999999999997E-4,6.0999999999999997E-4,6.0999999999999997E-4,6.0999999999999997E-4,null,"  Naphthalene ",{"$f":"IF(Dryer!C41=0,B19/1020,Dryer!C41)","v":5.9803921568627444E-7},{"$f":"IF(Dryer!D41=0,C19/1020,Dryer!D41)","v":5.9803921568627444E-7},{"$f":"IF(Dryer!E41=0,D19/1020,Dryer!E41)","v":5.9803921568627444E-7},{"$f":"IF(Dryer!F41=0,E19/1020,Dryer!F41)","v":5.9803921568627444E-7},{"$f":"IF(Dryer!G41=0,F19/1020,Dryer!G41)","v":5.9803921568627444E-7},{"$f":"IF(Dryer!H41=0,G19/1020,Dryer!H41)","v":5.9803921568627444E-7},{"$f":"IF(Dryer!I41=0,H19/1020,Dryer!I41)","v":5.9803921568627444E-7},{"$f":"IF(Dryer!J41=0,I19/1020,Dryer!J41)","v":5.9803921568627444E-7},{"$f":"IF(Dryer!K41=0,J19/1020,Dryer!K41)","v":5.9803921568627444E-7},{"$f":"IF(Dryer!L41=0,K19/1020,Dryer!L41)","v":5.9803921568627444E-7},null,"  Naphthalene ",{"$f":"N19*Dryer!$F$15","v":0},{"$f":"O19*Dryer!$F$16","v":0},{"$f":"P19*Dryer!$F$17","v":0},{"$f":"Q19*Dryer!$F$18","v":0},{"$f":"R19*Dryer!$F$19","v":0},{"$f":"S19*Dryer!$F$20","v":0},{"$f":"T19*Dryer!$F$21","v":0},{"$f":"U19*Dryer!$F$22","v":0},{"$f":"V19*Dryer!$F$23","v":0},{"$f":"W19*Dryer!$F$24","v":0},0,null,"  Naphthalene ",0,0,0,0,0,0,0,0,0,0,0,null,null,null,null,null,null,null,null,null,null,null,null,null,null,null,null,null,null,null,null,null,null,null,null,null,null,null,"  Naphthalene ",0,0,0,0,0,0,0,0,0,0,0,null,"  Naphthalene ",0,0,0,0,0,0,0,0,0,0,0]
["  Polycyclic Organic Matter ",8.8200000000000003E-5,8.8200000000000003E-5,8.8200000000000003E-5,8.8200000000000003E-5,8.8200000000000003E-5,8.8200000000000003E-5,8.8200000000000003E-5,8.8200000000000003E-5,8.8200000000000003E-5,8.8200000000000003E-5,null,"  Polycyclic Organic Matter ",{"$f":"IF(Dryer!C42=0,B20/1020,Dryer!C42)","v":8.6470588235294114E-8},{"$f":"IF(Dryer!D42=0,C20/1020,Dryer!D42)","v":8.6470588235294114E-8},{"$f":"IF(Dryer!E42=0,D20/1020,Dryer!E42)","v":8.6470588235294114E-8},{"$f":"IF(Dryer!F42=0,E20/1020,Dryer!F42)","v":8.6470588235294114E-8},{"$f":"IF(Dryer!G42=0,F20/1020,Dryer!G42)","v":8.6470588235294114E-8},{"$f":"IF(Dryer!H42=0,G20/1020,Dryer!H42)","v":8.6470588235294114E-8},{"$f":"IF(Dryer!I42=0,H20/1020,Dryer!I42)","v":8.6470588235294114E-8},{"$f":"IF(Dryer!J42=0,I20/1020,Dryer!J42)","v":8.6470588235294114E-8},{"$f":"IF(Dryer!K42=0,J20/1020,Dryer!K42)","v":8.6470588235294114E-8},{"$f":"IF(Dryer!L42=0,K20/1020,Dryer!L42)","v":8.6470588235294114E-8},null,"  Polycyclic Organic Matter ",{"$f":"N20*Dryer!$F$15","v":0},{"$f":"O20*Dryer!$F$16","v":0},{"$f":"P20*Dryer!$F$17","v":0},{"$f":"Q20*Dryer!$F$18","v":0},{"$f":"R20*Dryer!$F$19","v":0},{"$f":"S20*Dryer!$F$20","v":0},{"$f":"T20*Dryer!$F$21","v":0},{"$f":"U20*Dryer!$F$22","v":0},{"$f":"V20*Dryer!$F$23","v":0},{"$f":"W20*Dryer!$F$24","v":0},0,null,"  Polycyclic Organic Matter ",0,0,0,0,0,0,0,0,0,0,0,null,null,null,null,null,null,null,null,null,null,null,null,null,null,null,null,null,null,null,null,null,null,null,null,null,null,null,"  Polycyclic Organic Matter ",{"$f":"Z20","v":0},{"$f":"AA20","v":0},{"$f":"AB20","v":0},{"$f":"AC20","v":0},{"$f":"AD20","v":0},{"$f":"AE20","v":0},{"$f":"AF20","v":0},{"$f":"AG20","v":0},{"$f":"AH20","v":0},{"$f":"AI20","v":0},0,null,"  Polycyclic Organic Matter ",0,0,0,0,0,0,0,0,0,0,0]
["  Toluene ",3.3999999999999998E-3,3.3999999999999998E-3,3.3999999999999998E-3,3.3999999999999998E-3,3.3999999999999998E-3,3.3999999999999998E-3,3.3999999999999998E-3,3.3999999999999998E-3,3.3999999999999998E-3,3.3999999999999998E-3,null,"  Toluene ",{"$f":"IF(Dryer!C43=0,B21/1020,Dryer!C43)","v":3.3333333333333333E-6},{"$f":"IF(Dryer!D43=0,C21/1020,Dryer!D43)","v":3.3333333333333333E-6},{"$f":"IF(Dryer!E43=0,D21/1020,Dryer!E43)","v":3.3333333333333333E-6},{"$f":"IF(Dryer!F43=0,E21/1020,Dryer!F43)","v":3.3333333333333333E-6},{"$f":"IF(Dryer!G43=0,F21/1020,Dryer!G43)","v":3.3333333333333333E-6},{"$f":"IF(Dryer!H43=0,G21/1020,Dryer!H43)","v":3.3333333333333333E-6},{"$f":"IF(Dryer!I43=0,H21/1020,Dryer!I43)","v":3.3333333333333333E-6},{"$f":"IF(Dryer!J43=0,I21/1020,Dryer!J43)","v":3.3333333333333333E-6},{"$f":"IF(Dryer!K43=0,J21/1020,Dryer!K43)","v":3.3333333333333333E-6},{"$f":"IF(Dryer!L43=0,K21/1020,Dryer!L43)","v":3.3333333333333333E-6},null,"  Toluene ",{"$f":"N21*Dryer!$F$15","v":0},{"$f":"O21*Dryer!$F$16","v":0},{"$f":"P21*Dryer!$F$17","v":0},{"$f":"Q21*Dryer!$F$18","v":0},{"$f":"R21*Dryer!$F$19","v":0},{"$f":"S21*Dryer!$F$20","v":0},{"$f":"T21*Dryer!$F$21","v":0},{"$f":"U21*Dryer!$F$22","v":0},{"$f":"V21*Dryer!$F$23","v":0},{"$f":"W21*Dryer!$F$24","v":0},0,null,"  Toluene ",0,0,0,0,0,0,0,0,0,0,0,null,null,null,null,null,null,null,null,null,null,null,null,null,null,null,null,null,null,null,null,null,null,null,null,null,null,null,"  Toluene ",0,0,0,0,0,0,0,0,0,0,0,null,"  Toluene ",0,0,0,0,0,0,0,0,0,0,0]
["  Arsenic Compounds",2.0000000000000001E-4,2.0000000000000001E-4,2.0000000000000001E-4,2.0000000000000001E-4,2.0000000000000001E-4,2.0000000000000001E-4,2.0000000000000001E-4,2.0000000000000001E-4,2.0000000000000001E-4,2.0000000000000001E-4,null,"  Arsenic Compounds",{"$f":"IF(Dryer!C44=0,B22/1020,Dryer!C44)","v":1.9607843137254904E-7},{"$f":"IF(Dryer!D44=0,C22/1020,Dryer!D44)","v":1.9607843137254904E-7},{"$f":"IF(Dryer!E44=0,D22/1020,Dryer!E44)","v":1.9607843137254904E-7},{"$f":"IF(Dryer!F44=0,E22/1020,Dryer!F44)","v":1.9607843137254904E-7},{"$f":"IF(Dryer!G44=0,F22/1020,Dryer!G44)","v":1.9607843137254904E-7},{"$f":"IF(Dryer!H44=0,G22/1020,Dryer!H44)","v":1.9607843137254904E-7},{"$f":"IF(Dryer!I44=0,H22/1020,Dryer!I44)","v":1.9607843137254904E-7},{"$f":"IF(Dryer!J44=0,I22/1020,Dryer!J44)","v":1.9607843137254904E-7},{"$f":"IF(Dryer!K44=0,J22/1020,Dryer!K44)","v":1.9607843137254904E-7},{"$f":"IF(Dryer!L44=0,K22/1020,Dryer!L44)","v":1.9607843137254904E-7},null,"  Arsenic Compounds",{"$f":"N22*Dryer!$F$15","v":0},{"$f":"O22*Dryer!$F$16","v":0},{"$f":"P22*Dryer!$F$17","v":0},{"$f":"Q22*Dryer!$F$18","v":0},{"$f":"R22*Dryer!$F$19","v":0},{"$f":"S22*Dryer!$F$20","v":0},{"$f":"T22*Dryer!$F$21","v":0},{"$f":"U22*Dryer!$F$22","v":0},{"$f":"V22*Dryer!$F$23","v":0},{"$f":"W22*Dryer!$F$24","v":0},0,null,"  Arsenic Compounds",0,0,0,0,0,0,0,0,0,0,0,null,null,null,null,null,null,null,null,null,null,null,null,null,null,null,null,null,null,null,null,null,null,null,null,null,null,null,"  Arsenic Compounds",0,0,0,0,0,0,0,0,0,0,0,null,"  Arsenic Compounds",0,0,0,0,0,0,0,0,0,0,0]
["  Beryllium Compounds",1.2E-5,1.2E-5,1.2E-5,1.2E-5,1.2E-5,1.2E-5,1.2E-5,1.2E-5,1.2E-5,1.2E-5,null,"  Beryllium Compounds",{"$f":"IF(Dryer!C45=0,B23/1020,Dryer!C45)","v":1.1764705882352941E-8},{"$f":"IF(Dryer!D45=0,C23/1020,Dryer!D45)","v":1.1764705882352941E-8},{"$f":"IF(Dryer!E45=0,D23/1020,Dryer!E45)","v":1.1764705882352941E-8},{"$f":"IF(Dryer!F45=0,E23/1020,Dryer!F45)","v":1.1764705882352941E-8},{"$f":"IF(Dryer!G45=0,F23/1020,Dryer!G45)","v":1.1764705882352941E-8},{"$f":"IF(Dryer!H45=0,G23/1020,Dryer!H45)","v":1.1764705882352941E-8},{"$f":"IF(Dryer!I45=0,H23/1020,Dryer!I45)","v":1.1764705882352941E-8},{"$f":"IF(Dryer!J45=0,I23/1020,Dryer!J45)","v":1.1764705882352941E-8},{"$f":"IF(Dryer!K45=0,J23/1020,Dryer!K45)","v":1.1764705882352941E-8},{"$f":"IF(Dryer!L45=0,K23/1020,Dryer!L45)","v":1.1764705882352941E-8},null,"  Beryllium Compounds",{"$f":"N23*Dryer!$F$15","v":0},{"$f":"O23*Dryer!$F$16","v":0},{"$f":"P23*Dryer!$F$17","v":0},{"$f":"Q23*Dryer!$F$18","v":0},{"$f":"R23*Dryer!$F$19","v":0},{"$f":"S23*Dryer!$F$20","v":0},{"$f":"T23*Dryer!$F$21","v":0},{"$f":"U23*Dryer!$F$22","v":0},{"$f":"V23*Dryer!$F$23","v":0},{"$f":"W23*Dryer!$F$24","v":0},0,null,"  Beryllium Compounds",0,0,0,0,0,0,0,0,0,0,0,null,null,null,null,null,null,null,null,null,null,null,null,null,null,null,null,null,null,null,null,null,null,null,null,null,null,null,"  Beryllium Compounds",0,0,0,0,0,0,0,0,0,0,0,null,"  Beryllium Compounds",0,0,0,0,0,0,0,0,0,0,0]
["  Cadmium Compounds",1.1000000000000001E-3,1.1000000000000001E-3,1.1000000000000001E-3,1.1000000000000001E-3,1.1000000000000001E-3,1.1000000000000001E-3,1.1000000000000001E-3,1.1000000000000001E-3,1.1000000000000001E-3,1.1000000000000001E-3,null,"  Cadmium Compounds",{"$f":"IF(Dryer!C46=0,B24/1020,Dryer!C46)","v":1.0784313725490197E-6},{"$f":"IF(Dryer!D46=0,C24/1020,Dryer!D46)","v":1.0784313725490197E-6},{"$f":"IF(Dryer!E46=0,D24/1020,Dryer!E46)","v":1.0784313725490197E-6},{"$f":"IF(Dryer!F46=0,E24/1020,Dryer!F46)","v":1.0784313725490197E-6},{"$f":"IF(Dryer!G46=0,F24/1020,Dryer!G46)","v":1.0784313725490197E-6},{"$f":"IF(Dryer!H46=0,G24/1020,Dryer!H46)","v":1.0784313725490197E-6},{"$f":"IF(Dryer!I46=0,H24/1020,Dryer!I46)","v":1.0784313725490197E-6},{"$f":"IF(Dryer!J46=0,I24/1020,Dryer!J46)","v":1.0784313725490197E-6},{"$f":"IF(Dryer!K46=0,J24/1020,Dryer!K46)","v":1.0784313725490197E-6},{"$f":"IF(Dryer!L46=0,K24/1020,Dryer!L46)","v":1.0784313725490197E-6},null,"  Cadmium Compounds",{"$f":"N24*Dryer!$F$15","v":0},{"$f":"O24*Dryer!$F$16","v":0},{"$f":"P24*Dryer!$F$17","v":0},{"$f":"Q24*Dryer!$F$18","v":0},{"$f":"R24*Dryer!$F$19","v":0},{"$f":"S24*Dryer!$F$20","v":0},{"$f":"T24*Dryer!$F$21","v":0},{"$f":"U24*Dryer!$F$22","v":0},{"$f":"V24*Dryer!$F$23","v":0},{"$f":"W24*Dryer!$F$24","v":0},0,null,"  Cadmium Compounds",0,0,0,0,0,0,0,0,0,0,0,null,"Supporting data:",null,null,null,null,null,null,null,null,null,null,null,null,null,null,null,null,null,null,null,null,null,null,null,null,null,"  Cadmium Compounds",0,0,0,0,0,0,0,0,0,0,0,null,"  Cadmium Compounds",0,0,0,0,0,0,0,0,0,0,0]
["  Chromium Compounds",1.4E-3,1.4E-3,1.4E-3,1.4E-3,1.4E-3,1.4E-3,1.4E-3,1.4E-3,1.4E-3,1.4E-3,null,"  Chromium Compounds",{"$f":"IF(Dryer!C47=0,B25/1020,Dryer!C47)","v":1.3725490196078432E-6},{"$f":"IF(Dryer!D47=0,C25/1020,Dryer!D47)","v":1.3725490196078432E-6},{"$f":"IF(Dryer!E47=0,D25/1020,Dryer!E47)","v":1.3725490196078432E-6},{"$f":"IF(Dryer!F47=0,E25/1020,Dryer!F47)","v":1.3725490196078432E-6},{"$f":"IF(Dryer!G47=0,F25/1020,Dryer!G47)","v":1.3725490196078432E-6},{"$f":"IF(Dryer!H47=0,G25/1020,Dryer!H47)","v":1.3725490196078432E-6},{"$f":"IF(Dryer!I47=0,H25/1020,Dryer!I47)","v":1.3725490196078432E-6},{"$f":"IF(Dryer!J47=0,I25/1020,Dryer!J47)","v":1.3725490196078432E-6},{"$f":"IF(Dryer!K47=0,J25/1020,Dryer!K47)","v":1.3725490196078432E-6},{"$f":"IF(Dryer!L47=0,K25/1020,Dryer!L47)","v":1.3725490196078432E-6},null,"  Chromium Compounds",{"$f":"N25*Dryer!$F$15","v":0},{"$f":"O25*Dryer!$F$16","v":0},{"$f":"P25*Dryer!$F$17","v":0},{"$f":"Q25*Dryer!$F$18","v":0},{"$f":"R25*Dryer!$F$19","v":0},{"$f":"S25*Dryer!$F$20","v":0},{"$f":"T25*Dryer!$F$21","v":0},{"$f":"U25*Dryer!$F$22","v":0},{"$f":"V25*Dryer!$F$23","v":0},{"$f":"W25*Dryer!$F$24","v":0},0,null,"  Chromium Compounds",0,0,0,0,0,0,0,0,0,0,0,null,"ton/hr",{"$f":"Dryer!D15","v":0},{"$f":"Dryer!D16","v":0},{"$f":"Dryer!D17","v":0},{"$f":"Dryer!D18","v":0},{"$f":"Dryer!D19","v":0},{"$f":"Dryer!D20","v":0},{"$f":"Dryer!D21","v":0},{"$f":"Dryer!D22","v":0},{"$f":"Dryer!D23","v":0},{"$f":"Dryer!D24","v":0},null,null,null,null,null,null,null,null,null,null,null,null,null,null,null,"  Chromium Compounds",0,0,0,0,0,0,0,0,0,0,0,null,"  Chromium Compounds",0,0,0,0,0,0,0,0,0,0,0]
["  Cobalt Compounds",8.3999999999999995E-5,8.3999999999999995E-5,8.3999999999999995E-5,8.3999999999999995E-5,8.3999999999999995E-5,8.3999999999999995E-5,8.3999999999999995E-5,8.3999999999999995E-5,8.3999999999999995E-5,8.3999999999999995E-5,null,"  Cobalt Compounds",{"$f":"IF(Dryer!C48=0,B26/1020,Dryer!C48)","v":8.2352941176470587E-8},{"$f":"IF(Dryer!D48=0,C26/1020,Dryer!D48)","v":8.2352941176470587E-8},{"$f":"IF(Dryer!E48=0,D26/1020,Dryer!E48)","v":8.2352941176470587E-8},{"$f":"IF(Dryer!F48=0,E26/1020,Dryer!F48)","v":8.2352941176470587E-8},{"$f":"IF(Dryer!G48=0,F26/1020,Dryer!G48)","v":8.2352941176470587E-8},{"$f":"IF(Dryer!H48=0,G26/1020,Dryer!H48)","v":8.2352941176470587E-8},{"$f":"IF(Dryer!I48=0,H26/1020,Dryer!I48)","v":8.2352941176470587E-8},{"$f":"IF(Dryer!J48=0,I26/1020,Dryer!J48)","v":8.2352941176470587E-8},{"$f":"IF(Dryer!K48=0,J26/1020,Dryer!K48)","v":8.2352941176470587E-8},{"$f":"IF(Dryer!L48=0,K26/1020,Dryer!L48)","v":8.2352941176470587E-8},null,"  Cobalt Compounds",{"$f":"N26*Dryer!$F$15","v":0},{"$f":"O26*Dryer!$F$16","v":0},{"$f":"P26*Dryer!$F$17","v":0},{"$f":"Q26*Dryer!$F$18","v":0},{"$f":"R26*Dryer!$F$19","v":0},{"$f":"S26*Dryer!$F$20","v":0},{"$f":"T26*Dryer!$F$21","v":0},{"$f":"U26*Dryer!$F$22","v":0},{"$f":"V26*Dryer!$F$23","v":0},{"$f":"W26*Dryer!$F$24","v":0},0,null,"  Cobalt Compounds",0,0,0,0,0,0,0,0,0,0,0,null,"Dryer type",{"$f":"Dryer!G15","v":0},{"$f":"Dryer!G16","v":0},{"$f":"Dryer!G17","v":0},{"$f":"Dryer!G18","v":0},{"$f":"Dryer!G19","v":0},{"$f":"Dryer!G20","v":0},{"$f":"Dryer!G21","v":0},{"$f":"Dryer!G22","v":0},{"$f":"Dryer!G23","v":0},{"$f":"Dryer!G24","v":0},null,null,null,null,null,null,null,null,null,null,null,null,null,null,null,"  Cobalt Compounds",0,0,0,0,0,0,0,0,0,0,0,null,"  Cobalt Compounds",0,0,0,0,0,0,0,0,0,0,0]
["  Manganese Compounds",3.8000000000000002E-4,3.8000000000000002E-4,3.8000000000000002E-4,3.8000000000000002E-4,3.8000000000000002E-4,3.8000000000000002E-4,3.8000000000000002E-4,3.8000000000000002E-4,3.8000000000000002E-4,3.8000000000000002E-4,null,"  Manganese Compounds",{"$f":"IF(Dryer!C49=0,B27/1020,Dryer!C49)","v":3.7254901960784315E-7},{"$f":"IF(Dryer!D49=0,C27/1020,Dryer!D49)","v":3.7254901960784315E-7},{"$f":"IF(Dryer!E49=0,D27/1020,Dryer!E49)","v":3.7254901960784315E-7},{"$f":"IF(Dryer!F49=0,E27/1020,Dryer!F49)","v":3.7254901960784315E-7},{"$f":"IF(Dryer!G49=0,F27/1020,Dryer!G49)","v":3.7254901960784315E-7},{"$f":"IF(Dryer!H49=0,G27/1020,Dryer!H49)","v":3.7254901960784315E-7},{"$f":"IF(Dryer!I49=0,H27/1020,Dryer!I49)","v":3.7254901960784315E-7},{"$f":"IF(Dryer!J49=0,I27/1020,Dryer!J49)","v":3.7254901960784315E-7},{"$f":"IF(Dryer!K49=0,J27/1020,Dryer!K49)","v":3.7254901960784315E-7},{"$f":"IF(Dryer!L49=0,K27/1020,Dryer!L49)","v":3.7254901960784315E-7},null,"  Manganese Compounds",{"$f":"N27*Dryer!$F$15","v":0},{"$f":"O27*Dryer!$F$16","v":0},{"$f":"P27*Dryer!$F$17","v":0},{"$f":"Q27*Dryer!$F$18","v":0},{"$f":"R27*Dryer!$F$19","v":0},{"$f":"S27*Dryer!$F$20","v":0},{"$f":"T27*Dryer!$F$21","v":0},{"$f":"U27*Dryer!$F$22","v":0},{"$f":"V27*Dryer!$F$23","v":0},{"$f":"W27*Dryer!$F$24","v":0},0,null,"  Manganese Compounds",0,0,0,0,0,0,0,0,0,0,0,null,"Particulate control",{"$f":"IF(Dryer!H15=Datasets!$C$3,0,1)","v":1},{"$f":"IF(Dryer!H16=Datasets!$C$3,0,1)","v":1},{"$f":"IF(Dryer!H17=Datasets!$C$3,0,1)","v":1},{"$f":"IF(Dryer!H18=Datasets!$C$3,0,1)","v":1},{"$f":"IF(Dryer!H19=Datasets!$C$3,0,1)","v":1},{"$f":"IF(Dryer!H20=Datasets!$C$3,0,1)","v":1},{"$f":"IF(Dryer!H21=Datasets!$C$3,0,1)","v":1},{"$f":"IF(Dryer!H22=Datasets!$C$3,0,1)","v":1},{"$f":"IF(Dryer!H23=Datasets!$C$3,0,1)","v":1},{"$f":"IF(Dryer!H24=Datasets!$C$3,0,1)","v":1},null,null,null,null,null,null,null,null,null,null,null,null,null,null,null,"  Manganese Compounds",0,0,0,0,0,0,0,0,0,0,0,null,"  Manganese Compounds",0,0,0,0,0,0,0,0,0,0,0]
["  Mercury Compounds",2.5999999999999998E-4,2.5999999999999998E-4,2.5999999999999998E-4,2.5999999999999998E-4,2.5999999999999998E-4,2.5999999999999998E-4,2.5999999999999998E-4,2.5999999999999998E-4,2.5999999999999998E-4,2.5999999999999998E-4,null,"  Mercury Compounds",{"$f":"IF(Dryer!C50=0,B28/1020,Dryer!C50)","v":2.5490196078431371E-7},{"$f":"IF(Dryer!D50=0,C28/1020,Dryer!D50)","v":2.5490196078431371E-7},{"$f":"IF(Dryer!E50=0,D28/1020,Dryer!E50)","v":2.5490196078431371E-7},{"$f":"IF(Dryer!F50=0,E28/1020,Dryer!F50)","v":2.5490196078431371E-7},{"$f":"IF(Dryer!G50=0,F28/1020,Dryer!G50)","v":2.5490196078431371E-7},{"$f":"IF(Dryer!H50=0,G28/1020,Dryer!H50)","v":2.5490196078431371E-7},{"$f":"IF(Dryer!I50=0,H28/1020,Dryer!I50)","v":2.5490196078431371E-7},{"$f":"IF(Dryer!J50=0,I28/1020,Dryer!J50)","v":2.5490196078431371E-7},{"$f":"IF(Dryer!K50=0,J28/1020,Dryer!K50)","v":2.5490196078431371E-7},{"$f":"IF(Dryer!L50=0,K28/1020,Dryer!L50)","v":2.5490196078431371E-7},null,"  Mercury Compounds",{"$f":"N28*Dryer!$F$15","v":0},{"$f":"O28*Dryer!$F$16","v":0},{"$f":"P28*Dryer!$F$17","v":0},{"$f":"Q28*Dryer!$F$18","v":0},{"$f":"R28*Dryer!$F$19","v":0},{"$f":"S28*Dryer!$F$20","v":0},{"$f":"T28*Dryer!$F$21","v":0},{"$f":"U28*Dryer!$F$22","v":0},{"$f":"V28*Dryer!$F$23","v":0},{"$f":"W28*Dryer!$F$24","v":0},0,null,"  Mercury Compounds",0,0,0,0,0,0,0,0,0,0,0,null,"Ton/hr Limit",null,null,null,{"$f":"Dryer!D10","v":0},null,null,null,null,null,null,null,null,null,null,null,null,null,null,null,null,null,null,null,null,null,"  Mercury Compounds",0,0,0,0,0,0,0,0,0,0,0,null,"  Mercury Compounds",0,0,0,0,0,0,0,0,0,0,0]
["  Nickel Compounds",2.0999999999999999E-3,2.0999999999999999E-3,2.0999999999999999E-3,2.0999999999999999E-3,2.0999999999999999E-3,2.0999999999999999E-3,2.0999999999999999E-3,2.0999999999999999E-3,2.0999999999999999E-3,2.0999999999999999E-3,null,"  Nickel Compounds",{"$f":"IF(Dryer!C51=0,B29/1020,Dryer!C51)","v":2.0588235294117645E-6},{"$f":"IF(Dryer!D51=0,C29/1020,Dryer!D51)","v":2.0588235294117645E-6},{"$f":"IF(Dryer!E51=0,D29/1020,Dryer!E51)","v":2.0588235294117645E-6},{"$f":"IF(Dryer!F51=0,E29/1020,Dryer!F51)","v":2.0588235294117645E-6},{"$f":"IF(Dryer!G51=0,F29/1020,Dryer!G51)","v":2.0588235294117645E-6},{"$f":"IF(Dryer!H51=0,G29/1020,Dryer!H51)","v":2.0588235294117645E-6},{"$f":"IF(Dryer!I51=0,H29/1020,Dryer!I51)","v":2.0588235294117645E-6},{"$f":"IF(Dryer!J51=0,I29/1020,Dryer!J51)","v":2.0588235294117645E-6},{"$f":"IF(Dryer!K51=0,J29/1020,Dryer!K51)","v":2.0588235294117645E-6},{"$f":"IF(Dryer!L51=0,K29/1020,Dryer!L51)","v":2.0588235294117645E-6},null,"  Nickel Compounds",{"$f":"N29*Dryer!$F$15","v":0},{"$f":"O29*Dryer!$F$16","v":0},{"$f":"P29*Dryer!$F$17","v":0},{"$f":"Q29*Dryer!$F$18","v":0},{"$f":"R29*Dryer!$F$19","v":0},{"$f":"S29*Dryer!$F$20","v":0},{"$f":"T29*Dryer!$F$21","v":0},{"$f":"U29*Dryer!$F$22","v":0},{"$f":"V29*Dryer!$F$23","v":0},{"$f":"W29*Dryer!$F$24","v":0},0,null,"  Nickel Compounds",0,0,0,0,0,0,0,0,0,0,0,null,"Ton/yr Limit",null,null,null,{"$f":"Dryer!D11","v":0},null,null,null,null,null,null,null,null,null,null,null,null,null,null,null,null,null,null,null,null,null,"  Nickel Compounds",0,0,0,0,0,0,0,0,0,0,0,null,"  Nickel Compounds",0,0,0,0,0,0,0,0,0,0,0]
["  Selenium Compounds",2.4000000000000001E-5,2.4000000000000001E-5,2.4000000000000001E-5,2.4000000000000001E-5,2.4000000000000001E-5,2.4000000000000001E-5,2.4000000000000001E-5,2.4000000000000001E-5,2.4000000000000001E-5,2.4000000000000001E-5,null,"  Selenium Compounds",{"$f":"IF(Dryer!C52=0,B30/1020,Dryer!C52)","v":2.3529411764705881E-8},{"$f":"IF(Dryer!D52=0,C30/1020,Dryer!D52)","v":2.3529411764705881E-8},{"$f":"IF(Dryer!E52=0,D30/1020,Dryer!E52)","v":2.3529411764705881E-8},{"$f":"IF(Dryer!F52=0,E30/1020,Dryer!F52)","v":2.3529411764705881E-8},{"$f":"IF(Dryer!G52=0,F30/1020,Dryer!G52)","v":2.3529411764705881E-8},{"$f":"IF(Dryer!H52=0,G30/1020,Dryer!H52)","v":2.3529411764705881E-8},{"$f":"IF(Dryer!I52=0,H30/1020,Dryer!I52)","v":2.3529411764705881E-8},{"$f":"IF(Dryer!J52=0,I30/1020,Dryer!J52)","v":2.3529411764705881E-8},{"$f":"IF(Dryer!K52=0,J30/1020,Dryer!K52)","v":2.3529411764705881E-8},{"$f":"IF(Dryer!L52=0,K30/1020,Dryer!L52)","v":2.3529411764705881E-8},null,"  Selenium Compounds",{"$f":"N30*Dryer!$F$15","v":0},{"$f":"O30*Dryer!$F$16","v":0},{"$f":"P30*Dryer!$F$17","v":0},{"$f":"Q30*Dryer!$F$18","v":0},{"$f":"R30*Dryer!$F$19","v":0},{"$f":"S30*Dryer!$F$20","v":0},{"$f":"T30*Dryer!$F$21","v":0},{"$f":"U30*Dryer!$F$22","v":0},{"$f":"V30*Dryer!$F$23","v":0},{"$f":"W30*Dryer!$F$24","v":0},0,null,"  Selenium Compounds",0,0,0,0,0,0,0,0,0,0,0,null,"Total ton/hr of Rack dryers",null,null,null,{"$f":"SUMIFS(AZ25:BI25,AZ26:BI26,Calculations!BA35)","v":0},null,"Total ton/hr of uncontrolled Rack dryers",null,null,null,{"$f":"SUMIFS(AZ25:BI25,AZ26:BI26,Calculations!BA35,AZ27:BI27,1)","v":0},null,null,null,null,null,null,null,null,null,null,null,null,null,null,null,"  Selenium Compounds",0,0,0,0,0,0,0,0,0,0,0,null,"  Selenium Compounds",0,0,0,0,0,0,0,0,0,0,0]
["Total HAPs",null,null,null,null,null,null,null,null,null,null,null,"Total HAPs",{"$f":"IF(Dryer!C53=0,B31/1020,Dryer!C53)","v":0},{"$f":"IF(Dryer!D53=0,C31/1020,Dryer!D53)","v":0},{"$f":"IF(Dryer!E53=0,D31/1020,Dryer!E53)","v":0},{"$f":"IF(Dryer!F53=0,E31/1020,Dryer!F53)","v":0},{"$f":"IF(Dryer!G53=0,F31/1020,Dryer!G53)","v":0},{"$f":"IF(Dryer!H53=0,G31/1020,Dryer!H53)","v":0},{"$f":"IF(Dryer!I53=0,H31/1020,Dryer!I53)","v":0},{"$f":"IF(Dryer!J53=0,I31/1020,Dryer!J53)","v":0},{"$f":"IF(Dryer!K53=0,J31/1020,Dryer!K53)","v":0},{"$f":"IF(Dryer!L53=0,K31/1020,Dryer!L53)","v":0},null,"Total HAPs",{"$f":"SUM(Z15:Z30)","v":0},{"$f":"SUM(AA15:AA30)","v":0},0,0,0,0,0,0,0,0,0,null,"Total HAPs",{"$f":"IF(AM$4=0,Z31*8760/2000,Z31*AM$4/2000)","v":0},{"$f":"IF(AN$4=0,AA31*8760/2000,AA31*AN$4/2000)","v":0},{"$f":"IF(AO$4=0,AB31*8760/2000,AB31*AO$4/2000)","v":0},{"$f":"IF(AP$4=0,AC31*8760/2000,AC31*AP$4/2000)","v":0},{"$f":"IF(AQ$4=0,AD31*8760/2000,AD31*AQ$4/2000)","v":0},{"$f":"IF(AR$4=0,AE31*8760/2000,AE31*AR$4/2000)","v":0},{"$f":"IF(AS$4=0,AF31*8760/2000,AF31*AS$4/2000)","v":0},{"$f":"IF(AT$4=0,AG31*8760/2000,AG31*AT$4/2000)","v":0},{"$f":"IF(AU$4=0,AH31*8760/2000,AH31*AU$4/2000)","v":0},{"$f":"IF(AV$4=0,AI31*8760/2000,AI31*AV$4/2000)","v":0},{"$f":"SUM(AM31:AV31)","v":0},null,"Total ton/hr of Self-Cleaning Screens ",null,null,null,{"$f":"SUMIFS(AZ25:BI25,AZ26:BI26,Calculations!BB35)","v":0},null,"Total ton/hr of uncontrolled Self-Cleaning Screens ",null,null,null,{"$f":"SUMIFS(AZ25:BI25,AZ26:BI26,Calculations!BB35,AZ27:BI27,1)","v":0},null,null,null,null,null,null,null,null,null,null,null,null,null,null,null,"Total HAPs",0,0,0,0,0,0,0,0,0,0,0,null,"Total HAPs",0,0,0,0,0,0,0,0,0,0,0]
["Greenhouse Gases (GHG)","(lb/MMBtu)",null,null,null,null,null,null,null,null,null,null,"Greenhouse Gases (GHG)",null,null,null,null,null,null,null,null,null,null,null,null,null,null,null,null,null,null,null,null,null,null,null,null,null,null,null,null,null,null,null,null,null,null,null,null,null,"Total ton/hr of Column dryers",null,null,null,{"$f":"SUMIFS(AZ25:BI25,AZ26:BI26,Calculations!AZ35)","v":0},null,"Total ton/hr of uncontrolled Column dryers",null,null,null,{"$f":"SUMIFS(AZ25:BI25,AZ26:BI26,Calculations!AZ35,AZ27:BI27,1)","v":0}]
["  Carbon Dioxide (CO2)",{"$f":"53.06*2.20462","v":116.9771372},{"$f":"53.06*2.20462","v":116.9771372},116.9771372,116.9771372,116.9771372,116.9771372,116.9771372,116.9771372,116.9771372,116.9771372,null,"  Carbon Dioxide (CO2)",{"$f":"IF(Dryer!C55=0,B33,Dryer!C55)","v":116.9771372},{"$f":"IF(Dryer!D55=0,C33,Dryer!D55)","v":116.9771372},{"$f":"IF(Dryer!E55=0,D33,Dryer!E55)","v":116.9771372},{"$f":"IF(Dryer!F55=0,E33,Dryer!F55)","v":116.9771372},{"$f":"IF(Dryer!G55=0,F33,Dryer!G55)","v":116.9771372},{"$f":"IF(Dryer!H55=0,G33,Dryer!H55)","v":116.9771372},{"$f":"IF(Dryer!I55=0,H33,Dryer!I55)","v":116.9771372},{"$f":"IF(Dryer!J55=0,I33,Dryer!J55)","v":116.9771372},{"$f":"IF(Dryer!K55=0,J33,Dryer!K55)","v":116.9771372},{"$f":"IF(Dryer!L55=0,K33,Dryer!L55)","v":116.9771372},null,"  Carbon Dioxide (CO2)",{"$f":"N33*Dryer!$F$15","v":0},{"$f":"O33*Dryer!$F$16","v":0},{"$f":"P33*Dryer!$F$17","v":0},{"$f":"Q33*Dryer!$F$18","v":0},{"$f":"R33*Dryer!$F$19","v":0},{"$f":"S33*Dryer!$F$20","v":0},{"$f":"T33*Dryer!$F$21","v":0},{"$f":"U33*Dryer!$F$22","v":0},{"$f":"V33*Dryer!$F$23","v":0},{"$f":"W33*Dryer!$F$24","v":0},{"$f":"SUM(Z33:AI33)","v":0},null,"  Carbon Dioxide (CO2)",{"$f":"IF(AM$4=0,Z33*8760/2000,Z33*AM$4/2000)","v":0},{"$f":"IF(AN$4=0,AA33*8760/2000,AA33*AN$4/2000)","v":0},{"$f":"IF(AO$4=0,AB33*8760/2000,AB33*AO$4/2000)","v":0},{"$f":"IF(AP$4=0,AC33*8760/2000,AC33*AP$4/2000)","v":0},{"$f":"IF(AQ$4=0,AD33*8760/2000,AD33*AQ$4/2000)","v":0},{"$f":"IF(AR$4=0,AE33*8760/2000,AE33*AR$4/2000)","v":0},{"$f":"IF(AS$4=0,AF33*8760/2000,AF33*AS$4/2000)","v":0},{"$f":"IF(AT$4=0,AG33*8760/2000,AG33*AT$4/2000)","v":0},{"$f":"IF(AU$4=0,AH33*8760/2000,AH33*AU$4/2000)","v":0},{"$f":"IF(AV$4=0,AI33*8760/2000,AI33*AV$4/2000)","v":0},{"$f":"SUM(AM33:AV33)","v":0},null,null,null,null,null,null,null,null,null,null,null,null,null,null,null,null,null,null,null,null,null,null,null,null,null,null,null,"  Carbon Dioxide (CO2)",{"$f":"Z33","v":0},{"$f":"AA33","v":0},0,0,0,0,0,0,0,0,{"$f":"SUM(BZ33:CI33)","v":0},null,"  Carbon Dioxide (CO2)",{"$f":"AM33","v":0},{"$f":"AN33","v":0},{"$f":"AO33","v":0},{"$f":"AP33","v":0},{"$f":"AQ33","v":0},{"$f":"AR33","v":0},{"$f":"AS33","v":0},{"$f":"AT33","v":0},{"$f":"AU33","v":0},{"$f":"AV33","v":0},{"$f":"AW33","v":0}]
["  Methane (CH4)",{"$f":"0.001*2.20462","v":2.20462E-3},{"$f":"0.001*2.20462","v":2.20462E-3},2.20462E-3,2.20462E-3,2.20462E-3,2.20462E-3,2.20462E-3,2.20462E-3,2.20462E-3,2.20462E-3,null,"  Methane (CH4)",{"$f":"IF(Dryer!C56=0,B34,Dryer!C56)","v":2.20462E-3},{"$f":"IF(Dryer!D56=0,C34,Dryer!D56)","v":2.20462E-3},{"$f":"IF(Dryer!E56=0,D34,Dryer!E56)","v":2.20462E-3},{"$f":"IF(Dryer!F56=0,E34,Dryer!F56)","v":2.20462E-3},{"$f":"IF(Dryer!G56=0,F34,Dryer!G56)","v":2.20462E-3},{"$f":"IF(Dryer!H56=0,G34,Dryer!H56)","v":2.20462E-3},{"$f":"IF(Dryer!I56=0,H34,Dryer!I56)","v":2.20462E-3},{"$f":"IF(Dryer!J56=0,I34,Dryer!J56)","v":2.20462E-3},{"$f":"IF(Dryer!K56=0,J34,Dryer!K56)","v":2.20462E-3},{"$f":"IF(Dryer!L56=0,K34,Dryer!L56)","v":2.20462E-3},null,"  Methane (CH4)",{"$f":"N34*Dryer!$F$15","v":0},{"$f":"O34*Dryer!$F$16","v":0},{"$f":"P34*Dryer!$F$17","v":0},{"$f":"Q34*Dryer!$F$18","v":0},{"$f":"R34*Dryer!$F$19","v":0},{"$f":"S34*Dryer!$F$20","v":0},{"$f":"T34*Dryer!$F$21","v":0},{"$f":"U34*Dryer!$F$22","v":0},{"$f":"V34*Dryer!$F$23","v":0},{"$f":"W34*Dryer!$F$24","v":0},0,null,"  Methane (CH4)",0,0,0,0,0,0,0,0,0,0,0,null,null,"Emission Factor (lb/ton)",null,null,null,null,null,"Controlled Emission Factor (lb/ton)",null,null,null,null,null,null,null,null,null,null,null,null,null,null,null,null,null,null,"  Methane (CH4)",{"$f":"Z34","v":0},{"$f":"AA34","v":0},{"$f":"AB34","v":0},{"$f":"AC34","v":0},{"$f":"AD34","v":0},{"$f":"AE34","v":0},{"$f":"AF34","v":0},{"$f":"AG34","v":0},{"$f":"AH34","v":0},{"$f":"AI34","v":0},0,null,"  Methane (CH4)",0,0,0,0,0,0,0,0,0,0,0]
["  Nitrous Oxide (N2O)",{"$f":"0.0001*2.20462","v":2.2046199999999999E-4},{"$f":"0.0001*2.20462","v":2.2046199999999999E-4},2.2046199999999999E-4,2.2046199999999999E-4,2.2046199999999999E-4,2.2046199999999999E-4,2.2046199999999999E-4,2.2046199999999999E-4,2.2046199999999999E-4,2.2046199999999999E-4,null,"  Nitrous Oxide (N2O)",{"$f":"IF(Dryer!C57=0,B35,Dryer!C57)","v":2.2046199999999999E-4},{"$f":"IF(Dryer!D57=0,C35,Dryer!D57)","v":2.2046199999999999E-4},{"$f":"IF(Dryer!E57=0,D35,Dryer!E57)","v":2.2046199999999999E-4},{"$f":"IF(Dryer!F57=0,E35,Dryer!F57)","v":2.2046199999999999E-4},{"$f":"IF(Dryer!G57=0,F35,Dryer!G57)","v":2.2046199999999999E-4},{"$f":"IF(Dryer!H57=0,G35,Dryer!H57)","v":2.2046199999999999E-4},{"$f":"IF(Dryer!J57=0,H35,Dryer!J57)","v":2.2046199999999999E-4},{"$f":"IF(Dryer!K57=0,I35,Dryer!K57)","v":2.2046199999999999E-4},{"$f":"IF(Dryer!L57=0,J35,Dryer!L57)","v":2.2046199999999999E-4},{"$f":"IF(Dryer!M57=0,K35,Dryer!M57)","v":2.2046199999999999E-4},null,"  Nitrous Oxide (N2O)",{"$f":"N35*Dryer!$F$15","v":0},{"$f":"O35*Dryer!$F$16","v":0},{"$f":"P35*Dryer!$F$17","v":0},{"$f":"Q35*Dryer!$F$18","v":0},{"$f":"R35*Dryer!$F$19","v":0},{"$f":"S35*Dryer!$F$20","v":0},{"$f":"T35*Dryer!$F$21","v":0},{"$f":"U35*Dryer!$F$22","v":0},{"$f":"V35*Dryer!$F$23","v":0},{"$f":"W35*Dryer!$F$24","v":0},0,null,"  Nitrous Oxide (N2O)",0,0,0,0,0,0,0,0,0,0,0,null,null,{"$f":"Datasets!L2","v":"column dryer"},{"$f":"Datasets!L3","v":"rack dryer"},{"$f":"Datasets!L4","v":"self‐cleaning screens"},null,null,null,"column dryer","rack dryer","self‐cleaning screens",null,null,null,null,null,null,null,null,null,null,null,null,null,null,null,null,"  Nitrous Oxide (N2O)",0,0,0,0,0,0,0,0,0,0,0,null,"  Nitrous Oxide (N2O)",0,0,0,0,0,0,0,0,0,0,0]
["* Emission factors for Criteria Pollutants and HAPS from AP-42 Tables 1.4-1, 1.4-2, and 1.4-3. Emission Factors for GHGs from 40CFR98 ",null,null,null,null,null,null,null,null,null,null,null,"* Emission factor equals manufacturer's specified. If no manufacturer guarantee entered, AP-42 emission factors are divided by 1020 MMBtu/MMscf",null,null,null,null,null,null,null,null,null,null,null,"Total GHGs",{"$f":"SUM(Z33:Z35)","v":0},{"$f":"SUM(AA33:AA35)","v":0},0,0,0,0,0,0,0,0,0,null,"Total GHGs",0,0,0,0,0,0,0,0,0,0,0,null,"PM",0.22,3,0.47,null,null,"PM",{"$f":"AZ36*(1-$BA$82)","v":1.100000000000001E-2},0.15000000000000013,2.3500000000000021E-2,null,null,null,null,null,null,null,null,null,null,null,null,null,null,null,null,"Total GHGs",{"$f":"Z36","v":0},{"$f":"AA36","v":0},{"$f":"AB36","v":0},{"$f":"AC36","v":0},{"$f":"AD36","v":0},{"$f":"AE36","v":0},{"$f":"AF36","v":0},{"$f":"AG36","v":0},{"$f":"AH36","v":0},{"$f":"AI36","v":0},{"$f":"SUM(CJ33:CJ35)","v":0},null,"Total GHGs",0,0,0,0,0,0,0,0,0,0,0]
[null,null,null,null,null,null,null,null,null,null,null,null,null,null,null,null,null,null,null,null,null,null,null,null,"Greenhouse Gases (GHG) (CO2 Equivalent Basis)",null,null,null,null,null,null,null,null,null,null,null,null,"Greenhouse Gases (GHG) (CO2 Equivalent Basis)",null,null,null,null,null,null,null,null,null,null,null,null,"PM10",5.5E-2,0.75,0.12,null,null,"PM10",2.7500000000000024E-3,3.7500000000000033E-2,6.0000000000000053E-3,null,null,null,null,null,null,null,null,null,null,null,null,null,null,null,null,"Greenhouse Gases (GHG) (CO2 Equivalent Basis)",null,null,null,null,null,null,null,null,null,null,null,null,"Greenhouse Gases (GHG) (CO2 Equivalent Basis)"]
[null,null,null,null,null,null,null,null,null,null,null,null,null,null,null,null,null,null,null,null,null,null,null,null,"  Carbon Dioxide (CO2)",{"$f":"Z33","v":0},{"$f":"AA33","v":0},0,0,0,0,0,0,0,0,{"$f":"SUM(Z38:AI38)","v":0},null,"  Carbon Dioxide (CO2)",{"$f":"IF(AM$4=0,Z38*8760/2000,Z38*AM$4/2000)","v":0},{"$f":"IF(AN$4=0,AA38*8760/2000,AA38*AN$4/2000)","v":0},{"$f":"IF(AO$4=0,AB38*8760/2000,AB38*AO$4/2000)","v":0},{"$f":"IF(AP$4=0,AC38*8760/2000,AC38*AP$4/2000)","v":0},{"$f":"IF(AQ$4=0,AD38*8760/2000,AD38*AQ$4/2000)","v":0},{"$f":"IF(AR$4=0,AE38*8760/2000,AE38*AR$4/2000)","v":0},{"$f":"IF(AS$4=0,AF38*8760/2000,AF38*AS$4/2000)","v":0},{"$f":"IF(AT$4=0,AG38*8760/2000,AG38*AT$4/2000)","v":0},{"$f":"IF(AU$4=0,AH38*8760/2000,AH38*AU$4/2000)","v":0},{"$f":"IF(AV$4=0,AI38*8760/2000,AI38*AV$4/2000)","v":0},{"$f":"SUM(AM38:AV38)","v":0},null,"PM2.5",9.4000000000000004E-3,0.13,0.02,null,null,"PM2.5",4.7000000000000042E-4,6.5000000000000058E-3,1.0000000000000009E-3,null,null,null,null,null,null,null,null,null,null,null,null,null,null,null,null,"  Carbon Dioxide (CO2)",{"$f":"Z38","v":0},{"$f":"AA38","v":0},0,0,0,0,0,0,0,0,{"$f":"SUM(BZ38:CI38)","v":0},null,"  Carbon Dioxide (CO2)",{"$f":"AM38","v":0},{"$f":"AN38","v":0},{"$f":"AO38","v":0},{"$f":"AP38","v":0},{"$f":"AQ38","v":0},{"$f":"AR38","v":0},{"$f":"AS38","v":0},{"$f":"AT38","v":0},{"$f":"AU38","v":0},{"$f":"AV38","v":0},{"$f":"AW38","v":0}]
[null,null,null,null,null,null,null,null,null,null,null,null,null,null,null,null,null,null,null,null,null,null,null,null,"  Methane (CH4)",{"$f":"Z34*25","v":0},{"$f":"AA34*25","v":0},0,0,0,0,0,0,0,0,0,null,"  Methane (CH4)",0,0,0,0,0,0,0,0,0,0,0,null,null,null,null,null,null,null,null,null,null,null,null,null,null,null,null,null,null,null,null,null,null,null,null,null,null,null,"  Methane (CH4)",{"$f":"Z39","v":0},{"$f":"AA39","v":0},{"$f":"AB39","v":0},{"$f":"AC39","v":0},{"$f":"AD39","v":0},{"$f":"AE39","v":0},{"$f":"AF39","v":0},{"$f":"AG39","v":0},{"$f":"AH39","v":0},{"$f":"AI39","v":0},0,null,"  Methane (CH4)",0,0,0,0,0,0,0,0,0,0,0]
[null,null,null,null,null,null,null,null,null,null,null,null,null,null,null,null,null,null,null,null,null,null,null,null,"  Nitrous Oxide (N2O)",{"$f":"Z35*298","v":0},{"$f":"AA35*298","v":0},0,0,0,0,0,0,0,0,0,null,"  Nitrous Oxide (N2O)",0,0,0,0,0,0,0,0,0,0,0,null,"Capture Efficiency",null,1,null,null,null,null,null,null,null,null,null,null,null,null,null,null,null,null,null,null,null,null,null,null,null,"  Nitrous Oxide (N2O)",0,0,0,0,0,0,0,0,0,0,0,null,"  Nitrous Oxide (N2O)",0,0,0,0,0,0,0,0,0,0,0]
[null,null,null,null,null,null,null,null,null,null,null,null,null,null,null,null,null,null,null,null,null,null,null,null,"Total GHGs",{"$f":"SUM(Z38:Z40)","v":0},0,0,0,0,0,0,0,0,0,0,null,"Total GHGs",0,0,0,0,0,0,0,0,0,0,0,null,"Control Efficiency",null,0.95,null,null,null,null,null,null,null,null,null,null,null,null,null,null,null,null,null,null,null,null,null,null,null,"Total GHGs",{"$f":"Z41","v":0},{"$f":"AA41","v":0},{"$f":"AB41","v":0},{"$f":"AC41","v":0},{"$f":"AD41","v":0},{"$f":"AE41","v":0},{"$f":"AF41","v":0},{"$f":"AG41","v":0},{"$f":"AH41","v":0},{"$f":"AI41","v":0},{"$f":"SUM(CJ38:CJ40)","v":0},null,"Total GHGs",0,0,0,0,0,0,0,0,0,0,0]
["Dry Mill: Grain Drying Operations"]
["Emissions from Dry Mill's Grain Drying - Drying Process Emissions"]
[null,null,null,null,null,null,null,null,null,null,null,null,null,null,null,null,null,null,null,null,null,null,null,null,null,null,null,null,null,null,null,null,null,null,null,null,null,"PTE in ton/yr = PTE in lb/hr x annual hours limit / 2000"]
["Emission Factors*",null,null,null,null,null,null,null,null,null,null,null,"Chosen Emission Factors: Manufacturer's Guarantee (If Available) or AP-42 in lb/MMBtu*",null,null,null,null,null,null,null,null,null,null,null,"PTE in lb/hr = Emission Factor x Maximum Rated Capacity, MMBtu/hr",null,null,null,null,null,null,null,null,null,null,null,null,"Annual hours limit",{"$f":"IF(Dryer!R15=0,0,Dryer!R15/Dryer!M15)","v":0},{"$f":"IF(Dryer!R16=0,0,Dryer!R16/Dryer!M16)","v":0},{"$f":"IF(Dryer!R17=0,0,Dryer!R17/Dryer!M17)","v":0},{"$f":"IF(Dryer!R18=0,0,Dryer!R18/Dryer!M18)","v":0},{"$f":"IF(Dryer!R19=0,0,Dryer!R19/Dryer!M19)","v":0},{"$f":"IF(Dryer!R20=0,0,Dryer!R20/Dryer!M20)","v":0},{"$f":"IF(Dryer!R21=0,0,Dryer!R21/Dryer!M21)","v":0},{"$f":"IF(Dryer!R22=0,0,Dryer!R22/Dryer!M22)","v":0},{"$f":"IF(Dryer!R23=0,0,Dryer!R23/Dryer!M23)","v":0},{"$f":"IF(Dryer!R24=0,0,Dryer!R24/Dryer!M24)","v":0},null,null,"PTE in lb/hr based on grain drying process = Emission Factor (lb/ton) x Maximum permitted hourly rate (ton/hr)",null,null,null,null,null,null,null,null,null,null,null,null,"PTE in lb/yr based on grain drying process = Emission Factor (lb/ton) x Maximum permitted annual rate (ton/yr)",null,null,null,null,null,null,null,null,null,null,null,null,"Final PTE in lb/hr = Combustion Emissions + Process Emissions",null,null,null,null,null,null,null,null,null,null,null,null,"Final PTE in ton/yr = Combustion Emissions + Process Emissions"]
["Pollutant","1st Dryer","2nd Dryer","3rd Dryer","4th Dryer","5th Dryer","6th Dryer","7th Dryer","8th Dryer","9th Dryer","10th Dryer",null,"Pollutant","1st Dryer","2nd Dryer","3rd Dryer","4th Dryer","5th Dryer","6th Dryer","7th Dryer","8th Dryer","9th Dryer","10th Dryer",null,"Pollutant","1st Dryer","2nd Dryer","3rd Dryer","4th Dryer","5th Dryer","6th Dryer","7th Dryer","8th Dryer","9th Dryer","10th Dryer","Total ",null,"Pollutant","1st Dryer","2nd Dryer","3rd Dryer","4th Dryer","5th Dryer","6th Dryer","7th Dryer","8th Dryer","9th Dryer","10th Dryer","Total ",null,"Pollutant","1st Dryer","2nd Dryer","3rd Dryer","4th Dryer","5th Dryer","6th Dryer","7th Dryer","8th Dryer","9th Dryer","10th Dryer","Total ",null,"Pollutant","1st Dryer","2nd Dryer","3rd Dryer","4th Dryer","5th Dryer","6th Dryer","7th Dryer","8th Dryer","9th Dryer","10th Dryer","Total ",null,"Pollutant","1st Dryer","2nd Dryer","3rd Dryer","4th Dryer","5th Dryer","6th Dryer","7th Dryer","8th Dryer","9th Dryer","10th Dryer","Total ",null,"Pollutant","1st Dryer","2nd Dryer","3rd Dryer","4th Dryer","5th Dryer","6th Dryer","7th Dryer","8th Dryer","9th Dryer","10th Dryer","Total "]
[null,"(lb/MMscf)",null,null,null,null,null,null,null,null,null,null,null,null,null,null,null,null,null,null,null,null,null,null,null,"(lb/hr)",null,null,null,null,null,null,null,null,null,null,null,null,"(ton/year)",null,null,null,null,null,null,null,null,null,null,null,null,"(lb/hr)",null,null,null,null,null,null,null,null,null,null,null,null,"(lb/year)",null,null,null,null,null,null,null,null,null,null,null,null,"(lb/hr)",null,null,null,null,null,null,null,null,null,null,null,null,"(ton/year)"]
["PMfilterable",7.6,7.6,7.6,7.6,7.6,7.6,7.6,7.6,7.6,7.6,null,"PMfilterable",{"$f":"IF(Dryer!C60=0,B48/1020,Dryer!C60)","v":7.4509803921568628E-3},{"$f":"IF(Dryer!D60=0,C48/1020,Dryer!D60)","v":7.4509803921568628E-3},{"$f":"IF(Dryer!E60=0,D48/1020,Dryer!E60)","v":7.4509803921568628E-3},{"$f":"IF(Dryer!F60=0,E48/1020,Dryer!F60)","v":7.4509803921568628E-3},{"$f":"IF(Dryer!G60=0,F48/1020,Dryer!G60)","v":7.4509803921568628E-3},{"$f":"IF(Dryer!H60=0,G48/1020,Dryer!H60)","v":7.4509803921568628E-3},{"$f":"IF(Dryer!I60=0,H48/1020,Dryer!I60)","v":7.4509803921568628E-3},{"$f":"IF(Dryer!J60=0,I48/1020,Dryer!J60)","v":7.4509803921568628E-3},{"$f":"IF(Dryer!K60=0,J48/1020,Dryer!K60)","v":7.4509803921568628E-3},{"$f":"IF(Dryer!L60=0,K48/1020,Dryer!L60)","v":7.4509803921568628E-3},null,"PMfilterable",{"$f":"IF(AZ68=1,N48*Dryer!$O$15,N48*Dryer!$O$15*$BA$81*(1-$BA$82))","v":0},{"$f":"IF(BA68=1,O48*Dryer!$O$16,O48*Dryer!$O$16*$BA$81*(1-$BA$82))","v":0},{"$f":"IF(BB68=1,P48*Dryer!$O$17,P48*Dryer!$O$17*$BA$81*(1-$BA$82))","v":0},{"$f":"IF(BC68=1,Q48*Dryer!$O$18,Q48*Dryer!$O$18*$BA$81*(1-$BA$82))","v":0},{"$f":"IF(BD68=1,R48*Dryer!$O$19,R48*Dryer!$O$19*$BA$81*(1-$BA$82))","v":0},{"$f":"IF(BE68=1,S48*Dryer!$O$20,S48*Dryer!$O$20*$BA$81*(1-$BA$82))","v":0},{"$f":"IF(BF68=1,T48*Dryer!$O$21,T48*Dryer!$O$21*$BA$81*(1-$BA$82))","v":0},{"$f":"IF(BG68=1,U48*Dryer!$O$22,U48*Dryer!$O$22*$BA$81*(1-$BA$82))","v":0},{"$f":"IF(BH68=1,V48*Dryer!$O$23,V48*Dryer!$O$23*$BA$81*(1-$BA$82))","v":0},{"$f":"IF(BI68=1,W48*Dryer!$O$24,W48*Dryer!$O$24*$BA$81*(1-$BA$82))","v":0},{"$f":"SUM(Z48:AI48)","v":0},null,"PMfilterable",{"$f":"IF(AM$45=0,Z48*8760/2000,Z48*AM$45/2000)","v":0},0,0,0,0,0,0,0,0,0,{"$f":"SUM(AM48:AV48)","v":0},null,"PMfilterable",{"$f":"IF(Dryer!P15=\"\",3,LOOKUP(Dryer!P15,Calculations!$AZ$35:$BB$35,Calculations!$AZ$36:$BB$36))*Dryer!M15","v":0},{"$f":"IF(Dryer!P16=\"\",3,LOOKUP(Dryer!P16,Calculations!$AZ$35:$BB$35,Calculations!$AZ$36:$BB$36))*Dryer!M16","v":0},{"$f":"IF(Dryer!P17=\"\",3,LOOKUP(Dryer!P17,Calculations!$AZ$35:$BB$35,Calculations!$AZ$36:$BB$36))*Dryer!M17","v":0},{"$f":"IF(Dryer!P18=\"\",3,LOOKUP(Dryer!P18,Calculations!$AZ$35:$BB$35,Calculations!$AZ$36:$BB$36))*Dryer!M18","v":0},{"$f":"IF(Dryer!P19=\"\",3,LOOKUP(Dryer!P19,Calculations!$AZ$35:$BB$35,Calculations!$AZ$36:$BB$36))*Dryer!M19","v":0},{"$f":"IF(Dryer!P20=\"\",3,LOOKUP(Dryer!P20,Calculations!$AZ$35:$BB$35,Calculations!$AZ$36:$BB$36))*Dryer!M20","v":0},{"$f":"IF(Dryer!P21=\"\",3,LOOKUP(Dryer!P21,Calculations!$AZ$35:$BB$35,Calculations!$AZ$36:$BB$36))*Dryer!M21","v":0},{"$f":"IF(Dryer!P22=\"\",3,LOOKUP(Dryer!P22,Calculations!$AZ$35:$BB$35,Calculations!$AZ$36:$BB$36))*Dryer!M22","v":0},{"$f":"IF(Dryer!P23=\"\",3,LOOKUP(Dryer!P23,Calculations!$AZ$35:$BB$35,Calculations!$AZ$36:$BB$36))*Dryer!M23","v":0},{"$f":"IF(Dryer!P24=\"\",3,LOOKUP(Dryer!P24,Calculations!$AZ$35:$BB$35,Calculations!$AZ$36:$BB$36))*Dryer!M24","v":0},{"$f":"IF(BC69=0,SUM(AZ48:BI48),IF(BC69<=BC71,BC69*BA77,IF(BC69<=(BC71+BC72),(BC71*BA77+(BC69-BC71)*BB77),(BC71*BA77+BC72*BB77+(BC69-BC71-BC72)*AZ77))))","v":0},null,"PMfilterable",{"$f":"IF(Dryer!P15=\"\",3,LOOKUP(Dryer!P15,Calculations!$AZ$35:$BB$35,Calculations!$AZ$36:$BB$36))*Dryer!M15*IF(AM45=0,8760,AM45)","v":0},{"$f":"IF(Dryer!P16=\"\",3,LOOKUP(Dryer!P16,Calculations!$AZ$35:$BB$35,Calculations!$AZ$36:$BB$36))*Dryer!M16*IF(AN45=0,8760,AN45)","v":0},{"$f":"IF(Dryer!P17=\"\",3,LOOKUP(Dryer!P17,Calculations!$AZ$35:$BB$35,Calculations!$AZ$36:$BB$36))*Dryer!M17*IF(AO45=0,8760,AO45)","v":0},{"$f":"IF(Dryer!P18=\"\",3,LOOKUP(Dryer!P18,Calculations!$AZ$35:$BB$35,Calculations!$AZ$36:$BB$36))*Dryer!M18*IF(AP45=0,8760,AP45)","v":0},{"$f":"IF(Dryer!G60=\"\",3,LOOKUP(Dryer!G60,Calculations!$AZ$35:$BB$35,Calculations!$AZ$36:$BB$36))*Dryer!M19*IF(AQ45=0,8760,AQ45)","v":0},{"$f":"IF(Dryer!P20=\"\",3,LOOKUP(Dryer!P20,Calculations!$AZ$35:$BB$35,Calculations!$AZ$36:$BB$36))*Dryer!M20*IF(AR45=0,8760,AR45)","v":0},{"$f":"IF(Dryer!P21=\"\",3,LOOKUP(Dryer!P21,Calculations!$AZ$35:$BB$35,Calculations!$AZ$36:$BB$36))*Dryer!M21*IF(AS45=0,8760,AS45)","v":0},{"$f":"IF(Dryer!G63=\"\",3,LOOKUP(Dryer!G63,Calculations!$AZ$35:$BB$35,Calculations!$AZ$36:$BB$36))*Dryer!M22*IF(AT45=0,8760,AT45)","v":0},{"$f":"IF(Dryer!P23=\"\",3,LOOKUP(Dryer!P23,Calculations!$AZ$35:$BB$35,Calculations!$AZ$36:$BB$36))*Dryer!M23*IF(AU45=0,8760,AU45)","v":0},{"$f":"IF(Dryer!P24=\"\",3,LOOKUP(Dryer!P24,Calculations!$AZ$35:$BB$35,Calculations!$AZ$36:$BB$36))*Dryer!M24*IF(AV45=0,8760,AV45)","v":0},{"$f":"IF(BC70=0,SUM(BM48:BV48),IF(BC70<=BC71*8760,BC70*BA77,IF(BC70<=(BC71+BC72)*8760,(BC71*BA77+(BC70-BC71)*BB77),(BC71*BA77+BC72*BB77+(BC70-BC71-BC72)*AZ77))))","v":0},null,"PMfilterable",{"$f":"Z48+AZ55","v":0},{"$f":"AA48+BA55","v":0},0,0,0,0,0,0,0,0,{"$f":"AJ48+BJ55","v":0},null,"PMfilterable",{"$f":"AM48+BM55/2000","v":0},{"$f":"AN48+BN55/2000","v":0},0,0,0,0,0,0,0,0,0]
["PM10",7.6,7.6,7.6,7.6,7.6,7.6,7.6,7.6,7.6,7.6,null,"PM10",{"$f":"IF(Dryer!C61=0,B49/1020,Dryer!C61)","v":7.4509803921568628E-3},{"$f":"IF(Dryer!D61=0,C49/1020,Dryer!D61)","v":7.4509803921568628E-3},{"$f":"IF(Dryer!E61=0,D49/1020,Dryer!E61)","v":7.4509803921568628E-3},{"$f":"IF(Dryer!F61=0,E49/1020,Dryer!F61)","v":7.4509803921568628E-3},{"$f":"IF(Dryer!G61=0,F49/1020,Dryer!G61)","v":7.4509803921568628E-3},{"$f":"IF(Dryer!H61=0,G49/1020,Dryer!H61)","v":7.4509803921568628E-3},{"$f":"IF(Dryer!I61=0,H49/1020,Dryer!I61)","v":7.4509803921568628E-3},{"$f":"IF(Dryer!J61=0,I49/1020,Dryer!J61)","v":7.4509803921568628E-3},{"$f":"IF(Dryer!K61=0,J49/1020,Dryer!K61)","v":7.4509803921568628E-3},{"$f":"IF(Dryer!L61=0,K49/1020,Dryer!L61)","v":7.4509803921568628E-3},null,"PM10",{"$f":"IF(AZ68=1,N49*Dryer!$O$15,N49*Dryer!$O$15*$BA$81*(1-$BA$82))","v":0},{"$f":"IF(BA68=1,O49*Dryer!$O$16,O49*Dryer!$O$16*$BA$81*(1-$BA$82))","v":0},{"$f":"IF(BB68=1,P49*Dryer!$O$17,P49*Dryer!$O$17*$BA$81*(1-$BA$82))","v":0},{"$f":"IF(BC68=1,Q49*Dryer!$O$18,Q49*Dryer!$O$18*$BA$81*(1-$BA$82))","v":0},{"$f":"IF(BD68=1,R49*Dryer!$O$19,R49*Dryer!$O$19*$BA$81*(1-$BA$82))","v":0},{"$f":"IF(BE68=1,S49*Dryer!$O$20,S49*Dryer!$O$20*$BA$81*(1-$BA$82))","v":0},{"$f":"IF(BF68=1,T49*Dryer!$O$21,T49*Dryer!$O$21*$BA$81*(1-$BA$82))","v":0},{"$f":"IF(BG68=1,U49*Dryer!$O$22,U49*Dryer!$O$22*$BA$81*(1-$BA$82))","v":0},{"$f":"IF(BH68=1,V49*Dryer!$O$23,V49*Dryer!$O$23*$BA$81*(1-$BA$82))","v":0},{"$f":"IF(BI68=1,W49*Dryer!$O$24,W49*Dryer!$O$24*$BA$81*(1-$BA$82))","v":0},{"$f":"SUM(Z49:AI49)","v":0},null,"PM10",0,0,0,0,0,0,0,0,0,0,{"$f":"SUM(AM49:AV49)","v":0},null,"PM10",{"$f":"IF(Dryer!P15=\"\",0.75,LOOKUP(Dryer!P15,Calculations!$AZ$35:$BB$35,Calculations!$AZ$37:$BB$37))*Dryer!M15","v":0},{"$f":"IF(Dryer!P16=\"\",0.75,LOOKUP(Dryer!P16,Calculations!$AZ$35:$BB$35,Calculations!$AZ$37:$BB$37))*Dryer!M16","v":0},{"$f":"IF(Dryer!P17=\"\",0.75,LOOKUP(Dryer!P17,Calculations!$AZ$35:$BB$35,Calculations!$AZ$37:$BB$37))*Dryer!M17","v":0},{"$f":"IF(Dryer!P18=\"\",0.75,LOOKUP(Dryer!P18,Calculations!$AZ$35:$BB$35,Calculations!$AZ$37:$BB$37))*Dryer!M18","v":0},{"$f":"IF(Dryer!P19=\"\",0.75,LOOKUP(Dryer!P19,Calculations!$AZ$35:$BB$35,Calculations!$AZ$37:$BB$37))*Dryer!M19","v":0},{"$f":"IF(Dryer!P20=\"\",0.75,LOOKUP(Dryer!P20,Calculations!$AZ$35:$BB$35,Calculations!$AZ$37:$BB$37))*Dryer!M20","v":0},{"$f":"IF(Dryer!P21=\"\",0.75,LOOKUP(Dryer!P21,Calculations!$AZ$35:$BB$35,Calculations!$AZ$37:$BB$37))*Dryer!M21","v":0},{"$f":"IF(Dryer!P22=\"\",0.75,LOOKUP(Dryer!P22,Calculations!$AZ$35:$BB$35,Calculations!$AZ$37:$BB$37))*Dryer!M22","v":0},{"$f":"IF(Dryer!P23=\"\",0.75,LOOKUP(Dryer!P23,Calculations!$AZ$35:$BB$35,Calculations!$AZ$37:$BB$37))*Dryer!M23","v":0},{"$f":"IF(Dryer!P24=\"\",0.75,LOOKUP(Dryer!P24,Calculations!$AZ$35:$BB$35,Calculations!$AZ$37:$BB$37))*Dryer!M24","v":0},{"$f":"IF(BC69=0,SUM(AZ49:BI49),IF(BC69<=BC71,BC69*BA78,IF(BC69<=(BC71+BC72),(BC71*BA78+(BC69-BC71)*BB78),(BC71*BA78+BC72*BB78+(BC69-BC71-BC72)*AZ78))))","v":0},null,"PM10",{"$f":"IF(Dryer!P15=\"\",0.75,LOOKUP(Dryer!P15,Calculations!$AZ$35:$BB$35,Calculations!$AZ$37:$BB$37))*Dryer!M15*IF(AM45=0,8760,AM45)","v":0},{"$f":"IF(Dryer!P16=\"\",0.75,LOOKUP(Dryer!P16,Calculations!$AZ$35:$BB$35,Calculations!$AZ$37:$BB$37))*Dryer!M16*IF(AN45=0,8760,AN45)","v":0},{"$f":"IF(Dryer!P17=\"\",0.75,LOOKUP(Dryer!P17,Calculations!$AZ$35:$BB$35,Calculations!$AZ$37:$BB$37))*Dryer!M17*IF(AO45=0,8760,AO45)","v":0},{"$f":"IF(Dryer!P18=\"\",0.75,LOOKUP(Dryer!P18,Calculations!$AZ$35:$BB$35,Calculations!$AZ$37:$BB$37))*Dryer!M18*IF(AP45=0,8760,AP45)","v":0},{"$f":"IF(Dryer!G60=\"\",0.75,LOOKUP(Dryer!G60,Calculations!$AZ$35:$BB$35,Calculations!$AZ$37:$BB$37))*Dryer!M19*IF(AQ45=0,8760,AQ45)","v":0},{"$f":"IF(Dryer!P20=\"\",0.75,LOOKUP(Dryer!P20,Calculations!$AZ$35:$BB$35,Calculations!$AZ$37:$BB$37))*Dryer!M20*IF(AR45=0,8760,AR45)","v":0},{"$f":"IF(Dryer!P21=\"\",0.75,LOOKUP(Dryer!P21,Calculations!$AZ$35:$BB$35,Calculations!$AZ$37:$BB$37))*Dryer!M21*IF(AS45=0,8760,AS45)","v":0},{"$f":"IF(Dryer!G63=\"\",0.75,LOOKUP(Dryer!G63,Calculations!$AZ$35:$BB$35,Calculations!$AZ$37:$BB$37))*Dryer!M22*IF(AT45=0,8760,AT45)","v":0},{"$f":"IF(Dryer!P23=\"\",0.75,LOOKUP(Dryer!P23,Calculations!$AZ$35:$BB$35,Calculations!$AZ$37:$BB$37))*Dryer!M23*IF(AU45=0,8760,AU45)","v":0},{"$f":"IF(Dryer!P24=\"\",0.75,LOOKUP(Dryer!P24,Calculations!$AZ$35:$BB$35,Calculations!$AZ$37:$BB$37))*Dryer!M24*IF(AV45=0,8760,AV45)","v":0},{"$f":"IF(BC70=0,SUM(BM49:BV49),IF(BC70<=BC71*8760,BC70*BA78,IF(BC70<=(BC71+BC72)*8760,(BC71*BA78+(BC70-BC71)*BB78),(BC71*BA78+BC72*BB78+(BC70-BC71-BC72)*AZ78))))","v":0},null,"PM10",{"$f":"Z49+AZ56","v":0},{"$f":"AA49+BA56","v":0},{"$f":"AB49+BB56","v":0},{"$f":"AC49+BC56","v":0},{"$f":"AD49+BD56","v":0},{"$f":"AE49+BE56","v":0},{"$f":"AF49+BF56","v":0},{"$f":"AG49+BG56","v":0},{"$f":"AH49+BH56","v":0},{"$f":"AI49+BI56","v":0},{"$f":"AJ49+BJ56","v":0},null,"PM10",{"$f":"AM49+BM56/2000","v":0},{"$f":"AN49+BN56/2000","v":0},{"$f":"AO49+BO56/2000","v":0},{"$f":"AP49+BP56/2000","v":0},{"$f":"AQ49+BQ56/2000","v":0},{"$f":"AR49+BR56/2000","v":0},{"$f":"AS49+BS56/2000","v":0},{"$f":"AT49+BT56/2000","v":0},{"$f":"AU49+BU56/2000","v":0},{"$f":"AV49+BV56/2000","v":0},{"$f":"AW49+BW56/2000","v":0}]
["PM2.5",7.6,7.6,7.6,7.6,7.6,7.6,7.6,7.6,7.6,7.6,null,"PM2.5",{"$f":"IF(Dryer!C62=0,B50/1020,Dryer!C62)","v":7.4509803921568628E-3},{"$f":"IF(Dryer!D62=0,C50/1020,Dryer!D62)","v":7.4509803921568628E-3},{"$f":"IF(Dryer!E62=0,D50/1020,Dryer!E62)","v":7.4509803921568628E-3},{"$f":"IF(Dryer!F62=0,E50/1020,Dryer!F62)","v":7.4509803921568628E-3},{"$f":"IF(Dryer!G62=0,F50/1020,Dryer!G62)","v":7.4509803921568628E-3},{"$f":"IF(Dryer!H62=0,G50/1020,Dryer!H62)","v":7.4509803921568628E-3},{"$f":"IF(Dryer!I62=0,H50/1020,Dryer!I62)","v":7.4509803921568628E-3},{"$f":"IF(Dryer!J62=0,I50/1020,Dryer!J62)","v":7.4509803921568628E-3},{"$f":"IF(Dryer!K62=0,J50/1020,Dryer!K62)","v":7.4509803921568628E-3},{"$f":"IF(Dryer!L62=0,K50/1020,Dryer!L62)","v":7.4509803921568628E-3},null,"PM2.5",{"$f":"IF(AZ68=1,N50*Dryer!$O$15,N50*Dryer!$O$15*$BA$81*(1-$BA$82))","v":0},{"$f":"IF(BA68=1,O50*Dryer!$O$16,O50*Dryer!$O$16*$BA$81*(1-$BA$82))","v":0},{"$f":"IF(BB68=1,P50*Dryer!$O$17,P50*Dryer!$O$17*$BA$81*(1-$BA$82))","v":0},{"$f":"IF(BC68=1,Q50*Dryer!$O$18,Q50*Dryer!$O$18*$BA$81*(1-$BA$82))","v":0},{"$f":"IF(BD68=1,R50*Dryer!$O$19,R50*Dryer!$O$19*$BA$81*(1-$BA$82))","v":0},{"$f":"IF(BE68=1,S50*Dryer!$O$20,S50*Dryer!$O$20*$BA$81*(1-$BA$82))","v":0},{"$f":"IF(BF68=1,T50*Dryer!$O$21,T50*Dryer!$O$21*$BA$81*(1-$BA$82))","v":0},{"$f":"IF(BG68=1,U50*Dryer!$O$22,U50*Dryer!$O$22*$BA$81*(1-$BA$82))","v":0},{"$f":"IF(BH68=1,V50*Dryer!$O$23,V50*Dryer!$O$23*$BA$81*(1-$BA$82))","v":0},{"$f":"IF(BI68=1,W50*Dryer!$O$24,W50*Dryer!$O$24*$BA$81*(1-$BA$82))","v":0},0,null,"PM2.5",0,0,0,0,0,0,0,0,0,0,0,null,"PM2.5",{"$f":"IF(Dryer!P15=\"\",0.13,LOOKUP(Dryer!P15,Calculations!$AZ$35:$BB$35,Calculations!$AZ$38:$BB$38))*Dryer!M15","v":0},{"$f":"IF(Dryer!P16=\"\",0.13,LOOKUP(Dryer!P16,Calculations!$AZ$35:$BB$35,Calculations!$AZ$38:$BB$38))*Dryer!M16","v":0},{"$f":"IF(Dryer!P17=\"\",0.13,LOOKUP(Dryer!P17,Calculations!$AZ$35:$BB$35,Calculations!$AZ$38:$BB$38))*Dryer!M17","v":0},{"$f":"IF(Dryer!P18=\"\",0.13,LOOKUP(Dryer!P18,Calculations!$AZ$35:$BB$35,Calculations!$AZ$38:$BB$38))*Dryer!M18","v":0},{"$f":"IF(Dryer!P19=\"\",0.13,LOOKUP(Dryer!P19,Calculations!$AZ$35:$BB$35,Calculations!$AZ$38:$BB$38))*Dryer!M19","v":0},{"$f":"IF(Dryer!P20=\"\",0.13,LOOKUP(Dryer!P20,Calculations!$AZ$35:$BB$35,Calculations!$AZ$38:$BB$38))*Dryer!M20","v":0},{"$f":"IF(Dryer!P21=\"\",0.13,LOOKUP(Dryer!P21,Calculations!$AZ$35:$BB$35,Calculations!$AZ$38:$BB$38))*Dryer!M21","v":0},{"$f":"IF(Dryer!P22=\"\",0.13,LOOKUP(Dryer!P22,Calculations!$AZ$35:$BB$35,Calculations!$AZ$38:$BB$38))*Dryer!M22","v":0},{"$f":"IF(Dryer!P23=\"\",0.13,LOOKUP(Dryer!P23,Calculations!$AZ$35:$BB$35,Calculations!$AZ$38:$BB$38))*Dryer!M23","v":0},{"$f":"IF(Dryer!P24=\"\",0.13,LOOKUP(Dryer!P24,Calculations!$AZ$35:$BB$35,Calculations!$AZ$38:$BB$38))*Dryer!M24","v":0},{"$f":"IF(BC69=0,SUM(AZ50:BI50),IF(BC69<=BC71,BC69*BA79,IF(BC69<=(BC71+BC72),(BC71*BA79+(BC69-BC71)*BB79),(BC71*BA79+BC72*BB79+(BC69-BC71-BC72)*AZ79))))","v":0},null,"PM2.5",{"$f":"IF(Dryer!P15=\"\",0.13,LOOKUP(Dryer!P15,Calculations!$AZ$35:$BB$35,Calculations!$AZ$38:$BB$38))*Dryer!M15*IF(AM45=0,8760,AM45)","v":0},{"$f":"IF(Dryer!P16=\"\",0.13,LOOKUP(Dryer!P16,Calculations!$AZ$35:$BB$35,Calculations!$AZ$38:$BB$38))*Dryer!M16*IF(AN45=0,8760,AN45)","v":0},{"$f":"IF(Dryer!P17=\"\",0.13,LOOKUP(Dryer!P17,Calculations!$AZ$35:$BB$35,Calculations!$AZ$38:$BB$38))*Dryer!M17*IF(AO45=0,8760,AO45)","v":0},{"$f":"IF(Dryer!P18=\"\",0.13,LOOKUP(Dryer!P18,Calculations!$AZ$35:$BB$35,Calculations!$AZ$38:$BB$38))*Dryer!M18*IF(AP45=0,8760,AP45)","v":0},{"$f":"IF(Dryer!G60=\"\",0.13,LOOKUP(Dryer!G60,Calculations!$AZ$35:$BB$35,Calculations!$AZ$38:$BB$38))*Dryer!M19*IF(AQ45=0,8760,AQ45)","v":0},{"$f":"IF(Dryer!P20=\"\",0.13,LOOKUP(Dryer!P20,Calculations!$AZ$35:$BB$35,Calculations!$AZ$38:$BB$38))*Dryer!M20*IF(AR45=0,8760,AR45)","v":0},{"$f":"IF(Dryer!P21=\"\",0.13,LOOKUP(Dryer!P21,Calculations!$AZ$35:$BB$35,Calculations!$AZ$38:$BB$38))*Dryer!M21*IF(AS45=0,8760,AS45)","v":0},{"$f":"IF(Dryer!G63=\"\",0.13,LOOKUP(Dryer!G63,Calculations!$AZ$35:$BB$35,Calculations!$AZ$38:$BB$38))*Dryer!M22*IF(AT45=0,8760,AT45)","v":0},{"$f":"IF(Dryer!P23=\"\",0.13,LOOKUP(Dryer!P23,Calculations!$AZ$35:$BB$35,Calculations!$AZ$38:$BB$38))*Dryer!M23*IF(AU45=0,8760,AU45)","v":0},{"$f":"IF(Dryer!P24=\"\",0.13,LOOKUP(Dryer!P24,Calculations!$AZ$35:$BB$35,Calculations!$AZ$38:$BB$38))*Dryer!M24*IF(AV45=0,8760,AV45)","v":0},{"$f":"IF(BC70=0,SUM(BM50:BV50),IF(BC70<=BC71*8760,BC70*BA79,IF(BC70<=(BC71+BC72)*8760,(BC71*BA79+(BC70-BC71)*BB79),(BC71*BA79+BC72*BB79+(BC70-BC71-BC72)*AZ79))))","v":0},null,"PM2.5",{"$f":"Z50+AZ57","v":0},0,0,0,0,0,0,0,0,0,{"$f":"AJ50+BJ57","v":0},null,"PM2.5",0,0,0,0,0,0,0,0,0,0,0]
["SO2",0.6,0.6,0.6,0.6,0.6,0.6,0.6,0.6,0.6,0.6,null,"SO2",{"$f":"IF(Dryer!C63=0,B51/1020,Dryer!C63)","v":5.8823529411764701E-4},{"$f":"IF(Dryer!D63=0,C51/1020,Dryer!D63)","v":5.8823529411764701E-4},{"$f":"IF(Dryer!E63=0,D51/1020,Dryer!E63)","v":5.8823529411764701E-4},{"$f":"IF(Dryer!F63=0,E51/1020,Dryer!F63)","v":5.8823529411764701E-4},{"$f":"IF(Dryer!G63=0,F51/1020,Dryer!G63)","v":5.8823529411764701E-4},{"$f":"IF(Dryer!H63=0,G51/1020,Dryer!H63)","v":5.8823529411764701E-4},{"$f":"IF(Dryer!I63=0,H51/1020,Dryer!I63)","v":5.8823529411764701E-4},{"$f":"IF(Dryer!J63=0,I51/1020,Dryer!J63)","v":5.8823529411764701E-4},{"$f":"IF(Dryer!K63=0,J51/1020,Dryer!K63)","v":5.8823529411764701E-4},{"$f":"IF(Dryer!L63=0,K51/1020,Dryer!L63)","v":5.8823529411764701E-4},null,"SO2",{"$f":"N51*Dryer!$O$15","v":0},{"$f":"O51*Dryer!$O$16","v":0},{"$f":"P51*Dryer!$O$17","v":0},{"$f":"Q51*Dryer!$O$18","v":0},{"$f":"R51*Dryer!$O$19","v":0},{"$f":"S51*Dryer!$O$20","v":0},{"$f":"T51*Dryer!$O$21","v":0},{"$f":"U51*Dryer!$O$22","v":0},{"$f":"V51*Dryer!$O$23","v":0},{"$f":"W51*Dryer!$O$24","v":0},0,null,"SO2",0,0,0,0,0,0,0,0,0,0,0,null,null,null,null,null,null,null,null,null,null,null,null,null,null,null,null,null,null,null,null,null,null,null,null,null,null,null,"SO2",{"$f":"Z51","v":0},{"$f":"AA51","v":0},0,0,0,0,0,0,0,0,{"$f":"SUM(BZ51:CI51)","v":0},null,"SO2",{"$f":"AM51","v":0},{"$f":"AN51","v":0},0,0,0,0,0,0,0,0,0]
["NOx",{"$f":"IF(Dryer!N15=Datasets!$AA$3,50,IF(Dryer!N15=Datasets!$AA$4,32,100))","v":100},{"$f":"IF(Dryer!N16=Datasets!$AA$3,50,IF(Dryer!N16=Datasets!$AA$4,32,100))","v":100},{"$f":"IF(Dryer!N17=Datasets!$AA$3,50,IF(Dryer!N17=Datasets!$AA$4,32,100))","v":100},{"$f":"IF(Dryer!N18=Datasets!$AA$3,50,IF(Dryer!N18=Datasets!$AA$4,32,100))","v":100},{"$f":"IF(Dryer!N19=Datasets!$AA$3,50,IF(Dryer!N19=Datasets!$AA$4,32,100))","v":100},{"$f":"IF(Dryer!N20=Datasets!$AA$3,50,IF(Dryer!N20=Datasets!$AA$4,32,100))","v":100},{"$f":"IF(Dryer!N21=Datasets!$AA$3,50,IF(Dryer!N21=Datasets!$AA$4,32,100))","v":100},{"$f":"IF(Dryer!N22=Datasets!$AA$3,50,IF(Dryer!N22=Datasets!$AA$4,32,100))","v":100},{"$f":"IF(Dryer!N23=Datasets!$AA$3,50,IF(Dryer!N23=Datasets!$AA$4,32,100))","v":100},{"$f":"IF(Dryer!N24=Datasets!$AA$3,50,IF(Dryer!N24=Datasets!$AA$4,32,100))","v":100},null,"NOx",{"$f":"IF(Dryer!C64=0,B52/1020,Dryer!C64)","v":9.8039215686274508E-2},{"$f":"IF(Dryer!D64=0,C52/1020,Dryer!D64)","v":9.8039215686274508E-2},{"$f":"IF(Dryer!E64=0,D52/1020,Dryer!E64)","v":9.8039215686274508E-2},{"$f":"IF(Dryer!F64=0,E52/1020,Dryer!F64)","v":9.8039215686274508E-2},{"$f":"IF(Dryer!G64=0,F52/1020,Dryer!G64)","v":9.8039215686274508E-2},{"$f":"IF(Dryer!H64=0,G52/1020,Dryer!H64)","v":9.8039215686274508E-2},{"$f":"IF(Dryer!I64=0,H52/1020,Dryer!I64)","v":9.8039215686274508E-2},{"$f":"IF(Dryer!J64=0,I52/1020,Dryer!J64)","v":9.8039215686274508E-2},{"$f":"IF(Dryer!K64=0,J52/1020,Dryer!K64)","v":9.8039215686274508E-2},{"$f":"IF(Dryer!L64=0,K52/1020,Dryer!L64)","v":9.8039215686274508E-2},null,"NOx",{"$f":"N52*Dryer!$O$15","v":0},{"$f":"O52*Dryer!$O$16","v":0},{"$f":"P52*Dryer!$O$17","v":0},{"$f":"Q52*Dryer!$O$18","v":0},{"$f":"R52*Dryer!$O$19","v":0},{"$f":"S52*Dryer!$O$20","v":0},{"$f":"T52*Dryer!$O$21","v":0},{"$f":"U52*Dryer!$O$22","v":0},{"$f":"V52*Dryer!$O$23","v":0},{"$f":"W52*Dryer!$O$24","v":0},{"$f":"SUM(Z52:AI52)","v":0},null,"NOx",0,0,0,0,0,0,0,0,0,0,0,null,"PTE in lb/hr considering baghouse control = Emission Factor (lb/ton) x Maximum permitted hourly rate (ton/hr)",null,null,null,null,null,null,null,null,null,null,null,null,"PTE in lb/yr considering baghouse control = Emission Factor (lb/ton) x Maximum permitted annual rate (ton/yr)",null,null,null,null,null,null,null,null,null,null,null,null,"NOx",{"$f":"Z52","v":0},{"$f":"AA52","v":0},0,0,0,0,0,0,0,0,0,null,"NOx",{"$f":"AM52","v":0},{"$f":"AN52","v":0},{"$f":"AO52","v":0},{"$f":"AP52","v":0},{"$f":"AQ52","v":0},{"$f":"AR52","v":0},{"$f":"AS52","v":0},{"$f":"AT52","v":0},{"$f":"AU52","v":0},{"$f":"AV52","v":0},0]
["CO",84,84,84,84,84,84,84,84,84,84,null,"CO",{"$f":"IF(Dryer!C65=0,B53/1020,Dryer!C65)","v":8.2352941176470587E-2},{"$f":"IF(Dryer!D65=0,C53/1020,Dryer!D65)","v":8.2352941176470587E-2},{"$f":"IF(Dryer!E65=0,D53/1020,Dryer!E65)","v":8.2352941176470587E-2},{"$f":"IF(Dryer!F65=0,E53/1020,Dryer!F65)","v":8.2352941176470587E-2},{"$f":"IF(Dryer!G65=0,F53/1020,Dryer!G65)","v":8.2352941176470587E-2},{"$f":"IF(Dryer!H65=0,G53/1020,Dryer!H65)","v":8.2352941176470587E-2},{"$f":"IF(Dryer!I65=0,H53/1020,Dryer!I65)","v":8.2352941176470587E-2},{"$f":"IF(Dryer!J65=0,I53/1020,Dryer!J65)","v":8.2352941176470587E-2},{"$f":"IF(Dryer!K65=0,J53/1020,Dryer!K65)","v":8.2352941176470587E-2},{"$f":"IF(Dryer!L65=0,K53/1020,Dryer!L65)","v":8.2352941176470587E-2},null,"CO",{"$f":"N53*Dryer!$O$15","v":0},{"$f":"O53*Dryer!$O$16","v":0},{"$f":"P53*Dryer!$O$17","v":0},{"$f":"Q53*Dryer!$O$18","v":0},{"$f":"R53*Dryer!$O$19","v":0},{"$f":"S53*Dryer!$O$20","v":0},{"$f":"T53*Dryer!$O$21","v":0},{"$f":"U53*Dryer!$O$22","v":0},{"$f":"V53*Dryer!$O$23","v":0},{"$f":"W53*Dryer!$O$24","v":0},{"$f":"SUM(Z53:AI53)","v":0},null,"CO",0,0,0,0,0,0,0,0,0,0,0,null,"Pollutant","1st Dryer","2nd Dryer","3rd Dryer","4th Dryer","5th Dryer","6th Dryer","7th Dryer","8th Dryer","9th Dryer","10th Dryer","Total ",null,"Pollutant","1st Dryer","2nd Dryer","3rd Dryer","4th Dryer","5th Dryer","6th Dryer","7th Dryer","8th Dryer","9th Dryer","10th Dryer","Total ",null,"CO",{"$f":"Z53","v":0},{"$f":"AA53","v":0},0,0,0,0,0,0,0,0,0,null,"CO",0,0,0,0,0,0,0,0,0,0,0]
["VOC",5.5,5.5,5.5,5.5,5.5,5.5,5.5,5.5,5.5,5.5,null,"VOC",{"$f":"IF(Dryer!C66=0,B54/1020,Dryer!C66)","v":5.392156862745098E-3},{"$f":"IF(Dryer!D66=0,C54/1020,Dryer!D66)","v":5.392156862745098E-3},{"$f":"IF(Dryer!E66=0,D54/1020,Dryer!E66)","v":5.392156862745098E-3},{"$f":"IF(Dryer!F66=0,E54/1020,Dryer!F66)","v":5.392156862745098E-3},{"$f":"IF(Dryer!G66=0,F54/1020,Dryer!G66)","v":5.392156862745098E-3},{"$f":"IF(Dryer!H66=0,G54/1020,Dryer!H66)","v":5.392156862745098E-3},{"$f":"IF(Dryer!I66=0,H54/1020,Dryer!I66)","v":5.392156862745098E-3},{"$f":"IF(Dryer!J66=0,I54/1020,Dryer!J66)","v":5.392156862745098E-3},{"$f":"IF(Dryer!K66=0,J54/1020,Dryer!K66)","v":5.392156862745098E-3},{"$f":"IF(Dryer!L66=0,K54/1020,Dryer!L66)","v":5.392156862745098E-3},null,"VOC",{"$f":"N54*Dryer!$O$15","v":0},{"$f":"O54*Dryer!$O$16","v":0},{"$f":"P54*Dryer!$O$17","v":0},{"$f":"Q54*Dryer!$O$18","v":0},{"$f":"R54*Dryer!$O$19","v":0},{"$f":"S54*Dryer!$O$20","v":0},{"$f":"T54*Dryer!$O$21","v":0},{"$f":"U54*Dryer!$O$22","v":0},{"$f":"V54*Dryer!$O$23","v":0},{"$f":"W54*Dryer!$O$24","v":0},{"$f":"SUM(Z54:AI54)","v":0},null,"VOC",0,0,0,0,0,0,0,0,0,0,0,null,null,"(lb/hr)",null,null,null,null,null,null,null,null,null,null,null,null,"(lb/year)",null,null,null,null,null,null,null,null,null,null,null,"VOC",{"$f":"Z54","v":0},{"$f":"AA54","v":0},{"$f":"AB54","v":0},{"$f":"AC54","v":0},{"$f":"AD54","v":0},{"$f":"AE54","v":0},{"$f":"AF54","v":0},{"$f":"AG54","v":0},{"$f":"AH54","v":0},{"$f":"AI54","v":0},0,null,"VOC",0,0,0,0,0,0,0,0,0,0,0]
["Individual HAP",null,null,null,null,null,null,null,null,null,null,null,null,null,null,null,null,null,null,null,null,null,null,null,"Individual HAP",null,null,null,null,null,null,null,null,null,null,null,null,"Individual HAP",null,null,null,null,null,null,null,null,null,null,null,null,"PMfilterable",{"$f":"IF(AZ68=1,AZ48,AZ48*$BA$81*(1-$BA$82))","v":0},{"$f":"IF(BA68=1,BA48,BA48*$BA$81*(1-$BA$82))","v":0},0,0,0,0,0,0,0,0,{"$f":"IF(OR(BC69=0,BC69>=SUM(BC71:BC73)),SUM(AZ55:BI55),IF(BC69<=BI71,BC69*BA77,IF(BC69<=(BI71+BI72),(BI71*BA77+(BC69-BI71)*BB77),IF(BC69<=(BI71+BI72+BI73),(BI71*BA77+BI72*BB77+(BC69-BI71-BI72)*AZ77),IF(BC69<=(BC71+BI72+BI73),(BI71*BA77+BI72*BB77+BI73*AZ77+(BC69-BI71)*BG77),IF(BC69<=(BC71+BC72+BI73),(BI71*BA77+BI72*BB77+BI73*AZ77+(BC71-BI71)*BG77+(BC69-BI72)*BH77),(BI71*BA77+BI72*BB77+BI73*AZ77+(BC71-BI71)*BG77+(BC72-BI72)*BH77+(BC69-BI73)*BF77)))))))","v":0},null,"PMfilterable",{"$f":"IF(AZ68=1,BM48,BM48*$BA$81*(1-$BA$82))","v":0},{"$f":"IF(BA68=1,BN48,BN48*$BA$81*(1-$BA$82))","v":0},0,0,0,0,0,0,0,0,{"$f":"IF(OR(BC70=0,BC70>=8760*SUM(BC71:BC73)),SUM(BM55:BV55),IF(BC70<=BI71*8760,BC70*BA77,IF(BC70<=(BI71+BI72)*8760,(BI71*BA77*8760+(BC70-BI71*8760)*BB77),IF(BC70<=(BI71+BI72+BI73)*8760,(BI71*BA77*8760+BI72*BB77*8760+(BC70-BI71*8760-BI72*8760)*AZ77),IF(BC70<=(BC71+BI72+BI73)*8760,(BI71*BA77*8760+BI72*BB77*8760+BI73*AZ77*8760+(BC70-BI71*8760)*BG77),IF(BC70<=(BC71+BC72+BI73)*8760,(BI71*BA77*8760+BI72*BB77*8760+BI73*AZ77*8760+(BC71-BI71)*BG77*8760+(BC70-BI72*8760)*BH77),(BI71*BA77*8760+BI72*BB77*8760+BI73*AZ77*8760+(BC71-BI71)*BG77*8760+(BC72-BI72)*BH77*8760+(BC70-BI73*8760)*BF77)))))))","v":0},null,"Individual HAP",null,null,null,null,null,null,null,null,null,null,null,null,"Individual HAP"]
["  Benzene ",2.0999999999999999E-3,2.0999999999999999E-3,2.0999999999999999E-3,2.0999999999999999E-3,2.0999999999999999E-3,2.0999999999999999E-3,2.0999999999999999E-3,2.0999999999999999E-3,2.0999999999999999E-3,2.0999999999999999E-3,null,"  Benzene ",{"$f":"IF(Dryer!C68=0,B56/1020,Dryer!C68)","v":2.0588235294117645E-6},{"$f":"IF(Dryer!D68=0,C56/1020,Dryer!D68)","v":2.0588235294117645E-6},{"$f":"IF(Dryer!E68=0,D56/1020,Dryer!E68)","v":2.0588235294117645E-6},{"$f":"IF(Dryer!F68=0,E56/1020,Dryer!F68)","v":2.0588235294117645E-6},{"$f":"IF(Dryer!G68=0,F56/1020,Dryer!G68)","v":2.0588235294117645E-6},{"$f":"IF(Dryer!H68=0,G56/1020,Dryer!H68)","v":2.0588235294117645E-6},{"$f":"IF(Dryer!I68=0,H56/1020,Dryer!I68)","v":2.0588235294117645E-6},{"$f":"IF(Dryer!J68=0,I56/1020,Dryer!J68)","v":2.0588235294117645E-6},{"$f":"IF(Dryer!K68=0,J56/1020,Dryer!K68)","v":2.0588235294117645E-6},{"$f":"IF(Dryer!L68=0,K56/1020,Dryer!L68)","v":2.0588235294117645E-6},null,"  Benzene ",{"$f":"N56*Dryer!$O$15","v":0},{"$f":"O56*Dryer!$O$16","v":0},{"$f":"P56*Dryer!$O$17","v":0},{"$f":"Q56*Dryer!$O$18","v":0},{"$f":"R56*Dryer!$O$19","v":0},{"$f":"S56*Dryer!$O$20","v":0},{"$f":"T56*Dryer!$O$21","v":0},{"$f":"U56*Dryer!$O$22","v":0},{"$f":"V56*Dryer!$O$23","v":0},{"$f":"W56*Dryer!$O$24","v":0},{"$f":"SUM(Z56:AI56)","v":0},null,"  Benzene ",{"$f":"IF(AM$45=0,Z56*8760/2000,Z56*AM$45/2000)","v":0},{"$f":"IF(AN$45=0,AA56*8760/2000,AA56*AN$45/2000)","v":0},{"$f":"IF(AO$45=0,AB56*8760/2000,AB56*AO$45/2000)","v":0},{"$f":"IF(AP$45=0,AC56*8760/2000,AC56*AP$45/2000)","v":0},{"$f":"IF(AQ$45=0,AD56*8760/2000,AD56*AQ$45/2000)","v":0},{"$f":"IF(AR$45=0,AE56*8760/2000,AE56*AR$45/2000)","v":0},{"$f":"IF(AS$45=0,AF56*8760/2000,AF56*AS$45/2000)","v":0},{"$f":"IF(AT$45=0,AG56*8760/2000,AG56*AT$45/2000)","v":0},{"$f":"IF(AU$45=0,AH56*8760/2000,AH56*AU$45/2000)","v":0},{"$f":"IF(AV$45=0,AI56*8760/2000,AI56*AV$45/2000)","v":0},{"$f":"SUM(AM56:AV56)","v":0},null,"PM10",{"$f":"IF(AZ68=1,AZ49,AZ49*$BA$81*(1-$BA$82))","v":0},{"$f":"IF(BA68=1,BA49,BA49*$BA$81*(1-$BA$82))","v":0},0,0,0,0,0,0,0,0,{"$f":"IF(OR(BC69=0,BC69>=SUM(BC71:BC73)),SUM(AZ56:BI56),IF(BC69<=BI71,BC69*BA78,IF(BC69<=(BI71+BI72),(BI71*BA78+(BC69-BI71)*BB78),IF(BC69<=(BI71+BI72+BI73),(BI71*BA78+BI72*BB78+(BC69-BI71-BI72)*AZ78),IF(BC69<=(BC71+BI72+BI73),(BI71*BA78+BI72*BB78+BI73*AZ78+(BC69-BI71)*BG78),IF(BC69<=(BC71+BC72+BI73),(BI71*BA78+BI72*BB78+BI73*AZ78+(BC71-BI71)*BG78+(BC69-BI72)*BH78),(BI71*BA78+BI72*BB78+BI73*AZ78+(BC71-BI71)*BG78+(BC72-BI72)*BH78+(BC69-BI73)*BF78)))))))","v":0},null,"PM10",{"$f":"IF(AZ68=1,BM49,BM49*$BA$81*(1-$BA$82))","v":0},{"$f":"IF(BA68=1,BN49,BN49*$BA$81*(1-$BA$82))","v":0},0,0,0,0,0,0,0,0,{"$f":"IF(OR(BC70=0,BC70>=8760*SUM(BC71:BC73)),SUM(BM56:BV56),IF(BC70<=BI71*8760,BC70*BA78,IF(BC70<=(BI71+BI72)*8760,(BI71*BA78*8760+(BC70-BI71*8760)*BB78),IF(BC70<=(BI71+BI72+BI73)*8760,(BI71*BA78*8760+BI72*BB78*8760+(BC70-BI71*8760-BI72*8760)*AZ78),IF(BC70<=(BC71+BI72+BI73)*8760,(BI71*BA78*8760+BI72*BB78*8760+BI73*AZ78*8760+(BC70-BI71*8760)*BG78),IF(BC70<=(BC71+BC72+BI73)*8760,(BI71*BA78*8760+BI72*BB78*8760+BI73*AZ78*8760+(BC71-BI71)*BG78*8760+(BC70-BI72*8760)*BH78),(BI71*BA78*8760+BI72*BB78*8760+BI73*AZ78*8760+(BC71-BI71)*BG78*8760+(BC72-BI72)*BH78*8760+(BC70-BI73*8760)*BF78)))))))","v":0},null,"  Benzene ",{"$f":"Z56","v":0},{"$f":"AA56","v":0},0,0,0,0,0,0,0,0,{"$f":"SUM(BZ56:CI56)","v":0},null,"  Benzene ",{"$f":"AM56","v":0},{"$f":"AN56","v":0},0,0,0,0,0,0,0,0,0]
["  Dichlorobenzene ",1.1999999999999999E-3,1.1999999999999999E-3,1.1999999999999999E-3,1.1999999999999999E-3,1.1999999999999999E-3,1.1999999999999999E-3,1.1999999999999999E-3,1.1999999999999999E-3,1.1999999999999999E-3,1.1999999999999999E-3,null,"  Dichlorobenzene ",{"$f":"IF(Dryer!C69=0,B57/1020,Dryer!C69)","v":1.176470588235294E-6},{"$f":"IF(Dryer!D69=0,C57/1020,Dryer!D69)","v":1.176470588235294E-6},{"$f":"IF(Dryer!E69=0,D57/1020,Dryer!E69)","v":1.176470588235294E-6},{"$f":"IF(Dryer!F69=0,E57/1020,Dryer!F69)","v":1.176470588235294E-6},{"$f":"IF(Dryer!G69=0,F57/1020,Dryer!G69)","v":1.176470588235294E-6},{"$f":"IF(Dryer!H69=0,G57/1020,Dryer!H69)","v":1.176470588235294E-6},{"$f":"IF(Dryer!I69=0,H57/1020,Dryer!I69)","v":1.176470588235294E-6},{"$f":"IF(Dryer!J69=0,I57/1020,Dryer!J69)","v":1.176470588235294E-6},{"$f":"IF(Dryer!K69=0,J57/1020,Dryer!K69)","v":1.176470588235294E-6},{"$f":"IF(Dryer!L69=0,K57/1020,Dryer!L69)","v":1.176470588235294E-6},null,"  Dichlorobenzene ",{"$f":"N57*Dryer!$O$15","v":0},{"$f":"O57*Dryer!$O$16","v":0},{"$f":"P57*Dryer!$O$17","v":0},{"$f":"Q57*Dryer!$O$18","v":0},{"$f":"R57*Dryer!$O$19","v":0},{"$f":"S57*Dryer!$O$20","v":0},{"$f":"T57*Dryer!$O$21","v":0},{"$f":"U57*Dryer!$O$22","v":0},{"$f":"V57*Dryer!$O$23","v":0},{"$f":"W57*Dryer!$O$24","v":0},0,null,"  Dichlorobenzene ",0,0,0,0,0,0,0,0,0,0,0,null,"PM2.5",{"$f":"IF(AZ68=1,AZ50,AZ50*$BA$81*(1-$BA$82))","v":0},{"$f":"IF(BA68=1,BA50,BA50*$BA$81*(1-$BA$82))","v":0},0,0,0,0,0,0,0,0,{"$f":"IF(OR(BC69=0,BC69>=SUM(BC71:BC73)),SUM(AZ57:BI57),IF(BC69<=BI71,BC69*BA79,IF(BC69<=(BI71+BI72),(BI71*BA79+(BC69-BI71)*BB79),IF(BC69<=(BI71+BI72+BI73),(BI71*BA79+BI72*BB79+(BC69-BI71-BI72)*AZ79),IF(BC69<=(BC71+BI72+BI73),(BI71*BA79+BI72*BB79+BI73*AZ79+(BC69-BI71)*BG79),IF(BC69<=(BC71+BC72+BI73),(BI71*BA79+BI72*BB79+BI73*AZ79+(BC71-BI71)*BG79+(BC69-BI72)*BH79),(BI71*BA79+BI72*BB79+BI73*AZ79+(BC71-BI71)*BG79+(BC72-BI72)*BH79+(BC69-BI73)*BF79)))))))","v":0},null,"PM2.5",{"$f":"IF(AZ68=1,BM50,BM50*$BA$81*(1-$BA$82))","v":0},{"$f":"IF(BA68=1,BN50,BN50*$BA$81*(1-$BA$82))","v":0},0,0,0,0,0,0,0,0,{"$f":"IF(OR(BC70=0,BC70>=8760*SUM(BC71:BC73)),SUM(BM57:BV57),IF(BC70<=BI71*8760,BC70*BA79,IF(BC70<=(BI71+BI72)*8760,(BI71*BA79*8760+(BC70-BI71*8760)*BB79),IF(BC70<=(BI71+BI72+BI73)*8760,(BI71*BA79*8760+BI72*BB79*8760+(BC70-BI71*8760-BI72*8760)*AZ79),IF(BC70<=(BC71+BI72+BI73)*8760,(BI71*BA79*8760+BI72*BB79*8760+BI73*AZ79*8760+(BC70-BI71*8760)*BG79),IF(BC70<=(BC71+BC72+BI73)*8760,(BI71*BA79*8760+BI72*BB79*8760+BI73*AZ79*8760+(BC71-BI71)*BG79*8760+(BC70-BI72*8760)*BH79),(BI71*BA79*8760+BI72*BB79*8760+BI73*AZ79*8760+(BC71-BI71)*BG79*8760+(BC72-BI72)*BH79*8760+(BC70-BI73*8760)*BF79)))))))","v":0},null,"  Dichlorobenzene ",{"$f":"Z57","v":0},{"$f":"AA57","v":0},{"$f":"AB57","v":0},{"$f":"AC57","v":0},{"$f":"AD57","v":0},{"$f":"AE57","v":0},{"$f":"AF57","v":0},{"$f":"AG57","v":0},{"$f":"AH57","v":0},{"$f":"AI57","v":0},0,null,"  Dichlorobenzene ",{"$f":"AM57","v":0},{"$f":"AN57","v":0},{"$f":"AO57","v":0},{"$f":"AP57","v":0},{"$f":"AQ57","v":0},{"$f":"AR57","v":0},{"$f":"AS57","v":0},{"$f":"AT57","v":0},{"$f":"AU57","v":0},{"$f":"AV57","v":0},0]
["  Hexane ",1.8,1.8,1.8,1.8,1.8,1.8,1.8,1.8,1.8,1.8,null,"  Hexane ",{"$f":"IF(Dryer!C70=0,B58/1020,Dryer!C70)","v":1.7647058823529412E-3},{"$f":"IF(Dryer!D70=0,C58/1020,Dryer!D70)","v":1.7647058823529412E-3},{"$f":"IF(Dryer!E70=0,D58/1020,Dryer!E70)","v":1.7647058823529412E-3},{"$f":"IF(Dryer!F70=0,E58/1020,Dryer!F70)","v":1.7647058823529412E-3},{"$f":"IF(Dryer!G70=0,F58/1020,Dryer!G70)","v":1.7647058823529412E-3},{"$f":"IF(Dryer!H70=0,G58/1020,Dryer!H70)","v":1.7647058823529412E-3},{"$f":"IF(Dryer!I70=0,H58/1020,Dryer!I70)","v":1.7647058823529412E-3},{"$f":"IF(Dryer!J70=0,I58/1020,Dryer!J70)","v":1.7647058823529412E-3},{"$f":"IF(Dryer!K70=0,J58/1020,Dryer!K70)","v":1.7647058823529412E-3},{"$f":"IF(Dryer!L70=0,K58/1020,Dryer!L70)","v":1.7647058823529412E-3},null,"  Hexane ",{"$f":"N58*Dryer!$O$15","v":0},{"$f":"O58*Dryer!$O$16","v":0},{"$f":"P58*Dryer!$O$17","v":0},{"$f":"Q58*Dryer!$O$18","v":0},{"$f":"R58*Dryer!$O$19","v":0},{"$f":"S58*Dryer!$O$20","v":0},{"$f":"T58*Dryer!$O$21","v":0},{"$f":"U58*Dryer!$O$22","v":0},{"$f":"V58*Dryer!$O$23","v":0},{"$f":"W58*Dryer!$O$24","v":0},0,null,"  Hexane ",0,0,0,0,0,0,0,0,0,0,0,null,null,null,null,null,null,null,null,null,null,null,null,null,null,null,null,null,null,null,null,null,null,null,null,null,null,null,"  Hexane ",0,0,0,0,0,0,0,0,0,0,0,null,"  Hexane ",0,0,0,0,0,0,0,0,0,0,0]
["  Lead Compounds",5.0000000000000001E-4,5.0000000000000001E-4,5.0000000000000001E-4,5.0000000000000001E-4,5.0000000000000001E-4,5.0000000000000001E-4,5.0000000000000001E-4,5.0000000000000001E-4,5.0000000000000001E-4,5.0000000000000001E-4,null,"  Lead Compounds",{"$f":"IF(Dryer!C71=0,B59/1020,Dryer!C71)","v":4.9019607843137254E-7},{"$f":"IF(Dryer!D71=0,C59/1020,Dryer!D71)","v":4.9019607843137254E-7},{"$f":"IF(Dryer!E71=0,D59/1020,Dryer!E71)","v":4.9019607843137254E-7},{"$f":"IF(Dryer!F71=0,E59/1020,Dryer!F71)","v":4.9019607843137254E-7},{"$f":"IF(Dryer!G71=0,F59/1020,Dryer!G71)","v":4.9019607843137254E-7},{"$f":"IF(Dryer!H71=0,G59/1020,Dryer!H71)","v":4.9019607843137254E-7},{"$f":"IF(Dryer!I71=0,H59/1020,Dryer!I71)","v":4.9019607843137254E-7},{"$f":"IF(Dryer!J71=0,I59/1020,Dryer!J71)","v":4.9019607843137254E-7},{"$f":"IF(Dryer!K71=0,J59/1020,Dryer!K71)","v":4.9019607843137254E-7},{"$f":"IF(Dryer!L71=0,K59/1020,Dryer!L71)","v":4.9019607843137254E-7},null,"  Lead Compounds",{"$f":"N59*Dryer!$O$15","v":0},{"$f":"O59*Dryer!$O$16","v":0},{"$f":"P59*Dryer!$O$17","v":0},{"$f":"Q59*Dryer!$O$18","v":0},{"$f":"R59*Dryer!$O$19","v":0},{"$f":"S59*Dryer!$O$20","v":0},{"$f":"T59*Dryer!$O$21","v":0},{"$f":"U59*Dryer!$O$22","v":0},{"$f":"V59*Dryer!$O$23","v":0},{"$f":"W59*Dryer!$O$24","v":0},0,null,"  Lead Compounds",0,0,0,0,0,0,0,0,0,0,0,null,null,null,null,null,null,null,null,null,null,null,null,null,null,null,null,null,null,null,null,null,null,null,null,null,null,null,"  Lead Compounds",0,0,0,0,0,0,0,0,0,0,0,null,"  Lead Compounds",0,0,0,0,0,0,0,0,0,0,0]
["  Naphthalene ",6.0999999999999997E-4,6.0999999999999997E-4,6.0999999999999997E-4,6.0999999999999997E-4,6.0999999999999997E-4,6.0999999999999997E-4,6.0999999999999997E-4,6.0999999999999997E-4,6.0999999999999997E-4,6.0999999999999997E-4,null,"  Naphthalene ",{"$f":"IF(Dryer!C72=0,B60/1020,Dryer!C72)","v":5.9803921568627444E-7},{"$f":"IF(Dryer!D72=0,C60/1020,Dryer!D72)","v":5.9803921568627444E-7},{"$f":"IF(Dryer!E72=0,D60/1020,Dryer!E72)","v":5.9803921568627444E-7},{"$f":"IF(Dryer!F72=0,E60/1020,Dryer!F72)","v":5.9803921568627444E-7},{"$f":"IF(Dryer!G72=0,F60/1020,Dryer!G72)","v":5.9803921568627444E-7},{"$f":"IF(Dryer!H72=0,G60/1020,Dryer!H72)","v":5.9803921568627444E-7},{"$f":"IF(Dryer!I72=0,H60/1020,Dryer!I72)","v":5.9803921568627444E-7},{"$f":"IF(Dryer!J72=0,I60/1020,Dryer!J72)","v":5.9803921568627444E-7},{"$f":"IF(Dryer!K72=0,J60/1020,Dryer!K72)","v":5.9803921568627444E-7},{"$f":"IF(Dryer!L72=0,K60/1020,Dryer!L72)","v":5.9803921568627444E-7},null,"  Naphthalene ",{"$f":"N60*Dryer!$O$15","v":0},{"$f":"O60*Dryer!$O$16","v":0},{"$f":"P60*Dryer!$O$17","v":0},{"$f":"Q60*Dryer!$O$18","v":0},{"$f":"R60*Dryer!$O$19","v":0},{"$f":"S60*Dryer!$O$20","v":0},{"$f":"T60*Dryer!$O$21","v":0},{"$f":"U60*Dryer!$O$22","v":0},{"$f":"V60*Dryer!$O$23","v":0},{"$f":"W60*Dryer!$O$24","v":0},0,null,"  Naphthalene ",0,0,0,0,0,0,0,0,0,0,0,null,null,null,null,null,null,null,null,null,null,null,null,null,null,null,null,null,null,null,null,null,null,null,null,null,null,null,"  Naphthalene ",0,0,0,0,0,0,0,0,0,0,0,null,"  Naphthalene ",0,0,0,0,0,0,0,0,0,0,0]
["  Polycyclic Organic Matter ",8.8200000000000003E-5,8.8200000000000003E-5,8.8200000000000003E-5,8.8200000000000003E-5,8.8200000000000003E-5,8.8200000000000003E-5,8.8200000000000003E-5,8.8200000000000003E-5,8.8200000000000003E-5,8.8200000000000003E-5,null,"  Polycyclic Organic Matter ",{"$f":"IF(Dryer!C73=0,B61/1020,Dryer!C73)","v":8.6470588235294114E-8},{"$f":"IF(Dryer!D73=0,C61/1020,Dryer!D73)","v":8.6470588235294114E-8},{"$f":"IF(Dryer!E73=0,D61/1020,Dryer!E73)","v":8.6470588235294114E-8},{"$f":"IF(Dryer!F73=0,E61/1020,Dryer!F73)","v":8.6470588235294114E-8},{"$f":"IF(Dryer!G73=0,F61/1020,Dryer!G73)","v":8.6470588235294114E-8},{"$f":"IF(Dryer!H73=0,G61/1020,Dryer!H73)","v":8.6470588235294114E-8},{"$f":"IF(Dryer!I73=0,H61/1020,Dryer!I73)","v":8.6470588235294114E-8},{"$f":"IF(Dryer!J73=0,I61/1020,Dryer!J73)","v":8.6470588235294114E-8},{"$f":"IF(Dryer!K73=0,J61/1020,Dryer!K73)","v":8.6470588235294114E-8},{"$f":"IF(Dryer!L73=0,K61/1020,Dryer!L73)","v":8.6470588235294114E-8},null,"  Polycyclic Organic Matter ",{"$f":"N61*Dryer!$O$15","v":0},{"$f":"O61*Dryer!$O$16","v":0},{"$f":"P61*Dryer!$O$17","v":0},{"$f":"Q61*Dryer!$O$18","v":0},{"$f":"R61*Dryer!$O$19","v":0},{"$f":"S61*Dryer!$O$20","v":0},{"$f":"T61*Dryer!$O$21","v":0},{"$f":"U61*Dryer!$O$22","v":0},{"$f":"V61*Dryer!$O$23","v":0},{"$f":"W61*Dryer!$O$24","v":0},0,null,"  Polycyclic Organic Matter ",0,0,0,0,0,0,0,0,0,0,0,null,null,null,null,null,null,null,null,null,null,null,null,null,null,null,null,null,null,null,null,null,null,null,null,null,null,null,"  Polycyclic Organic Matter ",0,0,0,0,0,0,0,0,0,0,0,null,"  Polycyclic Organic Matter ",0,0,0,0,0,0,0,0,0,0,0]
["  Toluene ",3.3999999999999998E-3,3.3999999999999998E-3,3.3999999999999998E-3,3.3999999999999998E-3,3.3999999999999998E-3,3.3999999999999998E-3,3.3999999999999998E-3,3.3999999999999998E-3,3.3999999999999998E-3,3.3999999999999998E-3,null,"  Toluene ",{"$f":"IF(Dryer!C74=0,B62/1020,Dryer!C74)","v":3.3333333333333333E-6},{"$f":"IF(Dryer!D74=0,C62/1020,Dryer!D74)","v":3.3333333333333333E-6},{"$f":"IF(Dryer!E74=0,D62/1020,Dryer!E74)","v":3.3333333333333333E-6},{"$f":"IF(Dryer!F74=0,E62/1020,Dryer!F74)","v":3.3333333333333333E-6},{"$f":"IF(Dryer!G74=0,F62/1020,Dryer!G74)","v":3.3333333333333333E-6},{"$f":"IF(Dryer!H74=0,G62/1020,Dryer!H74)","v":3.3333333333333333E-6},{"$f":"IF(Dryer!I74=0,H62/1020,Dryer!I74)","v":3.3333333333333333E-6},{"$f":"IF(Dryer!J74=0,I62/1020,Dryer!J74)","v":3.3333333333333333E-6},{"$f":"IF(Dryer!K74=0,J62/1020,Dryer!K74)","v":3.3333333333333333E-6},{"$f":"IF(Dryer!L74=0,K62/1020,Dryer!L74)","v":3.3333333333333333E-6},null,"  Toluene ",{"$f":"N62*Dryer!$O$15","v":0},{"$f":"O62*Dryer!$O$16","v":0},{"$f":"P62*Dryer!$O$17","v":0},{"$f":"Q62*Dryer!$O$18","v":0},{"$f":"R62*Dryer!$O$19","v":0},{"$f":"S62*Dryer!$O$20","v":0},{"$f":"T62*Dryer!$O$21","v":0},{"$f":"U62*Dryer!$O$22","v":0},{"$f":"V62*Dryer!$O$23","v":0},{"$f":"W62*Dryer!$O$24","v":0},0,null,"  Toluene ",0,0,0,0,0,0,0,0,0,0,0,null,null,null,null,null,null,null,null,null,null,null,null,null,null,null,null,null,null,null,null,null,null,null,null,null,null,null,"  Toluene ",0,0,0,0,0,0,0,0,0,0,0,null,"  Toluene ",0,0,0,0,0,0,0,0,0,0,0]
["  Arsenic Compounds",2.0000000000000001E-4,2.0000000000000001E-4,2.0000000000000001E-4,2.0000000000000001E-4,2.0000000000000001E-4,2.0000000000000001E-4,2.0000000000000001E-4,2.0000000000000001E-4,2.0000000000000001E-4,2.0000000000000001E-4,null,"  Arsenic Compounds",{"$f":"IF(Dryer!C75=0,B63/1020,Dryer!C75)","v":1.9607843137254904E-7},{"$f":"IF(Dryer!D75=0,C63/1020,Dryer!D75)","v":1.9607843137254904E-7},{"$f":"IF(Dryer!E75=0,D63/1020,Dryer!E75)","v":1.9607843137254904E-7},{"$f":"IF(Dryer!F75=0,E63/1020,Dryer!F75)","v":1.9607843137254904E-7},{"$f":"IF(Dryer!G75=0,F63/1020,Dryer!G75)","v":1.9607843137254904E-7},{"$f":"IF(Dryer!H75=0,G63/1020,Dryer!H75)","v":1.9607843137254904E-7},{"$f":"IF(Dryer!I75=0,H63/1020,Dryer!I75)","v":1.9607843137254904E-7},{"$f":"IF(Dryer!J75=0,I63/1020,Dryer!J75)","v":1.9607843137254904E-7},{"$f":"IF(Dryer!K75=0,J63/1020,Dryer!K75)","v":1.9607843137254904E-7},{"$f":"IF(Dryer!L75=0,K63/1020,Dryer!L75)","v":1.9607843137254904E-7},null,"  Arsenic Compounds",{"$f":"N63*Dryer!$O$15","v":0},{"$f":"O63*Dryer!$O$16","v":0},{"$f":"P63*Dryer!$O$17","v":0},{"$f":"Q63*Dryer!$O$18","v":0},{"$f":"R63*Dryer!$O$19","v":0},{"$f":"S63*Dryer!$O$20","v":0},{"$f":"T63*Dryer!$O$21","v":0},{"$f":"U63*Dryer!$O$22","v":0},{"$f":"V63*Dryer!$O$23","v":0},{"$f":"W63*Dryer!$O$24","v":0},0,null,"  Arsenic Compounds",0,0,0,0,0,0,0,0,0,0,0,null,null,null,null,null,null,null,null,null,null,null,null,null,null,null,null,null,null,null,null,null,null,null,null,null,null,null,"  Arsenic Compounds",0,0,0,0,0,0,0,0,0,0,0,null,"  Arsenic Compounds",0,0,0,0,0,0,0,0,0,0,0]
["  Beryllium Compounds",1.2E-5,1.2E-5,1.2E-5,1.2E-5,1.2E-5,1.2E-5,1.2E-5,1.2E-5,1.2E-5,1.2E-5,null,"  Beryllium Compounds",{"$f":"IF(Dryer!C76=0,B64/1020,Dryer!C76)","v":1.1764705882352941E-8},{"$f":"IF(Dryer!D76=0,C64/1020,Dryer!D76)","v":1.1764705882352941E-8},{"$f":"IF(Dryer!E76=0,D64/1020,Dryer!E76)","v":1.1764705882352941E-8},{"$f":"IF(Dryer!F76=0,E64/1020,Dryer!F76)","v":1.1764705882352941E-8},{"$f":"IF(Dryer!G76=0,F64/1020,Dryer!G76)","v":1.1764705882352941E-8},{"$f":"IF(Dryer!H76=0,G64/1020,Dryer!H76)","v":1.1764705882352941E-8},{"$f":"IF(Dryer!I76=0,H64/1020,Dryer!I76)","v":1.1764705882352941E-8},{"$f":"IF(Dryer!J76=0,I64/1020,Dryer!J76)","v":1.1764705882352941E-8},{"$f":"IF(Dryer!K76=0,J64/1020,Dryer!K76)","v":1.1764705882352941E-8},{"$f":"IF(Dryer!L76=0,K64/1020,Dryer!L76)","v":1.1764705882352941E-8},null,"  Beryllium Compounds",{"$f":"N64*Dryer!$O$15","v":0},{"$f":"O64*Dryer!$O$16","v":0},{"$f":"P64*Dryer!$O$17","v":0},{"$f":"Q64*Dryer!$O$18","v":0},{"$f":"R64*Dryer!$O$19","v":0},{"$f":"S64*Dryer!$O$20","v":0},{"$f":"T64*Dryer!$O$21","v":0},{"$f":"U64*Dryer!$O$22","v":0},{"$f":"V64*Dryer!$O$23","v":0},{"$f":"W64*Dryer!$O$24","v":0},0,null,"  Beryllium Compounds",0,0,0,0,0,0,0,0,0,0,0,null,null,null,null,null,null,null,null,null,null,null,null,null,null,null,null,null,null,null,null,null,null,null,null,null,null,null,"  Beryllium Compounds",0,0,0,0,0,0,0,0,0,0,0,null,"  Beryllium Compounds",0,0,0,0,0,0,0,0,0,0,0]
["  Cadmium Compounds",1.1000000000000001E-3,1.1000000000000001E-3,1.1000000000000001E-3,1.1000000000000001E-3,1.1000000000000001E-3,1.1000000000000001E-3,1.1000000000000001E-3,1.1000000000000001E-3,1.1000000000000001E-3,1.1000000000000001E-3,null,"  Cadmium Compounds",{"$f":"IF(Dryer!C77=0,B65/1020,Dryer!C77)","v":1.0784313725490197E-6},{"$f":"IF(Dryer!D77=0,C65/1020,Dryer!D77)","v":1.0784313725490197E-6},{"$f":"IF(Dryer!E77=0,D65/1020,Dryer!E77)","v":1.0784313725490197E-6},{"$f":"IF(Dryer!F77=0,E65/1020,Dryer!F77)","v":1.0784313725490197E-6},{"$f":"IF(Dryer!G77=0,F65/1020,Dryer!G77)","v":1.0784313725490197E-6},{"$f":"IF(Dryer!H77=0,G65/1020,Dryer!H77)","v":1.0784313725490197E-6},{"$f":"IF(Dryer!I77=0,H65/1020,Dryer!I77)","v":1.0784313725490197E-6},{"$f":"IF(Dryer!J77=0,I65/1020,Dryer!J77)","v":1.0784313725490197E-6},{"$f":"IF(Dryer!K77=0,J65/1020,Dryer!K77)","v":1.0784313725490197E-6},{"$f":"IF(Dryer!L77=0,K65/1020,Dryer!L77)","v":1.0784313725490197E-6},null,"  Cadmium Compounds",{"$f":"N65*Dryer!$O$15","v":0},{"$f":"O65*Dryer!$O$16","v":0},{"$f":"P65*Dryer!$O$17","v":0},{"$f":"Q65*Dryer!$O$18","v":0},{"$f":"R65*Dryer!$O$19","v":0},{"$f":"S65*Dryer!$O$20","v":0},{"$f":"T65*Dryer!$O$21","v":0},{"$f":"U65*Dryer!$O$22","v":0},{"$f":"V65*Dryer!$O$23","v":0},{"$f":"W65*Dryer!$O$24","v":0},0,null,"  Cadmium Compounds",0,0,0,0,0,0,0,0,0,0,0,null,"Supporting data:",null,null,null,null,null,null,null,null,null,null,null,null,null,null,null,null,null,null,null,null,null,null,null,null,null,"  Cadmium Compounds",0,0,0,0,0,0,0,0,0,0,0,null,"  Cadmium Compounds",0,0,0,0,0,0,0,0,0,0,0]
["  Chromium Compounds",1.4E-3,1.4E-3,1.4E-3,1.4E-3,1.4E-3,1.4E-3,1.4E-3,1.4E-3,1.4E-3,1.4E-3,null,"  Chromium Compounds",{"$f":"IF(Dryer!C78=0,B66/1020,Dryer!C78)","v":1.3725490196078432E-6},{"$f":"IF(Dryer!D78=0,C66/1020,Dryer!D78)","v":1.3725490196078432E-6},{"$f":"IF(Dryer!E78=0,D66/1020,Dryer!E78)","v":1.3725490196078432E-6},{"$f":"IF(Dryer!F78=0,E66/1020,Dryer!F78)","v":1.3725490196078432E-6},{"$f":"IF(Dryer!G78=0,F66/1020,Dryer!G78)","v":1.3725490196078432E-6},{"$f":"IF(Dryer!H78=0,G66/1020,Dryer!H78)","v":1.3725490196078432E-6},{"$f":"IF(Dryer!I78=0,H66/1020,Dryer!I78)","v":1.3725490196078432E-6},{"$f":"IF(Dryer!J78=0,I66/1020,Dryer!J78)","v":1.3725490196078432E-6},{"$f":"IF(Dryer!K78=0,J66/1020,Dryer!K78)","v":1.3725490196078432E-6},{"$f":"IF(Dryer!L78=0,K66/1020,Dryer!L78)","v":1.3725490196078432E-6},null,"  Chromium Compounds",{"$f":"N66*Dryer!$O$15","v":0},{"$f":"O66*Dryer!$O$16","v":0},{"$f":"P66*Dryer!$O$17","v":0},{"$f":"Q66*Dryer!$O$18","v":0},{"$f":"R66*Dryer!$O$19","v":0},{"$f":"S66*Dryer!$O$20","v":0},{"$f":"T66*Dryer!$O$21","v":0},{"$f":"U66*Dryer!$O$22","v":0},{"$f":"V66*Dryer!$O$23","v":0},{"$f":"W66*Dryer!$O$24","v":0},0,null,"  Chromium Compounds",0,0,0,0,0,0,0,0,0,0,0,null,"ton/hr",{"$f":"Dryer!M15","v":0},{"$f":"Dryer!M16","v":0},{"$f":"Dryer!M17","v":0},{"$f":"Dryer!M18","v":0},{"$f":"Dryer!M19","v":0},{"$f":"Dryer!M20","v":0},{"$f":"Dryer!M21","v":0},{"$f":"Dryer!M22","v":0},{"$f":"Dryer!M23","v":0},{"$f":"Dryer!M24","v":0},null,null,null,null,null,null,null,null,null,null,null,null,null,null,null,"  Chromium Compounds",0,0,0,0,0,0,0,0,0,0,0,null,"  Chromium Compounds",0,0,0,0,0,0,0,0,0,0,0]
["  Cobalt Compounds",8.3999999999999995E-5,8.3999999999999995E-5,8.3999999999999995E-5,8.3999999999999995E-5,8.3999999999999995E-5,8.3999999999999995E-5,8.3999999999999995E-5,8.3999999999999995E-5,8.3999999999999995E-5,8.3999999999999995E-5,null,"  Cobalt Compounds",{"$f":"IF(Dryer!C79=0,B67/1020,Dryer!C79)","v":8.2352941176470587E-8},{"$f":"IF(Dryer!D79=0,C67/1020,Dryer!D79)","v":8.2352941176470587E-8},{"$f":"IF(Dryer!E79=0,D67/1020,Dryer!E79)","v":8.2352941176470587E-8},{"$f":"IF(Dryer!F79=0,E67/1020,Dryer!F79)","v":8.2352941176470587E-8},{"$f":"IF(Dryer!G79=0,F67/1020,Dryer!G79)","v":8.2352941176470587E-8},{"$f":"IF(Dryer!H79=0,G67/1020,Dryer!H79)","v":8.2352941176470587E-8},{"$f":"IF(Dryer!I79=0,H67/1020,Dryer!I79)","v":8.2352941176470587E-8},{"$f":"IF(Dryer!J79=0,I67/1020,Dryer!J79)","v":8.2352941176470587E-8},{"$f":"IF(Dryer!K79=0,J67/1020,Dryer!K79)","v":8.2352941176470587E-8},{"$f":"IF(Dryer!L79=0,K67/1020,Dryer!L79)","v":8.2352941176470587E-8},null,"  Cobalt Compounds",{"$f":"N67*Dryer!$O$15","v":0},{"$f":"O67*Dryer!$O$16","v":0},{"$f":"P67*Dryer!$O$17","v":0},{"$f":"Q67*Dryer!$O$18","v":0},{"$f":"R67*Dryer!$O$19","v":0},{"$f":"S67*Dryer!$O$20","v":0},{"$f":"T67*Dryer!$O$21","v":0},{"$f":"U67*Dryer!$O$22","v":0},{"$f":"V67*Dryer!$O$23","v":0},{"$f":"W67*Dryer!$O$24","v":0},0,null,"  Cobalt Compounds",0,0,0,0,0,0,0,0,0,0,0,null,"Dryer type",{"$f":"Dryer!P15","v":0},{"$f":"Dryer!P16","v":0},{"$f":"Dryer!P17","v":0},{"$f":"Dryer!P18","v":0},{"$f":"Dryer!G60","v":0},{"$f":"Dryer!P20","v":0},{"$f":"Dryer!P21","v":0},{"$f":"Dryer!G63","v":0},{"$f":"Dryer!P23","v":0},{"$f":"Dryer!P24","v":0},null,null,null,null,null,null,null,null,null,null,null,null,null,null,null,"  Cobalt Compounds",0,0,0,0,0,0,0,0,0,0,0,null,"  Cobalt Compounds",0,0,0,0,0,0,0,0,0,0,0]
["  Manganese Compounds",3.8000000000000002E-4,3.8000000000000002E-4,3.8000000000000002E-4,3.8000000000000002E-4,3.8000000000000002E-4,3.8000000000000002E-4,3.8000000000000002E-4,3.8000000000000002E-4,3.8000000000000002E-4,3.8000000000000002E-4,null,"  Manganese Compounds",{"$f":"IF(Dryer!C80=0,B68/1020,Dryer!C80)","v":3.7254901960784315E-7},{"$f":"IF(Dryer!D80=0,C68/1020,Dryer!D80)","v":3.7254901960784315E-7},{"$f":"IF(Dryer!E80=0,D68/1020,Dryer!E80)","v":3.7254901960784315E-7},{"$f":"IF(Dryer!F80=0,E68/1020,Dryer!F80)","v":3.7254901960784315E-7},{"$f":"IF(Dryer!G80=0,F68/1020,Dryer!G80)","v":3.7254901960784315E-7},{"$f":"IF(Dryer!H80=0,G68/1020,Dryer!H80)","v":3.7254901960784315E-7},{"$f":"IF(Dryer!I80=0,H68/1020,Dryer!I80)","v":3.7254901960784315E-7},{"$f":"IF(Dryer!J80=0,I68/1020,Dryer!J80)","v":3.7254901960784315E-7},{"$f":"IF(Dryer!K80=0,J68/1020,Dryer!K80)","v":3.7254901960784315E-7},{"$f":"IF(Dryer!L80=0,K68/1020,Dryer!L80)","v":3.7254901960784315E-7},null,"  Manganese Compounds",{"$f":"N68*Dryer!$O$15","v":0},{"$f":"O68*Dryer!$O$16","v":0},{"$f":"P68*Dryer!$O$17","v":0},{"$f":"Q68*Dryer!$O$18","v":0},{"$f":"R68*Dryer!$O$19","v":0},{"$f":"S68*Dryer!$O$20","v":0},{"$f":"T68*Dryer!$O$21","v":0},{"$f":"U68*Dryer!$O$22","v":0},{"$f":"V68*Dryer!$O$23","v":0},{"$f":"W68*Dryer!$O$24","v":0},0,null,"  Manganese Compounds",0,0,0,0,0,0,0,0,0,0,0,null,"Particulate control",{"$f":"IF(Dryer!Q15=Datasets!$C$3,0,1)","v":1},{"$f":"IF(Dryer!Q16=Datasets!$C$3,0,1)","v":1},{"$f":"IF(Dryer!Q17=Datasets!$C$3,0,1)","v":1},{"$f":"IF(Dryer!Q18=Datasets!$C$3,0,1)","v":1},{"$f":"IF(Dryer!Q19=Datasets!$C$3,0,1)","v":1},{"$f":"IF(Dryer!Q20=Datasets!$C$3,0,1)","v":1},{"$f":"IF(Dryer!Q21=Datasets!$C$3,0,1)","v":1},{"$f":"IF(Dryer!Q22=Datasets!$C$3,0,1)","v":1},{"$f":"IF(Dryer!Q23=Datasets!$C$3,0,1)","v":1},{"$f":"IF(Dryer!Q24=Datasets!$C$3,0,1)","v":1},null,null,null,null,null,null,null,null,null,null,null,null,null,null,null,"  Manganese Compounds",0,0,0,0,0,0,0,0,0,0,0,null,"  Manganese Compounds",0,0,0,0,0,0,0,0,0,0,0]
["  Mercury Compounds",2.5999999999999998E-4,2.5999999999999998E-4,2.5999999999999998E-4,2.5999999999999998E-4,2.5999999999999998E-4,2.5999999999999998E-4,2.5999999999999998E-4,2.5999999999999998E-4,2.5999999999999998E-4,2.5999999999999998E-4,null,"  Mercury Compounds",{"$f":"IF(Dryer!C81=0,B69/1020,Dryer!C81)","v":2.5490196078431371E-7},{"$f":"IF(Dryer!D81=0,C69/1020,Dryer!D81)","v":2.5490196078431371E-7},{"$f":"IF(Dryer!E81=0,D69/1020,Dryer!E81)","v":2.5490196078431371E-7},{"$f":"IF(Dryer!F81=0,E69/1020,Dryer!F81)","v":2.5490196078431371E-7},{"$f":"IF(Dryer!G81=0,F69/1020,Dryer!G81)","v":2.5490196078431371E-7},{"$f":"IF(Dryer!H81=0,G69/1020,Dryer!H81)","v":2.5490196078431371E-7},{"$f":"IF(Dryer!I81=0,H69/1020,Dryer!I81)","v":2.5490196078431371E-7},{"$f":"IF(Dryer!J81=0,I69/1020,Dryer!J81)","v":2.5490196078431371E-7},{"$f":"IF(Dryer!K81=0,J69/1020,Dryer!K81)","v":2.5490196078431371E-7},{"$f":"IF(Dryer!L81=0,K69/1020,Dryer!L81)","v":2.5490196078431371E-7},null,"  Mercury Compounds",{"$f":"N69*Dryer!$O$15","v":0},{"$f":"O69*Dryer!$O$16","v":0},{"$f":"P69*Dryer!$O$17","v":0},{"$f":"Q69*Dryer!$O$18","v":0},{"$f":"R69*Dryer!$O$19","v":0},{"$f":"S69*Dryer!$O$20","v":0},{"$f":"T69*Dryer!$O$21","v":0},{"$f":"U69*Dryer!$O$22","v":0},{"$f":"V69*Dryer!$O$23","v":0},{"$f":"W69*Dryer!$O$24","v":0},0,null,"  Mercury Compounds",0,0,0,0,0,0,0,0,0,0,0,null,"Ton/hr Limit",null,null,null,{"$f":"Dryer!M10","v":0},null,null,null,null,null,null,null,null,null,null,null,null,null,null,null,null,null,null,null,null,null,"  Mercury Compounds",0,0,0,0,0,0,0,0,0,0,0,null,"  Mercury Compounds",0,0,0,0,0,0,0,0,0,0,0]
["  Nickel Compounds",2.0999999999999999E-3,2.0999999999999999E-3,2.0999999999999999E-3,2.0999999999999999E-3,2.0999999999999999E-3,2.0999999999999999E-3,2.0999999999999999E-3,2.0999999999999999E-3,2.0999999999999999E-3,2.0999999999999999E-3,null,"  Nickel Compounds",{"$f":"IF(Dryer!C82=0,B70/1020,Dryer!C82)","v":2.0588235294117645E-6},{"$f":"IF(Dryer!D82=0,C70/1020,Dryer!D82)","v":2.0588235294117645E-6},{"$f":"IF(Dryer!E82=0,D70/1020,Dryer!E82)","v":2.0588235294117645E-6},{"$f":"IF(Dryer!F82=0,E70/1020,Dryer!F82)","v":2.0588235294117645E-6},{"$f":"IF(Dryer!G82=0,F70/1020,Dryer!G82)","v":2.0588235294117645E-6},{"$f":"IF(Dryer!H82=0,G70/1020,Dryer!H82)","v":2.0588235294117645E-6},{"$f":"IF(Dryer!I82=0,H70/1020,Dryer!I82)","v":2.0588235294117645E-6},{"$f":"IF(Dryer!J82=0,I70/1020,Dryer!J82)","v":2.0588235294117645E-6},{"$f":"IF(Dryer!K82=0,J70/1020,Dryer!K82)","v":2.0588235294117645E-6},{"$f":"IF(Dryer!L82=0,K70/1020,Dryer!L82)","v":2.0588235294117645E-6},null,"  Nickel Compounds",{"$f":"N70*Dryer!$O$15","v":0},{"$f":"O70*Dryer!$O$16","v":0},{"$f":"P70*Dryer!$O$17","v":0},{"$f":"Q70*Dryer!$O$18","v":0},{"$f":"R70*Dryer!$O$19","v":0},{"$f":"S70*Dryer!$O$20","v":0},{"$f":"T70*Dryer!$O$21","v":0},{"$f":"U70*Dryer!$O$22","v":0},{"$f":"V70*Dryer!$O$23","v":0},{"$f":"W70*Dryer!$O$24","v":0},0,null,"  Nickel Compounds",0,0,0,0,0,0,0,0,0,0,0,null,"Ton/yr Limit",null,null,null,{"$f":"Dryer!M11","v":0},null,null,null,null,null,null,null,null,null,null,null,null,null,null,null,null,null,null,null,null,null,"  Nickel Compounds",0,0,0,0,0,0,0,0,0,0,0,null,"  Nickel Compounds",0,0,0,0,0,0,0,0,0,0,0]
["  Selenium Compounds",2.4000000000000001E-5,2.4000000000000001E-5,2.4000000000000001E-5,2.4000000000000001E-5,2.4000000000000001E-5,2.4000000000000001E-5,2.4000000000000001E-5,2.4000000000000001E-5,2.4000000000000001E-5,2.4000000000000001E-5,null,"  Selenium Compounds",{"$f":"IF(Dryer!C83=0,B71/1020,Dryer!C83)","v":2.3529411764705881E-8},{"$f":"IF(Dryer!D83=0,C71/1020,Dryer!D83)","v":2.3529411764705881E-8},{"$f":"IF(Dryer!E83=0,D71/1020,Dryer!E83)","v":2.3529411764705881E-8},{"$f":"IF(Dryer!F83=0,E71/1020,Dryer!F83)","v":2.3529411764705881E-8},{"$f":"IF(Dryer!G83=0,F71/1020,Dryer!G83)","v":2.3529411764705881E-8},{"$f":"IF(Dryer!H83=0,G71/1020,Dryer!H83)","v":2.3529411764705881E-8},{"$f":"IF(Dryer!I83=0,H71/1020,Dryer!I83)","v":2.3529411764705881E-8},{"$f":"IF(Dryer!J83=0,I71/1020,Dryer!J83)","v":2.3529411764705881E-8},{"$f":"IF(Dryer!K83=0,J71/1020,Dryer!K83)","v":2.3529411764705881E-8},{"$f":"IF(Dryer!L83=0,K71/1020,Dryer!L83)","v":2.3529411764705881E-8},null,"  Selenium Compounds",{"$f":"N71*Dryer!$O$15","v":0},{"$f":"O71*Dryer!$O$16","v":0},{"$f":"P71*Dryer!$O$17","v":0},{"$f":"Q71*Dryer!$O$18","v":0},{"$f":"R71*Dryer!$O$19","v":0},{"$f":"S71*Dryer!$O$20","v":0},{"$f":"T71*Dryer!$O$21","v":0},{"$f":"U71*Dryer!$O$22","v":0},{"$f":"V71*Dryer!$O$23","v":0},{"$f":"W71*Dryer!$O$24","v":0},0,null,"  Selenium Compounds",0,0,0,0,0,0,0,0,0,0,0,null,"Total ton/hr of Rack dryers",null,null,null,{"$f":"SUMIFS(AZ66:BI66,AZ67:BI67,Calculations!BA76)","v":0},null,"Total ton/hr of uncontrolled Rack dryers",null,null,null,{"$f":"SUMIFS(AZ66:BI66,AZ67:BI67,Calculations!BA76,AZ68:BI68,1)","v":0},null,null,null,null,null,null,null,null,null,null,null,null,null,null,null,"  Selenium Compounds",0,0,0,0,0,0,0,0,0,0,0,null,"  Selenium Compounds",0,0,0,0,0,0,0,0,0,0,0]
["Total HAPs",null,null,null,null,null,null,null,null,null,null,null,"Total HAPs",{"$f":"IF(Dryer!C84=0,B72/1020,Dryer!C84)","v":0},{"$f":"IF(Dryer!D84=0,C72/1020,Dryer!D84)","v":0},{"$f":"IF(Dryer!E84=0,D72/1020,Dryer!E84)","v":0},{"$f":"IF(Dryer!F84=0,E72/1020,Dryer!F84)","v":0},{"$f":"IF(Dryer!G84=0,F72/1020,Dryer!G84)","v":0},{"$f":"IF(Dryer!H84=0,G72/1020,Dryer!H84)","v":0},{"$f":"IF(Dryer!I84=0,H72/1020,Dryer!I84)","v":0},{"$f":"IF(Dryer!J84=0,I72/1020,Dryer!J84)","v":0},{"$f":"IF(Dryer!K84=0,J72/1020,Dryer!K84)","v":0},{"$f":"IF(Dryer!L84=0,K72/1020,Dryer!L84)","v":0},null,"Total HAPs",{"$f":"SUM(Z56:Z71)","v":0},{"$f":"SUM(AA56:AA71)","v":0},{"$f":"SUM(AB56:AB71)","v":0},{"$f":"SUM(AC56:AC71)","v":0},{"$f":"SUM(AD56:AD71)","v":0},{"$f":"SUM(AE56:AE71)","v":0},{"$f":"SUM(AF56:AF71)","v":0},{"$f":"SUM(AG56:AG71)","v":0},{"$f":"SUM(AH56:AH71)","v":0},{"$f":"SUM(AI56:AI71)","v":0},0,null,"Total HAPs",0,0,0,0,0,0,0,0,0,0,0,null,"Total ton/hr of Self-Cleaning Screens ",null,null,null,{"$f":"SUMIFS(AZ66:BI66,AZ67:BI67,Calculations!BB76)","v":0},null,"Total ton/hr of uncontrolled Self-Cleaning Screens ",null,null,null,{"$f":"SUMIFS(AZ66:BI66,AZ67:BI67,Calculations!BB76,AZ68:BI68,1)","v":0},null,null,null,null,null,null,null,null,null,null,null,null,null,null,null,"Total HAPs",0,0,0,0,0,0,0,0,0,0,0,null,"Total HAPs",0,0,0,0,0,0,0,0,0,0,0]
["Greenhouse Gases (GHG)","(lb/MMBtu)",null,null,null,null,null,null,null,null,null,null,null,null,null,null,null,null,null,null,null,null,null,null,null,null,null,null,null,null,null,null,null,null,null,null,null,null,null,null,null,null,null,null,null,null,null,null,null,null,"Total ton/hr of Column dryers",null,null,null,{"$f":"SUMIFS(AZ66:BI66,AZ67:BI67,Calculations!AZ76)","v":0},null,"Total ton/hr of uncontrolled Column dryers",null,null,null,{"$f":"SUMIFS(AZ66:BI66,AZ67:BI67,Calculations!AZ76,AZ68:BI68,1)","v":0}]
["  Carbon Dioxide (CO2)",{"$f":"53.06*2.20462","v":116.9771372},{"$f":"53.06*2.20462","v":116.9771372},116.9771372,116.9771372,116.9771372,116.9771372,116.9771372,116.9771372,116.9771372,116.9771372,null,"  Carbon Dioxide (CO2)",{"$f":"IF(Dryer!C86=0,B74,Dryer!C86)","v":116.9771372},{"$f":"IF(Dryer!D86=0,C74,Dryer!D86)","v":116.9771372},{"$f":"IF(Dryer!E86=0,D74,Dryer!E86)","v":116.9771372},{"$f":"IF(Dryer!F86=0,E74,Dryer!F86)","v":116.9771372},{"$f":"IF(Dryer!G86=0,F74,Dryer!G86)","v":116.9771372},{"$f":"IF(Dryer!H86=0,G74,Dryer!H86)","v":116.9771372},{"$f":"IF(Dryer!I86=0,H74,Dryer!I86)","v":116.9771372},{"$f":"IF(Dryer!J86=0,I74,Dryer!J86)","v":116.9771372},{"$f":"IF(Dryer!K86=0,J74,Dryer!K86)","v":116.9771372},{"$f":"IF(Dryer!L86=0,K74,Dryer!L86)","v":116.9771372},null,"  Carbon Dioxide (CO2)",{"$f":"N74*Dryer!$O$15","v":0},{"$f":"O74*Dryer!$O$16","v":0},{"$f":"P74*Dryer!$O$17","v":0},{"$f":"Q74*Dryer!$O$18","v":0},{"$f":"R74*Dryer!$O$19","v":0},{"$f":"S74*Dryer!$O$20","v":0},{"$f":"T74*Dryer!$O$21","v":0},{"$f":"U74*Dryer!$O$22","v":0},{"$f":"V74*Dryer!$O$23","v":0},{"$f":"W74*Dryer!$O$24","v":0},{"$f":"SUM(Z74:AI74)","v":0},null,"  Carbon Dioxide (CO2)",{"$f":"IF(AM$45=0,Z74*8760/2000,Z74*AM$45/2000)","v":0},0,0,0,0,0,0,0,0,0,{"$f":"SUM(AM74:AV74)","v":0},null,null,null,null,null,null,null,null,null,null,null,null,null,null,null,null,null,null,null,null,null,null,null,null,null,null,null,"  Carbon Dioxide (CO2)",{"$f":"Z74","v":0},{"$f":"AA74","v":0},0,0,0,0,0,0,0,0,{"$f":"SUM(BZ74:CI74)","v":0},null,"  Carbon Dioxide (CO2)",{"$f":"AM74","v":0},{"$f":"AN74","v":0},0,0,0,0,0,0,0,0,0]
["  Methane (CH4)",{"$f":"0.001*2.20462","v":2.20462E-3},{"$f":"0.001*2.20462","v":2.20462E-3},2.20462E-3,2.20462E-3,2.20462E-3,2.20462E-3,2.20462E-3,2.20462E-3,2.20462E-3,2.20462E-3,null,"  Methane (CH4)",{"$f":"IF(Dryer!C87=0,B75,Dryer!C87)","v":2.20462E-3},{"$f":"IF(Dryer!D87=0,C75,Dryer!D87)","v":2.20462E-3},{"$f":"IF(Dryer!E87=0,D75,Dryer!E87)","v":2.20462E-3},{"$f":"IF(Dryer!F87=0,E75,Dryer!F87)","v":2.20462E-3},{"$f":"IF(Dryer!G87=0,F75,Dryer!G87)","v":2.20462E-3},{"$f":"IF(Dryer!H87=0,G75,Dryer!H87)","v":2.20462E-3},{"$f":"IF(Dryer!I87=0,H75,Dryer!I87)","v":2.20462E-3},{"$f":"IF(Dryer!J87=0,I75,Dryer!J87)","v":2.20462E-3},{"$f":"IF(Dryer!K87=0,J75,Dryer!K87)","v":2.20462E-3},{"$f":"IF(Dryer!L87=0,K75,Dryer!L87)","v":2.20462E-3},null,"  Methane (CH4)",{"$f":"N75*Dryer!$O$15","v":0},{"$f":"O75*Dryer!$O$16","v":0},{"$f":"P75*Dryer!$O$17","v":0},{"$f":"Q75*Dryer!$O$18","v":0},{"$f":"R75*Dryer!$O$19","v":0},{"$f":"S75*Dryer!$O$20","v":0},{"$f":"T75*Dryer!$O$21","v":0},{"$f":"U75*Dryer!$O$22","v":0},{"$f":"V75*Dryer!$O$23","v":0},{"$f":"W75*Dryer!$O$24","v":0},0,null,"  Methane (CH4)",0,0,0,0,0,0,0,0,0,0,0,null,null,"Emission Factor (lb/ton)",null,null,null,null,null,"Controlled Emission Factor (lb/ton)",null,null,null,null,null,null,null,null,null,null,null,null,null,null,null,null,null,null,"  Methane (CH4)",{"$f":"Z75","v":0},{"$f":"AA75","v":0},{"$f":"AB75","v":0},{"$f":"AC75","v":0},{"$f":"AD75","v":0},{"$f":"AE75","v":0},{"$f":"AF75","v":0},{"$f":"AG75","v":0},{"$f":"AH75","v":0},{"$f":"AI75","v":0},0,null,"  Methane (CH4)",{"$f":"AM75","v":0},{"$f":"AN75","v":0},{"$f":"AO75","v":0},{"$f":"AP75","v":0},{"$f":"AQ75","v":0},{"$f":"AR75","v":0},{"$f":"AS75","v":0},{"$f":"AT75","v":0},{"$f":"AU75","v":0},{"$f":"AV75","v":0},0]
["  Nitrous Oxide (N2O)",{"$f":"0.0001*2.20462","v":2.2046199999999999E-4},{"$f":"0.0001*2.20462","v":2.2046199999999999E-4},2.2046199999999999E-4,2.2046199999999999E-4,2.2046199999999999E-4,2.2046199999999999E-4,2.2046199999999999E-4,2.2046199999999999E-4,2.2046199999999999E-4,2.2046199999999999E-4,null,"  Nitrous Oxide (N2O)",{"$f":"IF(Dryer!C88=0,B76,Dryer!C88)","v":2.2046199999999999E-4},{"$f":"IF(Dryer!D88=0,C76,Dryer!D88)","v":2.2046199999999999E-4},{"$f":"IF(Dryer!E88=0,D76,Dryer!E88)","v":2.2046199999999999E-4},{"$f":"IF(Dryer!F88=0,E76,Dryer!F88)","v":2.2046199999999999E-4},{"$f":"IF(Dryer!G88=0,F76,Dryer!G88)","v":2.2046199999999999E-4},{"$f":"IF(Dryer!H88=0,G76,Dryer!H88)","v":2.2046199999999999E-4},{"$f":"IF(Dryer!J88=0,H76,Dryer!J88)","v":2.2046199999999999E-4},{"$f":"IF(Dryer!K88=0,I76,Dryer!K88)","v":2.2046199999999999E-4},{"$f":"IF(Dryer!L88=0,J76,Dryer!L88)","v":2.2046199999999999E-4},{"$f":"IF(Dryer!M88=0,K76,Dryer!M88)","v":2.2046199999999999E-4},null,"  Nitrous Oxide (N2O)",{"$f":"N76*Dryer!$O$15","v":0},{"$f":"O76*Dryer!$O$16","v":0},{"$f":"P76*Dryer!$O$17","v":0},{"$f":"Q76*Dryer!$O$18","v":0},{"$f":"R76*Dryer!$O$19","v":0},{"$f":"S76*Dryer!$O$20","v":0},{"$f":"T76*Dryer!$O$21","v":0},{"$f":"U76*Dryer!$O$22","v":0},{"$f":"V76*Dryer!$O$23","v":0},{"$f":"W76*Dryer!$O$24","v":0},0,null,"  Nitrous Oxide (N2O)",0,0,0,0,0,0,0,0,0,0,0,null,null,"column dryer","rack dryer","self‐cleaning screens",null,null,null,"column dryer","rack dryer","self‐cleaning screens",null,null,null,null,null,null,null,null,null,null,null,null,null,null,null,null,"  Nitrous Oxide (N2O)",0,0,0,0,0,0,0,0,0,0,0,null,"  Nitrous Oxide (N2O)",0,0,0,0,0,0,0,0,0,0,0]
["* Emission factors for Criteria Pollutants and HAPS from AP-42 Tables 1.4-1, 1.4-2, and 1.4-3. Emission Factors for GHGs from 40CFR98 ",null,null,null,null,null,null,null,null,null,null,null,"* Emission factor equals manufacturer's specified. If no manufacturer guarantee entered, AP-42 emission factors are divided by 1020 MMBtu/MMscf",null,null,null,null,null,null,null,null,null,null,null,"Total GHGs",{"$f":"SUM(Z74:Z76)","v":0},{"$f":"SUM(AA74:AA76)","v":0},{"$f":"SUM(AB74:AB76)","v":0},{"$f":"SUM(AC74:AC76)","v":0},{"$f":"SUM(AD74:AD76)","v":0},{"$f":"SUM(AE74:AE76)","v":0},{"$f":"SUM(AF74:AF76)","v":0},{"$f":"SUM(AG74:AG76)","v":0},{"$f":"SUM(AH74:AH76)","v":0},{"$f":"SUM(AI74:AI76)","v":0},{"$f":"SUM(AJ74:AJ76)","v":0},null,"Total GHGs",0,0,0,0,0,0,0,0,0,0,0,null,"PM",0.22,3,0.47,null,null,"PM",{"$f":"AZ77*(1-$BA$82)","v":1.100000000000001E-2},0.15000000000000013,2.3500000000000021E-2,null,null,null,null,null,null,null,null,null,null,null,null,null,null,null,null,"Total GHGs",0,0,0,0,0,0,0,0,0,0,{"$f":"SUM(CJ74:CJ76)","v":0},null,"Total GHGs",0,0,0,0,0,0,0,0,0,0,0]
[null,null,null,null,null,null,null,null,null,null,null,null,null,null,null,null,null,null,null,null,null,null,null,null,"Greenhouse Gases (GHG) (CO2 Equivalent Basis)",null,null,null,null,null,null,null,null,null,null,null,null,"Greenhouse Gases (GHG) (CO2 Equivalent Basis)",null,null,null,null,null,null,null,null,null,null,null,null,"PM10",5.5E-2,0.75,0.12,null,null,"PM10",2.7500000000000024E-3,3.7500000000000033E-2,6.0000000000000053E-3,null,null,null,null,null,null,null,null,null,null,null,null,null,null,null,null,"Greenhouse Gases (GHG) (CO2 Equivalent Basis)",null,null,null,null,null,null,null,null,null,null,null,null,"Greenhouse Gases (GHG) (CO2 Equivalent Basis)"]
["Color Code",null,null,null,null,null,null,null,null,null,null,null,null,null,null,null,null,null,null,null,null,null,null,null,"  Carbon Dioxide (CO2)",{"$f":"Z74","v":0},{"$f":"AA74","v":0},0,0,0,0,0,0,0,0,{"$f":"SUM(Z79:AI79)","v":0},null,"  Carbon Dioxide (CO2)",{"$f":"IF(AM$45=0,Z79*8760/2000,Z79*AM$45/2000)","v":0},0,0,0,0,0,0,0,0,0,{"$f":"SUM(AM79:AV79)","v":0},null,"PM2.5",9.4000000000000004E-3,0.13,0.02,null,null,"PM2.5",4.7000000000000042E-4,6.5000000000000058E-3,1.0000000000000009E-3,null,null,null,null,null,null,null,null,null,null,null,null,null,null,null,null,"  Carbon Dioxide (CO2)",{"$f":"Z79","v":0},{"$f":"AA79","v":0},0,0,0,0,0,0,0,0,{"$f":"SUM(BZ79:CI79)","v":0},null,"  Carbon Dioxide (CO2)",{"$f":"AM79","v":0},{"$f":"AN79","v":0},0,0,0,0,0,0,0,0,0]
[null,"Before Project",null,null,null,null,null,null,null,null,null,null,null,null,null,null,null,null,null,null,null,null,null,null,"  Methane (CH4)",{"$f":"Z75*25","v":0},{"$f":"AA75*25","v":0},0,0,0,0,0,0,0,0,0,null,"  Methane (CH4)",0,0,0,0,0,0,0,0,0,0,0,null,null,null,null,null,null,null,null,null,null,null,null,null,null,null,null,null,null,null,null,null,null,null,null,null,null,null,"  Methane (CH4)",{"$f":"Z80","v":0},{"$f":"AA80","v":0},{"$f":"AB80","v":0},{"$f":"AC80","v":0},{"$f":"AD80","v":0},{"$f":"AE80","v":0},{"$f":"AF80","v":0},{"$f":"AG80","v":0},{"$f":"AH80","v":0},{"$f":"AI80","v":0},0,null,"  Methane (CH4)",{"$f":"AM80","v":0},{"$f":"AN80","v":0},{"$f":"AO80","v":0},{"$f":"AP80","v":0},{"$f":"AQ80","v":0},{"$f":"AR80","v":0},{"$f":"AS80","v":0},{"$f":"AT80","v":0},{"$f":"AU80","v":0},{"$f":"AV80","v":0},0]
[null,"After Project",null,null,null,null,null,null,null,null,null,null,null,null,null,null,null,null,null,null,null,null,null,null,"  Nitrous Oxide (N2O)",{"$f":"Z76*298","v":0},{"$f":"AA76*298","v":0},0,0,0,0,0,0,0,0,0,null,"  Nitrous Oxide (N2O)",0,0,0,0,0,0,0,0,0,0,0,null,"Capture Efficiency",null,1,null,null,null,null,null,null,null,null,null,null,null,null,null,null,null,null,null,null,null,null,null,null,null,"  Nitrous Oxide (N2O)",0,0,0,0,0,0,0,0,0,0,0,null,"  Nitrous Oxide (N2O)",0,0,0,0,0,0,0,0,0,0,0]
[null,"Default Value of the NDEQ",null,null,null,null,null,null,null,null,null,null,null,null,null,null,null,null,null,null,null,null,null,null,"Total GHGs",{"$f":"SUM(Z79:Z81)","v":0},{"$f":"SUM(AA79:AA81)","v":0},{"$f":"SUM(AB79:AB81)","v":0},{"$f":"SUM(AC79:AC81)","v":0},{"$f":"SUM(AD79:AD81)","v":0},{"$f":"SUM(AE79:AE81)","v":0},{"$f":"SUM(AF79:AF81)","v":0},{"$f":"SUM(AG79:AG81)","v":0},{"$f":"SUM(AH79:AH81)","v":0},{"$f":"SUM(AI79:AI81)","v":0},{"$f":"SUM(AJ79:AJ81)","v":0},null,"Total GHGs",0,0,0,0,0,0,0,0,0,0,0,null,"Control Efficiency",null,0.95,null,null,null,null,null,null,null,null,null,null,null,null,null,null,null,null,null,null,null,null,null,null,null,"Total GHGs",0,0,0,0,0,0,0,0,0,0,{"$f":"SUM(CJ79:CJ81)","v":0},null,"Total GHGs",0,0,0,0,0,0,0,0,0,0,0]
[null,"Final PTE"]
[null,"Calculations"]
[null,"Carry over from user input or other calculated values"]

{"sheet":"Datasets","index":3,"n_rows":22,"n_cols":44,"rows_kept":22,"cut":false,"hidden":true,"merged":[]}
["Unit Type","% Straight to Hopper","Control type","Yes/NO","Choice","Permit Type","Construction Permit","Raw Material","Enclosure","Material Transfer","Pile Control","Dryer Type","Fermentation Control","Type of solids","Enclosure","Type of Loadout","Loading Type","Tank Content","Tank Orientation","Tank Location","Type of Tank","Type of Primary Seal","Shell Condition","Number of columns","Default Control Equipment","Controlled Units","Boiler Types","NSPS","Fermenter/beerwell","Fermentation Type","Control Type","Control Type","Storage Control type","Ave. Truck Capacity","Input Road Type","Fuel Type","Engine Configuration","Type of Secondary Seal","Internal Shell Conditions","External Shell Color","External Shell Condition","Deck Type","Deck Fitting Category","Results Summary"]
["Truck","0:100","None/Uncontrolled","YES","X","Construction Permit","New Construction","Corn","Enclosed","Front-End Loader","Covered","column dryer","Vent Scrubber","DDGS","Enclosed","Truck","None","Ethanol","Vertical","Above Ground","Fixed Roof","Mechanical Shoe","Light Rust","Self Support",0.95,"Dump Pits","Uncontrolled","Pre-NSPS","Fermenter","Batch Fermentation","None/Uncontrolled","None/Uncontrolled","None/Uncontrolled","ton","Unpaved Low Silt","Natural Gas","2-STROKE LEAN-BURN","Shoe Mounted ","Light Rust","White","Good","Bolted","Typical ","Current PTE, (lb/hr)"]
["Rail Car","10:90","Baghouse","NO",null,"Operating Permit","Existing Plant","Milo","Partially Enclosed","Conveyor","Covered & Supressant","rack dryer","CO2 Scubber","WDGS","Partially Enclosed","Rail Car","Submerged Loading","Denaturant","Horizontal","Under Ground","External Floating Roof","Liquid Mounted","Dense Rust",1,0.99,"Grain Handling","Low Nox burners","Post-NSPS","Beerwell","Continous Fermentation","Scrubber","RTO","Baghouse","gal","Unpaved Medium Silt","Gasoline","4-STROKE LEAN-BURN","Rim Mounted","Dense Rust","Aluminum/ Specular","Poor","Welded","Detail","Current PTE, (ton/yr)"]
[null,"20:80",null,null,null,null,null,"Cellulose","Choke-flow","Dump Truck","None","self‐cleaning screens","No Control",null,"Other","Both","Bottom-Fill Loading","Denatured Ethanol",null,null,"Internal Floating Roof","Vapor Mounted","Gunite Lining",2,null,"Receiving & Handling","Flue Gas recirculation",null,null,null,null,null,"Oiler",null,"Unpaved High Silt","Dual Fuel (95% NG + Diesel","4-STROKE RICH-BURN",null,"Gunite Lining","Aluminum/ Diffuse",null,null,null,"PTE after the project, (lb/hr)"]
[null,"30:70",null,null,null,null,null,"Other","Other","Loadout Spout",null,"other",null,null,null,null,null,"Corrosion Inhibitor",null,null,null,null,null,3,null,null,null,null,null,null,null,null,null,null,"Paved Low Silt",null,null,null,null,"Gray/ Light",null,null,null,"PTE after the project, (ton/yr)"]
[null,"40:60",null,null,null,null,null,null,null,"Other",null,null,null,null,null,null,null,"Hydrochloric Acid",null,null,null,null,null,4,null,null,null,null,null,null,null,null,null,null,"Paved Medium Silt",null,null,null,null,"Gray/ Medium",null,null,null,"Project PTE, (lb/hr)"]
[null,"50:50",null,null,null,null,null,null,null,null,null,null,null,null,null,null,null,null,null,null,null,null,null,5,null,null,null,null,null,null,null,null,null,null,"Paved High Silt",null,null,null,null,"Red/ Prime",null,null,null,"Project PTE, (ton/yr)"]
[null,"60:40",null,null,null,null,null,null,null,null,null,null,null,null,null,null,null,null,null,null,null,null,null,6]
[null,"70:30",null,null,null,null,null,null,null,null,null,null,null,null,null,null,null,null,null,null,null,null,null,7,null,null,null,null,null,null,null,null,null,null,null,null,null,null,null,null,null,null,null,"Current Fugitive PTE, (lb/hr)"]
[null,"80:20",null,null,null,null,null,null,null,null,null,null,null,null,null,null,null,null,null,null,null,null,null,8,null,null,null,null,null,null,null,null,null,null,null,null,null,null,null,null,null,null,null,"Current Fugitive PTE, (ton/yr)"]
[null,"90:10",null,null,null,null,null,null,null,null,null,null,null,null,null,null,null,null,null,null,null,null,null,9,null,null,null,null,null,null,null,null,null,null,null,null,null,null,null,null,null,null,null,"Fugitive PTE after the Project, (lb/hr)"]
[null,"100:10",null,null,null,null,null,null,null,null,null,null,null,null,null,null,null,null,null,null,null,null,null,10,null,null,null,null,null,null,null,null,null,null,null,null,null,null,null,null,null,null,null,"Fugitive PTE after the Project, (ton/yr)"]
[null,null,null,null,null,null,null,null,null,null,null,null,null,null,null,null,null,null,null,null,null,null,null,11,null,null,null,null,null,null,null,null,null,null,null,null,null,null,null,null,null,null,null,"Project Fugitive PTE, (lb/hr)"]
[null,null,null,null,null,null,null,null,null,null,null,null,null,null,null,null,null,null,null,null,null,null,null,12,null,null,null,null,null,null,null,null,null,null,null,null,null,null,null,null,null,null,null,"Project Fugitive PTE, (ton/yr)"]
[null,null,null,null,null,null,null,null,null,null,null,null,null,null,null,null,null,null,null,null,null,null,null,13]
[null,null,null,null,null,null,null,null,null,null,null,null,null,null,null,null,null,null,null,null,null,null,null,14]
[null,null,null,null,null,null,null,null,null,null,null,null,null,null,null,null,null,null,null,null,null,null,null,15]
[null,null,null,null,null,null,null,null,null,null,null,null,null,null,null,null,null,null,null,null,null,null,null,16]
[null,null,null,null,null,null,null,null,null,null,null,null,null,null,null,null,null,null,null,null,null,null,null,17]
[null,null,null,null,null,null,null,null,null,null,null,null,null,null,null,null,null,null,null,null,null,null,null,18]
[null,null,null,null,null,null,null,null,null,null,null,null,null,null,null,null,null,null,null,null,null,null,null,19]
[null,null,null,null,null,null,null,null,null,null,null,null,null,null,null,null,null,null,null,null,null,null,null,20]