{"text_format":"1","workbook":"xlsx","n_sheets":30,"sheets":["1) Main Input","2) Production Rates","3) Dump Pit","4) Grain Storage","5) Dryer","6) Hammermill","7) Ferm","8) DDGS Dryer","9) Solids Loadout","10) Liquid Loadout","11) Tanks","12) Haul Roads","13) Cooling Tower","14) Equipment Leaks","15) Engines","16) Others","Results","Results Summary","Schematic","3) Calculations","4) Calculations","5) Calculations","6) Calculations","7) Calculations","8) Calculations","9) Calculations","10) Calculation","10) Calc Flares","15) Calculations","Datasets"],"not_rendered":{"charts":0,"images":303,"macros":1,"external_links":3,"defined_names":79,"comments":0,"pivot_tables":0},"unopened":[],"bounds":{"document_bytes":16777216,"sheet_cells":100000,"rows_first":2000,"rows_last":500,"rows_between":2000,"halvings":0,"cell_chars":16384,"cell_head_chars":4096},"cells_cut":0,"cells_raw":0,"read":"whole","date_system":"1900"}

{"sheet":"1) Main Input","index":0,"n_rows":33,"n_cols":4,"rows_kept":33,"cut":false,"hidden":false,"merged":[]}
[]
[]
["Universal Calculation Spreadsheets applicable for the Emissions of Ethanol Industry"]
["Main Input Sheet"]
[]
[null,"Questions","Answers"]
[null,"Is this application concerning a construction or an operating permit?",null,{"$f":"IF(C7=\"Operating Permit\",1,0)","v":0}]
[null,"Is the construction permit for an existing plant or a new plant?",null,{"$f":"IF(C8=\"New Construction\",1,0)","v":0}]
[null,null,null,{"$f":"IF(OR(C9=\"Yes\",C9=\"NO\"),1,0)","v":0}]
[]
[null,null,{"$f":"IF(C10=\"YES\",1,0)","v":0}]
[]
[]
[]
[]
[]
["Instructions for use: "]
["- The Calculation Sheet has tabs to navigate through the emission units by using the \"Next\" and \"Previous\" Buttons"]
["- You can always jump to any tab required by choosing from the Tabs bar"]
["- Fill only data required in the tan color. Complete color coding is explained below"]
["- Cells in blue color could be changed only by NDEQ personnel"]
["- If you are working on a construction permit for an existing plant: Orange is the exisiting plant before modification and Orange is the expected plant after project"]
["- Detailed results are presented in the Results Tab and a summary of results is given in results summary"]
["- You can review the calculations at cells in the claculation tab. You cannot change the formulas"]
["- You can visually look at your inputs for emission units in the Schematic Tab"]
["- Some tabs include essential unit conversions for your convinience"]
[]
[null,"Before Project"]
[null,"After Project"]
[null,"Default Value of the NDEQ"]
[null,"Final PTE"]
[null,"Calculations"]
[null,"Carry over from user input or other calculated values"]

{"sheet":"2) Production Rates","index":1,"n_rows":17,"n_cols":6,"rows_kept":17,"cut":false,"hidden":false,"merged":[[8,2,8,3],[8,4,8,5]]}
[]
[]
["Universal Calculation Spreadsheets applicable for the Emissions of Ethanol Industry"]
["Production Rates"]
[]
[]
[null,"Please Enter the Current and Maximum Proposed Facility Information:"]
[]
[null,null,"Current Capacity",null,"Maximum Proposed Capacity"]
[null,"Denatured Ethanol (Annual)",null,"MMGal/year",null,"MMGal/year"]
[null,"Denatured Ethanol (Hourly)",null,"Gal/hr",null,"Gal/hr"]
[null,"Anhydrous Ethanol",null,"MMGal/year",null,"MMGal/year"]
[null,"Wet Distilled Grain Soluble (WDGS) - 50% H2O",null,"tons/year",null,"tons/year"]
[null,"Modified WDGS (MWDGS) - % H2O",null,"tons/year",null,"tons/year"]
[null,"Dry Distilled Grain Soluble (DDGS) - 15% H2O",null,"tons/year",null,"tons/year"]
[null,"Max corn throughput required for maximum ethanol production",null,"tons/year",null,"tons/year"]
[null,"Max milo throughput required for maximum ethanol production",null,"tons/year",null,"tons/year"]

{"sheet":"3) Dump Pit","index":2,"n_rows":42,"n_cols":21,"rows_kept":42,"cut":false,"hidden":false,"merged":[[13,0,13,2],[13,3,13,5],[13,9,13,11],[13,12,13,14],[15,0,15,2],[15,9,15,11],[9,0,9,2],[9,3,9,5],[9,9,9,11],[9,12,9,14],[11,0,11,2],[11,3,11,5],[11,9,11,11],[11,12,11,14],[7,0,7,2],[7,3,7,5],[7,9,7,11],[7,12,7,14],[8,0,8,2],[8,9,8,11],[8,4,8,5],[8,13,8,14],[4,12,4,15],[5,3,5,6],[5,12,5,15],[6,0,6,2],[6,3,6,5],[6,9,6,11],[6,12,6,14]]}
[]
["Universal Calculation Spreadsheets applicable for the Emissions of Ethanol Industry"]
["Dump Pits",null,"SCC 3-02-005-05"]
[]
[]
[null,null,null,"Current Capacity",null,null,null,null,null,null,null,null,"Maximum Proposed Capacity"]
["Grain throughput based on maximum production",null,null,{"$f":"'2) Production Rates'!C16","v":0},null,null,"tons/year",null,null,"Grain throughput based on maximum production",null,null,{"$f":"'2) Production Rates'!E16","v":0},null,null,"tons/year"]
["Enter other throughput value based on other limitations",null,null,null,null,null,"tons/year",null,null,"Enter other throughput value based on other limitations",null,null,null,null,null,"tons/year"]
["What is the raw material used?",null,null,"Corn",56,null,"lb/bushel ",null,null,"What is the raw material used?",null,null,"Corn",56,null,"lb/bushel "]
["Maximum Grain Receiving Rate",null,null,{"$f":"MIN(D7:F8)*2000/E9/8760","v":0},null,null,"bu/hr",null,null,"Maximum Grain Receiving Rate",null,null,{"$f":"MIN(M7:O8)*2000/N9/8760","v":0},null,null,"bu/hr"]
[]
["Total Number of Control Equipment",null,null,null,null,null,null,null,null,"Total Number of Control Equipment"]
[]
["Total Number of Dump Pits (Controlled and Uncontrolled)",null,null,null,null,null,null,null,null,"Total Number of Dump Pits (Controlled and Uncontrolled)"]
[]
["Uncontrolled Grain Handling Rate",null,null,null,"bu/hr",null,"ton/yr",null,null,"Uncontrolled Grain Handling Rate",null,null,null,"bu/hr",null,"ton/yr"]
[]
["Please, enter information describing control equipment"]
[null,"ID","CE Name","Control Efficiency","Capture Efficiency","Permit Limit, grains/min (If applicable)","Grain Handling Rate, bu/hr","Grain Handling Rate, ton/yr*",null,null,"ID","CE Name","Control Efficiency","Capture Efficiency","Permit Limit, grains/min (If applicable)","Grain Handling Rate, bu/hr","Grain Handling Rate, ton/yr*",null,null,null,"Datasets!$Y$3"]
["1st Control Equipment",null,null,0.99,0.95,null,null,null,null,"1st Control Equipment",null,null,0.99,0.95,null,null,null,null,null,null,"Datasets!$Y$2"]
["2nd Control Equipment",null,null,0.99,0.95,null,null,null,null,"2nd Control Equipment",null,null,0.99,0.95]
["3rd Control Equipment",null,null,0.99,0.95,null,null,null,null,"3rd Control Equipment",null,null,0.99,0.95]
["4th Control Equipment",null,null,0.99,0.95,null,null,null,null,"4th Control Equipment",null,null,0.99,0.95]
["5th Control Equipment",null,null,0.99,0.95,null,null,null,null,"5th Control Equipment",null,null,0.99,0.95]
["6th Control Equipment",null,null,0.99,0.95,null,null,null,null,"6th Control Equipment",null,null,0.99,0.95]
["7th Control Equipment",null,null,0.99,0.95,null,null,null,null,"7th Control Equipment",null,null,0.99,0.95]
["8th Control Equipment",null,null,0.99,0.95,null,null,null,null,"8th Control Equipment",null,null,0.99,0.95]
["9th Control Equipment",null,null,0.99,0.95,null,null,null,null,"9th Control Equipment",null,null,0.99,0.95]
["10th Control Equipment",null,null,0.99,0.95,null,null,null,null,"10th Control Equipment",null,null,0.99,0.95]
["* Enter value only if an additional permit condition exists.",null,null,null,null,null,null,null,null,"* Enter value only if an additional permit condition exists."]
["Please, enter information describing specific Dump Pits properties"]
[null,"ID","Emission Unit Name","Enclosure","Maximum grain receiving rate (bu/hr)","Permit Limit, ton/yr (If applicable)","Control type","Control Name","Truck or Rail",null,"ID","Emission Unit Name","Enclosure","Maximum grain receiving rate (bu/hr)","Permit Limit, ton/yr (If applicable)","Control type","Control Name","Truck or Rail"]
["1st Dump Pit",null,null,null,null,null,null,null,null,"1st Dump Pit"]
["2nd Dump Pit",null,null,null,null,null,null,null,null,"2nd Dump Pit"]
["3rd Dump Pit",null,null,null,null,null,null,null,null,"3rd Dump Pit"]
["4th Dump Pit",null,null,null,null,null,null,null,null,"4th Dump Pit"]
["5th Dump Pit",null,null,null,null,null,null,null,null,"5th Dump Pit"]
["6th Dump Pit",null,null,null,null,null,null,null,null,"6th Dump Pit"]
["7th Dump Pit",null,null,null,null,null,null,null,null,"7th Dump Pit"]
["8th Dump Pit",null,null,null,null,null,null,null,null,"8th Dump Pit"]
["9th Dump Pit",null,null,null,null,null,null,null,null,"9th Dump Pit"]
["10th Dump Pit",null,null,null,null,null,null,null,null,"10th Dump Pit"]

{"sheet":"4) Grain Storage","index":3,"n_rows":40,"n_cols":14,"rows_kept":40,"cut":false,"hidden":false,"merged":[[8,0,8,2],[8,3,8,5],[8,8,8,10],[13,0,13,1],[13,4,13,5],[10,0,10,2],[10,3,10,5],[10,8,10,10],[11,0,11,2],[11,3,11,5],[11,8,11,10],[5,8,5,11],[6,3,6,6],[6,8,6,11],[7,0,7,2],[7,3,7,5],[7,8,7,10]]}
[]
["Universal Calculation Spreadsheets applicable for the Emissions of Ethanol Industry"]
["Grain Storage"]
[]
["Please, enter information describing the grain receiving capacity"]
[]
["Questions",null,null,"Current Capacity",null,null,null,null,"Maximum Proposed Capacity"]
["Grain throughput based on maximum production",null,null,{"$f":"'2) Production Rates'!C16","v":0},null,null,"tons/year",null,{"$f":"'2) Production Rates'!E16","v":0},null,null,"tons/year"]
["Maximum Grain Receiving Rate",null,null,{"$f":"'3) Dump Pit'!D10","v":0},null,null,"bu/hr",null,{"$f":"'3) Dump Pit'!M10","v":0},null,null,"bu/hr"]
[]
["Number of Storage Bin"]
["Number of Storage Pile"]
[]
["Wind Speed (m/sec)",null,3]
[]
["Please, enter information describing specific storage bin properties"]
[null,"ID","Emission Unit Name","Capacity, bu","Height, m","Diameter, m","Control Type",null,"ID","Emission Unit Name","Capacity, bu","Height, m","Diameter, m","Control Type"]
["1st Storage Bin",null,null,null,null,null,null,"1st Storage Bin"]
["2nd Storage Bin",null,null,null,null,null,null,"2nd Storage Bin"]
["3rd Storage Bin",null,null,null,null,null,null,"3rd Storage Bin"]
["4th Storage Bin",null,null,null,null,null,null,"4th Storage Bin"]
["5th Storage Bin",null,null,null,null,null,null,"5th Storage Bin"]
["6th Storage Bin",null,null,null,null,null,null,"6th Storage Bin"]
["7th Storage Bin",null,null,null,null,null,null,"7th Storage Bin"]
["8th Storage Bin",null,null,null,null,null,null,"8th Storage Bin"]
["9th Storage Bin",null,null,null,null,null,null,"9th Storage Bin"]
["10th Storage Bin",null,null,null,null,null,null,"10th Storage Bin"]
[]
[]
[null,"ID","Emission Unit Name","Pile Capacity, bu","Moisture content, %","Transfer type","Control",null,"ID","Emission Unit Name","Pile Capacity, bu","Moisture content, %","Transfer type","Control"]
["1st Storage Pile",null,null,null,null,null,null,"1st Storage Pile"]
["2nd Storage Pile",null,null,null,null,null,null,"2nd Storage Pile"]
["3rd Storage Pile",null,null,null,null,null,null,"3rd Storage Pile"]
["4th Storage Pile",null,null,null,null,null,null,"4th Storage Pile"]
["5th Storage Pile",null,null,null,null,null,null,"5th Storage Pile"]
["6th Storage Pile",null,null,null,null,null,null,"6th Storage Pile"]
["7th Storage Pile",null,null,null,null,null,null,"7th Storage Pile"]
["8th Storage Pile",null,null,null,null,null,null,"8th Storage Pile"]
["9th Storage Pile",null,null,null,null,null,null,"9th Storage Pile"]
["10th Storage Pile",null,null,null,null,null,null,"10th Storage Pile"]

{"sheet":"5) Dryer","index":4,"n_rows":89,"n_cols":21,"rows_kept":89,"cut":false,"hidden":false,"merged":[[8,0,8,2],[8,3,8,5],[8,9,8,11],[8,12,8,14],[12,0,12,2],[12,3,12,5],[12,9,12,11],[12,12,12,14],[11,12,11,14],[5,12,5,15],[6,3,6,6],[6,12,6,15],[7,0,7,2],[7,3,7,5],[7,12,7,14],[7,9,7,11],[38,0,38,1],[10,0,10,2],[10,3,10,5],[10,12,10,14],[30,0,30,1],[31,0,31,1],[32,0,32,1],[33,0,33,1],[36,0,36,1],[35,0,35,1],[34,0,34,1],[10,9,10,11],[11,0,11,2],[11,3,11,5],[11,9,11,11],[39,0,39,1],[40,0,40,1],[41,0,41,1],[42,0,42,1],[43,0,43,1],[44,0,44,1],[45,0,45,1],[46,0,46,1],[47,0,47,1],[48,0,48,1],[55,0,55,1],[56,0,56,1],[57,0,57,1],[54,0,54,1],[49,0,49,1],[50,0,50,1],[51,0,51,1],[52,0,52,1],[53,0,53,1],[66,0,66,1],[67,0,67,1],[69,0,69,1],[70,0,70,1],[61,0,61,1],[62,0,62,1],[63,0,63,1],[64,0,64,1],[87,0,87,1],[88,0,88,1],[81,0,81,1],[82,0,82,1],[83,0,83,1],[84,0,84,1],[85,0,85,1],[10,19,11,19],[10,20,11,20],[7,19,8,19],[7,20,8,20],[86,0,86,1],[76,0,76,1],[77,0,77,1],[78,0,78,1],[79,0,79,1],[80,0,80,1],[71,0,71,1],[72,0,72,1],[73,0,73,1],[74,0,74,1],[75,0,75,1],[65,0,65,1]]}
[null,null,null,null,null,null,null,null,null,null,null,null,null,null,null,null,null,"Essential Unit Conversion"]
["Universal Calculation Spreadsheets applicable for the Emissions of Ethanol Industry"]
["Grain Dryers",null,null,null,null,null,null,null,null,null,null,null,null,null,null,null,null,"From ",null,"To"]
[null,null,null,null,null,null,null,null,null,null,null,null,null,null,null,null,null,null,"MMSCF",{"$f":"R4*1020","v":0},"MMBtu"]
["Please, enter information describing the Grain Dryer"]
[null,null,null,null,null,null,null,null,null,null,null,null,null,null,null,null,null,null,"lb/MMSCF",{"$f":"R6/1020","v":0},"lb/MMBtu"]
[null,null,null,"Current Capacity",null,null,null,null,null,null,null,null,"Maximum Proposed Capacity"]
["Grain throughput based on maximum production",null,null,{"$f":"'2) Production Rates'!C16","v":0},null,null,"tons/year",null,null,"Grain throughput based on maximum production",null,null,{"$f":"'2) Production Rates'!E16","v":0},null,null,"tons/year",null,null,"lb/hr",{"$f":"R8/R9","v":0},"lb/MMBtu"]
["Maximum grain throughput based on dryer capacity",null,null,{"$f":"SUM(D17:D26)","v":0},null,null,"ton/hr",null,null,null,null,null,{"$f":"SUM(M17:M26)","v":0},null,null,"ton/hr",null,1,"MMBtu/hr"]
[]
["Number of Grain Dryers",null,null,null,null,null,"Units",null,null,"Number of Grain Dryers",null,null,null,null,null,"Units",null,null,"hr/yr",{"$f":"R11*R12","v":0},"ton/yr"]
["Maximum permitted hourly grain throughput",null,null,null,null,null,"ton/hr",null,null,"Maximum permitted hourly grain throughput",null,null,null,null,null,"ton/hr",null,null,"ton/hr"]
["Maximum permitted annual grain throughput",null,null,null,null,null,"ton/year",null,null,"Maximum permitted annual grain throughput",null,null,null,null,null,"ton/year"]
[]
["Please, enter information describing specific Grain dryer properties"]
[null,"ID","Emission Unit Name","Capacity, tons/hr","Control Type*","Maximum Rated Capacity, MMBtu/hr","Dryer Type","Particulate Control","Maximum permitted annual throughput, ton/yr",null,"ID","Emission Unit Name","Capacity, tons/hr","Control Type*","Maximum Rated Capacity, MMBtu/hr","Dryer Type","Particulate Control","Maximum permitted annual throughput, ton/yr"]
["1st Dryer",null,null,null,null,null,null,null,null,"1st Dryer"]
["2nd Dryer",null,null,null,null,null,null,null,null,"2nd Dryer"]
["3rd Dryer",null,null,null,null,null,null,null,null,"3rd Dryer"]
["4th Dryer",null,null,null,null,null,null,null,null,"4th Dryer"]
["5th Dryer",null,null,null,null,null,null,null,null,"5th Dryer"]
["6th Dryer",null,null,null,null,null,null,null,null,"6th Dryer"]
["7th Dryer",null,null,null,null,null,null,null,null,"7th Dryer"]
["8th Dryer",null,null,null,null,null,null,null,null,"8th Dryer"]
["9th Dryer",null,null,null,null,null,null,null,null,"9th Dryer"]
["10th Dryer",null,null,null,null,null,null,null,null,"10th Dryer"]
[]
["Please, enter information describing specific permit limits or source specific emissions"]
["If the limit or data are in other units, please, convert them to lb/MMBtu"]
[null,null,"1st Dryer Limit (lb/MMBtu)","2nd Dryer Limit (lb/MMBtu)","3rd Dryer Limit (lb/MMBtu)","4th Dryer Limit (lb/MMBtu)","5th Dryer Limit (lb/MMBtu)","6th Dryer Limit (lb/MMBtu)","7th Dryer Limit (lb/MMBtu)","8th Dryer Limit (lb/MMBtu)","9th Dryer Limit (lb/MMBtu)","10th Dryer Limit (lb/MMBtu)"]
["PMfilterable"]
["PM10"]
["PM2.5"]
["SO2"]
["NOx"]
["CO"]
["VOC"]
["Individual HAP"]
["  Benzene "]
["  Dichlorobenzene "]
["  Hexane "]
["  Lead Compounds"]
["  Naphthalene "]
["  Polycyclic Organic Matter "]
["  Toluene "]
["  Arsenic Compounds"]
["  Beryllium Compounds"]
["  Cadmium Compounds"]
["  Chromium Compounds"]
["  Cobalt Compounds"]
["  Manganese Compounds"]
["  Mercury Compounds"]
["  Nickel Compounds"]
["  Selenium Compounds"]
["Total HAPs"]
["  Carbon Dioxide (CO2)"]
["  Methane (CH4)"]
["  Nitrous Oxide (N2O)"]
[]
[]
[null,null,"1st Dryer Limit (lb/MMBtu)","2nd Dryer Limit (lb/MMBtu)","3rd Dryer Limit (lb/MMBtu)","4th Dryer Limit (lb/MMBtu)","5th Dryer Limit (lb/MMBtu)","6th Dryer Limit (lb/MMBtu)","7th Dryer Limit (lb/MMBtu)","8th Dryer Limit (lb/MMBtu)","9th Dryer Limit (lb/MMBtu)","10th Dryer Limit (lb/MMBtu)"]
["PMfilterable"]
["PM10"]
["PM2.5"]
["SO2"]
["NOx"]
["CO"]
["VOC"]
["Individual HAP"]
["  Benzene "]
["  Dichlorobenzene "]
["  Hexane "]
["  Lead Compounds"]
["  Naphthalene "]
["  Polycyclic Organic Matter "]
["  Toluene "]
["  Arsenic Compounds"]
["  Beryllium Compounds"]
["  Cadmium Compounds"]
["  Chromium Compounds"]
["  Cobalt Compounds"]
["  Manganese Compounds"]
["  Mercury Compounds"]
["  Nickel Compounds"]
["  Selenium Compounds"]
["Total HAPs"]
["  Carbon Dioxide (CO2)"]
["  Methane (CH4)"]
["  Nitrous Oxide (N2O)"]

{"sheet":"6) Hammermill","index":5,"n_rows":39,"n_cols":15,"rows_kept":39,"cut":false,"hidden":false,"merged":[[10,8,10,10],[10,0,10,2],[10,3,10,5],[38,0,41,1],[10,11,10,13],[4,11,4,14],[5,3,5,6],[5,11,5,14],[6,0,6,2],[6,3,6,5],[6,11,6,13],[6,8,6,10],[7,0,7,2],[7,3,7,5],[7,11,7,13],[9,0,9,2],[9,3,9,5],[9,11,9,13],[7,8,7,10],[9,8,9,10]]}
[]
["Universal Calculation Spreadsheets applicable for the Emissions of Ethanol Industry"]
["Hammer Milling"]
[]
[]
[null,null,null,"Current Capacity",null,null,null,null,null,null,null,"Maximum Proposed Capacity"]
["Grain throughput based on maximum production",null,null,{"$f":"'2) Production Rates'!C16","v":0},null,null,"tons/year",null,"Grain throughput based on maximum production",null,null,{"$f":"'2) Production Rates'!E16","v":0},null,null,"tons/year"]
["Maximum Grain Receiving Rate",null,null,{"$f":"'3) Dump Pit'!D10","v":0},null,null,"bu/hr",null,"Maximum Grain Receiving Rate",null,null,{"$f":"'3) Dump Pit'!M10","v":0},null,null,"bu/hr"]
[]
["Scalper",null,null,null,null,null,"Units",null,"Scalper",null,null,null,null,null,"Units"]
["Hammer Mill",null,null,null,null,null,"Units",null,"Hammer Mill",null,null,null,null,null,"Units"]
[]
["Please, enter information describing specific Scalper properties"]
[null,"ID","Emission Unit Name","Surge Unit?","Capacity, bu","Control type","Permit Limit, grains/min (If applicable)*",null,null,"ID","Emission Unit Name","Surge Unit?","Capacity, bu","Control type","Permit Limit, grains/min (If applicable)*"]
["1st Scalper",null,null,null,null,null,null,null,"1st Scalper"]
["2nd Scalper",null,null,null,null,null,null,null,"2nd Scalper"]
["3rd Scalper",null,null,null,null,null,null,null,"3rd Scalper"]
["4th Scalper",null,null,null,null,null,null,null,"4th Scalper"]
["5th Scalper",null,null,null,null,null,null,null,"5th Scalper"]
["6th Scalper",null,null,null,null,null,null,null,"6th Scalper"]
["7th Scalper",null,null,null,null,null,null,null,"7th Scalper"]
["8th Scalper",null,null,null,null,null,null,null,"8th Scalper"]
["9th Scalper",null,null,null,null,null,null,null,"9th Scalper"]
["10th Scalper",null,null,null,null,null,null,null,"10th Scalper"]
[]
["Please, enter information describing specific Hammer Mill properties"]
[null,"ID","Emission Unit Name","Surge Unit?","Capacity, bu","Control type","Permit Limit, grains/min (If applicable)*",null,null,"ID","Emission Unit Name","Surge Unit?","Capacity, bu","Control type","Permit Limit, grains/min (If applicable)*"]
["1st Hammer Mill",null,null,null,null,null,null,null,"1st Hammer Mill"]
["2nd Hammer Mill",null,null,null,null,null,null,null,"2nd Hammer Mill"]
["3rd Hammer Mill",null,null,null,null,null,null,null,"3rd Hammer Mill"]
["4th Hammer Mill",null,null,null,null,null,null,null,"4th Hammer Mill"]
["5th Hammer Mill",null,null,null,null,null,null,null,"5th Hammer Mill"]
["6th Hammer Mill",null,null,null,null,null,null,null,"6th Hammer Mill"]
["7th Hammer Mill",null,null,null,null,null,null,null,"7th Hammer Mill"]
["8th Hammer Mill",null,null,null,null,null,null,null,"8th Hammer Mill"]
["9th Hammer Mill",null,null,null,null,null,null,null,"9th Hammer Mill"]
["10th Hammer Mill",null,null,null,null,null,null,null,"10th Hammer Mill"]
[]
["* If more than one emission unit are controlled by the same control and have a permit limit, please, divide the the permit limit  equally by the emission units. "]

{"sheet":"7) Ferm","index":6,"n_rows":114,"n_cols":25,"rows_kept":114,"cut":false,"hidden":false,"merged":[[4,11,4,14],[5,3,5,6],[5,11,5,14],[6,0,6,2],[6,3,6,5],[6,8,6,10],[6,11,6,13],[46,0,46,1],[86,0,86,1],[48,0,48,1],[40,13,40,14],[41,13,41,14],[42,13,42,14],[43,13,43,14],[44,13,44,14],[7,0,7,2],[7,3,7,5],[7,8,7,10],[7,11,7,13],[40,0,40,1],[41,0,41,1],[42,0,42,1],[8,0,8,2],[8,3,8,5],[55,0,55,1],[95,0,95,1],[56,0,56,1],[96,0,96,1],[57,0,57,1],[97,0,97,1],[64,0,64,1],[92,0,92,1],[53,0,53,1],[93,0,93,1],[54,0,54,1],[94,0,94,1],[89,0,89,1],[90,0,90,1],[91,0,91,1],[58,0,58,1],[88,0,88,1],[83,0,83,1],[84,0,84,1],[85,0,85,1],[80,0,80,1],[81,0,81,1],[82,0,82,1],[61,0,61,1],[101,0,101,1],[62,0,62,1],[102,0,102,1],[63,0,63,1],[103,0,103,1],[73,0,74,11],[98,0,98,1],[59,0,59,1],[99,0,99,1],[60,0,60,1],[100,0,100,1],[8,8,8,10],[8,11,8,13],[10,0,10,2],[10,3,10,5],[10,8,10,10],[10,11,10,13],[50,13,50,14],[51,13,51,14],[52,13,52,14],[49,0,49,1],[50,0,50,1],[51,0,51,1],[43,0,43,1],[44,0,44,1],[45,0,45,1],[52,0,52,1],[53,13,53,14],[54,13,54,14],[45,13,45,14],[46,13,46,14],[48,13,48,14],[49,13,49,14],[60,13,60,14],[61,13,61,14],[62,13,62,14],[63,13,63,14],[64,13,64,14],[55,13,55,14],[56,13,56,14],[57,13,57,14],[58,13,58,14],[59,13,59,14],[70,13,70,14],[71,13,71,14],[80,13,80,14],[81,13,81,14],[65,13,65,14],[66,13,66,14],[67,13,67,14],[68,13,68,14],[69,13,69,14],[70,0,70,1],[71,0,71,1],[67,0,67,1],[68,0,68,1],[69,0,69,1],[65,0,65,1],[66,0,66,1],[88,13,88,14],[89,13,89,14],[90,13,90,14],[91,13,91,14],[82,13,82,14],[83,13,83,14],[84,13,84,14],[85,13,85,14],[86,13,86,14],[97,13,97,14],[98,13,98,14],[99,13,99,14],[100,13,100,14],[101,13,101,14],[92,13,92,14],[93,13,93,14],[94,13,94,14],[95,13,95,14],[96,13,96,14],[113,0,114,11],[107,13,107,14],[108,13,108,14],[109,13,109,14],[110,13,110,14],[111,13,111,14],[102,13,102,14],[103,13,103,14],[104,13,104,14],[105,13,105,14],[106,13,106,14],[110,0,110,1],[111,0,111,1],[107,0,107,1],[108,0,108,1],[109,0,109,1],[104,0,104,1],[105,0,105,1],[106,0,106,1]]}
[]
["Universal Calculation Spreadsheets applicable for the Emissions of Ethanol Industry"]
["Fermentation, Process Tanks, Distillation, and Propagators"]
[]
[]
["Questions",null,null,"Current Capacity",null,null,null,null,null,null,null,"Maximum Proposed Capacity"]
["Grain throughput based on maximum production",null,null,{"$f":"'2) Production Rates'!C16","v":0},null,null,"tons/year",null,"Grain throughput based on maximum production",null,null,{"$f":"'2) Production Rates'!E16","v":0},null,null,"tons/year"]
["Anhydrous Ethanol",null,null,{"$f":"'2) Production Rates'!C12","v":0},null,null,{"$f":"'2) Production Rates'!D12","v":"MMGal/year"},null,{"$f":"'2) Production Rates'!B12","v":"Anhydrous Ethanol"},null,null,{"$f":"'2) Production Rates'!E12","v":0},null,null,{"$f":"'2) Production Rates'!F12","v":"MMGal/year"}]
["Number of Fermenters and Beerwells",null,null,null,null,null,"Units",null,"Number of Fermenters and Beerwells",null,null,null,null,null,"Units"]
[]
["Number of Scrubbers",null,null,null,null,null,"Units",null,"Number of Scrubbers",null,null,null,null,null,"Units"]
[]
["Please, enter information describing specific fermenters and beerwells",null,null,null,null,null,null,null,"Please, enter information describing specific fermenters and beerwells"]
[null,"ID","Emission Unit Name","Fermenter or Beerwell","Fermentation Type","Control type",null,null,null,"ID","Emission Unit Name","Fermenter or Beerwell","Fermentation Type","Control type"]
["1st Fermenter",null,null,null,null,null,null,null,"1st Fermenter"]
["2nd Fermenter",null,null,null,null,null,null,null,"2nd Fermenter"]
["3rd Fermenter",null,null,null,null,null,null,null,"3rd Fermenter"]
["4th Fermenter",null,null,null,null,null,null,null,"4th Fermenter"]
["5th Fermenter",null,null,null,null,null,null,null,"5th Fermenter"]
["6th Fermenter",null,null,null,null,null,null,null,"6th Fermenter"]
["7th Fermenter",null,null,null,null,null,null,null,"7th Fermenter"]
["8th Fermenter",null,null,null,null,null,null,null,"8th Fermenter"]
["9th Fermenter",null,null,null,null,null,null,null,"9th Fermenter"]
["10th Fermenter",null,null,null,null,null,null,null,"10th Fermenter"]
["Please, enter information describing specific scrubbers",null,null,null,null,null,null,null,"Please, enter information describing specific scrubbers"]
[null,"ID","Emission Unit Name","Water Flowrate","Chemical Addition","Chem. Flowrate",null,null,null,"ID","Emission Unit Name","Water Flowrate","Chemical Addition","Chem. Flowrate"]
["1st Scrubber",null,null,null,null,null,null,null,"1st Scrubber"]
["2nd Scrubber",null,null,null,null,null,null,null,"2nd Scrubber"]
["3rd Scrubber",null,null,null,null,null,null,null,"3rd Scrubber"]
["4th Scrubber",null,null,null,null,null,null,null,"4th Scrubber"]
["5th Scrubber",null,null,null,null,null,null,null,"5th Scrubber"]
["6th Scrubber",null,null,null,null,null,null,null,"6th Scrubber"]
["7th Scrubber",null,null,null,null,null,null,null,"7th Scrubber"]
["8th Scrubber",null,null,null,null,null,null,null,"8th Scrubber"]
["9th Scrubber",null,null,null,null,null,null,null,"9th Scrubber"]
["10th Scrubber",null,null,null,null,null,null,null,"10th Scrubber"]
[]
["Please, enter information describing specific permit limits or source specific emissions stack test"]
["If the limit or data are in other units, please, convert them to lb/MMBtu"]
[null,null,"1st Fermenter PTE, lb/hr*","2nd Fermenter PTE, lb/hr*","3rd Fermenter PTE, lb/hr*","4th Fermenter PTE, lb/hr*","5th Fermenter PTE, lb/hr*","6th Fermenter PTE, lb/hr*","7th Fermenter PTE, lb/hr*","8th Fermenter PTE, lb/hr*","9th Fermenter PTE, lb/hr*","10th Fermenter PTE, lb/hr*",null,null,null,"1st Fermenter PTE, ton/yr*","2nd Fermenter PTE, ton/yr*","3rd Fermenter PTE, ton/yr*","4th Fermenter PTE, ton/yr*","5th Fermenter PTE, ton/yr*","6th Fermenter PTE, ton/yr*","7th Fermenter PTE, ton/yr*","8th Fermenter PTE, ton/yr*","9th Fermenter PTE, ton/yr*","10th Fermenter PTE, ton/yr*"]
["PMfilterable",null,null,null,null,null,null,null,null,null,null,null,null,"PMfilterable"]
["PM10",null,null,null,null,null,null,null,null,null,null,null,null,"PM10"]
["PM2.5",null,null,null,null,null,null,null,null,null,null,null,null,"PM2.5"]
["SO2",null,null,null,null,null,null,null,null,null,null,null,null,"SO2"]
["NOx",null,null,null,null,null,null,null,null,null,null,null,null,"NOx"]
["CO",null,null,null,null,null,null,null,null,null,null,null,null,"CO"]
["VOC",null,null,null,null,null,null,null,null,null,null,null,null,"VOC"]
["Individual HAP",null,null,null,null,null,null,null,null,null,null,null,null,"Individual HAP"]
["  Acetaldehyde",null,null,null,null,null,null,null,null,null,null,null,null,"  Acetaldehyde"]
["Acrolein",null,null,null,null,null,null,null,null,null,null,null,null,"Acrolein"]
["Formaldehyde",null,null,null,null,null,null,null,null,null,null,null,null,"Formaldehyde"]
["  Methanol",null,null,null,null,null,null,null,null,null,null,null,null,"  Methanol"]
["  Benzene ",null,null,null,null,null,null,null,null,null,null,null,null,"  Benzene "]
["  Dichlorobenzene ",null,null,null,null,null,null,null,null,null,null,null,null,"  Dichlorobenzene "]
["  Hexane ",null,null,null,null,null,null,null,null,null,null,null,null,"  Hexane "]
["  Lead Compounds",null,null,null,null,null,null,null,null,null,null,null,null,"  Lead Compounds"]
["  Naphthalene ",null,null,null,null,null,null,null,null,null,null,null,null,"  Naphthalene "]
["  Polycyclic Organic Matter ",null,null,null,null,null,null,null,null,null,null,null,null,"  Polycyclic Organic Matter "]
["  Toluene ",null,null,null,null,null,null,null,null,null,null,null,null,"  Toluene "]
["  Arsenic Compounds",null,null,null,null,null,null,null,null,null,null,null,null,"  Arsenic Compounds"]
["  Beryllium Compounds",null,null,null,null,null,null,null,null,null,null,null,null,"  Beryllium Compounds"]
["  Cadmium Compounds",null,null,null,null,null,null,null,null,null,null,null,null,"  Cadmium Compounds"]
["  Chromium Compounds",null,null,null,null,null,null,null,null,null,null,null,null,"  Chromium Compounds"]
["  Cobalt Compounds",null,null,null,null,null,null,null,null,null,null,null,null,"  Cobalt Compounds"]
["  Manganese Compounds",null,null,null,null,null,null,null,null,null,null,null,null,"  Manganese Compounds"]
["  Mercury Compounds",null,null,null,null,null,null,null,null,null,null,null,null,"  Mercury Compounds"]
["  Nickel Compounds",null,null,null,null,null,null,null,null,null,null,null,null,"  Nickel Compounds"]
["  Selenium Compounds",null,null,null,null,null,null,null,null,null,null,null,null,"  Selenium Compounds"]
["Total HAPs",null,null,null,null,null,null,null,null,null,null,null,null,"Total HAPs"]
["GHGs",null,null,null,null,null,null,null,null,null,null,null,null,"GHGs"]
["  Carbon Dioxide (CO2)",null,null,null,null,null,null,null,null,null,null,null,null,"  Carbon Dioxide (CO2)"]
["  Methane (CH4)",null,null,null,null,null,null,null,null,null,null,null,null,"  Methane (CH4)"]
["  Nitrous Oxide (N2O)",null,null,null,null,null,null,null,null,null,null,null,null,"  Nitrous Oxide (N2O)"]
[]
[]
[]
[]
[]
[]
[null,null,"1st Fermenter PTE, lb/hr*","2nd Fermenter PTE, lb/hr*","3rd Fermenter PTE, lb/hr*","4th Fermenter PTE, lb/hr*","5th Fermenter PTE, lb/hr*","6th Fermenter PTE, lb/hr*","7th Fermenter PTE, lb/hr*","8th Fermenter PTE, lb/hr*","9th Fermenter PTE, lb/hr*","10th Fermenter PTE, lb/hr*",null,null,null,"1st Fermenter PTE, ton/yr*","2nd Fermenter PTE, ton/yr*","3rd Fermenter PTE, ton/yr*","4th Fermenter PTE, ton/yr*","5th Fermenter PTE, ton/yr*","6th Fermenter PTE, ton/yr*","7th Fermenter PTE, ton/yr*","8th Fermenter PTE, ton/yr*","9th Fermenter PTE, ton/yr*","10th Fermenter PTE, ton/yr*"]
["PMfilterable",null,null,null,null,null,null,null,null,null,null,null,null,"PMfilterable"]
["PM10",null,null,null,null,null,null,null,null,null,null,null,null,"PM10"]
["PM2.5",null,null,null,null,null,null,null,null,null,null,null,null,"PM2.5"]
["SO2",null,null,null,null,null,null,null,null,null,null,null,null,"SO2"]
["NOx",null,null,null,null,null,null,null,null,null,null,null,null,"NOx"]
["CO",null,null,null,null,null,null,null,null,null,null,null,null,"CO"]
["VOC",null,null,null,null,null,null,null,null,null,null,null,null,"VOC"]
["Individual HAP",null,null,null,null,null,null,null,null,null,null,null,null,"Individual HAP"]
["  Acetaldehyde",null,null,null,null,null,null,null,null,null,null,null,null,"  Acetaldehyde"]
["  Formaldehyde",null,null,null,null,null,null,null,null,null,null,null,null,"  Formaldehyde"]
["  Acrolein",null,null,null,null,null,null,null,null,null,null,null,null,"  Acrolein"]
["  Methanol",null,null,null,null,null,null,null,null,null,null,null,null,"  Methanol"]
["  Benzene ",null,null,null,null,null,null,null,null,null,null,null,null,"  Benzene "]
["  Dichlorobenzene ",null,null,null,null,null,null,null,null,null,null,null,null,"  Dichlorobenzene "]
["  Hexane ",null,null,null,null,null,null,null,null,null,null,null,null,"  Hexane "]
["  Lead Compounds",null,null,null,null,null,null,null,null,null,null,null,null,"  Lead Compounds"]
["  Naphthalene ",null,null,null,null,null,null,null,null,null,null,null,null,"  Naphthalene "]
["  Polycyclic Organic Matter ",null,null,null,null,null,null,null,null,null,null,null,null,"  Polycyclic Organic Matter "]
["  Toluene ",null,null,null,null,null,null,null,null,null,null,null,null,"  Toluene "]
["  Arsenic Compounds",null,null,null,null,null,null,null,null,null,null,null,null,"  Arsenic Compounds"]
["  Beryllium Compounds",null,null,null,null,null,null,null,null,null,null,null,null,"  Beryllium Compounds"]
["  Cadmium Compounds",null,null,null,null,null,null,null,null,null,null,null,null,"  Cadmium Compounds"]
["  Chromium Compounds",null,null,null,null,null,null,null,null,null,null,null,null,"  Chromium Compounds"]
["  Cobalt Compounds",null,null,null,null,null,null,null,null,null,null,null,null,"  Cobalt Compounds"]
["  Manganese Compounds",null,null,null,null,null,null,null,null,null,null,null,null,"  Manganese Compounds"]
["  Mercury Compounds",null,null,null,null,null,null,null,null,null,null,null,null,"  Mercury Compounds"]
["  Nickel Compounds",null,null,null,null,null,null,null,null,null,null,null,null,"  Nickel Compounds"]
["  Selenium Compounds",null,null,null,null,null,null,null,null,null,null,null,null,"  Selenium Compounds"]
["Total HAPs",null,null,null,null,null,null,null,null,null,null,null,null,"Total HAPs"]
["GHGs",null,null,null,null,null,null,null,null,null,null,null,null,"GHGs"]
["  Carbon Dioxide (CO2)",null,null,null,null,null,null,null,null,null,null,null,null,"  Carbon Dioxide (CO2)"]
["  Methane (CH4)",null,null,null,null,null,null,null,null,null,null,null,null,"  Methane (CH4)"]
["  Nitrous Oxide (N2O)",null,null,null,null,null,null,null,null,null,null,null,null,"  Nitrous Oxide (N2O)"]
["* If the fermenter is followed by a scrubber, this will be the scrubber emissions. If more than one fermenter are routed ot the same scrubber, please, include only the scrubber emissions and leave the fermenters blank"]

{"sheet":"8) DDGS Dryer","index":7,"n_rows":113,"n_cols":25,"rows_kept":113,"cut":false,"hidden":false,"merged":[[110,0,110,1],[111,0,111,1],[112,0,112,1],[78,0,78,6],[105,0,105,1],[106,0,106,1],[107,0,107,1],[108,0,108,1],[109,0,109,1],[100,0,100,1],[101,0,101,1],[102,0,102,1],[103,0,103,1],[104,0,104,1],[95,0,95,1],[96,0,96,1],[97,0,97,1],[98,0,98,1],[99,0,99,1],[89,0,89,1],[90,0,90,1],[91,0,91,1],[92,0,92,1],[93,0,93,1],[94,0,94,1],[75,0,75,1],[69,0,69,1],[70,0,70,1],[71,0,71,1],[72,0,72,1],[74,0,74,1],[73,0,73,1],[67,0,67,1],[76,0,76,1],[80,0,80,1],[81,0,81,1],[82,0,82,1],[83,0,83,1],[84,0,84,1],[85,0,85,1],[86,0,86,1],[88,0,88,1],[68,0,68,1],[47,13,47,14],[48,13,48,14],[61,13,61,14],[49,13,49,14],[42,0,42,6],[52,0,52,1],[44,0,44,1],[45,0,45,1],[46,0,46,1],[54,13,54,14],[56,0,56,1],[60,13,60,14],[62,0,62,1],[63,0,63,1],[64,0,64,1],[47,0,47,1],[48,0,48,1],[49,0,49,1],[5,11,5,14],[6,3,6,6],[6,11,6,14],[7,0,7,2],[7,3,7,5],[7,11,7,13],[7,8,7,10],[11,0,11,2],[11,3,11,5],[11,8,11,10],[11,11,11,13],[9,8,9,10],[9,3,9,5],[9,11,9,13],[9,0,9,2],[44,13,44,14],[45,13,45,14],[46,13,46,14],[70,13,70,14],[71,13,71,14],[72,13,72,14],[73,13,73,14],[74,13,74,14],[65,13,65,14],[66,13,66,14],[67,13,67,14],[68,13,68,14],[69,13,69,14],[65,0,65,1],[66,0,66,1],[53,0,53,1],[54,0,54,1],[55,0,55,1],[38,0,40,5],[38,8,40,13],[55,13,55,14],[56,13,56,14],[57,13,57,14],[62,13,62,14],[63,13,63,14],[64,13,64,14],[50,0,50,1],[57,0,57,1],[58,0,58,1],[59,0,59,1],[60,0,60,1],[61,0,61,1],[58,13,58,14],[59,13,59,14],[50,13,50,14],[52,13,52,14],[53,13,53,14],[92,13,92,14],[93,13,93,14],[83,13,83,14],[84,13,84,14],[85,13,85,14],[86,13,86,14],[88,13,88,14],[75,13,75,14],[76,13,76,14],[80,13,80,14],[81,13,81,14],[82,13,82,14],[7,18,8,18],[7,19,8,19],[109,13,109,14],[110,13,110,14],[111,13,111,14],[112,13,112,14],[104,13,104,14],[105,13,105,14],[106,13,106,14],[107,13,107,14],[108,13,108,14],[99,13,99,14],[100,13,100,14],[101,13,101,14],[102,13,102,14],[103,13,103,14],[94,13,94,14],[95,13,95,14],[96,13,96,14],[97,13,97,14],[98,13,98,14],[89,13,89,14],[90,13,90,14],[91,13,91,14]]}
[null,null,null,null,null,null,null,null,null,null,null,null,null,null,null,null,"Essential Unit Conversion"]
["Universal Calculation Spreadsheets applicable for the Emissions of Ethanol Industry"]
["DDGS Dryer",null,null,null,null,null,null,null,null,null,null,null,null,null,null,null,"From ",null,"To"]
[null,null,null,null,null,null,null,null,null,null,null,null,null,null,null,null,null,"MMSCF",{"$f":"Q4*1020","v":0},"MMBtu"]
["Please, enter information describing the DDGS Dryer"]
[null,null,null,null,null,null,null,null,null,null,null,null,null,null,null,null,null,"lb/MMSCF",{"$f":"Q6/1020","v":0},"lb/MMBtu"]
[null,null,null,"Current Capacity",null,null,null,null,null,null,null,"Maximum Proposed Capacity"]
[{"$f":"'2) Production Rates'!B15","v":"Dry Distilled Grain Soluble (DDGS) - 15% H2O"},null,null,{"$f":"'2) Production Rates'!C15","v":0},null,null,{"$f":"'2) Production Rates'!D15","v":"tons/year"},null,{"$f":"'2) Production Rates'!B15","v":"Dry Distilled Grain Soluble (DDGS) - 15% H2O"},null,null,{"$f":"'2) Production Rates'!E15","v":0},null,null,{"$f":"'2) Production Rates'!F15","v":"tons/year"},null,null,"lb/hr",{"$f":"Q8/Q9","v":0},"lb/MMBtu"]
[null,null,null,null,null,null,null,null,null,null,null,null,null,null,null,null,1,"MMBtu/hr"]
["Number of DDGS Dryer",null,null,null,null,null,"Units",null,"Number of DDGS Dryer",null,null,null,null,null,"Units"]
[]
["Number of RTO",null,null,null,null,null,"Units",null,"Number of RTO",null,null,null,null,null,"Units"]
[]
["Please, enter information describing specific DDGS dryer properties"]
[null,"ID","Emission Unit Name","Capacity, tons/hr","Control Type*","Maximum Rated Capacity, MMBtu/hr","Control type","Maximum permitted annual throughput, ton/yr",null,"ID","Emission Unit Name","Capacity, tons/hr","Control Type*","Maximum Rated Capacity, MMBtu/hr","Control type","Maximum permitted annual throughput, ton/yr"]
["1st Dryer",null,null,null,null,null,null,null,"1st Dryer"]
["2nd Dryer",null,null,null,null,null,null,null,"2nd Dryer"]
["3rd Dryer",null,null,null,null,null,null,null,"3rd Dryer"]
["4th Dryer",null,null,null,null,null,null,null,"4th Dryer"]
["5th Dryer",null,null,null,null,null,null,null,"5th Dryer"]
["6th Dryer",null,null,null,null,null,null,null,"6th Dryer"]
["7th Dryer",null,null,null,null,null,null,null,"7th Dryer"]
["8th Dryer",null,null,null,null,null,null,null,"8th Dryer"]
["9th Dryer",null,null,null,null,null,null,null,"9th Dryer"]
["10th Dryer",null,null,null,null,null,null,null,"10th Dryer"]
["* If the dryer is controlled by an RTO, please, enter its Maximum Rated Capacity in MMBtu/hr equals zero and indicate its actual capacity to the permit writer seperatly. Additionally, please include the combined emissions of the dryer and the RTO in the Ferm Tab under RTO emission factors. "]
["Please, enter information describing specific RTOs",null,null,null,null,null,null,null,"Please, enter information describing specific RTOs"]
[null,"ID","Emission Unit Name","Maximum Rated Capacity, MMBtu/hr","Control Type","NSPS*","Hourly limit, hr/yr (If applicable)",null,null,"ID","Emission Unit Name","Maximum Rated Capacity, MMBtu/hr","Control Type","NSPS*","Hourly limit, hr/yr (If applicable)"]
["1st RTO",null,null,null,null,null,null,null,"1st RTO"]
["2nd RTO",null,null,null,null,null,null,null,"2nd RTO"]
["3rd RTO",null,null,null,null,null,null,null,"3rd RTO"]
["4th RTO",null,null,null,null,null,null,null,"4th RTO"]
["5th RTO",null,null,null,null,null,null,null,"5th RTO"]
["6th RTO",null,null,null,null,null,null,null,"6th RTO"]
["7th RTO",null,null,null,null,null,null,null,"7th RTO"]
["8th RTO",null,null,null,null,null,null,null,"8th RTO"]
["9th RTO",null,null,null,null,null,null,null,"9th RTO"]
["10th RTO",null,null,null,null,null,null,null,"10th RTO"]
["* Post-NSPS units are boilers with greater than 250 MMBtu/hr of heat input that commenced construction modification, or reconstruction after August 17, 1971, and units with heat input capacities between 100 and 250 MMBtu/hr that commenced construction modification, or reconstruction after June 19, 1984. ",null,null,null,null,null,null,null,"* Post-NSPS units are boilers with greater than 250 MMBtu/hr of heat input that commenced construction modification, or reconstruction after August 17, 1971, and units with heat input capacities between 100 and 250 MMBtu/hr that commenced construction modification, or reconstruction after June 19, 1984. "]
[]
[]
[]
["Please, enter information describing specific permit limits or source specific emissions. If the limit or data are in other units, please, convert them to lb/MMBtu"]
[null,null,"1st Dryer Limit (lb/MMBtu)","2nd Dryer Limit (lb/MMBtu)","3rd Dryer Limit (lb/MMBtu)","4th Dryer Limit (lb/MMBtu)","5th Dryer Limit (lb/MMBtu)","6th Dryer Limit (lb/MMBtu)","7th Dryer Limit (lb/MMBtu)","8th Dryer Limit (lb/MMBtu)","9th Dryer Limit (lb/MMBtu)","10th Dryer Limit (lb/MMBtu)",null,null,null,"1st RTO emission factors, lb/MMBtu","2nd RTO emission factors, lb/MMBtu","3rd RTO emission factors, lb/MMBtu","4th RTO emission factors, lb/MMBtu","5th RTO emission factors, lb/MMBtu","6th RTO emission factors, lb/MMBtu","7th RTO emission factors, lb/MMBtu","8th RTO emission factors, lb/MMBtu","9th RTO emission factors, lb/MMBtu","10th RTO emission factors, lb/MMBtu"]
["PMfilterable",null,null,null,null,null,null,null,null,null,null,null,null,"PMfilterable"]
["PM10",null,null,null,null,null,null,null,null,null,null,null,null,"PM10"]
["PM2.5",null,null,null,null,null,null,null,null,null,null,null,null,"PM2.5"]
["SO2",null,null,null,null,null,null,null,null,null,null,null,null,"SO2"]
["NOx",null,null,null,null,null,null,null,null,null,null,null,null,"NOx"]
["CO",null,null,null,null,null,null,null,null,null,null,null,null,"CO"]
["VOC",null,null,null,null,null,null,null,null,null,null,null,null,"VOC"]
["Individual HAP",null,null,null,null,null,null,null,null,null,null,null,null,"Individual HAP"]
["  Acetaldehyde",null,null,null,null,null,null,null,null,null,null,null,null,"  Acetaldehyde"]
["  Formaldehyde",null,null,null,null,null,null,null,null,null,null,null,null,"  Formaldehyde"]
["  Acrolein",null,null,null,null,null,null,null,null,null,null,null,null,"  Acrolein"]
["  Methanol",null,null,null,null,null,null,null,null,null,null,null,null,"  Methanol"]
["  Benzene ",null,null,null,null,null,null,null,null,null,null,null,null,"  Benzene "]
["  Dichlorobenzene ",null,null,null,null,null,null,null,null,null,null,null,null,"  Dichlorobenzene "]
["  Hexane ",null,null,null,null,null,null,null,null,null,null,null,null,"  Hexane "]
["  Lead Compounds",null,null,null,null,null,null,null,null,null,null,null,null,"  Lead Compounds"]
["  Naphthalene ",null,null,null,null,null,null,null,null,null,null,null,null,"  Naphthalene "]
["  Polycyclic Organic Matter ",null,null,null,null,null,null,null,null,null,null,null,null,"  Polycyclic Organic Matter "]
["  Toluene ",null,null,null,null,null,null,null,null,null,null,null,null,"  Toluene "]
["  Arsenic Compounds",null,null,null,null,null,null,null,null,null,null,null,null,"  Arsenic Compounds"]
["  Beryllium Compounds",null,null,null,null,null,null,null,null,null,null,null,null,"  Beryllium Compounds"]
["  Cadmium Compounds",null,null,null,null,null,null,null,null,null,null,null,null,"  Cadmium Compounds"]
["  Chromium Compounds",null,null,null,null,null,null,null,null,null,null,null,null,"  Chromium Compounds"]
["  Cobalt Compounds",null,null,null,null,null,null,null,null,null,null,null,null,"  Cobalt Compounds"]
["  Manganese Compounds",null,null,null,null,null,null,null,null,null,null,null,null,"  Manganese Compounds"]
["  Mercury Compounds",null,null,null,null,null,null,null,null,null,null,null,null,"  Mercury Compounds"]
["  Nickel Compounds",null,null,null,null,null,null,null,null,null,null,null,null,"  Nickel Compounds"]
["  Selenium Compounds",null,null,null,null,null,null,null,null,null,null,null,null,"  Selenium Compounds"]
["Total HAPs",null,null,null,null,null,null,null,null,null,null,null,null,"Total HAPs"]
["GHGs",null,null,null,null,null,null,null,null,null,null,null,null,"GHGs"]
["  Carbon Dioxide (CO2)",null,null,null,null,null,null,null,null,null,null,null,null,"  Carbon Dioxide (CO2)"]
["  Methane (CH4)",null,null,null,null,null,null,null,null,null,null,null,null,"  Methane (CH4)"]
["  Nitrous Oxide (N2O)",null,null,null,null,null,null,null,null,null,null,null,null,"  Nitrous Oxide (N2O)"]
[]
["Please, enter information describing specific permit limits or source specific emissions. If the limit or data are in other units, please, convert them to lb/MMBtu"]
[null,null,"1st Dryer Limit (lb/MMBtu)","2nd Dryer Limit (lb/MMBtu)","3rd Dryer Limit (lb/MMBtu)","4th Dryer Limit (lb/MMBtu)","5th Dryer Limit (lb/MMBtu)","6th Dryer Limit (lb/MMBtu)","7th Dryer Limit (lb/MMBtu)","8th Dryer Limit (lb/MMBtu)","9th Dryer Limit (lb/MMBtu)","10th Dryer Limit (lb/MMBtu)",null,null,null,"1st RTO emission factors, lb/MMBtu","2nd RTO emission factors, lb/MMBtu","3rd RTO emission factors, lb/MMBtu","4th RTO emission factors, lb/MMBtu","5th RTO emission factors, lb/MMBtu","6th RTO emission factors, lb/MMBtu","7th RTO emission factors, lb/MMBtu","8th RTO emission factors, lb/MMBtu","9th RTO emission factors, lb/MMBtu","10th RTO emission factors, lb/MMBtu"]
["PMfilterable",null,null,null,null,null,null,null,null,null,null,null,null,"PMfilterable"]
["PM10",null,null,null,null,null,null,null,null,null,null,null,null,"PM10"]
["PM2.5",null,null,null,null,null,null,null,null,null,null,null,null,"PM2.5"]
["SO2",null,null,null,null,null,null,null,null,null,null,null,null,"SO2"]
["NOx",null,null,null,null,null,null,null,null,null,null,null,null,"NOx"]
["CO",null,null,null,null,null,null,null,null,null,null,null,null,"CO"]
["VOC",null,null,null,null,null,null,null,null,null,null,null,null,"VOC"]
["Individual HAP",null,null,null,null,null,null,null,null,null,null,null,null,"Individual HAP"]
["  Acetaldehyde",null,null,null,null,null,null,null,null,null,null,null,null,"  Acetaldehyde"]
["  Formaldehyde",null,null,null,null,null,null,null,null,null,null,null,null,"  Formaldehyde"]
["  Acrolein",null,null,null,null,null,null,null,null,null,null,null,null,"  Acrolein"]
["  Methanol",null,null,null,null,null,null,null,null,null,null,null,null,"  Methanol"]
["  Benzene ",null,null,null,null,null,null,null,null,null,null,null,null,"  Benzene "]
["  Dichlorobenzene ",null,null,null,null,null,null,null,null,null,null,null,null,"  Dichlorobenzene "]
["  Hexane ",null,null,null,null,null,null,null,null,null,null,null,null,"  Hexane "]
["  Lead Compounds",null,null,null,null,null,null,null,null,null,null,null,null,"  Lead Compounds"]
["  Naphthalene ",null,null,null,null,null,null,null,null,null,null,null,null,"  Naphthalene "]
["  Polycyclic Organic Matter ",null,null,null,null,null,null,null,null,null,null,null,null,"  Polycyclic Organic Matter "]
["  Toluene ",null,null,null,null,null,null,null,null,null,null,null,null,"  Toluene "]
["  Arsenic Compounds",null,null,null,null,null,null,null,null,null,null,null,null,"  Arsenic Compounds"]
["  Beryllium Compounds",null,null,null,null,null,null,null,null,null,null,null,null,"  Beryllium Compounds"]
["  Cadmium Compounds",null,null,null,null,null,null,null,null,null,null,null,null,"  Cadmium Compounds"]
["  Chromium Compounds",null,null,null,null,null,null,null,null,null,null,null,null,"  Chromium Compounds"]
["  Cobalt Compounds",null,null,null,null,null,null,null,null,null,null,null,null,"  Cobalt Compounds"]
["  Manganese Compounds",null,null,null,null,null,null,null,null,null,null,null,null,"  Manganese Compounds"]
["  Mercury Compounds",null,null,null,null,null,null,null,null,null,null,null,null,"  Mercury Compounds"]
["  Nickel Compounds",null,null,null,null,null,null,null,null,null,null,null,null,"  Nickel Compounds"]
["  Selenium Compounds",null,null,null,null,null,null,null,null,null,null,null,null,"  Selenium Compounds"]
["Total HAPs",null,null,null,null,null,null,null,null,null,null,null,null,"Total HAPs"]
["GHGs",null,null,null,null,null,null,null,null,null,null,null,null,"GHGs"]
["  Carbon Dioxide (CO2)",null,null,null,null,null,null,null,null,null,null,null,null,"  Carbon Dioxide (CO2)"]
["  Methane (CH4)",null,null,null,null,null,null,null,null,null,null,null,null,"  Methane (CH4)"]
["  Nitrous Oxide (N2O)",null,null,null,null,null,null,null,null,null,null,null,null,"  Nitrous Oxide (N2O)"]

{"sheet":"9) Solids Loadout","index":8,"n_rows":23,"n_cols":15,"rows_kept":23,"cut":false,"hidden":false,"merged":[[7,0,7,2],[7,3,7,5],[7,11,7,13],[4,11,4,14],[5,3,5,6],[5,11,5,14],[6,0,6,2],[6,3,6,5],[6,11,6,13],[6,8,6,10],[7,8,7,10],[10,0,10,2],[10,3,10,5],[10,11,10,13],[8,0,8,2],[8,3,8,5],[8,11,8,13],[8,8,8,10],[10,8,10,10]]}
[]
["Universal Calculation Spreadsheets applicable for the Emissions of Ethanol Industry"]
["Solids Loadout"]
[]
[]
[null,null,null,"Current Capacity",null,null,null,null,null,null,null,"Maximum Proposed Capacity"]
["Grain throughput based on maximum production",null,null,{"$f":"'2) Production Rates'!C16","v":0},null,null,"tons/year",null,"Grain throughput based on maximum production",null,null,{"$f":"'2) Production Rates'!E16","v":0},null,null,"tons/year"]
["Permitted DDGS throughput",null,null,{"$f":"'2) Production Rates'!C15","v":0},null,null,"tons/year",null,"Permitted DDGS throughput",null,null,{"$f":"'2) Production Rates'!E15","v":0},null,null,"tons/year"]
["Permitted WDGS throughput (including MWDGS)",null,null,{"$f":"'2) Production Rates'!C14+'2) Production Rates'!C13","v":0},null,null,"tons/year",null,"Permitted WDGS throughput (including MWDGS)",null,null,{"$f":"'2) Production Rates'!E13+'2) Production Rates'!E14","v":0},null,null,"tons/year"]
[]
["Spouts",null,null,null,null,null,"Units",null,"Spouts",null,null,null,null,null,"Units"]
[]
[null,"ID","Emission Unit Name","Maximum throughput rate (lb/hr)","Type of solids","Baghouse airflow, acfm",null,null,null,"ID","Emission Unit Name","Maximum throughput rate (lb/hr)","Type of solids","Baghouse airflow, acfm"]
["1st Spout",null,null,null,null,null,null,null,"1st Spout"]
["2nd Spout",null,null,null,null,null,null,null,"2nd Spout"]
["3rd Spout",null,null,null,null,null,null,null,"3rd Spout"]
["4th Spout",null,null,null,null,null,null,null,"4th Spout"]
["5th Spout",null,null,null,null,null,null,null,"5th Spout"]
["6th Spout",null,null,null,null,null,null,null,"6th Spout"]
["7th Spout",null,null,null,null,null,null,null,"7th Spout"]
["8th Spout",null,null,null,null,null,null,null,"8th Spout"]
["9th Spout",null,null,null,null,null,null,null,"9th Spout"]
["10th Spout",null,null,null,null,null,null,null,"10th Spout"]

{"sheet":"10) Liquid Loadout","index":9,"n_rows":28,"n_cols":16,"rows_kept":28,"cut":false,"hidden":false,"merged":[[15,1,15,3],[15,4,15,6],[15,9,15,11],[7,4,7,6],[7,9,7,11],[8,4,8,6],[8,9,8,11],[10,1,10,3],[11,1,11,3],[10,4,10,7],[11,4,11,7],[10,9,10,12],[11,9,11,12],[12,1,12,3],[12,4,12,7],[12,9,12,12],[13,1,13,3],[13,4,13,7],[13,9,13,12],[4,9,4,12],[5,4,5,7],[5,9,5,12],[6,1,6,3],[6,4,6,6],[6,9,6,11]]}
[]
["Universal Calculation Spreadsheets applicable for the Emissions of Ethanol Industry"]
["Liquid Loadout and Vapor Recovery"]
[]
[]
[null,"Questions",null,null,"Current Capacity",null,null,null,null,"Maximum Proposed Capacity"]
[null,"Anhydrous Ethanol",null,null,{"$f":"'2) Production Rates'!C12","v":0},null,null,"MMgal/yr",null,{"$f":"'2) Production Rates'!E12","v":0},null,null,"MMgal/yr"]
[null,"Denaturant",null,null,{"$f":"E9-E7","v":0},null,null,"MMgal/yr",null,{"$f":"J9-J7","v":0},null,null,"MMgal/yr"]
[null,"Denatured Ethanol",null,null,{"$f":"'2) Production Rates'!C10","v":0},null,null,"MMgal/yr",null,{"$f":"'2) Production Rates'!E10","v":0},null,null,"MMgal/yr"]
[]
[null,"Type of Loadout",null,null,"Truck"]
[null,"Loading Type"]
[null,"Truck loadout throughput limitation, MMgal/yr"]
[null,"Rail loadout throughput limitation, MMgal/yr"]
[]
[null,"Number of Flares",null,null,2,null,null,"Units",null,null,null,null,"Units"]
[]
[null,null,"ID","Emission Unit Name","Throughput controlled (Mmgal/yr)","Maximum flare rated capacity (MMBtu/hr)","Maximum pilot rated capacity (MMBtu/hr)","Operating hours limits (hr)",null,null,"ID","Emission Unit Name","Throughput controlled (Mmgal/yr)","Maximum flare rated capacity (MMBtu/hr)","Maximum pilot rated capacity (MMBtu/hr)","Operating hours limits (hr)"]
[null,"1st Flare",null,null,null,null,null,null,null,"1st Flare"]
[null,"2nd Flare",null,null,null,null,null,null,null,"2nd Flare"]
[null,"3rd Flare",null,null,null,null,null,null,null,"3rd Flare"]
[null,"4th Flare",null,null,null,null,null,null,null,"4th Flare"]
[null,"5th Flare",null,null,null,null,null,null,null,"5th Flare"]
[null,"6th Flare",null,null,null,null,null,null,null,"6th Flare"]
[null,"7th Flare",null,null,null,null,null,null,null,"7th Flare"]
[null,"8th Flare",null,null,null,null,null,null,null,"8th Flare"]
[null,"9th Flare",null,null,null,null,null,null,null,"9th Flare"]
[null,"10th Flare",null,null,null,null,null,null,null,"10th Flare"]

{"sheet":"11) Tanks","index":10,"n_rows":52,"n_cols":31,"rows_kept":52,"cut":false,"hidden":false,"merged":[[39,1,39,3],[39,6,39,8],[6,0,6,2],[6,3,6,5],[6,8,6,10],[20,20,20,21],[20,22,20,28],[20,29,20,30],[4,8,4,11],[5,3,5,6],[5,8,5,11],[6,22,6,28],[6,29,6,30],[6,20,6,21]]}
[]
["Universal Calculation Spreadsheets applicable for the Emissions of Ethanol Industry"]
["Tanks"]
[]
[]
[null,null,null,"Current Capacity",null,null,null,null,"Maximum Proposed Capacity"]
["Tanks",null,null,null,null,null,"Units",null,null,null,null,"Units",null,null,null,null,null,null,null,"Material","Anhydrous Ethanol",null,"Denaturant",null,null,null,null,null,null,"Corrosion Inhibitor"]
[null,null,null,null,null,null,null,null,null,null,null,null,null,null,null,null,null,null,null,"HAP Weight Fraction",1.29E-2,1.8E-3,2.8999999999999998E-3,2.0000000000000002E-5,1E-4,5.0000000000000002E-5,1.21E-2,1.8E-3,5.0000000000000001E-4,0.25,0.1]
[null,"ID","Emission Unit Name","Tank Content","Maximum Tank Capacity (Gal)","Maximum Working Volume (Gal)","Throughput (Gal/yr)","Turnovers","Height (ft)","Length (ft)","Diameter (ft)","Tank Orientation","Tank Location","Type of Tank","Type of Primary Seal","VOC, lb/ yr",null,"Amount of VOC from Ethanol","Amount of VOC from Denaturant","Hazardous Air \nPollutant","Acetaldehyde","Methanol","Benzene","Carbon disulfide","Cumene","Ethyl Benzene","n-Hexane","Toluene","Xylenes","Methanol","Xylenes"]
["1st Tank",null,null,null,null,null,null,null,null,null,null,null,null,null,null,null,null,{"$f":"IF(D10=Datasets!$R$2,P10,IF(D10=Datasets!$R$4,0.95*P10,0))","v":0},{"$f":"IF(D10=Datasets!$R$3,P10,IF(D10=Datasets!$R$4,0.05*P10,0))","v":0},null,{"$f":"R10*U$8","v":0},{"$f":"R10*V$8","v":0},{"$f":"S10*W$8","v":0},{"$f":"S10*X$8","v":0},{"$f":"S10*Y$8","v":0},{"$f":"S10*Z$8","v":0},{"$f":"S10*AA$8","v":0},{"$f":"S10*AB$8","v":0},{"$f":"S10*AC$8","v":0},{"$f":"(P10-R10-S10)*AD$8","v":0},{"$f":"(P10-R10-S10)*AE$8","v":0}]
["2nd Tank",null,null,null,null,null,null,null,null,null,null,null,null,null,null,null,null,{"$f":"IF(D11=Datasets!$R$2,P11,IF(D11=Datasets!$R$4,0.95*P11,0))","v":0},{"$f":"IF(D11=Datasets!$R$3,P11,IF(D11=Datasets!$R$4,0.05*P11,0))","v":0},null,0,0,0,0,0,0,0,0,0,0,0]
["3rd Tank",null,null,null,null,null,null,null,null,null,null,null,null,null,null,null,null,{"$f":"IF(D12=Datasets!$R$2,P12,IF(D12=Datasets!$R$4,0.95*P12,0))","v":0},{"$f":"IF(D12=Datasets!$R$3,P12,IF(D12=Datasets!$R$4,0.05*P12,0))","v":0},null,0,0,0,0,0,0,0,0,0,0,0]
["4th Tank",null,null,null,null,null,null,null,null,null,null,null,null,null,null,null,null,{"$f":"IF(D13=Datasets!$R$2,P13,IF(D13=Datasets!$R$4,0.95*P13,0))","v":0},{"$f":"IF(D13=Datasets!$R$3,P13,IF(D13=Datasets!$R$4,0.05*P13,0))","v":0},null,0,0,0,0,0,0,0,0,0,0,0]
["5th Tank",null,null,null,null,null,null,null,null,null,null,null,null,null,null,null,null,{"$f":"IF(D14=Datasets!$R$2,P14,IF(D14=Datasets!$R$4,0.95*P14,0))","v":0},{"$f":"IF(D14=Datasets!$R$3,P14,IF(D14=Datasets!$R$4,0.05*P14,0))","v":0},null,0,0,0,0,0,0,0,0,0,0,0]
["6th Tank",null,null,null,null,null,null,null,null,null,null,null,null,null,null,null,null,{"$f":"IF(D15=Datasets!$R$2,P15,IF(D15=Datasets!$R$4,0.95*P15,0))","v":0},{"$f":"IF(D15=Datasets!$R$3,P15,IF(D15=Datasets!$R$4,0.05*P15,0))","v":0},null,0,0,0,0,0,0,0,0,0,0,0]
["7th Tank",null,null,null,null,null,null,null,null,null,null,null,null,null,null,null,null,{"$f":"IF(D16=Datasets!$R$2,P16,IF(D16=Datasets!$R$4,0.95*P16,0))","v":0},{"$f":"IF(D16=Datasets!$R$3,P16,IF(D16=Datasets!$R$4,0.05*P16,0))","v":0},null,0,0,0,0,0,0,0,0,0,0,0]
["8th Tank",null,null,null,null,null,null,null,null,null,null,null,null,null,null,null,null,{"$f":"IF(D17=Datasets!$R$2,P17,IF(D17=Datasets!$R$4,0.95*P17,0))","v":0},{"$f":"IF(D17=Datasets!$R$3,P17,IF(D17=Datasets!$R$4,0.05*P17,0))","v":0},null,0,0,0,0,0,0,0,0,0,0,0]
["9th Tank",null,null,null,null,null,null,null,null,null,null,null,null,null,null,null,null,{"$f":"IF(D18=Datasets!$R$2,P18,IF(D18=Datasets!$R$4,0.95*P18,0))","v":0},{"$f":"IF(D18=Datasets!$R$3,P18,IF(D18=Datasets!$R$4,0.05*P18,0))","v":0},null,0,0,0,0,0,0,0,0,0,0,0]
["10th Tank",null,null,null,null,null,null,null,null,null,null,null,null,null,null,null,null,{"$f":"IF(D19=Datasets!$R$2,P19,IF(D19=Datasets!$R$4,0.95*P19,0))","v":0},{"$f":"IF(D19=Datasets!$R$3,P19,IF(D19=Datasets!$R$4,0.05*P19,0))","v":0},null,0,0,0,0,0,0,0,0,0,0,0]
[]
[null,null,null,null,null,null,null,null,null,null,null,null,null,null,null,null,null,null,null,"Material","Anhydrous Ethanol",null,"Denaturant",null,null,null,null,null,null,"Corrosion Inhibitor"]
[null,null,null,null,null,null,null,null,null,null,null,null,null,null,null,null,null,null,null,"HAP Weight Fraction",1.29E-2,1.8E-3,2.8999999999999998E-3,2.0000000000000002E-5,1E-4,5.0000000000000002E-5,1.21E-2,1.8E-3,5.0000000000000001E-4,0.25,0.1]
[null,"ID","Emission Unit Name","Tank Content","Maximum Tank Capacity (Gal)","Maximum Working Volume (Gal)","Throughput (Gal/yr)","Turnovers","Height (ft)","Length (ft)","Diameter (ft)","Tank Orientation","Tank Location","Type of Tank","Type of Primary Seal","VOC, lb/yr",null,"Amount of VOC from Ethanol","Amount of VOC from Denaturant","Hazardous Air \nPollutant","Acetaldehyde","Methanol","Benzene","Carbon disulfide","Cumene","Ethyl Benzene","n-Hexane","Toluene","Xylenes","Methanol","Xylenes"]
["1st Tank",null,null,null,null,null,null,null,null,null,null,null,null,null,null,null,null,{"$f":"IF(D24=Datasets!$R$2,P24,IF(D24=Datasets!$R$4,0.95*P24,0))","v":0},{"$f":"IF(D24=Datasets!$R$3,P24,IF(D24=Datasets!$R$4,0.05*P24,0))","v":0},null,{"$f":"R24*U$8","v":0},{"$f":"R24*V$8","v":0},{"$f":"S24*W$8","v":0},{"$f":"S24*X$8","v":0},{"$f":"S24*Y$8","v":0},{"$f":"S24*Z$8","v":0},{"$f":"S24*AA$8","v":0},{"$f":"S24*AB$8","v":0},{"$f":"S24*AC$8","v":0},{"$f":"(P24-R24-S24)*AD$8","v":0},{"$f":"(P24-R24-S24)*AE$8","v":0}]
["2nd Tank",null,null,null,null,null,null,null,null,null,null,null,null,null,null,null,null,{"$f":"IF(D25=Datasets!$R$2,P25,IF(D25=Datasets!$R$4,0.95*P25,0))","v":0},{"$f":"IF(D25=Datasets!$R$3,P25,IF(D25=Datasets!$R$4,0.05*P25,0))","v":0},null,0,0,0,0,0,0,0,0,0,0,0]
["3rd Tank",null,null,null,null,null,null,null,null,null,null,null,null,null,null,null,null,{"$f":"IF(D26=Datasets!$R$2,P26,IF(D26=Datasets!$R$4,0.95*P26,0))","v":0},{"$f":"IF(D26=Datasets!$R$3,P26,IF(D26=Datasets!$R$4,0.05*P26,0))","v":0},null,0,0,0,0,0,0,0,0,0,0,0]
["4th Tank",null,null,null,null,null,null,null,null,null,null,null,null,null,null,null,null,{"$f":"IF(D27=Datasets!$R$2,P27,IF(D27=Datasets!$R$4,0.95*P27,0))","v":0},{"$f":"IF(D27=Datasets!$R$3,P27,IF(D27=Datasets!$R$4,0.05*P27,0))","v":0},null,0,0,0,0,0,0,0,0,0,0,0]
["5th Tank",null,null,null,null,null,null,null,null,null,null,null,null,null,null,null,null,{"$f":"IF(D28=Datasets!$R$2,P28,IF(D28=Datasets!$R$4,0.95*P28,0))","v":0},{"$f":"IF(D28=Datasets!$R$3,P28,IF(D28=Datasets!$R$4,0.05*P28,0))","v":0},null,0,0,0,0,0,0,0,0,0,0,0]
["6th Tank",null,null,null,null,null,null,null,null,null,null,null,null,null,null,null,null,{"$f":"IF(D29=Datasets!$R$2,P29,IF(D29=Datasets!$R$4,0.95*P29,0))","v":0},{"$f":"IF(D29=Datasets!$R$3,P29,IF(D29=Datasets!$R$4,0.05*P29,0))","v":0},null,0,0,0,0,0,0,0,0,0,0,0]
["7th Tank",null,null,null,null,null,null,null,null,null,null,null,null,null,null,null,null,{"$f":"IF(D30=Datasets!$R$2,P30,IF(D30=Datasets!$R$4,0.95*P30,0))","v":0},{"$f":"IF(D30=Datasets!$R$3,P30,IF(D30=Datasets!$R$4,0.05*P30,0))","v":0},null,0,0,0,0,0,0,0,0,0,0,0]
["8th Tank",null,null,null,null,null,null,null,null,null,null,null,null,null,null,null,null,{"$f":"IF(D31=Datasets!$R$2,P31,IF(D31=Datasets!$R$4,0.95*P31,0))","v":0},{"$f":"IF(D31=Datasets!$R$3,P31,IF(D31=Datasets!$R$4,0.05*P31,0))","v":0},null,0,0,0,0,0,0,0,0,0,0,0]
["9th Tank",null,null,null,null,null,null,null,null,null,null,null,null,null,null,null,null,{"$f":"IF(D32=Datasets!$R$2,P32,IF(D32=Datasets!$R$4,0.95*P32,0))","v":0},{"$f":"IF(D32=Datasets!$R$3,P32,IF(D32=Datasets!$R$4,0.05*P32,0))","v":0},null,0,0,0,0,0,0,0,0,0,0,0]
["10th Tank",null,null,null,null,null,null,null,null,null,null,null,null,null,null,null,null,{"$f":"IF(D33=Datasets!$R$2,P33,IF(D33=Datasets!$R$4,0.95*P33,0))","v":0},{"$f":"IF(D33=Datasets!$R$3,P33,IF(D33=Datasets!$R$4,0.05*P33,0))","v":0},null,0,0,0,0,0,0,0,0,0,0,0]
[]
[]
[]
[]
[]
[]
[null,"Total Individual HAPs",null,null,null,null,"Total Individual HAPs"]
[null,"lb/year","lb/hr","tons/yr",null,null,"lb/year","lb/hr","tons/yr"]
["VOC",{"$f":"SUM(P10:P19)","v":0},{"$f":"B42/8760","v":0},{"$f":"B42/2000","v":0},null,"VOC",{"$f":"SUM(P24:P33)","v":0},{"$f":"G42/8760","v":0},{"$f":"G42/2000","v":0}]
["Acetaldehyde",{"$f":"SUM(U10:U19)","v":0},{"$f":"B43/8760","v":0},{"$f":"B43/2000","v":0},null,"Acetaldehyde",{"$f":"SUM(U24:U33)","v":0},{"$f":"G43/8760","v":0},{"$f":"G43/2000","v":0}]
["Methanol",{"$f":"SUM(V10:V19)+SUM(AD10:AD19)","v":0},0,0,null,"Methanol",{"$f":"SUM(V24:V33)+SUM(AD24:AD33)","v":0},0,0]
["Benzene",{"$f":"SUM(W10:W19)","v":0},0,0,null,"Benzene",{"$f":"SUM(W24:W33)","v":0},0,0]
["Carbon disulfide",{"$f":"SUM(X10:X19)","v":0},0,0,null,"Carbon disulfide",{"$f":"SUM(X24:X33)","v":0},0,0]
["Cumene",{"$f":"SUM(Y10:Y19)","v":0},0,0,null,"Cumene",{"$f":"SUM(Y24:Y33)","v":0},0,0]
["Ethyl Benzene",{"$f":"SUM(Z10:Z19)","v":0},0,0,null,"Ethyl Benzene",{"$f":"SUM(Z24:Z33)","v":0},0,0]
["n-Hexane",{"$f":"SUM(AA10:AA19)","v":0},0,0,null,"n-Hexane",{"$f":"SUM(AA24:AA33)","v":0},0,0]
["Toluene",{"$f":"SUM(AB10:AB19)","v":0},0,0,null,"Toluene",{"$f":"SUM(AB24:AB33)","v":0},0,0]
["Xylenes",{"$f":"SUM(AC10:AC19)+SUM(AE10:AE19)","v":0},0,0,null,"Xylenes",{"$f":"SUM(AC24:AC33)+SUM(AE24:AE33)","v":0},0,0]
["Total",{"$f":"SUM(B43:B51)","v":0},0,{"$f":"B52/2000","v":0},null,"Total",{"$f":"SUM(G43:G51)","v":0},0,{"$f":"G52/2000","v":0}]

{"sheet":"12) Haul Roads","index":11,"n_rows":50,"n_cols":38,"rows_kept":50,"cut":false,"hidden":false,"merged":[[43,20,43,22],[44,20,44,22],[45,20,45,22],[46,20,46,22],[47,20,47,22],[48,20,48,22],[37,20,37,22],[38,20,38,22],[39,20,39,22],[40,20,40,22],[41,20,41,22],[42,20,42,22],[30,20,30,22],[30,23,30,24],[30,33,30,34],[30,37,30,38],[31,35,31,36],[33,23,35,25],[33,26,35,28],[28,20,28,22],[28,23,28,24],[28,33,28,34],[28,37,28,38],[29,20,29,22],[29,23,29,24],[29,33,29,34],[29,37,29,38],[27,20,27,22],[27,23,27,24],[27,33,27,34],[27,37,27,38],[24,20,24,22],[24,23,24,24],[24,33,24,34],[24,37,24,38],[25,20,25,22],[25,23,25,24],[25,33,25,34],[25,37,25,38],[20,23,20,24],[20,33,20,34],[20,37,20,38],[21,20,21,22],[21,23,21,24],[21,33,21,34],[21,37,21,38],[26,20,26,22],[26,23,26,24],[26,33,26,34],[26,37,26,38],[17,35,18,36],[17,37,18,38],[19,20,19,22],[19,23,19,24],[19,33,19,34],[19,37,19,38],[26,13,26,14],[24,13,24,14],[24,17,24,18],[20,13,20,14],[19,13,19,14],[17,17,18,18],[19,17,19,18],[20,17,20,18],[23,17,23,18],[22,20,22,22],[22,23,22,24],[22,33,22,34],[22,37,22,38],[23,20,23,22],[23,23,23,24],[23,33,23,34],[23,37,23,38],[20,20,20,22],[11,33,11,34],[12,33,12,34],[13,33,13,34],[14,33,14,34],[17,20,18,22],[17,23,18,24],[17,25,18,26],[17,27,17,28],[17,29,17,31],[17,32,18,32],[17,33,18,34],[48,0,48,2],[21,3,21,4],[22,3,22,4],[23,3,23,4],[25,3,25,4],[24,0,24,2],[29,0,29,2],[43,0,43,2],[25,0,25,2],[47,0,47,2],[46,0,46,2],[44,0,44,2],[45,0,45,2],[33,3,35,5],[30,3,30,4],[29,17,29,18],[33,6,35,8],[37,0,37,2],[38,0,38,2],[39,0,39,2],[21,0,21,2],[27,0,27,2],[42,0,42,2],[40,0,40,2],[41,0,41,2],[31,15,31,16],[28,0,28,2],[30,0,30,2],[30,13,30,14],[23,13,23,14],[30,17,30,18],[26,17,26,18],[21,17,21,18],[27,17,27,18],[28,17,28,18],[25,17,25,18],[22,17,22,18],[23,0,23,2],[27,3,27,4],[17,0,18,2],[17,5,18,6],[17,7,17,8],[17,9,17,11],[17,3,18,4],[19,3,19,4],[20,3,20,4],[22,0,22,2],[29,13,29,14],[28,3,28,4],[24,3,24,4],[29,3,29,4],[26,0,26,2],[26,3,26,4],[19,0,19,2],[20,0,20,2],[11,13,11,14],[12,13,12,14],[13,13,13,14],[14,13,14,14],[17,15,18,16],[17,12,18,12],[17,13,18,14],[21,13,21,14],[28,13,28,14],[27,13,27,14],[22,13,22,14],[25,13,25,14]]}
[]
["Universal Calculation Spreadsheets applicable for the Emissions of Ethanol Industry"]
["Haul Road Emissions"]
[]
[]
[]
["Paved roads  {AP-42 Chapter 13.2.1 (1/11)}",null,null,null,null,null,null,null,"Unpaved roads  {AP-42 Chapter 13.2.2 (11/06)}",null,null,null,null,null,null,null,null,null,null,null,"Paved roads  {AP-42 Chapter 13.2.1 (1/11)}",null,null,null,null,null,null,null,"Unpaved roads  {AP-42 Chapter 13.2.2 (11/06)}"]
[]
["Equation (2):",null,null,null,null,null,null,null,"Equation (1a):",null,null,null,null,null,null,null,null,null,null,null,"Equation (2):",null,null,null,null,null,null,null,"Equation (1a):"]
[null,null,null,null,null,null,null,null,"(Modified)",null,null,null,null,null,null,null,null,null,null,null,null,null,null,null,null,null,null,null,"(Modified)"]
[]
[null,null,"k",null,null,null,null,null,null,null,"k","a","b","d",null,null,null,null,null,null,null,null,"k",null,null,null,null,null,null,null,"k","a","b","d"]
[null,"PM",1.0999999999999999E-2,null,null,null,null,null,null,"PM",4.9000000000000004,0.7,0.45,0.3,null,null,null,null,null,null,null,"PM",1.0999999999999999E-2,null,null,null,null,null,null,"PM",4.9000000000000004,0.7,0.45,0.3]
[null,"PM10",2.2000000000000001E-3,null,null,null,null,null,null,"PM10",1.5,0.9,0.45,0.5,null,null,null,null,null,null,null,"PM10",2.2000000000000001E-3,null,null,null,null,null,null,"PM10",1.5,0.9,0.45,0.5]
[null,"PM2.5",5.4000000000000001E-4,null,null,null,null,null,null,"PM2.5",0.15,0.9,0.45,0.5,null,null,null,null,null,null,null,"PM2.5",5.4000000000000001E-4,null,null,null,null,null,null,"PM2.5",0.15,0.9,0.45,0.5]
[]
["Haul Road / Traffic Parameters",null,null,null,null,null,null,null,null,null,null,null,null,null,null,null,null,null,null,null,"Haul Road / Traffic Parameters"]
["Activity / Road Description",null,null,"Input Road Type",null,"Road Type / Silt Value",null,"Roundtrip Length             (feet)",null,"Truck Weight        (tons)",null,null,"Ave. Speed (mph)","Unrestricted Maximum Throughput (units/yr)",null,"Ave. Truck Capacity (units/truck)",null,"Annual VMT",null,null,"Activity / Road Description",null,null,"Input Road Type",null,"Road Type / Silt Value",null,"Roundtrip Length             (feet)",null,"Truck Weight        (tons)",null,null,"Ave. Speed (mph)","Unrestricted Maximum Throughput (units/yr)",null,"Ave. Truck Capacity (units/truck)",null,"Annual VMT"]
[null,null,null,null,null,null,null,"empty","full","empty","full","Ave.",null,null,null,null,null,null,null,null,null,null,null,null,null,null,null,"empty","full","empty","full","Ave."]
["Grain Delivery",null,null,null,null,{"$f":"IF(D20=\"\",\"\",IF(OR(D20=Datasets!$AI$2,D20=Datasets!$AI$3,D20=Datasets!$AI$4),\"U\",\"P\"))","v":""},{"$f":"IF(D20=\"\",\"\",IF(OR(D20=Datasets!$AI$2,D20=Datasets!$AI$5),3,IF(OR(D20=Datasets!$AI$3,D20=Datasets!$AI$6),6,10)))","v":""},null,null,15,40,{"$f":"IF(H20+I20=0,\"\",(H20*J20+I20*K20)/(H20+I20))","v":""},15,null,null,28,"ton",{"$f":"IF(H20+I20=0,\"-\",(N20/P20)*((H20+I20)/5280))","v":"-"},null,null,"Grain Delivery",null,null,null,null,{"$f":"IF(X20=\"\",\"\",IF(OR(X20=Datasets!$AI$2,X20=Datasets!$AI$3,X20=Datasets!$AI$4),\"U\",\"P\"))","v":""},{"$f":"IF(X20=\"\",\"\",IF(OR(X20=Datasets!$AI$2,X20=Datasets!$AI$5),3,IF(OR(X20=Datasets!$AI$3,X20=Datasets!$AI$6),6,10)))","v":""},null,null,15,40,{"$f":"IF(AB20+AC20=0,\"\",(AB20*AD20+AC20*AE20)/(AB20+AC20))","v":""},15,null,null,28,"ton",{"$f":"IF(AB20+AC20=0,\"-\",(AH20/AJ20)*((AB20+AC20)/5280))","v":"-"}]
["Grain to Pile",null,null,null,null,{"$f":"IF(D21=\"\",\"\",IF(OR(D21=Datasets!$AI$2,D21=Datasets!$AI$3,D21=Datasets!$AI$4),\"U\",\"P\"))","v":""},{"$f":"IF(D21=\"\",\"\",IF(OR(D21=Datasets!$AI$2,D21=Datasets!$AI$5),3,IF(OR(D21=Datasets!$AI$3,D21=Datasets!$AI$6),6,10)))","v":""},null,null,15,40,"",15,null,null,28,"ton",{"$f":"IF(H21+I21=0,\"-\",(N21/P21)*((H21+I21)/5280))","v":"-"},null,null,"Grain to Pile",null,null,null,null,{"$f":"IF(X21=\"\",\"\",IF(OR(X21=Datasets!$AI$2,X21=Datasets!$AI$3,X21=Datasets!$AI$4),\"U\",\"P\"))","v":""},{"$f":"IF(X21=\"\",\"\",IF(OR(X21=Datasets!$AI$2,X21=Datasets!$AI$5),3,IF(OR(X21=Datasets!$AI$3,X21=Datasets!$AI$6),6,10)))","v":""},null,null,15,40,"",15,null,null,28,"ton",{"$f":"IF(AB21+AC21=0,\"-\",(AH21/AJ21)*((AB21+AC21)/5280))","v":"-"}]
["Grain from Pile",null,null,null,null,{"$f":"IF(D22=\"\",\"\",IF(OR(D22=Datasets!$AI$2,D22=Datasets!$AI$3,D22=Datasets!$AI$4),\"U\",\"P\"))","v":""},{"$f":"IF(D22=\"\",\"\",IF(OR(D22=Datasets!$AI$2,D22=Datasets!$AI$5),3,IF(OR(D22=Datasets!$AI$3,D22=Datasets!$AI$6),6,10)))","v":""},null,null,15,40,"",15,null,null,28,"ton",{"$f":"IF(H22+I22=0,\"-\",(N22/P22)*((H22+I22)/5280))","v":"-"},null,null,"Grain from Pile",null,null,null,null,{"$f":"IF(X22=\"\",\"\",IF(OR(X22=Datasets!$AI$2,X22=Datasets!$AI$3,X22=Datasets!$AI$4),\"U\",\"P\"))","v":""},{"$f":"IF(X22=\"\",\"\",IF(OR(X22=Datasets!$AI$2,X22=Datasets!$AI$5),3,IF(OR(X22=Datasets!$AI$3,X22=Datasets!$AI$6),6,10)))","v":""},null,null,15,40,"",15,null,null,28,"ton",{"$f":"IF(AB22+AC22=0,\"-\",(AH22/AJ22)*((AB22+AC22)/5280))","v":"-"}]
["Denaturant",null,null,null,null,{"$f":"IF(D23=\"\",\"\",IF(OR(D23=Datasets!$AI$2,D23=Datasets!$AI$3,D23=Datasets!$AI$4),\"U\",\"P\"))","v":""},{"$f":"IF(D23=\"\",\"\",IF(OR(D23=Datasets!$AI$2,D23=Datasets!$AI$5),3,IF(OR(D23=Datasets!$AI$3,D23=Datasets!$AI$6),6,10)))","v":""},null,null,15,40,"",15,null,null,7900,"gal","-",null,null,"Denaturant",null,null,null,null,{"$f":"IF(X23=\"\",\"\",IF(OR(X23=Datasets!$AI$2,X23=Datasets!$AI$3,X23=Datasets!$AI$4),\"U\",\"P\"))","v":""},{"$f":"IF(X23=\"\",\"\",IF(OR(X23=Datasets!$AI$2,X23=Datasets!$AI$5),3,IF(OR(X23=Datasets!$AI$3,X23=Datasets!$AI$6),6,10)))","v":""},null,null,15,40,"",15,null,null,7900,"gal","-"]
["Ethanol Loadout",null,null,null,null,{"$f":"IF(D24=\"\",\"\",IF(OR(D24=Datasets!$AI$2,D24=Datasets!$AI$3,D24=Datasets!$AI$4),\"U\",\"P\"))","v":""},{"$f":"IF(D24=\"\",\"\",IF(OR(D24=Datasets!$AI$2,D24=Datasets!$AI$5),3,IF(OR(D24=Datasets!$AI$3,D24=Datasets!$AI$6),6,10)))","v":""},null,null,15,40,"",15,null,null,7900,"gal","-",null,null,"Ethanol Loadout",null,null,null,null,{"$f":"IF(X24=\"\",\"\",IF(OR(X24=Datasets!$AI$2,X24=Datasets!$AI$3,X24=Datasets!$AI$4),\"U\",\"P\"))","v":""},{"$f":"IF(X24=\"\",\"\",IF(OR(X24=Datasets!$AI$2,X24=Datasets!$AI$5),3,IF(OR(X24=Datasets!$AI$3,X24=Datasets!$AI$6),6,10)))","v":""},null,null,15,40,"",15,null,null,7900,"gal","-"]
["WDGS",null,null,null,null,{"$f":"IF(D25=\"\",\"\",IF(OR(D25=Datasets!$AI$2,D25=Datasets!$AI$3,D25=Datasets!$AI$4),\"U\",\"P\"))","v":""},{"$f":"IF(D25=\"\",\"\",IF(OR(D25=Datasets!$AI$2,D25=Datasets!$AI$5),3,IF(OR(D25=Datasets!$AI$3,D25=Datasets!$AI$6),6,10)))","v":""},null,null,15,40,"",15,null,null,28,"ton",{"$f":"IF(H25+I25=0,\"-\",(N25/P25)*((H25+I25)/5280))","v":"-"},null,null,"WDGS",null,null,null,null,{"$f":"IF(X25=\"\",\"\",IF(OR(X25=Datasets!$AI$2,X25=Datasets!$AI$3,X25=Datasets!$AI$4),\"U\",\"P\"))","v":""},{"$f":"IF(X25=\"\",\"\",IF(OR(X25=Datasets!$AI$2,X25=Datasets!$AI$5),3,IF(OR(X25=Datasets!$AI$3,X25=Datasets!$AI$6),6,10)))","v":""},null,null,15,40,"",15,null,null,28,"ton",{"$f":"IF(AB25+AC25=0,\"-\",(AH25/AJ25)*((AB25+AC25)/5280))","v":"-"}]
["Anhydrous Ammonia",null,null,null,null,{"$f":"IF(D26=\"\",\"\",IF(OR(D26=Datasets!$AI$2,D26=Datasets!$AI$3,D26=Datasets!$AI$4),\"U\",\"P\"))","v":""},{"$f":"IF(D26=\"\",\"\",IF(OR(D26=Datasets!$AI$2,D26=Datasets!$AI$5),3,IF(OR(D26=Datasets!$AI$3,D26=Datasets!$AI$6),6,10)))","v":""},null,null,15,40,"",15,null,null,8150,"gal","-",null,null,"Anhydrous Ammonia",null,null,null,null,{"$f":"IF(X26=\"\",\"\",IF(OR(X26=Datasets!$AI$2,X26=Datasets!$AI$3,X26=Datasets!$AI$4),\"U\",\"P\"))","v":""},{"$f":"IF(X26=\"\",\"\",IF(OR(X26=Datasets!$AI$2,X26=Datasets!$AI$5),3,IF(OR(X26=Datasets!$AI$3,X26=Datasets!$AI$6),6,10)))","v":""},null,null,15,40,"",15,null,null,8150,"gal",{"$f":"IF(AB26+AC26=0,\"-\",(AH26/AJ26)*((AB26+AC26)/5280))","v":"-"}]
["Corrosion Inhibitor",null,null,null,null,{"$f":"IF(D27=\"\",\"\",IF(OR(D27=Datasets!$AI$2,D27=Datasets!$AI$3,D27=Datasets!$AI$4),\"U\",\"P\"))","v":""},{"$f":"IF(D27=\"\",\"\",IF(OR(D27=Datasets!$AI$2,D27=Datasets!$AI$5),3,IF(OR(D27=Datasets!$AI$3,D27=Datasets!$AI$6),6,10)))","v":""},null,null,15,40,"",15,null,null,1500,"gal","-",null,null,"Corrosion Inhibitor",null,null,null,null,{"$f":"IF(X27=\"\",\"\",IF(OR(X27=Datasets!$AI$2,X27=Datasets!$AI$3,X27=Datasets!$AI$4),\"U\",\"P\"))","v":""},{"$f":"IF(X27=\"\",\"\",IF(OR(X27=Datasets!$AI$2,X27=Datasets!$AI$5),3,IF(OR(X27=Datasets!$AI$3,X27=Datasets!$AI$6),6,10)))","v":""},null,null,15,40,"",15,null,null,1500,"gal","-"]
["Caustic Soda",null,null,null,null,{"$f":"IF(D28=\"\",\"\",IF(OR(D28=Datasets!$AI$2,D28=Datasets!$AI$3,D28=Datasets!$AI$4),\"U\",\"P\"))","v":""},{"$f":"IF(D28=\"\",\"\",IF(OR(D28=Datasets!$AI$2,D28=Datasets!$AI$5),3,IF(OR(D28=Datasets!$AI$3,D28=Datasets!$AI$6),6,10)))","v":""},null,null,15,40,"",15,null,null,5000,"gal","-",null,null,"Caustic Soda",null,null,null,null,{"$f":"IF(X28=\"\",\"\",IF(OR(X28=Datasets!$AI$2,X28=Datasets!$AI$3,X28=Datasets!$AI$4),\"U\",\"P\"))","v":""},{"$f":"IF(X28=\"\",\"\",IF(OR(X28=Datasets!$AI$2,X28=Datasets!$AI$5),3,IF(OR(X28=Datasets!$AI$3,X28=Datasets!$AI$6),6,10)))","v":""},null,null,15,40,"",15,null,null,5000,"gal","-"]
["Sulfuric Acid",null,null,null,null,{"$f":"IF(D29=\"\",\"\",IF(OR(D29=Datasets!$AI$2,D29=Datasets!$AI$3,D29=Datasets!$AI$4),\"U\",\"P\"))","v":""},{"$f":"IF(D29=\"\",\"\",IF(OR(D29=Datasets!$AI$2,D29=Datasets!$AI$5),3,IF(OR(D29=Datasets!$AI$3,D29=Datasets!$AI$6),6,10)))","v":""},null,null,15,40,"",15,null,null,2900,"gal",{"$f":"IF(H29+I29=0,\"-\",(N29/P29)*((H29+I29)/5280))","v":"-"},null,null,"Sulfuric Acid",null,null,null,null,{"$f":"IF(X29=\"\",\"\",IF(OR(X29=Datasets!$AI$2,X29=Datasets!$AI$3,X29=Datasets!$AI$4),\"U\",\"P\"))","v":""},{"$f":"IF(X29=\"\",\"\",IF(OR(X29=Datasets!$AI$2,X29=Datasets!$AI$5),3,IF(OR(X29=Datasets!$AI$3,X29=Datasets!$AI$6),6,10)))","v":""},null,null,15,40,"",15,null,null,2900,"gal",{"$f":"IF(AB29+AC29=0,\"-\",(AH29/AJ29)*((AB29+AC29)/5280))","v":"-"}]
["Other1",null,null,null,null,{"$f":"IF(D30=\"\",\"\",IF(OR(D30=Datasets!$AI$2,D30=Datasets!$AI$3,D30=Datasets!$AI$4),\"U\",\"P\"))","v":""},{"$f":"IF(D30=\"\",\"\",IF(OR(D30=Datasets!$AI$2,D30=Datasets!$AI$5),3,IF(OR(D30=Datasets!$AI$3,D30=Datasets!$AI$6),6,10)))","v":""},null,null,15,40,{"$f":"IF(H30+I30=0,\"\",(H30*J30+I30*K30)/(H30+I30))","v":""},15,null,null,28,"ton",{"$f":"IF(H30+I30=0,\"-\",(N30/P30)*((H30+I30)/5280))","v":"-"},null,null,"Other1",null,null,null,null,{"$f":"IF(X30=\"\",\"\",IF(OR(X30=Datasets!$AI$2,X30=Datasets!$AI$3,X30=Datasets!$AI$4),\"U\",\"P\"))","v":""},{"$f":"IF(X30=\"\",\"\",IF(OR(X30=Datasets!$AI$2,X30=Datasets!$AI$5),3,IF(OR(X30=Datasets!$AI$3,X30=Datasets!$AI$6),6,10)))","v":""},null,null,15,40,{"$f":"IF(AB30+AC30=0,\"\",(AB30*AD30+AC30*AE30)/(AB30+AC30))","v":""},15,null,null,28,"ton",{"$f":"IF(AB30+AC30=0,\"-\",(AH30/AJ30)*((AB30+AC30)/5280))","v":"-"}]
["Other2",null,null,null,null,{"$f":"IF(D31=\"\",\"\",IF(OR(D31=Datasets!$AI$2,D31=Datasets!$AI$3,D31=Datasets!$AI$4),\"U\",\"P\"))","v":""},{"$f":"IF(D31=\"\",\"\",IF(OR(D31=Datasets!$AI$2,D31=Datasets!$AI$5),3,IF(OR(D31=Datasets!$AI$3,D31=Datasets!$AI$6),6,10)))","v":""},null,null,15,40,"",15,null,null,28,"ton",{"$f":"IF(H31+I31=0,\"-\",(N31/P31)*((H31+I31)/5280))","v":"-"},null,null,"Other2",null,null,null,null,{"$f":"IF(X31=\"\",\"\",IF(OR(X31=Datasets!$AI$2,X31=Datasets!$AI$3,X31=Datasets!$AI$4),\"U\",\"P\"))","v":""},{"$f":"IF(X31=\"\",\"\",IF(OR(X31=Datasets!$AI$2,X31=Datasets!$AI$5),3,IF(OR(X31=Datasets!$AI$3,X31=Datasets!$AI$6),6,10)))","v":""},null,null,15,40,"",15,null,null,28,"ton",{"$f":"IF(AB31+AC31=0,\"-\",(AH31/AJ31)*((AB31+AC31)/5280))","v":"-"}]
[null,null,null,null,null,null,null,null,null,null,null,null,null,null,"Total VMT:",{"$f":"SUM(R20:S31)","v":0},null,null,null,null,null,null,null,null,null,null,null,null,null,null,null,null,null,null,"Total VMT:",{"$f":"SUM(AL20:AM31)","v":0}]
[null,null,null,"Emission Calculations",null,null,null,null,null,null,null,null,null,null,null,null,null,null,null,null,null,null,null,"Emission Calculations"]
[null,null,null,"Emission Factors (lb/VMT)",null,null,"Potential Emissions\n(tons/yr)",null,null,null,null,null,null,null,null,null,null,null,null,null,null,null,null,"Emission Factors (lb/VMT)",null,null,"Potential Emissions\n(tons/yr)"]
[null,null,null,null,null,null,null,null,null,null,"Description of Constants/Variables",null,null,null,null,null,null,null,null,null,null,null,null,null,null,null,null,null,null,null,"Description of Constants/Variables"]
[null,null,null,null,null,null,null,null,null,null,"E:","haul road emissions (lb/VMT)",null,null,null,null,null,null,null,null,null,null,null,null,null,null,null,null,null,null,"E:","haul road emissions (lb/VMT)"]
[null,null,null,"PM","PM10","PM2.5","PM","PM10","PM2.5",null,"k, d:","dimensionless constants from Draft AP-42",null,null,null,null,null,null,null,null,null,null,null,"PM","PM10","PM2.5","PM","PM10","PM2.5",null,"k, d:","dimensionless constants from Draft AP-42"]
[{"$f":"IF(A20=\"\",\"\",A20)","v":"Grain Delivery"},null,null,{"$f":"IF($F20=\"p\",IF($M20>=1,$C$13*($G20^0.91)*($L20^1.02)*(1-($M$45/(4*365))),\"error\"),IF($F20=\"u\",IF(M20>=10,$K$13*(($G20/12)^$L$13)*(($L20/3)^$M$13)*((365-$M$45)/365)*(($M20/30)^$N$13)*(1-$M$49/100),\"error\"),IF($F20=\"\",\"\",\"error\")))","v":""},{"$f":"IF($F20=\"p\",IF($M20>=1,$C$14*($G20^0.91)*($L20^1.02)*(1-($M$45/(4*365))),\"error\"),IF($F20=\"u\",IF(M20>=10,$K$14*(($G20/12)^$L$14)*(($L20/3)^$M$14)*((365-$M$45)/365)*(($M20/30)^$N$14)*(1-$M$49/100),\"error\"),IF($F20=\"\",\"\",\"error\")))","v":""},{"$f":"IF($F20=\"p\",IF($M20>=1,$C$15*($G20^0.91)*($L20^1.02)*(1-($M$45/(4*365))),\"error\"),IF($F20=\"u\",IF(M20>=10,$K$15*(($G20/12)^$L$15)*(($L20/3)^$M$15)*((365-$M$45)/365)*(($M20/30)^$N$15)*(1-$M$49/100),\"error\"),IF($F20=\"\",\"\",\"error\")))","v":""},{"$f":"IF(D38=\"\",\"\",$R20*D38/2000)","v":""},"","",null,null,"  Chapter 13.IV (paved)",null,null,null,null,null,null,null,null,{"$f":"IF(U20=\"\",\"\",U20)","v":"Grain Delivery"},null,null,{"$f":"IF($Z20=\"p\",IF($AG20>=1,$W$13*($AA20^0.91)*($AF20^1.02)*(1-($AG$45/(4*365))),\"error\"),IF($Z20=\"u\",IF(AG20>=10,$AE$13*(($AA20/12)^$AF$13)*(($AF20/3)^$AG$13)*((365-$AG$45)/365)*(($AG20/30)^$AH$13)*(1-$AG$49/100),\"error\"),IF($Z20=\"\",\"\",\"error\")))","v":""},{"$f":"IF($Z20=\"p\",IF($AG20>=1,$W$14*($AA20^0.91)*($AF20^1.02)*(1-($AG$45/(4*365))),\"error\"),IF($Z20=\"u\",IF(AG20>=10,$AE$14*(($AA20/12)^$AF$14)*(($AF20/3)^$AG$14)*((365-$AG$45)/365)*(($AG20/30)^$AH$14)*(1-$AG$49/100),\"error\"),IF($Z20=\"\",\"\",\"error\")))","v":""},{"$f":"IF($Z20=\"p\",IF($AG20>=1,$W$15*($AA20^0.91)*($AF20^1.02)*(1-($AG$45/(4*365))),\"error\"),IF($Z20=\"u\",IF(AG20>=10,$AE$15*(($AA20/12)^$AF$15)*(($AF20/3)^$AG$15)*((365-$AG$45)/365)*(($AG20/30)^$AH$15)*(1-$AG$49/100),\"error\"),IF($Z20=\"\",\"\",\"error\")))","v":""},{"$f":"IF(X38=\"\",\"\",$AL20*X38/2000)","v":""},{"$f":"IF(Y38=\"\",\"\",$AL20*Y38/2000)","v":""},{"$f":"IF(Z38=\"\",\"\",$AL20*Z38/2000)","v":""},null,null,"  Chapter 13.IV (paved)"]
[{"$f":"IF(A21=\"\",\"\",A21)","v":"Grain to Pile"},null,null,{"$f":"IF($F21=\"p\",IF($M21>=1,$C$13*($G21^0.91)*($L21^1.02)*(1-($M$45/(4*365))),\"error\"),IF($F21=\"u\",IF(M21>=10,$K$13*(($G21/12)^$L$13)*(($L21/3)^$M$13)*((365-$M$45)/365)*(($M21/30)^$N$13)*(1-$M$49/100),\"error\"),IF($F21=\"\",\"\",\"error\")))","v":""},{"$f":"IF($F21=\"p\",IF($M21>=1,$C$14*($G21^0.91)*($L21^1.02)*(1-($M$45/(4*365))),\"error\"),IF($F21=\"u\",IF(M21>=10,$K$14*(($G21/12)^$L$14)*(($L21/3)^$M$14)*((365-$M$45)/365)*(($M21/30)^$N$14)*(1-$M$49/100),\"error\"),IF($F21=\"\",\"\",\"error\")))","v":""},{"$f":"IF($F21=\"p\",IF($M21>=1,$C$15*($G21^0.91)*($L21^1.02)*(1-($M$45/(4*365))),\"error\"),IF($F21=\"u\",IF(M21>=10,$K$15*(($G21/12)^$L$15)*(($L21/3)^$M$15)*((365-$M$45)/365)*(($M21/30)^$N$15)*(1-$M$49/100),\"error\"),IF($F21=\"\",\"\",\"error\")))","v":""},"","","",null,"k, a, b, c, d:","dimensionless constants from AP-42",null,null,null,null,null,null,null,null,{"$f":"IF(U21=\"\",\"\",U21)","v":"Grain to Pile"},null,null,{"$f":"IF($Z21=\"p\",IF($AG21>=1,$W$13*($AA21^0.91)*($AF21^1.02)*(1-($AG$45/(4*365))),\"error\"),IF($Z21=\"u\",IF(AG21>=10,$AE$13*(($AA21/12)^$AF$13)*(($AF21/3)^$AG$13)*((365-$AG$45)/365)*(($AG21/30)^$AH$13)*(1-$AG$49/100),\"error\"),IF($Z21=\"\",\"\",\"error\")))","v":""},{"$f":"IF($Z21=\"p\",IF($AG21>=1,$W$14*($AA21^0.91)*($AF21^1.02)*(1-($AG$45/(4*365))),\"error\"),IF($Z21=\"u\",IF(AG21>=10,$AE$14*(($AA21/12)^$AF$14)*(($AF21/3)^$AG$14)*((365-$AG$45)/365)*(($AG21/30)^$AH$14)*(1-$AG$49/100),\"error\"),IF($Z21=\"\",\"\",\"error\")))","v":""},{"$f":"IF($Z21=\"p\",IF($AG21>=1,$W$15*($AA21^0.91)*($AF21^1.02)*(1-($AG$45/(4*365))),\"error\"),IF($Z21=\"u\",IF(AG21>=10,$AE$15*(($AA21/12)^$AF$15)*(($AF21/3)^$AG$15)*((365-$AG$45)/365)*(($AG21/30)^$AH$15)*(1-$AG$49/100),\"error\"),IF($Z21=\"\",\"\",\"error\")))","v":""},{"$f":"IF(X39=\"\",\"\",$AL21*X39/2000)","v":""},"","",null,"k, a, b, c, d:","dimensionless constants from AP-42"]
[{"$f":"IF(A22=\"\",\"\",A22)","v":"Grain from Pile"},null,null,{"$f":"IF($F22=\"p\",IF($M22>=1,$C$13*($G22^0.91)*($L22^1.02)*(1-($M$45/(4*365))),\"error\"),IF($F22=\"u\",IF(M22>=10,$K$13*(($G22/12)^$L$13)*(($L22/3)^$M$13)*((365-$M$45)/365)*(($M22/30)^$N$13)*(1-$M$49/100),\"error\"),IF($F22=\"\",\"\",\"error\")))","v":""},{"$f":"IF($F22=\"p\",IF($M22>=1,$C$14*($G22^0.91)*($L22^1.02)*(1-($M$45/(4*365))),\"error\"),IF($F22=\"u\",IF(M22>=10,$K$14*(($G22/12)^$L$14)*(($L22/3)^$M$14)*((365-$M$45)/365)*(($M22/30)^$N$14)*(1-$M$49/100),\"error\"),IF($F22=\"\",\"\",\"error\")))","v":""},{"$f":"IF($F22=\"p\",IF($M22>=1,$C$15*($G22^0.91)*($L22^1.02)*(1-($M$45/(4*365))),\"error\"),IF($F22=\"u\",IF(M22>=10,$K$15*(($G22/12)^$L$15)*(($L22/3)^$M$15)*((365-$M$45)/365)*(($M22/30)^$N$15)*(1-$M$49/100),\"error\"),IF($F22=\"\",\"\",\"error\")))","v":""},"","","",null,null,"  Tables 13.2.1-1 & 13.2.2-2 (unpaved)",null,null,null,null,null,null,null,null,{"$f":"IF(U22=\"\",\"\",U22)","v":"Grain from Pile"},null,null,"","","",{"$f":"IF(X40=\"\",\"\",$AL22*X40/2000)","v":""},"","",null,null,"  Tables 13.2.1-1 & 13.2.2-2 (unpaved)"]
[{"$f":"IF(A23=\"\",\"\",A23)","v":"Denaturant"},null,null,{"$f":"IF($F23=\"p\",IF($M23>=1,$C$13*($G23^0.91)*($L23^1.02)*(1-($M$45/(4*365))),\"error\"),IF($F23=\"u\",IF(M23>=10,$K$13*(($G23/12)^$L$13)*(($L23/3)^$M$13)*((365-$M$45)/365)*(($M23/30)^$N$13)*(1-$M$49/100),\"error\"),IF($F23=\"\",\"\",\"error\")))","v":""},{"$f":"IF($F23=\"p\",IF($M23>=1,$C$14*($G23^0.91)*($L23^1.02)*(1-($M$45/(4*365))),\"error\"),IF($F23=\"u\",IF(M23>=10,$K$14*(($G23/12)^$L$14)*(($L23/3)^$M$14)*((365-$M$45)/365)*(($M23/30)^$N$14)*(1-$M$49/100),\"error\"),IF($F23=\"\",\"\",\"error\")))","v":""},{"$f":"IF($F23=\"p\",IF($M23>=1,$C$15*($G23^0.91)*($L23^1.02)*(1-($M$45/(4*365))),\"error\"),IF($F23=\"u\",IF(M23>=10,$K$15*(($G23/12)^$L$15)*(($L23/3)^$M$15)*((365-$M$45)/365)*(($M23/30)^$N$15)*(1-$M$49/100),\"error\"),IF($F23=\"\",\"\",\"error\")))","v":""},"","","",null,"sL:","silt loading (g/m2) of paved road surface",null,null,null,null,null,null,null,null,{"$f":"IF(U23=\"\",\"\",U23)","v":"Denaturant"},null,null,"","","",{"$f":"IF(X41=\"\",\"\",$AL23*X41/2000)","v":""},"","",null,"sL:","silt loading (g/m2) of paved road surface"]
[{"$f":"IF(A24=\"\",\"\",A24)","v":"Ethanol Loadout"},null,null,{"$f":"IF($F24=\"p\",IF($M24>=1,$C$13*($G24^0.91)*($L24^1.02)*(1-($M$45/(4*365))),\"error\"),IF($F24=\"u\",IF(M24>=10,$K$13*(($G24/12)^$L$13)*(($L24/3)^$M$13)*((365-$M$45)/365)*(($M24/30)^$N$13)*(1-$M$49/100),\"error\"),IF($F24=\"\",\"\",\"error\")))","v":""},{"$f":"IF($F24=\"p\",IF($M24>=1,$C$14*($G24^0.91)*($L24^1.02)*(1-($M$45/(4*365))),\"error\"),IF($F24=\"u\",IF(M24>=10,$K$14*(($G24/12)^$L$14)*(($L24/3)^$M$14)*((365-$M$45)/365)*(($M24/30)^$N$14)*(1-$M$49/100),\"error\"),IF($F24=\"\",\"\",\"error\")))","v":""},{"$f":"IF($F24=\"p\",IF($M24>=1,$C$15*($G24^0.91)*($L24^1.02)*(1-($M$45/(4*365))),\"error\"),IF($F24=\"u\",IF(M24>=10,$K$15*(($G24/12)^$L$15)*(($L24/3)^$M$15)*((365-$M$45)/365)*(($M24/30)^$N$15)*(1-$M$49/100),\"error\"),IF($F24=\"\",\"\",\"error\")))","v":""},"","","",null,"sC:","silt content (%) of unpaved road surface",null,null,null,null,null,null,null,null,{"$f":"IF(U24=\"\",\"\",U24)","v":"Ethanol Loadout"},null,null,"","","",{"$f":"IF(X42=\"\",\"\",$AL24*X42/2000)","v":""},"","",null,"sC:","silt content (%) of unpaved road surface"]
[{"$f":"IF(A25=\"\",\"\",A25)","v":"WDGS"},null,null,{"$f":"IF($F25=\"p\",IF($M25>=1,$C$13*($G25^0.91)*($L25^1.02)*(1-($M$45/(4*365))),\"error\"),IF($F25=\"u\",IF(M25>=10,$K$13*(($G25/12)^$L$13)*(($L25/3)^$M$13)*((365-$M$45)/365)*(($M25/30)^$N$13)*(1-$M$49/100),\"error\"),IF($F25=\"\",\"\",\"error\")))","v":""},{"$f":"IF($F25=\"p\",IF($M25>=1,$C$14*($G25^0.91)*($L25^1.02)*(1-($M$45/(4*365))),\"error\"),IF($F25=\"u\",IF(M25>=10,$K$14*(($G25/12)^$L$14)*(($L25/3)^$M$14)*((365-$M$45)/365)*(($M25/30)^$N$14)*(1-$M$49/100),\"error\"),IF($F25=\"\",\"\",\"error\")))","v":""},{"$f":"IF($F25=\"p\",IF($M25>=1,$C$15*($G25^0.91)*($L25^1.02)*(1-($M$45/(4*365))),\"error\"),IF($F25=\"u\",IF(M25>=10,$K$15*(($G25/12)^$L$15)*(($L25/3)^$M$15)*((365-$M$45)/365)*(($M25/30)^$N$15)*(1-$M$49/100),\"error\"),IF($F25=\"\",\"\",\"error\")))","v":""},{"$f":"IF(D43=\"\",\"\",$R25*D43/2000)","v":""},"","",null,"W:","average vehicle weight (tons)",null,null,null,null,null,null,null,null,{"$f":"IF(U25=\"\",\"\",U25)","v":"WDGS"},null,null,"","","",{"$f":"IF(X43=\"\",\"\",$AL25*X43/2000)","v":""},"","",null,"W:","average vehicle weight (tons)"]
["Anhydrous Ammonia",null,null,"","","",{"$f":"IF(D44=\"\",\"\",$R26*D44/2000)","v":""},"","",null,"P:","days/yr with at least 0.01\" of precipitation",null,null,null,null,null,null,null,null,"Anhydrous Ammonia",null,null,"","","",{"$f":"IF(X44=\"\",\"\",$AL26*X44/2000)","v":""},"","",null,"P:","days/yr with at least 0.01\" of precipitation"]
["Corrosion Inhibitor",null,null,"","","",{"$f":"IF(D45=\"\",\"\",$R27*D45/2000)","v":""},"","",null,null,"P =",90,"   default = 90",null,null,null,null,null,null,"Corrosion Inhibitor",null,null,"","","",{"$f":"IF(X45=\"\",\"\",$AL27*X45/2000)","v":""},"","",null,null,"P =",90,"   default = 90"]
["Caustic Soda",null,null,"","","",{"$f":"IF(D46=\"\",\"\",$R28*D46/2000)","v":""},"","",null,"S:","mean vehicle speed on road (mph)",null,null,null,null,null,null,null,null,"Caustic Soda",null,null,"","","",{"$f":"IF(X46=\"\",\"\",$AL28*X46/2000)","v":""},"","",null,"S:","mean vehicle speed on road (mph)"]
["Sulfuric Acid",null,null,"","","",{"$f":"IF(D47=\"\",\"\",$R29*D47/2000)","v":""},"","",null,null,"   default = 30, minimum =15",null,null,null,null,null,null,null,null,"Sulfuric Acid",null,null,"","","",{"$f":"IF(X47=\"\",\"\",$AL29*X47/2000)","v":""},"","",null,null,"   default = 30, minimum =15"]
["Other1",null,null,"","","",{"$f":"IF(D48=\"\",\"\",$R30*D48/2000)","v":""},"","",null,"CE:","unpaved road, dust control efficiency",null,null,null,null,null,null,null,null,"Other1",null,null,"","","",{"$f":"IF(X48=\"\",\"\",$AL30*X48/2000)","v":""},"","",null,"CE:","unpaved road, dust control efficiency"]
["Other2",null,null,"","","",{"$f":"IF(D49=\"\",\"\",$R31*D49/2000)","v":""},"","",null,null,"CE =",0,"   default = 0%",null,null,null,null,null,null,"Other2",null,null,"","","",{"$f":"IF(X49=\"\",\"\",$AL31*X49/2000)","v":""},"","",null,null,"CE =",0,"   default = 0%"]
[null,null,null,null,null,"Total Annual Emissions:",{"$f":"SUM(G38:G49)","v":0},{"$f":"SUM(H38:H49)","v":0},{"$f":"SUM(I38:I49)","v":0},null,"VMT:","vehicle miles traveled",null,null,null,null,null,null,null,null,null,null,null,null,null,"Total Annual Emissions:",{"$f":"SUM(AA38:AA49)","v":0},{"$f":"SUM(AB38:AB49)","v":0},{"$f":"SUM(AC38:AC49)","v":0},null,"VMT:","vehicle miles traveled"]

{"sheet":"13) Cooling Tower","index":12,"n_rows":69,"n_cols":13,"rows_kept":69,"cut":false,"hidden":false,"merged":[[64,0,64,2],[64,7,64,9],[65,0,66,0],[65,7,66,7],[38,7,40,11],[38,0,40,5],[6,0,6,1],[23,0,24,0],[32,0,32,2],[33,0,34,0],[23,7,24,7],[32,7,32,9],[33,7,34,7],[8,1,8,4],[8,8,8,11]]}
[]
["Universal Calculation Spreadsheets applicable for the Emissions of Ethanol Industry"]
["Cooling Towers"]
[]
[]
[]
[]
["Potential to Emit Calculations for Emissions from the Cooling Tower (Max. 4)",null,null,null,null,null,null,"Potential to Emit Calculations for Emissions from the Cooling Tower (Max. 4)"]
["Number of cooling towers",1,null,null,null,null,null,null,1]
["Circulation rate:",null,null,null,null,"gal/hr ",null,"Circulation rate:",null,null,null,null,"gal/hr "]
[null,{"$f":"B10*8760/1000","v":0},{"$f":"C10*8760/1000","v":0},0,0,"Mgal/yr (based on 8,760 hrs/yr)",null,null,{"$f":"I10*8760/1000","v":0},{"$f":"J10*8760/1000","v":0},0,0,"Mgal/yr (based on 8,760 hrs/yr)"]
["Biocide used:","NO","NO","NO","NO",null,null,"Biocide used:","NO","NO","NO","NO"]
[]
["Drift loss percent:",5.0000000000000001E-3,5.0000000000000001E-3,5.0000000000000001E-3,5.0000000000000001E-3,"%",null,"Drift loss percent:",5.0000000000000001E-3,5.0000000000000001E-3,5.0000000000000001E-3,5.0000000000000001E-3,"%"]
["Water density:",8.34,8.34,8.34,8.34,"lbs/gal",null,"Water density:",8.34,8.34,8.34,8.34,"lbs/gal"]
[]
["TDS concentration:",2000,2000,2000,2000,"ppm single sample event",null,"TDS concentration:",2000,2000,2000,2000,"ppm single sample event"]
[null,2000,2000,2000,2000,"ppm average annual rate",null,null,2000,2000,2000,2000,"ppm average annual rate"]
[]
["Emission Factor Calculation for PM and PM10",null,null,null,null,null,null,"Emission Factor Calculation for PM and PM10"]
[]
["Emission factor equation from AP-42, Section 13.4-2 (01/1995)",null,null,null,null,null,null,"Emission factor equation from AP-42, Section 13.4-2 (01/1995)"]
[]
["PM/PM10 emission factor =",null,null,null,null,null,null,"PM/PM10 emission factor ="]
[]
[]
[null,8.34E-4,"lbs/Mgal single sample event (highest hourly rate)",null,null,null,null,null,8.34E-4,"lbs/Mgal single sample event (highest hourly rate)"]
[null,8.34E-4,"lbs/Mgal average annual rate",null,null,null,null,null,8.34E-4,"lbs/Mgal average annual rate"]
[]
["Hourly Emissions = (lbs/Mgal single sample event)(hourly throughput gal/hr)(1 Mgal/1,000 gal)",null,null,null,null,null,null,"Hourly Emissions = (lbs/Mgal single sample event)(hourly throughput gal/hr)(1 Mgal/1,000 gal)"]
["Annual Emissions = (lbs/Mgal average annual rate)(annual throughput Mgal/yr)/(2,000 lbs/ton)",null,null,null,null,null,null,"Annual Emissions = (lbs/Mgal average annual rate)(annual throughput Mgal/yr)/(2,000 lbs/ton)"]
[]
["Cooling Tower Emission Summary",null,null,null,null,null,null,"Cooling Tower Emission Summary"]
["Pollutant","Hourly PTE","Annual PTE",null,null,null,null,"Pollutant","Hourly PTE","Annual PTE"]
[null,"(lbs/hr)","(tons/year)",null,null,null,null,null,"(lbs/hr)","(tons/year)"]
["PM",{"$f":"$B$27*(($B$10+$C$10+$D$10+$E$10)/1000)","v":0},{"$f":"$B$28*SUM($B$11:$E$11)/2000","v":0},null,null,null,null,"PM",{"$f":"$I$27*((I10+J10+K10+L10)/1000)","v":0},{"$f":"$I$28*SUM($I$11:$L$11)/2000","v":0}]
["PM10",{"$f":"($B$27*(($B$10+$C$10+$D$10+$E$10)/1000)*0.7)","v":0},{"$f":"$B$28*SUM($B$11:$E$11)/2000*0.7","v":0},null,null,null,null,"PM10",{"$f":"($I$27*((I10+J10+K10+L10)/1000)*0.7)","v":0},{"$f":"$I$28*SUM($I$11:$L$11)/2000*0.7","v":0}]
["PM2.5",{"$f":"($B$27*(($B$10+$C$10+$D$10+$E$10)/1000)*0.42)","v":0},{"$f":"$B$28*SUM($B$11:$E$11)/2000*0.42","v":0},null,null,null,null,"PM2.5",{"$f":"($I$27*((I10+J10+K10+L10)/1000)*0.42)","v":0},{"$f":"$I$28*SUM($I$11:$L$11)/2000*0.42","v":0}]
["PM10 and PM2.5 emissions estimated to be 70% and 42% (respectively) of total PM emissions based on Appendix A to Particulate Matter (PM) 2.5 Significance Thresholds and Calculation Methodology published by the South Coast Air Quality Management District",null,null,null,null,null,null,"PM10 and PM2.5 emissions estimated to be 70% and 42% (respectively) of total PM emissions based on Appendix A to Particulate Matter (PM) 2.5 Significance Thresholds and Calculation Methodology published by the South Coast Air Quality Management District"]
[]
[]
[]
["Emission Factor Calculation for VOCs"]
["Bioside",null,null,null,null,null,null,"Bioside"]
[null,{"$f":"IF(B12=Datasets!$D$2,1,0)","v":0},{"$f":"IF(C12=Datasets!$D$2,1,0)","v":0},{"$f":"IF(D12=Datasets!$D$2,1,0)","v":0},{"$f":"IF(E12=Datasets!$D$2,1,0)","v":0},null,null,null,{"$f":"IF(I12=Datasets!$D$2,1,0)","v":0},{"$f":"IF(J12=Datasets!$D$2,1,0)","v":0},{"$f":"IF(K12=Datasets!$D$2,1,0)","v":0},{"$f":"IF(L12=Datasets!$D$2,1,0)","v":0}]
["Biocide Content (ppmv)",10,10,10,10,null,null,"Biocide Content (ppmv)",10,10,10,10]
["Biocide VOC Fraction (Unitless)",0.01,0.01,0.01,0.01,null,null,"Biocide VOC Fraction (Unitless)",0.01,0.01,0.01,0.01]
["Biocide Density (lb/gal)",12.1,12.1,12.1,12.1,null,null,"Biocide Density (lb/gal)",12.1,12.1,12.1,12.1]
["Biocide Use (gal/yr)",{"$f":"B46*B10*8760/1000000","v":0},{"$f":"C46*C10*8760/1000000","v":0},0,0,null,null,"Biocide Use (gal/yr)",{"$f":"I46*I10*8760/1000000","v":0},{"$f":"J46*J10*8760/1000000","v":0},0,0]
["Biocide Use (ton/yr)",{"$f":"B49*B48/2000","v":0},{"$f":"C49*C48/2000","v":0},0,0,null,null,"Biocide Use (ton/yr)",{"$f":"I49*I48/2000","v":0},{"$f":"J49*J48/2000","v":0},{"$f":"K49*K48/2000","v":0},{"$f":"L49*L48/2000","v":0}]
["VOC Emission Rate (lb/hr)",{"$f":"(B46*B47*B48*B10*B45)/1000000","v":0},{"$f":"(C46*C47*C48*C10*C45)/1000000","v":0},{"$f":"(D46*D47*D48*D10*D45)/1000000","v":0},{"$f":"(E46*E47*E48*E10*E45)/1000000","v":0},null,null,"VOC Emission Rate (lb/hr)",{"$f":"(I46*I47*I48*I10*I45)/1000000","v":0},{"$f":"(J46*J47*J48*J10*J45)/1000000","v":0},{"$f":"(K46*K47*K48*K10*K45)/1000000","v":0},{"$f":"(L46*L47*L48*L10*L45/1000000)","v":0}]
["VOC Emission Rate (ton/yr)",{"$f":"B51*8760/2000","v":0},{"$f":"C51*8760/2000","v":0},0,0,null,null,"VOC Emission Rate (ton/yr)",{"$f":"I51*8760/2000","v":0},{"$f":"J51*8760/2000","v":0},{"$f":"K51*8760/2000","v":0},{"$f":"L51*8760/2000","v":0}]
[]
["Antiscalant",null,null,null,null,null,null,"Antiscalant"]
["Additive Rate (gal/day)",20,20,20,20,null,null,"Additive Rate (gal/day)",20,20,20,20]
["Density (lb/gal)",15,15,15,15,null,null,"Density (lb/gal)",15,15,15,15]
["VOC Fraction",0.6,0.6,0.6,0.6,null,null,"VOC Fraction",0.6,0.6,0.6,0.6]
["HAP Fraction",0.01,0.01,0.01,0.01,null,null,"HAP Fraction",0.01,0.01,0.01,0.01]
["VOC Emission Rate (lb/hr)",{"$f":"B55*B56*B57*B45/24","v":0},{"$f":"C55*C56*C57*C45/24","v":0},{"$f":"D55*D56*D57*D45/24","v":0},{"$f":"E55*E56*E57*E45/24","v":0},null,null,"VOC Emission Rate (lb/hr)",{"$f":"I55*I56*I57*I45/24","v":0},{"$f":"J55*J56*J57*J45/24","v":0},{"$f":"K55*K56*K57*K45/24","v":0},{"$f":"L55*L56*L57*L45/24","v":0}]
["VOC Emission Rate (ton/yr)",{"$f":"B59*8760/2000","v":0},{"$f":"C59*8760/2000","v":0},{"$f":"D59*8760/2000","v":0},{"$f":"E59*8760/2000","v":0},null,null,"VOC Emission Rate (ton/yr)",{"$f":"I59*8760/2000","v":0},{"$f":"J59*8760/2000","v":0},{"$f":"K59*8760/2000","v":0},{"$f":"L59*8760/2000","v":0}]
["HAP Emissions (lb/hr)",{"$f":"B55*B56*B58/24*B45","v":0},{"$f":"C55*C56*C58/24*C45","v":0},{"$f":"D55*D56*D58/24*D45","v":0},{"$f":"E55*E56*E58/24*E45","v":0},null,null,"HAP Emissions (lb/hr)",{"$f":"I55*I56*I58/24*I45","v":0},{"$f":"J55*J56*J58/24*J45","v":0},{"$f":"K55*K56*K58/24*K45","v":0},{"$f":"L55*L56*L58*L45/24","v":0}]
["HAP Emissions (ton/yr)",{"$f":"B61*8760/2000","v":0},{"$f":"C61*8760/2000","v":0},0,0,null,null,"HAP Emissions (ton/yr)",{"$f":"I61*8760/2000","v":0},{"$f":"J61*8760/2000","v":0},{"$f":"K61*8760/2000","v":0},{"$f":"L61*8760/2000","v":0}]
[]
[]
["Cooling Tower Emission Summary",null,null,null,null,null,null,"Cooling Tower Emission Summary"]
["Pollutant","Hourly PTE","Annual PTE",null,null,null,null,"Pollutant","Hourly PTE","Annual PTE"]
[null,"(lbs/hr)","(tons/year)",null,null,null,null,null,"(lbs/hr)","(tons/year)"]
["VOC",{"$f":"SUM(B51:E51)+SUM(B59:E59)","v":0},{"$f":"SUM(B52:E52)+SUM(B60:E60)","v":0},null,null,null,null,"VOC",{"$f":"SUM(I51:L51)+SUM(I59:L59)","v":0},{"$f":"SUM(I52:L52)+SUM(I60:L60)","v":0}]
["HAP",{"$f":"SUM(B61:E61)","v":0},{"$f":"SUM(B62:E62)","v":0},null,null,null,null,"HAP",{"$f":"SUM(I61:L61)","v":0},{"$f":"SUM(I62:L62)","v":0}]

{"sheet":"14) Equipment Leaks","index":13,"n_rows":28,"n_cols":27,"rows_kept":28,"cut":false,"hidden":false,"merged":[[4,3,5,3],[4,5,5,5],[21,0,22,0],[21,1,22,1],[6,0,7,0],[16,0,18,0],[4,1,5,1],[4,0,5,0],[4,23,4,24],[4,25,4,26],[21,2,21,7],[21,8,21,13],[4,11,4,12],[4,19,4,20],[4,21,4,22],[4,6,5,6],[4,13,4,14],[4,7,5,7],[4,9,5,9],[4,15,4,16],[4,17,4,18],[4,4,5,4],[4,2,5,2],[4,8,5,8]]}
[]
["Universal Calculation Spreadsheets applicable for the Emissions of Ethanol Industry"]
["Equipment Leaks"]
[]
["Type of  Component","Service","(A)\nNumber of Components (VV)","(B)\nNumber of Components (VVa)","(A)\nNumber of Components (VV)","(B)\nNumber of Components (VVa)","(C)\nLDAR, VV\n(cont.eff. %)","(C)\nLDAR, VVa\n(cont.eff. %)","(D)\nLeaking Emission Factor, VV (kg/hr/source)","(D)\nLeaking Emission Factor, VVa (kg/hr/source)",null,"VOC Uncontrolled Emissions, VV",null,"VOC Controlled Emissions, VV",null,"VOC Uncontrolled Emissions, VVa",null,"VOC Controlled Emissions, VVa",null,"VOC Uncontrolled Emissions, VV",null,"VOC Controlled Emissions, VV",null,"VOC Uncontrolled Emissions, VVa",null,"VOC Controlled Emissions, VVa"]
[null,null,null,null,null,null,null,null,null,null,null,"(E) = (A)x(C)x2.21 \n(lb/hr)","(F) = (E)x8760/2000\n(ton/year)","(G) = (E)x[1-(C)]\n(lb/hr)","(H) = (F)x[1-(C)]\n(ton/year)","(E) = (A)x(C)x2.21 \n(lb/hr)","(F) = (E)x8760/2000\n(ton/year)","(G) = (E)x[1-(C)]\n(lb/hr)","(H) = (F)x[1-(C)]\n(ton/year)","(E) = (A)x(C)x2.21 \n(lb/hr)","(F) = (E)x8760/2000\n(ton/year)","(G) = (E)x[1-(C)]\n(lb/hr)","(H) = (F)x[1-(C)]\n(ton/year)","(E) = (A)x(C)x2.21 \n(lb/hr)","(F) = (E)x8760/2000\n(ton/year)","(G) = (E)x[1-(C)]\n(lb/hr)","(H) = (F)x[1-(C)]\n(ton/year)"]
["Valves/ Check valves/Control Valves","Gas",null,null,null,null,0.87,0.92,5.9699999999999996E-3,5.9699999999999996E-3,null,{"$f":"C7*I7*2.21","v":0},{"$f":"L7*8760/2000","v":0},{"$f":"L7*(1-G7)","v":0},{"$f":"M7*(1-G7)","v":0},{"$f":"D7*J7*2.21","v":0},{"$f":"P7*8760/2000","v":0},{"$f":"P7*(1-H7)","v":0},{"$f":"Q7*(1-H7)","v":0},{"$f":"E7*I7*2.21","v":0},{"$f":"T7*8760/2000","v":0},{"$f":"T7*(1-G7)","v":0},{"$f":"U7*(1-G7)","v":0},{"$f":"F7*J7*2.21","v":0},{"$f":"X7*8760/2000","v":0},{"$f":"X7*(1-H7)","v":0},{"$f":"Y7*(1-H7)","v":0}]
[null,"Light liquid",null,null,null,null,0.84,0.88,4.0299999999999997E-3,4.0299999999999997E-3,null,0,{"$f":"L8*8760/2000","v":0},{"$f":"L8*(1-G8)","v":0},{"$f":"M8*(1-G8)","v":0},{"$f":"D8*J8*2.21","v":0},{"$f":"P8*8760/2000","v":0},{"$f":"P8*(1-H8)","v":0},{"$f":"Q8*(1-H8)","v":0},0,{"$f":"T8*8760/2000","v":0},0,0,{"$f":"F8*J8*2.21","v":0},{"$f":"X8*8760/2000","v":0},{"$f":"X8*(1-H8)","v":0},{"$f":"Y8*(1-H8)","v":0}]
["Pump seals","Light liquid",null,null,null,null,0.77,0.78,1.9900000000000001E-2,1.9900000000000001E-2,null,0,0,{"$f":"L9*(1-G9)","v":0},{"$f":"M9*(1-G9)","v":0},0,0,0,0,0,0,0,0,0,0,0,0]
["Compressor seals","Gas",null,null,null,null,0,0,0.22800000000000001,0.22800000000000001,null,0,0,{"$f":"L10*(1-G10)","v":0},{"$f":"M10*(1-G10)","v":0},0,0,0,0,0,0,0,0,0,0,0,0]
["Pressure Relief Valves","Gas",null,null,null,null,0.87,0.92,0.104,0.104,null,0,0,0,0,0,0,0,0,0,0,0,0,0,0,0,0]
["Connectors","All",null,null,null,null,0,0,1.4999999999999999E-2,1.4999999999999999E-2,null,0,0,0,0,0,0,0,0,0,0,0,0,0,0,0,0]
["Open-ended lines","All",null,null,null,null,0,0,1.6999999999999999E-3,1.6999999999999999E-3,null,0,0,0,0,0,0,0,0,0,0,0,0,0,0,0,0]
["Sampling connections","All",null,null,null,null,0.86,0.93,1.83E-3,1.83E-3,null,0,0,0,0,0,0,0,0,0,0,0,0,0,0,0,0]
["VOC Emissions are calculated from Protocol for Leak Emission Estimates, EPA-453/R-95-017, November 1995."]
[]
["Total VOC Emissions","VV","VVa","Total",null,"VV","VVa","Total"]
[null,{"$f":"SUM(N7:N14)","v":0},{"$f":"SUM(R7:R14)","v":0},{"$f":"B18+C18","v":0},"lb/hr",{"$f":"SUM(V7:V14)","v":0},{"$f":"SUM(Z7:Z14)","v":0},{"$f":"F18+G18","v":0},"lb/hr"]
[null,{"$f":"SUM(O7:O14)","v":0},{"$f":"SUM(S7:S14)","v":0},{"$f":"B19+C19","v":0},"ton/year",{"$f":"SUM(W7:W14)","v":0},{"$f":"SUM(AA7:AA14)","v":0},{"$f":"F19+G19","v":0},"ton/year"]
[]
[]
["Hazardous Air Pollutant","Mass Fraction of HAP","HAP Emissions",null,null,null,null,null,"HAP Emissions"]
[null,null,"lb/hr (VV)","lb/hr (VVa)","lb/hr (Total)","ton/year (VV)","ton/year (VVa)","ton/year (Total)","lb/hr (VV)","lb/hr (VVa)","lb/hr (Total)","ton/year (VV)","ton/year (VVa)","ton/year (Total)"]
["Acetaldehyde",2.0000000000000001E-4,{"$f":"$B$18*B24","v":0},{"$f":"$C$18*B24","v":0},{"$f":"C24+D24","v":0},{"$f":"$B$19*B24","v":0},{"$f":"$C$19*B24","v":0},{"$f":"F24+G24","v":0},{"$f":"$F$18*B24","v":0},{"$f":"$G$18*B24","v":0},{"$f":"I24+J24","v":0},{"$f":"$F$19*B24","v":0},{"$f":"$G$19*B24","v":0},{"$f":"L24+M24","v":0}]
["Acrolein",2.0000000000000001E-4,{"$f":"$B$18*B25","v":0},{"$f":"$C$18*B25","v":0},{"$f":"C25+D25","v":0},{"$f":"$B$19*B25","v":0},{"$f":"$C$19*B25","v":0},{"$f":"F25+G25","v":0},{"$f":"$F$18*B25","v":0},{"$f":"$G$18*B25","v":0},{"$f":"I25+J25","v":0},{"$f":"$F$19*B25","v":0},{"$f":"$G$19*B25","v":0},{"$f":"L25+M25","v":0}]
["Formaldehyde",1E-4,{"$f":"$B$18*B26","v":0},0,0,{"$f":"$B$19*B26","v":0},{"$f":"$C$19*B26","v":0},0,{"$f":"$F$18*B26","v":0},{"$f":"$G$18*B26","v":0},0,{"$f":"$F$19*B26","v":0},{"$f":"$G$19*B26","v":0},0]
["Methanol",2.0000000000000001E-4,{"$f":"$B$18*B27","v":0},0,0,{"$f":"$B$19*B27","v":0},{"$f":"$C$19*B27","v":0},0,{"$f":"$F$18*B27","v":0},{"$f":"$G$18*B27","v":0},0,{"$f":"$F$19*B27","v":0},{"$f":"$G$19*B27","v":0},0]
["Total HAPs","-",{"$f":"SUM(C24:C27)","v":0},{"$f":"SUM(D24:D27)","v":0},0,{"$f":"SUM(F24:F27)","v":0},{"$f":"SUM(G24:G27)","v":0},0,{"$f":"SUM(I24:I27)","v":0},{"$f":"SUM(J24:J27)","v":0},0,{"$f":"SUM(L24:L27)","v":0},{"$f":"SUM(M24:M27)","v":0},0]

{"sheet":"15) Engines","index":14,"n_rows":72,"n_cols":49,"rows_kept":72,"cut":false,"hidden":false,"merged":[[69,20,69,21],[69,32,69,33],[70,20,70,21],[70,32,70,33],[68,20,68,21],[68,32,68,33],[66,20,66,21],[66,32,66,33],[67,20,67,21],[67,32,67,33],[63,20,63,21],[63,32,63,33],[64,20,64,21],[64,32,64,33],[65,20,65,21],[65,32,65,33],[60,20,60,21],[60,32,60,33],[61,20,61,21],[61,32,61,33],[62,20,62,21],[62,32,62,33],[57,20,57,21],[57,32,57,33],[58,20,58,21],[58,32,58,33],[59,20,59,21],[59,32,59,33],[54,20,54,21],[54,32,54,33],[55,20,55,21],[55,32,55,33],[56,20,56,21],[56,32,56,33],[51,20,51,21],[51,32,51,33],[52,20,52,21],[52,32,52,33],[53,20,53,21],[53,32,53,33],[47,20,47,21],[47,32,47,33],[48,20,48,21],[48,32,48,33],[50,20,50,21],[50,32,50,33],[44,20,44,21],[44,32,44,33],[45,20,45,21],[45,32,45,33],[46,20,46,21],[46,32,46,33],[41,20,41,21],[41,32,41,33],[42,20,42,21],[42,32,42,33],[43,20,43,21],[43,32,43,33],[30,20,30,21],[30,32,30,33],[31,20,31,21],[31,32,31,33],[32,20,32,21],[32,32,32,33],[27,20,27,21],[27,32,27,33],[28,20,28,21],[28,32,28,33],[29,20,29,21],[29,32,29,33],[25,20,25,21],[25,32,25,33],[26,20,26,21],[26,32,26,33],[21,20,21,21],[21,32,21,33],[22,20,22,21],[22,32,22,33],[23,20,23,21],[23,32,23,33],[20,20,20,21],[20,32,20,33],[15,20,15,21],[15,32,15,33],[16,20,16,21],[16,32,16,33],[17,20,17,21],[17,32,17,33],[24,20,24,21],[24,32,24,33],[14,20,14,21],[14,32,14,33],[9,20,9,21],[9,32,9,33],[10,20,10,21],[10,32,10,33],[18,20,18,21],[18,32,18,33],[19,20,19,21],[19,32,19,33],[8,32,8,33],[4,20,4,21],[4,32,4,33],[5,20,5,21],[5,32,5,33],[12,20,12,21],[12,32,12,33],[13,20,13,21],[13,32,13,33],[7,47,8,47],[7,48,8,48],[3,32,3,33],[3,20,3,21],[9,0,9,2],[9,3,9,5],[9,13,9,15],[11,0,11,2],[11,3,11,5],[11,13,11,15],[5,13,5,16],[6,3,6,6],[6,13,6,16],[7,0,7,2],[7,3,7,5],[7,13,7,15],[7,10,7,12],[9,10,9,12],[11,10,11,12],[6,20,6,21],[6,32,6,33],[7,20,7,21],[7,32,7,33],[8,20,8,21]]}
[null,null,null,null,null,null,null,null,null,null,null,null,null,null,null,null,null,null,null,null,null,null,null,null,null,null,null,null,null,null,null,null,null,null,null,null,null,null,null,null,null,null,null,null,null,"Essential Unit Conversion"]
["Universal Calculation Spreadsheets applicable for the Emissions of Ethanol Industry",null,null,null,null,null,null,null,null,null,null,null,null,null,null,null,null,null,null,null,"Please, enter information describing specific permit limits or source specific emissions guarantee. If the limit or data are in other units, please, convert them to lb/mmBtu"]
["Engines",null,null,null,null,null,null,null,null,null,null,null,null,null,null,null,null,null,null,null,null,null,null,null,null,null,null,null,null,null,null,null,null,null,null,null,null,null,null,null,null,null,null,null,null,"From ",null,"To"]
[null,null,null,null,null,null,null,null,null,null,null,null,null,null,null,null,null,null,null,null,null,null,"1st Compression Engine","2nd Compression Engine","3rd Compression Engine","4th Compression Engine","5th Compression Engine","6th Compression Engine","7th Compression Engine","8th Compression Engine","9th Compression Engine","10th Compression Engine",null,null,"1st Compression Engine","2nd Spark Ignition Engine","3rd Spark Ignition Engine","4th Spark Ignition Engine","5th Spark Ignition Engine","6th Spark Ignition Engine","7th Spark Ignition Engine","8th Spark Ignition Engine","9th Spark Ignition Engine","10th Spark Ignition Engine",null,null,"MMSCF",{"$f":"AT4*1020","v":0},"MMBtu"]
[null,null,null,null,null,null,null,null,null,null,null,null,null,null,null,null,null,null,null,null,"PMfilterable",null,null,null,null,null,null,null,null,null,null,null,"PMfilterable"]
[null,null,null,null,null,null,null,null,null,null,null,null,null,null,null,null,null,null,null,null,"PM10",null,null,null,null,null,null,null,null,null,null,null,"PM10",null,null,null,null,null,null,null,null,null,null,null,null,null,"lb/MMSCF",{"$f":"AT6/1020","v":0},"lb/MMBtu"]
["Questions",null,null,"Current Capacity",null,null,null,null,null,null,null,null,null,"Maximum Proposed Capacity",null,null,null,null,null,null,"PM2.5",null,null,null,null,null,null,null,null,null,null,null,"PM2.5"]
[null,null,null,null,null,null,null,null,null,null,null,null,null,null,null,null,null,null,null,null,"SO2",null,null,null,null,null,null,null,null,null,null,null,"SO2",null,null,null,null,null,null,null,null,null,null,null,null,null,"lb/hr",{"$f":"AT8/AT9","v":0},"lb/MMBtu"]
[null,null,null,null,null,null,null,null,null,null,null,null,null,null,null,null,null,null,null,null,"NOx",null,null,null,null,null,null,null,null,null,null,null,"NOx",null,null,null,null,null,null,null,null,null,null,null,null,1,"MMBtu/hr"]
["Number of Compression Engines",null,null,null,null,null,"Units",null,null,null,"Number of Compression Engines",null,null,null,null,null,"Units",null,null,null,"CO",null,null,null,null,null,null,null,null,null,null,null,"CO"]
[null,null,null,null,null,null,null,null,null,null,null,null,null,null,null,null,null,null,null,null,"VOC",null,null,null,null,null,null,null,null,null,null,null,"VOC"]
["Number of Spark Ignition Engines",null,null,null,null,null,"Units",null,null,null,"Number of Spark Ignition Engines",null,null,null,null,null,"Units",null,null,null,"Individual HAP",null,null,null,null,null,null,null,null,null,null,null,"Individual HAP"]
[null,null,null,null,null,null,null,null,null,null,null,null,null,null,null,null,null,null,null,null,"Acetaldehyde",null,null,null,null,null,null,null,null,null,null,null,"Acetaldehyde"]
[null,null,null,null,null,null,null,null,null,null,null,null,null,null,null,null,null,null,null,null,"Acrolein",null,null,null,null,null,null,null,null,null,null,null,"Acrolein"]
[null,"ID","Emission Unit Name","Engine Rating (hp)","Maximum Fuel Capacity \n(gal/hr)","Manufacturer Emission's Gurantee Available","Restricted operating hours",null,null,null,null,"ID","Emission Unit Name","Engine Rating (hp)","Maximum Fuel Capacity \n(gal/hr)","Manufacturer Emission's Gurantee Available","Restricted operating hours",null,null,null,"Arsenic compounds",null,null,null,null,null,null,null,null,null,null,null,"Arsenic compounds"]
["1st Compression Engine",null,null,null,null,null,8760,null,null,null,"1st Compression Engine",null,null,null,null,null,8760,null,null,null,"Benzene",null,null,null,null,null,null,null,null,null,null,null,"Benzene"]
["2nd Compression Engine",null,null,null,null,null,8760,null,null,null,"2nd Compression Engine",null,null,null,null,null,8760,null,null,null,"Benzyl chloride",null,null,null,null,null,null,null,null,null,null,null,"Benzyl chloride"]
["3rd Compression Engine",null,null,null,null,null,8760,null,null,null,"3rd Compression Engine",null,null,null,null,null,8760,null,null,null,"Beryllium compounds",null,null,null,null,null,null,null,null,null,null,null,"Beryllium compounds"]
["4th Compression Engine",null,null,null,null,null,8760,null,null,null,"4th Compression Engine",null,null,null,null,null,8760,null,null,null,"Cadmium compounds",null,null,null,null,null,null,null,null,null,null,null,"Cadmium compounds"]
["5th Compression Engine",null,null,null,null,null,8760,null,null,null,"5th Compression Engine",null,null,null,null,null,8760,null,null,null,"Cyanide compounds",null,null,null,null,null,null,null,null,null,null,null,"Cyanide compounds"]
["6th Compression Engine",null,null,null,null,null,8760,null,null,null,"6th Compression Engine",null,null,null,null,null,8760,null,null,null,"Formaldehyde",null,null,null,null,null,null,null,null,null,null,null,"Formaldehyde"]
["7th Compression Engine",null,null,null,null,null,8760,null,null,null,"7th Compression Engine",null,null,null,null,null,8760,null,null,null,"n-Hexane",null,null,null,null,null,null,null,null,null,null,null,"n-Hexane"]
["8th Compression Engine",null,null,null,null,null,8760,null,null,null,"8th Compression Engine",null,null,null,null,null,8760,null,null,null,"Hydrochloric acid",null,null,null,null,null,null,null,null,null,null,null,"Hydrochloric acid"]
["9th Compression Engine",null,null,null,null,null,8760,null,null,null,"9th Compression Engine",null,null,null,null,null,8760,null,null,null,"Lead Compounds",null,null,null,null,null,null,null,null,null,null,null,"Lead Compounds"]
["10th Compression Engine",null,null,null,null,null,8760,null,null,null,"10th Compression Engine",null,null,null,null,null,8760,null,null,null,"Mercury compounds",null,null,null,null,null,null,null,null,null,null,null,"Mercury compounds"]
[null,null,null,null,null,null,null,null,null,null,null,null,null,null,null,null,null,null,null,null,"Methanol",null,null,null,null,null,null,null,null,null,null,null,"Methanol"]
[null,null,null,null,null,null,null,null,null,null,null,null,null,null,null,null,null,null,null,null,"Methyl hydrazine",null,null,null,null,null,null,null,null,null,null,null,"Methyl hydrazine"]
[null,"ID","Emission Unit Name","Engine Rating (hp)","Fuel Use Factor (Btu/hp-hr)","Manufacturer Emission's Gurantee Available","Fuel Type","Engine Configuration","Restricted operating hours",null,null,"ID","Emission Unit Name","Engine Rating (hp)","Fuel Use Factor (Btu/hp-hr)","Manufacturer Emission's Gurantee Available","Fuel Type","Engine Configuration","Restricted operating hours",null,"Selenium compounds",null,null,null,null,null,null,null,null,null,null,null,"Selenium compounds"]
["1st Spark Ignition Engine",null,null,null,null,null,null,null,8760,null,"1st Spark Ignition Engine",null,null,null,null,null,null,null,8760,null,"Other HAPs",null,null,null,null,null,null,null,null,null,null,null,"Other HAPs"]
["2nd Spark Ignition Engine",null,null,null,null,null,null,null,8760,null,"2nd Spark Ignition Engine",null,null,null,null,null,null,null,8760,null,"Total HAPs",null,null,null,null,null,null,null,null,null,null,null,"Total HAPs"]
["3rd Spark Ignition Engine",null,null,null,null,null,null,null,8760,null,"3rd Spark Ignition Engine",null,null,null,null,null,null,null,8760,null,"Green House Gasses",null,null,null,null,null,null,null,null,null,null,null,"Green House Gasses"]
["4th Spark Ignition Engine",null,null,null,null,null,null,null,8760,null,"4th Spark Ignition Engine",null,null,null,null,null,null,null,8760,null,"  Carbon Dioxide (CO2)",null,null,null,null,null,null,null,null,null,null,null,"  Carbon Dioxide (CO2)"]
["5th Spark Ignition Engine",null,null,null,null,null,null,null,8760,null,"5th Spark Ignition Engine",null,null,null,null,null,null,null,8760,null,"  Methane (CH4)",null,null,null,null,null,null,null,null,null,null,null,"  Methane (CH4)"]
["6th Spark Ignition Engine",null,null,null,null,null,null,null,8760,null,"6th Spark Ignition Engine",null,null,null,null,null,null,null,8760,null,"  Nitrous Oxide (N2O)",null,null,null,null,null,null,null,null,null,null,null,"  Nitrous Oxide (N2O)"]
["7th Spark Ignition Engine",null,null,null,null,null,null,null,8760,null,"7th Spark Ignition Engine",null,null,null,null,null,null,null,8760]
["8th Spark Ignition Engine",null,null,null,null,null,null,null,8760,null,"8th Spark Ignition Engine",null,null,null,null,null,null,null,8760]
["9th Spark Ignition Engine",null,null,null,null,null,null,null,8760,null,"9th Spark Ignition Engine",null,null,null,null,null,null,null,8760]
["10th Spark Ignition Engine",null,null,null,null,null,null,null,8760,null,"10th Spark Ignition Engine",null,null,null,null,null,null,null,8760]
[]
[]
[]
[null,null,null,null,null,null,null,null,null,null,null,null,null,null,null,null,null,null,null,null,null,null,"1st Compression Engine","2nd Compression Engine","3rd Compression Engine","4th Compression Engine","5th Compression Engine","6th Compression Engine","7th Compression Engine","8th Compression Engine","9th Compression Engine","10th Compression Engine",null,null,"1st Compression Engine","2nd Spark Ignition Engine","3rd Spark Ignition Engine","4th Spark Ignition Engine","5th Spark Ignition Engine","6th Spark Ignition Engine","7th Spark Ignition Engine","8th Spark Ignition Engine","9th Spark Ignition Engine","10th Spark Ignition Engine"]
[null,null,null,null,null,null,null,null,null,null,null,null,null,null,null,null,null,null,null,null,"PMfilterable",null,null,null,null,null,null,null,null,null,null,null,"PMfilterable"]
[null,null,null,null,null,null,null,null,null,null,null,null,null,null,null,null,null,null,null,null,"PM10",null,null,null,null,null,null,null,null,null,null,null,"PM10"]
[null,null,null,null,null,null,null,null,null,null,null,null,null,null,null,null,null,null,null,null,"PM2.5",null,null,null,null,null,null,null,null,null,null,null,"PM2.5"]
[null,null,null,null,null,null,null,null,null,null,null,null,null,null,null,null,null,null,null,null,"SO2",null,null,null,null,null,null,null,null,null,null,null,"SO2"]
[null,null,null,null,null,null,null,null,null,null,null,null,null,null,null,null,null,null,null,null,"NOx",null,null,null,null,null,null,null,null,null,null,null,"NOx"]
[null,null,null,null,null,null,null,null,null,null,null,null,null,null,null,null,null,null,null,null,"CO",null,null,null,null,null,null,null,null,null,null,null,"CO"]
[null,null,null,null,null,null,null,null,null,null,null,null,null,null,null,null,null,null,null,null,"VOC",null,null,null,null,null,null,null,null,null,null,null,"VOC"]
[null,null,null,null,null,null,null,null,null,null,null,null,null,null,null,null,null,null,null,null,"Individual HAP",null,null,null,null,null,null,null,null,null,null,null,"Individual HAP"]
[null,null,null,null,null,null,null,null,null,null,null,null,null,null,null,null,null,null,null,null,"Acetaldehyde",null,null,null,null,null,null,null,null,null,null,null,"Acetaldehyde"]
[null,null,null,null,null,null,null,null,null,null,null,null,null,null,null,null,null,null,null,null,"Acrolein",null,null,null,null,null,null,null,null,null,null,null,"Acrolein"]
[null,null,null,null,null,null,null,null,null,null,null,null,null,null,null,null,null,null,null,null,"Arsenic compounds",null,null,null,null,null,null,null,null,null,null,null,"Arsenic compounds"]
[null,null,null,null,null,null,null,null,null,null,null,null,null,null,null,null,null,null,null,null,"Benzene",null,null,null,null,null,null,null,null,null,null,null,"Benzene"]
[null,null,null,null,null,null,null,null,null,null,null,null,null,null,null,null,null,null,null,null,"Benzyl chloride",null,null,null,null,null,null,null,null,null,null,null,"Benzyl chloride"]
[null,null,null,null,null,null,null,null,null,null,null,null,null,null,null,null,null,null,null,null,"Beryllium compounds",null,null,null,null,null,null,null,null,null,null,null,"Beryllium compounds"]
[null,null,null,null,null,null,null,null,null,null,null,null,null,null,null,null,null,null,null,null,"Cadmium compounds",null,null,null,null,null,null,null,null,null,null,null,"Cadmium compounds"]
[null,null,null,null,null,null,null,null,null,null,null,null,null,null,null,null,null,null,null,null,"Cyanide compounds",null,null,null,null,null,null,null,null,null,null,null,"Cyanide compounds"]
[null,null,null,null,null,null,null,null,null,null,null,null,null,null,null,null,null,null,null,null,"Formaldehyde",null,null,null,null,null,null,null,null,null,null,null,"Formaldehyde"]
[null,null,null,null,null,null,null,null,null,null,null,null,null,null,null,null,null,null,null,null,"n-Hexane",null,null,null,null,null,null,null,null,null,null,null,"n-Hexane"]
[null,null,null,null,null,null,null,null,null,null,null,null,null,null,null,null,null,null,null,null,"Hydrochloric acid",null,null,null,null,null,null,null,null,null,null,null,"Hydrochloric acid"]
[null,null,null,null,null,null,null,null,null,null,null,null,null,null,null,null,null,null,null,null,"Lead Compounds",null,null,null,null,null,null,null,null,null,null,null,"Lead Compounds"]
[null,null,null,null,null,null,null,null,null,null,null,null,null,null,null,null,null,null,null,null,"Mercury compounds",null,null,null,null,null,null,null,null,null,null,null,"Mercury compounds"]
[null,null,null,null,null,null,null,null,null,null,null,null,null,null,null,null,null,null,null,null,"Methanol",null,null,null,null,null,null,null,null,null,null,null,"Methanol"]
[null,null,null,null,null,null,null,null,null,null,null,null,null,null,null,null,null,null,null,null,"Methyl hydrazine",null,null,null,null,null,null,null,null,null,null,null,"Methyl hydrazine"]
[null,null,null,null,null,null,null,null,null,null,null,null,null,null,null,null,null,null,null,null,"Selenium compounds",null,null,null,null,null,null,null,null,null,null,null,"Selenium compounds"]
[null,null,null,null,null,null,null,null,null,null,null,null,null,null,null,null,null,null,null,null,"Other HAPs",null,null,null,null,null,null,null,null,null,null,null,"Other HAPs"]
[null,null,null,null,null,null,null,null,null,null,null,null,null,null,null,null,null,null,null,null,"Total HAPs",null,null,null,null,null,null,null,null,null,null,null,"Total HAPs"]
[null,null,null,null,null,null,null,null,null,null,null,null,null,null,null,null,null,null,null,null,"Green House Gasses",null,null,null,null,null,null,null,null,null,null,null,"Green House Gasses"]
[null,null,null,null,null,null,null,null,null,null,null,null,null,null,null,null,null,null,null,null,"  Carbon Dioxide (CO2)",null,null,null,null,null,null,null,null,null,null,null,"  Carbon Dioxide (CO2)"]
[null,null,null,null,null,null,null,null,null,null,null,null,null,null,null,null,null,null,null,null,"  Methane (CH4)",null,null,null,null,null,null,null,null,null,null,null,"  Methane (CH4)"]
[null,null,null,null,null,null,null,null,null,null,null,null,null,null,null,null,null,null,null,null,"  Nitrous Oxide (N2O)",null,null,null,null,null,null,null,null,null,null,null,"  Nitrous Oxide (N2O)"]

{"sheet":"16) Others","index":15,"n_rows":60,"n_cols":45,"rows_kept":60,"cut":false,"hidden":false,"merged":[[57,23,57,24],[58,23,58,24],[59,23,59,24],[50,23,50,24],[51,23,51,24],[52,23,52,24],[53,23,53,24],[54,23,54,24],[55,23,55,24],[49,23,49,24],[38,23,38,24],[39,23,39,24],[40,23,40,24],[41,23,41,24],[42,23,42,24],[43,23,43,24],[44,23,44,24],[45,23,45,24],[46,23,46,24],[47,23,47,24],[48,23,48,24],[37,23,37,24],[25,25,25,34],[25,35,25,44],[27,23,27,24],[28,23,28,24],[29,23,29,24],[30,23,30,24],[31,23,31,24],[32,23,32,24],[33,23,33,24],[35,23,35,24],[36,23,36,24],[34,23,34,24],[45,0,45,1],[59,0,59,1],[25,2,25,11],[25,12,25,21],[52,0,52,1],[53,0,53,1],[54,0,54,1],[55,0,55,1],[57,0,57,1],[58,0,58,1],[46,0,46,1],[47,0,47,1],[48,0,48,1],[49,0,49,1],[50,0,50,1],[51,0,51,1],[39,0,39,1],[41,0,41,1],[42,0,42,1],[43,0,43,1],[44,0,44,1],[40,0,40,1],[35,0,35,1],[36,0,36,1],[37,0,37,1],[38,0,38,1],[34,0,34,1],[5,11,5,14],[6,3,6,6],[6,11,6,14],[33,0,33,1],[8,0,8,2],[8,3,8,5],[8,8,8,10],[8,11,8,13],[23,0,23,6],[27,0,27,1],[28,0,28,1],[29,0,29,1],[30,0,30,1],[31,0,31,1],[32,0,32,1]]}
[]
["Universal Calculation Spreadsheets applicable for the Emissions of Ethanol Industry"]
["Supplemental Units"]
[]
["Please, enter information describing the supplemental units"]
[]
[null,null,null,"Current Capacity",null,null,null,null,null,null,null,"Maximum Proposed Capacity"]
[]
["Number of Supplemental Units",null,null,null,null,null,"Units",null,"Number of Supplemental Units",null,null,null,null,null,"Units"]
[]
["Please, enter information describing unit. These could cover all the units that are not included in the sheet",null,null,null,null,null,null,null,"Please, enter information describing unit. These could cover all the units that are not included in the sheet"]
[null,"ID","Emission Unit Name",null,null,null,null,null,null,"ID","Emission Unit Name"]
["1st Suppl. Unit",null,null,null,null,null,null,null,"1st Suppl. Unit"]
["2nd Suppl. Unit",null,null,null,null,null,null,null,"2nd Suppl. Unit"]
["3rd Suppl. Unit",null,null,null,null,null,null,null,"3rd Suppl. Unit"]
["4th Suppl. Unit",null,null,null,null,null,null,null,"4th Suppl. Unit"]
["5th Suppl. Unit",null,null,null,null,null,null,null,"5th Suppl. Unit"]
["6th Suppl. Unit",null,null,null,null,null,null,null,"6th Suppl. Unit"]
["7th Suppl. Unit",null,null,null,null,null,null,null,"7th Suppl. Unit"]
["8th Suppl. Unit",null,null,null,null,null,null,null,"8th Suppl. Unit"]
["9th Suppl. Unit",null,null,null,null,null,null,null,"9th Suppl. Unit"]
["10th Suppl. Unit",null,null,null,null,null,null,null,"10th Suppl. Unit"]
[]
["Please, enter the emissions of the units in lb/hr and ton/yr"]
[]
[null,null,"lb/hr",null,null,null,null,null,null,null,null,null,"ton/yr",null,null,null,null,null,null,null,null,null,null,null,null,"lb/hr",null,null,null,null,null,null,null,null,null,"ton/yr"]
[null,null,{"$f":"B13","v":0},{"$f":"B14","v":0},{"$f":"B15","v":0},{"$f":"B16","v":0},{"$f":"B17","v":0},{"$f":"B18","v":0},{"$f":"B19","v":0},{"$f":"B20","v":0},{"$f":"B21","v":0},{"$f":"B22","v":0},{"$f":"B13","v":0},{"$f":"B14","v":0},{"$f":"B15","v":0},{"$f":"B16","v":0},{"$f":"B17","v":0},{"$f":"B18","v":0},{"$f":"B19","v":0},{"$f":"B20","v":0},{"$f":"B21","v":0},{"$f":"B22","v":0},null,null,null,{"$f":"J13","v":0},{"$f":"J14","v":0},{"$f":"J15","v":0},{"$f":"J16","v":0},{"$f":"J17","v":0},{"$f":"J18","v":0},{"$f":"J19","v":0},{"$f":"J20","v":0},{"$f":"J21","v":0},{"$f":"J22","v":0},{"$f":"J13","v":0},{"$f":"J14","v":0},{"$f":"J15","v":0},{"$f":"J16","v":0},{"$f":"J17","v":0},{"$f":"J18","v":0},{"$f":"J19","v":0},{"$f":"J20","v":0},{"$f":"J21","v":0},{"$f":"J22","v":0}]
["PMfilterable",null,null,null,null,null,null,null,null,null,null,null,null,null,null,null,null,null,null,null,null,null,null,"PMfilterable"]
["PM10",null,null,null,null,null,null,null,null,null,null,null,null,null,null,null,null,null,null,null,null,null,null,"PM10"]
["PM2.5",null,null,null,null,null,null,null,null,null,null,null,null,null,null,null,null,null,null,null,null,null,null,"PM2.5"]
["SO2",null,null,null,null,null,null,null,null,null,null,null,null,null,null,null,null,null,null,null,null,null,null,"SO2"]
["NOx",null,null,null,null,null,null,null,null,null,null,null,null,null,null,null,null,null,null,null,null,null,null,"NOx"]
["CO",null,null,null,null,null,null,null,null,null,null,null,null,null,null,null,null,null,null,null,null,null,null,"CO"]
["VOC",null,null,null,null,null,null,null,null,null,null,null,null,null,null,null,null,null,null,null,null,null,null,"VOC"]
["Individual HAP",null,null,null,null,null,null,null,null,null,null,null,null,null,null,null,null,null,null,null,null,null,null,"Individual HAP"]
["  Acetaldehyde",null,null,null,null,null,null,null,null,null,null,null,null,null,null,null,null,null,null,null,null,null,null,"  Acetaldehyde"]
["  Formaldehyde",null,null,null,null,null,null,null,null,null,null,null,null,null,null,null,null,null,null,null,null,null,null,"  Formaldehyde"]
["  Acrolein",null,null,null,null,null,null,null,null,null,null,null,null,null,null,null,null,null,null,null,null,null,null,"  Acrolein"]
["  Methanol",null,null,null,null,null,null,null,null,null,null,null,null,null,null,null,null,null,null,null,null,null,null,"  Methanol"]
["  Benzene ",null,null,null,null,null,null,null,null,null,null,null,null,null,null,null,null,null,null,null,null,null,null,"  Benzene "]
["  Dichlorobenzene ",null,null,null,null,null,null,null,null,null,null,null,null,null,null,null,null,null,null,null,null,null,null,"  Dichlorobenzene "]
["  Hexane ",null,null,null,null,null,null,null,null,null,null,null,null,null,null,null,null,null,null,null,null,null,null,"  Hexane "]
["  Lead Compounds",null,null,null,null,null,null,null,null,null,null,null,null,null,null,null,null,null,null,null,null,null,null,"  Lead Compounds"]
["  Naphthalene ",null,null,null,null,null,null,null,null,null,null,null,null,null,null,null,null,null,null,null,null,null,null,"  Naphthalene "]
["  Polycyclic Organic Matter ",null,null,null,null,null,null,null,null,null,null,null,null,null,null,null,null,null,null,null,null,null,null,"  Polycyclic Organic Matter "]
["  Toluene ",null,null,null,null,null,null,null,null,null,null,null,null,null,null,null,null,null,null,null,null,null,null,"  Toluene "]
["  Arsenic Compounds",null,null,null,null,null,null,null,null,null,null,null,null,null,null,null,null,null,null,null,null,null,null,"  Arsenic Compounds"]
["  Beryllium Compounds",null,null,null,null,null,null,null,null,null,null,null,null,null,null,null,null,null,null,null,null,null,null,"  Beryllium Compounds"]
["  Cadmium Compounds",null,null,null,null,null,null,null,null,null,null,null,null,null,null,null,null,null,null,null,null,null,null,"  Cadmium Compounds"]
["  Chromium Compounds",null,null,null,null,null,null,null,null,null,null,null,null,null,null,null,null,null,null,null,null,null,null,"  Chromium Compounds"]
["  Cobalt Compounds",null,null,null,null,null,null,null,null,null,null,null,null,null,null,null,null,null,null,null,null,null,null,"  Cobalt Compounds"]
["  Manganese Compounds",null,null,null,null,null,null,null,null,null,null,null,null,null,null,null,null,null,null,null,null,null,null,"  Manganese Compounds"]
["  Mercury Compounds",null,null,null,null,null,null,null,null,null,null,null,null,null,null,null,null,null,null,null,null,null,null,"  Mercury Compounds"]
["  Nickel Compounds",null,null,null,null,null,null,null,null,null,null,null,null,null,null,null,null,null,null,null,null,null,null,"  Nickel Compounds"]
["  Selenium Compounds",null,null,null,null,null,null,null,null,null,null,null,null,null,null,null,null,null,null,null,null,null,null,"  Selenium Compounds"]
["Total HAPs",null,null,null,null,null,null,null,null,null,null,null,null,null,null,null,null,null,null,null,null,null,null,"Total HAPs"]
["Greenhouse gasses",null,null,null,null,null,null,null,null,null,null,null,null,null,null,null,null,null,null,null,null,null,null,"Greenhouse gasses"]
["  Carbon Dioxide (CO2)",null,null,null,null,null,null,null,null,null,null,null,null,null,null,null,null,null,null,null,null,null,null,"  Carbon Dioxide (CO2)"]
["  Methane (CH4)",null,null,null,null,null,null,null,null,null,null,null,null,null,null,null,null,null,null,null,null,null,null,"  Methane (CH4)"]
["  Nitrous Oxide (N2O)",null,null,null,null,null,null,null,null,null,null,null,null,null,null,null,null,null,null,null,null,null,null,"  Nitrous Oxide (N2O)"]

{"sheet":"Results","index":16,"n_rows":131,"n_cols":49,"rows_kept":131,"cut":false,"hidden":false,"merged":[[91,1,91,16],[91,19,91,34],[4,0,5,0],[47,0,48,0],[90,0,91,0],[5,1,5,16],[48,1,48,16],[4,36,5,36],[47,36,48,36],[90,36,91,36],[4,18,5,18],[47,18,48,18],[90,18,91,18],[5,19,5,34],[48,19,48,34],[5,44,5,48],[48,44,48,48],[91,44,91,48],[91,37,91,41],[48,37,48,41],[4,43,5,43],[47,43,48,43],[90,43,91,43],[5,37,5,41]]}
[]
["Universal Calculation Spreadsheets applicable for the Emissions of Ethanol Industry"]
["Results",null,null,null,null,null,null,null,null,null,null,null,null,null,null,null,null,null,"Results Summary",null,null,null,null,null,null,null,null,null,null,null,null,null,null,null,null,null,"Results Summary",null,null,null,null,null,null,"Results Summary"]
["Current PTE, (lb/hr)",null,null,null,null,null,null,null,null,null,null,null,null,null,null,null,null,null,"Current PTE, (ton/yr)",null,null,null,null,null,null,null,null,null,null,null,null,null,null,null,null,null,"Current Fugitive PTE, (lb/hr)",null,null,null,null,null,null,"Current Fugitive PTE, (ton/yr)"]
["Pollutants","Grain Receiving","Grain Handling","Dryers","Fermenters","DDGS dryers","Solids storage","Scalpers","Hammer Mills","Flares","Solids shipping","liquid loadout and vapour recovery","tanks","Cooling Tower","Engines","boilers/rto","Suppl. Units",null,"Pollutants","Grain Receiving","Grain Handling","Dryers","Fermenters","DDGS dryers","Solids storage","Scalpers","Hammer Mills","Flares","Solids shipping","liquid loadout and vapour recovery","tanks","Cooling Tower","Engines","boilers/rto","Suppl. Units",null,"Pollutants","Grain Receiving","Grain Handling","Solids storage","Equipment leaks","haul roads",null,"Pollutants","Grain Receiving","Grain Handling","Solids storage","Equipment leaks","haul roads"]
[null,"(lb/hr)",null,null,null,null,null,null,null,null,null,null,null,null,null,null,null,null,null,"(tons/yr)",null,null,null,null,null,null,null,null,null,null,null,null,null,null,null,null,null,"(lb/hr)",null,null,null,null,null,null,"(tons/yr)"]
["  PMfilterable",{"$f":"'3) Calculations'!O37","v":0},{"$f":"'3) Calculations'!AG59","v":0},{"$f":"'5) Calculations'!CJ7","v":0},{"$f":"SUM('7) Ferm'!C41:L41)","v":0},{"$f":"'8) Calculations'!AJ8","v":0},{"$f":"'4) Calculations'!I14","v":0},{"$f":"'6) Calculations'!E24","v":0},{"$f":"'6) Calculations'!E41","v":0},{"$f":"'10) Calc Flares'!C52","v":0},{"$f":"'9) Calculations'!C8","v":0},null,null,{"$f":"'13) Cooling Tower'!B36","v":0},{"$f":"'15) Calculations'!F204","v":0},{"$f":"'7) Calculations'!AS5","v":0},{"$f":"SUM('16) Others'!C28:L28)","v":0},null,"  PMfilterable",{"$f":"'3) Calculations'!P37","v":0},{"$f":"'3) Calculations'!AJ59","v":0},{"$f":"'5) Calculations'!CW7","v":0},{"$f":"SUM('7) Ferm'!P41:Y41)","v":0},{"$f":"'8) Calculations'!AW8","v":0},{"$f":"'4) Calculations'!J14","v":0},{"$f":"'6) Calculations'!H24","v":0},{"$f":"'6) Calculations'!H41","v":0},{"$f":"'10) Calc Flares'!D52","v":0},{"$f":"'9) Calculations'!D8","v":0},null,null,{"$f":"'13) Cooling Tower'!C36","v":0},{"$f":"'15) Calculations'!G204","v":0},{"$f":"P7*8760/2000","v":0},{"$f":"SUM('16) Others'!M28:V28)","v":0},null,"  PMfilterable",{"$f":"'3) Calculations'!E78","v":0},{"$f":"'3) Calculations'!AA59","v":0},{"$f":"AU7*2000/8760","v":0},null,{"$f":"AW7*2000/8760","v":0},null,"  PMfilterable",{"$f":"'3) Calculations'!H78","v":0},{"$f":"'3) Calculations'!AD59","v":0},{"$f":"'4) Calculations'!B46","v":0},null,{"$f":"'12) Haul Roads'!G50","v":0}]
["  PM10",{"$f":"'3) Calculations'!Q37","v":0},{"$f":"'3) Calculations'!AH59","v":0},{"$f":"'5) Calculations'!CJ8","v":0},{"$f":"SUM('7) Ferm'!C42:L42)","v":0},{"$f":"'8) Calculations'!AJ9","v":0},{"$f":"'4) Calculations'!I15","v":0},{"$f":"'6) Calculations'!F24","v":0},{"$f":"'6) Calculations'!F41","v":0},{"$f":"'10) Calc Flares'!C53","v":0},{"$f":"'9) Calculations'!C9","v":0},null,null,{"$f":"'13) Cooling Tower'!B37","v":0},{"$f":"'15) Calculations'!F205","v":0},{"$f":"'7) Calculations'!AS6","v":0},{"$f":"SUM('16) Others'!C29:L29)","v":0},null,"  PM10",{"$f":"'3) Calculations'!R37","v":0},{"$f":"'3) Calculations'!AK59","v":0},{"$f":"'5) Calculations'!CW8","v":0},{"$f":"SUM('7) Ferm'!P42:Y42)","v":0},{"$f":"'8) Calculations'!AW9","v":0},{"$f":"'4) Calculations'!J15","v":0},{"$f":"'6) Calculations'!I24","v":0},{"$f":"'6) Calculations'!I41","v":0},{"$f":"'10) Calc Flares'!D53","v":0},{"$f":"'9) Calculations'!D9","v":0},null,null,{"$f":"'13) Cooling Tower'!C37","v":0},{"$f":"'15) Calculations'!G205","v":0},0,{"$f":"SUM('16) Others'!M29:V29)","v":0},null,"  PM10",{"$f":"'3) Calculations'!F78","v":0},{"$f":"'3) Calculations'!AB59","v":0},{"$f":"AU8*2000/8760","v":0},null,{"$f":"AW8*2000/8760","v":0},null,"  PM10",{"$f":"'3) Calculations'!I78","v":0},{"$f":"'3) Calculations'!AE59","v":0},{"$f":"'4) Calculations'!B49","v":0},null,{"$f":"'12) Haul Roads'!H50","v":0}]
["  PM2.5",{"$f":"'3) Calculations'!S37","v":0},{"$f":"'3) Calculations'!AI59","v":0},{"$f":"'5) Calculations'!CJ9","v":0},{"$f":"SUM('7) Ferm'!C43:L43)","v":0},{"$f":"'8) Calculations'!AJ10","v":0},{"$f":"'4) Calculations'!I16","v":0},{"$f":"'6) Calculations'!G24","v":0},{"$f":"'6) Calculations'!G41","v":0},{"$f":"'10) Calc Flares'!C54","v":0},{"$f":"'9) Calculations'!C10","v":0},null,null,{"$f":"'13) Cooling Tower'!B38","v":0},{"$f":"'15) Calculations'!F206","v":0},{"$f":"'7) Calculations'!AS7","v":0},{"$f":"SUM('16) Others'!C30:L30)","v":0},null,"  PM2.5",{"$f":"'3) Calculations'!T37","v":0},{"$f":"'3) Calculations'!AL59","v":0},{"$f":"'5) Calculations'!CW9","v":0},{"$f":"SUM('7) Ferm'!P43:Y43)","v":0},{"$f":"'8) Calculations'!AW10","v":0},{"$f":"'4) Calculations'!J16","v":0},{"$f":"'6) Calculations'!J24","v":0},{"$f":"'6) Calculations'!J41","v":0},{"$f":"'10) Calc Flares'!D54","v":0},{"$f":"'9) Calculations'!D10","v":0},null,null,{"$f":"'13) Cooling Tower'!C38","v":0},{"$f":"'15) Calculations'!G206","v":0},0,{"$f":"SUM('16) Others'!M30:V30)","v":0},null,"  PM2.5",{"$f":"'3) Calculations'!G78","v":0},{"$f":"'3) Calculations'!AC59","v":0},0,null,0,null,"  PM2.5",{"$f":"'3) Calculations'!J78","v":0},{"$f":"'3) Calculations'!AF59","v":0},{"$f":"'4) Calculations'!B52","v":0},null,{"$f":"'12) Haul Roads'!I50","v":0}]
["  SO2",null,null,{"$f":"'5) Calculations'!CJ10","v":0},{"$f":"SUM('7) Ferm'!C44:L44)","v":0},{"$f":"'8) Calculations'!AJ11","v":0},null,null,null,{"$f":"'10) Calc Flares'!C55","v":0},null,null,null,null,{"$f":"'15) Calculations'!F207","v":0},{"$f":"'7) Calculations'!AS8","v":0},{"$f":"SUM('16) Others'!C31:L31)","v":0},null,"  SO2",null,null,{"$f":"D10*8760/2000","v":0},{"$f":"SUM('7) Ferm'!P44:Y44)","v":0},{"$f":"'8) Calculations'!AW11","v":0},null,null,null,{"$f":"'10) Calc Flares'!D55","v":0},null,null,null,null,{"$f":"'15) Calculations'!G207","v":0},0,{"$f":"SUM('16) Others'!M31:V31)","v":0},null,"  SO2",null,null,null,null,null,null,"  SO2"]
["  NOx",null,null,{"$f":"'5) Calculations'!CJ11","v":0},{"$f":"SUM('7) Ferm'!C45:L45)","v":0},{"$f":"'8) Calculations'!AJ12","v":0},null,null,null,{"$f":"'10) Calc Flares'!C57","v":0},null,null,null,null,{"$f":"'15) Calculations'!F208","v":0},{"$f":"'7) Calculations'!AS9","v":0},{"$f":"SUM('16) Others'!C32:L32)","v":0},null,"  NOx",null,null,0,{"$f":"SUM('7) Ferm'!P45:Y45)","v":0},{"$f":"'8) Calculations'!AW12","v":0},null,null,null,{"$f":"'10) Calc Flares'!D57","v":0},null,null,null,null,{"$f":"'15) Calculations'!G208","v":0},0,{"$f":"SUM('16) Others'!M32:V32)","v":0},null,"  NOx",null,null,null,null,null,null,"  NOx"]
["  CO",null,null,{"$f":"'5) Calculations'!CJ12","v":0},{"$f":"SUM('7) Ferm'!C46:L46)","v":0},{"$f":"'8) Calculations'!AJ13","v":0},null,null,null,{"$f":"'10) Calc Flares'!C58","v":0},null,null,null,null,{"$f":"'15) Calculations'!F209","v":0},{"$f":"'7) Calculations'!AS10","v":0},{"$f":"SUM('16) Others'!C33:L33)","v":0},null,"  CO",null,null,0,{"$f":"SUM('7) Ferm'!P46:Y46)","v":0},{"$f":"'8) Calculations'!AW13","v":0},null,null,null,{"$f":"'10) Calc Flares'!D58","v":0},null,null,null,null,{"$f":"'15) Calculations'!G209","v":0},0,{"$f":"SUM('16) Others'!M33:V33)","v":0},null,"  CO",null,null,null,null,null,null,"  CO"]
["  VOC",null,null,{"$f":"'5) Calculations'!CJ13","v":0},{"$f":"SUM('7) Ferm'!C47:L47)","v":0},{"$f":"'8) Calculations'!AJ14","v":0},null,null,null,null,{"$f":"'9) Calculations'!C16","v":0},{"$f":"'10) Calculation'!M76/8760","v":0},{"$f":"'11) Tanks'!C42","v":0},{"$f":"'13) Cooling Tower'!B68","v":0},{"$f":"'15) Calculations'!F210","v":0},{"$f":"'7) Calculations'!AS11","v":0},{"$f":"SUM('16) Others'!C34:L34)","v":0},null,"  VOC",null,null,0,{"$f":"SUM('7) Ferm'!P47:Y47)","v":0},{"$f":"'8) Calculations'!AW14","v":0},null,null,null,null,{"$f":"'9) Calculations'!D16","v":0},{"$f":"'10) Calculation'!M76","v":0},{"$f":"'11) Tanks'!D42","v":0},{"$f":"'13) Cooling Tower'!C68","v":0},{"$f":"'15) Calculations'!G210","v":0},0,{"$f":"SUM('16) Others'!M34:V34)","v":0},null,"  VOC",null,null,null,{"$f":"'14) Equipment Leaks'!D18","v":0},null,null,"  VOC",null,null,null,{"$f":"'14) Equipment Leaks'!D19","v":0}]
["  Hydrogen Sulfide ",null,null,null,null,null,null,null,null,null,null,null,null,null,{"$f":"'15) Calculations'!F211","v":0},null,null,null,"  Hydrogen Sulfide ",null,null,null,null,null,null,null,null,null,null,null,null,null,{"$f":"'15) Calculations'!G211","v":0},0,null,null,"  Hydrogen Sulfide ",null,null,null,null,null,null,"  Hydrogen Sulfide "]
["  Sulfuric Acid",null,null,null,null,null,null,null,null,null,null,null,null,null,{"$f":"'15) Calculations'!F212","v":0},null,null,null,"  Sulfuric Acid",null,null,null,null,null,null,null,null,null,null,null,null,null,{"$f":"'15) Calculations'!G212","v":0},0,null,null,"  Sulfuric Acid",null,null,null,null,null,null,"  Sulfuric Acid"]
["  Fluorides ",null,null,null,null,null,null,null,null,null,null,null,null,null,{"$f":"'15) Calculations'!F213","v":0},null,null,null,"  Fluorides ",null,null,null,null,null,null,null,null,null,null,null,null,null,{"$f":"'15) Calculations'!G213","v":0},0,null,null,"  Fluorides ",null,null,null,null,null,null,"  Fluorides "]
["Individual HAP",null,null,null,null,null,null,null,null,null,null,null,null,null,{"$f":"'15) Calculations'!F214","v":0},null,null,null,"Individual HAP",null,null,null,null,null,null,null,null,null,null,null,null,null,{"$f":"'15) Calculations'!G214","v":0},null,null,null,"Individual HAP",null,null,null,null,null,null,"Individual HAP"]
["  Acetaldehyde",null,null,null,{"$f":"SUM('7) Ferm'!C49:L49)","v":0},{"$f":"'8) Calculations'!AJ16","v":0},null,null,null,null,{"$f":"'9) Calculations'!C18","v":0},{"$f":"'10) Calculation'!E82/8760","v":0},{"$f":"'11) Tanks'!C43","v":0},null,{"$f":"'15) Calculations'!F215","v":0},{"$f":"'7) Calculations'!AS13","v":0},{"$f":"SUM('16) Others'!C36:L36)","v":0},null,"  Acetaldehyde",null,null,null,{"$f":"SUM('7) Ferm'!P49:Y49)","v":0},{"$f":"'8) Calculations'!AW16","v":0},null,null,null,null,{"$f":"'9) Calculations'!D18","v":0},{"$f":"'10) Calculation'!E82","v":0},{"$f":"'11) Tanks'!D43","v":0},null,{"$f":"'15) Calculations'!G215","v":0},{"$f":"P18*8760/2000","v":0},{"$f":"SUM('16) Others'!M36:V36)","v":0},null,"  Acetaldehyde",null,null,null,{"$f":"'14) Equipment Leaks'!E24","v":0},null,null,"  Acetaldehyde",null,null,null,{"$f":"'14) Equipment Leaks'!H24","v":0}]
["  Acrolein",null,null,null,{"$f":"SUM('7) Ferm'!C51:L51)","v":0},{"$f":"'8) Calculations'!AJ18","v":0},null,null,null,null,{"$f":"'9) Calculations'!C19","v":0},null,null,null,{"$f":"'15) Calculations'!F216","v":0},{"$f":"'7) Calculations'!AS14","v":0},{"$f":"SUM('16) Others'!C38:L38)","v":0},null,"  Acrolein",null,null,null,{"$f":"SUM('7) Ferm'!P51:Y51)","v":0},{"$f":"'8) Calculations'!AW18","v":0},null,null,null,null,{"$f":"'9) Calculations'!D19","v":0},null,null,null,{"$f":"'15) Calculations'!G216","v":0},0,{"$f":"SUM('16) Others'!M38:V38)","v":0},null,"  Acrolein",null,null,null,{"$f":"'14) Equipment Leaks'!E25","v":0},null,null,"  Acrolein",null,null,null,{"$f":"'14) Equipment Leaks'!H25","v":0}]
["  Arsenic compounds",null,null,{"$f":"'5) Calculations'!CJ22","v":0},{"$f":"SUM('7) Ferm'!C60:L60)","v":0},{"$f":"'8) Calculations'!AJ27","v":0},null,null,null,null,null,null,null,null,{"$f":"'15) Calculations'!F217","v":0},{"$f":"'7) Calculations'!AS24","v":0},null,null,"  Arsenic compounds",null,null,{"$f":"D20*8760/2000","v":0},{"$f":"SUM('7) Ferm'!P60:Y60)","v":0},{"$f":"'8) Calculations'!AW27","v":0},null,null,null,null,null,null,null,null,{"$f":"'15) Calculations'!G217","v":0},0,null,null,"  Arsenic compounds",null,null,null,null,null,null,"  Arsenic compounds"]
["  Benzene",null,null,{"$f":"'5) Calculations'!CJ15","v":0},{"$f":"SUM('7) Ferm'!C53:L53)","v":0},{"$f":"'8) Calculations'!AJ20","v":0},null,null,null,{"$f":"'10) Calc Flares'!C60","v":0},null,{"$f":"'10) Calculation'!E83/8760","v":0},{"$f":"'11) Tanks'!C45","v":0},null,{"$f":"'15) Calculations'!F218","v":0},{"$f":"'7) Calculations'!AS17","v":0},{"$f":"SUM('16) Others'!C40:L40)","v":0},null,"  Benzene",null,null,0,{"$f":"SUM('7) Ferm'!P53:Y53)","v":0},{"$f":"'8) Calculations'!AW20","v":0},null,null,null,{"$f":"'10) Calc Flares'!D60","v":0},null,{"$f":"'10) Calculation'!E83","v":0},{"$f":"'11) Tanks'!D45","v":0},null,{"$f":"'15) Calculations'!G218","v":0},0,{"$f":"SUM('16) Others'!M40:V40)","v":0},null,"  Benzene",null,null,null,null,null,null,"  Benzene"]
["  Benzyl chloride",null,null,null,null,null,null,null,null,null,null,null,null,null,{"$f":"'15) Calculations'!F219","v":0},null,null,null,"  Benzyl chloride",null,null,null,null,null,null,null,null,null,null,null,null,null,{"$f":"'15) Calculations'!G219","v":0},0,null,null,"  Benzyl chloride",null,null,null,null,null,null,"  Benzyl chloride"]
["  Beryllium compounds",null,null,{"$f":"'5) Calculations'!CJ23","v":0},{"$f":"SUM('7) Ferm'!C61:L61)","v":0},{"$f":"'8) Calculations'!AJ28","v":0},null,null,null,null,null,null,null,null,{"$f":"'15) Calculations'!F220","v":0},{"$f":"'7) Calculations'!AS25","v":0},{"$f":"SUM('16) Others'!C48:L48)","v":0},null,"  Beryllium compounds",null,null,0,{"$f":"SUM('7) Ferm'!P61:Y61)","v":0},{"$f":"'8) Calculations'!AW28","v":0},null,null,null,null,null,null,null,null,{"$f":"'15) Calculations'!G220","v":0},0,{"$f":"SUM('16) Others'!M48:V48)","v":0},null,"  Beryllium compounds",null,null,null,null,null,null,"  Beryllium compounds"]
["  Cadmium compounds",null,null,{"$f":"'5) Calculations'!CJ24","v":0},{"$f":"SUM('7) Ferm'!C62:L62)","v":0},{"$f":"'8) Calculations'!AJ29","v":0},null,null,null,null,null,null,null,null,{"$f":"'15) Calculations'!F221","v":0},{"$f":"'7) Calculations'!AS26","v":0},{"$f":"SUM('16) Others'!C49:L49)","v":0},null,"  Cadmium compounds",null,null,0,{"$f":"SUM('7) Ferm'!P62:Y62)","v":0},{"$f":"'8) Calculations'!AW29","v":0},null,null,null,null,null,null,null,null,{"$f":"'15) Calculations'!G221","v":0},0,{"$f":"SUM('16) Others'!M49:V49)","v":0},null,"  Cadmium compounds",null,null,null,null,null,null,"  Cadmium compounds"]
["  Cyanide compounds",null,null,null,null,null,null,null,null,null,null,null,null,null,{"$f":"'15) Calculations'!F222","v":0},null,null,null,"  Cyanide compounds",null,null,null,null,null,null,null,null,null,null,null,null,null,{"$f":"'15) Calculations'!G222","v":0},0,null,null,"  Cyanide compounds",null,null,null,null,null,null,"  Cyanide compounds"]
["  Formaldehyde",null,null,null,{"$f":"SUM('7) Ferm'!C50:L50)","v":0},{"$f":"'8) Calculations'!AJ17","v":0},null,null,null,{"$f":"'10) Calc Flares'!C62","v":0},{"$f":"'9) Calculations'!C20","v":0},null,null,null,{"$f":"'15) Calculations'!F223","v":0},{"$f":"'7) Calculations'!AS15","v":0},{"$f":"SUM('16) Others'!C37:L37)","v":0},null,"  Formaldehyde",null,null,null,{"$f":"SUM('7) Ferm'!P50:Y50)","v":0},{"$f":"'8) Calculations'!AW17","v":0},null,null,null,{"$f":"'10) Calc Flares'!D62","v":0},{"$f":"'9) Calculations'!D20","v":0},null,null,null,{"$f":"'15) Calculations'!G223","v":0},0,{"$f":"SUM('16) Others'!M37:V37)","v":0},null,"  Formaldehyde",null,null,null,{"$f":"'14) Equipment Leaks'!E26","v":0},null,null,"  Formaldehyde",null,null,null,{"$f":"'14) Equipment Leaks'!H26","v":0}]
["  Hexane",null,null,{"$f":"'5) Calculations'!CJ17","v":0},{"$f":"SUM('7) Ferm'!C55:L55)","v":0},{"$f":"'8) Calculations'!AJ22","v":0},null,null,null,{"$f":"'10) Calc Flares'!C63","v":0},null,{"$f":"'10) Calculation'!E87/8760","v":0},{"$f":"'11) Tanks'!C49","v":0},null,{"$f":"'15) Calculations'!F224","v":0},{"$f":"'7) Calculations'!AS19","v":0},{"$f":"SUM('16) Others'!C42:L42)","v":0},null,"  Hexane",null,null,0,{"$f":"SUM('7) Ferm'!P55:Y55)","v":0},{"$f":"'8) Calculations'!AW22","v":0},null,null,null,{"$f":"'10) Calc Flares'!D63","v":0},null,{"$f":"'10) Calculation'!E87","v":0},{"$f":"'11) Tanks'!D49","v":0},null,{"$f":"'15) Calculations'!G224","v":0},0,{"$f":"SUM('16) Others'!M42:V42)","v":0},null,"  Hexane",null,null,null,null,null,null,"  Hexane"]
["  Hydrochloric acid",null,null,null,null,null,null,null,null,null,null,null,null,null,{"$f":"'15) Calculations'!F225","v":0},null,null,null,"  Hydrochloric acid",null,null,null,null,null,null,null,null,null,null,null,null,null,{"$f":"'15) Calculations'!G225","v":0},0,null,null,"  Hydrochloric acid",null,null,null,null,null,null,"  Hydrochloric acid"]
["  Lead Compounds",null,null,null,null,null,null,null,null,{"$f":"'10) Calc Flares'!C64","v":0},null,null,null,null,{"$f":"'15) Calculations'!F226","v":0},null,{"$f":"SUM('16) Others'!C43:L43)","v":0},null,"  Lead Compounds",null,null,null,null,null,null,null,null,{"$f":"'10) Calc Flares'!D64","v":0},null,null,null,null,{"$f":"'15) Calculations'!G226","v":0},0,{"$f":"SUM('16) Others'!M43:V43)","v":0},null,"  Lead Compounds",null,null,null,null,null,null,"  Lead Compounds"]
["  Mercury compounds",null,null,{"$f":"'5) Calculations'!CJ28","v":0},{"$f":"SUM('7) Ferm'!C66:L66)","v":0},{"$f":"'8) Calculations'!AJ33","v":0},null,null,null,null,null,null,null,null,{"$f":"'15) Calculations'!F227","v":0},{"$f":"'7) Calculations'!AS30","v":0},{"$f":"SUM('16) Others'!C53:L53)","v":0},null,"  Mercury compounds",null,null,0,{"$f":"SUM('7) Ferm'!P66:Y66)","v":0},{"$f":"'8) Calculations'!AW33","v":0},null,null,null,null,null,null,null,null,{"$f":"'15) Calculations'!G227","v":0},0,{"$f":"SUM('16) Others'!M53:V53)","v":0},null,"  Mercury compounds",null,null,null,null,null,null,"  Mercury compounds"]
["  Methanol",null,null,null,{"$f":"SUM('7) Ferm'!C52:L52)","v":0},{"$f":"'8) Calculations'!AJ19","v":0},null,null,null,null,{"$f":"'9) Calculations'!C21","v":0},{"$f":"'10) Calculation'!E88/8760","v":0},{"$f":"'11) Tanks'!C44","v":0},null,{"$f":"'15) Calculations'!F228","v":0},{"$f":"'7) Calculations'!AS16","v":0},{"$f":"SUM('16) Others'!C39:L39)","v":0},null,"  Methanol",null,null,null,{"$f":"SUM('7) Ferm'!P52:Y52)","v":0},{"$f":"'8) Calculations'!AW19","v":0},null,null,null,null,{"$f":"'9) Calculations'!D21","v":0},{"$f":"'10) Calculation'!E88","v":0},{"$f":"'11) Tanks'!D45","v":0},null,{"$f":"'15) Calculations'!G228","v":0},0,{"$f":"SUM('16) Others'!M39:V39)","v":0},null,"  Methanol",null,null,null,{"$f":"'14) Equipment Leaks'!E27","v":0},null,null,"  Methanol",null,null,null,{"$f":"'14) Equipment Leaks'!H27","v":0}]
["  Methyl hydrazine",null,null,null,null,null,null,null,null,null,null,null,null,null,{"$f":"'15) Calculations'!F229","v":0},null,null,null,"  Methyl hydrazine",null,null,null,null,null,null,null,null,null,null,null,null,null,{"$f":"'15) Calculations'!G229","v":0},0,null,null,"  Methyl hydrazine",null,null,null,null,null,null,"  Methyl hydrazine"]
["  Selenium compounds",null,null,{"$f":"'5) Calculations'!CJ30","v":0},{"$f":"SUM('7) Ferm'!C68:L68)","v":0},{"$f":"'8) Calculations'!AJ35","v":0},null,null,null,{"$f":"'10) Calc Flares'!C76","v":0},null,null,null,null,{"$f":"'15) Calculations'!F230","v":0},{"$f":"'7) Calculations'!AS32","v":0},{"$f":"SUM('16) Others'!C55:L55)","v":0},null,"  Selenium compounds",null,null,0,{"$f":"SUM('7) Ferm'!P68:Y68)","v":0},{"$f":"'8) Calculations'!AW35","v":0},null,null,null,{"$f":"'10) Calc Flares'!D76","v":0},null,null,null,null,{"$f":"'15) Calculations'!G230","v":0},0,{"$f":"SUM('16) Others'!M55:V55)","v":0},null,"  Selenium compounds",null,null,null,null,null,null,"  Selenium compounds"]
["Other HAPs",null,null,{"$f":"D35-SUM(D18:D33)","v":0},{"$f":"E35-SUM(E18:E33)","v":0},{"$f":"F35-SUM(F18:F33)","v":0},null,null,null,{"$f":"J35-SUM(J18:J33)","v":0},null,{"$f":"(L35-SUM(L18:L33))","v":0},{"$f":"'11) Tanks'!C46+'11) Tanks'!C47+'11) Tanks'!C48+'11) Tanks'!C51+'11) Tanks'!C50","v":0},null,{"$f":"'15) Calculations'!F231","v":0},{"$f":"P35-SUM(P18:P19)","v":0},{"$f":"SUM('16) Others'!C44:L44)+SUM('16) Others'!C41:L41)+SUM('16) Others'!C45:L45)+SUM('16) Others'!C47:L47)+SUM('16) Others'!C46:L46)+SUM('16) Others'!C50:L50)+SUM('16) Others'!C51:L51)+SUM('16) Others'!C52:L52)+SUM('16) Others'!C54:L54)","v":0},null,"Other HAPs",null,null,0,{"$f":"W35-SUM(W18:W33)","v":0},{"$f":"X35-SUM(X18:X33)","v":0},null,null,null,{"$f":"AB35-SUM(AB18:AB33)","v":0},null,{"$f":"AD35-SUM(AD18:AD33)","v":0},{"$f":"'11) Tanks'!D46+'11) Tanks'!D47+'11) Tanks'!D48+'11) Tanks'!D50+'11) Tanks'!D51","v":0},null,{"$f":"'15) Calculations'!G231","v":0},0,{"$f":"SUM('16) Others'!M44:V44)+SUM('16) Others'!M41:V41)+SUM('16) Others'!M45:V45)+SUM('16) Others'!M47:V47)+SUM('16) Others'!M46:V46)+SUM('16) Others'!M50:V50)+SUM('16) Others'!M51:V51)+SUM('16) Others'!M52:V52)+SUM('16) Others'!M54:V54)","v":0},null,"Other HAPs",null,null,null,null,null,null,"Other HAPs"]
["Total HAPs",null,null,{"$f":"'5) Calculations'!CJ31","v":0},{"$f":"SUM('7) Ferm'!C69:L69)","v":0},{"$f":"'8) Calculations'!AJ36","v":0},null,null,null,{"$f":"'10) Calc Flares'!C77","v":0},{"$f":"'9) Calculations'!C22","v":0},{"$f":"'10) Calculation'!E91/8760","v":0},{"$f":"'11) Tanks'!C52","v":0},{"$f":"'13) Cooling Tower'!B69","v":0},{"$f":"'15) Calculations'!F232","v":0},{"$f":"'7) Calculations'!AS33","v":0},{"$f":"SUM(Q18:Q34)","v":0},null,"Total HAPs",null,null,0,{"$f":"SUM('7) Ferm'!P69:Y69)","v":0},{"$f":"'8) Calculations'!AW36","v":0},null,null,null,{"$f":"'10) Calc Flares'!D77","v":0},{"$f":"'9) Calculations'!D22","v":0},{"$f":"'10) Calculation'!E91","v":0},{"$f":"'11) Tanks'!D52","v":0},{"$f":"'13) Cooling Tower'!C69","v":0},{"$f":"'15) Calculations'!G232","v":0},0,{"$f":"SUM(AI18:AI34)","v":0},null,"Total HAPs",null,null,null,{"$f":"'14) Equipment Leaks'!E28","v":0},null,null,"Total HAPs",null,null,null,{"$f":"'14) Equipment Leaks'!H28","v":0}]
["Greenhouse Gases (GHG) (Mass Basis)",null,null,null,null,null,null,null,null,null,null,null,null,null,{"$f":"'15) Calculations'!F233","v":0},null,null,null,"Greenhouse Gases (GHG) (Mass Basis)",null,null,null,null,null,null,null,null,null,null,null,null,null,{"$f":"'15) Calculations'!G233","v":0},null,null,null,"Greenhouse Gases (GHG) (Mass Basis)",null,null,null,null,null,null,"Greenhouse Gases (GHG) (Mass Basis)"]
["  Carbon Dioxide ",null,null,{"$f":"'5) Calculations'!CJ33","v":0},{"$f":"SUM('7) Ferm'!C71:L71)","v":0},{"$f":"'8) Calculations'!AJ38","v":0},null,null,null,{"$f":"AB37/8760*2000","v":0},null,null,null,null,{"$f":"'15) Calculations'!F234","v":0},{"$f":"'7) Calculations'!AS35","v":0},{"$f":"SUM('16) Others'!C58:L58)","v":0},null,"  Carbon Dioxide ",null,null,{"$f":"D37*8760/2000","v":0},{"$f":"SUM('7) Ferm'!U71:AD71)","v":0},{"$f":"'8) Calculations'!AW38","v":0},null,null,null,{"$f":"'10) Calc Flares'!C79","v":0},null,{"$f":"L37*8760/2000","v":0},null,null,{"$f":"'15) Calculations'!G234","v":0},{"$f":"P37*8760/2000","v":0},{"$f":"SUM('16) Others'!M58:V58)","v":0},null,"  Carbon Dioxide ",null,null,null,null,null,null,"  Carbon Dioxide "]
["  Methane",null,null,{"$f":"'5) Calculations'!CJ34","v":0},{"$f":"SUM('7) Ferm'!C72:L72)","v":0},{"$f":"'8) Calculations'!AJ39","v":0},null,null,null,{"$f":"AB38/8760*2000","v":0},null,null,null,null,{"$f":"'15) Calculations'!F235","v":0},{"$f":"'7) Calculations'!AS36","v":0},{"$f":"SUM('16) Others'!C59:L59)","v":0},null,"  Methane",null,null,{"$f":"D38*8760/2000","v":0},{"$f":"SUM('7) Ferm'!U72:AD72)","v":0},{"$f":"'8) Calculations'!AW39","v":0},null,null,null,{"$f":"'10) Calc Flares'!C80","v":0},null,{"$f":"L38*8760/2000","v":0},null,null,{"$f":"'15) Calculations'!G235","v":0},{"$f":"P38*8760/2000","v":0},{"$f":"SUM('16) Others'!M59:V59)","v":0},null,"  Methane",null,null,null,null,null,null,"  Methane"]
["  Nitrous Oxide",null,null,{"$f":"'5) Calculations'!CJ35","v":0},{"$f":"SUM('7) Ferm'!C73:L73)","v":0},{"$f":"'8) Calculations'!AJ40","v":0},null,null,null,0,null,null,null,null,{"$f":"'15) Calculations'!F236","v":0},{"$f":"'7) Calculations'!AS37","v":0},{"$f":"SUM('16) Others'!C60:L60)","v":0},null,"  Nitrous Oxide",null,null,{"$f":"D39*8760/2000","v":0},{"$f":"SUM('7) Ferm'!U73:AD73)","v":0},{"$f":"'8) Calculations'!AW40","v":0},null,null,null,{"$f":"'10) Calc Flares'!C81","v":0},null,{"$f":"L39*8760/2000","v":0},null,null,{"$f":"'15) Calculations'!G236","v":0},{"$f":"P39*8760/2000","v":0},{"$f":"SUM('16) Others'!M60:V60)","v":0},null,"  Nitrous Oxide",null,null,null,null,null,null,"  Nitrous Oxide"]
["Total GHGs ",null,null,{"$f":"'5) Calculations'!CJ36","v":0},{"$f":"SUM('7) Ferm'!C74:L74)","v":0},{"$f":"'8) Calculations'!AJ41","v":0},null,null,null,0,null,null,null,null,{"$f":"'15) Calculations'!F237","v":0},{"$f":"'7) Calculations'!AS38","v":0},{"$f":"SUM(Q37:Q39)","v":0},null,"Total GHGs ",null,null,{"$f":"D40*8760/2000","v":0},{"$f":"SUM('7) Ferm'!U74:AD74)","v":0},{"$f":"'8) Calculations'!AW41","v":0},null,null,null,{"$f":"'10) Calc Flares'!C82","v":0},null,{"$f":"L40*8760/2000","v":0},null,null,{"$f":"'15) Calculations'!G237","v":0},{"$f":"P40*8760/2000","v":0},{"$f":"SUM(AI37:AI39)","v":0},null,"Total GHGs ",null,null,null,null,null,null,"Total GHGs "]
["Greenhouse Gases (GHG) (CO2 Equilvalent Basis)",null,null,null,null,null,null,null,null,0,null,null,null,null,{"$f":"'15) Calculations'!F238","v":0},{"$f":"'7) Calculations'!AS39","v":0},null,null,"Greenhouse Gases (GHG) (CO2 Equilvalent Basis)",null,null,null,null,null,null,null,null,null,null,null,null,null,{"$f":"'15) Calculations'!G238","v":0},null,null,null,"Greenhouse Gases (GHG) (CO2 Equilvalent Basis)",null,null,null,null,null,null,"Greenhouse Gases (GHG) (CO2 Equilvalent Basis)"]
["  Carbon Dioxide ",null,null,{"$f":"'5) Calculations'!CJ38","v":0},{"$f":"E37","v":0},{"$f":"'8) Calculations'!AJ43","v":0},null,null,null,0,null,null,null,null,{"$f":"'15) Calculations'!F239","v":0},{"$f":"'7) Calculations'!AS40","v":0},{"$f":"Q37","v":0},null,"  Carbon Dioxide ",null,null,{"$f":"D42*8760/2000","v":0},{"$f":"W37","v":0},{"$f":"'8) Calculations'!AW43","v":0},null,null,null,{"$f":"'10) Calc Flares'!D79","v":0},null,{"$f":"L42*8760/2000","v":0},null,null,{"$f":"'15) Calculations'!G239","v":0},{"$f":"P42*8760/2000","v":0},{"$f":"AI37","v":0},null,"  Carbon Dioxide ",null,null,null,null,null,null,"  Carbon Dioxide "]
["  Methane",null,null,{"$f":"'5) Calculations'!CJ39","v":0},{"$f":"E38*25","v":0},{"$f":"'8) Calculations'!AJ44","v":0},null,null,null,0,null,null,null,null,{"$f":"'15) Calculations'!F240","v":0},{"$f":"'7) Calculations'!AS41","v":0},{"$f":"Q38*25","v":0},null,"  Methane",null,null,{"$f":"D43*8760/2000","v":0},{"$f":"W38*25","v":0},{"$f":"'8) Calculations'!AW44","v":0},null,null,null,{"$f":"'10) Calc Flares'!D80","v":0},null,{"$f":"L43*8760/2000","v":0},null,null,{"$f":"'15) Calculations'!G240","v":0},{"$f":"P43*8760/2000","v":0},{"$f":"AI38*25","v":0},null,"  Methane",null,null,null,null,null,null,"  Methane"]
["  Nitrous Oxide",null,null,{"$f":"'5) Calculations'!CJ40","v":0},{"$f":"E39*298","v":0},{"$f":"'8) Calculations'!AJ45","v":0},null,null,null,0,null,null,null,null,{"$f":"'15) Calculations'!F241","v":0},{"$f":"'7) Calculations'!AS42","v":0},{"$f":"Q39*298","v":0},null,"  Nitrous Oxide",null,null,{"$f":"D44*8760/2000","v":0},{"$f":"W39*298","v":0},{"$f":"'8) Calculations'!AW45","v":0},null,null,null,{"$f":"'10) Calc Flares'!D81","v":0},null,{"$f":"L44*8760/2000","v":0},null,null,{"$f":"'15) Calculations'!G241","v":0},{"$f":"P44*8760/2000","v":0},{"$f":"AI39*298","v":0},null,"  Nitrous Oxide",null,null,null,null,null,null,"  Nitrous Oxide"]
["Total GHGs ",null,null,{"$f":"'5) Calculations'!CJ41","v":0},{"$f":"SUM(E42:E44)","v":0},{"$f":"'8) Calculations'!AJ46","v":0},null,null,null,0,null,null,null,null,{"$f":"'15) Calculations'!F242","v":0},{"$f":"'7) Calculations'!AS43","v":0},{"$f":"SUM(Q42:Q44)","v":0},null,"Total GHGs ",null,null,{"$f":"D45*8760/2000","v":0},{"$f":"SUM(W42:W44)","v":0},{"$f":"'8) Calculations'!AW46","v":0},null,null,null,{"$f":"'10) Calc Flares'!D82","v":0},null,{"$f":"L45*8760/2000","v":0},null,null,{"$f":"'15) Calculations'!G242","v":0},{"$f":"P45*8760/2000","v":0},{"$f":"SUM(AI42:AI44)","v":0},null,"Total GHGs ",null,null,null,null,null,null,"Total GHGs "]
[]
["PTE after the project, (lb/hr)",null,null,null,null,null,null,null,null,null,null,null,null,null,null,null,null,null,"PTE after the project, (ton/yr)",null,null,null,null,null,null,null,null,null,null,null,null,null,null,null,null,null,"Fugitive PTE after the project, (lb/hr)",null,null,null,null,null,null,"Fugitive PTE after the project, (ton/yr)"]
["Pollutants","Grain Receiving","Grain Handling","Dryers","Fermenters","DDGS dryers","Solids storage","Scalpers","Hammer Mills","Flares","Solids shipping","liquid loadout and vapour recovery","tanks","Cooling Tower","Engines","boilers/rto","Suppl. Units",null,"Pollutants","Grain Receiving","Grain Handling","Dryers","Fermenters","DDGS dryers","Solids storage","Scalpers","Hammer Mills","Flares","Solids shipping","liquid loadout and vapour recovery","tanks","Cooling Tower","Engines","boilers/rto","Suppl. Units",null,"Pollutants","Grain Receiving","Grain Handling","Solids storage","Equipment leaks","haul roads",null,"Pollutants","Grain Receiving","Grain Handling","Solids storage","Equipment leaks","haul roads"]
[null,"(lb/hr)",null,null,null,null,null,null,null,null,null,null,null,null,null,null,null,null,null,"(tons/yr)",null,null,null,null,null,null,null,null,null,null,null,null,null,null,null,null,null,"(lb/hr)",null,null,null,null,null,null,"(tons/yr)"]
["  PMfilterable",{"$f":"'3) Calculations'!O101","v":0},{"$f":"'3) Calculations'!AG123","v":0},{"$f":"'5) Calculations'!CJ48","v":0},{"$f":"SUM('7) Ferm'!C81:L81)","v":0},{"$f":"'8) Calculations'!AJ54","v":0},{"$f":"'4) Calculations'!O14","v":0},{"$f":"'6) Calculations'!E58","v":0},{"$f":"'6) Calculations'!E75","v":0},{"$f":"'10) Calc Flares'!H52","v":0},{"$f":"'9) Calculations'!H8","v":0},null,null,{"$f":"'13) Cooling Tower'!I36","v":0},{"$f":"'15) Calculations'!M204","v":0},{"$f":"'7) Calculations'!AS49","v":0},{"$f":"SUM('16) Others'!Z28:AI28)","v":0},null,"  PMfilterable",{"$f":"'3) Calculations'!P101","v":0},{"$f":"'3) Calculations'!AJ123","v":0},{"$f":"'5) Calculations'!CW7","v":0},{"$f":"SUM('7) Ferm'!P81:Y81)","v":0},{"$f":"'8) Calculations'!AW54","v":0},{"$f":"'4) Calculations'!P14","v":0},{"$f":"'6) Calculations'!H58","v":0},{"$f":"'6) Calculations'!H75","v":0},{"$f":"'10) Calc Flares'!I52","v":0},{"$f":"'9) Calculations'!I8","v":0},null,null,{"$f":"'13) Cooling Tower'!J36","v":0},{"$f":"'15) Calculations'!N204","v":0},{"$f":"P50*8760/2000","v":0},{"$f":"SUM('16) Others'!AJ28:AS28)","v":0},null,"  PMfilterable",{"$f":"'3) Calculations'!E142","v":0},{"$f":"'3) Calculations'!AA123","v":0},{"$f":"AU50*2000/8760","v":0},null,{"$f":"AW50*2000/8760","v":0},null,"  PMfilterable",{"$f":"'3) Calculations'!H142","v":0},{"$f":"'3) Calculations'!AD123","v":0},{"$f":"'4) Calculations'!H46","v":0},null,{"$f":"'12) Haul Roads'!AA50","v":0}]
["  PM10",{"$f":"'3) Calculations'!Q101","v":0},{"$f":"'3) Calculations'!AB123","v":0},{"$f":"'5) Calculations'!CJ49","v":0},{"$f":"SUM('7) Ferm'!C82:L82)","v":0},{"$f":"'8) Calculations'!AJ55","v":0},{"$f":"'4) Calculations'!O15","v":0},{"$f":"'6) Calculations'!F58","v":0},{"$f":"'6) Calculations'!F75","v":0},{"$f":"'10) Calc Flares'!H53","v":0},{"$f":"'9) Calculations'!H9","v":0},null,null,{"$f":"'13) Cooling Tower'!I37","v":0},{"$f":"'15) Calculations'!M205","v":0},{"$f":"'7) Calculations'!AS50","v":0},{"$f":"SUM('16) Others'!Z29:AI29)","v":0},null,"  PM10",{"$f":"'3) Calculations'!R101","v":0},{"$f":"'3) Calculations'!AK123","v":0},{"$f":"'5) Calculations'!CW8","v":0},{"$f":"SUM('7) Ferm'!P82:Y82)","v":0},{"$f":"'8) Calculations'!AW55","v":0},{"$f":"'4) Calculations'!P15","v":0},{"$f":"'6) Calculations'!I58","v":0},{"$f":"'6) Calculations'!I75","v":0},{"$f":"'10) Calc Flares'!I53","v":0},{"$f":"'9) Calculations'!I9","v":0},null,null,{"$f":"'13) Cooling Tower'!J37","v":0},{"$f":"'15) Calculations'!N205","v":0},0,{"$f":"SUM('16) Others'!AJ29:AS29)","v":0},null,"  PM10",{"$f":"'3) Calculations'!F142","v":0},{"$f":"'3) Calculations'!AB123","v":0},{"$f":"AU51*2000/8760","v":0},null,{"$f":"AW51*2000/8760","v":0},null,"  PM10",{"$f":"'3) Calculations'!I142","v":0},{"$f":"'3) Calculations'!AE123","v":0},{"$f":"'4) Calculations'!H49","v":0},null,{"$f":"'12) Haul Roads'!AB50","v":0}]
["  PM2.5",{"$f":"'3) Calculations'!S101","v":0},{"$f":"'3) Calculations'!AC123","v":0},{"$f":"'5) Calculations'!CJ50","v":0},{"$f":"SUM('7) Ferm'!C83:L83)","v":0},{"$f":"'8) Calculations'!AJ56","v":0},{"$f":"'4) Calculations'!O16","v":0},{"$f":"'6) Calculations'!G58","v":0},{"$f":"'6) Calculations'!G75","v":0},{"$f":"'10) Calc Flares'!H54","v":0},{"$f":"'9) Calculations'!H10","v":0},null,null,{"$f":"'13) Cooling Tower'!I38","v":0},{"$f":"'15) Calculations'!M206","v":0},{"$f":"'7) Calculations'!AS51","v":0},{"$f":"SUM('16) Others'!Z30:AI30)","v":0},null,"  PM2.5",{"$f":"'3) Calculations'!T101","v":0},{"$f":"'3) Calculations'!AL123","v":0},{"$f":"'5) Calculations'!CW9","v":0},{"$f":"SUM('7) Ferm'!P83:Y83)","v":0},{"$f":"'8) Calculations'!AW56","v":0},{"$f":"'4) Calculations'!P16","v":0},{"$f":"'6) Calculations'!J58","v":0},{"$f":"'6) Calculations'!J75","v":0},{"$f":"'10) Calc Flares'!I54","v":0},{"$f":"'9) Calculations'!I10","v":0},null,null,{"$f":"'13) Cooling Tower'!J38","v":0},{"$f":"'15) Calculations'!N206","v":0},0,{"$f":"SUM('16) Others'!AJ30:AS30)","v":0},null,"  PM2.5",{"$f":"'3) Calculations'!G142","v":0},{"$f":"'3) Calculations'!AC123","v":0},0,null,0,null,"  PM2.5",{"$f":"'3) Calculations'!J142","v":0},{"$f":"'3) Calculations'!AF123","v":0},{"$f":"'4) Calculations'!H52","v":0},null,{"$f":"'12) Haul Roads'!AC50","v":0}]
["  SO2",null,null,{"$f":"'5) Calculations'!CJ51","v":0},{"$f":"SUM('7) Ferm'!C84:L84)","v":0},{"$f":"'8) Calculations'!AJ57","v":0},null,null,null,{"$f":"'10) Calc Flares'!H55","v":0},null,null,null,null,{"$f":"'15) Calculations'!M207","v":0},{"$f":"'7) Calculations'!AS52","v":0},{"$f":"SUM('16) Others'!Z31:AI31)","v":0},null,"  SO2",null,null,{"$f":"D53*8760/2000","v":0},{"$f":"SUM('7) Ferm'!P84:Y84)","v":0},{"$f":"'8) Calculations'!AW57","v":0},null,null,null,{"$f":"'10) Calc Flares'!I55","v":0},null,null,null,null,{"$f":"'15) Calculations'!N207","v":0},0,{"$f":"SUM('16) Others'!AJ31:AS31)","v":0},null,"  SO2",null,null,null,null,null,null,"  SO2"]
["  NOx",null,null,{"$f":"'5) Calculations'!CJ52","v":0},{"$f":"SUM('7) Ferm'!C85:L85)","v":0},{"$f":"'8) Calculations'!AJ58","v":0},null,null,null,{"$f":"'10) Calc Flares'!H57","v":0},null,null,null,null,{"$f":"'15) Calculations'!M208","v":0},{"$f":"'7) Calculations'!AS53","v":0},{"$f":"SUM('16) Others'!Z32:AI32)","v":0},null,"  NOx",null,null,0,{"$f":"SUM('7) Ferm'!P85:Y85)","v":0},{"$f":"'8) Calculations'!AW58","v":0},null,null,null,{"$f":"'10) Calc Flares'!I57","v":0},null,null,null,null,{"$f":"'15) Calculations'!N208","v":0},0,{"$f":"SUM('16) Others'!AJ32:AS32)","v":0},null,"  NOx",null,null,null,null,null,null,"  NOx"]
["  CO",null,null,{"$f":"'5) Calculations'!CJ53","v":0},{"$f":"SUM('7) Ferm'!C86:L86)","v":0},{"$f":"'8) Calculations'!AJ59","v":0},null,null,null,{"$f":"'10) Calc Flares'!H58","v":0},null,null,null,null,{"$f":"'15) Calculations'!M209","v":0},{"$f":"'7) Calculations'!AS54","v":0},{"$f":"SUM('16) Others'!Z33:AI33)","v":0},null,"  CO",null,null,0,{"$f":"SUM('7) Ferm'!P86:Y86)","v":0},{"$f":"'8) Calculations'!AW59","v":0},null,null,null,{"$f":"'10) Calc Flares'!I58","v":0},null,null,null,null,{"$f":"'15) Calculations'!N209","v":0},0,{"$f":"SUM('16) Others'!AJ33:AS33)","v":0},null,"  CO",null,null,null,null,null,null,"  CO"]
["  VOC",null,null,{"$f":"'5) Calculations'!CJ54","v":0},{"$f":"SUM('7) Ferm'!C87:L87)","v":0},{"$f":"'8) Calculations'!AJ60","v":0},null,null,null,null,{"$f":"'9) Calculations'!H16","v":0},{"$f":"'10) Calculation'!AA76/8760","v":0},{"$f":"'11) Tanks'!H42","v":0},{"$f":"'13) Cooling Tower'!I68","v":0},{"$f":"'15) Calculations'!M210","v":0},{"$f":"'7) Calculations'!AS55","v":0},{"$f":"SUM('16) Others'!Z34:AI34)","v":0},null,"  VOC",null,null,0,{"$f":"SUM('7) Ferm'!P87:Y87)","v":0},{"$f":"'8) Calculations'!AW60","v":0},null,null,null,null,{"$f":"'9) Calculations'!I16","v":0},{"$f":"'10) Calculation'!AA76","v":0},{"$f":"'11) Tanks'!I42","v":0},{"$f":"'13) Cooling Tower'!J68","v":0},{"$f":"'15) Calculations'!N210","v":0},0,{"$f":"SUM('16) Others'!AJ34:AS34)","v":0},null,"  VOC",null,null,null,{"$f":"'14) Equipment Leaks'!H18","v":0},null,null,"  VOC",null,null,null,{"$f":"'14) Equipment Leaks'!H19","v":0}]
["  Hydrogen Sulfide ",null,null,null,null,null,null,null,null,null,null,null,null,null,{"$f":"'15) Calculations'!M211","v":0},null,null,null,"  Hydrogen Sulfide ",null,null,0,null,null,null,null,null,null,null,null,null,null,{"$f":"'15) Calculations'!N211","v":0},0,null,null,"  Hydrogen Sulfide ",null,null,null,null,null,null,"  Hydrogen Sulfide "]
["  Sulfuric Acid",null,null,null,null,null,null,null,null,null,null,null,null,null,{"$f":"'15) Calculations'!M212","v":0},null,null,null,"  Sulfuric Acid",null,null,0,null,null,null,null,null,null,null,null,null,null,{"$f":"'15) Calculations'!N212","v":0},0,null,null,"  Sulfuric Acid",null,null,null,null,null,null,"  Sulfuric Acid"]
["  Fluorides ",null,null,null,null,null,null,null,null,null,null,null,null,null,{"$f":"'15) Calculations'!M213","v":0},null,null,null,"  Fluorides ",null,null,0,null,null,null,null,null,null,null,null,null,null,{"$f":"'15) Calculations'!N213","v":0},0,null,null,"  Fluorides ",null,null,null,null,null,null,"  Fluorides "]
["Individual HAP",null,null,null,null,null,null,null,null,null,null,null,null,null,{"$f":"'15) Calculations'!M214","v":0},null,null,null,"Individual HAP",null,null,null,null,null,null,null,null,null,null,null,null,null,{"$f":"'15) Calculations'!N214","v":0},null,null,null,"Individual HAP",null,null,null,null,null,null,"Individual HAP"]
["  Acetaldehyde",null,null,null,{"$f":"SUM('7) Ferm'!C89:L89)","v":0},{"$f":"'8) Calculations'!AJ62","v":0},null,null,null,null,{"$f":"'9) Calculations'!H18","v":0},{"$f":"'10) Calculation'!S82/8760","v":0},{"$f":"'11) Tanks'!H43","v":0},null,{"$f":"'15) Calculations'!M215","v":0},{"$f":"'7) Calculations'!AS57","v":0},{"$f":"SUM('16) Others'!Z36:AI36)","v":0},null,"  Acetaldehyde",null,null,{"$f":"D61*8760/2000","v":0},{"$f":"SUM('7) Ferm'!P89:Y89)","v":0},{"$f":"'8) Calculations'!AW62","v":0},null,null,null,null,{"$f":"'9) Calculations'!I18","v":0},{"$f":"'10) Calculation'!S82","v":0},{"$f":"'11) Tanks'!I43","v":0},null,{"$f":"'15) Calculations'!N215","v":0},{"$f":"P61*8760/2000","v":0},{"$f":"SUM('16) Others'!AJ36:AS36)","v":0},null,"  Acetaldehyde",null,null,null,{"$f":"'14) Equipment Leaks'!K24","v":0},null,null,"  Acetaldehyde",null,null,null,{"$f":"'14) Equipment Leaks'!N24","v":0}]
["  Acrolein",null,null,null,{"$f":"SUM('7) Ferm'!C91:L91)","v":0},{"$f":"'8) Calculations'!AJ64","v":0},null,null,null,null,{"$f":"'9) Calculations'!H19","v":0},null,null,null,{"$f":"'15) Calculations'!M216","v":0},{"$f":"'7) Calculations'!AS58","v":0},{"$f":"SUM('16) Others'!Z38:AI38)","v":0},null,"  Acrolein",null,null,0,{"$f":"SUM('7) Ferm'!P91:Y91)","v":0},{"$f":"'8) Calculations'!AW64","v":0},null,null,null,null,{"$f":"'9) Calculations'!I19","v":0},null,null,null,{"$f":"'15) Calculations'!N216","v":0},0,{"$f":"SUM('16) Others'!AJ38:AS38)","v":0},null,"  Acrolein",null,null,null,{"$f":"'14) Equipment Leaks'!K25","v":0},null,null,"  Acrolein",null,null,null,{"$f":"'14) Equipment Leaks'!N25","v":0}]
["  Arsenic compounds",null,null,{"$f":"'5) Calculations'!CJ63","v":0},{"$f":"SUM('7) Ferm'!C100:L100)","v":0},{"$f":"'8) Calculations'!AJ73","v":0},null,null,null,null,null,null,null,null,{"$f":"'15) Calculations'!M217","v":0},{"$f":"'7) Calculations'!AS68","v":0},null,null,"  Arsenic compounds",null,null,0,{"$f":"SUM('7) Ferm'!P100:Y100)","v":0},{"$f":"'8) Calculations'!AW73","v":0},null,null,null,null,null,null,null,null,{"$f":"'15) Calculations'!N217","v":0},0,null,null,"  Arsenic compounds",null,null,null,null,null,null,"  Arsenic compounds"]
["  Benzene",null,null,{"$f":"'5) Calculations'!CJ56","v":0},{"$f":"SUM('7) Ferm'!C93:L93)","v":0},{"$f":"'8) Calculations'!AJ66","v":0},null,null,null,{"$f":"'10) Calc Flares'!H60","v":0},null,{"$f":"'10) Calculation'!S83/8760","v":0},{"$f":"'11) Tanks'!H45","v":0},null,{"$f":"'15) Calculations'!M218","v":0},{"$f":"'7) Calculations'!AS61","v":0},{"$f":"SUM('16) Others'!Z40:AI40)","v":0},null,"  Benzene",null,null,0,{"$f":"SUM('7) Ferm'!P93:Y93)","v":0},{"$f":"'8) Calculations'!AW66","v":0},null,null,null,{"$f":"'10) Calc Flares'!I60","v":0},null,{"$f":"'10) Calculation'!S83","v":0},{"$f":"'11) Tanks'!I45","v":0},null,{"$f":"'15) Calculations'!N218","v":0},0,{"$f":"SUM('16) Others'!AJ40:AS40)","v":0},null,"  Benzene",null,null,null,null,null,null,"  Benzene"]
["  Benzyl chloride",null,null,null,null,null,null,null,null,null,null,null,null,null,{"$f":"'15) Calculations'!M219","v":0},null,null,null,"  Benzyl chloride",null,null,0,null,null,null,null,null,null,null,null,null,null,{"$f":"'15) Calculations'!N219","v":0},0,null,null,"  Benzyl chloride",null,null,null,null,null,null,"  Benzyl chloride"]
["  Beryllium compounds",null,null,{"$f":"'5) Calculations'!CJ64","v":0},{"$f":"SUM('7) Ferm'!C101:L101)","v":0},{"$f":"'8) Calculations'!AJ74","v":0},null,null,null,null,null,null,null,null,{"$f":"'15) Calculations'!M220","v":0},{"$f":"'7) Calculations'!AS69","v":0},{"$f":"SUM('16) Others'!Z48:AI48)","v":0},null,"  Beryllium compounds",null,null,0,{"$f":"SUM('7) Ferm'!P101:Y101)","v":0},{"$f":"'8) Calculations'!AW74","v":0},null,null,null,null,null,null,null,null,{"$f":"'15) Calculations'!N220","v":0},0,{"$f":"SUM('16) Others'!AJ48:AS48)","v":0},null,"  Beryllium compounds",null,null,null,null,null,null,"  Beryllium compounds"]
["  Cadmium compounds",null,null,{"$f":"'5) Calculations'!CJ65","v":0},{"$f":"SUM('7) Ferm'!C102:L102)","v":0},{"$f":"'8) Calculations'!AJ75","v":0},null,null,null,null,null,null,null,null,{"$f":"'15) Calculations'!M221","v":0},{"$f":"'7) Calculations'!AS70","v":0},{"$f":"SUM('16) Others'!Z49:AI49)","v":0},null,"  Cadmium compounds",null,null,0,{"$f":"SUM('7) Ferm'!P102:Y102)","v":0},{"$f":"'8) Calculations'!AW75","v":0},null,null,null,null,null,null,null,null,{"$f":"'15) Calculations'!N221","v":0},0,{"$f":"SUM('16) Others'!AJ49:AS49)","v":0},null,"  Cadmium compounds",null,null,null,null,null,null,"  Cadmium compounds"]
["  Cyanide compounds",null,null,null,null,null,null,null,null,null,null,null,null,null,{"$f":"'15) Calculations'!M222","v":0},null,null,null,"  Cyanide compounds",null,null,0,null,null,null,null,null,null,null,null,null,null,{"$f":"'15) Calculations'!N222","v":0},0,null,null,"  Cyanide compounds",null,null,null,null,null,null,"  Cyanide compounds"]
["  Formaldehyde",null,null,null,{"$f":"SUM('7) Ferm'!C90:L90)","v":0},{"$f":"'8) Calculations'!AJ63","v":0},null,null,null,{"$f":"'10) Calc Flares'!H62","v":0},{"$f":"'9) Calculations'!H20","v":0},null,null,null,{"$f":"'15) Calculations'!M223","v":0},{"$f":"'7) Calculations'!AS59","v":0},{"$f":"SUM('16) Others'!Z37:AI37)","v":0},null,"  Formaldehyde",null,null,0,{"$f":"SUM('7) Ferm'!P90:Y90)","v":0},{"$f":"'8) Calculations'!AW63","v":0},null,null,null,{"$f":"'10) Calc Flares'!I62","v":0},{"$f":"'9) Calculations'!I20","v":0},null,null,null,{"$f":"'15) Calculations'!N223","v":0},0,{"$f":"SUM('16) Others'!AJ37:AS37)","v":0},null,"  Formaldehyde",null,null,null,{"$f":"'14) Equipment Leaks'!K26","v":0},null,null,"  Formaldehyde",null,null,null,{"$f":"'14) Equipment Leaks'!N26","v":0}]
["  Hexane",null,null,{"$f":"'5) Calculations'!CJ58","v":0},{"$f":"SUM('7) Ferm'!C95:L95)","v":0},{"$f":"'8) Calculations'!AJ68","v":0},null,null,null,{"$f":"'10) Calc Flares'!H63","v":0},null,{"$f":"'10) Calculation'!S87/8760","v":0},{"$f":"'11) Tanks'!H49","v":0},null,{"$f":"'15) Calculations'!M224","v":0},{"$f":"'7) Calculations'!AS63","v":0},{"$f":"SUM('16) Others'!Z42:AI42)","v":0},null,"  Hexane",null,null,0,{"$f":"SUM('7) Ferm'!P95:Y95)","v":0},{"$f":"'8) Calculations'!AW68","v":0},null,null,null,{"$f":"'10) Calc Flares'!I63","v":0},null,{"$f":"'10) Calculation'!S87","v":0},{"$f":"'11) Tanks'!I49","v":0},null,{"$f":"'15) Calculations'!N224","v":0},0,{"$f":"SUM('16) Others'!AJ42:AS42)","v":0},null,"  Hexane",null,null,null,null,null,null,"  Hexane"]
["  Hydrochloric acid",null,null,null,null,null,null,null,null,null,null,null,null,null,{"$f":"'15) Calculations'!M225","v":0},null,null,null,"  Hydrochloric acid",null,null,0,null,null,null,null,null,null,null,null,null,null,{"$f":"'15) Calculations'!N225","v":0},0,null,null,"  Hydrochloric acid",null,null,null,null,null,null,"  Hydrochloric acid"]
["  Lead Compounds",null,null,null,null,null,null,null,null,{"$f":"'10) Calc Flares'!H64","v":0},null,null,null,null,{"$f":"'15) Calculations'!M226","v":0},null,{"$f":"SUM('16) Others'!Z43:AI43)","v":0},null,"  Lead Compounds",null,null,0,null,null,null,null,null,{"$f":"'10) Calc Flares'!I64","v":0},null,null,null,null,{"$f":"'15) Calculations'!N226","v":0},0,{"$f":"SUM('16) Others'!AJ43:AS43)","v":0},null,"  Lead Compounds",null,null,null,null,null,null,"  Lead Compounds"]
["  Mercury compounds",null,null,{"$f":"'5) Calculations'!CJ69","v":0},{"$f":"SUM('7) Ferm'!C106:L106)","v":0},{"$f":"'8) Calculations'!AJ79","v":0},null,null,null,null,null,null,null,null,{"$f":"'15) Calculations'!M227","v":0},{"$f":"'7) Calculations'!AS74","v":0},{"$f":"SUM('16) Others'!Z53:AI53)","v":0},null,"  Mercury compounds",null,null,0,{"$f":"SUM('7) Ferm'!P106:Y106)","v":0},{"$f":"'8) Calculations'!AW79","v":0},null,null,null,null,null,null,null,null,{"$f":"'15) Calculations'!N227","v":0},0,{"$f":"SUM('16) Others'!AJ53:AS53)","v":0},null,"  Mercury compounds",null,null,null,null,null,null,"  Mercury compounds"]
["  Methanol",null,null,null,{"$f":"SUM('7) Ferm'!C92:L92)","v":0},{"$f":"'8) Calculations'!AJ65","v":0},null,null,null,null,{"$f":"'9) Calculations'!H21","v":0},{"$f":"'10) Calculation'!S88/8760","v":0},{"$f":"'11) Tanks'!H44","v":0},null,{"$f":"'15) Calculations'!M228","v":0},{"$f":"'7) Calculations'!AS60","v":0},{"$f":"SUM('16) Others'!Z39:AI39)","v":0},null,"  Methanol",null,null,0,{"$f":"SUM('7) Ferm'!P92:Y92)","v":0},{"$f":"'8) Calculations'!AW65","v":0},null,null,null,null,{"$f":"'9) Calculations'!I21","v":0},{"$f":"'10) Calculation'!S88","v":0},{"$f":"'11) Tanks'!I44","v":0},null,{"$f":"'15) Calculations'!N228","v":0},{"$f":"P74*8760/2000","v":0},{"$f":"SUM('16) Others'!AJ39:AS39)","v":0},null,"  Methanol",null,null,null,{"$f":"'14) Equipment Leaks'!K27","v":0},null,null,"  Methanol",null,null,null,{"$f":"'14) Equipment Leaks'!N27","v":0}]
["  Methyl hydrazine",null,null,null,null,null,null,null,null,null,null,null,null,null,{"$f":"'15) Calculations'!M229","v":0},null,null,null,"  Methyl hydrazine",null,null,0,null,null,null,null,null,null,null,null,null,null,{"$f":"'15) Calculations'!N229","v":0},0,null,null,"  Methyl hydrazine",null,null,null,null,null,null,"  Methyl hydrazine"]
["  Selenium compounds",null,null,{"$f":"'5) Calculations'!CJ71","v":0},{"$f":"SUM('7) Ferm'!C108:L108)","v":0},{"$f":"'8) Calculations'!AJ81","v":0},null,null,null,{"$f":"'10) Calc Flares'!H76","v":0},null,null,null,null,{"$f":"'15) Calculations'!M230","v":0},{"$f":"'7) Calculations'!AS76","v":0},{"$f":"SUM('16) Others'!Z55:AI55)","v":0},null,"  Selenium compounds",null,null,0,{"$f":"SUM('7) Ferm'!P108:Y108)","v":0},{"$f":"'8) Calculations'!AW81","v":0},null,null,null,{"$f":"'10) Calc Flares'!I76","v":0},null,null,null,null,{"$f":"'15) Calculations'!N230","v":0},0,{"$f":"SUM('16) Others'!AJ55:AS55)","v":0},null,"  Selenium compounds",null,null,null,null,null,null,"  Selenium compounds"]
["Other HAPs",null,null,{"$f":"D78-SUM(D61:D76)","v":0},{"$f":"E78-SUM(E61:E76)","v":0},{"$f":"F78-SUM(F61:F76)","v":0},null,null,null,{"$f":"J78-SUM(J61:J76)","v":0},null,{"$f":"(L78-SUM(L61:L76))","v":0},{"$f":"'11) Tanks'!H46+'11) Tanks'!H47+'11) Tanks'!H48+'11) Tanks'!H50+'11) Tanks'!H51","v":0},null,{"$f":"'15) Calculations'!M231","v":0},{"$f":"P78-SUM(AT18:AT33)","v":0},{"$f":"SUM('16) Others'!Z56:AI56)-SUM(Q61:Q76)","v":0},null,"Other HAPs",null,null,0,{"$f":"W78-SUM(W61:W76)","v":0},{"$f":"X78-SUM(X61:X76)","v":0},null,null,null,{"$f":"AB78-SUM(AB61:AB76)","v":0},null,{"$f":"AD78-SUM(AD61:AD76)","v":0},{"$f":"'11) Tanks'!I46+'11) Tanks'!I47+'11) Tanks'!I48+'11) Tanks'!I50+'11) Tanks'!I51","v":0},null,{"$f":"'15) Calculations'!N231","v":0},0,{"$f":"SUM('16) Others'!AJ56:AS56)-SUM(AI61:AI76)","v":0},null,"Other HAPs",null,null,null,null,null,null,"Other HAPs"]
["Total HAPs",null,null,{"$f":"'5) Calculations'!CJ72","v":0},{"$f":"SUM('7) Ferm'!C109:L109)","v":0},{"$f":"'8) Calculations'!AJ82","v":0},null,null,null,{"$f":"'10) Calc Flares'!H77","v":0},{"$f":"'9) Calculations'!H22","v":0},{"$f":"'10) Calculation'!S91/8760","v":0},{"$f":"'11) Tanks'!H52","v":0},{"$f":"'13) Cooling Tower'!I69","v":0},{"$f":"'15) Calculations'!M232","v":0},{"$f":"'7) Calculations'!AS77","v":0},{"$f":"SUM(Q61:Q77)","v":0},null,"Total HAPs",null,null,0,{"$f":"SUM('7) Ferm'!P109:Y109)","v":0},{"$f":"'8) Calculations'!AW82","v":0},null,null,null,{"$f":"'10) Calc Flares'!I77","v":0},{"$f":"'9) Calculations'!I22","v":0},{"$f":"'10) Calculation'!S91","v":0},{"$f":"'11) Tanks'!I52","v":0},{"$f":"'13) Cooling Tower'!J69","v":0},{"$f":"'15) Calculations'!N232","v":0},0,{"$f":"SUM(AI61:AI77)","v":0},null,"Total HAPs",null,null,null,{"$f":"'14) Equipment Leaks'!K28","v":0},null,null,"Total HAPs",null,null,null,{"$f":"'14) Equipment Leaks'!N28","v":0}]
["Greenhouse Gases (GHG) (Mass Basis)",null,null,null,null,null,null,null,null,null,null,null,null,null,{"$f":"'15) Calculations'!M233","v":0},null,null,null,"Greenhouse Gases (GHG) (Mass Basis)",null,null,null,null,null,null,null,null,null,null,null,null,null,{"$f":"'15) Calculations'!N233","v":0},null,null,null,"Greenhouse Gases (GHG) (Mass Basis)",null,null,null,null,null,null,"Greenhouse Gases (GHG) (Mass Basis)"]
["  Carbon Dioxide ",null,null,{"$f":"'5) Calculations'!CJ74","v":0},{"$f":"SUM('7) Ferm'!C111:L111)","v":0},{"$f":"'8) Calculations'!AJ84","v":0},null,null,null,{"$f":"AB80/8760*2000","v":0},null,null,null,null,{"$f":"'15) Calculations'!M234","v":0},{"$f":"'7) Calculations'!AS79","v":0},{"$f":"SUM('16) Others'!Z58:AI58)","v":0},null,"  Carbon Dioxide ",null,null,{"$f":"D80*8760/2000","v":0},{"$f":"SUM('7) Ferm'!P111:Y111)","v":0},{"$f":"'8) Calculations'!AW84","v":0},null,null,null,{"$f":"'10) Calc Flares'!H79","v":0},null,{"$f":"L80*8760/2000","v":0},null,null,{"$f":"'15) Calculations'!N234","v":0},{"$f":"P80*8760/2000","v":0},{"$f":"SUM('16) Others'!AJ58:AS58)","v":0},null,"  Carbon Dioxide ",null,null,null,null,null,null,"  Carbon Dioxide "]
["  Methane",null,null,{"$f":"'5) Calculations'!CJ75","v":0},{"$f":"SUM('7) Ferm'!C112:L112)","v":0},{"$f":"'8) Calculations'!AJ85","v":0},null,null,null,{"$f":"AB81/8760*2000","v":0},null,null,null,null,{"$f":"'15) Calculations'!M235","v":0},{"$f":"'7) Calculations'!AS80","v":0},{"$f":"SUM('16) Others'!Z59:AI59)","v":0},null,"  Methane",null,null,{"$f":"D81*8760/2000","v":0},{"$f":"SUM('7) Ferm'!P112:Y112)","v":0},{"$f":"'8) Calculations'!AW85","v":0},null,null,null,{"$f":"'10) Calc Flares'!H80","v":0},null,{"$f":"L81*8760/2000","v":0},null,null,{"$f":"'15) Calculations'!N235","v":0},{"$f":"P81*8760/2000","v":0},{"$f":"SUM('16) Others'!AJ59:AS59)","v":0},null,"  Methane",null,null,null,null,null,null,"  Methane"]
["  Nitrous Oxide",null,null,{"$f":"'5) Calculations'!CJ76","v":0},{"$f":"SUM('7) Ferm'!C113:L113)","v":0},{"$f":"'8) Calculations'!AJ86","v":0},null,null,null,0,null,null,null,null,{"$f":"'15) Calculations'!M236","v":0},{"$f":"'7) Calculations'!AS81","v":0},{"$f":"SUM('16) Others'!Z60:AI60)","v":0},null,"  Nitrous Oxide",null,null,{"$f":"D82*8760/2000","v":0},{"$f":"SUM('7) Ferm'!P113:Y113)","v":0},{"$f":"'8) Calculations'!AW86","v":0},null,null,null,{"$f":"'10) Calc Flares'!H81","v":0},null,{"$f":"L82*8760/2000","v":0},null,null,{"$f":"'15) Calculations'!N236","v":0},{"$f":"P82*8760/2000","v":0},{"$f":"SUM('16) Others'!AJ60:AS60)","v":0},null,"  Nitrous Oxide",null,null,null,null,null,null,"  Nitrous Oxide"]
["Total GHGs ",null,null,{"$f":"'5) Calculations'!CJ77","v":0},{"$f":"SUM(E80:E82)","v":0},{"$f":"'8) Calculations'!AJ87","v":0},null,null,null,0,null,null,null,null,{"$f":"'15) Calculations'!M237","v":0},{"$f":"'7) Calculations'!AS82","v":0},{"$f":"SUM(Q80:Q82)","v":0},null,"Total GHGs ",null,null,{"$f":"D83*8760/2000","v":0},{"$f":"SUM(W80:W82)","v":0},{"$f":"'8) Calculations'!AW87","v":0},null,null,null,{"$f":"'10) Calc Flares'!H82","v":0},null,{"$f":"L83*8760/2000","v":0},null,null,{"$f":"'15) Calculations'!N237","v":0},{"$f":"P83*8760/2000","v":0},{"$f":"SUM(AI80:AI82)","v":0},null,"Total GHGs ",null,null,null,null,null,null,"Total GHGs "]
["Greenhouse Gases (GHG) (CO2 Equilvalent Basis)",null,null,null,null,null,null,null,null,0,null,null,null,null,{"$f":"'15) Calculations'!M238","v":0},{"$f":"'7) Calculations'!AS83","v":0},null,null,"Greenhouse Gases (GHG) (CO2 Equilvalent Basis)",null,null,null,null,null,null,null,null,null,null,null,null,null,{"$f":"'15) Calculations'!N238","v":0},null,null,null,"Greenhouse Gases (GHG) (CO2 Equilvalent Basis)",null,null,null,null,null,null,"Greenhouse Gases (GHG) (CO2 Equilvalent Basis)"]
["  Carbon Dioxide ",null,null,{"$f":"'5) Calculations'!CJ79","v":0},{"$f":"E80","v":0},{"$f":"'8) Calculations'!AJ89","v":0},null,null,null,0,null,null,null,null,{"$f":"'15) Calculations'!M239","v":0},{"$f":"'7) Calculations'!AS84","v":0},{"$f":"Q80","v":0},null,"  Carbon Dioxide ",null,null,{"$f":"D85*8760/2000","v":0},{"$f":"W80","v":0},{"$f":"'8) Calculations'!AW89","v":0},null,null,null,{"$f":"'10) Calc Flares'!I79","v":0},null,{"$f":"L85*8760/2000","v":0},null,null,{"$f":"'15) Calculations'!N239","v":0},{"$f":"P85*8760/2000","v":0},{"$f":"AI80","v":0},null,"  Carbon Dioxide ",null,null,null,null,null,null,"  Carbon Dioxide "]
["  Methane",null,null,{"$f":"'5) Calculations'!CJ80","v":0},{"$f":"E81*25","v":0},{"$f":"'8) Calculations'!AJ90","v":0},null,null,null,0,null,null,null,null,{"$f":"'15) Calculations'!M240","v":0},{"$f":"'7) Calculations'!AS85","v":0},{"$f":"Q81*25","v":0},null,"  Methane",null,null,{"$f":"D86*8760/2000","v":0},{"$f":"W81*25","v":0},{"$f":"'8) Calculations'!AW90","v":0},null,null,null,{"$f":"'10) Calc Flares'!I80","v":0},null,{"$f":"L86*8760/2000","v":0},null,null,{"$f":"'15) Calculations'!N240","v":0},{"$f":"P86*8760/2000","v":0},{"$f":"AI81*25","v":0},null,"  Methane",null,null,null,null,null,null,"  Methane"]
["  Nitrous Oxide",null,null,{"$f":"'5) Calculations'!CJ81","v":0},{"$f":"E82*298","v":0},{"$f":"'8) Calculations'!AJ91","v":0},null,null,null,0,null,null,null,null,{"$f":"'15) Calculations'!M241","v":0},{"$f":"'7) Calculations'!AS86","v":0},{"$f":"Q82*298","v":0},null,"  Nitrous Oxide",null,null,{"$f":"D87*8760/2000","v":0},{"$f":"W82*298","v":0},{"$f":"'8) Calculations'!AW91","v":0},null,null,null,{"$f":"'10) Calc Flares'!I81","v":0},null,{"$f":"L87*8760/2000","v":0},null,null,{"$f":"'15) Calculations'!N241","v":0},{"$f":"P87*8760/2000","v":0},{"$f":"AI82*298","v":0},null,"  Nitrous Oxide",null,null,null,null,null,null,"  Nitrous Oxide"]
["Total GHGs ",null,null,{"$f":"'5) Calculations'!CJ82","v":0},{"$f":"SUM(E85:E87)","v":0},{"$f":"'8) Calculations'!AJ92","v":0},null,null,null,0,null,null,null,null,{"$f":"'15) Calculations'!M242","v":0},{"$f":"'7) Calculations'!AS87","v":0},{"$f":"SUM(Q85:Q87)","v":0},null,"Total GHGs ",null,null,{"$f":"D88*8760/2000","v":0},{"$f":"SUM(W85:W87)","v":0},{"$f":"'8) Calculations'!AW92","v":0},null,null,null,{"$f":"'10) Calc Flares'!I82","v":0},null,{"$f":"L88*8760/2000","v":0},null,null,{"$f":"'15) Calculations'!N242","v":0},{"$f":"P88*8760/2000","v":0},{"$f":"SUM(AI85:AI87)","v":0},null,"Total GHGs ",null,null,null,null,null,null,"Total GHGs "]
[]
["Project PTE, (lb/hr)",null,null,null,null,null,null,null,null,null,null,null,null,null,null,null,null,null,"Project PTE, (ton/yr)",null,null,null,null,null,null,null,null,null,null,null,null,null,null,null,null,null,"Project Fugitive PTE, (lb/hr)",null,null,null,null,null,null,"Project PTE, (ton/yr)"]
["Pollutants","Grain Receiving","Grain Handling","Dryers","Fermenters","DDGS dryers","Solids storage","Scalpers","Hammer Mills","Flares","Solids shipping","liquid loadout and vapour recovery","tanks","Cooling Tower","Engines","boilers/rto","Suppl. Units",null,"Pollutants","Grain Receiving","Grain Handling","Dryers","Fermenters","DDGS dryers","Solids storage","Scalpers","Hammer Mills","Flares","Solids shipping","liquid loadout and vapour recovery","tanks","Cooling Tower","Engines","boilers/rto","Suppl. Units",null,"Pollutants","Grain Receiving","Grain Handling","Solids storage","Equipment leaks","haul roads",null,"Pollutants","Grain Receiving","Grain Handling","Solids storage","Equipment leaks","haul roads"]
[null,"(lb/hr)",null,null,null,null,null,null,null,null,null,null,null,null,null,null,null,null,null,"(tons/yr)",null,null,null,null,null,null,null,null,null,null,null,null,null,null,null,null,null,"(lb/hr)",null,null,null,null,null,null,"(tons/yr)"]
["  PMfilterable",{"$f":"B50-B7","v":0},0,0,0,0,0,0,0,0,0,0,null,{"$f":"N50-N7","v":0},0,0,{"$f":"Q50-Q7","v":0},null,"  PMfilterable",{"$f":"T50-T7","v":0},0,{"$f":"V50-V7","v":0},0,{"$f":"X50-X7","v":0},{"$f":"Y50-Y7","v":0},0,0,0,0,null,null,{"$f":"AF50-AF7","v":0},0,0,{"$f":"AI50-AI7","v":0},null,"  PMfilterable",{"$f":"AL50-AL7","v":0},0,{"$f":"AN50-AN7","v":0},{"$f":"AO50-AO7","v":0},0,null,"  PMfilterable",{"$f":"AS50-AS7","v":0},{"$f":"AT50-AT7","v":0},{"$f":"AU50-AU7","v":0},null,{"$f":"AW50-AW7","v":0}]
["  PM10",{"$f":"B51-B8","v":0},0,0,0,0,0,0,0,0,0,0,null,0,0,0,{"$f":"Q51-Q8","v":0},null,"  PM10",0,0,{"$f":"V51-V8","v":0},0,{"$f":"X51-X8","v":0},0,0,0,0,0,null,null,0,0,0,{"$f":"AI51-AI8","v":0},null,"  PM10",0,0,0,0,0,null,"  PM10",{"$f":"AS51-AS8","v":0},{"$f":"AT51-AT8","v":0},0,null,0]
["  PM2.5",{"$f":"B52-B9","v":0},0,0,0,0,0,0,0,0,0,0,null,0,0,0,{"$f":"Q52-Q9","v":0},null,"  PM2.5",0,0,{"$f":"V52-V9","v":0},0,{"$f":"X52-X9","v":0},0,0,0,0,0,null,null,0,0,0,{"$f":"AI52-AI9","v":0},null,"  PM2.5",0,0,0,0,0,null,"  PM2.5",0,0,0,null,0]
["  SO2",null,null,{"$f":"D53-D10","v":0},0,0,0,0,0,0,0,0,null,0,0,0,{"$f":"Q53-Q10","v":0},null,"  SO2",null,null,{"$f":"V53-V10","v":0},0,{"$f":"X53-X10","v":0},null,null,null,0,0,{"$f":"AD53-AD10","v":0},0,0,0,0,{"$f":"AI53-AI10","v":0},null,"  SO2",null,null,0,0,0,null,"  SO2"]
["  NOx",null,null,{"$f":"D54-D11","v":0},0,0,0,0,0,0,0,0,null,0,0,0,{"$f":"Q54-Q11","v":0},null,"  NOx",null,null,{"$f":"V54-V11","v":0},0,{"$f":"X54-X11","v":0},null,null,null,0,0,{"$f":"AD54-AD11","v":0},0,0,0,0,{"$f":"AI54-AI11","v":0},null,"  NOx",null,null,0,0,0,null,"  NOx"]
["  CO",null,null,{"$f":"D55-D12","v":0},0,0,0,0,0,0,0,0,null,0,0,0,{"$f":"Q55-Q12","v":0},null,"  CO",null,null,{"$f":"V55-V12","v":0},0,{"$f":"X55-X12","v":0},null,null,null,0,0,{"$f":"AD55-AD12","v":0},0,0,0,0,{"$f":"AI55-AI12","v":0},null,"  CO",null,null,0,0,0,null,"  CO"]
["  VOC",null,null,{"$f":"D56-D13","v":0},0,0,0,0,0,0,0,0,null,0,0,0,{"$f":"Q56-Q13","v":0},null,"  VOC",null,null,{"$f":"V56-V13","v":0},0,{"$f":"X56-X13","v":0},null,null,null,0,0,{"$f":"AD56-AD13","v":0},0,0,0,0,{"$f":"AI56-AI13","v":0},null,"  VOC",null,null,0,0,0,null,"  VOC",null,null,null,0]
["  Hydrogen Sulfide ",null,null,{"$f":"D57-D14","v":0},0,0,0,0,0,0,0,0,null,0,0,0,{"$f":"Q57-Q14","v":0},null,"  Hydrogen Sulfide ",null,null,{"$f":"V57-V14","v":0},0,{"$f":"X57-X14","v":0},null,null,null,0,0,{"$f":"AD57-AD14","v":0},0,0,0,0,{"$f":"AI57-AI14","v":0},null,"  Hydrogen Sulfide ",null,null,0,0,0,null,"  Hydrogen Sulfide "]
["  Sulfuric Acid",null,null,{"$f":"D58-D15","v":0},{"$f":"E58-E18","v":0},0,0,0,0,0,0,0,null,0,0,0,{"$f":"Q58-Q15","v":0},null,"  Sulfuric Acid",null,null,{"$f":"V58-V15","v":0},0,{"$f":"X58-X15","v":0},null,null,null,0,0,{"$f":"AD58-AD15","v":0},0,0,0,0,{"$f":"AI58-AI15","v":0},null,"  Sulfuric Acid",null,null,0,0,0,null,"  Sulfuric Acid"]
["  Fluorides ",null,null,{"$f":"D59-D16","v":0},0,0,0,0,0,0,0,0,null,0,0,0,{"$f":"Q59-Q16","v":0},null,"  Fluorides ",null,null,{"$f":"V59-V16","v":0},0,{"$f":"X59-X16","v":0},null,null,null,0,0,{"$f":"AD59-AD16","v":0},0,0,0,0,{"$f":"AI59-AI16","v":0},null,"  Fluorides ",null,null,0,0,0,null,"  Fluorides "]
["Individual HAP",null,null,null,null,null,null,null,null,null,null,null,null,null,null,null,null,null,"Individual HAP",null,null,null,null,null,null,null,null,null,null,null,null,null,null,null,null,null,"Individual HAP",null,null,null,null,null,null,"Individual HAP"]
["  Acetaldehyde",null,null,{"$f":"D61-D18","v":0},{"$f":"E61-E18","v":0},0,0,0,0,0,0,0,null,{"$f":"N61-N18","v":0},0,0,{"$f":"Q61-Q18","v":0},null,"  Acetaldehyde",null,null,{"$f":"V61-V18","v":0},0,{"$f":"X61-X18","v":0},null,null,null,{"$f":"AB61-AB18","v":0},0,{"$f":"AD61-AD18","v":0},0,{"$f":"AF61-AF18","v":0},0,0,{"$f":"AI61-AI18","v":0},null,"  Acetaldehyde",null,null,{"$f":"AN61-AN18","v":0},{"$f":"AO61-AO18","v":0},0,null,"  Acetaldehyde",null,null,null,{"$f":"AV61-AV18","v":0}]
["  Acrolein",null,null,0,0,0,0,0,0,0,0,0,null,0,0,0,{"$f":"Q62-Q19","v":0},null,"  Acrolein",null,null,{"$f":"V62-V19","v":0},0,{"$f":"X62-X19","v":0},null,null,null,0,0,{"$f":"AD62-AD19","v":0},0,0,0,0,{"$f":"AI62-AI19","v":0},null,"  Acrolein",null,null,0,0,0,null,"  Acrolein",null,null,null,0]
["  Arsenic compounds",null,null,{"$f":"D63-D20","v":0},0,0,0,0,0,0,0,0,null,0,0,0,{"$f":"Q63-Q20","v":0},null,"  Arsenic compounds",null,null,{"$f":"V63-V20","v":0},0,{"$f":"X63-X20","v":0},null,null,null,0,0,{"$f":"AD63-AD20","v":0},0,0,0,0,{"$f":"AI63-AI20","v":0},null,"  Arsenic compounds",null,null,0,0,0,null,"  Arsenic compounds",null,null,null,0]
["  Benzene",null,null,{"$f":"D64-D21","v":0},0,0,0,0,0,0,0,0,null,0,0,0,{"$f":"Q64-Q21","v":0},null,"  Benzene",null,null,{"$f":"V64-V21","v":0},0,{"$f":"X64-X21","v":0},null,null,null,0,0,{"$f":"AD64-AD21","v":0},0,0,0,0,{"$f":"AI64-AI21","v":0},null,"  Benzene",null,null,0,0,0,null,"  Benzene",null,null,null,0]
["  Benzyl chloride",null,null,{"$f":"D65-D22","v":0},0,0,0,0,0,0,0,0,null,0,0,0,{"$f":"Q65-Q22","v":0},null,"  Benzyl chloride",null,null,{"$f":"V65-V22","v":0},0,{"$f":"X65-X22","v":0},null,null,null,0,0,{"$f":"AD65-AD22","v":0},0,0,0,0,{"$f":"AI65-AI22","v":0},null,"  Benzyl chloride",null,null,0,0,0,null,"  Benzyl chloride",null,null,null,0]
["  Beryllium compounds",null,null,{"$f":"D66-D23","v":0},0,0,0,0,0,0,0,0,null,0,0,0,{"$f":"Q66-Q23","v":0},null,"  Beryllium compounds",null,null,{"$f":"V66-V23","v":0},0,{"$f":"X66-X23","v":0},null,null,null,0,0,{"$f":"AD66-AD23","v":0},0,0,0,0,{"$f":"AI66-AI23","v":0},null,"  Beryllium compounds",null,null,0,0,0,null,"  Beryllium compounds",null,null,null,0]
["  Cadmium compounds",null,null,{"$f":"D67-D24","v":0},0,0,0,0,0,0,0,0,null,0,0,0,{"$f":"Q67-Q24","v":0},null,"  Cadmium compounds",null,null,{"$f":"V67-V24","v":0},0,{"$f":"X67-X24","v":0},null,null,null,0,0,{"$f":"AD67-AD24","v":0},0,0,0,0,{"$f":"AI67-AI24","v":0},null,"  Cadmium compounds",null,null,0,0,0,null,"  Cadmium compounds",null,null,null,0]
["  Cyanide compounds",null,null,{"$f":"D68-D25","v":0},0,0,0,0,0,0,0,0,null,0,0,0,{"$f":"Q68-Q25","v":0},null,"  Cyanide compounds",null,null,{"$f":"V68-V25","v":0},0,{"$f":"X68-X25","v":0},null,null,null,0,0,{"$f":"AD68-AD25","v":0},0,0,0,0,{"$f":"AI68-AI25","v":0},null,"  Cyanide compounds",null,null,0,0,0,null,"  Cyanide compounds",null,null,null,0]
["  Formaldehyde",null,null,{"$f":"D69-D26","v":0},0,0,0,0,0,0,0,0,null,0,0,0,{"$f":"Q69-Q26","v":0},null,"  Formaldehyde",null,null,{"$f":"V69-V26","v":0},0,{"$f":"X69-X26","v":0},null,null,null,0,0,{"$f":"AD69-AD26","v":0},0,0,0,0,{"$f":"AI69-AI26","v":0},null,"  Formaldehyde",null,null,0,0,0,null,"  Formaldehyde",null,null,null,0]
["  Hexane",null,null,{"$f":"D70-D27","v":0},0,0,0,0,0,0,0,0,null,0,0,0,{"$f":"Q70-Q27","v":0},null,"  Hexane",null,null,{"$f":"V70-V27","v":0},0,{"$f":"X70-X27","v":0},null,null,null,0,0,{"$f":"AD70-AD27","v":0},0,0,0,0,{"$f":"AI70-AI27","v":0},null,"  Hexane",null,null,0,0,0,null,"  Hexane",null,null,null,0]
["  Hydrochloric acid",null,null,{"$f":"D71-D28","v":0},0,0,0,0,0,0,0,0,null,0,0,0,{"$f":"Q71-Q28","v":0},null,"  Hydrochloric acid",null,null,{"$f":"V71-V28","v":0},0,{"$f":"X71-X28","v":0},null,null,null,{"$f":"AB71-AB28","v":0},0,{"$f":"AD71-AD28","v":0},0,0,0,0,{"$f":"AI71-AI28","v":0},null,"  Hydrochloric acid",null,null,0,0,0,null,"  Hydrochloric acid",null,null,null,0]
["  Lead Compounds",null,null,{"$f":"D72-D29","v":0},0,0,0,0,0,0,0,0,null,0,0,0,{"$f":"Q72-Q29","v":0},null,"  Lead Compounds",null,null,{"$f":"V72-V29","v":0},0,{"$f":"X72-X29","v":0},null,null,null,0,0,{"$f":"AD72-AD29","v":0},0,0,0,0,{"$f":"AI72-AI29","v":0},null,"  Lead Compounds",null,null,0,0,0,null,"  Lead Compounds",null,null,null,0]
["  Mercury compounds",null,null,{"$f":"D73-D30","v":0},0,0,0,0,0,0,0,0,null,0,0,0,{"$f":"Q73-Q30","v":0},null,"  Mercury compounds",null,null,{"$f":"V73-V30","v":0},0,{"$f":"X73-X30","v":0},null,null,null,0,0,{"$f":"AD73-AD30","v":0},0,0,0,0,{"$f":"AI73-AI30","v":0},null,"  Mercury compounds",null,null,0,0,0,null,"  Mercury compounds",null,null,null,0]
["  Methanol",null,null,{"$f":"D74-D31","v":0},0,0,0,0,0,0,0,0,null,0,0,0,{"$f":"Q74-Q31","v":0},null,"  Methanol",null,null,{"$f":"V74-V31","v":0},0,{"$f":"X74-X31","v":0},null,null,null,0,0,{"$f":"AD74-AD31","v":0},0,0,0,0,{"$f":"AI74-AI31","v":0},null,"  Methanol",null,null,0,0,0,null,"  Methanol",null,null,null,0]
["  Methyl hydrazine",null,null,{"$f":"D75-D32","v":0},0,0,0,0,0,0,0,0,null,0,0,0,{"$f":"Q75-Q32","v":0},null,"  Methyl hydrazine",null,null,{"$f":"V75-V32","v":0},0,{"$f":"X75-X32","v":0},null,null,null,0,0,{"$f":"AD75-AD32","v":0},0,0,0,0,{"$f":"AI75-AI32","v":0},null,"  Methyl hydrazine",null,null,0,0,0,null,"  Methyl hydrazine",null,null,null,0]
["  Selenium compounds",null,null,{"$f":"D76-D33","v":0},0,0,0,0,0,0,0,0,null,0,0,0,{"$f":"Q76-Q33","v":0},null,"  Selenium compounds",null,null,{"$f":"V76-V33","v":0},0,{"$f":"X76-X33","v":0},null,null,null,0,0,{"$f":"AD76-AD33","v":0},0,0,0,0,{"$f":"AI76-AI33","v":0},null,"  Selenium compounds",null,null,0,0,0,null,"  Selenium compounds",null,null,null,0]
["Other HAPs",null,null,{"$f":"D77-D34","v":0},0,0,0,0,0,0,0,0,null,0,0,0,{"$f":"Q77-Q34","v":0},null,"Other HAPs",null,null,{"$f":"V77-V34","v":0},0,{"$f":"X77-X34","v":0},null,null,null,0,0,{"$f":"AD77-AD34","v":0},0,0,0,0,{"$f":"AI77-AI34","v":0},null,"Other HAPs",null,null,0,0,0,null,"Other HAPs",null,null,null,0]
["Total HAPs",null,null,{"$f":"D78-D35","v":0},0,0,0,0,0,0,0,0,null,0,0,0,{"$f":"Q78-Q35","v":0},null,"Total HAPs",null,null,{"$f":"V78-V35","v":0},0,{"$f":"X78-X35","v":0},null,null,null,0,0,{"$f":"AD78-AD35","v":0},0,0,0,0,{"$f":"AI78-AI35","v":0},null,"Total HAPs",null,null,0,0,0,null,"Total HAPs",null,null,null,0]
["Greenhouse Gases (GHG) (Mass Basis)",null,null,null,null,null,null,null,null,null,null,null,null,null,null,null,null,null,"Greenhouse Gases (GHG) (Mass Basis)",null,null,null,null,null,null,null,null,null,null,null,null,null,null,null,null,null,"Greenhouse Gases (GHG) (Mass Basis)",null,null,null,null,null,null,"Greenhouse Gases (GHG) (Mass Basis)"]
["  Carbon Dioxide ",null,null,{"$f":"D80-D37","v":0},0,0,0,0,0,0,0,0,null,{"$f":"N80-N37","v":0},0,0,{"$f":"Q80-Q37","v":0},null,"  Carbon Dioxide ",null,null,{"$f":"D123*8760/2000","v":0},0,0,null,null,null,{"$f":"AB80-AB37","v":0},0,{"$f":"AD80-AD37","v":0},0,{"$f":"AF80-AF37","v":0},0,0,{"$f":"AI80-AI37","v":0},null,"  Carbon Dioxide ",null,null,{"$f":"AN80-AN37","v":0},{"$f":"AO80-AO37","v":0},0,null,"  Carbon Dioxide ",null,null,null,{"$f":"AV80-AV37","v":0}]
["  Methane",null,null,{"$f":"D81-D38","v":0},0,0,0,0,0,0,0,0,null,0,0,0,{"$f":"Q81-Q38","v":0},null,"  Methane",null,null,0,0,0,null,null,null,0,0,{"$f":"AD81-AD38","v":0},0,0,0,0,{"$f":"AI81-AI38","v":0},null,"  Methane",null,null,{"$f":"AN81-AN38","v":0},0,0,null,"  Methane",null,null,null,0]
["  Nitrous Oxide",null,null,{"$f":"D82-D39","v":0},0,0,0,0,0,0,0,0,null,0,0,0,{"$f":"Q82-Q39","v":0},null,"  Nitrous Oxide",null,null,0,0,0,null,null,null,0,0,{"$f":"AD82-AD39","v":0},0,0,0,0,{"$f":"AI82-AI39","v":0},null,"  Nitrous Oxide",null,null,{"$f":"AN82-AN39","v":0},0,0,null,"  Nitrous Oxide",null,null,null,0]
["Total GHGs ",null,null,{"$f":"D83-D40","v":0},0,0,0,0,0,0,0,0,null,0,0,0,{"$f":"Q83-Q40","v":0},null,"Total GHGs ",null,null,0,0,0,null,null,null,0,0,{"$f":"AD83-AD40","v":0},0,0,0,0,{"$f":"AI83-AI40","v":0},null,"Total GHGs ",null,null,{"$f":"AN83-AN40","v":0},0,0,null,"Total GHGs ",null,null,null,0]
["Greenhouse Gases (GHG) (CO2 Equilvalent Basis)",null,null,null,null,null,null,null,null,null,null,null,null,null,null,null,null,null,"Greenhouse Gases (GHG) (CO2 Equilvalent Basis)",null,null,null,null,null,null,null,null,null,null,null,null,null,null,null,null,null,"Greenhouse Gases (GHG) (CO2 Equilvalent Basis)",null,null,null,null,null,null,"Greenhouse Gases (GHG) (CO2 Equilvalent Basis)"]
["  Carbon Dioxide ",null,null,0,0,0,0,0,0,0,0,0,null,0,0,0,0,null,"  Carbon Dioxide ",null,null,{"$f":"D128*8760/2000","v":0},0,0,null,null,null,0,0,0,0,0,0,0,0,null,"  Carbon Dioxide ",null,null,0,0,0,null,"  Carbon Dioxide ",null,null,null,0]
["  Methane",null,null,0,0,0,0,0,0,0,0,0,null,0,0,0,0,null,"  Methane",null,null,0,0,0,null,null,null,0,0,0,0,0,0,0,0,null,"  Methane",null,null,0,0,0,null,"  Methane",null,null,null,0]
["  Nitrous Oxide",null,null,0,0,0,0,0,0,0,0,0,null,0,0,0,0,null,"  Nitrous Oxide",null,null,0,0,0,null,null,null,0,0,0,0,0,0,0,0,null,"  Nitrous Oxide",null,null,0,0,0,null,"  Nitrous Oxide",null,null,null,0]
["Total GHGs ",null,null,0,0,0,0,0,0,0,0,0,null,0,0,0,0,null,"Total GHGs ",null,null,0,0,0,null,null,null,0,0,0,0,0,0,0,0,null,"Total GHGs ",null,null,0,0,0,null,"Total GHGs ",null,null,null,0]

{"sheet":"Results Summary","index":17,"n_rows":46,"n_cols":24,"rows_kept":46,"cut":false,"hidden":false,"merged":[[5,21,6,21],[5,22,5,23],[36,17,36,19],[36,21,36,23],[41,0,41,2],[41,4,41,6],[41,8,41,10],[5,13,6,13],[36,13,36,15],[5,4,6,4],[5,8,6,8],[5,1,5,2],[5,5,5,6],[5,9,5,10],[17,0,17,2],[17,4,17,6],[36,4,36,6],[36,0,36,2],[5,14,5,15],[5,17,6,17],[5,18,5,19],[17,8,17,10],[36,8,36,10],[5,0,6,0],[17,13,17,15],[41,13,41,15],[41,17,41,19],[41,21,41,23],[17,17,17,19],[17,21,17,23]]}
[]
["Universal Calculation Spreadsheets applicable for the Emissions of Ethanol Industry"]
["Results Summary"]
[]
["Non-Fugitive PTE",null,null,null,null,null,null,null,null,null,null,null,null,"Fugitive PTE"]
["Pollutants","Current PTE",null,null,"Pollutants","Total PTE after Project","DDGS dryers",null,"Pollutants","Project PTE",null,null,null,"Pollutants","Current PTE",null,null,"Pollutants","Total PTE after Project","DDGS dryers",null,"Pollutants","Project PTE"]
[null,"(lb/hr)","(ton/yr)",null,null,"(lb/hr)","(ton/yr)",null,null,"(lb/hr)","(ton/yr)",null,null,null,"(lb/hr)","(ton/yr)",null,null,"(lb/hr)","(ton/yr)",null,null,"(lb/hr)","(ton/yr)"]
["  PMfilterable",{"$f":"SUM(Results!B7:Q7)","v":0},{"$f":"SUM(Results!T7:AI7)","v":0},null,"  PMfilterable",{"$f":"SUM(Results!B50:Q50)","v":0},{"$f":"SUM(Results!T50:AI50)","v":0},null,"  PMfilterable",{"$f":"SUM(Results!B93:Q93)","v":0},{"$f":"SUM(Results!T93:AI93)","v":0},null,null,"  PMfilterable",{"$f":"SUM(Results!AL7:AP7)","v":0},{"$f":"SUM(Results!AS7:AW7)","v":0},null,"  PMfilterable",{"$f":"SUM(Results!AL50:AP50)","v":0},{"$f":"SUM(Results!AS50:AW50)","v":0},null,"  PMfilterable",{"$f":"SUM(Results!AL93:AP93)","v":0},{"$f":"SUM(Results!AS93:AW93)","v":0}]
["  PM10",{"$f":"SUM(Results!B8:Q8)","v":0},{"$f":"SUM(Results!T8:AI8)","v":0},null,"  PM10",{"$f":"SUM(Results!B51:Q51)","v":0},{"$f":"SUM(Results!T51:AI51)","v":0},null,"  PM10",{"$f":"SUM(Results!B94:Q94)","v":0},{"$f":"SUM(Results!T94:AI94)","v":0},null,null,"  PM10",{"$f":"SUM(Results!AL8:AP8)","v":0},{"$f":"SUM(Results!AS8:AW8)","v":0},null,"  PM10",{"$f":"SUM(Results!AL51:AP51)","v":0},{"$f":"SUM(Results!AS51:AW51)","v":0},null,"  PM10",{"$f":"SUM(Results!AL94:AP94)","v":0},{"$f":"SUM(Results!AS94:AW94)","v":0}]
["  PM2.5",{"$f":"SUM(Results!B9:Q9)","v":0},{"$f":"SUM(Results!T9:AI9)","v":0},null,"  PM2.5",{"$f":"SUM(Results!B52:Q52)","v":0},{"$f":"SUM(Results!T52:AI52)","v":0},null,"  PM2.5",{"$f":"SUM(Results!B95:Q95)","v":0},{"$f":"SUM(Results!T95:AI95)","v":0},null,null,"  PM2.5",{"$f":"SUM(Results!AL9:AP9)","v":0},{"$f":"SUM(Results!AS9:AW9)","v":0},null,"  PM2.5",{"$f":"SUM(Results!AL52:AP52)","v":0},{"$f":"SUM(Results!AS52:AW52)","v":0},null,"  PM2.5",{"$f":"SUM(Results!AL95:AP95)","v":0},{"$f":"SUM(Results!AS95:AW95)","v":0}]
["  SO2",{"$f":"SUM(Results!B10:Q10)","v":0},{"$f":"SUM(Results!T10:AI10)","v":0},null,"  SO2",{"$f":"SUM(Results!B53:Q53)","v":0},{"$f":"SUM(Results!T53:AI53)","v":0},null,"  SO2",{"$f":"SUM(Results!B96:Q96)","v":0},{"$f":"SUM(Results!T96:AI96)","v":0},null,null,"  SO2",{"$f":"SUM(Results!AL10:AP10)","v":0},{"$f":"SUM(Results!AS10:AW10)","v":0},null,"  SO2",{"$f":"SUM(Results!AL53:AP53)","v":0},{"$f":"SUM(Results!AS53:AW53)","v":0},null,"  SO2",{"$f":"SUM(Results!AL96:AP96)","v":0},{"$f":"SUM(Results!AS96:AW96)","v":0}]
["  NOx",{"$f":"SUM(Results!B11:Q11)","v":0},{"$f":"SUM(Results!T11:AI11)","v":0},null,"  NOx",{"$f":"SUM(Results!B54:Q54)","v":0},{"$f":"SUM(Results!T54:AI54)","v":0},null,"  NOx",{"$f":"SUM(Results!B97:Q97)","v":0},{"$f":"SUM(Results!T97:AI97)","v":0},null,null,"  NOx",{"$f":"SUM(Results!AL11:AP11)","v":0},{"$f":"SUM(Results!AS11:AW11)","v":0},null,"  NOx",{"$f":"SUM(Results!AL54:AP54)","v":0},{"$f":"SUM(Results!AS54:AW54)","v":0},null,"  NOx",{"$f":"SUM(Results!AL97:AP97)","v":0},{"$f":"SUM(Results!AS97:AW97)","v":0}]
["  CO",{"$f":"SUM(Results!B12:Q12)","v":0},{"$f":"SUM(Results!T12:AI12)","v":0},null,"  CO",{"$f":"SUM(Results!B55:Q55)","v":0},{"$f":"SUM(Results!T55:AI55)","v":0},null,"  CO",{"$f":"SUM(Results!B98:Q98)","v":0},{"$f":"SUM(Results!T98:AI98)","v":0},null,null,"  CO",{"$f":"SUM(Results!AL12:AP12)","v":0},{"$f":"SUM(Results!AS12:AW12)","v":0},null,"  CO",{"$f":"SUM(Results!AL55:AP55)","v":0},{"$f":"SUM(Results!AS55:AW55)","v":0},null,"  CO",{"$f":"SUM(Results!AL98:AP98)","v":0},{"$f":"SUM(Results!AS98:AW98)","v":0}]
["  VOC",{"$f":"SUM(Results!B13:Q13)","v":0},{"$f":"SUM(Results!T13:AI13)","v":0},null,"  VOC",{"$f":"SUM(Results!B56:Q56)","v":0},{"$f":"SUM(Results!T56:AI56)","v":0},null,"  VOC",{"$f":"SUM(Results!B99:Q99)","v":0},{"$f":"SUM(Results!T99:AI99)","v":0},null,null,"  VOC",{"$f":"SUM(Results!AL13:AP13)","v":0},{"$f":"SUM(Results!AS13:AW13)","v":0},null,"  VOC",{"$f":"SUM(Results!AL56:AP56)","v":0},{"$f":"SUM(Results!AS56:AW56)","v":0},null,"  VOC",{"$f":"SUM(Results!AL99:AP99)","v":0},{"$f":"SUM(Results!AS99:AW99)","v":0}]
["  Hydrogen Sulfide ",0,0,null,"  Hydrogen Sulfide ",null,{"$f":"'8) Calculations'!AJ15","v":0},null,"  Hydrogen Sulfide ",null,null,null,null,"  Hydrogen Sulfide ",0,0,null,"  Hydrogen Sulfide ",null,{"$f":"'8) Calculations'!AW15","v":0},null,"  Hydrogen Sulfide "]
["  Sulfuric Acid",0,0,null,"  Sulfuric Acid",null,{"$f":"'8) Calculations'!AJ20","v":0},null,"  Sulfuric Acid",null,null,null,null,"  Sulfuric Acid",0,0,null,"  Sulfuric Acid",null,{"$f":"'8) Calculations'!AW20","v":0},null,"  Sulfuric Acid"]
["  Fluorides ",0,0,null,"  Fluorides ",null,{"$f":"'8) Calculations'!AJ21","v":0},null,"  Fluorides ",null,null,null,null,"  Fluorides ",0,0,null,"  Fluorides ",null,{"$f":"'8) Calculations'!AW21","v":0},null,"  Fluorides "]
["Individual HAP",null,null,null,"Individual HAP",null,null,null,"Individual HAP",null,null,null,null,"Individual HAP",null,null,null,"Individual HAP",null,null,null,"Individual HAP"]
["  Acetaldehyde",{"$f":"SUM(Results!B18:Q18)","v":0},{"$f":"SUM(Results!T18:AI18)","v":0},null,"  Acetaldehyde",{"$f":"SUM(Results!B61:Q61)","v":0},{"$f":"SUM(Results!T61:AI61)","v":0},null,"  Acetaldehyde",{"$f":"SUM(Results!B104:Q104)","v":0},{"$f":"SUM(Results!T104:AI104)","v":0},null,null,"  Acetaldehyde",{"$f":"SUM(Results!AL18:AP18)","v":0},{"$f":"SUM(Results!AS18:AW18)","v":0},null,"  Acetaldehyde",{"$f":"SUM(Results!AL61:AP61)","v":0},{"$f":"SUM(Results!AS61:AW61)","v":0},null,"  Acetaldehyde",{"$f":"SUM(Results!AL104:AP104)","v":0},{"$f":"SUM(Results!AS104:AW104)","v":0}]
["  Acrolein",{"$f":"SUM(Results!B19:Q19)","v":0},{"$f":"SUM(Results!T19:AI19)","v":0},null,"  Acrolein",{"$f":"SUM(Results!B62:Q62)","v":0},{"$f":"SUM(Results!T62:AI62)","v":0},null,"  Acrolein",{"$f":"SUM(Results!B105:Q105)","v":0},{"$f":"SUM(Results!T105:AI105)","v":0},null,null,"  Acrolein",{"$f":"SUM(Results!AL19:AP19)","v":0},{"$f":"SUM(Results!AS19:AW19)","v":0},null,"  Acrolein",{"$f":"SUM(Results!AL62:AP62)","v":0},{"$f":"SUM(Results!AS62:AW62)","v":0},null,"  Acrolein",{"$f":"SUM(Results!AL105:AP105)","v":0},{"$f":"SUM(Results!AS105:AW105)","v":0}]
["  Arsenic compounds",{"$f":"SUM(Results!B20:Q20)","v":0},{"$f":"SUM(Results!T20:AI20)","v":0},null,"  Arsenic compounds",{"$f":"SUM(Results!B63:Q63)","v":0},{"$f":"SUM(Results!T63:AI63)","v":0},null,"  Arsenic compounds",{"$f":"SUM(Results!B106:Q106)","v":0},{"$f":"SUM(Results!T106:AI106)","v":0},null,null,"  Arsenic compounds",{"$f":"SUM(Results!AL20:AP20)","v":0},{"$f":"SUM(Results!AS20:AW20)","v":0},null,"  Arsenic compounds",{"$f":"SUM(Results!AL63:AP63)","v":0},{"$f":"SUM(Results!AS63:AW63)","v":0},null,"  Arsenic compounds",{"$f":"SUM(Results!AL106:AP106)","v":0},{"$f":"SUM(Results!AS106:AW106)","v":0}]
["  Benzene",{"$f":"SUM(Results!B21:Q21)","v":0},{"$f":"SUM(Results!T21:AI21)","v":0},null,"  Benzene",{"$f":"SUM(Results!B64:Q64)","v":0},{"$f":"SUM(Results!T64:AI64)","v":0},null,"  Benzene",{"$f":"SUM(Results!B107:Q107)","v":0},{"$f":"SUM(Results!T107:AI107)","v":0},null,null,"  Benzene",{"$f":"SUM(Results!AL21:AP21)","v":0},{"$f":"SUM(Results!AS21:AW21)","v":0},null,"  Benzene",{"$f":"SUM(Results!AL64:AP64)","v":0},{"$f":"SUM(Results!AS64:AW64)","v":0},null,"  Benzene",{"$f":"SUM(Results!AL107:AP107)","v":0},{"$f":"SUM(Results!AS107:AW107)","v":0}]
["  Benzyl chloride",{"$f":"SUM(Results!B22:Q22)","v":0},{"$f":"SUM(Results!T22:AI22)","v":0},null,"  Benzyl chloride",{"$f":"SUM(Results!B65:Q65)","v":0},{"$f":"SUM(Results!T65:AI65)","v":0},null,"  Benzyl chloride",{"$f":"SUM(Results!B108:Q108)","v":0},{"$f":"SUM(Results!T108:AI108)","v":0},null,null,"  Benzyl chloride",{"$f":"SUM(Results!AL22:AP22)","v":0},{"$f":"SUM(Results!AS22:AW22)","v":0},null,"  Benzyl chloride",{"$f":"SUM(Results!AL65:AP65)","v":0},{"$f":"SUM(Results!AS65:AW65)","v":0},null,"  Benzyl chloride",{"$f":"SUM(Results!AL108:AP108)","v":0},{"$f":"SUM(Results!AS108:AW108)","v":0}]
["  Beryllium compounds",{"$f":"SUM(Results!B23:Q23)","v":0},{"$f":"SUM(Results!T23:AI23)","v":0},null,"  Beryllium compounds",{"$f":"SUM(Results!B66:Q66)","v":0},{"$f":"SUM(Results!T66:AI66)","v":0},null,"  Beryllium compounds",{"$f":"SUM(Results!B109:Q109)","v":0},{"$f":"SUM(Results!T109:AI109)","v":0},null,null,"  Beryllium compounds",{"$f":"SUM(Results!AL23:AP23)","v":0},{"$f":"SUM(Results!AS23:AW23)","v":0},null,"  Beryllium compounds",{"$f":"SUM(Results!AL66:AP66)","v":0},{"$f":"SUM(Results!AS66:AW66)","v":0},null,"  Beryllium compounds",{"$f":"SUM(Results!AL109:AP109)","v":0},{"$f":"SUM(Results!AS109:AW109)","v":0}]
["  Cadmium compounds",{"$f":"SUM(Results!B24:Q24)","v":0},{"$f":"SUM(Results!T24:AI24)","v":0},null,"  Cadmium compounds",{"$f":"SUM(Results!B67:Q67)","v":0},{"$f":"SUM(Results!T67:AI67)","v":0},null,"  Cadmium compounds",{"$f":"SUM(Results!B110:Q110)","v":0},{"$f":"SUM(Results!T110:AI110)","v":0},null,null,"  Cadmium compounds",{"$f":"SUM(Results!AL24:AP24)","v":0},{"$f":"SUM(Results!AS24:AW24)","v":0},null,"  Cadmium compounds",{"$f":"SUM(Results!AL67:AP67)","v":0},{"$f":"SUM(Results!AS67:AW67)","v":0},null,"  Cadmium compounds",{"$f":"SUM(Results!AL110:AP110)","v":0},{"$f":"SUM(Results!AS110:AW110)","v":0}]
["  Cyanide compounds",{"$f":"SUM(Results!B25:Q25)","v":0},{"$f":"SUM(Results!T25:AI25)","v":0},null,"  Cyanide compounds",{"$f":"SUM(Results!B68:Q68)","v":0},{"$f":"SUM(Results!T68:AI68)","v":0},null,"  Cyanide compounds",{"$f":"SUM(Results!B111:Q111)","v":0},{"$f":"SUM(Results!T111:AI111)","v":0},null,null,"  Cyanide compounds",{"$f":"SUM(Results!AL25:AP25)","v":0},{"$f":"SUM(Results!AS25:AW25)","v":0},null,"  Cyanide compounds",{"$f":"SUM(Results!AL68:AP68)","v":0},{"$f":"SUM(Results!AS68:AW68)","v":0},null,"  Cyanide compounds",{"$f":"SUM(Results!AL111:AP111)","v":0},{"$f":"SUM(Results!AS111:AW111)","v":0}]
["  Formaldehyde",{"$f":"SUM(Results!B26:Q26)","v":0},{"$f":"SUM(Results!T26:AI26)","v":0},null,"  Formaldehyde",{"$f":"SUM(Results!B69:Q69)","v":0},{"$f":"SUM(Results!T69:AI69)","v":0},null,"  Formaldehyde",{"$f":"SUM(Results!B112:Q112)","v":0},{"$f":"SUM(Results!T112:AI112)","v":0},null,null,"  Formaldehyde",{"$f":"SUM(Results!AL26:AP26)","v":0},{"$f":"SUM(Results!AS26:AW26)","v":0},null,"  Formaldehyde",{"$f":"SUM(Results!AL69:AP69)","v":0},{"$f":"SUM(Results!AS69:AW69)","v":0},null,"  Formaldehyde",{"$f":"SUM(Results!AL112:AP112)","v":0},{"$f":"SUM(Results!AS112:AW112)","v":0}]
["  Hexane",{"$f":"SUM(Results!B27:Q27)","v":0},{"$f":"SUM(Results!T27:AI27)","v":0},null,"  Hexane",{"$f":"SUM(Results!B70:Q70)","v":0},{"$f":"SUM(Results!T70:AI70)","v":0},null,"  Hexane",{"$f":"SUM(Results!B113:Q113)","v":0},{"$f":"SUM(Results!T113:AI113)","v":0},null,null,"  Hexane",{"$f":"SUM(Results!AL27:AP27)","v":0},{"$f":"SUM(Results!AS27:AW27)","v":0},null,"  Hexane",{"$f":"SUM(Results!AL70:AP70)","v":0},{"$f":"SUM(Results!AS70:AW70)","v":0},null,"  Hexane",{"$f":"SUM(Results!AL113:AP113)","v":0},{"$f":"SUM(Results!AS113:AW113)","v":0}]
["  Hydrochloric acid",{"$f":"SUM(Results!B28:Q28)","v":0},{"$f":"SUM(Results!T28:AI28)","v":0},null,"  Hydrochloric acid",{"$f":"SUM(Results!B71:Q71)","v":0},{"$f":"SUM(Results!T71:AI71)","v":0},null,"  Hydrochloric acid",{"$f":"SUM(Results!B114:Q114)","v":0},{"$f":"SUM(Results!T114:AI114)","v":0},null,null,"  Hydrochloric acid",{"$f":"SUM(Results!AL28:AP28)","v":0},{"$f":"SUM(Results!AS28:AW28)","v":0},null,"  Hydrochloric acid",{"$f":"SUM(Results!AL71:AP71)","v":0},{"$f":"SUM(Results!AS71:AW71)","v":0},null,"  Hydrochloric acid",{"$f":"SUM(Results!AL114:AP114)","v":0},{"$f":"SUM(Results!AS114:AW114)","v":0}]
["  Lead Compounds",{"$f":"SUM(Results!B29:Q29)","v":0},{"$f":"SUM(Results!T29:AI29)","v":0},null,"  Lead Compounds",{"$f":"SUM(Results!B72:Q72)","v":0},{"$f":"SUM(Results!T72:AI72)","v":0},null,"  Lead Compounds",{"$f":"SUM(Results!B115:Q115)","v":0},{"$f":"SUM(Results!T115:AI115)","v":0},null,null,"  Lead Compounds",{"$f":"SUM(Results!AL29:AP29)","v":0},{"$f":"SUM(Results!AS29:AW29)","v":0},null,"  Lead Compounds",{"$f":"SUM(Results!AL72:AP72)","v":0},{"$f":"SUM(Results!AS72:AW72)","v":0},null,"  Lead Compounds",{"$f":"SUM(Results!AL115:AP115)","v":0},{"$f":"SUM(Results!AS115:AW115)","v":0}]
["  Mercury compounds",{"$f":"SUM(Results!B30:Q30)","v":0},{"$f":"SUM(Results!T30:AI30)","v":0},null,"  Mercury compounds",{"$f":"SUM(Results!B73:Q73)","v":0},{"$f":"SUM(Results!T73:AI73)","v":0},null,"  Mercury compounds",{"$f":"SUM(Results!B116:Q116)","v":0},{"$f":"SUM(Results!T116:AI116)","v":0},null,null,"  Mercury compounds",{"$f":"SUM(Results!AL30:AP30)","v":0},{"$f":"SUM(Results!AS30:AW30)","v":0},null,"  Mercury compounds",{"$f":"SUM(Results!AL73:AP73)","v":0},{"$f":"SUM(Results!AS73:AW73)","v":0},null,"  Mercury compounds",{"$f":"SUM(Results!AL116:AP116)","v":0},{"$f":"SUM(Results!AS116:AW116)","v":0}]
["  Methanol",{"$f":"SUM(Results!B31:Q31)","v":0},{"$f":"SUM(Results!T31:AI31)","v":0},null,"  Methanol",{"$f":"SUM(Results!B74:Q74)","v":0},{"$f":"SUM(Results!T74:AI74)","v":0},null,"  Methanol",{"$f":"SUM(Results!B117:Q117)","v":0},{"$f":"SUM(Results!T117:AI117)","v":0},null,null,"  Methanol",{"$f":"SUM(Results!AL31:AP31)","v":0},{"$f":"SUM(Results!AS31:AW31)","v":0},null,"  Methanol",{"$f":"SUM(Results!AL74:AP74)","v":0},{"$f":"SUM(Results!AS74:AW74)","v":0},null,"  Methanol",{"$f":"SUM(Results!AL117:AP117)","v":0},{"$f":"SUM(Results!AS117:AW117)","v":0}]
["  Methyl hydrazine",{"$f":"SUM(Results!B32:Q32)","v":0},{"$f":"SUM(Results!T32:AI32)","v":0},null,"  Methyl hydrazine",{"$f":"SUM(Results!B75:Q75)","v":0},{"$f":"SUM(Results!T75:AI75)","v":0},null,"  Methyl hydrazine",{"$f":"SUM(Results!B118:Q118)","v":0},{"$f":"SUM(Results!T118:AI118)","v":0},null,null,"  Methyl hydrazine",{"$f":"SUM(Results!AL32:AP32)","v":0},{"$f":"SUM(Results!AS32:AW32)","v":0},null,"  Methyl hydrazine",{"$f":"SUM(Results!AL75:AP75)","v":0},{"$f":"SUM(Results!AS75:AW75)","v":0},null,"  Methyl hydrazine",{"$f":"SUM(Results!AL118:AP118)","v":0},{"$f":"SUM(Results!AS118:AW118)","v":0}]
["  Selenium compounds",{"$f":"SUM(Results!B33:Q33)","v":0},{"$f":"SUM(Results!T33:AI33)","v":0},null,"  Selenium compounds",{"$f":"SUM(Results!B76:Q76)","v":0},{"$f":"SUM(Results!T76:AI76)","v":0},null,"  Selenium compounds",{"$f":"SUM(Results!B119:Q119)","v":0},{"$f":"SUM(Results!T119:AI119)","v":0},null,null,"  Selenium compounds",{"$f":"SUM(Results!AL33:AP33)","v":0},{"$f":"SUM(Results!AS33:AW33)","v":0},null,"  Selenium compounds",{"$f":"SUM(Results!AL76:AP76)","v":0},{"$f":"SUM(Results!AS76:AW76)","v":0},null,"  Selenium compounds",{"$f":"SUM(Results!AL119:AP119)","v":0},{"$f":"SUM(Results!AS119:AW119)","v":0}]
["Other HAPs",{"$f":"SUM(Results!B34:Q34)","v":0},{"$f":"SUM(Results!T34:AI34)","v":0},null,"Other HAPs",{"$f":"SUM(Results!B77:Q77)","v":0},{"$f":"SUM(Results!T77:AI77)","v":0},null,"Other HAPs",{"$f":"SUM(Results!B120:Q120)","v":0},{"$f":"SUM(Results!T120:AI120)","v":0},null,null,"Other HAPs",{"$f":"SUM(Results!AL34:AP34)","v":0},{"$f":"SUM(Results!AS34:AW34)","v":0},null,"Other HAPs",{"$f":"SUM(Results!AL77:AP77)","v":0},{"$f":"SUM(Results!AS77:AW77)","v":0},null,"Other HAPs",{"$f":"SUM(Results!AL120:AP120)","v":0},{"$f":"SUM(Results!AS120:AW120)","v":0}]
["Total HAPs",{"$f":"SUM(Results!B35:Q35)","v":0},{"$f":"SUM(Results!T35:AI35)","v":0},null,"Total HAPs",{"$f":"SUM(Results!B78:Q78)","v":0},{"$f":"SUM(Results!T78:AI78)","v":0},null,"Total HAPs",{"$f":"SUM(Results!B121:Q121)","v":0},{"$f":"SUM(Results!T121:AI121)","v":0},null,null,"Total HAPs",{"$f":"SUM(Results!AL35:AP35)","v":0},{"$f":"SUM(Results!AS35:AW35)","v":0},null,"Total HAPs",{"$f":"SUM(Results!AL78:AP78)","v":0},{"$f":"SUM(Results!AS78:AW78)","v":0},null,"Total HAPs",{"$f":"SUM(Results!AL121:AP121)","v":0},{"$f":"SUM(Results!AS121:AW121)","v":0}]
["Greenhouse Gases (GHG) (Mass Basis)",null,null,null,"Greenhouse Gases (GHG) (Mass Basis)",null,null,null,"Greenhouse Gases (GHG) (Mass Basis)",null,null,null,null,"Greenhouse Gases (GHG) (Mass Basis)",null,null,null,"Greenhouse Gases (GHG) (Mass Basis)",null,null,null,"Greenhouse Gases (GHG) (Mass Basis)"]
["  Carbon Dioxide ",{"$f":"SUM(Results!B37:Q37)","v":0},{"$f":"SUM(Results!T37:AI37)","v":0},null,"  Carbon Dioxide ",{"$f":"SUM(Results!B80:Q80)","v":0},{"$f":"SUM(Results!T80:AI80)","v":0},null,"  Carbon Dioxide ",{"$f":"SUM(Results!B123:Q123)","v":0},{"$f":"SUM(Results!T123:AI123)","v":0},null,null,"  Carbon Dioxide ",{"$f":"SUM(Results!AL37:AP37)","v":0},{"$f":"SUM(Results!AS37:AW37)","v":0},null,"  Carbon Dioxide ",{"$f":"SUM(Results!AL80:AP80)","v":0},{"$f":"SUM(Results!AS80:AW80)","v":0},null,"  Carbon Dioxide ",{"$f":"SUM(Results!AL123:AP123)","v":0},{"$f":"SUM(Results!AS123:AW123)","v":0}]
["  Methane",{"$f":"SUM(Results!B38:Q38)","v":0},{"$f":"SUM(Results!T38:AI38)","v":0},null,"  Methane",{"$f":"SUM(Results!B81:Q81)","v":0},{"$f":"SUM(Results!T81:AI81)","v":0},null,"  Methane",{"$f":"SUM(Results!B124:Q124)","v":0},{"$f":"SUM(Results!T124:AI124)","v":0},null,null,"  Methane",{"$f":"SUM(Results!AL38:AP38)","v":0},{"$f":"SUM(Results!AS38:AW38)","v":0},null,"  Methane",{"$f":"SUM(Results!AL81:AP81)","v":0},{"$f":"SUM(Results!AS81:AW81)","v":0},null,"  Methane",{"$f":"SUM(Results!AL124:AP124)","v":0},{"$f":"SUM(Results!AS124:AW124)","v":0}]
["  Nitrous Oxide",{"$f":"SUM(Results!B39:Q39)","v":0},{"$f":"SUM(Results!T39:AI39)","v":0},null,"  Nitrous Oxide",{"$f":"SUM(Results!B82:Q82)","v":0},{"$f":"SUM(Results!T82:AI82)","v":0},null,"  Nitrous Oxide",{"$f":"SUM(Results!B125:Q125)","v":0},{"$f":"SUM(Results!T125:AI125)","v":0},null,null,"  Nitrous Oxide",{"$f":"SUM(Results!AL39:AP39)","v":0},{"$f":"SUM(Results!AS39:AW39)","v":0},null,"  Nitrous Oxide",{"$f":"SUM(Results!AL82:AP82)","v":0},{"$f":"SUM(Results!AS82:AW82)","v":0},null,"  Nitrous Oxide",{"$f":"SUM(Results!AL125:AP125)","v":0},{"$f":"SUM(Results!AS125:AW125)","v":0}]
["Total GHGs ",{"$f":"SUM(Results!B40:Q40)","v":0},{"$f":"SUM(Results!T40:AI40)","v":0},null,"Total GHGs ",{"$f":"SUM(Results!B83:Q83)","v":0},{"$f":"SUM(Results!T83:AI83)","v":0},null,"Total GHGs ",{"$f":"SUM(Results!B126:Q126)","v":0},{"$f":"SUM(Results!T126:AI126)","v":0},null,null,"Total GHGs ",{"$f":"SUM(Results!AL40:AP40)","v":0},{"$f":"SUM(Results!AS40:AW40)","v":0},null,"Total GHGs ",{"$f":"SUM(Results!AL83:AP83)","v":0},{"$f":"SUM(Results!AS83:AW83)","v":0},null,"Total GHGs ",{"$f":"SUM(Results!AL126:AP126)","v":0},{"$f":"SUM(Results!AS126:AW126)","v":0}]
["Greenhouse Gases (GHG) (CO2 Equivalent Basis)",null,null,null,"Greenhouse Gases (GHG) (CO2 Equivalent Basis)",null,null,null,"Greenhouse Gases (GHG) (CO2 Equivalent Basis)",null,null,null,null,"Greenhouse Gases (GHG) (CO2 Equivalent Basis)",null,null,null,"Greenhouse Gases (GHG) (CO2 Equivalent Basis)",null,null,null,"Greenhouse Gases (GHG) (CO2 Equivalent Basis)"]
["  Carbon Dioxide ",{"$f":"SUM(Results!B42:Q42)","v":0},{"$f":"SUM(Results!T42:AI42)","v":0},null,"  Carbon Dioxide ",{"$f":"SUM(Results!B85:Q85)","v":0},{"$f":"SUM(Results!T85:AI85)","v":0},null,"  Carbon Dioxide ",{"$f":"SUM(Results!B128:Q128)","v":0},{"$f":"SUM(Results!T128:AI128)","v":0},null,null,"  Carbon Dioxide ",{"$f":"SUM(Results!AL42:AP42)","v":0},{"$f":"SUM(Results!AS42:AW42)","v":0},null,"  Carbon Dioxide ",{"$f":"SUM(Results!AL85:AP85)","v":0},{"$f":"SUM(Results!AS85:AW85)","v":0},null,"  Carbon Dioxide ",{"$f":"SUM(Results!AL128:AP128)","v":0},{"$f":"SUM(Results!AS128:AW128)","v":0}]
["  Methane",{"$f":"SUM(Results!B43:Q43)","v":0},{"$f":"SUM(Results!T43:AI43)","v":0},null,"  Methane",{"$f":"SUM(Results!B86:Q86)","v":0},{"$f":"SUM(Results!T86:AI86)","v":0},null,"  Methane",{"$f":"SUM(Results!B129:Q129)","v":0},{"$f":"SUM(Results!T129:AI129)","v":0},null,null,"  Methane",{"$f":"SUM(Results!AL43:AP43)","v":0},{"$f":"SUM(Results!AS43:AW43)","v":0},null,"  Methane",{"$f":"SUM(Results!AL86:AP86)","v":0},{"$f":"SUM(Results!AS86:AW86)","v":0},null,"  Methane",{"$f":"SUM(Results!AL129:AP129)","v":0},{"$f":"SUM(Results!AS129:AW129)","v":0}]
["  Nitrous Oxide",{"$f":"SUM(Results!B44:Q44)","v":0},{"$f":"SUM(Results!T44:AI44)","v":0},null,"  Nitrous Oxide",{"$f":"SUM(Results!B87:Q87)","v":0},{"$f":"SUM(Results!T87:AI87)","v":0},null,"  Nitrous Oxide",{"$f":"SUM(Results!B130:Q130)","v":0},{"$f":"SUM(Results!T130:AI130)","v":0},null,null,"  Nitrous Oxide",{"$f":"SUM(Results!AL44:AP44)","v":0},{"$f":"SUM(Results!AS44:AW44)","v":0},null,"  Nitrous Oxide",{"$f":"SUM(Results!AL87:AP87)","v":0},{"$f":"SUM(Results!AS87:AW87)","v":0},null,"  Nitrous Oxide",{"$f":"SUM(Results!AL130:AP130)","v":0},{"$f":"SUM(Results!AS130:AW130)","v":0}]
["Total GHGs ",{"$f":"SUM(Results!B45:Q45)","v":0},{"$f":"SUM(Results!T45:AI45)","v":0},null,"Total GHGs ",{"$f":"SUM(Results!B88:Q88)","v":0},{"$f":"SUM(Results!T88:AI88)","v":0},null,"Total GHGs ",{"$f":"SUM(Results!B131:Q131)","v":0},{"$f":"SUM(Results!T131:AI131)","v":0},null,null,"Total GHGs ",{"$f":"SUM(Results!AL45:AP45)","v":0},{"$f":"SUM(Results!AS45:AW45)","v":0},null,"Total GHGs ",{"$f":"SUM(Results!AL88:AP88)","v":0},{"$f":"SUM(Results!AS88:AW88)","v":0},null,"Total GHGs ",{"$f":"SUM(Results!AL131:AP131)","v":0},{"$f":"SUM(Results!AS131:AW131)","v":0}]

{"sheet":"Schematic","index":18,"n_rows":31,"n_cols":51,"rows_kept":31,"cut":false,"hidden":false,"merged":[]}
[]
["Universal Calculation Spreadsheets applicable for the Emissions of Ethanol Industry"]
["Schematic"]
["Before the Project"]
["Dump Pits",null,null,null,null,"Grain Storage Bins",null,null,null,"Grain Storage Piles",null,null,null,"Scalper",null,null,null,"Hammermill",null,null,null,"Dryers",null,null,null,"Fermenters and Beerwells",null,null,null,"RTOs",null,null,null,"DDGS Dryers",null,null,null,"Solids Loadout",null,null,"Liquid Loadout Flares",null,null,"Tanks",null,null,"Compression Engines",null,null,"Spark Ignition Engines"]
[1]
["1st :",{"$f":"'3) Dump Pit'!I33","v":0},{"$f":"(IF('3) Dump Pit'!C33=\"\",\"Emission Unit Name\",'3) Dump Pit'!C33))","v":"Emission Unit Name"},{"$f":"'3) Dump Pit'!G33","v":0},null,"1st :",{"$f":"(IF('4) Grain Storage'!B18=\"\",\"Emission Unit Name\",'4) Grain Storage'!B18))","v":"Emission Unit Name"},{"$f":"'4) Grain Storage'!G18","v":0},null,"1st :",{"$f":"(IF('4) Grain Storage'!B31=\"\",\"Emission Unit Name\",'4) Grain Storage'!B31))","v":"Emission Unit Name"},{"$f":"'4) Grain Storage'!G31","v":0},1,"1st :",{"$f":"(IF('6) Hammermill'!B15=\"\",\"Emission Unit Name\",'6) Hammermill'!B15))","v":"Emission Unit Name"},{"$f":"'6) Hammermill'!F15","v":0},null,"1st :",{"$f":"(IF('6) Hammermill'!B28=\"\",\"Emission Unit Name\",'6) Hammermill'!B28))","v":"Emission Unit Name"},{"$f":"'6) Hammermill'!F28","v":0},null,"1st :",{"$f":"(IF('5) Dryer'!B17=\"\",\"Emission Unit Name\",'5) Dryer'!B17))","v":"Emission Unit Name"},{"$f":"'5) Dryer'!E17","v":0},null,"1st :",{"$f":"(IF('7) Ferm'!B15=\"\",\"Emission Unit Name\",'7) Ferm'!B15))","v":"Emission Unit Name"},{"$f":"'7) Ferm'!F15","v":0},null,"1st :",{"$f":"(IF('8) DDGS Dryer'!B29=\"\",\"Emission Unit Name\",'8) DDGS Dryer'!B29))","v":"Emission Unit Name"},{"$f":"'8) DDGS Dryer'!E29","v":0},null,"1st :",{"$f":"(IF('8) DDGS Dryer'!EJ16=\"\",\"Emission Unit Name\",'8) DDGS Dryer'!B16))","v":"Emission Unit Name"},{"$f":"'8) DDGS Dryer'!E16","v":0},null,"1st :",{"$f":"(IF('9) Solids Loadout'!B14=\"\",\"Emission Unit Name\",'9) Solids Loadout'!B14))","v":"Emission Unit Name"},null,"1st :",{"$f":"(IF('10) Liquid Loadout'!C19=\"\",\"Emission Unit Name\",'10) Liquid Loadout'!C19))","v":"Emission Unit Name"},null,"1st :",{"$f":"(IF('11) Tanks'!B10=\"\",\"Emission Unit Name\",'11) Tanks'!B10))","v":"Emission Unit Name"},null,"1st :",{"$f":"(IF('15) Engines'!B16=\"\",\"Emission Unit Name\",'15) Engines'!B16))","v":"Emission Unit Name"},null,"1st :",{"$f":"(IF('15) Engines'!B29=\"\",\"Emission Unit Name\",'15) Engines'!B29))","v":"Emission Unit Name"}]
["2nd :",{"$f":"'3) Dump Pit'!I34","v":0},{"$f":"(IF('3) Dump Pit'!C34=\"\",\"Emission Unit Name\",'3) Dump Pit'!C34))","v":"Emission Unit Name"},{"$f":"'3) Dump Pit'!G34","v":0},null,"2nd :",{"$f":"(IF('4) Grain Storage'!B19=\"\",\"Emission Unit Name\",'4) Grain Storage'!B19))","v":"Emission Unit Name"},{"$f":"'4) Grain Storage'!G19","v":0},null,"2nd :",{"$f":"(IF('4) Grain Storage'!B32=\"\",\"Emission Unit Name\",'4) Grain Storage'!B32))","v":"Emission Unit Name"},{"$f":"'4) Grain Storage'!G32","v":0},2,"2nd :",{"$f":"(IF('6) Hammermill'!B16=\"\",\"Emission Unit Name\",'6) Hammermill'!B16))","v":"Emission Unit Name"},{"$f":"'6) Hammermill'!F16","v":0},null,"2nd :",{"$f":"(IF('6) Hammermill'!B29=\"\",\"Emission Unit Name\",'6) Hammermill'!B29))","v":"Emission Unit Name"},{"$f":"'6) Hammermill'!F29","v":0},null,"2nd :",{"$f":"(IF('5) Dryer'!B18=\"\",\"Emission Unit Name\",'5) Dryer'!B18))","v":"Emission Unit Name"},{"$f":"'5) Dryer'!E18","v":0},null,"2nd :",{"$f":"(IF('7) Ferm'!B16=\"\",\"Emission Unit Name\",'7) Ferm'!B16))","v":"Emission Unit Name"},{"$f":"'7) Ferm'!F16","v":0},null,"2nd :",{"$f":"(IF('8) DDGS Dryer'!B30=\"\",\"Emission Unit Name\",'8) DDGS Dryer'!B30))","v":"Emission Unit Name"},{"$f":"'8) DDGS Dryer'!E30","v":0},null,"2nd :",{"$f":"(IF('8) DDGS Dryer'!EJ17=\"\",\"Emission Unit Name\",'8) DDGS Dryer'!B17))","v":"Emission Unit Name"},{"$f":"'8) DDGS Dryer'!E17","v":0},null,"2nd :",{"$f":"(IF('9) Solids Loadout'!B15=\"\",\"Emission Unit Name\",'9) Solids Loadout'!B15))","v":"Emission Unit Name"},null,"2nd :",{"$f":"(IF('10) Liquid Loadout'!C20=\"\",\"Emission Unit Name\",'10) Liquid Loadout'!C20))","v":"Emission Unit Name"},null,"2nd :",{"$f":"(IF('11) Tanks'!B11=\"\",\"Emission Unit Name\",'11) Tanks'!B11))","v":"Emission Unit Name"},null,"2nd :",{"$f":"(IF('15) Engines'!B17=\"\",\"Emission Unit Name\",'15) Engines'!B17))","v":"Emission Unit Name"},null,"2nd :",{"$f":"(IF('15) Engines'!B30=\"\",\"Emission Unit Name\",'15) Engines'!B30))","v":"Emission Unit Name"}]
["3rd :",{"$f":"'3) Dump Pit'!I35","v":0},{"$f":"(IF('3) Dump Pit'!C35=\"\",\"Emission Unit Name\",'3) Dump Pit'!C35))","v":"Emission Unit Name"},{"$f":"'3) Dump Pit'!G35","v":0},null,"3rd :",{"$f":"(IF('4) Grain Storage'!B20=\"\",\"Emission Unit Name\",'4) Grain Storage'!B20))","v":"Emission Unit Name"},{"$f":"'4) Grain Storage'!G20","v":0},null,"3rd :",{"$f":"(IF('4) Grain Storage'!B33=\"\",\"Emission Unit Name\",'4) Grain Storage'!B33))","v":"Emission Unit Name"},{"$f":"'4) Grain Storage'!G33","v":0},3,"3rd :",{"$f":"(IF('6) Hammermill'!B17=\"\",\"Emission Unit Name\",'6) Hammermill'!B17))","v":"Emission Unit Name"},{"$f":"'6) Hammermill'!F17","v":0},null,"3rd :",{"$f":"(IF('6) Hammermill'!B30=\"\",\"Emission Unit Name\",'6) Hammermill'!B30))","v":"Emission Unit Name"},{"$f":"'6) Hammermill'!F30","v":0},null,"3rd :",{"$f":"(IF('5) Dryer'!B19=\"\",\"Emission Unit Name\",'5) Dryer'!B19))","v":"Emission Unit Name"},{"$f":"'5) Dryer'!E19","v":0},null,"3rd :",{"$f":"(IF('7) Ferm'!B17=\"\",\"Emission Unit Name\",'7) Ferm'!B17))","v":"Emission Unit Name"},{"$f":"'7) Ferm'!F17","v":0},null,"3rd :",{"$f":"(IF('8) DDGS Dryer'!B31=\"\",\"Emission Unit Name\",'8) DDGS Dryer'!B31))","v":"Emission Unit Name"},{"$f":"'8) DDGS Dryer'!E31","v":0},null,"3rd :",{"$f":"(IF('8) DDGS Dryer'!EJ18=\"\",\"Emission Unit Name\",'8) DDGS Dryer'!B18))","v":"Emission Unit Name"},{"$f":"'8) DDGS Dryer'!E18","v":0},null,"3rd :",{"$f":"(IF('9) Solids Loadout'!B16=\"\",\"Emission Unit Name\",'9) Solids Loadout'!B16))","v":"Emission Unit Name"},null,"3rd :",{"$f":"(IF('10) Liquid Loadout'!C21=\"\",\"Emission Unit Name\",'10) Liquid Loadout'!C21))","v":"Emission Unit Name"},null,"3rd :",{"$f":"(IF('11) Tanks'!B12=\"\",\"Emission Unit Name\",'11) Tanks'!B12))","v":"Emission Unit Name"},null,"3rd :",{"$f":"(IF('15) Engines'!B18=\"\",\"Emission Unit Name\",'15) Engines'!B18))","v":"Emission Unit Name"},null,"3rd :",{"$f":"(IF('15) Engines'!B31=\"\",\"Emission Unit Name\",'15) Engines'!B31))","v":"Emission Unit Name"}]
["4th :",{"$f":"'3) Dump Pit'!I36","v":0},{"$f":"(IF('3) Dump Pit'!C36=\"\",\"Emission Unit Name\",'3) Dump Pit'!C36))","v":"Emission Unit Name"},{"$f":"'3) Dump Pit'!G36","v":0},null,"4th :",{"$f":"(IF('4) Grain Storage'!B21=\"\",\"Emission Unit Name\",'4) Grain Storage'!B21))","v":"Emission Unit Name"},{"$f":"'4) Grain Storage'!G21","v":0},null,"4th :",{"$f":"(IF('4) Grain Storage'!B34=\"\",\"Emission Unit Name\",'4) Grain Storage'!B34))","v":"Emission Unit Name"},{"$f":"'4) Grain Storage'!G34","v":0},4,"4th :",{"$f":"(IF('6) Hammermill'!B18=\"\",\"Emission Unit Name\",'6) Hammermill'!B18))","v":"Emission Unit Name"},{"$f":"'6) Hammermill'!F18","v":0},null,"4th :",{"$f":"(IF('6) Hammermill'!B31=\"\",\"Emission Unit Name\",'6) Hammermill'!B31))","v":"Emission Unit Name"},{"$f":"'6) Hammermill'!F31","v":0},null,"4th :",{"$f":"(IF('5) Dryer'!B20=\"\",\"Emission Unit Name\",'5) Dryer'!B20))","v":"Emission Unit Name"},{"$f":"'5) Dryer'!E20","v":0},null,"4th :",{"$f":"(IF('7) Ferm'!B18=\"\",\"Emission Unit Name\",'7) Ferm'!B18))","v":"Emission Unit Name"},{"$f":"'7) Ferm'!F18","v":0},null,"4th :",{"$f":"(IF('8) DDGS Dryer'!B32=\"\",\"Emission Unit Name\",'8) DDGS Dryer'!B32))","v":"Emission Unit Name"},{"$f":"'8) DDGS Dryer'!E32","v":0},null,"4th :",{"$f":"(IF('8) DDGS Dryer'!EJ19=\"\",\"Emission Unit Name\",'8) DDGS Dryer'!B19))","v":"Emission Unit Name"},{"$f":"'8) DDGS Dryer'!E19","v":0},null,"4th :",{"$f":"(IF('9) Solids Loadout'!B17=\"\",\"Emission Unit Name\",'9) Solids Loadout'!B17))","v":"Emission Unit Name"},null,"4th :",{"$f":"(IF('10) Liquid Loadout'!C22=\"\",\"Emission Unit Name\",'10) Liquid Loadout'!C22))","v":"Emission Unit Name"},null,"4th :",{"$f":"(IF('11) Tanks'!B13=\"\",\"Emission Unit Name\",'11) Tanks'!B13))","v":"Emission Unit Name"},null,"4th :",{"$f":"(IF('15) Engines'!B19=\"\",\"Emission Unit Name\",'15) Engines'!B19))","v":"Emission Unit Name"},null,"4th :",{"$f":"(IF('15) Engines'!B32=\"\",\"Emission Unit Name\",'15) Engines'!B32))","v":"Emission Unit Name"}]
["5th :",{"$f":"'3) Dump Pit'!I37","v":0},{"$f":"(IF('3) Dump Pit'!C37=\"\",\"Emission Unit Name\",'3) Dump Pit'!C37))","v":"Emission Unit Name"},{"$f":"'3) Dump Pit'!G37","v":0},null,"5th :",{"$f":"(IF('4) Grain Storage'!B22=\"\",\"Emission Unit Name\",'4) Grain Storage'!B22))","v":"Emission Unit Name"},{"$f":"'4) Grain Storage'!G22","v":0},null,"5th :",{"$f":"(IF('4) Grain Storage'!B35=\"\",\"Emission Unit Name\",'4) Grain Storage'!B35))","v":"Emission Unit Name"},{"$f":"'4) Grain Storage'!G35","v":0},5,"5th :",{"$f":"(IF('6) Hammermill'!B19=\"\",\"Emission Unit Name\",'6) Hammermill'!B19))","v":"Emission Unit Name"},{"$f":"'6) Hammermill'!F19","v":0},null,"5th :",{"$f":"(IF('6) Hammermill'!B32=\"\",\"Emission Unit Name\",'6) Hammermill'!B32))","v":"Emission Unit Name"},{"$f":"'6) Hammermill'!F32","v":0},null,"5th :",{"$f":"(IF('5) Dryer'!B21=\"\",\"Emission Unit Name\",'5) Dryer'!B21))","v":"Emission Unit Name"},{"$f":"'5) Dryer'!E21","v":0},null,"5th :",{"$f":"(IF('7) Ferm'!B19=\"\",\"Emission Unit Name\",'7) Ferm'!B19))","v":"Emission Unit Name"},{"$f":"'7) Ferm'!F19","v":0},null,"5th :",{"$f":"(IF('8) DDGS Dryer'!B33=\"\",\"Emission Unit Name\",'8) DDGS Dryer'!B33))","v":"Emission Unit Name"},{"$f":"'8) DDGS Dryer'!E33","v":0},null,"5th :",{"$f":"(IF('8) DDGS Dryer'!EJ20=\"\",\"Emission Unit Name\",'8) DDGS Dryer'!B20))","v":"Emission Unit Name"},{"$f":"'8) DDGS Dryer'!E20","v":0},null,"5th :",{"$f":"(IF('9) Solids Loadout'!B18=\"\",\"Emission Unit Name\",'9) Solids Loadout'!B18))","v":"Emission Unit Name"},null,"5th :",{"$f":"(IF('10) Liquid Loadout'!C23=\"\",\"Emission Unit Name\",'10) Liquid Loadout'!C23))","v":"Emission Unit Name"},null,"5th :",{"$f":"(IF('11) Tanks'!B14=\"\",\"Emission Unit Name\",'11) Tanks'!B14))","v":"Emission Unit Name"},null,"5th :",{"$f":"(IF('15) Engines'!B20=\"\",\"Emission Unit Name\",'15) Engines'!B20))","v":"Emission Unit Name"},null,"5th :",{"$f":"(IF('15) Engines'!B33=\"\",\"Emission Unit Name\",'15) Engines'!B33))","v":"Emission Unit Name"}]
["6th :",{"$f":"'3) Dump Pit'!I38","v":0},{"$f":"(IF('3) Dump Pit'!C38=\"\",\"Emission Unit Name\",'3) Dump Pit'!C38))","v":"Emission Unit Name"},{"$f":"'3) Dump Pit'!G38","v":0},null,"6th :",{"$f":"(IF('4) Grain Storage'!B23=\"\",\"Emission Unit Name\",'4) Grain Storage'!B23))","v":"Emission Unit Name"},{"$f":"'4) Grain Storage'!G23","v":0},null,"6th :",{"$f":"(IF('4) Grain Storage'!B36=\"\",\"Emission Unit Name\",'4) Grain Storage'!B36))","v":"Emission Unit Name"},{"$f":"'4) Grain Storage'!G36","v":0},6,"6th :",{"$f":"(IF('6) Hammermill'!B20=\"\",\"Emission Unit Name\",'6) Hammermill'!B20))","v":"Emission Unit Name"},{"$f":"'6) Hammermill'!F20","v":0},null,"6th :",{"$f":"(IF('6) Hammermill'!B33=\"\",\"Emission Unit Name\",'6) Hammermill'!B33))","v":"Emission Unit Name"},{"$f":"'6) Hammermill'!F33","v":0},null,"6th :",{"$f":"(IF('5) Dryer'!B22=\"\",\"Emission Unit Name\",'5) Dryer'!B22))","v":"Emission Unit Name"},{"$f":"'5) Dryer'!E22","v":0},null,"6th :",{"$f":"(IF('7) Ferm'!B20=\"\",\"Emission Unit Name\",'7) Ferm'!B20))","v":"Emission Unit Name"},{"$f":"'7) Ferm'!F20","v":0},null,"6th :",{"$f":"(IF('8) DDGS Dryer'!B34=\"\",\"Emission Unit Name\",'8) DDGS Dryer'!B34))","v":"Emission Unit Name"},{"$f":"'8) DDGS Dryer'!E34","v":0},null,"6th :",{"$f":"(IF('8) DDGS Dryer'!EJ21=\"\",\"Emission Unit Name\",'8) DDGS Dryer'!B21))","v":"Emission Unit Name"},{"$f":"'8) DDGS Dryer'!E21","v":0},null,"6th :",{"$f":"(IF('9) Solids Loadout'!B19=\"\",\"Emission Unit Name\",'9) Solids Loadout'!B19))","v":"Emission Unit Name"},null,"6th :",{"$f":"(IF('10) Liquid Loadout'!C24=\"\",\"Emission Unit Name\",'10) Liquid Loadout'!C24))","v":"Emission Unit Name"},null,"6th :",{"$f":"(IF('11) Tanks'!B15=\"\",\"Emission Unit Name\",'11) Tanks'!B15))","v":"Emission Unit Name"},null,"6th :",{"$f":"(IF('15) Engines'!B21=\"\",\"Emission Unit Name\",'15) Engines'!B21))","v":"Emission Unit Name"},null,"6th :",{"$f":"(IF('15) Engines'!B34=\"\",\"Emission Unit Name\",'15) Engines'!B34))","v":"Emission Unit Name"}]
["7th :",{"$f":"'3) Dump Pit'!I39","v":0},{"$f":"(IF('3) Dump Pit'!C39=\"\",\"Emission Unit Name\",'3) Dump Pit'!C39))","v":"Emission Unit Name"},{"$f":"'3) Dump Pit'!G39","v":0},null,"7th :",{"$f":"(IF('4) Grain Storage'!B24=\"\",\"Emission Unit Name\",'4) Grain Storage'!B24))","v":"Emission Unit Name"},{"$f":"'4) Grain Storage'!G24","v":0},null,"7th :",{"$f":"(IF('4) Grain Storage'!B37=\"\",\"Emission Unit Name\",'4) Grain Storage'!B37))","v":"Emission Unit Name"},{"$f":"'4) Grain Storage'!G37","v":0},7,"7th :",{"$f":"(IF('6) Hammermill'!B21=\"\",\"Emission Unit Name\",'6) Hammermill'!B21))","v":"Emission Unit Name"},{"$f":"'6) Hammermill'!F21","v":0},null,"7th :",{"$f":"(IF('6) Hammermill'!B34=\"\",\"Emission Unit Name\",'6) Hammermill'!B34))","v":"Emission Unit Name"},{"$f":"'6) Hammermill'!F34","v":0},null,"7th :",{"$f":"(IF('5) Dryer'!B23=\"\",\"Emission Unit Name\",'5) Dryer'!B23))","v":"Emission Unit Name"},{"$f":"'5) Dryer'!E23","v":0},null,"7th :",{"$f":"(IF('7) Ferm'!B21=\"\",\"Emission Unit Name\",'7) Ferm'!B21))","v":"Emission Unit Name"},{"$f":"'7) Ferm'!F21","v":0},null,"7th :",{"$f":"(IF('8) DDGS Dryer'!B35=\"\",\"Emission Unit Name\",'8) DDGS Dryer'!B35))","v":"Emission Unit Name"},{"$f":"'8) DDGS Dryer'!E35","v":0},null,"7th :",{"$f":"(IF('8) DDGS Dryer'!EJ22=\"\",\"Emission Unit Name\",'8) DDGS Dryer'!B22))","v":"Emission Unit Name"},{"$f":"'8) DDGS Dryer'!E22","v":0},null,"7th :",{"$f":"(IF('9) Solids Loadout'!B20=\"\",\"Emission Unit Name\",'9) Solids Loadout'!B20))","v":"Emission Unit Name"},null,"7th :",{"$f":"(IF('10) Liquid Loadout'!C25=\"\",\"Emission Unit Name\",'10) Liquid Loadout'!C25))","v":"Emission Unit Name"},null,"7th :",{"$f":"(IF('11) Tanks'!B16=\"\",\"Emission Unit Name\",'11) Tanks'!B16))","v":"Emission Unit Name"},null,"7th :",{"$f":"(IF('15) Engines'!B22=\"\",\"Emission Unit Name\",'15) Engines'!B22))","v":"Emission Unit Name"},null,"7th :",{"$f":"(IF('15) Engines'!B35=\"\",\"Emission Unit Name\",'15) Engines'!B35))","v":"Emission Unit Name"}]
["8th :",{"$f":"'3) Dump Pit'!I40","v":0},{"$f":"(IF('3) Dump Pit'!C40=\"\",\"Emission Unit Name\",'3) Dump Pit'!C40))","v":"Emission Unit Name"},{"$f":"'3) Dump Pit'!G40","v":0},null,"8th :",{"$f":"(IF('4) Grain Storage'!B25=\"\",\"Emission Unit Name\",'4) Grain Storage'!B25))","v":"Emission Unit Name"},{"$f":"'4) Grain Storage'!G25","v":0},null,"8th :",{"$f":"(IF('4) Grain Storage'!B38=\"\",\"Emission Unit Name\",'4) Grain Storage'!B38))","v":"Emission Unit Name"},{"$f":"'4) Grain Storage'!G38","v":0},8,"8th :",{"$f":"(IF('6) Hammermill'!B22=\"\",\"Emission Unit Name\",'6) Hammermill'!B22))","v":"Emission Unit Name"},{"$f":"'6) Hammermill'!F22","v":0},null,"8th :",{"$f":"(IF('6) Hammermill'!B35=\"\",\"Emission Unit Name\",'6) Hammermill'!B35))","v":"Emission Unit Name"},{"$f":"'6) Hammermill'!F35","v":0},null,"8th :",{"$f":"(IF('5) Dryer'!B24=\"\",\"Emission Unit Name\",'5) Dryer'!B24))","v":"Emission Unit Name"},{"$f":"'5) Dryer'!E24","v":0},null,"8th :",{"$f":"(IF('7) Ferm'!B22=\"\",\"Emission Unit Name\",'7) Ferm'!B22))","v":"Emission Unit Name"},{"$f":"'7) Ferm'!F22","v":0},null,"8th :",{"$f":"(IF('8) DDGS Dryer'!B36=\"\",\"Emission Unit Name\",'8) DDGS Dryer'!B36))","v":"Emission Unit Name"},{"$f":"'8) DDGS Dryer'!E36","v":0},null,"8th :",{"$f":"(IF('8) DDGS Dryer'!EJ23=\"\",\"Emission Unit Name\",'8) DDGS Dryer'!B23))","v":"Emission Unit Name"},{"$f":"'8) DDGS Dryer'!E23","v":0},null,"8th :",{"$f":"(IF('9) Solids Loadout'!B21=\"\",\"Emission Unit Name\",'9) Solids Loadout'!B21))","v":"Emission Unit Name"},null,"8th :",{"$f":"(IF('10) Liquid Loadout'!C26=\"\",\"Emission Unit Name\",'10) Liquid Loadout'!C26))","v":"Emission Unit Name"},null,"8th :",{"$f":"(IF('11) Tanks'!B17=\"\",\"Emission Unit Name\",'11) Tanks'!B17))","v":"Emission Unit Name"},null,"8th :",{"$f":"(IF('15) Engines'!B23=\"\",\"Emission Unit Name\",'15) Engines'!B23))","v":"Emission Unit Name"},null,"8th :",{"$f":"(IF('15) Engines'!B36=\"\",\"Emission Unit Name\",'15) Engines'!B36))","v":"Emission Unit Name"}]
["9th :",{"$f":"'3) Dump Pit'!I41","v":0},{"$f":"(IF('3) Dump Pit'!C41=\"\",\"Emission Unit Name\",'3) Dump Pit'!C41))","v":"Emission Unit Name"},{"$f":"'3) Dump Pit'!G41","v":0},null,"9th :",{"$f":"(IF('4) Grain Storage'!B26=\"\",\"Emission Unit Name\",'4) Grain Storage'!B26))","v":"Emission Unit Name"},{"$f":"'4) Grain Storage'!G26","v":0},null,"9th :",{"$f":"(IF('4) Grain Storage'!B39=\"\",\"Emission Unit Name\",'4) Grain Storage'!B39))","v":"Emission Unit Name"},{"$f":"'4) Grain Storage'!G39","v":0},9,"9th :",{"$f":"(IF('6) Hammermill'!B23=\"\",\"Emission Unit Name\",'6) Hammermill'!B23))","v":"Emission Unit Name"},{"$f":"'6) Hammermill'!F23","v":0},null,"9th :",{"$f":"(IF('6) Hammermill'!B36=\"\",\"Emission Unit Name\",'6) Hammermill'!B36))","v":"Emission Unit Name"},{"$f":"'6) Hammermill'!F36","v":0},null,"9th :",{"$f":"(IF('5) Dryer'!B25=\"\",\"Emission Unit Name\",'5) Dryer'!B25))","v":"Emission Unit Name"},{"$f":"'5) Dryer'!E25","v":0},null,"9th :",{"$f":"(IF('7) Ferm'!B23=\"\",\"Emission Unit Name\",'7) Ferm'!B23))","v":"Emission Unit Name"},{"$f":"'7) Ferm'!F23","v":0},null,"9th :",{"$f":"(IF('8) DDGS Dryer'!B37=\"\",\"Emission Unit Name\",'8) DDGS Dryer'!B37))","v":"Emission Unit Name"},{"$f":"'8) DDGS Dryer'!E37","v":0},null,"9th :",{"$f":"(IF('8) DDGS Dryer'!EJ24=\"\",\"Emission Unit Name\",'8) DDGS Dryer'!B24))","v":"Emission Unit Name"},{"$f":"'8) DDGS Dryer'!E24","v":0},null,"9th :",{"$f":"(IF('9) Solids Loadout'!B22=\"\",\"Emission Unit Name\",'9) Solids Loadout'!B22))","v":"Emission Unit Name"},null,"9th :",{"$f":"(IF('10) Liquid Loadout'!C27=\"\",\"Emission Unit Name\",'10) Liquid Loadout'!C27))","v":"Emission Unit Name"},null,"9th :",{"$f":"(IF('11) Tanks'!B18=\"\",\"Emission Unit Name\",'11) Tanks'!B18))","v":"Emission Unit Name"},null,"9th :",{"$f":"(IF('15) Engines'!B24=\"\",\"Emission Unit Name\",'15) Engines'!B24))","v":"Emission Unit Name"},null,"9th :",{"$f":"(IF('15) Engines'!B37=\"\",\"Emission Unit Name\",'15) Engines'!B37))","v":"Emission Unit Name"}]
["10th :",{"$f":"'3) Dump Pit'!I42","v":0},{"$f":"(IF('3) Dump Pit'!C42=\"\",\"Emission Unit Name\",'3) Dump Pit'!C42))","v":"Emission Unit Name"},{"$f":"'3) Dump Pit'!G42","v":0},null,"10th :",{"$f":"(IF('4) Grain Storage'!B27=\"\",\"Emission Unit Name\",'4) Grain Storage'!B27))","v":"Emission Unit Name"},{"$f":"'4) Grain Storage'!G27","v":0},null,"10th :",{"$f":"(IF('4) Grain Storage'!B40=\"\",\"Emission Unit Name\",'4) Grain Storage'!B40))","v":"Emission Unit Name"},{"$f":"'4) Grain Storage'!G40","v":0},10,"10th :",{"$f":"(IF('6) Hammermill'!B24=\"\",\"Emission Unit Name\",'6) Hammermill'!B24))","v":"Emission Unit Name"},{"$f":"'6) Hammermill'!F24","v":0},null,"10th :",{"$f":"(IF('6) Hammermill'!B37=\"\",\"Emission Unit Name\",'6) Hammermill'!B37))","v":"Emission Unit Name"},{"$f":"'6) Hammermill'!F37","v":0},null,"10th :",{"$f":"(IF('5) Dryer'!B26=\"\",\"Emission Unit Name\",'5) Dryer'!B26))","v":"Emission Unit Name"},{"$f":"'5) Dryer'!E26","v":0},null,"10th :",{"$f":"(IF('7) Ferm'!B24=\"\",\"Emission Unit Name\",'7) Ferm'!B24))","v":"Emission Unit Name"},{"$f":"'7) Ferm'!F24","v":0},null,"10th :",{"$f":"(IF('8) DDGS Dryer'!B38=\"\",\"Emission Unit Name\",'8) DDGS Dryer'!B38))","v":"Emission Unit Name"},{"$f":"'8) DDGS Dryer'!E38","v":0},null,"10th :",{"$f":"(IF('8) DDGS Dryer'!EJ25=\"\",\"Emission Unit Name\",'8) DDGS Dryer'!B25))","v":"Emission Unit Name"},{"$f":"'8) DDGS Dryer'!E25","v":0},null,"10th :",{"$f":"(IF('9) Solids Loadout'!B23=\"\",\"Emission Unit Name\",'9) Solids Loadout'!B23))","v":"Emission Unit Name"},null,"10th :",{"$f":"(IF('10) Liquid Loadout'!C28=\"\",\"Emission Unit Name\",'10) Liquid Loadout'!C28))","v":"Emission Unit Name"},null,"10th :",{"$f":"(IF('11) Tanks'!B19=\"\",\"Emission Unit Name\",'11) Tanks'!B19))","v":"Emission Unit Name"},null,"10th :",{"$f":"(IF('15) Engines'!B25=\"\",\"Emission Unit Name\",'15) Engines'!B25))","v":"Emission Unit Name"},null,"10th :",{"$f":"(IF('15) Engines'!B38=\"\",\"Emission Unit Name\",'15) Engines'!B38))","v":"Emission Unit Name"}]
[]
[]
["After the Project"]
["Dump Pits",null,null,null,null,"Grain Storage",null,null,null,"Grain Storage Piles",null,null,null,"Scalper",null,null,null,"Hammermill",null,null,null,"Dryers",null,null,null,"Fermenters and Beerwells",null,null,null,"RTOs",null,null,null,"DDGS Dryers",null,null,null,"Solids Loadout",null,null,"Liquid Loadout Flares",null,null,"Tanks",null,null,"Compression Engines",null,null,"Spark Ignition Engines"]
[]
["1st :",{"$f":"'3) Dump Pit'!R33","v":0},{"$f":"(IF('3) Dump Pit'!K33=\"\",\"Emission Unit Name\",'3) Dump Pit'!K33))","v":"Emission Unit Name"},{"$f":"'3) Dump Pit'!P33","v":0},null,"1st :",{"$f":"(IF('4) Grain Storage'!I18=\"\",\"Emission Unit Name\",'4) Grain Storage'!I18))","v":"Emission Unit Name"},{"$f":"'4) Grain Storage'!N18","v":0},null,"1st :",{"$f":"(IF('4) Grain Storage'!I31=\"\",\"Emission Unit Name\",'4) Grain Storage'!I31))","v":"Emission Unit Name"},{"$f":"'4) Grain Storage'!N31","v":0},null,"1st :",{"$f":"(IF('6) Hammermill'!J15=\"\",\"Emission Unit Name\",'6) Hammermill'!J15))","v":"Emission Unit Name"},{"$f":"'6) Hammermill'!N15","v":0},null,"1st :",{"$f":"(IF('6) Hammermill'!J28=\"\",\"Emission Unit Name\",'6) Hammermill'!J28))","v":"Emission Unit Name"},{"$f":"'6) Hammermill'!N28","v":0},null,"1st :",{"$f":"(IF('5) Dryer'!K17=\"\",\"Emission Unit Name\",'5) Dryer'!K17))","v":"Emission Unit Name"},{"$f":"'5) Dryer'!N17","v":0},null,"1st :",{"$f":"(IF('7) Ferm'!J15=\"\",\"Emission Unit Name\",'7) Ferm'!J15))","v":"Emission Unit Name"},{"$f":"'7) Ferm'!N15","v":0},null,"1st :",{"$f":"(IF('8) DDGS Dryer'!J29=\"\",\"Emission Unit Name\",'8) DDGS Dryer'!J29))","v":"Emission Unit Name"},{"$f":"'8) DDGS Dryer'!M29","v":0},null,"1st :",{"$f":"(IF('8) DDGS Dryer'!J16=\"\",\"Emission Unit Name\",'8) DDGS Dryer'!J16))","v":"Emission Unit Name"},{"$f":"'8) DDGS Dryer'!M16","v":0},null,"1st :",{"$f":"(IF('9) Solids Loadout'!J14=\"\",\"Emission Unit Name\",'9) Solids Loadout'!J14))","v":"Emission Unit Name"},null,"1st :",{"$f":"(IF('10) Liquid Loadout'!K19=\"\",\"Emission Unit Name\",'10) Liquid Loadout'!K19))","v":"Emission Unit Name"},null,"1st :",{"$f":"(IF('11) Tanks'!B24=\"\",\"Emission Unit Name\",'11) Tanks'!B24))","v":"Emission Unit Name"},null,"1st :",{"$f":"(IF('15) Engines'!L16=\"\",\"Emission Unit Name\",'15) Engines'!L16))","v":"Emission Unit Name"},null,"1st :",{"$f":"(IF('15) Engines'!L29=\"\",\"Emission Unit Name\",'15) Engines'!L29))","v":"Emission Unit Name"}]
["2nd :",{"$f":"'3) Dump Pit'!R34","v":0},{"$f":"(IF('3) Dump Pit'!K34=\"\",\"Emission Unit Name\",'3) Dump Pit'!K34))","v":"Emission Unit Name"},{"$f":"'3) Dump Pit'!P34","v":0},null,"2nd :",{"$f":"(IF('4) Grain Storage'!I19=\"\",\"Emission Unit Name\",'4) Grain Storage'!I19))","v":"Emission Unit Name"},{"$f":"'4) Grain Storage'!N19","v":0},null,"2nd :",{"$f":"(IF('4) Grain Storage'!I32=\"\",\"Emission Unit Name\",'4) Grain Storage'!I32))","v":"Emission Unit Name"},{"$f":"'4) Grain Storage'!N32","v":0},null,"2nd :",{"$f":"(IF('6) Hammermill'!J16=\"\",\"Emission Unit Name\",'6) Hammermill'!J16))","v":"Emission Unit Name"},{"$f":"'6) Hammermill'!N16","v":0},null,"2nd :",{"$f":"(IF('6) Hammermill'!J29=\"\",\"Emission Unit Name\",'6) Hammermill'!J29))","v":"Emission Unit Name"},{"$f":"'6) Hammermill'!N29","v":0},null,"2nd :",{"$f":"(IF('5) Dryer'!K18=\"\",\"Emission Unit Name\",'5) Dryer'!K18))","v":"Emission Unit Name"},{"$f":"'5) Dryer'!N18","v":0},null,"2nd :",{"$f":"(IF('7) Ferm'!J16=\"\",\"Emission Unit Name\",'7) Ferm'!J16))","v":"Emission Unit Name"},{"$f":"'7) Ferm'!N16","v":0},null,"2nd :",{"$f":"(IF('8) DDGS Dryer'!J30=\"\",\"Emission Unit Name\",'8) DDGS Dryer'!J30))","v":"Emission Unit Name"},{"$f":"'8) DDGS Dryer'!M30","v":0},null,"2nd :",{"$f":"(IF('8) DDGS Dryer'!J17=\"\",\"Emission Unit Name\",'8) DDGS Dryer'!J17))","v":"Emission Unit Name"},{"$f":"'8) DDGS Dryer'!M17","v":0},null,"2nd :",{"$f":"(IF('9) Solids Loadout'!J15=\"\",\"Emission Unit Name\",'9) Solids Loadout'!J15))","v":"Emission Unit Name"},null,"2nd :",{"$f":"(IF('10) Liquid Loadout'!K20=\"\",\"Emission Unit Name\",'10) Liquid Loadout'!K20))","v":"Emission Unit Name"},null,"2nd :",{"$f":"(IF('11) Tanks'!B25=\"\",\"Emission Unit Name\",'11) Tanks'!B25))","v":"Emission Unit Name"},null,"2nd :",{"$f":"(IF('15) Engines'!L17=\"\",\"Emission Unit Name\",'15) Engines'!L17))","v":"Emission Unit Name"},null,"2nd :",{"$f":"(IF('15) Engines'!L30=\"\",\"Emission Unit Name\",'15) Engines'!L30))","v":"Emission Unit Name"}]
["3rd :",{"$f":"'3) Dump Pit'!R35","v":0},{"$f":"(IF('3) Dump Pit'!K35=\"\",\"Emission Unit Name\",'3) Dump Pit'!K35))","v":"Emission Unit Name"},{"$f":"'3) Dump Pit'!P35","v":0},null,"3rd :",{"$f":"(IF('4) Grain Storage'!I20=\"\",\"Emission Unit Name\",'4) Grain Storage'!I20))","v":"Emission Unit Name"},{"$f":"'4) Grain Storage'!N20","v":0},null,"3rd :",{"$f":"(IF('4) Grain Storage'!I33=\"\",\"Emission Unit Name\",'4) Grain Storage'!I33))","v":"Emission Unit Name"},{"$f":"'4) Grain Storage'!N33","v":0},null,"3rd :",{"$f":"(IF('6) Hammermill'!J17=\"\",\"Emission Unit Name\",'6) Hammermill'!J17))","v":"Emission Unit Name"},{"$f":"'6) Hammermill'!N17","v":0},null,"3rd :",{"$f":"(IF('6) Hammermill'!J30=\"\",\"Emission Unit Name\",'6) Hammermill'!J30))","v":"Emission Unit Name"},{"$f":"'6) Hammermill'!N30","v":0},null,"3rd :",{"$f":"(IF('5) Dryer'!K19=\"\",\"Emission Unit Name\",'5) Dryer'!K19))","v":"Emission Unit Name"},{"$f":"'5) Dryer'!N19","v":0},null,"3rd :",{"$f":"(IF('7) Ferm'!J17=\"\",\"Emission Unit Name\",'7) Ferm'!J17))","v":"Emission Unit Name"},{"$f":"'7) Ferm'!N17","v":0},null,"3rd :",{"$f":"(IF('8) DDGS Dryer'!J31=\"\",\"Emission Unit Name\",'8) DDGS Dryer'!J31))","v":"Emission Unit Name"},{"$f":"'8) DDGS Dryer'!M31","v":0},null,"3rd :",{"$f":"(IF('8) DDGS Dryer'!J18=\"\",\"Emission Unit Name\",'8) DDGS Dryer'!J18))","v":"Emission Unit Name"},{"$f":"'8) DDGS Dryer'!M18","v":0},null,"3rd :",{"$f":"(IF('9) Solids Loadout'!J16=\"\",\"Emission Unit Name\",'9) Solids Loadout'!J16))","v":"Emission Unit Name"},null,"3rd :",{"$f":"(IF('10) Liquid Loadout'!K21=\"\",\"Emission Unit Name\",'10) Liquid Loadout'!K21))","v":"Emission Unit Name"},null,"3rd :",{"$f":"(IF('11) Tanks'!B26=\"\",\"Emission Unit Name\",'11) Tanks'!B26))","v":"Emission Unit Name"},null,"3rd :",{"$f":"(IF('15) Engines'!L18=\"\",\"Emission Unit Name\",'15) Engines'!L18))","v":"Emission Unit Name"},null,"3rd :",{"$f":"(IF('15) Engines'!L31=\"\",\"Emission Unit Name\",'15) Engines'!L31))","v":"Emission Unit Name"}]
["4th :",{"$f":"'3) Dump Pit'!R36","v":0},{"$f":"(IF('3) Dump Pit'!K36=\"\",\"Emission Unit Name\",'3) Dump Pit'!K36))","v":"Emission Unit Name"},{"$f":"'3) Dump Pit'!P36","v":0},null,"4th :",{"$f":"(IF('4) Grain Storage'!I21=\"\",\"Emission Unit Name\",'4) Grain Storage'!I21))","v":"Emission Unit Name"},{"$f":"'4) Grain Storage'!N21","v":0},null,"4th :",{"$f":"(IF('4) Grain Storage'!I34=\"\",\"Emission Unit Name\",'4) Grain Storage'!I34))","v":"Emission Unit Name"},{"$f":"'4) Grain Storage'!N34","v":0},null,"4th :",{"$f":"(IF('6) Hammermill'!J18=\"\",\"Emission Unit Name\",'6) Hammermill'!J18))","v":"Emission Unit Name"},{"$f":"'6) Hammermill'!N18","v":0},null,"4th :",{"$f":"(IF('6) Hammermill'!J31=\"\",\"Emission Unit Name\",'6) Hammermill'!J31))","v":"Emission Unit Name"},{"$f":"'6) Hammermill'!N31","v":0},null,"4th :",{"$f":"(IF('5) Dryer'!K20=\"\",\"Emission Unit Name\",'5) Dryer'!K20))","v":"Emission Unit Name"},{"$f":"'5) Dryer'!N20","v":0},null,"4th :",{"$f":"(IF('7) Ferm'!J18=\"\",\"Emission Unit Name\",'7) Ferm'!J18))","v":"Emission Unit Name"},{"$f":"'7) Ferm'!N18","v":0},null,"4th :",{"$f":"(IF('8) DDGS Dryer'!J32=\"\",\"Emission Unit Name\",'8) DDGS Dryer'!J32))","v":"Emission Unit Name"},{"$f":"'8) DDGS Dryer'!M32","v":0},null,"4th :",{"$f":"(IF('8) DDGS Dryer'!J19=\"\",\"Emission Unit Name\",'8) DDGS Dryer'!J19))","v":"Emission Unit Name"},{"$f":"'8) DDGS Dryer'!M19","v":0},null,"4th :",{"$f":"(IF('9) Solids Loadout'!J17=\"\",\"Emission Unit Name\",'9) Solids Loadout'!J17))","v":"Emission Unit Name"},null,"4th :",{"$f":"(IF('10) Liquid Loadout'!K22=\"\",\"Emission Unit Name\",'10) Liquid Loadout'!K22))","v":"Emission Unit Name"},null,"4th :",{"$f":"(IF('11) Tanks'!B27=\"\",\"Emission Unit Name\",'11) Tanks'!B27))","v":"Emission Unit Name"},null,"4th :",{"$f":"(IF('15) Engines'!L19=\"\",\"Emission Unit Name\",'15) Engines'!L19))","v":"Emission Unit Name"},null,"4th :",{"$f":"(IF('15) Engines'!L32=\"\",\"Emission Unit Name\",'15) Engines'!L32))","v":"Emission Unit Name"}]
["5th :",{"$f":"'3) Dump Pit'!R37","v":0},{"$f":"(IF('3) Dump Pit'!K37=\"\",\"Emission Unit Name\",'3) Dump Pit'!K37))","v":"Emission Unit Name"},{"$f":"'3) Dump Pit'!P37","v":0},null,"5th :",{"$f":"(IF('4) Grain Storage'!I22=\"\",\"Emission Unit Name\",'4) Grain Storage'!I22))","v":"Emission Unit Name"},{"$f":"'4) Grain Storage'!N22","v":0},null,"5th :",{"$f":"(IF('4) Grain Storage'!I35=\"\",\"Emission Unit Name\",'4) Grain Storage'!I35))","v":"Emission Unit Name"},{"$f":"'4) Grain Storage'!N35","v":0},null,"5th :",{"$f":"(IF('6) Hammermill'!J19=\"\",\"Emission Unit Name\",'6) Hammermill'!J19))","v":"Emission Unit Name"},{"$f":"'6) Hammermill'!N19","v":0},null,"5th :",{"$f":"(IF('6) Hammermill'!J32=\"\",\"Emission Unit Name\",'6) Hammermill'!J32))","v":"Emission Unit Name"},{"$f":"'6) Hammermill'!N32","v":0},null,"5th :",{"$f":"(IF('5) Dryer'!K21=\"\",\"Emission Unit Name\",'5) Dryer'!K21))","v":"Emission Unit Name"},{"$f":"'5) Dryer'!N21","v":0},null,"5th :",{"$f":"(IF('7) Ferm'!J19=\"\",\"Emission Unit Name\",'7) Ferm'!J19))","v":"Emission Unit Name"},{"$f":"'7) Ferm'!N19","v":0},null,"5th :",{"$f":"(IF('8) DDGS Dryer'!J33=\"\",\"Emission Unit Name\",'8) DDGS Dryer'!J33))","v":"Emission Unit Name"},{"$f":"'8) DDGS Dryer'!M33","v":0},null,"5th :",{"$f":"(IF('8) DDGS Dryer'!J20=\"\",\"Emission Unit Name\",'8) DDGS Dryer'!J20))","v":"Emission Unit Name"},{"$f":"'8) DDGS Dryer'!M20","v":0},null,"5th :",{"$f":"(IF('9) Solids Loadout'!J18=\"\",\"Emission Unit Name\",'9) Solids Loadout'!J18))","v":"Emission Unit Name"},null,"5th :",{"$f":"(IF('10) Liquid Loadout'!K23=\"\",\"Emission Unit Name\",'10) Liquid Loadout'!K23))","v":"Emission Unit Name"},null,"5th :",{"$f":"(IF('11) Tanks'!B28=\"\",\"Emission Unit Name\",'11) Tanks'!B28))","v":"Emission Unit Name"},null,"5th :",{"$f":"(IF('15) Engines'!L20=\"\",\"Emission Unit Name\",'15) Engines'!L20))","v":"Emission Unit Name"},null,"5th :",{"$f":"(IF('15) Engines'!L33=\"\",\"Emission Unit Name\",'15) Engines'!L33))","v":"Emission Unit Name"}]
["6th :",{"$f":"'3) Dump Pit'!R38","v":0},{"$f":"(IF('3) Dump Pit'!K38=\"\",\"Emission Unit Name\",'3) Dump Pit'!K38))","v":"Emission Unit Name"},{"$f":"'3) Dump Pit'!P38","v":0},null,"6th :",{"$f":"(IF('4) Grain Storage'!I23=\"\",\"Emission Unit Name\",'4) Grain Storage'!I23))","v":"Emission Unit Name"},{"$f":"'4) Grain Storage'!N23","v":0},null,"6th :",{"$f":"(IF('4) Grain Storage'!I36=\"\",\"Emission Unit Name\",'4) Grain Storage'!I36))","v":"Emission Unit Name"},{"$f":"'4) Grain Storage'!N36","v":0},null,"6th :",{"$f":"(IF('6) Hammermill'!J20=\"\",\"Emission Unit Name\",'6) Hammermill'!J20))","v":"Emission Unit Name"},{"$f":"'6) Hammermill'!N20","v":0},null,"6th :",{"$f":"(IF('6) Hammermill'!J33=\"\",\"Emission Unit Name\",'6) Hammermill'!J33))","v":"Emission Unit Name"},{"$f":"'6) Hammermill'!N33","v":0},null,"6th :",{"$f":"(IF('5) Dryer'!K22=\"\",\"Emission Unit Name\",'5) Dryer'!K22))","v":"Emission Unit Name"},{"$f":"'5) Dryer'!N22","v":0},null,"6th :",{"$f":"(IF('7) Ferm'!J20=\"\",\"Emission Unit Name\",'7) Ferm'!J20))","v":"Emission Unit Name"},{"$f":"'7) Ferm'!N20","v":0},null,"6th :",{"$f":"(IF('8) DDGS Dryer'!J34=\"\",\"Emission Unit Name\",'8) DDGS Dryer'!J34))","v":"Emission Unit Name"},{"$f":"'8) DDGS Dryer'!M34","v":0},null,"6th :",{"$f":"(IF('8) DDGS Dryer'!J21=\"\",\"Emission Unit Name\",'8) DDGS Dryer'!J21))","v":"Emission Unit Name"},{"$f":"'8) DDGS Dryer'!M21","v":0},null,"6th :",{"$f":"(IF('9) Solids Loadout'!J19=\"\",\"Emission Unit Name\",'9) Solids Loadout'!J19))","v":"Emission Unit Name"},null,"6th :",{"$f":"(IF('10) Liquid Loadout'!K24=\"\",\"Emission Unit Name\",'10) Liquid Loadout'!K24))","v":"Emission Unit Name"},null,"6th :",{"$f":"(IF('11) Tanks'!B29=\"\",\"Emission Unit Name\",'11) Tanks'!B29))","v":"Emission Unit Name"},null,"6th :",{"$f":"(IF('15) Engines'!L21=\"\",\"Emission Unit Name\",'15) Engines'!L21))","v":"Emission Unit Name"},null,"6th :",{"$f":"(IF('15) Engines'!L34=\"\",\"Emission Unit Name\",'15) Engines'!L34))","v":"Emission Unit Name"}]
["7th :",{"$f":"'3) Dump Pit'!R39","v":0},{"$f":"(IF('3) Dump Pit'!K39=\"\",\"Emission Unit Name\",'3) Dump Pit'!K39))","v":"Emission Unit Name"},{"$f":"'3) Dump Pit'!P39","v":0},null,"7th :",{"$f":"(IF('4) Grain Storage'!I24=\"\",\"Emission Unit Name\",'4) Grain Storage'!I24))","v":"Emission Unit Name"},{"$f":"'4) Grain Storage'!N24","v":0},null,"7th :",{"$f":"(IF('4) Grain Storage'!I37=\"\",\"Emission Unit Name\",'4) Grain Storage'!I37))","v":"Emission Unit Name"},{"$f":"'4) Grain Storage'!N37","v":0},null,"7th :",{"$f":"(IF('6) Hammermill'!J21=\"\",\"Emission Unit Name\",'6) Hammermill'!J21))","v":"Emission Unit Name"},{"$f":"'6) Hammermill'!N21","v":0},null,"7th :",{"$f":"(IF('6) Hammermill'!J34=\"\",\"Emission Unit Name\",'6) Hammermill'!J34))","v":"Emission Unit Name"},{"$f":"'6) Hammermill'!N34","v":0},null,"7th :",{"$f":"(IF('5) Dryer'!K23=\"\",\"Emission Unit Name\",'5) Dryer'!K23))","v":"Emission Unit Name"},{"$f":"'5) Dryer'!N23","v":0},null,"7th :",{"$f":"(IF('7) Ferm'!J21=\"\",\"Emission Unit Name\",'7) Ferm'!J21))","v":"Emission Unit Name"},{"$f":"'7) Ferm'!N21","v":0},null,"7th :",{"$f":"(IF('8) DDGS Dryer'!J35=\"\",\"Emission Unit Name\",'8) DDGS Dryer'!J35))","v":"Emission Unit Name"},{"$f":"'8) DDGS Dryer'!M35","v":0},null,"7th :",{"$f":"(IF('8) DDGS Dryer'!J22=\"\",\"Emission Unit Name\",'8) DDGS Dryer'!J22))","v":"Emission Unit Name"},{"$f":"'8) DDGS Dryer'!M22","v":0},null,"7th :",{"$f":"(IF('9) Solids Loadout'!J20=\"\",\"Emission Unit Name\",'9) Solids Loadout'!J20))","v":"Emission Unit Name"},null,"7th :",{"$f":"(IF('10) Liquid Loadout'!K25=\"\",\"Emission Unit Name\",'10) Liquid Loadout'!K25))","v":"Emission Unit Name"},null,"7th :",{"$f":"(IF('11) Tanks'!B30=\"\",\"Emission Unit Name\",'11) Tanks'!B30))","v":"Emission Unit Name"},null,"7th :",{"$f":"(IF('15) Engines'!L22=\"\",\"Emission Unit Name\",'15) Engines'!L22))","v":"Emission Unit Name"},null,"7th :",{"$f":"(IF('15) Engines'!L35=\"\",\"Emission Unit Name\",'15) Engines'!L35))","v":"Emission Unit Name"}]
["8th :",{"$f":"'3) Dump Pit'!R40","v":0},{"$f":"(IF('3) Dump Pit'!K40=\"\",\"Emission Unit Name\",'3) Dump Pit'!K40))","v":"Emission Unit Name"},{"$f":"'3) Dump Pit'!P40","v":0},null,"8th :",{"$f":"(IF('4) Grain Storage'!I25=\"\",\"Emission Unit Name\",'4) Grain Storage'!I25))","v":"Emission Unit Name"},{"$f":"'4) Grain Storage'!N25","v":0},null,"8th :",{"$f":"(IF('4) Grain Storage'!I38=\"\",\"Emission Unit Name\",'4) Grain Storage'!I38))","v":"Emission Unit Name"},{"$f":"'4) Grain Storage'!N38","v":0},null,"8th :",{"$f":"(IF('6) Hammermill'!J22=\"\",\"Emission Unit Name\",'6) Hammermill'!J22))","v":"Emission Unit Name"},{"$f":"'6) Hammermill'!N22","v":0},null,"8th :",{"$f":"(IF('6) Hammermill'!J35=\"\",\"Emission Unit Name\",'6) Hammermill'!J35))","v":"Emission Unit Name"},{"$f":"'6) Hammermill'!N35","v":0},null,"8th :",{"$f":"(IF('5) Dryer'!K24=\"\",\"Emission Unit Name\",'5) Dryer'!K24))","v":"Emission Unit Name"},{"$f":"'5) Dryer'!N24","v":0},null,"8th :",{"$f":"(IF('7) Ferm'!J22=\"\",\"Emission Unit Name\",'7) Ferm'!J22))","v":"Emission Unit Name"},{"$f":"'7) Ferm'!N22","v":0},null,"8th :",{"$f":"(IF('8) DDGS Dryer'!J36=\"\",\"Emission Unit Name\",'8) DDGS Dryer'!J36))","v":"Emission Unit Name"},{"$f":"'8) DDGS Dryer'!M36","v":0},null,"8th :",{"$f":"(IF('8) DDGS Dryer'!J23=\"\",\"Emission Unit Name\",'8) DDGS Dryer'!J23))","v":"Emission Unit Name"},{"$f":"'8) DDGS Dryer'!M23","v":0},null,"8th :",{"$f":"(IF('9) Solids Loadout'!J21=\"\",\"Emission Unit Name\",'9) Solids Loadout'!J21))","v":"Emission Unit Name"},null,"8th :",{"$f":"(IF('10) Liquid Loadout'!K26=\"\",\"Emission Unit Name\",'10) Liquid Loadout'!K26))","v":"Emission Unit Name"},null,"8th :",{"$f":"(IF('11) Tanks'!B31=\"\",\"Emission Unit Name\",'11) Tanks'!B31))","v":"Emission Unit Name"},null,"8th :",{"$f":"(IF('15) Engines'!L23=\"\",\"Emission Unit Name\",'15) Engines'!L23))","v":"Emission Unit Name"},null,"8th :",{"$f":"(IF('15) Engines'!L36=\"\",\"Emission Unit Name\",'15) Engines'!L36))","v":"Emission Unit Name"}]
["9th :",{"$f":"'3) Dump Pit'!R41","v":0},{"$f":"(IF('3) Dump Pit'!K41=\"\",\"Emission Unit Name\",'3) Dump Pit'!K41))","v":"Emission Unit Name"},{"$f":"'3) Dump Pit'!P41","v":0},null,"9th :",{"$f":"(IF('4) Grain Storage'!I26=\"\",\"Emission Unit Name\",'4) Grain Storage'!I26))","v":"Emission Unit Name"},{"$f":"'4) Grain Storage'!N26","v":0},null,"9th :",{"$f":"(IF('4) Grain Storage'!I39=\"\",\"Emission Unit Name\",'4) Grain Storage'!I39))","v":"Emission Unit Name"},{"$f":"'4) Grain Storage'!N39","v":0},null,"9th :",{"$f":"(IF('6) Hammermill'!J23=\"\",\"Emission Unit Name\",'6) Hammermill'!J23))","v":"Emission Unit Name"},{"$f":"'6) Hammermill'!N23","v":0},null,"9th :",{"$f":"(IF('6) Hammermill'!J36=\"\",\"Emission Unit Name\",'6) Hammermill'!J36))","v":"Emission Unit Name"},{"$f":"'6) Hammermill'!N36","v":0},null,"9th :",{"$f":"(IF('5) Dryer'!K25=\"\",\"Emission Unit Name\",'5) Dryer'!K25))","v":"Emission Unit Name"},{"$f":"'5) Dryer'!N25","v":0},null,"9th :",{"$f":"(IF('7) Ferm'!J23=\"\",\"Emission Unit Name\",'7) Ferm'!J23))","v":"Emission Unit Name"},{"$f":"'7) Ferm'!N23","v":0},null,"9th :",{"$f":"(IF('8) DDGS Dryer'!J37=\"\",\"Emission Unit Name\",'8) DDGS Dryer'!J37))","v":"Emission Unit Name"},{"$f":"'8) DDGS Dryer'!M37","v":0},null,"9th :",{"$f":"(IF('8) DDGS Dryer'!J24=\"\",\"Emission Unit Name\",'8) DDGS Dryer'!J24))","v":"Emission Unit Name"},{"$f":"'8) DDGS Dryer'!M24","v":0},null,"9th :",{"$f":"(IF('9) Solids Loadout'!J22=\"\",\"Emission Unit Name\",'9) Solids Loadout'!J22))","v":"Emission Unit Name"},null,"9th :",{"$f":"(IF('10) Liquid Loadout'!K27=\"\",\"Emission Unit Name\",'10) Liquid Loadout'!K27))","v":"Emission Unit Name"},null,"9th :",{"$f":"(IF('11) Tanks'!B32=\"\",\"Emission Unit Name\",'11) Tanks'!B32))","v":"Emission Unit Name"},null,"9th :",{"$f":"(IF('15) Engines'!L24=\"\",\"Emission Unit Name\",'15) Engines'!L24))","v":"Emission Unit Name"},null,"9th :",{"$f":"(IF('15) Engines'!L37=\"\",\"Emission Unit Name\",'15) Engines'!L37))","v":"Emission Unit Name"}]
["10th :",{"$f":"'3) Dump Pit'!R42","v":0},{"$f":"(IF('3) Dump Pit'!C57=\"\",\"Emission Unit Name\",'3) Dump Pit'!C57))","v":"Emission Unit Name"},{"$f":"'3) Dump Pit'!P42","v":0},null,"10th :",{"$f":"(IF('4) Grain Storage'!B43=\"\",\"Emission Unit Name\",'4) Grain Storage'!B43))","v":"Emission Unit Name"},{"$f":"'4) Grain Storage'!N27","v":0},null,"10th :",{"$f":"(IF('4) Grain Storage'!I40=\"\",\"Emission Unit Name\",'4) Grain Storage'!I40))","v":"Emission Unit Name"},{"$f":"'4) Grain Storage'!N40","v":0},null,"10th :",{"$f":"(IF('6) Hammermill'!J24=\"\",\"Emission Unit Name\",'6) Hammermill'!J24))","v":"Emission Unit Name"},{"$f":"'6) Hammermill'!N24","v":0},null,"10th :",{"$f":"(IF('6) Hammermill'!J37=\"\",\"Emission Unit Name\",'6) Hammermill'!J37))","v":"Emission Unit Name"},{"$f":"'6) Hammermill'!N37","v":0},null,"10th :",{"$f":"(IF('5) Dryer'!K26=\"\",\"Emission Unit Name\",'5) Dryer'!K26))","v":"Emission Unit Name"},{"$f":"'5) Dryer'!N26","v":0},null,"10th :",{"$f":"(IF('7) Ferm'!J24=\"\",\"Emission Unit Name\",'7) Ferm'!J24))","v":"Emission Unit Name"},{"$f":"'7) Ferm'!N24","v":0},null,"10th :",{"$f":"(IF('8) DDGS Dryer'!J38=\"\",\"Emission Unit Name\",'8) DDGS Dryer'!J38))","v":"Emission Unit Name"},{"$f":"'8) DDGS Dryer'!M38","v":0},null,"10th :",{"$f":"(IF('8) DDGS Dryer'!J25=\"\",\"Emission Unit Name\",'8) DDGS Dryer'!J25))","v":"Emission Unit Name"},{"$f":"'8) DDGS Dryer'!M25","v":0},null,"10th :",{"$f":"(IF('9) Solids Loadout'!J23=\"\",\"Emission Unit Name\",'9) Solids Loadout'!J23))","v":"Emission Unit Name"},null,"10th :",{"$f":"(IF('10) Liquid Loadout'!K28=\"\",\"Emission Unit Name\",'10) Liquid Loadout'!K28))","v":"Emission Unit Name"},null,"10th :",{"$f":"(IF('11) Tanks'!B33=\"\",\"Emission Unit Name\",'11) Tanks'!B33))","v":"Emission Unit Name"},null,"10th :",{"$f":"(IF('15) Engines'!L25=\"\",\"Emission Unit Name\",'15) Engines'!L25))","v":"Emission Unit Name"},null,"10th :",{"$f":"(IF('15) Engines'!L38=\"\",\"Emission Unit Name\",'15) Engines'!L38))","v":"Emission Unit Name"}]

{"sheet":"3) Calculations","index":19,"n_rows":145,"n_cols":72,"rows_kept":145,"cut":false,"hidden":false,"merged":[[0,16,0,18],[43,12,43,13],[83,4,83,7],[83,8,83,13],[83,14,83,19],[106,39,106,46],[106,48,106,53],[106,54,106,59],[106,60,106,65],[101,4,101,13],[84,16,84,17],[84,18,84,19],[84,4,84,5],[84,6,84,7],[84,8,84,9],[84,10,84,11],[84,12,84,13],[84,14,84,15],[74,9,76,9],[74,4,76,4],[74,5,76,5],[74,6,76,6],[74,7,76,7],[74,8,76,8],[106,66,106,71],[141,0,143,1],[141,2,143,2],[141,3,143,3],[141,4,143,4],[141,5,143,5],[141,6,143,6],[141,7,143,7],[141,8,143,8],[141,9,143,9],[138,0,140,1],[138,2,140,2],[138,3,140,3],[138,4,140,4],[138,5,140,5],[138,6,140,6],[138,7,140,7],[138,8,140,8],[138,9,140,9],[135,0,137,1],[135,2,137,2],[135,3,137,3],[135,4,137,4],[135,5,137,5],[135,6,137,6],[135,7,137,7],[135,8,137,8],[135,9,137,9],[132,0,134,1],[132,2,134,2],[132,3,134,3],[132,4,134,4],[132,5,134,5],[132,6,134,6],[132,7,134,7],[132,8,134,8],[132,9,134,9],[127,0,128,1],[127,4,127,6],[127,7,127,9],[129,0,131,1],[129,2,131,2],[129,3,131,3],[129,4,131,4],[129,5,131,5],[129,6,131,6],[129,7,131,7],[129,8,131,8],[129,9,131,9],[107,26,107,28],[107,29,107,31],[107,32,107,34],[107,35,107,37],[107,9,107,11],[107,12,107,13],[107,63,107,65],[107,66,107,68],[107,69,107,71],[107,39,107,40],[107,41,107,42],[107,43,107,44],[107,45,107,46],[107,48,107,50],[107,51,107,53],[107,54,107,56],[107,57,107,59],[107,60,107,62],[93,2,93,3],[94,2,94,3],[95,2,95,3],[96,1,96,3],[97,1,97,3],[98,1,98,3],[99,1,99,3],[100,0,100,3],[101,0,101,3],[86,2,86,3],[87,2,87,3],[88,2,88,3],[89,2,89,3],[90,2,90,3],[91,2,91,3],[92,2,92,3],[84,0,85,0],[84,1,85,1],[84,2,85,3],[77,0,79,1],[77,2,79,2],[77,3,79,3],[77,4,79,4],[77,5,79,5],[77,6,79,6],[77,7,79,7],[77,8,79,8],[77,9,79,9],[42,39,42,46],[43,48,43,50],[43,51,43,53],[43,39,43,40],[43,41,43,42],[43,43,43,44],[43,45,43,46],[63,4,63,6],[63,7,63,9],[43,9,43,11],[43,35,43,37],[55,48,56,71],[55,39,56,46],[43,66,43,68],[43,69,43,71],[42,48,42,53],[42,54,42,59],[42,60,42,65],[42,66,42,71],[43,54,43,56],[43,57,43,59],[43,60,43,62],[43,63,43,65],[65,5,67,5],[74,3,76,3],[65,2,67,2],[65,3,67,3],[68,3,70,3],[68,2,70,2],[71,2,73,2],[65,6,67,6],[71,4,73,4],[71,5,73,5],[71,6,73,6],[68,4,70,4],[68,5,70,5],[68,6,70,6],[34,1,34,3],[35,1,35,3],[65,0,67,1],[68,0,70,1],[71,0,73,1],[74,0,76,1],[71,3,73,3],[74,2,76,2],[63,0,64,1],[0,0,0,6],[3,5,3,6],[20,0,21,0],[20,1,21,1],[20,2,21,3],[19,4,19,7],[27,2,27,3],[28,2,28,3],[29,2,29,3],[24,2,24,3],[25,2,25,3],[26,2,26,3],[37,4,37,13],[41,0,41,7],[43,14,43,16],[43,20,43,22],[43,26,43,28],[43,32,43,34],[43,17,43,19],[43,23,43,25],[43,29,43,31],[37,0,37,3],[2,9,2,10],[2,12,2,13],[3,0,3,1],[4,0,4,1],[15,15,16,18],[17,15,18,18],[39,5,39,7],[19,8,19,13],[19,14,19,19],[20,14,20,15],[20,16,20,17],[20,18,20,19],[20,8,20,9],[20,10,20,11],[20,12,20,13],[20,4,20,5],[20,6,20,7],[22,2,22,3],[23,2,23,3],[30,2,30,3],[31,2,31,3],[36,0,36,3],[32,1,32,3],[33,1,33,3],[103,5,103,7],[103,10,104,13],[103,14,104,17],[104,5,104,7],[122,24,122,25],[40,5,40,7],[39,10,40,13],[39,14,40,17],[58,24,58,25],[65,7,67,7],[65,8,67,8],[65,9,67,9],[68,9,70,9],[71,7,73,7],[71,8,73,8],[71,9,73,9],[68,7,70,7],[68,8,70,8],[107,14,107,16],[107,17,107,19],[107,20,107,22],[107,23,107,25],[55,0,55,37],[65,4,67,4]]}
["Dry Mill: Grain Receiving and Processing",null,null,null,null,null,null,null,null,null,null,null,null,null,null,null,"Emission Factors (lb/ton)[1]"]
["Emissions from Dry Mill's Grain Receiving, Processing, and Handling",null,null,null,null,null,null,null,null,null,null,null,null,null,null,"Straight",0.18,5.8999999999999997E-2,0.01]
[null,null,null,null,null,null,null,null,null,"Capture Efficiency",null,null,"Control Efficiency",null,null,"Hopper",3.5000000000000003E-2,7.7999999999999996E-3,1.2999999999999999E-3]
["Grain throughput",null,{"$f":"MIN('3) Dump Pit'!D7:F7,'3) Dump Pit'!D8:F8)","v":0},"tons/year",null,{"$f":"C4*2000/C5","v":0},null,"bushels/year",null,"Enclosed",1,null,"Baghouse",0.95,null,"Rail",3.2000000000000001E-2,7.7999999999999996E-3,1.2999999999999999E-3]
["Grain Density",null,{"$f":"'3) Dump Pit'!E9","v":56},"lb/bushel for Corn",null,null,null,null,null,"Partially Enclosed",0.7,null,null,null,null,"Handling",6.0999999999999999E-2,3.4000000000000002E-2,5.7999999999999996E-3]
["Maximum Grain Receiving Rate",null,null,null,null,null,null,null,null,"Choke-flow",0.99,null,null,null,null,"70/30[1]",{"$f":"Q3*0.7+Q2*0.3","v":7.85E-2},{"$f":"R3*0.7+R2*0.3","v":2.3159999999999997E-2},3.9100000000000003E-3]
[null,"Truck Pit ",{"$f":"SUM(IF('3) Dump Pit'!I33=Datasets!P2,'3) Dump Pit'!E33,0),IF('3) Dump Pit'!I34=Datasets!P2,'3) Dump Pit'!E34,0),IF('3) Dump Pit'!I35=Datasets!P2,'3) Dump Pit'!E35,0),IF('3) Dump Pit'!I36=Datasets!P2,'3) Dump Pit'!E36,0),IF('3) Dump Pit'!I37=Datasets!P2,'3) Dump Pit'!E37,0),IF('3) Dump Pit'!I38=Datasets!P2,'3) Dump Pit'!E38,0),IF('3) Dump Pit'!I39=Datasets!P2,'3) Dump Pit'!E39,0),IF('3) Dump Pit'!I40=Datasets!P2,'3) Dump Pit'!E40,0),IF('3) Dump Pit'!I41=Datasets!P2,'3) Dump Pit'!E41,0),IF('3) Dump Pit'!I42=Datasets!P2,'3) Dump Pit'!E42,0),IF('3) Dump Pit'!H43=Datasets!P2,'3) Dump Pit'!E43,0))","v":0},"bu/hr",{"$f":"C7*C5/2000","v":0},"tons/hour",null,null,null,null,null,null,null,null,null,"Storage",2.5000000000000001E-2,6.3E-3,1.0999999999999999E-2]
[null," Rail Pit ",{"$f":"SUM(IF('3) Dump Pit'!I34=Datasets!P3,'3) Dump Pit'!E34,0),IF('3) Dump Pit'!I35=Datasets!P3,'3) Dump Pit'!E35,0),IF('3) Dump Pit'!I36=Datasets!P3,'3) Dump Pit'!E36,0),IF('3) Dump Pit'!I37=Datasets!P3,'3) Dump Pit'!E37,0),IF('3) Dump Pit'!I38=Datasets!P3,'3) Dump Pit'!E38,0),IF('3) Dump Pit'!I39=Datasets!P3,'3) Dump Pit'!E39,0),IF('3) Dump Pit'!I40=Datasets!P3,'3) Dump Pit'!E40,0),IF('3) Dump Pit'!I41=Datasets!P3,'3) Dump Pit'!E41,0),IF('3) Dump Pit'!I42=Datasets!P3,'3) Dump Pit'!E42,0),IF('3) Dump Pit'!H43=Datasets!P3,'3) Dump Pit'!E43,0),IF('3) Dump Pit'!I33=Datasets!P3,'3) Dump Pit'!E33,0))","v":0},"bu/hr",{"$f":"C8*C5/2000","v":0},"tons/hour",null,null,null,null,null,null,null,null,null,"Shipping"]
[null,null,null,null,null,null,null,null,null,null,null,null,null,null,null,"Truck",8.5999999999999993E-2,2.9000000000000001E-2,4.8999999999999998E-3]
["Color Code",null,null,null,null,null,null,null,null,null,null,null,null,null,null,"Storage",2.5000000000000001E-2,6.3E-3,1.1000000000000001E-3]
[null,"Before Project"]
[null,"After Project",null,null,null,null,null,null,null,null,null,null,null,null,null,"Rail",2.7E-2,2.2000000000000001E-3,3.7000000000000002E-3]
[null,"Default Value of the NDEQ",null,null,null,null,null,null,null,null,null,null,null,null,null,"Scalper",7.4999999999999997E-2,1.9E-2,3.0000000000000001E-3]
[null,"Final PTE",null,null,null,null,null,null,null,null,null,null,null,null,null,"Handling x2.13 [3]",{"$f":"Q5*2.13","v":0.12992999999999999},{"$f":"R5*2.13","v":7.2419999999999998E-2},{"$f":"S5*2.13","v":1.2353999999999999E-2}]
[null,"Calculations",null,null,null,null,null,null,null,null,null,null,null,null,null,"[1] Emission factors from AP-42 Chapter 9.9.1"]
[null,"Carry over from user input or other calculated values",null,null,null,null,null,null,null,null,null,null,null,null,null,"[2] For Truck Receiving, 30% is received by straight trucks and 70% is received by hopper trucks."]
[]
["Total Emissions Before Project",null,null,null,null,null,null,null,null,null,null,null,null,null,null,"[3] 2.13 is the default NDEQ value averaging various grain processing activities"]
[]
[null,null,null,null,"Based on permit limit",null,null,null,"Based on AP-42",null,null,null,null,null,"Final"]
["Item Number","Control Equipment ID","Control Equipment Name",null,"Controlled PM(filterable)/PM10 Emissions",null,"Controlled PM2.5 Emissions",null,"PM",null,"PM10",null,"PM2.5",null,"PM",null,"PM10",null,"PM2.5"]
[null,null,null,null,"(A)\n(lb/hour)","(B)\n(ton/year)","(C)\n(lb/hour)[1]","(D)\n(ton/year)","(E)\n(lb/hour)","(E)\n(ton/year)","(E)\n(lb/hour)","(E)\n(ton/year)","(E)\n(lb/hour)","(E)\n(ton/year)","(F)\n(lb/hour)","(F)\n(ton/year)","(F)\n(lb/hour)","(F)\n(ton/year)","(F)\n(lb/hour)","(F)\n(ton/year)"]
[1,{"$f":"'3) Dump Pit'!B20","v":0},{"$f":"'3) Dump Pit'!C20","v":0},null,{"$f":"'3) Dump Pit'!F20*60/7000","v":0},{"$f":"E23*8760/2000","v":0},{"$f":"E23*0.17","v":0},{"$f":"G23*8760/2000","v":0},{"$f":"SUM(IF(B23=$G$46,$AG$46,0),IF(B23=$G$47,$AG$47,0),IF(B23=$G$48,$AG$48,0),IF(B23=$G$49,$AG$49,0),IF(B23=$G$50,$AG$50,0),IF(B23=$G$51,$AG$51,0),IF(B23=$G$52,$AG$52,0),IF(B23=$G$53,$AG$53,0),IF(B23=$G$54,$AG$54,0),IF(B23=$G$55,$AG$55,0))","v":0},{"$f":"SUM(IF(B23=$G$46,$AJ$46,0),IF(B23=$G$47,$AJ$47,0),IF(B23=$G$48,$AJ$48,0),IF(B23=$G$49,$AJ$49,0),IF(B23=$G$50,$AJ$50,0),IF(B23=$G$51,$AJ$51,0),IF(B23=$G$52,$AJ$52,0),IF(B23=$G$53,$AJ$53,0),IF(B23=$G$54,$AJ$54,0),IF(B23=$G$55,$AJ$55,0))","v":0},{"$f":"SUM(IF(B23=$G$46,$AH$46,0),IF(B23=$G$47,$AH$47,0),IF(B23=$G$48,$AH$48,0),IF(B23=$G$49,$AH$49,0),IF(B23=$G$50,$AH$50,0),IF(B23=$G$51,$AH$51,0),IF(B23=$G$52,$AH$52,0),IF(B23=$G$53,$AH$53,0),IF(B23=$G$54,$AH$54,0),IF(B23=$G$55,$AH$55,0))","v":0},{"$f":"SUM(IF(B23=$G$46,$AK$46,0),IF(B23=$G$47,$AK$47,0),IF(B23=$G$48,$AK$48,0),IF(B23=$G$49,$AK$49,0),IF(B23=$G$50,$AK$50,0),IF(B23=$G$51,$AK$51,0),IF(B23=$G$52,$AK$52,0),IF(B23=$G$53,$AK$53,0),IF(B23=$G$54,$AK$54,0),IF(B23=$G$55,$AK$55,0))","v":0},{"$f":"SUM(IF(B23=$G$46,$AI$46,0),IF(B23=$G$47,$AI$47,0),IF(B23=$G$48,$AI$48,0),IF(B23=$G$49,$AI$49,0),IF(B23=$G$50,$AI$50,0),IF(B23=$G$51,$AI$51,0),IF(B23=$G$52,$AI$52,0),IF(B23=$G$53,$AI$53,0),IF(B23=$G$54,$AI$54,0),IF(B23=$G$55,$AI$55,0))","v":0},{"$f":"SUM(IF(B23=$G$46,$AL$46,0),IF(B23=$G$47,$AL$47,0),IF(B23=$G$48,$AL$48,0),IF(B23=$G$49,$AL$49,0),IF(B23=$G$50,$AL$50,0),IF(B23=$G$51,$AL$51,0),IF(B23=$G$52,$AL$52,0),IF(B23=$G$53,$AL$53,0),IF(B23=$G$54,$AL$54,0),IF(B23=$G$55,$AL$55,0))","v":0},{"$f":"IF(E23=0,I23,E23)","v":0},{"$f":"IF(F23=0,J23,F23)","v":0},{"$f":"IF(E23=0,K23,E23)","v":0},{"$f":"IF(F23=0,L23,F23)","v":0},{"$f":"IF(G23=0,M23,G23)","v":0},{"$f":"IF(H23=0,N23,H23)","v":0}]
[2,{"$f":"'3) Dump Pit'!B21","v":0},{"$f":"'3) Dump Pit'!C21","v":0},null,{"$f":"'3) Dump Pit'!F21*60/7000","v":0},{"$f":"E24*8760/2000","v":0},{"$f":"E24*0.17","v":0},0,0,0,0,0,0,0,{"$f":"IF(E24=0,I24,E24)","v":0},{"$f":"IF(F24=0,J24,F24)","v":0},{"$f":"IF(E24=0,K24,E24)","v":0},{"$f":"IF(F24=0,L24,F24)","v":0},{"$f":"IF(G24=0,M24,G24)","v":0},{"$f":"IF(H24=0,N24,H24)","v":0}]
[3,{"$f":"'3) Dump Pit'!B22","v":0},{"$f":"'3) Dump Pit'!C22","v":0},null,{"$f":"'3) Dump Pit'!F22*60/7000","v":0},0,0,0,0,0,0,0,0,0,0,0,0,0,0,0]
[4,{"$f":"'3) Dump Pit'!B23","v":0},{"$f":"'3) Dump Pit'!C23","v":0},null,{"$f":"'3) Dump Pit'!F23*60/7000","v":0},0,0,0,0,0,0,0,0,0,0,0,0,0,0,0]
[5,{"$f":"'3) Dump Pit'!B24","v":0},{"$f":"'3) Dump Pit'!C24","v":0},null,{"$f":"'3) Dump Pit'!F24*60/7000","v":0},0,0,0,0,0,0,0,0,0,0,0,0,0,0,0]
[6,{"$f":"'3) Dump Pit'!B25","v":0},{"$f":"'3) Dump Pit'!C25","v":0},null,{"$f":"'3) Dump Pit'!F25*60/7000","v":0},0,0,0,0,0,0,0,0,0,0,0,0,0,0,0]
[7,{"$f":"'3) Dump Pit'!B26","v":0},{"$f":"'3) Dump Pit'!C26","v":0},null,{"$f":"'3) Dump Pit'!F26*60/7000","v":0},0,0,0,0,0,0,0,0,0,0,0,0,0,0,0]
[8,{"$f":"'3) Dump Pit'!B27","v":0},{"$f":"'3) Dump Pit'!C27","v":0},null,{"$f":"'3) Dump Pit'!F27*60/7000","v":0},0,0,0,0,0,0,0,0,0,0,0,0,0,0,0]
[9,{"$f":"'3) Dump Pit'!B28","v":0},{"$f":"'3) Dump Pit'!C28","v":0},null,{"$f":"'3) Dump Pit'!F28*60/7000","v":0},0,0,0,0,0,0,0,0,0,0,0,0,0,0,0]
[10,{"$f":"'3) Dump Pit'!B29","v":0},{"$f":"'3) Dump Pit'!C29","v":0},null,{"$f":"'3) Dump Pit'!F29*60/7000","v":0},0,0,0,0,0,0,0,0,0,0,0,0,0,0,0]
["11 [2]","uncontrolled1",null,null,{"$f":"'3) Dump Pit'!F30*60/7000","v":0},0,{"$f":"E33*0.17","v":0},0,0,0,0,0,0,0,0,0,0,{"$f":"IF(F33=0,L33,F33)","v":0},0,0]
["12 [3]","uncontrolled2",null,null,{"$f":"'3) Dump Pit'!F31*60/7000","v":0},0,0,0,0,0,0,0,0,0,0,0,0,0,0,0]
[13,"Uncontrolled Grain Handling",null,null,{"$f":"'3) Dump Pit'!F30*60/7000","v":0},0,{"$f":"E35*0.17","v":0},0,{"$f":"AG57","v":0},{"$f":"AH57","v":0},{"$f":"AH57","v":0},{"$f":"AK57","v":0},{"$f":"AI57","v":0},{"$f":"AL57","v":0},{"$f":"IF(E35=0,I35,E35)","v":0},0,0,0,0,0]
[14,"controlled Grain Handling",null,null,null,null,null,null,{"$f":"AG58","v":0},{"$f":"AH58","v":0},{"$f":"AH58","v":0},{"$f":"AK58","v":0},{"$f":"AI58","v":0},{"$f":"AL58","v":0},{"$f":"IF(E36=0,I36,E36)","v":0},{"$f":"IF(F36=0,J36,F36)","v":0},{"$f":"IF(E36=0,K36,E36)","v":0},{"$f":"IF(F36=0,L36,F36)","v":0},{"$f":"IF(G36=0,M36,G36)","v":0},{"$f":"IF(H36=0,N36,H36)","v":0}]
["Total Non-Fugitive Emissions ",null,null,null,{"$f":"SUM(E23:E34)","v":0},{"$f":"SUM(F23:F34)","v":0},{"$f":"SUM(G23:G34)","v":0},{"$f":"SUM(H23:H34)","v":0},{"$f":"SUM(I23:I34)","v":0},0,0,0,0,0,{"$f":"SUM(O23:O34)","v":0},{"$f":"SUM(P23:P34)","v":0},0,0,0,{"$f":"SUM(T23:T34)","v":0}]
["Total Fugitive Emissions ",null,null,null,null,null,null,null,null,null,null,null,null,null,{"$f":"SUM(AA46:AA58)","v":0},{"$f":"SUM(AD46:AD58)","v":0},{"$f":"SUM(AB46:AB58)","v":0},{"$f":"SUM(AE46:AE58)","v":0},{"$f":"SUM(AC46:AC58)","v":0},{"$f":"SUM(AF46:AF58)","v":0}]
["[1] PM2.5 is 17% of PM10 per AP-42 Chapter 9.9.1 (May 2003)"]
["[2] Uncontrolled 1: it refers to uncontrolled truck dump pits",null,null,null,"Rules:","(A) = Permit Limit, grains/min x 60 / 7000",null,null,"(C) = (A) x 0.17",null,"(E) Is controlled captured emissions from preceding table summed for a particular control Equipment",null,null,null,"(F) is the maximum emissions based on permit limit if available. Otherwise it is calculated out of AP-42"]
["[3] Uncontrolled 2: it refers to uncontrolled rail dump pits",null,null,null,null,"(B) = (A) x 8760 / 2000",null,null,"(D) = (C) x 8760 / 2000"]
[]
["Analysis",null,null,null,null,null,null,null,null,null,null,null,null,null,null,null,null,null,null,null,null,null,null,null,null,null,null,null,null,null,null,null,null,null,null,null,null,null,null,"Grain Throughput*",null,null,null,null,null,null,null,null,"Truck & Baghouse",null,null,null,null,null,"Rail & Baghouse",null,null,null,null,null,"Truck Uncontrolled",null,null,null,null,null,"Rail Unctorolled"]
[null,null,null,null,null,null,null,null,null,"Emission Factors (lb/ton) (A)",null,null,"Grain Throughput",null,"Total Emissions (lb/hr) (D) ",null,null,"Total Emissions (ton/yr) (E) ",null,null,"Captured Emissions (lb/hr) (F)",null,null,"Captured Emissions  (ton/yr) (G)",null,null,"Uncaptured Emissions (lb/hr) (H)",null,null,"Uncaptured Emissions  (ton/yr) (I)",null,null,"Controlled Captured Emissions (lb/hr) (J)",null,null,"Controlled Captured Emissions  (ton/yr) (K)",null,null,null,"Truck & Baghouse",null,"Rail & Baghouse",null,"Truck Uncontrolled",null,"Rail Unctorolled",null,null,"Uncaptured Emissions (lb/hr)",null,null,"Uncaptured Emissions (ton/yr)",null,null,"Uncaptured Emissions (lb/hr)",null,null,"Uncaptured Emissions  (ton/yr)",null,null,"Uncaptured Emissions (lb/hr)",null,null,"Uncaptured Emissions  (ton/yr)",null,null,"Uncaptured Emissions (lb/hr)",null,null,"Uncaptured Emissions  (ton/yr)"]
[null,{"$f":"'3) Dump Pit'!B32","v":"ID"},{"$f":"'3) Dump Pit'!C32","v":"Emission Unit Name"},{"$f":"'3) Dump Pit'!D32","v":"Enclosure"},{"$f":"'3) Dump Pit'!E32","v":"Maximum grain receiving rate (bu/hr)"},{"$f":"'3) Dump Pit'!G32","v":"Control type"},{"$f":"'3) Dump Pit'!H32","v":"Control Name"},{"$f":"'3) Dump Pit'!I32","v":"Truck or Rail"},"Capture Efficiency","PM","PM10","PM2.5"," (B)\nton/hr"," (C)\nton/yr","PM","PM10","PM2.5","PM","PM10","PM2.5","PM","PM10","PM2.5","PM","PM10","PM2.5","PM","PM10","PM2.5","PM","PM10","PM2.5","PM","PM10","PM2.5","PM","PM10","PM2.5",null,"ton/hr","ton/yr","ton/hr","ton/yr","ton/hr","ton/yr","ton/hr","ton/yr",null,"PM","PM10","PM2.5","PM","PM10","PM2.5","PM","PM10","PM2.5","PM","PM10","PM2.5","PM","PM10","PM2.5","PM","PM10","PM2.5","PM","PM10","PM2.5","PM","PM10","PM2.5"]
[{"$f":"'3) Dump Pit'!A33","v":"1st Dump Pit"},{"$f":"'3) Dump Pit'!B33","v":0},{"$f":"'3) Dump Pit'!C33","v":0},{"$f":"'3) Dump Pit'!D33","v":0},{"$f":"'3) Dump Pit'!E33","v":0},{"$f":"'3) Dump Pit'!G33","v":0},{"$f":"IF(F46=Datasets!$C$2,IF(H46=Datasets!$P$2,\"uncontrolled1\",\"uncontrolled2\"),'3) Dump Pit'!H33)","v":0},{"$f":"'3) Dump Pit'!I33","v":0},{"$f":"IF(D46=$J$4,$K$4,IF(D46=$J$5,$K$5,IF(D46=$J$6,$K$6,1)))","v":1},{"$f":"IF(H46=Datasets!$A$2,'3) Calculations'!$Q$6,'3) Calculations'!$Q$4)","v":3.2000000000000001E-2},{"$f":"IF(H46=Datasets!$A$2,'3) Calculations'!$R$6,'3) Calculations'!$R$4)","v":7.7999999999999996E-3},{"$f":"IF(H46=Datasets!$A$2,'3) Calculations'!$S$6,'3) Calculations'!$S$4)","v":1.2999999999999999E-3},{"$f":"E46*'3) Dump Pit'!$E$9/2000","v":0},{"$f":"IF('3) Dump Pit'!F33=0,MIN(M46*8760,$C$4),MIN(M46*8760,$C$4,'3) Dump Pit'!F33))","v":0},{"$f":"M46*J46","v":0},{"$f":"M46*K46","v":0},{"$f":"M46*L46","v":0},{"$f":"J46*N46/2000","v":0},{"$f":"K46*N46/2000","v":0},{"$f":"L46*N46/2000","v":0},{"$f":"O46*I46","v":0},{"$f":"P46*I46","v":0},{"$f":"Q46*I46","v":0},{"$f":"R46*I46","v":0},{"$f":"S46*I46","v":0},{"$f":"T46*I46","v":0},{"$f":"O46-U46","v":0},{"$f":"P46-V46","v":0},0,0,0,0,{"$f":"IF(F46=\"Baghouse\",U46*(1-$N$4),U46)","v":0},{"$f":"IF(F46=\"Baghouse\",V46*(1-$N$4),V46)","v":0},{"$f":"IF(F46=\"Baghouse\",W46*(1-$N$4),W46)","v":0},{"$f":"IF(F46=\"Baghouse\",X46*(1-$N$4),X46)","v":0},{"$f":"IF(F46=\"Baghouse\",Y46*(1-$N$4),Y46)","v":0},{"$f":"IF(F46=\"Baghouse\",Z46*(1-$N$4),Z46)","v":0},null,{"$f":"IF(F46=Datasets!$C$3,IF('3) Calculations'!H46=Datasets!$P$2,'3) Calculations'!M46,0),0)","v":0},{"$f":"IF(F46=Datasets!$C$3,IF('3) Calculations'!H46=Datasets!$P$2,'3) Calculations'!N46,0),0)","v":0},{"$f":"IF(F46=Datasets!$C$3,IF('3) Calculations'!H46=Datasets!$P$3,'3) Calculations'!M46,0),0)","v":0},{"$f":"IF(F46=Datasets!$C$3,IF('3) Calculations'!H46=Datasets!$P$3,'3) Calculations'!N46,0),0)","v":0},{"$f":"IF(F46=Datasets!$C$2,IF('3) Calculations'!H46=Datasets!$P$2,'3) Calculations'!M46,0),0)","v":0},{"$f":"IF(F46=Datasets!$C$2,IF('3) Calculations'!H46=Datasets!$P$2,'3) Calculations'!N46,0),0)","v":0},{"$f":"IF(F46=Datasets!$C$2,IF('3) Calculations'!H46=Datasets!$P$3,'3) Calculations'!M46,0),0)","v":0},{"$f":"IF(F46=Datasets!$C$2,IF('3) Calculations'!H46=Datasets!$P$3,'3) Calculations'!N46,0),0)","v":0},null,{"$f":"IF(F46=Datasets!$C$3,IF('3) Calculations'!H46=Datasets!$P$2,'3) Calculations'!AA46,0),0)","v":0},{"$f":"IF(F46=Datasets!$C$3,IF('3) Calculations'!H46=Datasets!$P$2,'3) Calculations'!AB46,0),0)","v":0},{"$f":"IF(F46=Datasets!$C$3,IF('3) Calculations'!H46=Datasets!$P$2,'3) Calculations'!AC46,0),0)","v":0},{"$f":"IF(F46=Datasets!$C$3,IF('3) Calculations'!H46=Datasets!$P$2,'3) Calculations'!AD46,0),0)","v":0},{"$f":"IF(F46=Datasets!$C$3,IF('3) Calculations'!H46=Datasets!$P$2,'3) Calculations'!AE46,0),0)","v":0},{"$f":"IF(F46=Datasets!$C$3,IF('3) Calculations'!H46=Datasets!$P$2,'3) Calculations'!AF46,0),0)","v":0},{"$f":"IF(F46=Datasets!$C$3,IF('3) Calculations'!H46=Datasets!$P$3,'3) Calculations'!AA46,0),0)","v":0},{"$f":"IF(F46=Datasets!$C$3,IF('3) Calculations'!H46=Datasets!$P$3,'3) Calculations'!AB46,0),0)","v":0},{"$f":"IF(F46=Datasets!$C$3,IF('3) Calculations'!H46=Datasets!$P$3,'3) Calculations'!AC46,0),0)","v":0},{"$f":"IF(F46=Datasets!$C$3,IF('3) Calculations'!H46=Datasets!$P$3,'3) Calculations'!AD46,0),0)","v":0},{"$f":"IF(F46=Datasets!$C$3,IF('3) Calculations'!H46=Datasets!$P$3,'3) Calculations'!AE46,0),0)","v":0},{"$f":"IF(F46=Datasets!$C$3,IF('3) Calculations'!H46=Datasets!$P$3,'3) Calculations'!AF46,0),0)","v":0},{"$f":"IF(F46=Datasets!$C$2,IF('3) Calculations'!H46=Datasets!$P$2,'3) Calculations'!AA46,0),0)","v":0},{"$f":"IF(F46=Datasets!$C$2,IF('3) Calculations'!H46=Datasets!$P$2,'3) Calculations'!AB46,0),0)","v":0},{"$f":"IF(F46=Datasets!$C$2,IF('3) Calculations'!H46=Datasets!$P$2,'3) Calculations'!AC46,0),0)","v":0},{"$f":"IF(F46=Datasets!$C$2,IF('3) Calculations'!H46=Datasets!$P$2,'3) Calculations'!AD46,0),0)","v":0},{"$f":"IF(F46=Datasets!$C$2,IF('3) Calculations'!H46=Datasets!$P$2,'3) Calculations'!AE46,0),0)","v":0},{"$f":"IF(F46=Datasets!$C$2,IF('3) Calculations'!H46=Datasets!$P$2,'3) Calculations'!AF46,0),0)","v":0},{"$f":"IF(F46=Datasets!$C$2,IF('3) Calculations'!H46=Datasets!$P$3,'3) Calculations'!AA46,0),0)","v":0},{"$f":"IF(F46=Datasets!$C$2,IF('3) Calculations'!H46=Datasets!$P$3,'3) Calculations'!AB46,0),0)","v":0},{"$f":"IF(F46=Datasets!$C$2,IF('3) Calculations'!H46=Datasets!$P$3,'3) Calculations'!AC46,0),0)","v":0},{"$f":"IF(F46=Datasets!$C$2,IF('3) Calculations'!H46=Datasets!$P$3,'3) Calculations'!AD46,0),0)","v":0},{"$f":"IF(F46=Datasets!$C$2,IF('3) Calculations'!H46=Datasets!$P$3,'3) Calculations'!AE46,0),0)","v":0},{"$f":"IF(F46=Datasets!$C$2,IF('3) Calculations'!H46=Datasets!$P$3,'3) Calculations'!AF46,0),0)","v":0}]
[{"$f":"'3) Dump Pit'!A34","v":"2nd Dump Pit"},{"$f":"'3) Dump Pit'!B34","v":0},{"$f":"'3) Dump Pit'!C34","v":0},{"$f":"'3) Dump Pit'!D34","v":0},{"$f":"'3) Dump Pit'!E34","v":0},{"$f":"'3) Dump Pit'!G34","v":0},{"$f":"IF(F47=Datasets!$C$2,IF(H47=Datasets!$P$2,\"uncontrolled1\",\"uncontrolled2\"),'3) Dump Pit'!H34)","v":0},{"$f":"'3) Dump Pit'!I34","v":0},{"$f":"IF(D47=$J$4,$K$4,IF(D47=$J$5,$K$5,IF(D47=$J$6,$K$6,1)))","v":1},{"$f":"IF(H47=Datasets!$A$2,'3) Calculations'!$Q$6,'3) Calculations'!$Q$4)","v":3.2000000000000001E-2},{"$f":"IF(H47=Datasets!$A$2,'3) Calculations'!$R$6,'3) Calculations'!$R$4)","v":7.7999999999999996E-3},{"$f":"IF(H47=Datasets!$A$2,'3) Calculations'!$S$6,'3) Calculations'!$S$4)","v":1.2999999999999999E-3},{"$f":"E47*'3) Dump Pit'!$E$9/2000","v":0},{"$f":"IF('3) Dump Pit'!F34=0,MIN(M47*8760,$C$4),MIN(M47*8760,$C$4,'3) Dump Pit'!F34))","v":0},{"$f":"M47*J47","v":0},{"$f":"M47*K47","v":0},0,{"$f":"J47*N47/2000","v":0},{"$f":"K47*N47/2000","v":0},{"$f":"L47*N47/2000","v":0},{"$f":"O47*I47","v":0},0,0,0,0,0,{"$f":"O47-U47","v":0},{"$f":"P47-V47","v":0},{"$f":"Q47-W47","v":0},{"$f":"R47-X47","v":0},{"$f":"S47-Y47","v":0},{"$f":"T47-Z47","v":0},0,0,0,0,0,0,null,{"$f":"IF(F47=Datasets!$C$3,IF('3) Calculations'!H47=Datasets!$P$2,'3) Calculations'!M47,0),0)","v":0},{"$f":"IF(F47=Datasets!$C$3,IF('3) Calculations'!H47=Datasets!$P$2,'3) Calculations'!N47,0),0)","v":0},{"$f":"IF(F47=Datasets!$C$3,IF('3) Calculations'!H47=Datasets!$P$3,'3) Calculations'!M47,0),0)","v":0},{"$f":"IF(F47=Datasets!$C$3,IF('3) Calculations'!H47=Datasets!$P$3,'3) Calculations'!N47,0),0)","v":0},{"$f":"IF(F47=Datasets!$C$2,IF('3) Calculations'!H47=Datasets!$P$2,'3) Calculations'!M47,0),0)","v":0},{"$f":"IF(F47=Datasets!$C$2,IF('3) Calculations'!H47=Datasets!$P$2,'3) Calculations'!N47,0),0)","v":0},{"$f":"IF(F47=Datasets!$C$2,IF('3) Calculations'!H47=Datasets!$P$3,'3) Calculations'!M47,0),0)","v":0},{"$f":"IF(F47=Datasets!$C$2,IF('3) Calculations'!H47=Datasets!$P$3,'3) Calculations'!N47,0),0)","v":0},null,{"$f":"IF(F47=Datasets!$C$3,IF('3) Calculations'!H47=Datasets!$P$2,'3) Calculations'!AA47,0),0)","v":0},{"$f":"IF(F47=Datasets!$C$3,IF('3) Calculations'!H47=Datasets!$P$2,'3) Calculations'!AB47,0),0)","v":0},{"$f":"IF(F47=Datasets!$C$3,IF('3) Calculations'!H47=Datasets!$P$2,'3) Calculations'!AC47,0),0)","v":0},{"$f":"IF(F47=Datasets!$C$3,IF('3) Calculations'!H47=Datasets!$P$2,'3) Calculations'!AD47,0),0)","v":0},{"$f":"IF(F47=Datasets!$C$3,IF('3) Calculations'!H47=Datasets!$P$2,'3) Calculations'!AE47,0),0)","v":0},{"$f":"IF(F47=Datasets!$C$3,IF('3) Calculations'!H47=Datasets!$P$2,'3) Calculations'!AF47,0),0)","v":0},{"$f":"IF(F47=Datasets!$C$3,IF('3) Calculations'!H47=Datasets!$P$3,'3) Calculations'!AA47,0),0)","v":0},{"$f":"IF(F47=Datasets!$C$3,IF('3) Calculations'!H47=Datasets!$P$3,'3) Calculations'!AB47,0),0)","v":0},{"$f":"IF(F47=Datasets!$C$3,IF('3) Calculations'!H47=Datasets!$P$3,'3) Calculations'!AC47,0),0)","v":0},{"$f":"IF(F47=Datasets!$C$3,IF('3) Calculations'!H47=Datasets!$P$3,'3) Calculations'!AD47,0),0)","v":0},{"$f":"IF(F47=Datasets!$C$3,IF('3) Calculations'!H47=Datasets!$P$3,'3) Calculations'!AE47,0),0)","v":0},{"$f":"IF(F47=Datasets!$C$3,IF('3) Calculations'!H47=Datasets!$P$3,'3) Calculations'!AF47,0),0)","v":0},{"$f":"IF(F47=Datasets!$C$2,IF('3) Calculations'!H47=Datasets!$P$2,'3) Calculations'!AA47,0),0)","v":0},{"$f":"IF(F47=Datasets!$C$2,IF('3) Calculations'!H47=Datasets!$P$2,'3) Calculations'!AB47,0),0)","v":0},{"$f":"IF(F47=Datasets!$C$2,IF('3) Calculations'!H47=Datasets!$P$2,'3) Calculations'!AC47,0),0)","v":0},{"$f":"IF(F47=Datasets!$C$2,IF('3) Calculations'!H47=Datasets!$P$2,'3) Calculations'!AD47,0),0)","v":0},{"$f":"IF(F47=Datasets!$C$2,IF('3) Calculations'!H47=Datasets!$P$2,'3) Calculations'!AE47,0),0)","v":0},{"$f":"IF(F47=Datasets!$C$2,IF('3) Calculations'!H47=Datasets!$P$2,'3) Calculations'!AF47,0),0)","v":0},{"$f":"IF(F47=Datasets!$C$2,IF('3) Calculations'!H47=Datasets!$P$3,'3) Calculations'!AA47,0),0)","v":0},{"$f":"IF(F47=Datasets!$C$2,IF('3) Calculations'!H47=Datasets!$P$3,'3) Calculations'!AB47,0),0)","v":0},{"$f":"IF(F47=Datasets!$C$2,IF('3) Calculations'!H47=Datasets!$P$3,'3) Calculations'!AC47,0),0)","v":0},{"$f":"IF(F47=Datasets!$C$2,IF('3) Calculations'!H47=Datasets!$P$3,'3) Calculations'!AD47,0),0)","v":0},{"$f":"IF(F47=Datasets!$C$2,IF('3) Calculations'!H47=Datasets!$P$3,'3) Calculations'!AE47,0),0)","v":0},{"$f":"IF(F47=Datasets!$C$2,IF('3) Calculations'!H47=Datasets!$P$3,'3) Calculations'!AF47,0),0)","v":0}]
[{"$f":"'3) Dump Pit'!A35","v":"3rd Dump Pit"},{"$f":"'3) Dump Pit'!B35","v":0},{"$f":"'3) Dump Pit'!C35","v":0},{"$f":"'3) Dump Pit'!D35","v":0},{"$f":"'3) Dump Pit'!E35","v":0},{"$f":"'3) Dump Pit'!G35","v":0},{"$f":"IF(F48=Datasets!$C$2,IF(H48=Datasets!$P$2,\"uncontrolled1\",\"uncontrolled2\"),'3) Dump Pit'!H35)","v":0},{"$f":"'3) Dump Pit'!I35","v":0},{"$f":"IF(D48=$J$4,$K$4,IF(D48=$J$5,$K$5,IF(D48=$J$6,$K$6,1)))","v":1},{"$f":"IF(H48=Datasets!$A$2,'3) Calculations'!$Q$6,'3) Calculations'!$Q$4)","v":3.2000000000000001E-2},{"$f":"IF(H48=Datasets!$A$2,'3) Calculations'!$R$6,'3) Calculations'!$R$4)","v":7.7999999999999996E-3},{"$f":"IF(H48=Datasets!$A$2,'3) Calculations'!$S$6,'3) Calculations'!$S$4)","v":1.2999999999999999E-3},{"$f":"E48*'3) Dump Pit'!$E$9/2000","v":0},{"$f":"IF('3) Dump Pit'!F35=0,MIN(M48*8760,$C$4),MIN(M48*8760,$C$4,'3) Dump Pit'!F35))","v":0},0,0,0,0,0,0,0,0,0,0,0,0,0,0,0,0,0,0,0,0,0,0,0,0,null,{"$f":"IF(F48=Datasets!$C$3,IF('3) Calculations'!H48=Datasets!$P$2,'3) Calculations'!M48,0),0)","v":0},{"$f":"IF(F48=Datasets!$C$3,IF('3) Calculations'!H48=Datasets!$P$2,'3) Calculations'!N48,0),0)","v":0},{"$f":"IF(F48=Datasets!$C$3,IF('3) Calculations'!H48=Datasets!$P$3,'3) Calculations'!M48,0),0)","v":0},{"$f":"IF(F48=Datasets!$C$3,IF('3) Calculations'!H48=Datasets!$P$3,'3) Calculations'!N48,0),0)","v":0},{"$f":"IF(F48=Datasets!$C$2,IF('3) Calculations'!H48=Datasets!$P$2,'3) Calculations'!M48,0),0)","v":0},{"$f":"IF(F48=Datasets!$C$2,IF('3) Calculations'!H48=Datasets!$P$2,'3) Calculations'!N48,0),0)","v":0},{"$f":"IF(F48=Datasets!$C$2,IF('3) Calculations'!H48=Datasets!$P$3,'3) Calculations'!M48,0),0)","v":0},{"$f":"IF(F48=Datasets!$C$2,IF('3) Calculations'!H48=Datasets!$P$3,'3) Calculations'!N48,0),0)","v":0},null,{"$f":"IF(F48=Datasets!$C$3,IF('3) Calculations'!H48=Datasets!$P$2,'3) Calculations'!AA48,0),0)","v":0},{"$f":"IF(F48=Datasets!$C$3,IF('3) Calculations'!H48=Datasets!$P$2,'3) Calculations'!AB48,0),0)","v":0},{"$f":"IF(F48=Datasets!$C$3,IF('3) Calculations'!H48=Datasets!$P$2,'3) Calculations'!AC48,0),0)","v":0},{"$f":"IF(F48=Datasets!$C$3,IF('3) Calculations'!H48=Datasets!$P$2,'3) Calculations'!AD48,0),0)","v":0},{"$f":"IF(F48=Datasets!$C$3,IF('3) Calculations'!H48=Datasets!$P$2,'3) Calculations'!AE48,0),0)","v":0},{"$f":"IF(F48=Datasets!$C$3,IF('3) Calculations'!H48=Datasets!$P$2,'3) Calculations'!AF48,0),0)","v":0},{"$f":"IF(F48=Datasets!$C$3,IF('3) Calculations'!H48=Datasets!$P$3,'3) Calculations'!AA48,0),0)","v":0},{"$f":"IF(F48=Datasets!$C$3,IF('3) Calculations'!H48=Datasets!$P$3,'3) Calculations'!AB48,0),0)","v":0},{"$f":"IF(F48=Datasets!$C$3,IF('3) Calculations'!H48=Datasets!$P$3,'3) Calculations'!AC48,0),0)","v":0},{"$f":"IF(F48=Datasets!$C$3,IF('3) Calculations'!H48=Datasets!$P$3,'3) Calculations'!AD48,0),0)","v":0},{"$f":"IF(F48=Datasets!$C$3,IF('3) Calculations'!H48=Datasets!$P$3,'3) Calculations'!AE48,0),0)","v":0},{"$f":"IF(F48=Datasets!$C$3,IF('3) Calculations'!H48=Datasets!$P$3,'3) Calculations'!AF48,0),0)","v":0},{"$f":"IF(F48=Datasets!$C$2,IF('3) Calculations'!H48=Datasets!$P$2,'3) Calculations'!AA48,0),0)","v":0},{"$f":"IF(F48=Datasets!$C$2,IF('3) Calculations'!H48=Datasets!$P$2,'3) Calculations'!AB48,0),0)","v":0},{"$f":"IF(F48=Datasets!$C$2,IF('3) Calculations'!H48=Datasets!$P$2,'3) Calculations'!AC48,0),0)","v":0},{"$f":"IF(F48=Datasets!$C$2,IF('3) Calculations'!H48=Datasets!$P$2,'3) Calculations'!AD48,0),0)","v":0},{"$f":"IF(F48=Datasets!$C$2,IF('3) Calculations'!H48=Datasets!$P$2,'3) Calculations'!AE48,0),0)","v":0},{"$f":"IF(F48=Datasets!$C$2,IF('3) Calculations'!H48=Datasets!$P$2,'3) Calculations'!AF48,0),0)","v":0},{"$f":"IF(F48=Datasets!$C$2,IF('3) Calculations'!H48=Datasets!$P$3,'3) Calculations'!AA48,0),0)","v":0},{"$f":"IF(F48=Datasets!$C$2,IF('3) Calculations'!H48=Datasets!$P$3,'3) Calculations'!AB48,0),0)","v":0},{"$f":"IF(F48=Datasets!$C$2,IF('3) Calculations'!H48=Datasets!$P$3,'3) Calculations'!AC48,0),0)","v":0},{"$f":"IF(F48=Datasets!$C$2,IF('3) Calculations'!H48=Datasets!$P$3,'3) Calculations'!AD48,0),0)","v":0},{"$f":"IF(F48=Datasets!$C$2,IF('3) Calculations'!H48=Datasets!$P$3,'3) Calculations'!AE48,0),0)","v":0},{"$f":"IF(F48=Datasets!$C$2,IF('3) Calculations'!H48=Datasets!$P$3,'3) Calculations'!AF48,0),0)","v":0}]
[{"$f":"'3) Dump Pit'!A36","v":"4th Dump Pit"},{"$f":"'3) Dump Pit'!B36","v":0},{"$f":"'3) Dump Pit'!C36","v":0},{"$f":"'3) Dump Pit'!D36","v":0},{"$f":"'3) Dump Pit'!E36","v":0},{"$f":"'3) Dump Pit'!G36","v":0},{"$f":"IF(F49=Datasets!$C$2,IF(H49=Datasets!$P$2,\"uncontrolled1\",\"uncontrolled2\"),'3) Dump Pit'!H36)","v":0},{"$f":"'3) Dump Pit'!I36","v":0},{"$f":"IF(D49=$J$4,$K$4,IF(D49=$J$5,$K$5,IF(D49=$J$6,$K$6,1)))","v":1},{"$f":"IF(H49=Datasets!$A$2,'3) Calculations'!$Q$6,'3) Calculations'!$Q$4)","v":3.2000000000000001E-2},{"$f":"IF(H49=Datasets!$A$2,'3) Calculations'!$R$6,'3) Calculations'!$R$4)","v":7.7999999999999996E-3},{"$f":"IF(H49=Datasets!$A$2,'3) Calculations'!$S$6,'3) Calculations'!$S$4)","v":1.2999999999999999E-3},{"$f":"E49*'3) Dump Pit'!$E$9/2000","v":0},{"$f":"IF('3) Dump Pit'!F36=0,MIN(M49*8760,$C$4),MIN(M49*8760,$C$4,'3) Dump Pit'!F36))","v":0},0,0,0,0,0,0,0,0,0,0,0,0,0,0,0,0,0,0,0,0,0,0,0,0,null,{"$f":"IF(F49=Datasets!$C$3,IF('3) Calculations'!H49=Datasets!$P$2,'3) Calculations'!M49,0),0)","v":0},{"$f":"IF(F49=Datasets!$C$3,IF('3) Calculations'!H49=Datasets!$P$2,'3) Calculations'!N49,0),0)","v":0},{"$f":"IF(F49=Datasets!$C$3,IF('3) Calculations'!H49=Datasets!$P$3,'3) Calculations'!M49,0),0)","v":0},{"$f":"IF(F49=Datasets!$C$3,IF('3) Calculations'!H49=Datasets!$P$3,'3) Calculations'!N49,0),0)","v":0},{"$f":"IF(F49=Datasets!$C$2,IF('3) Calculations'!H49=Datasets!$P$2,'3) Calculations'!M49,0),0)","v":0},{"$f":"IF(F49=Datasets!$C$2,IF('3) Calculations'!H49=Datasets!$P$2,'3) Calculations'!N49,0),0)","v":0},{"$f":"IF(F49=Datasets!$C$2,IF('3) Calculations'!H49=Datasets!$P$3,'3) Calculations'!M49,0),0)","v":0},{"$f":"IF(F49=Datasets!$C$2,IF('3) Calculations'!H49=Datasets!$P$3,'3) Calculations'!N49,0),0)","v":0},null,{"$f":"IF(F49=Datasets!$C$3,IF('3) Calculations'!H49=Datasets!$P$2,'3) Calculations'!AA49,0),0)","v":0},{"$f":"IF(F49=Datasets!$C$3,IF('3) Calculations'!H49=Datasets!$P$2,'3) Calculations'!AB49,0),0)","v":0},{"$f":"IF(F49=Datasets!$C$3,IF('3) Calculations'!H49=Datasets!$P$2,'3) Calculations'!AC49,0),0)","v":0},{"$f":"IF(F49=Datasets!$C$3,IF('3) Calculations'!H49=Datasets!$P$2,'3) Calculations'!AD49,0),0)","v":0},{"$f":"IF(F49=Datasets!$C$3,IF('3) Calculations'!H49=Datasets!$P$2,'3) Calculations'!AE49,0),0)","v":0},{"$f":"IF(F49=Datasets!$C$3,IF('3) Calculations'!H49=Datasets!$P$2,'3) Calculations'!AF49,0),0)","v":0},{"$f":"IF(F49=Datasets!$C$3,IF('3) Calculations'!H49=Datasets!$P$3,'3) Calculations'!AA49,0),0)","v":0},{"$f":"IF(F49=Datasets!$C$3,IF('3) Calculations'!H49=Datasets!$P$3,'3) Calculations'!AB49,0),0)","v":0},{"$f":"IF(F49=Datasets!$C$3,IF('3) Calculations'!H49=Datasets!$P$3,'3) Calculations'!AC49,0),0)","v":0},{"$f":"IF(F49=Datasets!$C$3,IF('3) Calculations'!H49=Datasets!$P$3,'3) Calculations'!AD49,0),0)","v":0},{"$f":"IF(F49=Datasets!$C$3,IF('3) Calculations'!H49=Datasets!$P$3,'3) Calculations'!AE49,0),0)","v":0},{"$f":"IF(F49=Datasets!$C$3,IF('3) Calculations'!H49=Datasets!$P$3,'3) Calculations'!AF49,0),0)","v":0},{"$f":"IF(F49=Datasets!$C$2,IF('3) Calculations'!H49=Datasets!$P$2,'3) Calculations'!AA49,0),0)","v":0},{"$f":"IF(F49=Datasets!$C$2,IF('3) Calculations'!H49=Datasets!$P$2,'3) Calculations'!AB49,0),0)","v":0},{"$f":"IF(F49=Datasets!$C$2,IF('3) Calculations'!H49=Datasets!$P$2,'3) Calculations'!AC49,0),0)","v":0},{"$f":"IF(F49=Datasets!$C$2,IF('3) Calculations'!H49=Datasets!$P$2,'3) Calculations'!AD49,0),0)","v":0},{"$f":"IF(F49=Datasets!$C$2,IF('3) Calculations'!H49=Datasets!$P$2,'3) Calculations'!AE49,0),0)","v":0},{"$f":"IF(F49=Datasets!$C$2,IF('3) Calculations'!H49=Datasets!$P$2,'3) Calculations'!AF49,0),0)","v":0},{"$f":"IF(F49=Datasets!$C$2,IF('3) Calculations'!H49=Datasets!$P$3,'3) Calculations'!AA49,0),0)","v":0},{"$f":"IF(F49=Datasets!$C$2,IF('3) Calculations'!H49=Datasets!$P$3,'3) Calculations'!AB49,0),0)","v":0},{"$f":"IF(F49=Datasets!$C$2,IF('3) Calculations'!H49=Datasets!$P$3,'3) Calculations'!AC49,0),0)","v":0},{"$f":"IF(F49=Datasets!$C$2,IF('3) Calculations'!H49=Datasets!$P$3,'3) Calculations'!AD49,0),0)","v":0},{"$f":"IF(F49=Datasets!$C$2,IF('3) Calculations'!H49=Datasets!$P$3,'3) Calculations'!AE49,0),0)","v":0},{"$f":"IF(F49=Datasets!$C$2,IF('3) Calculations'!H49=Datasets!$P$3,'3) Calculations'!AF49,0),0)","v":0}]
[{"$f":"'3) Dump Pit'!A37","v":"5th Dump Pit"},{"$f":"'3) Dump Pit'!B37","v":0},{"$f":"'3) Dump Pit'!C37","v":0},{"$f":"'3) Dump Pit'!D37","v":0},{"$f":"'3) Dump Pit'!E37","v":0},{"$f":"'3) Dump Pit'!G37","v":0},{"$f":"IF(F50=Datasets!$C$2,IF(H50=Datasets!$P$2,\"uncontrolled1\",\"uncontrolled2\"),'3) Dump Pit'!H37)","v":0},{"$f":"'3) Dump Pit'!I37","v":0},1,{"$f":"IF(H50=Datasets!$A$2,'3) Calculations'!$Q$6,'3) Calculations'!$Q$4)","v":3.2000000000000001E-2},{"$f":"IF(H50=Datasets!$A$2,'3) Calculations'!$R$6,'3) Calculations'!$R$4)","v":7.7999999999999996E-3},{"$f":"IF(H50=Datasets!$A$2,'3) Calculations'!$S$6,'3) Calculations'!$S$4)","v":1.2999999999999999E-3},{"$f":"E50*'3) Dump Pit'!$E$9/2000","v":0},{"$f":"IF('3) Dump Pit'!F37=0,MIN(M50*8760,$C$4),MIN(M50*8760,$C$4,'3) Dump Pit'!F37))","v":0},0,0,0,{"$f":"J50*N50/2000","v":0},{"$f":"K50*N50/2000","v":0},{"$f":"L50*N50/2000","v":0},0,0,0,0,0,0,0,0,0,0,0,0,0,0,0,0,0,0,null,{"$f":"IF(F50=Datasets!$C$3,IF('3) Calculations'!H50=Datasets!$P$2,'3) Calculations'!M50,0),0)","v":0},{"$f":"IF(F50=Datasets!$C$3,IF('3) Calculations'!H50=Datasets!$P$2,'3) Calculations'!N50,0),0)","v":0},{"$f":"IF(F50=Datasets!$C$3,IF('3) Calculations'!H50=Datasets!$P$3,'3) Calculations'!M50,0),0)","v":0},{"$f":"IF(F50=Datasets!$C$3,IF('3) Calculations'!H50=Datasets!$P$3,'3) Calculations'!N50,0),0)","v":0},{"$f":"IF(F50=Datasets!$C$2,IF('3) Calculations'!H50=Datasets!$P$2,'3) Calculations'!M50,0),0)","v":0},{"$f":"IF(F50=Datasets!$C$2,IF('3) Calculations'!H50=Datasets!$P$2,'3) Calculations'!N50,0),0)","v":0},{"$f":"IF(F50=Datasets!$C$2,IF('3) Calculations'!H50=Datasets!$P$3,'3) Calculations'!M50,0),0)","v":0},{"$f":"IF(F50=Datasets!$C$2,IF('3) Calculations'!H50=Datasets!$P$3,'3) Calculations'!N50,0),0)","v":0},null,{"$f":"IF(F50=Datasets!$C$3,IF('3) Calculations'!H50=Datasets!$P$2,'3) Calculations'!AA50,0),0)","v":0},{"$f":"IF(F50=Datasets!$C$3,IF('3) Calculations'!H50=Datasets!$P$2,'3) Calculations'!AB50,0),0)","v":0},{"$f":"IF(F50=Datasets!$C$3,IF('3) Calculations'!H50=Datasets!$P$2,'3) Calculations'!AC50,0),0)","v":0},{"$f":"IF(F50=Datasets!$C$3,IF('3) Calculations'!H50=Datasets!$P$2,'3) Calculations'!AD50,0),0)","v":0},{"$f":"IF(F50=Datasets!$C$3,IF('3) Calculations'!H50=Datasets!$P$2,'3) Calculations'!AE50,0),0)","v":0},{"$f":"IF(F50=Datasets!$C$3,IF('3) Calculations'!H50=Datasets!$P$2,'3) Calculations'!AF50,0),0)","v":0},{"$f":"IF(F50=Datasets!$C$3,IF('3) Calculations'!H50=Datasets!$P$3,'3) Calculations'!AA50,0),0)","v":0},{"$f":"IF(F50=Datasets!$C$3,IF('3) Calculations'!H50=Datasets!$P$3,'3) Calculations'!AB50,0),0)","v":0},{"$f":"IF(F50=Datasets!$C$3,IF('3) Calculations'!H50=Datasets!$P$3,'3) Calculations'!AC50,0),0)","v":0},{"$f":"IF(F50=Datasets!$C$3,IF('3) Calculations'!H50=Datasets!$P$3,'3) Calculations'!AD50,0),0)","v":0},{"$f":"IF(F50=Datasets!$C$3,IF('3) Calculations'!H50=Datasets!$P$3,'3) Calculations'!AE50,0),0)","v":0},{"$f":"IF(F50=Datasets!$C$3,IF('3) Calculations'!H50=Datasets!$P$3,'3) Calculations'!AF50,0),0)","v":0},{"$f":"IF(F50=Datasets!$C$2,IF('3) Calculations'!H50=Datasets!$P$2,'3) Calculations'!AA50,0),0)","v":0},{"$f":"IF(F50=Datasets!$C$2,IF('3) Calculations'!H50=Datasets!$P$2,'3) Calculations'!AB50,0),0)","v":0},{"$f":"IF(F50=Datasets!$C$2,IF('3) Calculations'!H50=Datasets!$P$2,'3) Calculations'!AC50,0),0)","v":0},{"$f":"IF(F50=Datasets!$C$2,IF('3) Calculations'!H50=Datasets!$P$2,'3) Calculations'!AD50,0),0)","v":0},{"$f":"IF(F50=Datasets!$C$2,IF('3) Calculations'!H50=Datasets!$P$2,'3) Calculations'!AE50,0),0)","v":0},{"$f":"IF(F50=Datasets!$C$2,IF('3) Calculations'!H50=Datasets!$P$2,'3) Calculations'!AF50,0),0)","v":0},{"$f":"IF(F50=Datasets!$C$2,IF('3) Calculations'!H50=Datasets!$P$3,'3) Calculations'!AA50,0),0)","v":0},{"$f":"IF(F50=Datasets!$C$2,IF('3) Calculations'!H50=Datasets!$P$3,'3) Calculations'!AB50,0),0)","v":0},{"$f":"IF(F50=Datasets!$C$2,IF('3) Calculations'!H50=Datasets!$P$3,'3) Calculations'!AC50,0),0)","v":0},{"$f":"IF(F50=Datasets!$C$2,IF('3) Calculations'!H50=Datasets!$P$3,'3) Calculations'!AD50,0),0)","v":0},{"$f":"IF(F50=Datasets!$C$2,IF('3) Calculations'!H50=Datasets!$P$3,'3) Calculations'!AE50,0),0)","v":0},{"$f":"IF(F50=Datasets!$C$2,IF('3) Calculations'!H50=Datasets!$P$3,'3) Calculations'!AF50,0),0)","v":0}]
[{"$f":"'3) Dump Pit'!A38","v":"6th Dump Pit"},{"$f":"'3) Dump Pit'!B38","v":0},{"$f":"'3) Dump Pit'!C38","v":0},{"$f":"'3) Dump Pit'!D38","v":0},{"$f":"'3) Dump Pit'!E38","v":0},{"$f":"'3) Dump Pit'!G38","v":0},{"$f":"IF(F51=Datasets!$C$2,IF(H51=Datasets!$P$2,\"uncontrolled1\",\"uncontrolled2\"),'3) Dump Pit'!H38)","v":0},{"$f":"'3) Dump Pit'!I38","v":0},1,{"$f":"IF(H51=Datasets!$A$2,'3) Calculations'!$Q$6,'3) Calculations'!$Q$4)","v":3.2000000000000001E-2},{"$f":"IF(H51=Datasets!$A$2,'3) Calculations'!$R$6,'3) Calculations'!$R$4)","v":7.7999999999999996E-3},{"$f":"IF(H51=Datasets!$A$2,'3) Calculations'!$S$6,'3) Calculations'!$S$4)","v":1.2999999999999999E-3},{"$f":"E51*'3) Dump Pit'!$E$9/2000","v":0},{"$f":"IF('3) Dump Pit'!F38=0,MIN(M51*8760,$C$4),MIN(M51*8760,$C$4,'3) Dump Pit'!F38))","v":0},0,0,0,0,0,0,0,0,0,0,0,0,0,0,0,0,0,0,0,0,0,0,0,0,null,{"$f":"IF(F51=Datasets!$C$3,IF('3) Calculations'!H51=Datasets!$P$2,'3) Calculations'!M51,0),0)","v":0},{"$f":"IF(F51=Datasets!$C$3,IF('3) Calculations'!H51=Datasets!$P$2,'3) Calculations'!N51,0),0)","v":0},{"$f":"IF(F51=Datasets!$C$3,IF('3) Calculations'!H51=Datasets!$P$3,'3) Calculations'!M51,0),0)","v":0},{"$f":"IF(F51=Datasets!$C$3,IF('3) Calculations'!H51=Datasets!$P$3,'3) Calculations'!N51,0),0)","v":0},{"$f":"IF(F51=Datasets!$C$2,IF('3) Calculations'!H51=Datasets!$P$2,'3) Calculations'!M51,0),0)","v":0},{"$f":"IF(F51=Datasets!$C$2,IF('3) Calculations'!H51=Datasets!$P$2,'3) Calculations'!N51,0),0)","v":0},{"$f":"IF(F51=Datasets!$C$2,IF('3) Calculations'!H51=Datasets!$P$3,'3) Calculations'!M51,0),0)","v":0},{"$f":"IF(F51=Datasets!$C$2,IF('3) Calculations'!H51=Datasets!$P$3,'3) Calculations'!N51,0),0)","v":0},null,{"$f":"IF(F51=Datasets!$C$3,IF('3) Calculations'!H51=Datasets!$P$2,'3) Calculations'!AA51,0),0)","v":0},{"$f":"IF(F51=Datasets!$C$3,IF('3) Calculations'!H51=Datasets!$P$2,'3) Calculations'!AB51,0),0)","v":0},{"$f":"IF(F51=Datasets!$C$3,IF('3) Calculations'!H51=Datasets!$P$2,'3) Calculations'!AC51,0),0)","v":0},{"$f":"IF(F51=Datasets!$C$3,IF('3) Calculations'!H51=Datasets!$P$2,'3) Calculations'!AD51,0),0)","v":0},{"$f":"IF(F51=Datasets!$C$3,IF('3) Calculations'!H51=Datasets!$P$2,'3) Calculations'!AE51,0),0)","v":0},{"$f":"IF(F51=Datasets!$C$3,IF('3) Calculations'!H51=Datasets!$P$2,'3) Calculations'!AF51,0),0)","v":0},{"$f":"IF(F51=Datasets!$C$3,IF('3) Calculations'!H51=Datasets!$P$3,'3) Calculations'!AA51,0),0)","v":0},{"$f":"IF(F51=Datasets!$C$3,IF('3) Calculations'!H51=Datasets!$P$3,'3) Calculations'!AB51,0),0)","v":0},{"$f":"IF(F51=Datasets!$C$3,IF('3) Calculations'!H51=Datasets!$P$3,'3) Calculations'!AC51,0),0)","v":0},{"$f":"IF(F51=Datasets!$C$3,IF('3) Calculations'!H51=Datasets!$P$3,'3) Calculations'!AD51,0),0)","v":0},{"$f":"IF(F51=Datasets!$C$3,IF('3) Calculations'!H51=Datasets!$P$3,'3) Calculations'!AE51,0),0)","v":0},{"$f":"IF(F51=Datasets!$C$3,IF('3) Calculations'!H51=Datasets!$P$3,'3) Calculations'!AF51,0),0)","v":0},{"$f":"IF(F51=Datasets!$C$2,IF('3) Calculations'!H51=Datasets!$P$2,'3) Calculations'!AA51,0),0)","v":0},{"$f":"IF(F51=Datasets!$C$2,IF('3) Calculations'!H51=Datasets!$P$2,'3) Calculations'!AB51,0),0)","v":0},{"$f":"IF(F51=Datasets!$C$2,IF('3) Calculations'!H51=Datasets!$P$2,'3) Calculations'!AC51,0),0)","v":0},{"$f":"IF(F51=Datasets!$C$2,IF('3) Calculations'!H51=Datasets!$P$2,'3) Calculations'!AD51,0),0)","v":0},{"$f":"IF(F51=Datasets!$C$2,IF('3) Calculations'!H51=Datasets!$P$2,'3) Calculations'!AE51,0),0)","v":0},{"$f":"IF(F51=Datasets!$C$2,IF('3) Calculations'!H51=Datasets!$P$2,'3) Calculations'!AF51,0),0)","v":0},{"$f":"IF(F51=Datasets!$C$2,IF('3) Calculations'!H51=Datasets!$P$3,'3) Calculations'!AA51,0),0)","v":0},{"$f":"IF(F51=Datasets!$C$2,IF('3) Calculations'!H51=Datasets!$P$3,'3) Calculations'!AB51,0),0)","v":0},{"$f":"IF(F51=Datasets!$C$2,IF('3) Calculations'!H51=Datasets!$P$3,'3) Calculations'!AC51,0),0)","v":0},{"$f":"IF(F51=Datasets!$C$2,IF('3) Calculations'!H51=Datasets!$P$3,'3) Calculations'!AD51,0),0)","v":0},{"$f":"IF(F51=Datasets!$C$2,IF('3) Calculations'!H51=Datasets!$P$3,'3) Calculations'!AE51,0),0)","v":0},{"$f":"IF(F51=Datasets!$C$2,IF('3) Calculations'!H51=Datasets!$P$3,'3) Calculations'!AF51,0),0)","v":0}]
[{"$f":"'3) Dump Pit'!A39","v":"7th Dump Pit"},{"$f":"'3) Dump Pit'!B39","v":0},{"$f":"'3) Dump Pit'!C39","v":0},{"$f":"'3) Dump Pit'!D39","v":0},{"$f":"'3) Dump Pit'!E39","v":0},{"$f":"'3) Dump Pit'!G39","v":0},{"$f":"IF(F52=Datasets!$C$2,IF(H52=Datasets!$P$2,\"uncontrolled1\",\"uncontrolled2\"),'3) Dump Pit'!H39)","v":0},{"$f":"'3) Dump Pit'!I39","v":0},1,{"$f":"IF(H52=Datasets!$A$2,'3) Calculations'!$Q$6,'3) Calculations'!$Q$4)","v":3.2000000000000001E-2},{"$f":"IF(H52=Datasets!$A$2,'3) Calculations'!$R$6,'3) Calculations'!$R$4)","v":7.7999999999999996E-3},{"$f":"IF(H52=Datasets!$A$2,'3) Calculations'!$S$6,'3) Calculations'!$S$4)","v":1.2999999999999999E-3},{"$f":"E52*'3) Dump Pit'!$E$9/2000","v":0},{"$f":"IF('3) Dump Pit'!F39=0,MIN(M52*8760,$C$4),MIN(M52*8760,$C$4,'3) Dump Pit'!F39))","v":0},0,0,0,0,0,0,0,0,0,0,0,0,0,0,0,0,0,0,0,0,0,0,0,0,null,{"$f":"IF(F52=Datasets!$C$3,IF('3) Calculations'!H52=Datasets!$P$2,'3) Calculations'!M52,0),0)","v":0},{"$f":"IF(F52=Datasets!$C$3,IF('3) Calculations'!H52=Datasets!$P$2,'3) Calculations'!N52,0),0)","v":0},{"$f":"IF(F52=Datasets!$C$3,IF('3) Calculations'!H52=Datasets!$P$3,'3) Calculations'!M52,0),0)","v":0},{"$f":"IF(F52=Datasets!$C$3,IF('3) Calculations'!H52=Datasets!$P$3,'3) Calculations'!N52,0),0)","v":0},{"$f":"IF(F52=Datasets!$C$2,IF('3) Calculations'!H52=Datasets!$P$2,'3) Calculations'!M52,0),0)","v":0},{"$f":"IF(F52=Datasets!$C$2,IF('3) Calculations'!H52=Datasets!$P$2,'3) Calculations'!N52,0),0)","v":0},{"$f":"IF(F52=Datasets!$C$2,IF('3) Calculations'!H52=Datasets!$P$3,'3) Calculations'!M52,0),0)","v":0},{"$f":"IF(F52=Datasets!$C$2,IF('3) Calculations'!H52=Datasets!$P$3,'3) Calculations'!N52,0),0)","v":0},null,{"$f":"IF(F52=Datasets!$C$3,IF('3) Calculations'!H52=Datasets!$P$2,'3) Calculations'!AA52,0),0)","v":0},{"$f":"IF(F52=Datasets!$C$3,IF('3) Calculations'!H52=Datasets!$P$2,'3) Calculations'!AB52,0),0)","v":0},{"$f":"IF(F52=Datasets!$C$3,IF('3) Calculations'!H52=Datasets!$P$2,'3) Calculations'!AC52,0),0)","v":0},{"$f":"IF(F52=Datasets!$C$3,IF('3) Calculations'!H52=Datasets!$P$2,'3) Calculations'!AD52,0),0)","v":0},{"$f":"IF(F52=Datasets!$C$3,IF('3) Calculations'!H52=Datasets!$P$2,'3) Calculations'!AE52,0),0)","v":0},{"$f":"IF(F52=Datasets!$C$3,IF('3) Calculations'!H52=Datasets!$P$2,'3) Calculations'!AF52,0),0)","v":0},{"$f":"IF(F52=Datasets!$C$3,IF('3) Calculations'!H52=Datasets!$P$3,'3) Calculations'!AA52,0),0)","v":0},{"$f":"IF(F52=Datasets!$C$3,IF('3) Calculations'!H52=Datasets!$P$3,'3) Calculations'!AB52,0),0)","v":0},{"$f":"IF(F52=Datasets!$C$3,IF('3) Calculations'!H52=Datasets!$P$3,'3) Calculations'!AC52,0),0)","v":0},{"$f":"IF(F52=Datasets!$C$3,IF('3) Calculations'!H52=Datasets!$P$3,'3) Calculations'!AD52,0),0)","v":0},{"$f":"IF(F52=Datasets!$C$3,IF('3) Calculations'!H52=Datasets!$P$3,'3) Calculations'!AE52,0),0)","v":0},{"$f":"IF(F52=Datasets!$C$3,IF('3) Calculations'!H52=Datasets!$P$3,'3) Calculations'!AF52,0),0)","v":0},{"$f":"IF(F52=Datasets!$C$2,IF('3) Calculations'!H52=Datasets!$P$2,'3) Calculations'!AA52,0),0)","v":0},{"$f":"IF(F52=Datasets!$C$2,IF('3) Calculations'!H52=Datasets!$P$2,'3) Calculations'!AB52,0),0)","v":0},{"$f":"IF(F52=Datasets!$C$2,IF('3) Calculations'!H52=Datasets!$P$2,'3) Calculations'!AC52,0),0)","v":0},{"$f":"IF(F52=Datasets!$C$2,IF('3) Calculations'!H52=Datasets!$P$2,'3) Calculations'!AD52,0),0)","v":0},{"$f":"IF(F52=Datasets!$C$2,IF('3) Calculations'!H52=Datasets!$P$2,'3) Calculations'!AE52,0),0)","v":0},{"$f":"IF(F52=Datasets!$C$2,IF('3) Calculations'!H52=Datasets!$P$2,'3) Calculations'!AF52,0),0)","v":0},{"$f":"IF(F52=Datasets!$C$2,IF('3) Calculations'!H52=Datasets!$P$3,'3) Calculations'!AA52,0),0)","v":0},{"$f":"IF(F52=Datasets!$C$2,IF('3) Calculations'!H52=Datasets!$P$3,'3) Calculations'!AB52,0),0)","v":0},{"$f":"IF(F52=Datasets!$C$2,IF('3) Calculations'!H52=Datasets!$P$3,'3) Calculations'!AC52,0),0)","v":0},{"$f":"IF(F52=Datasets!$C$2,IF('3) Calculations'!H52=Datasets!$P$3,'3) Calculations'!AD52,0),0)","v":0},{"$f":"IF(F52=Datasets!$C$2,IF('3) Calculations'!H52=Datasets!$P$3,'3) Calculations'!AE52,0),0)","v":0},{"$f":"IF(F52=Datasets!$C$2,IF('3) Calculations'!H52=Datasets!$P$3,'3) Calculations'!AF52,0),0)","v":0}]
[{"$f":"'3) Dump Pit'!A40","v":"8th Dump Pit"},{"$f":"'3) Dump Pit'!B40","v":0},{"$f":"'3) Dump Pit'!C40","v":0},{"$f":"'3) Dump Pit'!D40","v":0},{"$f":"'3) Dump Pit'!E40","v":0},{"$f":"'3) Dump Pit'!G40","v":0},{"$f":"IF(F53=Datasets!$C$2,IF(H53=Datasets!$P$2,\"uncontrolled1\",\"uncontrolled2\"),'3) Dump Pit'!H40)","v":0},{"$f":"'3) Dump Pit'!I40","v":0},1,{"$f":"IF(H53=Datasets!$A$2,'3) Calculations'!$Q$6,'3) Calculations'!$Q$4)","v":3.2000000000000001E-2},{"$f":"IF(H53=Datasets!$A$2,'3) Calculations'!$R$6,'3) Calculations'!$R$4)","v":7.7999999999999996E-3},{"$f":"IF(H53=Datasets!$A$2,'3) Calculations'!$S$6,'3) Calculations'!$S$4)","v":1.2999999999999999E-3},{"$f":"E53*'3) Dump Pit'!$E$9/2000","v":0},{"$f":"IF('3) Dump Pit'!F40=0,MIN(M53*8760,$C$4),MIN(M53*8760,$C$4,'3) Dump Pit'!F40))","v":0},0,0,0,0,0,0,0,0,0,0,0,0,0,0,0,0,0,0,0,0,0,0,0,0,null,{"$f":"IF(F53=Datasets!$C$3,IF('3) Calculations'!H53=Datasets!$P$2,'3) Calculations'!M53,0),0)","v":0},{"$f":"IF(F53=Datasets!$C$3,IF('3) Calculations'!H53=Datasets!$P$2,'3) Calculations'!N53,0),0)","v":0},{"$f":"IF(F53=Datasets!$C$3,IF('3) Calculations'!H53=Datasets!$P$3,'3) Calculations'!M53,0),0)","v":0},{"$f":"IF(F53=Datasets!$C$3,IF('3) Calculations'!H53=Datasets!$P$3,'3) Calculations'!N53,0),0)","v":0},{"$f":"IF(F53=Datasets!$C$2,IF('3) Calculations'!H53=Datasets!$P$2,'3) Calculations'!M53,0),0)","v":0},{"$f":"IF(F53=Datasets!$C$2,IF('3) Calculations'!H53=Datasets!$P$2,'3) Calculations'!N53,0),0)","v":0},{"$f":"IF(F53=Datasets!$C$2,IF('3) Calculations'!H53=Datasets!$P$3,'3) Calculations'!M53,0),0)","v":0},{"$f":"IF(F53=Datasets!$C$2,IF('3) Calculations'!H53=Datasets!$P$3,'3) Calculations'!N53,0),0)","v":0},null,{"$f":"IF(F53=Datasets!$C$3,IF('3) Calculations'!H53=Datasets!$P$2,'3) Calculations'!AA53,0),0)","v":0},{"$f":"IF(F53=Datasets!$C$3,IF('3) Calculations'!H53=Datasets!$P$2,'3) Calculations'!AB53,0),0)","v":0},{"$f":"IF(F53=Datasets!$C$3,IF('3) Calculations'!H53=Datasets!$P$2,'3) Calculations'!AC53,0),0)","v":0},{"$f":"IF(F53=Datasets!$C$3,IF('3) Calculations'!H53=Datasets!$P$2,'3) Calculations'!AD53,0),0)","v":0},{"$f":"IF(F53=Datasets!$C$3,IF('3) Calculations'!H53=Datasets!$P$2,'3) Calculations'!AE53,0),0)","v":0},{"$f":"IF(F53=Datasets!$C$3,IF('3) Calculations'!H53=Datasets!$P$2,'3) Calculations'!AF53,0),0)","v":0},{"$f":"IF(F53=Datasets!$C$3,IF('3) Calculations'!H53=Datasets!$P$3,'3) Calculations'!AA53,0),0)","v":0},{"$f":"IF(F53=Datasets!$C$3,IF('3) Calculations'!H53=Datasets!$P$3,'3) Calculations'!AB53,0),0)","v":0},{"$f":"IF(F53=Datasets!$C$3,IF('3) Calculations'!H53=Datasets!$P$3,'3) Calculations'!AC53,0),0)","v":0},{"$f":"IF(F53=Datasets!$C$3,IF('3) Calculations'!H53=Datasets!$P$3,'3) Calculations'!AD53,0),0)","v":0},{"$f":"IF(F53=Datasets!$C$3,IF('3) Calculations'!H53=Datasets!$P$3,'3) Calculations'!AE53,0),0)","v":0},{"$f":"IF(F53=Datasets!$C$3,IF('3) Calculations'!H53=Datasets!$P$3,'3) Calculations'!AF53,0),0)","v":0},{"$f":"IF(F53=Datasets!$C$2,IF('3) Calculations'!H53=Datasets!$P$2,'3) Calculations'!AA53,0),0)","v":0},{"$f":"IF(F53=Datasets!$C$2,IF('3) Calculations'!H53=Datasets!$P$2,'3) Calculations'!AB53,0),0)","v":0},{"$f":"IF(F53=Datasets!$C$2,IF('3) Calculations'!H53=Datasets!$P$2,'3) Calculations'!AC53,0),0)","v":0},{"$f":"IF(F53=Datasets!$C$2,IF('3) Calculations'!H53=Datasets!$P$2,'3) Calculations'!AD53,0),0)","v":0},{"$f":"IF(F53=Datasets!$C$2,IF('3) Calculations'!H53=Datasets!$P$2,'3) Calculations'!AE53,0),0)","v":0},{"$f":"IF(F53=Datasets!$C$2,IF('3) Calculations'!H53=Datasets!$P$2,'3) Calculations'!AF53,0),0)","v":0},{"$f":"IF(F53=Datasets!$C$2,IF('3) Calculations'!H53=Datasets!$P$3,'3) Calculations'!AA53,0),0)","v":0},{"$f":"IF(F53=Datasets!$C$2,IF('3) Calculations'!H53=Datasets!$P$3,'3) Calculations'!AB53,0),0)","v":0},{"$f":"IF(F53=Datasets!$C$2,IF('3) Calculations'!H53=Datasets!$P$3,'3) Calculations'!AC53,0),0)","v":0},{"$f":"IF(F53=Datasets!$C$2,IF('3) Calculations'!H53=Datasets!$P$3,'3) Calculations'!AD53,0),0)","v":0},{"$f":"IF(F53=Datasets!$C$2,IF('3) Calculations'!H53=Datasets!$P$3,'3) Calculations'!AE53,0),0)","v":0},{"$f":"IF(F53=Datasets!$C$2,IF('3) Calculations'!H53=Datasets!$P$3,'3) Calculations'!AF53,0),0)","v":0}]
[{"$f":"'3) Dump Pit'!A41","v":"9th Dump Pit"},{"$f":"'3) Dump Pit'!B41","v":0},{"$f":"'3) Dump Pit'!C41","v":0},{"$f":"'3) Dump Pit'!D41","v":0},{"$f":"'3) Dump Pit'!E41","v":0},{"$f":"'3) Dump Pit'!G41","v":0},{"$f":"IF(F54=Datasets!$C$2,IF(H54=Datasets!$P$2,\"uncontrolled1\",\"uncontrolled2\"),'3) Dump Pit'!H41)","v":0},{"$f":"'3) Dump Pit'!I41","v":0},1,{"$f":"IF(H54=Datasets!$A$2,'3) Calculations'!$Q$6,'3) Calculations'!$Q$4)","v":3.2000000000000001E-2},{"$f":"IF(H54=Datasets!$A$2,'3) Calculations'!$R$6,'3) Calculations'!$R$4)","v":7.7999999999999996E-3},{"$f":"IF(H54=Datasets!$A$2,'3) Calculations'!$S$6,'3) Calculations'!$S$4)","v":1.2999999999999999E-3},{"$f":"E54*'3) Dump Pit'!$E$9/2000","v":0},{"$f":"IF('3) Dump Pit'!F41=0,MIN(M54*8760,$C$4),MIN(M54*8760,$C$4,'3) Dump Pit'!F41))","v":0},0,0,0,0,0,0,0,0,0,0,0,0,0,0,0,0,0,0,0,0,0,0,0,0,null,{"$f":"IF(F54=Datasets!$C$3,IF('3) Calculations'!H54=Datasets!$P$2,'3) Calculations'!M54,0),0)","v":0},{"$f":"IF(F54=Datasets!$C$3,IF('3) Calculations'!H54=Datasets!$P$2,'3) Calculations'!N54,0),0)","v":0},{"$f":"IF(F54=Datasets!$C$3,IF('3) Calculations'!H54=Datasets!$P$3,'3) Calculations'!M54,0),0)","v":0},{"$f":"IF(F54=Datasets!$C$3,IF('3) Calculations'!H54=Datasets!$P$3,'3) Calculations'!N54,0),0)","v":0},{"$f":"IF(F54=Datasets!$C$2,IF('3) Calculations'!H54=Datasets!$P$2,'3) Calculations'!M54,0),0)","v":0},{"$f":"IF(F54=Datasets!$C$2,IF('3) Calculations'!H54=Datasets!$P$2,'3) Calculations'!N54,0),0)","v":0},{"$f":"IF(F54=Datasets!$C$2,IF('3) Calculations'!H54=Datasets!$P$3,'3) Calculations'!M54,0),0)","v":0},{"$f":"IF(F54=Datasets!$C$2,IF('3) Calculations'!H54=Datasets!$P$3,'3) Calculations'!N54,0),0)","v":0},null,{"$f":"IF(F54=Datasets!$C$3,IF('3) Calculations'!H54=Datasets!$P$2,'3) Calculations'!AA54,0),0)","v":0},{"$f":"IF(F54=Datasets!$C$3,IF('3) Calculations'!H54=Datasets!$P$2,'3) Calculations'!AB54,0),0)","v":0},{"$f":"IF(F54=Datasets!$C$3,IF('3) Calculations'!H54=Datasets!$P$2,'3) Calculations'!AC54,0),0)","v":0},{"$f":"IF(F54=Datasets!$C$3,IF('3) Calculations'!H54=Datasets!$P$2,'3) Calculations'!AD54,0),0)","v":0},{"$f":"IF(F54=Datasets!$C$3,IF('3) Calculations'!H54=Datasets!$P$2,'3) Calculations'!AE54,0),0)","v":0},{"$f":"IF(F54=Datasets!$C$3,IF('3) Calculations'!H54=Datasets!$P$2,'3) Calculations'!AF54,0),0)","v":0},{"$f":"IF(F54=Datasets!$C$3,IF('3) Calculations'!H54=Datasets!$P$3,'3) Calculations'!AA54,0),0)","v":0},{"$f":"IF(F54=Datasets!$C$3,IF('3) Calculations'!H54=Datasets!$P$3,'3) Calculations'!AB54,0),0)","v":0},{"$f":"IF(F54=Datasets!$C$3,IF('3) Calculations'!H54=Datasets!$P$3,'3) Calculations'!AC54,0),0)","v":0},{"$f":"IF(F54=Datasets!$C$3,IF('3) Calculations'!H54=Datasets!$P$3,'3) Calculations'!AD54,0),0)","v":0},{"$f":"IF(F54=Datasets!$C$3,IF('3) Calculations'!H54=Datasets!$P$3,'3) Calculations'!AE54,0),0)","v":0},{"$f":"IF(F54=Datasets!$C$3,IF('3) Calculations'!H54=Datasets!$P$3,'3) Calculations'!AF54,0),0)","v":0},{"$f":"IF(F54=Datasets!$C$2,IF('3) Calculations'!H54=Datasets!$P$2,'3) Calculations'!AA54,0),0)","v":0},{"$f":"IF(F54=Datasets!$C$2,IF('3) Calculations'!H54=Datasets!$P$2,'3) Calculations'!AB54,0),0)","v":0},{"$f":"IF(F54=Datasets!$C$2,IF('3) Calculations'!H54=Datasets!$P$2,'3) Calculations'!AC54,0),0)","v":0},{"$f":"IF(F54=Datasets!$C$2,IF('3) Calculations'!H54=Datasets!$P$2,'3) Calculations'!AD54,0),0)","v":0},{"$f":"IF(F54=Datasets!$C$2,IF('3) Calculations'!H54=Datasets!$P$2,'3) Calculations'!AE54,0),0)","v":0},{"$f":"IF(F54=Datasets!$C$2,IF('3) Calculations'!H54=Datasets!$P$2,'3) Calculations'!AF54,0),0)","v":0},{"$f":"IF(F54=Datasets!$C$2,IF('3) Calculations'!H54=Datasets!$P$3,'3) Calculations'!AA54,0),0)","v":0},{"$f":"IF(F54=Datasets!$C$2,IF('3) Calculations'!H54=Datasets!$P$3,'3) Calculations'!AB54,0),0)","v":0},{"$f":"IF(F54=Datasets!$C$2,IF('3) Calculations'!H54=Datasets!$P$3,'3) Calculations'!AC54,0),0)","v":0},{"$f":"IF(F54=Datasets!$C$2,IF('3) Calculations'!H54=Datasets!$P$3,'3) Calculations'!AD54,0),0)","v":0},{"$f":"IF(F54=Datasets!$C$2,IF('3) Calculations'!H54=Datasets!$P$3,'3) Calculations'!AE54,0),0)","v":0},{"$f":"IF(F54=Datasets!$C$2,IF('3) Calculations'!H54=Datasets!$P$3,'3) Calculations'!AF54,0),0)","v":0}]
[{"$f":"'3) Dump Pit'!A42","v":"10th Dump Pit"},{"$f":"'3) Dump Pit'!B42","v":0},{"$f":"'3) Dump Pit'!C42","v":0},{"$f":"'3) Dump Pit'!D42","v":0},{"$f":"'3) Dump Pit'!E42","v":0},{"$f":"'3) Dump Pit'!G42","v":0},{"$f":"IF(F55=Datasets!$C$2,IF(H55=Datasets!$P$2,\"uncontrolled1\",\"uncontrolled2\"),'3) Dump Pit'!H42)","v":0},{"$f":"'3) Dump Pit'!I42","v":0},1,{"$f":"IF(H55=Datasets!$A$2,'3) Calculations'!$Q$6,'3) Calculations'!$Q$4)","v":3.2000000000000001E-2},{"$f":"IF(H55=Datasets!$A$2,'3) Calculations'!$R$6,'3) Calculations'!$R$4)","v":7.7999999999999996E-3},{"$f":"IF(H55=Datasets!$A$2,'3) Calculations'!$S$6,'3) Calculations'!$S$4)","v":1.2999999999999999E-3},{"$f":"E55*'3) Dump Pit'!$E$9/2000","v":0},{"$f":"IF('3) Dump Pit'!F42=0,MIN(M55*8760,$C$4),MIN(M55*8760,$C$4,'3) Dump Pit'!F42))","v":0},0,0,0,0,0,0,0,0,0,0,0,0,0,0,0,0,0,0,0,0,0,0,0,0,null,{"$f":"IF(F55=Datasets!$C$3,IF('3) Calculations'!H55=Datasets!$P$2,'3) Calculations'!M55,0),0)","v":0},{"$f":"IF(F55=Datasets!$C$3,IF('3) Calculations'!H55=Datasets!$P$2,'3) Calculations'!N55,0),0)","v":0},{"$f":"IF(F55=Datasets!$C$3,IF('3) Calculations'!H55=Datasets!$P$3,'3) Calculations'!M55,0),0)","v":0},{"$f":"IF(F55=Datasets!$C$3,IF('3) Calculations'!H55=Datasets!$P$3,'3) Calculations'!N55,0),0)","v":0},{"$f":"IF(F55=Datasets!$C$2,IF('3) Calculations'!H55=Datasets!$P$2,'3) Calculations'!M55,0),0)","v":0},{"$f":"IF(F55=Datasets!$C$2,IF('3) Calculations'!H55=Datasets!$P$2,'3) Calculations'!N55,0),0)","v":0},{"$f":"IF(F55=Datasets!$C$2,IF('3) Calculations'!H55=Datasets!$P$3,'3) Calculations'!M55,0),0)","v":0},{"$f":"IF(F55=Datasets!$C$2,IF('3) Calculations'!H55=Datasets!$P$3,'3) Calculations'!N55,0),0)","v":0},null,{"$f":"IF(F55=Datasets!$C$3,IF('3) Calculations'!H55=Datasets!$P$2,'3) Calculations'!AA55,0),0)","v":0},{"$f":"IF(F55=Datasets!$C$3,IF('3) Calculations'!H55=Datasets!$P$2,'3) Calculations'!AB55,0),0)","v":0},{"$f":"IF(F55=Datasets!$C$3,IF('3) Calculations'!H55=Datasets!$P$2,'3) Calculations'!AC55,0),0)","v":0},{"$f":"IF(F55=Datasets!$C$3,IF('3) Calculations'!H55=Datasets!$P$2,'3) Calculations'!AD55,0),0)","v":0},{"$f":"IF(F55=Datasets!$C$3,IF('3) Calculations'!H55=Datasets!$P$2,'3) Calculations'!AE55,0),0)","v":0},{"$f":"IF(F55=Datasets!$C$3,IF('3) Calculations'!H55=Datasets!$P$2,'3) Calculations'!AF55,0),0)","v":0},{"$f":"IF(F55=Datasets!$C$3,IF('3) Calculations'!H55=Datasets!$P$3,'3) Calculations'!AA55,0),0)","v":0},{"$f":"IF(F55=Datasets!$C$3,IF('3) Calculations'!H55=Datasets!$P$3,'3) Calculations'!AB55,0),0)","v":0},{"$f":"IF(F55=Datasets!$C$3,IF('3) Calculations'!H55=Datasets!$P$3,'3) Calculations'!AC55,0),0)","v":0},{"$f":"IF(F55=Datasets!$C$3,IF('3) Calculations'!H55=Datasets!$P$3,'3) Calculations'!AD55,0),0)","v":0},{"$f":"IF(F55=Datasets!$C$3,IF('3) Calculations'!H55=Datasets!$P$3,'3) Calculations'!AE55,0),0)","v":0},{"$f":"IF(F55=Datasets!$C$3,IF('3) Calculations'!H55=Datasets!$P$3,'3) Calculations'!AF55,0),0)","v":0},{"$f":"IF(F55=Datasets!$C$2,IF('3) Calculations'!H55=Datasets!$P$2,'3) Calculations'!AA55,0),0)","v":0},{"$f":"IF(F55=Datasets!$C$2,IF('3) Calculations'!H55=Datasets!$P$2,'3) Calculations'!AB55,0),0)","v":0},{"$f":"IF(F55=Datasets!$C$2,IF('3) Calculations'!H55=Datasets!$P$2,'3) Calculations'!AC55,0),0)","v":0},{"$f":"IF(F55=Datasets!$C$2,IF('3) Calculations'!H55=Datasets!$P$2,'3) Calculations'!AD55,0),0)","v":0},{"$f":"IF(F55=Datasets!$C$2,IF('3) Calculations'!H55=Datasets!$P$2,'3) Calculations'!AE55,0),0)","v":0},{"$f":"IF(F55=Datasets!$C$2,IF('3) Calculations'!H55=Datasets!$P$2,'3) Calculations'!AF55,0),0)","v":0},{"$f":"IF(F55=Datasets!$C$2,IF('3) Calculations'!H55=Datasets!$P$3,'3) Calculations'!AA55,0),0)","v":0},{"$f":"IF(F55=Datasets!$C$2,IF('3) Calculations'!H55=Datasets!$P$3,'3) Calculations'!AB55,0),0)","v":0},{"$f":"IF(F55=Datasets!$C$2,IF('3) Calculations'!H55=Datasets!$P$3,'3) Calculations'!AC55,0),0)","v":0},{"$f":"IF(F55=Datasets!$C$2,IF('3) Calculations'!H55=Datasets!$P$3,'3) Calculations'!AD55,0),0)","v":0},{"$f":"IF(F55=Datasets!$C$2,IF('3) Calculations'!H55=Datasets!$P$3,'3) Calculations'!AE55,0),0)","v":0},{"$f":"IF(F55=Datasets!$C$2,IF('3) Calculations'!H55=Datasets!$P$3,'3) Calculations'!AF55,0),0)","v":0}]
[]
["Uncontrolled Grain Handling Emissions",null,null,null,{"$f":"'3) Dump Pit'!D16:D16","v":0},null,null,null,1,0.12992999999999999,7.2419999999999998E-2,1.2354E-2,{"$f":"E57*'3) Dump Pit'!$E$9/2000","v":0},{"$f":"IF('3) Dump Pit'!F16=0,MIN(M57*8760,$C$4),MIN(M57*8760,$C$4,'3) Dump Pit'!F16))","v":0},{"$f":"M57*J57","v":0},{"$f":"M57*K57","v":0},{"$f":"M57*L57","v":0},{"$f":"J57*N57/2000","v":0},{"$f":"K57*N57/2000","v":0},{"$f":"L57*N57/2000","v":0},{"$f":"O57*I57","v":0},{"$f":"P57*I57","v":0},{"$f":"Q57*I57","v":0},{"$f":"R57*I57","v":0},{"$f":"S57*I57","v":0},{"$f":"T57*I57","v":0},{"$f":"O57-U57","v":0},0,0,0,0,0,{"$f":"IF(F57=\"Baghouse\",U57*(1-$N$4),U57)","v":0},{"$f":"IF(F57=\"Baghouse\",V57*(1-$N$4),V57)","v":0},{"$f":"IF(F57=\"Baghouse\",W57*(1-$N$4),W57)","v":0},{"$f":"IF(F57=\"Baghouse\",X57*(1-$N$4),X57)","v":0},{"$f":"IF(F57=\"Baghouse\",Y57*(1-$N$4),Y57)","v":0},{"$f":"IF(F57=\"Baghouse\",Z57*(1-$N$4),Z57)","v":0}]
["Controlled Grain Handling Emissions",null,null,null,{"$f":"SUM('3) Dump Pit'!G20:G29)","v":0},"Baghouse",null,null,1,0.12992999999999999,7.2419999999999998E-2,1.2354E-2,{"$f":"E58*'3) Dump Pit'!$E$9/2000","v":0},{"$f":"SUM('3) Dump Pit'!H20:H29)","v":0},{"$f":"M58*J58","v":0},{"$f":"M58*K58","v":0},{"$f":"M58*L58","v":0},{"$f":"J58*N58/2000","v":0},{"$f":"K58*N58/2000","v":0},{"$f":"L58*N58/2000","v":0},{"$f":"O58*I58","v":0},{"$f":"P58*I58","v":0},{"$f":"Q58*I58","v":0},{"$f":"R58*I58","v":0},{"$f":"S58*I58","v":0},{"$f":"T58*I58","v":0},0,0,0,{"$f":"R58-X58","v":0},{"$f":"S58-Y58","v":0},{"$f":"T58-Z58","v":0},{"$f":"IF(F58=\"Baghouse\",U58*(1-$N$4),U58)","v":0},{"$f":"IF(F58=\"Baghouse\",V58*(1-$N$4),V58)","v":0},{"$f":"IF(F58=\"Baghouse\",W58*(1-$N$4),W58)","v":0},{"$f":"IF(F58=\"Baghouse\",X58*(1-$N$4),X58)","v":0},{"$f":"IF(F58=\"Baghouse\",Y58*(1-$N$4),Y58)","v":0},{"$f":"IF(F58=\"Baghouse\",Z58*(1-$N$4),Z58)","v":0},null,{"$f":"SUM(AN46:AN55)","v":0},{"$f":"SUM(AO46:AO55)","v":0},0,0,0,0,0,0,null,0,0,0,0,0,0,0,0,0,0,0,0,0,0,0,0,0,0,0,0,0,0,0,0]
["(A) = Default NDEQ Emission Factor from Table above",null,null,null,"(D) = (A) x (B)",null,"(H) = (D)  - (F)",null,null,null,null,null,null,null,null,null,null,null,null,null,null,null,null,null,"Sum",null,{"$f":"SUM(AA57:AA58)","v":0},0,0,0,0,0,{"$f":"SUM(AG57:AG58)","v":0},0,0,0,0,0,null,"* Summary by receiving type"]
["(B) = Max. grain receiving (bu/hr) x Corn density (56 lb/bu)/2000",null,null,null,"(E) = (A) x (C)",null,"(I) = (E)  - (G)"]
["(C) = Min. of permitted Grain Throughput per year & 8760 x (B)",null,null,null,"(F) = (D) x capture eff.",null,"(J) = (F) x (100% - Control Eff.)"]
[null,null,null,null,"(G) = (E) x capture eff.",null,"(K) = (G) x (100% - Control Eff.)"]
[]
["Emission Point Description *",null,"Hourly Throughput","Annual Throughput ","Uncaptured Emissions (lb/hr)",null,null,"Uncaptured Emissions (ton/yr)"]
[null,null,"(A)            (tons/hour)[1]","(B)        (tons/year)[1]","PM","PM10","PM2.5","PM","PM10","PM2.5"]
[" Truck Grain Receiving Fugitives - Baghouse",null,{"$f":"AN58","v":0},{"$f":"AO58","v":0},{"$f":"AW58","v":0},0,0,0,0,0]
[]
[]
[" Rail Grain Receiving Fugitives - Baghouse",null,{"$f":"AP58","v":0},{"$f":"AQ58","v":0},{"$f":"BC58","v":0},0,0,0,0,0]
[]
[]
[" Truck Grain Receiving Fugitives - Uncontrolled",null,{"$f":"AR58","v":0},{"$f":"AS58","v":0},{"$f":"BI58","v":0},0,0,0,0,0]
[]
[]
[" Rail Grain Receiving Fugitives - Uncontrolled",null,{"$f":"AT58","v":0},{"$f":"AU58","v":0},{"$f":"BO58","v":0},0,0,0,0,0]
[]
[]
["Total Receiving Fugitives",null,null,null,{"$f":"SUM(E66:E77)","v":0},{"$f":"SUM(F66:F77)","v":0},0,0,0,0]
[]
[]
["* Summary of Fugitive PTE"]
[]
["Total Emissions After Project"]
[null,null,null,null,"Based on permit limit",null,null,null,"Based on AP-42",null,null,null,null,null,"Final"]
["Emission \nPoint ID#","Control \nEquipment ID","Unit Name",null,"Controlled PM(filterable)/PM10 Emissions",null,"Controlled PM2.5 Emissions",null,"PM",null,"PM10",null,"PM2.5",null,"PM",null,"PM10",null,"PM2.5"]
[null,null,null,null,"(A)\n(lb/hour)","(B)\n(ton/year)","(C)\n(lb/hour)[1]","(D)\n(ton/year)","(E)\n(lb/hour)","(E)\n(ton/year)","(E)\n(lb/hour)","(E)\n(ton/year)","(E)\n(lb/hour)","(E)\n(ton/year)","(F)\n(lb/hour)","(F)\n(ton/year)","(F)\n(lb/hour)","(F)\n(ton/year)","(F)\n(lb/hour)","(F)\n(ton/year)"]
[1,{"$f":"'3) Dump Pit'!B20","v":0},{"$f":"'3) Dump Pit'!C20","v":0},null,{"$f":"'3) Dump Pit'!O20*60/7000","v":0},{"$f":"E87*8760/2000","v":0},{"$f":"E87*0.17","v":0},{"$f":"G87*8760/2000","v":0},{"$f":"SUM(IF(B87=$G$110,$AG$110,0),IF(B87=$G$111,$AG$111,0),IF(B87=$G$112,$AG$112,0),IF(B87=$G$113,$AG$113,0),IF(B87=$G$114,$AG$114,0),IF(B87=$G$115,$AG$115,0),IF(B87=$G$116,$AG$116,0),IF(B87=$G$117,$AG$117,0),IF(B87=$G$118,$AG$118,0),IF(B87=$G$119,$AG$119,0))","v":0},{"$f":"SUM(IF(B87=$G$46,$AJ$46,0),IF(B87=$G$47,$AJ$47,0),IF(B87=$G$48,$AJ$48,0),IF(B87=$G$49,$AJ$49,0),IF(B87=$G$50,$AJ$50,0),IF(B87=$G$51,$AJ$51,0),IF(B87=$G$52,$AJ$52,0),IF(B87=$G$53,$AJ$53,0),IF(B87=$G$54,$AJ$54,0),IF(B87=$G$55,$AJ$55,0))","v":0},{"$f":"SUM(IF(B87=$G$46,$AH$46,0),IF(B87=$G$47,$AH$47,0),IF(B87=$G$48,$AH$48,0),IF(B87=$G$49,$AH$49,0),IF(B87=$G$50,$AH$50,0),IF(B87=$G$51,$AH$51,0),IF(B87=$G$52,$AH$52,0),IF(B87=$G$53,$AH$53,0),IF(B87=$G$54,$AH$54,0),IF(B87=$G$55,$AH$55,0))","v":0},{"$f":"SUM(IF(B87=$G$46,$AK$46,0),IF(B87=$G$47,$AK$47,0),IF(B87=$G$48,$AK$48,0),IF(B87=$G$49,$AK$49,0),IF(B87=$G$50,$AK$50,0),IF(B87=$G$51,$AK$51,0),IF(B87=$G$52,$AK$52,0),IF(B87=$G$53,$AK$53,0),IF(B87=$G$54,$AK$54,0),IF(B87=$G$55,$AK$55,0))","v":0},{"$f":"SUM(IF(B87=$G$46,$AI$46,0),IF(B87=$G$47,$AI$47,0),IF(B87=$G$48,$AI$48,0),IF(B87=$G$49,$AI$49,0),IF(B87=$G$50,$AI$50,0),IF(B87=$G$51,$AI$51,0),IF(B87=$G$52,$AI$52,0),IF(B87=$G$53,$AI$53,0),IF(B87=$G$54,$AI$54,0),IF(B87=$G$55,$AI$55,0))","v":0},{"$f":"SUM(IF(B87=$G$46,$AL$46,0),IF(B87=$G$47,$AL$47,0),IF(B87=$G$48,$AL$48,0),IF(B87=$G$49,$AL$49,0),IF(B87=$G$50,$AL$50,0),IF(B87=$G$51,$AL$51,0),IF(B87=$G$52,$AL$52,0),IF(B87=$G$53,$AL$53,0),IF(B87=$G$54,$AL$54,0),IF(B87=$G$55,$AL$55,0))","v":0},{"$f":"IF(E87=0,I87,E87)","v":0},{"$f":"IF(F87=0,J87,F87)","v":0},{"$f":"IF(E87=0,K87,E87)","v":0},{"$f":"IF(F87=0,L87,F87)","v":0},{"$f":"IF(G87=0,M87,G87)","v":0},{"$f":"IF(H87=0,N87,H87)","v":0}]
[2,{"$f":"'3) Dump Pit'!B21","v":0},{"$f":"'3) Dump Pit'!C21","v":0},null,{"$f":"'3) Dump Pit'!O21*60/7000","v":0},0,{"$f":"E88*0.17","v":0},{"$f":"G88*8760/2000","v":0},0,0,0,0,0,0,{"$f":"IF(E88=0,I88,E88)","v":0},{"$f":"IF(F88=0,J88,F88)","v":0},{"$f":"IF(E88=0,K88,E88)","v":0},{"$f":"IF(F88=0,L88,F88)","v":0},{"$f":"IF(G88=0,M88,G88)","v":0},{"$f":"IF(H88=0,N88,H88)","v":0}]
[3,{"$f":"'3) Dump Pit'!B22","v":0},{"$f":"'3) Dump Pit'!C22","v":0},null,{"$f":"'3) Dump Pit'!O22*60/7000","v":0},0,0,0,0,0,0,0,0,0,0,0,0,0,0,0]
[4,{"$f":"'3) Dump Pit'!B23","v":0},{"$f":"'3) Dump Pit'!C23","v":0},null,{"$f":"'3) Dump Pit'!O23*60/7000","v":0},0,0,0,0,0,0,0,0,0,0,0,0,0,0,0]
[5,{"$f":"'3) Dump Pit'!B24","v":0},{"$f":"'3) Dump Pit'!C24","v":0},null,{"$f":"'3) Dump Pit'!O24*60/7000","v":0},0,0,0,0,0,0,0,0,0,0,0,0,0,0,0]
[6,{"$f":"'3) Dump Pit'!B25","v":0},{"$f":"'3) Dump Pit'!C25","v":0},null,{"$f":"'3) Dump Pit'!O25*60/7000","v":0},0,0,0,0,0,0,0,0,0,0,0,0,0,0,0]
[7,{"$f":"'3) Dump Pit'!B26","v":0},{"$f":"'3) Dump Pit'!C26","v":0},null,{"$f":"'3) Dump Pit'!O26*60/7000","v":0},0,0,0,0,0,0,0,0,0,0,0,0,0,0,0]
[8,{"$f":"'3) Dump Pit'!B27","v":0},{"$f":"'3) Dump Pit'!C27","v":0},null,{"$f":"'3) Dump Pit'!O27*60/7000","v":0},0,0,0,0,0,0,0,0,0,0,0,0,0,0,0]
[9,{"$f":"'3) Dump Pit'!B28","v":0},{"$f":"'3) Dump Pit'!C28","v":0},null,{"$f":"'3) Dump Pit'!O28*60/7000","v":0},0,0,0,0,0,0,0,0,0,0,0,0,0,0,0]
[10,{"$f":"'3) Dump Pit'!B29","v":0},{"$f":"'3) Dump Pit'!C29","v":0},null,{"$f":"'3) Dump Pit'!O29*60/7000","v":0},0,0,0,0,0,0,0,0,0,0,0,0,0,0,0]
[11,"uncontrolled1",null,null,{"$f":"'3) Dump Pit'!O30*60/7000","v":0},0,0,0,{"$f":"SUM(IF(B97=$G$46,$AG$46,0),IF(B97=$G$47,$AG$47,0),IF(B97=$G$48,$AG$48,0),IF(B97=$G$49,$AG$49,0),IF(B97=$G$50,$AG$50,0),IF(B97=$G$51,$AG$51,0),IF(B97=$G$52,$AG$52,0),IF(B97=$G$53,$AG$53,0),IF(B97=$G$54,$AG$54,0),IF(B97=$G$55,$AG$55,0))","v":0},0,0,0,0,0,0,0,0,{"$f":"IF(F97=0,L97,F97)","v":0},0,0]
[12,"uncontrolled2",null,null,{"$f":"'3) Dump Pit'!O31*60/7000","v":0},0,0,0,0,0,0,0,0,0,0,0,0,{"$f":"IF(F98=0,L98,F98)","v":0},0,0]
[13,"Uncontrolled Grain Handling",null,null,{"$f":"'3) Dump Pit'!O30*60/7000","v":0},{"$f":"E99*8760/2000","v":0},0,0,{"$f":"AG127","v":0},{"$f":"AH127","v":0},{"$f":"AH127","v":0},{"$f":"AK127","v":0},{"$f":"AI127","v":0},{"$f":"AL127","v":0},0,0,0,0,0,0]
[14,"controlled Grain Handling",null,null,null,null,null,null,{"$f":"AG128","v":0},{"$f":"AH128","v":0},{"$f":"AH128","v":0},{"$f":"AK128","v":0},{"$f":"AI128","v":0},{"$f":"AL128","v":0},{"$f":"IF(E100=0,I100,E100)","v":0},0,0,0,0,0]
["Total Non-Fugitive Emissions ",null,null,null,{"$f":"SUM(E87:E98)","v":0},{"$f":"SUM(F87:F98)","v":0},0,0,0,0,0,0,0,0,{"$f":"SUM(O87:O99)","v":0},{"$f":"SUM(P87:P99)","v":0},{"$f":"SUM(Q87:Q99)","v":0},0,0,0]
["Total Fugitive Emissions ",null,null,null,null,null,null,null,null,null,null,null,null,null,{"$f":"SUM(AA113:AA128)","v":0},{"$f":"SUM(AD113:AD128)","v":0},{"$f":"SUM(AB113:AB128)","v":0},{"$f":"SUM(AE113:AE128)","v":0},{"$f":"SUM(AC113:AC128)","v":0},{"$f":"SUM(AF113:AF128)","v":0}]
["[1] PM2.5 is 17% of PM10 per AP-42 Chapter 9.9.1 (May 2003)"]
["[2] Uncontrolled 1: it refers to uncontrolled truck dump pits",null,null,null,"Rules:","(A) = Permit Limit, grains/min x 60 / 7000",null,null,"(C) = (A) x 0.17",null,"(E) Is controlled captured emissions from preceding table summed for a particular control Equipment",null,null,null,"(F) is the maximum emissions based on permit limit if available. Otherwise it is calculated out of AP-42"]
["[3] Uncontrolled 2: it refers to uncontrolled rail dump pits",null,null,null,null,"(B) = (A) x 8760 / 2000",null,null,"(D) = (C) x 8760 / 2000"]
[]
["Analysis",null,null,null,null,null,null,null,null,null,null,null,null,null,null,null,null,null,null,null,null,null,null,null,null,null,null,null,null,null,null,null,null,null,null,null,null,null,null,"Grain Throughput*",null,null,null,null,null,null,null,null,"Truck & Baghouse",null,null,null,null,null,"Rail & Baghouse",null,null,null,null,null,"Truck Uncontrolled",null,null,null,null,null,"Rail Uncontrolled"]
[null,null,null,null,null,null,null,null,null,"Emission Factors (lb/ton)",null,null,"Grain Throughput",null,"Total Emissions (lb/hr)",null,null,"Total Emissions (ton/yr)",null,null,"Captured Emissions (lb/hr)",null,null,"Captured Emissions  (ton/yr)",null,null,"Uncaptured Emissions (lb/hr)",null,null,"Uncaptured Emissions  (ton/yr)",null,null,"Controlled Captured Emissions (lb/hr)",null,null,"Controlled Captured Emissions  (ton/yr)",null,null,null,"Truck & Baghouse",null,"Rail & Baghouse",null,"Truck Uncontrolled",null,"Rail Uncontrolled",null,null,"Uncaptured Emissions (lb/hr)",null,null,"Uncaptured Emissions (ton/yr)",null,null,"Uncaptured Emissions (lb/hr)",null,null,"Uncaptured Emissions  (ton/yr)",null,null,"Uncaptured Emissions (lb/hr)",null,null,"Uncaptured Emissions  (ton/yr)",null,null,"Uncaptured Emissions (lb/hr)",null,null,"Uncaptured Emissions  (ton/yr)"]
[null,"ID","Emission Unit Name","Enclosure","Maximum grain receiving rate (bu/hr)","Control type","Control Name","Truck or Rail","Capture Efficiency","PM","PM10","PM2.5","ton/hr","ton/yr","PM","PM10","PM2.5","PM","PM10","PM2.5","PM","PM10","PM2.5","PM","PM10","PM2.5","PM","PM10","PM2.5","PM","PM10","PM2.5","PM","PM10","PM2.5","PM","PM10","PM2.5",null,"ton/hr","ton/yr","ton/hr","ton/yr","ton/hr","ton/yr","ton/hr","ton/yr",null,"PM","PM10","PM2.5","PM","PM10","PM2.5","PM","PM10","PM2.5","PM","PM10","PM2.5","PM","PM10","PM2.5","PM","PM10","PM2.5","PM","PM10","PM2.5","PM","PM10","PM2.5"]
[{"$f":"'3) Dump Pit'!J33","v":"1st Dump Pit"},{"$f":"'3) Dump Pit'!K33","v":0},{"$f":"'3) Dump Pit'!L33","v":0},{"$f":"'3) Dump Pit'!M33","v":0},{"$f":"'3) Dump Pit'!N33","v":0},{"$f":"'3) Dump Pit'!P33","v":0},{"$f":"IF(F46=Datasets!$C$2,IF(H46=Datasets!$P$2,\"uncontrolled1\",\"uncontrolled2\"),'3) Dump Pit'!Q33)","v":0},{"$f":"'3) Dump Pit'!R33","v":0},{"$f":"IF(D110=$J$4,$K$4,IF(D110=$J$5,$K$5,IF(D110=$J$6,$K$6,1)))","v":1},{"$f":"IF(H110=Datasets!$A$2,'3) Calculations'!$Q$6,'3) Calculations'!$Q$4)","v":3.2000000000000001E-2},{"$f":"IF(H110=Datasets!$A$2,'3) Calculations'!$R$6,'3) Calculations'!$R$4)","v":7.7999999999999996E-3},{"$f":"IF(H110=Datasets!$A$2,'3) Calculations'!$S$6,'3) Calculations'!$S$4)","v":1.2999999999999999E-3},{"$f":"E110*'3) Dump Pit'!$N$9/2000","v":0},{"$f":"IF('3) Dump Pit'!N33=0,MIN(M110*8760,$C$4),MIN(M110*8760,$C$4,'3) Dump Pit'!F33))","v":0},{"$f":"M110*J110","v":0},{"$f":"M110*K110","v":0},{"$f":"M110*L110","v":0},{"$f":"J110*N110/2000","v":0},{"$f":"K110*N110/2000","v":0},{"$f":"L110*N110/2000","v":0},{"$f":"O110*I110","v":0},{"$f":"P110*I110","v":0},{"$f":"Q110*I110","v":0},{"$f":"R110*I110","v":0},{"$f":"S110*I110","v":0},{"$f":"T110*I110","v":0},{"$f":"O110-U110","v":0},{"$f":"P110-V110","v":0},{"$f":"Q110-W110","v":0},{"$f":"R110-X110","v":0},{"$f":"S110-Y110","v":0},{"$f":"T110-Z110","v":0},{"$f":"IF(F110=\"Baghouse\",U110*(1-$N$4),U110)","v":0},{"$f":"IF(F110=\"Baghouse\",V110*(1-$N$4),V110)","v":0},{"$f":"IF(F110=\"Baghouse\",W110*(1-$N$4),W110)","v":0},{"$f":"IF(F110=\"Baghouse\",X110*(1-$N$4),X110)","v":0},{"$f":"IF(F110=\"Baghouse\",Y110*(1-$N$4),Y110)","v":0},{"$f":"IF(F110=\"Baghouse\",Z110*(1-$N$4),Z110)","v":0},null,{"$f":"IF(F110=Datasets!$C$3,IF('3) Calculations'!H110=Datasets!$P$2,'3) Calculations'!M110,0),0)","v":0},{"$f":"IF(F110=Datasets!$C$3,IF('3) Calculations'!H110=Datasets!$P$2,'3) Calculations'!N110,0),0)","v":0},{"$f":"IF(F110=Datasets!$C$3,IF('3) Calculations'!H110=Datasets!$P$3,'3) Calculations'!M110,0),0)","v":0},{"$f":"IF(F110=Datasets!$C$3,IF('3) Calculations'!H110=Datasets!$P$3,'3) Calculations'!N110,0),0)","v":0},{"$f":"IF(F110=Datasets!$C$2,IF('3) Calculations'!H110=Datasets!$P$2,'3) Calculations'!M110,0),0)","v":0},{"$f":"IF(F110=Datasets!$C$2,IF('3) Calculations'!H110=Datasets!$P$2,'3) Calculations'!N110,0),0)","v":0},{"$f":"IF(F110=Datasets!$C$2,IF('3) Calculations'!H110=Datasets!$P$3,'3) Calculations'!M110,0),0)","v":0},{"$f":"IF(F110=Datasets!$C$2,IF('3) Calculations'!H110=Datasets!$P$3,'3) Calculations'!N110,0),0)","v":0},null,{"$f":"IF(F110=Datasets!$C$3,IF('3) Calculations'!H110=Datasets!$P$2,'3) Calculations'!AA110,0),0)","v":0},{"$f":"IF(F110=Datasets!$C$3,IF('3) Calculations'!H110=Datasets!$P$2,'3) Calculations'!AB110,0),0)","v":0},{"$f":"IF(F110=Datasets!$C$3,IF('3) Calculations'!H110=Datasets!$P$2,'3) Calculations'!AC110,0),0)","v":0},{"$f":"IF(F110=Datasets!$C$3,IF('3) Calculations'!H110=Datasets!$P$2,'3) Calculations'!AD110,0),0)","v":0},{"$f":"IF(F110=Datasets!$C$3,IF('3) Calculations'!H110=Datasets!$P$2,'3) Calculations'!AE110,0),0)","v":0},{"$f":"IF(F110=Datasets!$C$3,IF('3) Calculations'!H110=Datasets!$P$2,'3) Calculations'!AF110,0),0)","v":0},{"$f":"IF(F110=Datasets!$C$3,IF('3) Calculations'!H110=Datasets!$P$3,'3) Calculations'!AA110,0),0)","v":0},{"$f":"IF(F110=Datasets!$C$3,IF('3) Calculations'!H110=Datasets!$P$3,'3) Calculations'!AB110,0),0)","v":0},{"$f":"IF(F110=Datasets!$C$3,IF('3) Calculations'!H110=Datasets!$P$3,'3) Calculations'!AC110,0),0)","v":0},{"$f":"IF(F110=Datasets!$C$3,IF('3) Calculations'!H110=Datasets!$P$3,'3) Calculations'!AD110,0),0)","v":0},{"$f":"IF(F110=Datasets!$C$3,IF('3) Calculations'!H110=Datasets!$P$3,'3) Calculations'!AE110,0),0)","v":0},{"$f":"IF(F110=Datasets!$C$3,IF('3) Calculations'!H110=Datasets!$P$3,'3) Calculations'!AF110,0),0)","v":0},{"$f":"IF(F110=Datasets!$C$2,IF('3) Calculations'!H110=Datasets!$P$2,'3) Calculations'!AA110,0),0)","v":0},{"$f":"IF(F110=Datasets!$C$2,IF('3) Calculations'!H110=Datasets!$P$2,'3) Calculations'!AB110,0),0)","v":0},{"$f":"IF(F110=Datasets!$C$2,IF('3) Calculations'!H110=Datasets!$P$2,'3) Calculations'!AC110,0),0)","v":0},{"$f":"IF(F110=Datasets!$C$2,IF('3) Calculations'!H110=Datasets!$P$2,'3) Calculations'!AD110,0),0)","v":0},{"$f":"IF(F110=Datasets!$C$2,IF('3) Calculations'!H110=Datasets!$P$2,'3) Calculations'!AE110,0),0)","v":0},{"$f":"IF(F110=Datasets!$C$2,IF('3) Calculations'!H110=Datasets!$P$2,'3) Calculations'!AF110,0),0)","v":0},{"$f":"IF(F110=Datasets!$C$2,IF('3) Calculations'!H110=Datasets!$P$3,'3) Calculations'!AA110,0),0)","v":0},{"$f":"IF(F110=Datasets!$C$2,IF('3) Calculations'!H110=Datasets!$P$3,'3) Calculations'!AB110,0),0)","v":0},{"$f":"IF(F110=Datasets!$C$2,IF('3) Calculations'!H110=Datasets!$P$3,'3) Calculations'!AC110,0),0)","v":0},{"$f":"IF(F110=Datasets!$C$2,IF('3) Calculations'!H110=Datasets!$P$3,'3) Calculations'!AD110,0),0)","v":0},{"$f":"IF(F110=Datasets!$C$2,IF('3) Calculations'!H110=Datasets!$P$3,'3) Calculations'!AE110,0),0)","v":0},{"$f":"IF(F110=Datasets!$C$2,IF('3) Calculations'!H110=Datasets!$P$3,'3) Calculations'!AF110,0),0)","v":0}]
[{"$f":"'3) Dump Pit'!J34","v":"2nd Dump Pit"},{"$f":"'3) Dump Pit'!K34","v":0},{"$f":"'3) Dump Pit'!L34","v":0},{"$f":"'3) Dump Pit'!M34","v":0},{"$f":"'3) Dump Pit'!N34","v":0},{"$f":"'3) Dump Pit'!P34","v":0},{"$f":"IF(F47=Datasets!$C$2,IF(H47=Datasets!$P$2,\"uncontrolled1\",\"uncontrolled2\"),'3) Dump Pit'!Q34)","v":0},{"$f":"'3) Dump Pit'!R34","v":0},{"$f":"IF(D111=$J$4,$K$4,IF(D111=$J$5,$K$5,IF(D111=$J$6,$K$6,1)))","v":1},{"$f":"IF(H111=Datasets!$A$2,'3) Calculations'!$Q$6,'3) Calculations'!$Q$4)","v":3.2000000000000001E-2},{"$f":"IF(H111=Datasets!$A$2,'3) Calculations'!$R$6,'3) Calculations'!$R$4)","v":7.7999999999999996E-3},{"$f":"IF(H111=Datasets!$A$2,'3) Calculations'!$S$6,'3) Calculations'!$S$4)","v":1.2999999999999999E-3},{"$f":"E111*'3) Dump Pit'!$N$9/2000","v":0},{"$f":"IF('3) Dump Pit'!N34=0,MIN(M111*8760,$C$4),MIN(M111*8760,$C$4,'3) Dump Pit'!F34))","v":0},{"$f":"M111*J111","v":0},0,0,{"$f":"J111*N111/2000","v":0},{"$f":"K111*N111/2000","v":0},{"$f":"L111*N111/2000","v":0},{"$f":"O111*I111","v":0},0,0,0,0,0,{"$f":"O111-U111","v":0},0,0,0,0,0,0,0,0,0,0,0,null,{"$f":"IF(F111=Datasets!$C$3,IF('3) Calculations'!H111=Datasets!$P$2,'3) Calculations'!M111,0),0)","v":0},{"$f":"IF(F111=Datasets!$C$3,IF('3) Calculations'!H111=Datasets!$P$2,'3) Calculations'!N111,0),0)","v":0},{"$f":"IF(F111=Datasets!$C$3,IF('3) Calculations'!H111=Datasets!$P$3,'3) Calculations'!M111,0),0)","v":0},{"$f":"IF(F111=Datasets!$C$3,IF('3) Calculations'!H111=Datasets!$P$3,'3) Calculations'!N111,0),0)","v":0},{"$f":"IF(F111=Datasets!$C$2,IF('3) Calculations'!H111=Datasets!$P$2,'3) Calculations'!M111,0),0)","v":0},{"$f":"IF(F111=Datasets!$C$2,IF('3) Calculations'!H111=Datasets!$P$2,'3) Calculations'!N111,0),0)","v":0},{"$f":"IF(F111=Datasets!$C$2,IF('3) Calculations'!H111=Datasets!$P$3,'3) Calculations'!M111,0),0)","v":0},{"$f":"IF(F111=Datasets!$C$2,IF('3) Calculations'!H111=Datasets!$P$3,'3) Calculations'!N111,0),0)","v":0},null,{"$f":"IF(F111=Datasets!$C$3,IF('3) Calculations'!H111=Datasets!$P$2,'3) Calculations'!AA111,0),0)","v":0},{"$f":"IF(F111=Datasets!$C$3,IF('3) Calculations'!H111=Datasets!$P$2,'3) Calculations'!AB111,0),0)","v":0},{"$f":"IF(F111=Datasets!$C$3,IF('3) Calculations'!H111=Datasets!$P$2,'3) Calculations'!AC111,0),0)","v":0},{"$f":"IF(F111=Datasets!$C$3,IF('3) Calculations'!H111=Datasets!$P$2,'3) Calculations'!AD111,0),0)","v":0},{"$f":"IF(F111=Datasets!$C$3,IF('3) Calculations'!H111=Datasets!$P$2,'3) Calculations'!AE111,0),0)","v":0},{"$f":"IF(F111=Datasets!$C$3,IF('3) Calculations'!H111=Datasets!$P$2,'3) Calculations'!AF111,0),0)","v":0},{"$f":"IF(F111=Datasets!$C$3,IF('3) Calculations'!H111=Datasets!$P$3,'3) Calculations'!AA111,0),0)","v":0},{"$f":"IF(F111=Datasets!$C$3,IF('3) Calculations'!H111=Datasets!$P$3,'3) Calculations'!AB111,0),0)","v":0},{"$f":"IF(F111=Datasets!$C$3,IF('3) Calculations'!H111=Datasets!$P$3,'3) Calculations'!AC111,0),0)","v":0},{"$f":"IF(F111=Datasets!$C$3,IF('3) Calculations'!H111=Datasets!$P$3,'3) Calculations'!AD111,0),0)","v":0},{"$f":"IF(F111=Datasets!$C$3,IF('3) Calculations'!H111=Datasets!$P$3,'3) Calculations'!AE111,0),0)","v":0},{"$f":"IF(F111=Datasets!$C$3,IF('3) Calculations'!H111=Datasets!$P$3,'3) Calculations'!AF111,0),0)","v":0},{"$f":"IF(F111=Datasets!$C$2,IF('3) Calculations'!H111=Datasets!$P$2,'3) Calculations'!AA111,0),0)","v":0},{"$f":"IF(F111=Datasets!$C$2,IF('3) Calculations'!H111=Datasets!$P$2,'3) Calculations'!AB111,0),0)","v":0},{"$f":"IF(F111=Datasets!$C$2,IF('3) Calculations'!H111=Datasets!$P$2,'3) Calculations'!AC111,0),0)","v":0},{"$f":"IF(F111=Datasets!$C$2,IF('3) Calculations'!H111=Datasets!$P$2,'3) Calculations'!AD111,0),0)","v":0},{"$f":"IF(F111=Datasets!$C$2,IF('3) Calculations'!H111=Datasets!$P$2,'3) Calculations'!AE111,0),0)","v":0},{"$f":"IF(F111=Datasets!$C$2,IF('3) Calculations'!H111=Datasets!$P$2,'3) Calculations'!AF111,0),0)","v":0},{"$f":"IF(F111=Datasets!$C$2,IF('3) Calculations'!H111=Datasets!$P$3,'3) Calculations'!AA111,0),0)","v":0},{"$f":"IF(F111=Datasets!$C$2,IF('3) Calculations'!H111=Datasets!$P$3,'3) Calculations'!AB111,0),0)","v":0},{"$f":"IF(F111=Datasets!$C$2,IF('3) Calculations'!H111=Datasets!$P$3,'3) Calculations'!AC111,0),0)","v":0},{"$f":"IF(F111=Datasets!$C$2,IF('3) Calculations'!H111=Datasets!$P$3,'3) Calculations'!AD111,0),0)","v":0},{"$f":"IF(F111=Datasets!$C$2,IF('3) Calculations'!H111=Datasets!$P$3,'3) Calculations'!AE111,0),0)","v":0},{"$f":"IF(F111=Datasets!$C$2,IF('3) Calculations'!H111=Datasets!$P$3,'3) Calculations'!AF111,0),0)","v":0}]
[{"$f":"'3) Dump Pit'!J35","v":"3rd Dump Pit"},{"$f":"'3) Dump Pit'!K35","v":0},{"$f":"'3) Dump Pit'!L35","v":0},{"$f":"'3) Dump Pit'!M35","v":0},{"$f":"'3) Dump Pit'!N35","v":0},{"$f":"'3) Dump Pit'!P35","v":0},{"$f":"IF(F48=Datasets!$C$2,IF(H48=Datasets!$P$2,\"uncontrolled1\",\"uncontrolled2\"),'3) Dump Pit'!Q35)","v":0},{"$f":"'3) Dump Pit'!R35","v":0},{"$f":"IF(D112=$J$4,$K$4,IF(D112=$J$5,$K$5,IF(D112=$J$6,$K$6,1)))","v":1},{"$f":"IF(H112=Datasets!$A$2,'3) Calculations'!$Q$6,'3) Calculations'!$Q$4)","v":3.2000000000000001E-2},{"$f":"IF(H112=Datasets!$A$2,'3) Calculations'!$R$6,'3) Calculations'!$R$4)","v":7.7999999999999996E-3},{"$f":"IF(H112=Datasets!$A$2,'3) Calculations'!$S$6,'3) Calculations'!$S$4)","v":1.2999999999999999E-3},{"$f":"E112*'3) Dump Pit'!$N$9/2000","v":0},{"$f":"IF('3) Dump Pit'!N35=0,MIN(M112*8760,$C$4),MIN(M112*8760,$C$4,'3) Dump Pit'!F35))","v":0},0,0,0,0,0,0,0,0,0,0,0,0,0,0,0,0,0,0,0,0,0,0,0,0,null,{"$f":"IF(F112=Datasets!$C$3,IF('3) Calculations'!H112=Datasets!$P$2,'3) Calculations'!M112,0),0)","v":0},{"$f":"IF(F112=Datasets!$C$3,IF('3) Calculations'!H112=Datasets!$P$2,'3) Calculations'!N112,0),0)","v":0},{"$f":"IF(F112=Datasets!$C$3,IF('3) Calculations'!H112=Datasets!$P$3,'3) Calculations'!M112,0),0)","v":0},{"$f":"IF(F112=Datasets!$C$3,IF('3) Calculations'!H112=Datasets!$P$3,'3) Calculations'!N112,0),0)","v":0},{"$f":"IF(F112=Datasets!$C$2,IF('3) Calculations'!H112=Datasets!$P$2,'3) Calculations'!M112,0),0)","v":0},{"$f":"IF(F112=Datasets!$C$2,IF('3) Calculations'!H112=Datasets!$P$2,'3) Calculations'!N112,0),0)","v":0},{"$f":"IF(F112=Datasets!$C$2,IF('3) Calculations'!H112=Datasets!$P$3,'3) Calculations'!M112,0),0)","v":0},{"$f":"IF(F112=Datasets!$C$2,IF('3) Calculations'!H112=Datasets!$P$3,'3) Calculations'!N112,0),0)","v":0},null,{"$f":"IF(F112=Datasets!$C$3,IF('3) Calculations'!H112=Datasets!$P$2,'3) Calculations'!AA112,0),0)","v":0},{"$f":"IF(F112=Datasets!$C$3,IF('3) Calculations'!H112=Datasets!$P$2,'3) Calculations'!AB112,0),0)","v":0},{"$f":"IF(F112=Datasets!$C$3,IF('3) Calculations'!H112=Datasets!$P$2,'3) Calculations'!AC112,0),0)","v":0},{"$f":"IF(F112=Datasets!$C$3,IF('3) Calculations'!H112=Datasets!$P$2,'3) Calculations'!AD112,0),0)","v":0},{"$f":"IF(F112=Datasets!$C$3,IF('3) Calculations'!H112=Datasets!$P$2,'3) Calculations'!AE112,0),0)","v":0},{"$f":"IF(F112=Datasets!$C$3,IF('3) Calculations'!H112=Datasets!$P$2,'3) Calculations'!AF112,0),0)","v":0},{"$f":"IF(F112=Datasets!$C$3,IF('3) Calculations'!H112=Datasets!$P$3,'3) Calculations'!AA112,0),0)","v":0},{"$f":"IF(F112=Datasets!$C$3,IF('3) Calculations'!H112=Datasets!$P$3,'3) Calculations'!AB112,0),0)","v":0},{"$f":"IF(F112=Datasets!$C$3,IF('3) Calculations'!H112=Datasets!$P$3,'3) Calculations'!AC112,0),0)","v":0},{"$f":"IF(F112=Datasets!$C$3,IF('3) Calculations'!H112=Datasets!$P$3,'3) Calculations'!AD112,0),0)","v":0},{"$f":"IF(F112=Datasets!$C$3,IF('3) Calculations'!H112=Datasets!$P$3,'3) Calculations'!AE112,0),0)","v":0},{"$f":"IF(F112=Datasets!$C$3,IF('3) Calculations'!H112=Datasets!$P$3,'3) Calculations'!AF112,0),0)","v":0},{"$f":"IF(F112=Datasets!$C$2,IF('3) Calculations'!H112=Datasets!$P$2,'3) Calculations'!AA112,0),0)","v":0},{"$f":"IF(F112=Datasets!$C$2,IF('3) Calculations'!H112=Datasets!$P$2,'3) Calculations'!AB112,0),0)","v":0},{"$f":"IF(F112=Datasets!$C$2,IF('3) Calculations'!H112=Datasets!$P$2,'3) Calculations'!AC112,0),0)","v":0},{"$f":"IF(F112=Datasets!$C$2,IF('3) Calculations'!H112=Datasets!$P$2,'3) Calculations'!AD112,0),0)","v":0},{"$f":"IF(F112=Datasets!$C$2,IF('3) Calculations'!H112=Datasets!$P$2,'3) Calculations'!AE112,0),0)","v":0},{"$f":"IF(F112=Datasets!$C$2,IF('3) Calculations'!H112=Datasets!$P$2,'3) Calculations'!AF112,0),0)","v":0},{"$f":"IF(F112=Datasets!$C$2,IF('3) Calculations'!H112=Datasets!$P$3,'3) Calculations'!AA112,0),0)","v":0},{"$f":"IF(F112=Datasets!$C$2,IF('3) Calculations'!H112=Datasets!$P$3,'3) Calculations'!AB112,0),0)","v":0},{"$f":"IF(F112=Datasets!$C$2,IF('3) Calculations'!H112=Datasets!$P$3,'3) Calculations'!AC112,0),0)","v":0},{"$f":"IF(F112=Datasets!$C$2,IF('3) Calculations'!H112=Datasets!$P$3,'3) Calculations'!AD112,0),0)","v":0},{"$f":"IF(F112=Datasets!$C$2,IF('3) Calculations'!H112=Datasets!$P$3,'3) Calculations'!AE112,0),0)","v":0},{"$f":"IF(F112=Datasets!$C$2,IF('3) Calculations'!H112=Datasets!$P$3,'3) Calculations'!AF112,0),0)","v":0}]
[{"$f":"'3) Dump Pit'!J36","v":"4th Dump Pit"},{"$f":"'3) Dump Pit'!K36","v":0},{"$f":"'3) Dump Pit'!L36","v":0},{"$f":"'3) Dump Pit'!M36","v":0},{"$f":"'3) Dump Pit'!N36","v":0},{"$f":"'3) Dump Pit'!P36","v":0},{"$f":"IF(F49=Datasets!$C$2,IF(H49=Datasets!$P$2,\"uncontrolled1\",\"uncontrolled2\"),'3) Dump Pit'!Q36)","v":0},{"$f":"'3) Dump Pit'!R36","v":0},{"$f":"IF(D113=$J$4,$K$4,IF(D113=$J$5,$K$5,IF(D113=$J$6,$K$6,1)))","v":1},{"$f":"IF(H113=Datasets!$A$2,'3) Calculations'!$Q$6,'3) Calculations'!$Q$4)","v":3.2000000000000001E-2},{"$f":"IF(H113=Datasets!$A$2,'3) Calculations'!$R$6,'3) Calculations'!$R$4)","v":7.7999999999999996E-3},{"$f":"IF(H113=Datasets!$A$2,'3) Calculations'!$S$6,'3) Calculations'!$S$4)","v":1.2999999999999999E-3},{"$f":"E113*'3) Dump Pit'!$N$9/2000","v":0},{"$f":"IF('3) Dump Pit'!N36=0,MIN(M113*8760,$C$4),MIN(M113*8760,$C$4,'3) Dump Pit'!F36))","v":0},0,0,0,0,0,0,0,0,0,0,0,0,0,0,0,0,0,0,0,0,0,0,0,0,null,{"$f":"IF(F113=Datasets!$C$3,IF('3) Calculations'!H113=Datasets!$P$2,'3) Calculations'!M113,0),0)","v":0},{"$f":"IF(F113=Datasets!$C$3,IF('3) Calculations'!H113=Datasets!$P$2,'3) Calculations'!N113,0),0)","v":0},{"$f":"IF(F113=Datasets!$C$3,IF('3) Calculations'!H113=Datasets!$P$3,'3) Calculations'!M113,0),0)","v":0},{"$f":"IF(F113=Datasets!$C$3,IF('3) Calculations'!H113=Datasets!$P$3,'3) Calculations'!N113,0),0)","v":0},{"$f":"IF(F113=Datasets!$C$2,IF('3) Calculations'!H113=Datasets!$P$2,'3) Calculations'!M113,0),0)","v":0},{"$f":"IF(F113=Datasets!$C$2,IF('3) Calculations'!H113=Datasets!$P$2,'3) Calculations'!N113,0),0)","v":0},{"$f":"IF(F113=Datasets!$C$2,IF('3) Calculations'!H113=Datasets!$P$3,'3) Calculations'!M113,0),0)","v":0},{"$f":"IF(F113=Datasets!$C$2,IF('3) Calculations'!H113=Datasets!$P$3,'3) Calculations'!N113,0),0)","v":0},null,{"$f":"IF(F113=Datasets!$C$3,IF('3) Calculations'!H113=Datasets!$P$2,'3) Calculations'!AA113,0),0)","v":0},{"$f":"IF(F113=Datasets!$C$3,IF('3) Calculations'!H113=Datasets!$P$2,'3) Calculations'!AB113,0),0)","v":0},{"$f":"IF(F113=Datasets!$C$3,IF('3) Calculations'!H113=Datasets!$P$2,'3) Calculations'!AC113,0),0)","v":0},{"$f":"IF(F113=Datasets!$C$3,IF('3) Calculations'!H113=Datasets!$P$2,'3) Calculations'!AD113,0),0)","v":0},{"$f":"IF(F113=Datasets!$C$3,IF('3) Calculations'!H113=Datasets!$P$2,'3) Calculations'!AE113,0),0)","v":0},{"$f":"IF(F113=Datasets!$C$3,IF('3) Calculations'!H113=Datasets!$P$2,'3) Calculations'!AF113,0),0)","v":0},{"$f":"IF(F113=Datasets!$C$3,IF('3) Calculations'!H113=Datasets!$P$3,'3) Calculations'!AA113,0),0)","v":0},{"$f":"IF(F113=Datasets!$C$3,IF('3) Calculations'!H113=Datasets!$P$3,'3) Calculations'!AB113,0),0)","v":0},{"$f":"IF(F113=Datasets!$C$3,IF('3) Calculations'!H113=Datasets!$P$3,'3) Calculations'!AC113,0),0)","v":0},{"$f":"IF(F113=Datasets!$C$3,IF('3) Calculations'!H113=Datasets!$P$3,'3) Calculations'!AD113,0),0)","v":0},{"$f":"IF(F113=Datasets!$C$3,IF('3) Calculations'!H113=Datasets!$P$3,'3) Calculations'!AE113,0),0)","v":0},{"$f":"IF(F113=Datasets!$C$3,IF('3) Calculations'!H113=Datasets!$P$3,'3) Calculations'!AF113,0),0)","v":0},{"$f":"IF(F113=Datasets!$C$2,IF('3) Calculations'!H113=Datasets!$P$2,'3) Calculations'!AA113,0),0)","v":0},{"$f":"IF(F113=Datasets!$C$2,IF('3) Calculations'!H113=Datasets!$P$2,'3) Calculations'!AB113,0),0)","v":0},{"$f":"IF(F113=Datasets!$C$2,IF('3) Calculations'!H113=Datasets!$P$2,'3) Calculations'!AC113,0),0)","v":0},{"$f":"IF(F113=Datasets!$C$2,IF('3) Calculations'!H113=Datasets!$P$2,'3) Calculations'!AD113,0),0)","v":0},{"$f":"IF(F113=Datasets!$C$2,IF('3) Calculations'!H113=Datasets!$P$2,'3) Calculations'!AE113,0),0)","v":0},{"$f":"IF(F113=Datasets!$C$2,IF('3) Calculations'!H113=Datasets!$P$2,'3) Calculations'!AF113,0),0)","v":0},{"$f":"IF(F113=Datasets!$C$2,IF('3) Calculations'!H113=Datasets!$P$3,'3) Calculations'!AA113,0),0)","v":0},{"$f":"IF(F113=Datasets!$C$2,IF('3) Calculations'!H113=Datasets!$P$3,'3) Calculations'!AB113,0),0)","v":0},{"$f":"IF(F113=Datasets!$C$2,IF('3) Calculations'!H113=Datasets!$P$3,'3) Calculations'!AC113,0),0)","v":0},{"$f":"IF(F113=Datasets!$C$2,IF('3) Calculations'!H113=Datasets!$P$3,'3) Calculations'!AD113,0),0)","v":0},{"$f":"IF(F113=Datasets!$C$2,IF('3) Calculations'!H113=Datasets!$P$3,'3) Calculations'!AE113,0),0)","v":0},{"$f":"IF(F113=Datasets!$C$2,IF('3) Calculations'!H113=Datasets!$P$3,'3) Calculations'!AF113,0),0)","v":0}]
[{"$f":"'3) Dump Pit'!J37","v":"5th Dump Pit"},{"$f":"'3) Dump Pit'!K37","v":0},{"$f":"'3) Dump Pit'!L37","v":0},{"$f":"'3) Dump Pit'!M37","v":0},{"$f":"'3) Dump Pit'!N37","v":0},{"$f":"'3) Dump Pit'!P37","v":0},{"$f":"IF(F50=Datasets!$C$2,IF(H50=Datasets!$P$2,\"uncontrolled1\",\"uncontrolled2\"),'3) Dump Pit'!Q37)","v":0},{"$f":"'3) Dump Pit'!R37","v":0},1,{"$f":"IF(H114=Datasets!$A$2,'3) Calculations'!$Q$6,'3) Calculations'!$Q$4)","v":3.2000000000000001E-2},{"$f":"IF(H114=Datasets!$A$2,'3) Calculations'!$R$6,'3) Calculations'!$R$4)","v":7.7999999999999996E-3},{"$f":"IF(H114=Datasets!$A$2,'3) Calculations'!$S$6,'3) Calculations'!$S$4)","v":1.2999999999999999E-3},{"$f":"E114*'3) Dump Pit'!$N$9/2000","v":0},{"$f":"IF('3) Dump Pit'!N37=0,MIN(M114*8760,$C$4),MIN(M114*8760,$C$4,'3) Dump Pit'!F37))","v":0},0,0,0,0,0,0,0,0,0,0,0,0,0,0,0,0,0,0,0,0,0,0,0,0,null,{"$f":"IF(F114=Datasets!$C$3,IF('3) Calculations'!H114=Datasets!$P$2,'3) Calculations'!M114,0),0)","v":0},{"$f":"IF(F114=Datasets!$C$3,IF('3) Calculations'!H114=Datasets!$P$2,'3) Calculations'!N114,0),0)","v":0},{"$f":"IF(F114=Datasets!$C$3,IF('3) Calculations'!H114=Datasets!$P$3,'3) Calculations'!M114,0),0)","v":0},{"$f":"IF(F114=Datasets!$C$3,IF('3) Calculations'!H114=Datasets!$P$3,'3) Calculations'!N114,0),0)","v":0},{"$f":"IF(F114=Datasets!$C$2,IF('3) Calculations'!H114=Datasets!$P$2,'3) Calculations'!M114,0),0)","v":0},{"$f":"IF(F114=Datasets!$C$2,IF('3) Calculations'!H114=Datasets!$P$2,'3) Calculations'!N114,0),0)","v":0},{"$f":"IF(F114=Datasets!$C$2,IF('3) Calculations'!H114=Datasets!$P$3,'3) Calculations'!M114,0),0)","v":0},{"$f":"IF(F114=Datasets!$C$2,IF('3) Calculations'!H114=Datasets!$P$3,'3) Calculations'!N114,0),0)","v":0},null,{"$f":"IF(F114=Datasets!$C$3,IF('3) Calculations'!H114=Datasets!$P$2,'3) Calculations'!AA114,0),0)","v":0},{"$f":"IF(F114=Datasets!$C$3,IF('3) Calculations'!H114=Datasets!$P$2,'3) Calculations'!AB114,0),0)","v":0},{"$f":"IF(F114=Datasets!$C$3,IF('3) Calculations'!H114=Datasets!$P$2,'3) Calculations'!AC114,0),0)","v":0},{"$f":"IF(F114=Datasets!$C$3,IF('3) Calculations'!H114=Datasets!$P$2,'3) Calculations'!AD114,0),0)","v":0},{"$f":"IF(F114=Datasets!$C$3,IF('3) Calculations'!H114=Datasets!$P$2,'3) Calculations'!AE114,0),0)","v":0},{"$f":"IF(F114=Datasets!$C$3,IF('3) Calculations'!H114=Datasets!$P$2,'3) Calculations'!AF114,0),0)","v":0},{"$f":"IF(F114=Datasets!$C$3,IF('3) Calculations'!H114=Datasets!$P$3,'3) Calculations'!AA114,0),0)","v":0},{"$f":"IF(F114=Datasets!$C$3,IF('3) Calculations'!H114=Datasets!$P$3,'3) Calculations'!AB114,0),0)","v":0},{"$f":"IF(F114=Datasets!$C$3,IF('3) Calculations'!H114=Datasets!$P$3,'3) Calculations'!AC114,0),0)","v":0},{"$f":"IF(F114=Datasets!$C$3,IF('3) Calculations'!H114=Datasets!$P$3,'3) Calculations'!AD114,0),0)","v":0},{"$f":"IF(F114=Datasets!$C$3,IF('3) Calculations'!H114=Datasets!$P$3,'3) Calculations'!AE114,0),0)","v":0},{"$f":"IF(F114=Datasets!$C$3,IF('3) Calculations'!H114=Datasets!$P$3,'3) Calculations'!AF114,0),0)","v":0},{"$f":"IF(F114=Datasets!$C$2,IF('3) Calculations'!H114=Datasets!$P$2,'3) Calculations'!AA114,0),0)","v":0},{"$f":"IF(F114=Datasets!$C$2,IF('3) Calculations'!H114=Datasets!$P$2,'3) Calculations'!AB114,0),0)","v":0},{"$f":"IF(F114=Datasets!$C$2,IF('3) Calculations'!H114=Datasets!$P$2,'3) Calculations'!AC114,0),0)","v":0},{"$f":"IF(F114=Datasets!$C$2,IF('3) Calculations'!H114=Datasets!$P$2,'3) Calculations'!AD114,0),0)","v":0},{"$f":"IF(F114=Datasets!$C$2,IF('3) Calculations'!H114=Datasets!$P$2,'3) Calculations'!AE114,0),0)","v":0},{"$f":"IF(F114=Datasets!$C$2,IF('3) Calculations'!H114=Datasets!$P$2,'3) Calculations'!AF114,0),0)","v":0},{"$f":"IF(F114=Datasets!$C$2,IF('3) Calculations'!H114=Datasets!$P$3,'3) Calculations'!AA114,0),0)","v":0},{"$f":"IF(F114=Datasets!$C$2,IF('3) Calculations'!H114=Datasets!$P$3,'3) Calculations'!AB114,0),0)","v":0},{"$f":"IF(F114=Datasets!$C$2,IF('3) Calculations'!H114=Datasets!$P$3,'3) Calculations'!AC114,0),0)","v":0},{"$f":"IF(F114=Datasets!$C$2,IF('3) Calculations'!H114=Datasets!$P$3,'3) Calculations'!AD114,0),0)","v":0},{"$f":"IF(F114=Datasets!$C$2,IF('3) Calculations'!H114=Datasets!$P$3,'3) Calculations'!AE114,0),0)","v":0},{"$f":"IF(F114=Datasets!$C$2,IF('3) Calculations'!H114=Datasets!$P$3,'3) Calculations'!AF114,0),0)","v":0}]
[{"$f":"'3) Dump Pit'!J38","v":"6th Dump Pit"},{"$f":"'3) Dump Pit'!K38","v":0},{"$f":"'3) Dump Pit'!L38","v":0},{"$f":"'3) Dump Pit'!M38","v":0},{"$f":"'3) Dump Pit'!N38","v":0},{"$f":"'3) Dump Pit'!P38","v":0},{"$f":"IF(F51=Datasets!$C$2,IF(H51=Datasets!$P$2,\"uncontrolled1\",\"uncontrolled2\"),'3) Dump Pit'!Q38)","v":0},{"$f":"'3) Dump Pit'!R38","v":0},1,{"$f":"IF(H115=Datasets!$A$2,'3) Calculations'!$Q$6,'3) Calculations'!$Q$4)","v":3.2000000000000001E-2},{"$f":"IF(H115=Datasets!$A$2,'3) Calculations'!$R$6,'3) Calculations'!$R$4)","v":7.7999999999999996E-3},{"$f":"IF(H115=Datasets!$A$2,'3) Calculations'!$S$6,'3) Calculations'!$S$4)","v":1.2999999999999999E-3},{"$f":"E115*'3) Dump Pit'!$N$9/2000","v":0},{"$f":"IF('3) Dump Pit'!N38=0,MIN(M115*8760,$C$4),MIN(M115*8760,$C$4,'3) Dump Pit'!F38))","v":0},0,0,0,0,0,0,0,0,0,0,0,0,0,0,0,0,0,0,0,0,0,0,0,0,null,{"$f":"IF(F115=Datasets!$C$3,IF('3) Calculations'!H115=Datasets!$P$2,'3) Calculations'!M115,0),0)","v":0},{"$f":"IF(F115=Datasets!$C$3,IF('3) Calculations'!H115=Datasets!$P$2,'3) Calculations'!N115,0),0)","v":0},{"$f":"IF(F115=Datasets!$C$3,IF('3) Calculations'!H115=Datasets!$P$3,'3) Calculations'!M115,0),0)","v":0},{"$f":"IF(F115=Datasets!$C$3,IF('3) Calculations'!H115=Datasets!$P$3,'3) Calculations'!N115,0),0)","v":0},{"$f":"IF(F115=Datasets!$C$2,IF('3) Calculations'!H115=Datasets!$P$2,'3) Calculations'!M115,0),0)","v":0},{"$f":"IF(F115=Datasets!$C$2,IF('3) Calculations'!H115=Datasets!$P$2,'3) Calculations'!N115,0),0)","v":0},{"$f":"IF(F115=Datasets!$C$2,IF('3) Calculations'!H115=Datasets!$P$3,'3) Calculations'!M115,0),0)","v":0},{"$f":"IF(F115=Datasets!$C$2,IF('3) Calculations'!H115=Datasets!$P$3,'3) Calculations'!N115,0),0)","v":0},null,{"$f":"IF(F115=Datasets!$C$3,IF('3) Calculations'!H115=Datasets!$P$2,'3) Calculations'!AA115,0),0)","v":0},{"$f":"IF(F115=Datasets!$C$3,IF('3) Calculations'!H115=Datasets!$P$2,'3) Calculations'!AB115,0),0)","v":0},{"$f":"IF(F115=Datasets!$C$3,IF('3) Calculations'!H115=Datasets!$P$2,'3) Calculations'!AC115,0),0)","v":0},{"$f":"IF(F115=Datasets!$C$3,IF('3) Calculations'!H115=Datasets!$P$2,'3) Calculations'!AD115,0),0)","v":0},{"$f":"IF(F115=Datasets!$C$3,IF('3) Calculations'!H115=Datasets!$P$2,'3) Calculations'!AE115,0),0)","v":0},{"$f":"IF(F115=Datasets!$C$3,IF('3) Calculations'!H115=Datasets!$P$2,'3) Calculations'!AF115,0),0)","v":0},{"$f":"IF(F115=Datasets!$C$3,IF('3) Calculations'!H115=Datasets!$P$3,'3) Calculations'!AA115,0),0)","v":0},{"$f":"IF(F115=Datasets!$C$3,IF('3) Calculations'!H115=Datasets!$P$3,'3) Calculations'!AB115,0),0)","v":0},{"$f":"IF(F115=Datasets!$C$3,IF('3) Calculations'!H115=Datasets!$P$3,'3) Calculations'!AC115,0),0)","v":0},{"$f":"IF(F115=Datasets!$C$3,IF('3) Calculations'!H115=Datasets!$P$3,'3) Calculations'!AD115,0),0)","v":0},{"$f":"IF(F115=Datasets!$C$3,IF('3) Calculations'!H115=Datasets!$P$3,'3) Calculations'!AE115,0),0)","v":0},{"$f":"IF(F115=Datasets!$C$3,IF('3) Calculations'!H115=Datasets!$P$3,'3) Calculations'!AF115,0),0)","v":0},{"$f":"IF(F115=Datasets!$C$2,IF('3) Calculations'!H115=Datasets!$P$2,'3) Calculations'!AA115,0),0)","v":0},{"$f":"IF(F115=Datasets!$C$2,IF('3) Calculations'!H115=Datasets!$P$2,'3) Calculations'!AB115,0),0)","v":0},{"$f":"IF(F115=Datasets!$C$2,IF('3) Calculations'!H115=Datasets!$P$2,'3) Calculations'!AC115,0),0)","v":0},{"$f":"IF(F115=Datasets!$C$2,IF('3) Calculations'!H115=Datasets!$P$2,'3) Calculations'!AD115,0),0)","v":0},{"$f":"IF(F115=Datasets!$C$2,IF('3) Calculations'!H115=Datasets!$P$2,'3) Calculations'!AE115,0),0)","v":0},{"$f":"IF(F115=Datasets!$C$2,IF('3) Calculations'!H115=Datasets!$P$2,'3) Calculations'!AF115,0),0)","v":0},{"$f":"IF(F115=Datasets!$C$2,IF('3) Calculations'!H115=Datasets!$P$3,'3) Calculations'!AA115,0),0)","v":0},{"$f":"IF(F115=Datasets!$C$2,IF('3) Calculations'!H115=Datasets!$P$3,'3) Calculations'!AB115,0),0)","v":0},{"$f":"IF(F115=Datasets!$C$2,IF('3) Calculations'!H115=Datasets!$P$3,'3) Calculations'!AC115,0),0)","v":0},{"$f":"IF(F115=Datasets!$C$2,IF('3) Calculations'!H115=Datasets!$P$3,'3) Calculations'!AD115,0),0)","v":0},{"$f":"IF(F115=Datasets!$C$2,IF('3) Calculations'!H115=Datasets!$P$3,'3) Calculations'!AE115,0),0)","v":0},{"$f":"IF(F115=Datasets!$C$2,IF('3) Calculations'!H115=Datasets!$P$3,'3) Calculations'!AF115,0),0)","v":0}]
[{"$f":"'3) Dump Pit'!J39","v":"7th Dump Pit"},{"$f":"'3) Dump Pit'!K39","v":0},{"$f":"'3) Dump Pit'!L39","v":0},{"$f":"'3) Dump Pit'!M39","v":0},{"$f":"'3) Dump Pit'!N39","v":0},{"$f":"'3) Dump Pit'!P39","v":0},{"$f":"IF(F52=Datasets!$C$2,IF(H52=Datasets!$P$2,\"uncontrolled1\",\"uncontrolled2\"),'3) Dump Pit'!Q39)","v":0},{"$f":"'3) Dump Pit'!R39","v":0},1,{"$f":"IF(H116=Datasets!$A$2,'3) Calculations'!$Q$6,'3) Calculations'!$Q$4)","v":3.2000000000000001E-2},{"$f":"IF(H116=Datasets!$A$2,'3) Calculations'!$R$6,'3) Calculations'!$R$4)","v":7.7999999999999996E-3},{"$f":"IF(H116=Datasets!$A$2,'3) Calculations'!$S$6,'3) Calculations'!$S$4)","v":1.2999999999999999E-3},{"$f":"E116*'3) Dump Pit'!$N$9/2000","v":0},{"$f":"IF('3) Dump Pit'!N39=0,MIN(M116*8760,$C$4),MIN(M116*8760,$C$4,'3) Dump Pit'!F39))","v":0},0,0,0,0,0,0,0,0,0,0,0,0,0,0,0,0,0,0,0,0,0,0,0,0,null,{"$f":"IF(F116=Datasets!$C$3,IF('3) Calculations'!H116=Datasets!$P$2,'3) Calculations'!M116,0),0)","v":0},{"$f":"IF(F116=Datasets!$C$3,IF('3) Calculations'!H116=Datasets!$P$2,'3) Calculations'!N116,0),0)","v":0},{"$f":"IF(F116=Datasets!$C$3,IF('3) Calculations'!H116=Datasets!$P$3,'3) Calculations'!M116,0),0)","v":0},{"$f":"IF(F116=Datasets!$C$3,IF('3) Calculations'!H116=Datasets!$P$3,'3) Calculations'!N116,0),0)","v":0},{"$f":"IF(F116=Datasets!$C$2,IF('3) Calculations'!H116=Datasets!$P$2,'3) Calculations'!M116,0),0)","v":0},{"$f":"IF(F116=Datasets!$C$2,IF('3) Calculations'!H116=Datasets!$P$2,'3) Calculations'!N116,0),0)","v":0},{"$f":"IF(F116=Datasets!$C$2,IF('3) Calculations'!H116=Datasets!$P$3,'3) Calculations'!M116,0),0)","v":0},{"$f":"IF(F116=Datasets!$C$2,IF('3) Calculations'!H116=Datasets!$P$3,'3) Calculations'!N116,0),0)","v":0},null,{"$f":"IF(F116=Datasets!$C$3,IF('3) Calculations'!H116=Datasets!$P$2,'3) Calculations'!AA116,0),0)","v":0},{"$f":"IF(F116=Datasets!$C$3,IF('3) Calculations'!H116=Datasets!$P$2,'3) Calculations'!AB116,0),0)","v":0},{"$f":"IF(F116=Datasets!$C$3,IF('3) Calculations'!H116=Datasets!$P$2,'3) Calculations'!AC116,0),0)","v":0},{"$f":"IF(F116=Datasets!$C$3,IF('3) Calculations'!H116=Datasets!$P$2,'3) Calculations'!AD116,0),0)","v":0},{"$f":"IF(F116=Datasets!$C$3,IF('3) Calculations'!H116=Datasets!$P$2,'3) Calculations'!AE116,0),0)","v":0},{"$f":"IF(F116=Datasets!$C$3,IF('3) Calculations'!H116=Datasets!$P$2,'3) Calculations'!AF116,0),0)","v":0},{"$f":"IF(F116=Datasets!$C$3,IF('3) Calculations'!H116=Datasets!$P$3,'3) Calculations'!AA116,0),0)","v":0},{"$f":"IF(F116=Datasets!$C$3,IF('3) Calculations'!H116=Datasets!$P$3,'3) Calculations'!AB116,0),0)","v":0},{"$f":"IF(F116=Datasets!$C$3,IF('3) Calculations'!H116=Datasets!$P$3,'3) Calculations'!AC116,0),0)","v":0},{"$f":"IF(F116=Datasets!$C$3,IF('3) Calculations'!H116=Datasets!$P$3,'3) Calculations'!AD116,0),0)","v":0},{"$f":"IF(F116=Datasets!$C$3,IF('3) Calculations'!H116=Datasets!$P$3,'3) Calculations'!AE116,0),0)","v":0},{"$f":"IF(F116=Datasets!$C$3,IF('3) Calculations'!H116=Datasets!$P$3,'3) Calculations'!AF116,0),0)","v":0},{"$f":"IF(F116=Datasets!$C$2,IF('3) Calculations'!H116=Datasets!$P$2,'3) Calculations'!AA116,0),0)","v":0},{"$f":"IF(F116=Datasets!$C$2,IF('3) Calculations'!H116=Datasets!$P$2,'3) Calculations'!AB116,0),0)","v":0},{"$f":"IF(F116=Datasets!$C$2,IF('3) Calculations'!H116=Datasets!$P$2,'3) Calculations'!AC116,0),0)","v":0},{"$f":"IF(F116=Datasets!$C$2,IF('3) Calculations'!H116=Datasets!$P$2,'3) Calculations'!AD116,0),0)","v":0},{"$f":"IF(F116=Datasets!$C$2,IF('3) Calculations'!H116=Datasets!$P$2,'3) Calculations'!AE116,0),0)","v":0},{"$f":"IF(F116=Datasets!$C$2,IF('3) Calculations'!H116=Datasets!$P$2,'3) Calculations'!AF116,0),0)","v":0},{"$f":"IF(F116=Datasets!$C$2,IF('3) Calculations'!H116=Datasets!$P$3,'3) Calculations'!AA116,0),0)","v":0},{"$f":"IF(F116=Datasets!$C$2,IF('3) Calculations'!H116=Datasets!$P$3,'3) Calculations'!AB116,0),0)","v":0},{"$f":"IF(F116=Datasets!$C$2,IF('3) Calculations'!H116=Datasets!$P$3,'3) Calculations'!AC116,0),0)","v":0},{"$f":"IF(F116=Datasets!$C$2,IF('3) Calculations'!H116=Datasets!$P$3,'3) Calculations'!AD116,0),0)","v":0},{"$f":"IF(F116=Datasets!$C$2,IF('3) Calculations'!H116=Datasets!$P$3,'3) Calculations'!AE116,0),0)","v":0},{"$f":"IF(F116=Datasets!$C$2,IF('3) Calculations'!H116=Datasets!$P$3,'3) Calculations'!AF116,0),0)","v":0}]
[{"$f":"'3) Dump Pit'!J40","v":"8th Dump Pit"},{"$f":"'3) Dump Pit'!K40","v":0},{"$f":"'3) Dump Pit'!L40","v":0},{"$f":"'3) Dump Pit'!M40","v":0},{"$f":"'3) Dump Pit'!N40","v":0},{"$f":"'3) Dump Pit'!P40","v":0},{"$f":"IF(F53=Datasets!$C$2,IF(H53=Datasets!$P$2,\"uncontrolled1\",\"uncontrolled2\"),'3) Dump Pit'!Q40)","v":0},{"$f":"'3) Dump Pit'!R40","v":0},1,{"$f":"IF(H117=Datasets!$A$2,'3) Calculations'!$Q$6,'3) Calculations'!$Q$4)","v":3.2000000000000001E-2},{"$f":"IF(H117=Datasets!$A$2,'3) Calculations'!$R$6,'3) Calculations'!$R$4)","v":7.7999999999999996E-3},{"$f":"IF(H117=Datasets!$A$2,'3) Calculations'!$S$6,'3) Calculations'!$S$4)","v":1.2999999999999999E-3},{"$f":"E117*'3) Dump Pit'!$N$9/2000","v":0},{"$f":"IF('3) Dump Pit'!N40=0,MIN(M117*8760,$C$4),MIN(M117*8760,$C$4,'3) Dump Pit'!F40))","v":0},0,0,0,0,0,0,0,0,0,0,0,0,0,0,0,0,0,0,0,0,0,0,0,0,null,{"$f":"IF(F117=Datasets!$C$3,IF('3) Calculations'!H117=Datasets!$P$2,'3) Calculations'!M117,0),0)","v":0},{"$f":"IF(F117=Datasets!$C$3,IF('3) Calculations'!H117=Datasets!$P$2,'3) Calculations'!N117,0),0)","v":0},{"$f":"IF(F117=Datasets!$C$3,IF('3) Calculations'!H117=Datasets!$P$3,'3) Calculations'!M117,0),0)","v":0},{"$f":"IF(F117=Datasets!$C$3,IF('3) Calculations'!H117=Datasets!$P$3,'3) Calculations'!N117,0),0)","v":0},{"$f":"IF(F117=Datasets!$C$2,IF('3) Calculations'!H117=Datasets!$P$2,'3) Calculations'!M117,0),0)","v":0},{"$f":"IF(F117=Datasets!$C$2,IF('3) Calculations'!H117=Datasets!$P$2,'3) Calculations'!N117,0),0)","v":0},{"$f":"IF(F117=Datasets!$C$2,IF('3) Calculations'!H117=Datasets!$P$3,'3) Calculations'!M117,0),0)","v":0},{"$f":"IF(F117=Datasets!$C$2,IF('3) Calculations'!H117=Datasets!$P$3,'3) Calculations'!N117,0),0)","v":0},null,{"$f":"IF(F117=Datasets!$C$3,IF('3) Calculations'!H117=Datasets!$P$2,'3) Calculations'!AA117,0),0)","v":0},{"$f":"IF(F117=Datasets!$C$3,IF('3) Calculations'!H117=Datasets!$P$2,'3) Calculations'!AB117,0),0)","v":0},{"$f":"IF(F117=Datasets!$C$3,IF('3) Calculations'!H117=Datasets!$P$2,'3) Calculations'!AC117,0),0)","v":0},{"$f":"IF(F117=Datasets!$C$3,IF('3) Calculations'!H117=Datasets!$P$2,'3) Calculations'!AD117,0),0)","v":0},{"$f":"IF(F117=Datasets!$C$3,IF('3) Calculations'!H117=Datasets!$P$2,'3) Calculations'!AE117,0),0)","v":0},{"$f":"IF(F117=Datasets!$C$3,IF('3) Calculations'!H117=Datasets!$P$2,'3) Calculations'!AF117,0),0)","v":0},{"$f":"IF(F117=Datasets!$C$3,IF('3) Calculations'!H117=Datasets!$P$3,'3) Calculations'!AA117,0),0)","v":0},{"$f":"IF(F117=Datasets!$C$3,IF('3) Calculations'!H117=Datasets!$P$3,'3) Calculations'!AB117,0),0)","v":0},{"$f":"IF(F117=Datasets!$C$3,IF('3) Calculations'!H117=Datasets!$P$3,'3) Calculations'!AC117,0),0)","v":0},{"$f":"IF(F117=Datasets!$C$3,IF('3) Calculations'!H117=Datasets!$P$3,'3) Calculations'!AD117,0),0)","v":0},{"$f":"IF(F117=Datasets!$C$3,IF('3) Calculations'!H117=Datasets!$P$3,'3) Calculations'!AE117,0),0)","v":0},{"$f":"IF(F117=Datasets!$C$3,IF('3) Calculations'!H117=Datasets!$P$3,'3) Calculations'!AF117,0),0)","v":0},{"$f":"IF(F117=Datasets!$C$2,IF('3) Calculations'!H117=Datasets!$P$2,'3) Calculations'!AA117,0),0)","v":0},{"$f":"IF(F117=Datasets!$C$2,IF('3) Calculations'!H117=Datasets!$P$2,'3) Calculations'!AB117,0),0)","v":0},{"$f":"IF(F117=Datasets!$C$2,IF('3) Calculations'!H117=Datasets!$P$2,'3) Calculations'!AC117,0),0)","v":0},{"$f":"IF(F117=Datasets!$C$2,IF('3) Calculations'!H117=Datasets!$P$2,'3) Calculations'!AD117,0),0)","v":0},{"$f":"IF(F117=Datasets!$C$2,IF('3) Calculations'!H117=Datasets!$P$2,'3) Calculations'!AE117,0),0)","v":0},{"$f":"IF(F117=Datasets!$C$2,IF('3) Calculations'!H117=Datasets!$P$2,'3) Calculations'!AF117,0),0)","v":0},{"$f":"IF(F117=Datasets!$C$2,IF('3) Calculations'!H117=Datasets!$P$3,'3) Calculations'!AA117,0),0)","v":0},{"$f":"IF(F117=Datasets!$C$2,IF('3) Calculations'!H117=Datasets!$P$3,'3) Calculations'!AB117,0),0)","v":0},{"$f":"IF(F117=Datasets!$C$2,IF('3) Calculations'!H117=Datasets!$P$3,'3) Calculations'!AC117,0),0)","v":0},{"$f":"IF(F117=Datasets!$C$2,IF('3) Calculations'!H117=Datasets!$P$3,'3) Calculations'!AD117,0),0)","v":0},{"$f":"IF(F117=Datasets!$C$2,IF('3) Calculations'!H117=Datasets!$P$3,'3) Calculations'!AE117,0),0)","v":0},{"$f":"IF(F117=Datasets!$C$2,IF('3) Calculations'!H117=Datasets!$P$3,'3) Calculations'!AF117,0),0)","v":0}]
[{"$f":"'3) Dump Pit'!J41","v":"9th Dump Pit"},{"$f":"'3) Dump Pit'!K41","v":0},{"$f":"'3) Dump Pit'!L41","v":0},{"$f":"'3) Dump Pit'!M41","v":0},{"$f":"'3) Dump Pit'!N41","v":0},{"$f":"'3) Dump Pit'!P41","v":0},{"$f":"IF(F54=Datasets!$C$2,IF(H54=Datasets!$P$2,\"uncontrolled1\",\"uncontrolled2\"),'3) Dump Pit'!Q41)","v":0},{"$f":"'3) Dump Pit'!R41","v":0},1,{"$f":"IF(H118=Datasets!$A$2,'3) Calculations'!$Q$6,'3) Calculations'!$Q$4)","v":3.2000000000000001E-2},{"$f":"IF(H118=Datasets!$A$2,'3) Calculations'!$R$6,'3) Calculations'!$R$4)","v":7.7999999999999996E-3},{"$f":"IF(H118=Datasets!$A$2,'3) Calculations'!$S$6,'3) Calculations'!$S$4)","v":1.2999999999999999E-3},{"$f":"E118*'3) Dump Pit'!$N$9/2000","v":0},{"$f":"IF('3) Dump Pit'!N41=0,MIN(M118*8760,$C$4),MIN(M118*8760,$C$4,'3) Dump Pit'!F41))","v":0},0,0,0,0,0,0,0,0,0,0,0,0,0,0,0,0,0,0,0,0,0,0,0,0,null,{"$f":"IF(F118=Datasets!$C$3,IF('3) Calculations'!H118=Datasets!$P$2,'3) Calculations'!M118,0),0)","v":0},{"$f":"IF(F118=Datasets!$C$3,IF('3) Calculations'!H118=Datasets!$P$2,'3) Calculations'!N118,0),0)","v":0},{"$f":"IF(F118=Datasets!$C$3,IF('3) Calculations'!H118=Datasets!$P$3,'3) Calculations'!M118,0),0)","v":0},{"$f":"IF(F118=Datasets!$C$3,IF('3) Calculations'!H118=Datasets!$P$3,'3) Calculations'!N118,0),0)","v":0},{"$f":"IF(F118=Datasets!$C$2,IF('3) Calculations'!H118=Datasets!$P$2,'3) Calculations'!M118,0),0)","v":0},{"$f":"IF(F118=Datasets!$C$2,IF('3) Calculations'!H118=Datasets!$P$2,'3) Calculations'!N118,0),0)","v":0},{"$f":"IF(F118=Datasets!$C$2,IF('3) Calculations'!H118=Datasets!$P$3,'3) Calculations'!M118,0),0)","v":0},{"$f":"IF(F118=Datasets!$C$2,IF('3) Calculations'!H118=Datasets!$P$3,'3) Calculations'!N118,0),0)","v":0},null,{"$f":"IF(F118=Datasets!$C$3,IF('3) Calculations'!H118=Datasets!$P$2,'3) Calculations'!AA118,0),0)","v":0},{"$f":"IF(F118=Datasets!$C$3,IF('3) Calculations'!H118=Datasets!$P$2,'3) Calculations'!AB118,0),0)","v":0},{"$f":"IF(F118=Datasets!$C$3,IF('3) Calculations'!H118=Datasets!$P$2,'3) Calculations'!AC118,0),0)","v":0},{"$f":"IF(F118=Datasets!$C$3,IF('3) Calculations'!H118=Datasets!$P$2,'3) Calculations'!AD118,0),0)","v":0},{"$f":"IF(F118=Datasets!$C$3,IF('3) Calculations'!H118=Datasets!$P$2,'3) Calculations'!AE118,0),0)","v":0},{"$f":"IF(F118=Datasets!$C$3,IF('3) Calculations'!H118=Datasets!$P$2,'3) Calculations'!AF118,0),0)","v":0},{"$f":"IF(F118=Datasets!$C$3,IF('3) Calculations'!H118=Datasets!$P$3,'3) Calculations'!AA118,0),0)","v":0},{"$f":"IF(F118=Datasets!$C$3,IF('3) Calculations'!H118=Datasets!$P$3,'3) Calculations'!AB118,0),0)","v":0},{"$f":"IF(F118=Datasets!$C$3,IF('3) Calculations'!H118=Datasets!$P$3,'3) Calculations'!AC118,0),0)","v":0},{"$f":"IF(F118=Datasets!$C$3,IF('3) Calculations'!H118=Datasets!$P$3,'3) Calculations'!AD118,0),0)","v":0},{"$f":"IF(F118=Datasets!$C$3,IF('3) Calculations'!H118=Datasets!$P$3,'3) Calculations'!AE118,0),0)","v":0},{"$f":"IF(F118=Datasets!$C$3,IF('3) Calculations'!H118=Datasets!$P$3,'3) Calculations'!AF118,0),0)","v":0},{"$f":"IF(F118=Datasets!$C$2,IF('3) Calculations'!H118=Datasets!$P$2,'3) Calculations'!AA118,0),0)","v":0},{"$f":"IF(F118=Datasets!$C$2,IF('3) Calculations'!H118=Datasets!$P$2,'3) Calculations'!AB118,0),0)","v":0},{"$f":"IF(F118=Datasets!$C$2,IF('3) Calculations'!H118=Datasets!$P$2,'3) Calculations'!AC118,0),0)","v":0},{"$f":"IF(F118=Datasets!$C$2,IF('3) Calculations'!H118=Datasets!$P$2,'3) Calculations'!AD118,0),0)","v":0},{"$f":"IF(F118=Datasets!$C$2,IF('3) Calculations'!H118=Datasets!$P$2,'3) Calculations'!AE118,0),0)","v":0},{"$f":"IF(F118=Datasets!$C$2,IF('3) Calculations'!H118=Datasets!$P$2,'3) Calculations'!AF118,0),0)","v":0},{"$f":"IF(F118=Datasets!$C$2,IF('3) Calculations'!H118=Datasets!$P$3,'3) Calculations'!AA118,0),0)","v":0},{"$f":"IF(F118=Datasets!$C$2,IF('3) Calculations'!H118=Datasets!$P$3,'3) Calculations'!AB118,0),0)","v":0},{"$f":"IF(F118=Datasets!$C$2,IF('3) Calculations'!H118=Datasets!$P$3,'3) Calculations'!AC118,0),0)","v":0},{"$f":"IF(F118=Datasets!$C$2,IF('3) Calculations'!H118=Datasets!$P$3,'3) Calculations'!AD118,0),0)","v":0},{"$f":"IF(F118=Datasets!$C$2,IF('3) Calculations'!H118=Datasets!$P$3,'3) Calculations'!AE118,0),0)","v":0},{"$f":"IF(F118=Datasets!$C$2,IF('3) Calculations'!H118=Datasets!$P$3,'3) Calculations'!AF118,0),0)","v":0}]
[{"$f":"'3) Dump Pit'!J42","v":"10th Dump Pit"},{"$f":"'3) Dump Pit'!K42","v":0},{"$f":"'3) Dump Pit'!L42","v":0},{"$f":"'3) Dump Pit'!M42","v":0},{"$f":"'3) Dump Pit'!N42","v":0},{"$f":"'3) Dump Pit'!P42","v":0},{"$f":"IF(F55=Datasets!$C$2,IF(H55=Datasets!$P$2,\"uncontrolled1\",\"uncontrolled2\"),'3) Dump Pit'!Q42)","v":0},{"$f":"'3) Dump Pit'!R42","v":0},1,{"$f":"IF(H119=Datasets!$A$2,'3) Calculations'!$Q$6,'3) Calculations'!$Q$4)","v":3.2000000000000001E-2},{"$f":"IF(H119=Datasets!$A$2,'3) Calculations'!$R$6,'3) Calculations'!$R$4)","v":7.7999999999999996E-3},{"$f":"IF(H119=Datasets!$A$2,'3) Calculations'!$S$6,'3) Calculations'!$S$4)","v":1.2999999999999999E-3},{"$f":"E119*'3) Dump Pit'!$N$9/2000","v":0},{"$f":"IF('3) Dump Pit'!N42=0,MIN(M119*8760,$C$4),MIN(M119*8760,$C$4,'3) Dump Pit'!F42))","v":0},0,0,0,0,0,0,0,0,0,0,0,0,0,0,0,0,0,0,0,0,0,0,0,0,null,{"$f":"IF(F119=Datasets!$C$3,IF('3) Calculations'!H119=Datasets!$P$2,'3) Calculations'!M119,0),0)","v":0},{"$f":"IF(F119=Datasets!$C$3,IF('3) Calculations'!H119=Datasets!$P$2,'3) Calculations'!N119,0),0)","v":0},{"$f":"IF(F119=Datasets!$C$3,IF('3) Calculations'!H119=Datasets!$P$3,'3) Calculations'!M119,0),0)","v":0},{"$f":"IF(F119=Datasets!$C$3,IF('3) Calculations'!H119=Datasets!$P$3,'3) Calculations'!N119,0),0)","v":0},{"$f":"IF(F119=Datasets!$C$2,IF('3) Calculations'!H119=Datasets!$P$2,'3) Calculations'!M119,0),0)","v":0},{"$f":"IF(F119=Datasets!$C$2,IF('3) Calculations'!H119=Datasets!$P$2,'3) Calculations'!N119,0),0)","v":0},{"$f":"IF(F119=Datasets!$C$2,IF('3) Calculations'!H119=Datasets!$P$3,'3) Calculations'!M119,0),0)","v":0},{"$f":"IF(F119=Datasets!$C$2,IF('3) Calculations'!H119=Datasets!$P$3,'3) Calculations'!N119,0),0)","v":0},null,{"$f":"IF(F119=Datasets!$C$3,IF('3) Calculations'!H119=Datasets!$P$2,'3) Calculations'!AA119,0),0)","v":0},{"$f":"IF(F119=Datasets!$C$3,IF('3) Calculations'!H119=Datasets!$P$2,'3) Calculations'!AB119,0),0)","v":0},{"$f":"IF(F119=Datasets!$C$3,IF('3) Calculations'!H119=Datasets!$P$2,'3) Calculations'!AC119,0),0)","v":0},{"$f":"IF(F119=Datasets!$C$3,IF('3) Calculations'!H119=Datasets!$P$2,'3) Calculations'!AD119,0),0)","v":0},{"$f":"IF(F119=Datasets!$C$3,IF('3) Calculations'!H119=Datasets!$P$2,'3) Calculations'!AE119,0),0)","v":0},{"$f":"IF(F119=Datasets!$C$3,IF('3) Calculations'!H119=Datasets!$P$2,'3) Calculations'!AF119,0),0)","v":0},{"$f":"IF(F119=Datasets!$C$3,IF('3) Calculations'!H119=Datasets!$P$3,'3) Calculations'!AA119,0),0)","v":0},{"$f":"IF(F119=Datasets!$C$3,IF('3) Calculations'!H119=Datasets!$P$3,'3) Calculations'!AB119,0),0)","v":0},{"$f":"IF(F119=Datasets!$C$3,IF('3) Calculations'!H119=Datasets!$P$3,'3) Calculations'!AC119,0),0)","v":0},{"$f":"IF(F119=Datasets!$C$3,IF('3) Calculations'!H119=Datasets!$P$3,'3) Calculations'!AD119,0),0)","v":0},{"$f":"IF(F119=Datasets!$C$3,IF('3) Calculations'!H119=Datasets!$P$3,'3) Calculations'!AE119,0),0)","v":0},{"$f":"IF(F119=Datasets!$C$3,IF('3) Calculations'!H119=Datasets!$P$3,'3) Calculations'!AF119,0),0)","v":0},{"$f":"IF(F119=Datasets!$C$2,IF('3) Calculations'!H119=Datasets!$P$2,'3) Calculations'!AA119,0),0)","v":0},{"$f":"IF(F119=Datasets!$C$2,IF('3) Calculations'!H119=Datasets!$P$2,'3) Calculations'!AB119,0),0)","v":0},{"$f":"IF(F119=Datasets!$C$2,IF('3) Calculations'!H119=Datasets!$P$2,'3) Calculations'!AC119,0),0)","v":0},{"$f":"IF(F119=Datasets!$C$2,IF('3) Calculations'!H119=Datasets!$P$2,'3) Calculations'!AD119,0),0)","v":0},{"$f":"IF(F119=Datasets!$C$2,IF('3) Calculations'!H119=Datasets!$P$2,'3) Calculations'!AE119,0),0)","v":0},{"$f":"IF(F119=Datasets!$C$2,IF('3) Calculations'!H119=Datasets!$P$2,'3) Calculations'!AF119,0),0)","v":0},{"$f":"IF(F119=Datasets!$C$2,IF('3) Calculations'!H119=Datasets!$P$3,'3) Calculations'!AA119,0),0)","v":0},{"$f":"IF(F119=Datasets!$C$2,IF('3) Calculations'!H119=Datasets!$P$3,'3) Calculations'!AB119,0),0)","v":0},{"$f":"IF(F119=Datasets!$C$2,IF('3) Calculations'!H119=Datasets!$P$3,'3) Calculations'!AC119,0),0)","v":0},{"$f":"IF(F119=Datasets!$C$2,IF('3) Calculations'!H119=Datasets!$P$3,'3) Calculations'!AD119,0),0)","v":0},{"$f":"IF(F119=Datasets!$C$2,IF('3) Calculations'!H119=Datasets!$P$3,'3) Calculations'!AE119,0),0)","v":0},{"$f":"IF(F119=Datasets!$C$2,IF('3) Calculations'!H119=Datasets!$P$3,'3) Calculations'!AF119,0),0)","v":0}]
[null,null,null,null,null,null,null,null,null,null,null,null,{"$f":"E120*'3) Dump Pit'!$N$9/2000","v":0}]
["Uncontrolled Grain Handling Emissions",null,null,null,{"$f":"'3) Dump Pit'!M16","v":0},null,null,null,1,0.12992999999999999,7.2419999999999998E-2,1.2354E-2,{"$f":"E121*'3) Dump Pit'!$N$9/2000","v":0},{"$f":"IF('3) Dump Pit'!O16=0,MIN(M121*8760,$C$4),MIN(M121*8760,$C$4,'3) Dump Pit'!O16))","v":0},{"$f":"M121*J121","v":0},{"$f":"M121*K121","v":0},{"$f":"M121*L121","v":0},{"$f":"J121*N121/2000","v":0},{"$f":"K121*N121/2000","v":0},{"$f":"L121*N121/2000","v":0},{"$f":"O121*I121","v":0},{"$f":"P121*I121","v":0},{"$f":"Q121*I121","v":0},{"$f":"R121*I121","v":0},{"$f":"S121*I121","v":0},{"$f":"T121*I121","v":0},{"$f":"O121-U121","v":0},{"$f":"P121-V121","v":0},{"$f":"Q121-W121","v":0},{"$f":"R121-X121","v":0},{"$f":"S121-Y121","v":0},{"$f":"T121-Z121","v":0},{"$f":"IF(F121=\"Baghouse\",U121*(1-$N$4),U121)","v":0},{"$f":"IF(F121=\"Baghouse\",V121*(1-$N$4),V121)","v":0},{"$f":"IF(F121=\"Baghouse\",W121*(1-$N$4),W121)","v":0},{"$f":"IF(F121=\"Baghouse\",X121*(1-$N$4),X121)","v":0},{"$f":"IF(F121=\"Baghouse\",Y121*(1-$N$4),Y121)","v":0},{"$f":"IF(F121=\"Baghouse\",Z121*(1-$N$4),Z121)","v":0}]
["Controlled Grain Handling Emissions",null,null,null,{"$f":"SUM('3) Dump Pit'!P20:P29)","v":0},"Baghouse",null,null,1,0.12992999999999999,7.2419999999999998E-2,1.2354E-2,{"$f":"E122*'3) Dump Pit'!$N$9/2000","v":0},{"$f":"SUM('3) Dump Pit'!Q20:Q29)","v":0},{"$f":"M122*J122","v":0},{"$f":"M122*K122","v":0},{"$f":"M122*L122","v":0},0,0,0,{"$f":"O122*I122","v":0},{"$f":"P122*I122","v":0},{"$f":"Q122*I122","v":0},{"$f":"R122*I122","v":0},{"$f":"S122*I122","v":0},{"$f":"T122*I122","v":0},0,0,0,0,0,0,{"$f":"IF(F122=\"Baghouse\",U122*(1-$N$4),U122)","v":0},{"$f":"IF(F122=\"Baghouse\",V122*(1-$N$4),V122)","v":0},{"$f":"IF(F122=\"Baghouse\",W122*(1-$N$4),W122)","v":0},{"$f":"IF(F122=\"Baghouse\",X122*(1-$N$4),X122)","v":0},{"$f":"IF(F122=\"Baghouse\",Y122*(1-$N$4),Y122)","v":0},{"$f":"IF(F122=\"Baghouse\",Z122*(1-$N$4),Z122)","v":0},null,{"$f":"SUM(AN110:AN119)","v":0},{"$f":"SUM(AO110:AO119)","v":0},0,0,0,0,0,0,null,{"$f":"SUM(AW110:AW119)","v":0},0,0,0,0,0,0,0,0,0,0,0,0,0,0,0,0,0,0,0,0,0,0,0]
["(A) = Default NDEQ Emission Factor from Table above",null,null,null,"(D) = (A) x (B)",null,"(H) = (D)  - (F)",null,null,null,null,null,null,null,null,null,null,null,null,null,null,null,null,null,"Sum",null,{"$f":"SUM(AA121:AA122)","v":0},{"$f":"SUM(AB121:AB122)","v":0},{"$f":"SUM(AC121:AC122)","v":0},{"$f":"SUM(AD121:AD122)","v":0},{"$f":"SUM(AE121:AE122)","v":0},{"$f":"SUM(AF121:AF122)","v":0},{"$f":"SUM(AG121:AG122)","v":0},{"$f":"SUM(AH121:AH122)","v":0},{"$f":"SUM(AI121:AI122)","v":0},{"$f":"SUM(AJ121:AJ122)","v":0},{"$f":"SUM(AK121:AK122)","v":0},{"$f":"SUM(AL121:AL122)","v":0},null,"* Summary by receiving type"]
["(B) = Max. grain receiving (bu/hr) x Corn density (56 lb/bu)/2000",null,null,null,"(E) = (A) x (C)",null,"(I) = (E)  - (G)"]
["(C) = Min. of permitted Grain Throughput per year & 8760 x (B)",null,null,null,"(F) = (D) x capture eff.",null,"(J) = (F) x (100% - Control Eff.)"]
[null,null,null,null,"(G) = (E) x capture eff.",null,"(K) = (G) x (100% - Control Eff.)"]
[]
["Emission Point Description",null,"Hourly Throughput","Annual Throughput ","Uncaptured Emissions (lb/hr)",null,null,"Uncaptured Emissions (ton/yr)"]
[null,null,"(A)            (tons/hour)[1]","(B)        (tons/year)[1]","PM","PM10","PM2.5","PM","PM10","PM2.5"]
[" Truck Grain Receiving Fugitives - Baghouse",null,{"$f":"AN122","v":0},{"$f":"AO122","v":0},{"$f":"AW122","v":0},{"$f":"AX122","v":0},{"$f":"AY122","v":0},{"$f":"AZ122","v":0},{"$f":"BA122","v":0},{"$f":"BB122","v":0}]
[]
[]
[" Rail Grain Receiving Fugitives - Baghouse",null,{"$f":"AP122","v":0},{"$f":"AQ122","v":0},{"$f":"BC122","v":0},{"$f":"BD122","v":0},{"$f":"BE122","v":0},{"$f":"BF122","v":0},{"$f":"BG122","v":0},{"$f":"BH122","v":0}]
[]
[]
[" Truck Grain Receiving Fugitives - Uncontrolled",null,{"$f":"AR122","v":0},{"$f":"AS122","v":0},{"$f":"BI122","v":0},{"$f":"BJ122","v":0},{"$f":"BK122","v":0},{"$f":"BL122","v":0},{"$f":"BM122","v":0},{"$f":"BN122","v":0}]
[]
[]
[" Rail Grain Receiving Fugitives - Uncontrolled",null,{"$f":"AT122","v":0},{"$f":"AU122","v":0},{"$f":"BO122","v":0},{"$f":"BP122","v":0},{"$f":"BQ122","v":0},{"$f":"BR122","v":0},{"$f":"BS122","v":0},{"$f":"BT122","v":0}]
[]
[]
["Total Receiving Fugitives",null,null,null,{"$f":"SUM(E130:E141)","v":0},{"$f":"SUM(F130:F141)","v":0},{"$f":"SUM(G130:G141)","v":0},{"$f":"SUM(H130:H141)","v":0},{"$f":"SUM(I130:I141)","v":0},{"$f":"SUM(J130:J141)","v":0}]
[]
[]
["* Summary of Fugitive PTE"]

{"sheet":"4) Calculations","index":20,"n_rows":52,"n_cols":16,"rows_kept":52,"cut":false,"hidden":false,"merged":[[11,14,11,15],[33,1,33,3],[34,1,34,3],[35,1,35,3],[36,1,36,3],[13,0,13,1],[13,2,13,3],[14,0,14,1],[14,2,14,3],[15,0,15,1],[15,2,15,3],[11,0,12,1],[11,2,11,3],[11,8,11,9],[12,2,12,3],[21,7,23,7],[0,0,0,6],[3,4,6,4],[4,3,6,3],[4,6,6,6],[37,1,37,3],[16,0,16,5],[30,0,31,0],[30,1,30,2],[31,1,31,2],[20,5,23,5],[21,4,23,4],[20,2,23,2]]}
["Dry Mill: Grain Storage"]
["Emissions from Dry Mill's Grain Storage"]
[]
["Control type","Control Efficiency","Number of bins controlled","Control Efficiency",null,"Number of bins controlled","Control Efficiency",null,"Color Code"]
["None/Uncontrolled",0,{"$f":"COUNTIF('4) Grain Storage'!$G$18:$G$27,'4) Calculations'!A5)","v":0},{"$f":"IF(OR(C5>0,'4) Grain Storage'!D11-SUM('4) Calculations'!C5:C7)>0),B5,IF(C7>0,B7,B6))","v":0.99},null,{"$f":"COUNTIF('4) Grain Storage'!$N$18:$N$27,'4) Calculations'!A5)","v":0},{"$f":"IF(OR(F5>0,'4) Grain Storage'!I11-SUM('4) Calculations'!F5:F7)>0),B5,IF(F7>0,B7,B6))","v":0.99},null,null,"Before Project"]
["Baghouse",0.99,{"$f":"COUNTIF('4) Grain Storage'!$G$18:$G$27,'4) Calculations'!A6)","v":0},null,null,{"$f":"COUNTIF('4) Grain Storage'!$N$18:$N$27,'4) Calculations'!A6)","v":0},null,null,null,"After Project"]
["Oiler",0.8,{"$f":"COUNTIF('4) Grain Storage'!$G$18:$G$27,'4) Calculations'!A7)","v":0},null,null,{"$f":"COUNTIF('4) Grain Storage'!$N$18:$N$27,'4) Calculations'!A7)","v":0},null,null,null,"Default Value of the NDEQ"]
[null,null,null,null,null,null,null,null,null,"Final PTE"]
[null,null,null,null,null,null,null,null,null,"Calculations"]
[null,null,null,null,null,null,null,null,null,"Carry over from user input or other calculated values"]
["PM/PM10/PM2.5 Emissions from Grain Storage"]
["Emission Point Description",null,"Emission Factors [1]\n(lbs/ton)",null,"(B)\nHourly Throughput","(C)\nAnnual Throughput","Capture Efficiency","Control Efficiency","PM Emissions",null,"(F)\nHourly Throughput","(H)\nAnnual Throughput","Capture Efficiency","Control Efficiency","PM Emissions"]
[null,null,"(A)",null,"(tons/hour)","(tons/year)","(D)","(E)","(F)=(A)x(B)x(D)x(1-E)\n(lbs/hr)","(G)=(A)x(C)x(D)x(1-E)/2000\n(tons/yr)","(tons/hour)","(tons/year)","(I)","(J)","(K)=(A)x(F)x(ID)x(1-J)\n(lbs/hr)","(L)=(A)x(H)x(I)x(1-J)/2000\n(tons/yr)"]
["PM",null,{"$f":"'3) Calculations'!Q10","v":2.5000000000000001E-2},null,{"$f":"'4) Grain Storage'!D9*56/2000","v":0},{"$f":"'4) Grain Storage'!$D$8","v":0},1,{"$f":"D5","v":0.99},{"$f":"E14*C14*G14*(1-H14)","v":0},{"$f":"F14*C14/2000*G14*(1-H14)","v":0},{"$f":"'4) Grain Storage'!I9*56/2000","v":0},{"$f":"'4) Grain Storage'!$I$8","v":0},1,{"$f":"G5","v":0.99},{"$f":"K14*C14*M14*(1-N14)","v":0},{"$f":"L14*C14/2000*M14*(1-N14)","v":0}]
["PM10",null,{"$f":"'3) Calculations'!R7","v":6.3E-3},null,{"$f":"'4) Grain Storage'!D9*56/2000","v":0},{"$f":"'4) Grain Storage'!$D$8","v":0},1,{"$f":"D5","v":0.99},{"$f":"E15*C15*G15*(1-H15)","v":0},{"$f":"F15*C15/2000*G15*(1-H15)","v":0},{"$f":"'4) Grain Storage'!I9*56/2000","v":0},{"$f":"'4) Grain Storage'!$I$8","v":0},1,{"$f":"G5","v":0.99},{"$f":"K15*C15*M15*(1-N15)","v":0},{"$f":"L15*C15/2000*M15*(1-N15)","v":0}]
["PM2.5",null,{"$f":"'3) Calculations'!S7","v":1.0999999999999999E-2},null,{"$f":"'4) Grain Storage'!D9*56/2000","v":0},{"$f":"'4) Grain Storage'!$D$8","v":0},1,{"$f":"D5","v":0.99},{"$f":"E16*C16*G16*(1-H16)","v":0},{"$f":"F16*C16/2000*G16*(1-H16)","v":0},{"$f":"'4) Grain Storage'!I9*56/2000","v":0},{"$f":"'4) Grain Storage'!$I$8","v":0},1,{"$f":"G5","v":0.99},0,0]
["[1]Emission Factors are from AP-42 Section 9.9.1 (5/2003)"]
[]
["Fact Sheet Attachment: Grain Storage Pile"]
[]
["Control type","Control Efficiency",null,"Number of piles controlled","Overall Control Efficiency",null,"Number of piles controlled","Control Efficiency"]
["None",0,null,{"$f":"COUNTIF('4) Grain Storage'!$G$31:$G$40,'4) Calculations'!A22)","v":0},{"$f":"IF(OR(D22>0,'4) Grain Storage'!D12-SUM('4) Calculations'!D22:D24)>0),B22,IF(D23>0,B23,B24))","v":0.85},null,{"$f":"COUNTIF('4) Grain Storage'!$N$31:$N$40,'4) Calculations'!A22)","v":0},{"$f":"IF(OR(G22>0,'4) Grain Storage'!I12-SUM('4) Calculations'!G22:G24)>0),B22,IF(G23>0,B23,B24))","v":0.85}]
["Covered",0.7,null,{"$f":"COUNTIF('4) Grain Storage'!$G$31:$G$40,'4) Calculations'!A23)","v":0},null,null,{"$f":"COUNTIF('4) Grain Storage'!$N$31:$N$40,'4) Calculations'!A23)","v":0}]
["Covered & Suppressant",0.85,null,{"$f":"COUNTIF('4) Grain Storage'!$G$31:$G$40,'4) Calculations'!A24)","v":0},null,null,{"$f":"COUNTIF('4) Grain Storage'!$N$31:$N$40,'4) Calculations'!A24)","v":0}]
[]
["Assumptions"]
["· All emissions from storage pile are fugitive."]
["· Material moisture content is based on product specifications. "]
["· The calculations are for an active storage pile including receiving and shipping. "]
[]
["E =","k * (0.0032) * (U/5)^1.3"]
[null,"(M/2)^1.4"]
[]
["  Factor","  Description",null,null,"PM Value","PM10 Value","PM2.5 Value"]
["E =","Emission factor (lb/ton)",null,null,{"$f":"((E36*(0.0032)*((E37/5)^1.3))/(E38/2)^1.4)","v":9.6252705913146646E-4},{"$f":"((F36*(0.0032)*((F37/5)^1.3))/(F38/2)^1.4)","v":4.5524928472434227E-4},{"$f":"((G36*(0.0032)*((G37/5)^1.3))/(G38/2)^1.4)","v":6.8937748829686119E-5}]
["k =","Particle size multiplier (dimensionless)",null,null,0.74,0.35,5.2999999999999999E-2]
["U =","mean wind speed (miles per hour)",null,null,{"$f":"'4) Grain Storage'!$C$14*2.23694","v":6.71082},{"$f":"'4) Grain Storage'!$C$14*2.23694","v":6.71082},{"$f":"'4) Grain Storage'!$C$14*2.23694","v":6.71082}]
["M =","material moisture content (%)",null,null,5,5,5]
["Emission factor source = AP-42 5th Edition Chapter 13.2.4 Equation for active storage piles"]
[]
[]
["Total Throughput",{"$f":"IF('4) Grain Storage'!D12=0,0,F14*2000/56-SUM('4) Grain Storage'!D18:D27))","v":0},"bushels/year",null,null,null,"Total Throughput",{"$f":"IF('4) Grain Storage'!I12=0,0,L14*2000/56-SUM('4) Grain Storage'!K18:K27))","v":0},"bushels/year"]
[null,{"$f":"B42*56/2000","v":0},"ton/yr",null,null,null,null,{"$f":"H42*56/2000","v":0},"ton/yr"]
[]
[{"$f":"\"Total PM Emissions = \"&FIXED(E35,4,TRUE)&\" lb/ton · \"&FIXED(B43,0,TRUE)&\" ton/year · 1ton/2,000 lb . (100% - \"&E22&\"%) Control efficiency\"","v":"Total PM Emissions = 0.0010 lb/ton · 0 ton/year · 1ton/2,000 lb . (100% - 0.85%) Control efficiency"},null,null,null,null,null,{"$f":"\"Total PM Emissions = \"&FIXED(E35,4,TRUE)&\" lb/ton · \"&FIXED(H43,0,TRUE)&\" ton/year · 1ton/2,000 lb . (100% - \"&H22&\"%) Control efficiency\"","v":"Total PM Emissions = 0.0010 lb/ton · 0 ton/year · 1ton/2,000 lb . (100% - 0.85%) Control efficiency"}]
["=",{"$f":"E35*B43/2000*(1-E22)","v":0},"ton/year",null,null,null,"=",{"$f":"E35*H43/2000*(1-H22)","v":0},"ton/year"]
[]
[{"$f":"\"Total PM10 Emissions = \"&FIXED(F35,5,TRUE)&\" lb/ton · \"&FIXED(B43,0,TRUE)&\" ton/year · 1ton/2,000 lb . (100% - \"&E22&\"%) Control efficiency\"","v":"Total PM10 Emissions = 0.00046 lb/ton · 0 ton/year · 1ton/2,000 lb . (100% - 0.85%) Control efficiency"},null,null,null,null,null,{"$f":"\"Total PM10 Emissions = \"&FIXED(F35,5,TRUE)&\" lb/ton · \"&FIXED(H43,0,TRUE)&\" ton/year · 1ton/2,000 lb . (100% - \"&H22&\"%) Control efficiency\"","v":"Total PM10 Emissions = 0.00046 lb/ton · 0 ton/year · 1ton/2,000 lb . (100% - 0.85%) Control efficiency"}]
["=",{"$f":"F35*B43/2000*(1-E22)","v":0},"ton/year",null,null,null,"=",{"$f":"F35*H43/2000*(1-H22)","v":0},"ton/year"]
[]
[{"$f":"\"Total PM2.5 Emissions = \"&FIXED(G35,5,TRUE)&\" lb/ton · \"&FIXED(B43,0,TRUE)&\" ton/year · 1ton/2,000 lb . (100% - \"&E22&\"%) Control efficiency\"","v":"Total PM2.5 Emissions = 0.00007 lb/ton · 0 ton/year · 1ton/2,000 lb . (100% - 0.85%) Control efficiency"},null,null,null,null,null,{"$f":"\"Total PM2.5 Emissions = \"&FIXED(G35,5,TRUE)&\" lb/ton · \"&FIXED(H43,0,TRUE)&\" ton/year · 1ton/2,000 lb . (100% - \"&H22&\"%) Control efficiency\"","v":"Total PM2.5 Emissions = 0.00007 lb/ton · 0 ton/year · 1ton/2,000 lb . (100% - 0.85%) Control efficiency"}]
["=",{"$f":"G35*B43/2000*(1-E22)","v":0},"ton/year",null,null,null,"=",{"$f":"G35*H43/2000*(1-H22)","v":0},"ton/year"]

{"sheet":"5) Calculations","index":21,"n_rows":85,"n_cols":101,"rows_kept":85,"cut":false,"hidden":false,"merged":[[74,51,74,53],[74,57,74,59],[51,63,51,74],[52,50,53,50],[52,63,53,63],[53,51,53,61],[53,64,53,74],[51,50,51,61],[44,76,44,87],[44,89,44,100],[45,76,46,76],[45,89,46,89],[46,77,46,87],[46,90,46,100],[3,50,3,61],[3,63,3,74],[3,76,3,87],[3,89,3,100],[4,76,5,76],[4,89,5,89],[5,77,5,87],[5,90,5,100],[4,50,5,50],[4,63,5,63],[5,51,5,61],[5,64,5,74],[33,57,33,59],[10,63,10,74],[11,63,12,63],[12,64,12,74],[44,63,44,74],[10,50,10,61],[11,50,12,50],[12,51,12,61],[44,50,44,61],[33,51,33,53],[45,50,46,50],[45,63,46,63],[46,51,46,61],[46,64,46,74],[45,0,46,0],[4,12,5,12],[0,0,0,3],[4,0,5,0],[5,1,5,10],[3,0,3,10],[2,37,2,48],[4,37,5,37],[5,38,5,48],[44,0,44,10],[44,12,44,22],[44,24,44,35],[43,37,43,48],[31,1,31,10],[13,1,13,10],[13,13,13,22],[31,13,31,22],[41,0,41,3],[3,12,3,22],[5,25,5,35],[3,24,3,35],[4,24,5,24],[72,1,72,10],[72,13,72,22],[45,37,46,37],[46,25,46,35],[46,38,46,48],[54,1,54,10],[54,13,54,22],[45,12,46,12],[46,1,46,10],[45,24,46,24]]}
["Dry Mill: Grain Drying Operations"]
["Emissions from Dry Mill's Grain Drying - Drying Process Emissions"]
[null,null,null,null,null,null,null,null,null,null,null,null,null,null,null,null,null,null,null,null,null,null,null,null,null,null,null,null,null,null,null,null,null,null,null,null,null,"PTE in ton/yr = PTE in lb/hr x annual hours limit / 2000"]
["Emission Factors*",null,null,null,null,null,null,null,null,null,null,null,"Chosen Emission Factors: Manufacturer's Guarantee (If Available) or AP-42 in lb/MMBtu*",null,null,null,null,null,null,null,null,null,null,null,"PTE in lb/hr = Emission Factor x Maximum Rated Capacity, MMBtu/hr",null,null,null,null,null,null,null,null,null,null,null,null,"Annual hours limit",{"$f":"IF('5) Dryer'!D17=0,0,'5) Dryer'!I17/'5) Dryer'!D17)","v":0},{"$f":"IF('5) Dryer'!D18=0,0,'5) Dryer'!I18/'5) Dryer'!D18)","v":0},{"$f":"IF('5) Dryer'!D19=0,0,'5) Dryer'!I19/'5) Dryer'!D19)","v":0},{"$f":"IF('5) Dryer'!D20=0,0,'5) Dryer'!I20/'5) Dryer'!D20)","v":0},{"$f":"IF('5) Dryer'!D21=0,0,'5) Dryer'!I21/'5) Dryer'!D21)","v":0},{"$f":"IF('5) Dryer'!D22=0,0,'5) Dryer'!I22/'5) Dryer'!D22)","v":0},{"$f":"IF('5) Dryer'!D23=0,0,'5) Dryer'!I23/'5) Dryer'!D23)","v":0},{"$f":"IF('5) Dryer'!D24=0,0,'5) Dryer'!I24/'5) Dryer'!D24)","v":0},{"$f":"IF('5) Dryer'!D25=0,0,'5) Dryer'!I25/'5) Dryer'!D25)","v":0},{"$f":"IF('5) Dryer'!D26=0,0,'5) Dryer'!I26/'5) Dryer'!D26)","v":0},null,null,"PTE in lb/hr based on grain drying process = Emission Factor (lb/ton) x Maximum permitted hourly rate (ton/hr)",null,null,null,null,null,null,null,null,null,null,null,null,"PTE in lb/yr based on grain drying process = Emission Factor (lb/ton) x Maximum permitted annual rate (ton/yr)",null,null,null,null,null,null,null,null,null,null,null,null,"Final PTE in lb/hr = Combustion Emissions + Process Emissions",null,null,null,null,null,null,null,null,null,null,null,null,"Final PTE in ton/yr = Combustion Emissions + Process Emissions"]
["Pollutant","1st Dryer","2nd Dryer","3rd Dryer","4th Dryer","5th Dryer","6th Dryer","7th Dryer","8th Dryer","9th Dryer","10th Dryer",null,"Pollutant","1st Dryer","2nd Dryer","3rd Dryer","4th Dryer","5th Dryer","6th Dryer","7th Dryer","8th Dryer","9th Dryer","10th Dryer",null,"Pollutant","1st Dryer","2nd Dryer","3rd Dryer","4th Dryer","5th Dryer","6th Dryer","7th Dryer","8th Dryer","9th Dryer","10th Dryer","Total ",null,"Pollutant","1st Dryer","2nd Dryer","3rd Dryer","4th Dryer","5th Dryer","6th Dryer","7th Dryer","8th Dryer","9th Dryer","10th Dryer","Total ",null,"Pollutant","1st Dryer","2nd Dryer","3rd Dryer","4th Dryer","5th Dryer","6th Dryer","7th Dryer","8th Dryer","9th Dryer","10th Dryer","Total ",null,"Pollutant","1st Dryer","2nd Dryer","3rd Dryer","4th Dryer","5th Dryer","6th Dryer","7th Dryer","8th Dryer","9th Dryer","10th Dryer","Total ",null,"Pollutant","1st Dryer","2nd Dryer","3rd Dryer","4th Dryer","5th Dryer","6th Dryer","7th Dryer","8th Dryer","9th Dryer","10th Dryer","Total ",null,"Pollutant","1st Dryer","2nd Dryer","3rd Dryer","4th Dryer","5th Dryer","6th Dryer","7th Dryer","8th Dryer","9th Dryer","10th Dryer","Total "]
[null,"(lb/MMscf)",null,null,null,null,null,null,null,null,null,null,null,null,null,null,null,null,null,null,null,null,null,null,null,"(lb/hr)",null,null,null,null,null,null,null,null,null,null,null,null,"(ton/year)",null,null,null,null,null,null,null,null,null,null,null,null,"(lb/hr)",null,null,null,null,null,null,null,null,null,null,null,null,"(lb/year)",null,null,null,null,null,null,null,null,null,null,null,null,"(lb/hr)",null,null,null,null,null,null,null,null,null,null,null,null,"(ton/year)"]
["PMfilterable",7.6,7.6,7.6,7.6,7.6,7.6,7.6,7.6,7.6,7.6,null,"PMfilterable",{"$f":"IF('5) Dryer'!C31=0,B7/1020,'5) Dryer'!C31)","v":7.4509803921568628E-3},{"$f":"IF('5) Dryer'!D31=0,C7/1020,'5) Dryer'!D31)","v":7.4509803921568628E-3},{"$f":"IF('5) Dryer'!E31=0,D7/1020,'5) Dryer'!E31)","v":7.4509803921568628E-3},{"$f":"IF('5) Dryer'!F31=0,E7/1020,'5) Dryer'!F31)","v":7.4509803921568628E-3},{"$f":"IF('5) Dryer'!G31=0,F7/1020,'5) Dryer'!G31)","v":7.4509803921568628E-3},{"$f":"IF('5) Dryer'!H31=0,G7/1020,'5) Dryer'!H31)","v":7.4509803921568628E-3},{"$f":"IF('5) Dryer'!I31=0,H7/1020,'5) Dryer'!I31)","v":7.4509803921568628E-3},{"$f":"IF('5) Dryer'!J31=0,I7/1020,'5) Dryer'!J31)","v":7.4509803921568628E-3},{"$f":"IF('5) Dryer'!K31=0,J7/1020,'5) Dryer'!K31)","v":7.4509803921568628E-3},{"$f":"IF('5) Dryer'!L31=0,K7/1020,'5) Dryer'!L31)","v":7.4509803921568628E-3},null,"PMfilterable",{"$f":"IF(AZ27=1,N7*'5) Dryer'!$F$17,N7*'5) Dryer'!$F$17*$BA$40*(1-$BA$41))","v":0},{"$f":"IF(BA27=1,O7*'5) Dryer'!$F$18,O7*'5) Dryer'!$F$18*$BA$40*(1-$BA$41))","v":0},{"$f":"IF(BB27=1,P7*'5) Dryer'!$F$19,P7*'5) Dryer'!$F$19*$BA$40*(1-$BA$41))","v":0},{"$f":"IF(BC27=1,Q7*'5) Dryer'!$F$20,Q7*'5) Dryer'!$F$20*$BA$40*(1-$BA$41))","v":0},{"$f":"IF(BD27=1,R7*'5) Dryer'!$F$21,R7*'5) Dryer'!$F$21*$BA$40*(1-$BA$41))","v":0},{"$f":"IF(BE27=1,S7*'5) Dryer'!$F$22,S7*'5) Dryer'!$F$22*$BA$40*(1-$BA$41))","v":0},{"$f":"IF(BF27=1,T7*'5) Dryer'!$F$23,T7*'5) Dryer'!$F$23*$BA$40*(1-$BA$41))","v":0},{"$f":"IF(BG27=1,U7*'5) Dryer'!$F$24,U7*'5) Dryer'!$F$24*$BA$40*(1-$BA$41))","v":0},{"$f":"IF(BH27=1,V7*'5) Dryer'!$F$25,V7*'5) Dryer'!$F$25*$BA$40*(1-$BA$41))","v":0},{"$f":"IF(BI27=1,W7*'5) Dryer'!$F$26,W7*'5) Dryer'!$F$26*$BA$40*(1-$BA$41))","v":0},{"$f":"SUM(Z7:AI7)","v":0},null,"PMfilterable",{"$f":"IF(AM$4=0,Z7*8760/2000,Z7*AM$4/2000)","v":0},{"$f":"IF(AN$4=0,AA7*8760/2000,AA7*AN$4/2000)","v":0},0,0,0,0,0,0,0,0,{"$f":"SUM(AM7:AV7)","v":0},null,"PMfilterable",{"$f":"IF('5) Dryer'!G17=\"\",3,LOOKUP('5) Dryer'!G17,'5) Calculations'!$AZ$35:$BB$35,'5) Calculations'!$AZ$36:$BB$36))*'5) Dryer'!D17","v":0},{"$f":"IF('5) Dryer'!G18=\"\",3,LOOKUP('5) Dryer'!G18,'5) Calculations'!$AZ$35:$BB$35,'5) Calculations'!$AZ$36:$BB$36))*'5) Dryer'!D18","v":0},{"$f":"IF('5) Dryer'!G19=\"\",3,LOOKUP('5) Dryer'!G19,'5) Calculations'!$AZ$35:$BB$35,'5) Calculations'!$AZ$36:$BB$36))*'5) Dryer'!D19","v":0},{"$f":"IF('5) Dryer'!G20=\"\",3,LOOKUP('5) Dryer'!G20,'5) Calculations'!$AZ$35:$BB$35,'5) Calculations'!$AZ$36:$BB$36))*'5) Dryer'!D20","v":0},{"$f":"IF('5) Dryer'!G21=\"\",3,LOOKUP('5) Dryer'!G21,'5) Calculations'!$AZ$35:$BB$35,'5) Calculations'!$AZ$36:$BB$36))*'5) Dryer'!D21","v":0},{"$f":"IF('5) Dryer'!G22=\"\",3,LOOKUP('5) Dryer'!G22,'5) Calculations'!$AZ$35:$BB$35,'5) Calculations'!$AZ$36:$BB$36))*'5) Dryer'!D22","v":0},{"$f":"IF('5) Dryer'!G23=\"\",3,LOOKUP('5) Dryer'!G23,'5) Calculations'!$AZ$35:$BB$35,'5) Calculations'!$AZ$36:$BB$36))*'5) Dryer'!D23","v":0},{"$f":"IF('5) Dryer'!G24=\"\",3,LOOKUP('5) Dryer'!G24,'5) Calculations'!$AZ$35:$BB$35,'5) Calculations'!$AZ$36:$BB$36))*'5) Dryer'!D24","v":0},{"$f":"IF('5) Dryer'!G25=\"\",3,LOOKUP('5) Dryer'!G25,'5) Calculations'!$AZ$35:$BB$35,'5) Calculations'!$AZ$36:$BB$36))*'5) Dryer'!D25","v":0},{"$f":"IF('5) Dryer'!G26=\"\",3,LOOKUP('5) Dryer'!G26,'5) Calculations'!$AZ$35:$BB$35,'5) Calculations'!$AZ$36:$BB$36))*'5) Dryer'!D26","v":0},{"$f":"IF(BC28=0,SUM(AZ7:BI7),IF(BC28<=BC30,BC28*BA36,IF(BC28<=(BC30+BC31),(BC30*BA36+(BC28-BC30)*BB36),(BC30*BA36+BC31*BB36+(BC28-BC30-BC31)*AZ36))))","v":0},null,"PMfilterable",{"$f":"IF('5) Dryer'!G17=\"\",3,LOOKUP('5) Dryer'!G17,'5) Calculations'!$AZ$35:$BB$35,'5) Calculations'!$AZ$36:$BB$36))*'5) Dryer'!D17*IF(AM4=0,8760,AM4)","v":0},{"$f":"IF('5) Dryer'!G18=\"\",3,LOOKUP('5) Dryer'!G18,'5) Calculations'!$AZ$35:$BB$35,'5) Calculations'!$AZ$36:$BB$36))*'5) Dryer'!D18*IF(AN4=0,8760,AN4)","v":0},{"$f":"IF('5) Dryer'!G19=\"\",3,LOOKUP('5) Dryer'!G19,'5) Calculations'!$AZ$35:$BB$35,'5) Calculations'!$AZ$36:$BB$36))*'5) Dryer'!D19*IF(AO4=0,8760,AO4)","v":0},{"$f":"IF('5) Dryer'!G20=\"\",3,LOOKUP('5) Dryer'!G20,'5) Calculations'!$AZ$35:$BB$35,'5) Calculations'!$AZ$36:$BB$36))*'5) Dryer'!D20*IF(AP4=0,8760,AP4)","v":0},{"$f":"IF('5) Dryer'!G21=\"\",3,LOOKUP('5) Dryer'!G21,'5) Calculations'!$AZ$35:$BB$35,'5) Calculations'!$AZ$36:$BB$36))*'5) Dryer'!D21*IF(AQ4=0,8760,AQ4)","v":0},{"$f":"IF('5) Dryer'!G22=\"\",3,LOOKUP('5) Dryer'!G22,'5) Calculations'!$AZ$35:$BB$35,'5) Calculations'!$AZ$36:$BB$36))*'5) Dryer'!D22*IF(AR4=0,8760,AR4)","v":0},{"$f":"IF('5) Dryer'!G23=\"\",3,LOOKUP('5) Dryer'!G23,'5) Calculations'!$AZ$35:$BB$35,'5) Calculations'!$AZ$36:$BB$36))*'5) Dryer'!D23*IF(AS4=0,8760,AS4)","v":0},{"$f":"IF('5) Dryer'!G24=\"\",3,LOOKUP('5) Dryer'!G24,'5) Calculations'!$AZ$35:$BB$35,'5) Calculations'!$AZ$36:$BB$36))*'5) Dryer'!D24*IF(AT4=0,8760,AT4)","v":0},{"$f":"IF('5) Dryer'!G25=\"\",3,LOOKUP('5) Dryer'!G25,'5) Calculations'!$AZ$35:$BB$35,'5) Calculations'!$AZ$36:$BB$36))*'5) Dryer'!D25*IF(AU4=0,8760,AU4)","v":0},{"$f":"IF('5) Dryer'!G26=\"\",3,LOOKUP('5) Dryer'!G26,'5) Calculations'!$AZ$35:$BB$35,'5) Calculations'!$AZ$36:$BB$36))*'5) Dryer'!D26*IF(AV4=0,8760,AV4)","v":0},{"$f":"IF(BC29=0,SUM(BM7:BV7),IF(BC29<=BC30*8760,BC29*BA36,IF(BC29<=(BC30+BC31)*8760,(BC30*BA36+(BC29-BC30)*BB36),(BC30*BA36+BC31*BB36+(BC29-BC30-BC31)*AZ36))))","v":0},null,"PMfilterable",{"$f":"Z7+AZ14","v":0},{"$f":"AA7+BA14","v":0},0,0,0,0,0,0,0,0,{"$f":"AJ7+BJ14","v":0},null,"PMfilterable",{"$f":"AM7+BM14/2000","v":0},{"$f":"AN7+BN14/2000","v":0},0,0,0,0,0,0,0,0,0]
["PM10",7.6,7.6,7.6,7.6,7.6,7.6,7.6,7.6,7.6,7.6,null,"PM10",{"$f":"IF('5) Dryer'!C32=0,B8/1020,'5) Dryer'!C32)","v":7.4509803921568628E-3},{"$f":"IF('5) Dryer'!D32=0,C8/1020,'5) Dryer'!D32)","v":7.4509803921568628E-3},{"$f":"IF('5) Dryer'!E32=0,D8/1020,'5) Dryer'!E32)","v":7.4509803921568628E-3},{"$f":"IF('5) Dryer'!F32=0,E8/1020,'5) Dryer'!F32)","v":7.4509803921568628E-3},{"$f":"IF('5) Dryer'!G32=0,F8/1020,'5) Dryer'!G32)","v":7.4509803921568628E-3},{"$f":"IF('5) Dryer'!H32=0,G8/1020,'5) Dryer'!H32)","v":7.4509803921568628E-3},{"$f":"IF('5) Dryer'!I32=0,H8/1020,'5) Dryer'!I32)","v":7.4509803921568628E-3},{"$f":"IF('5) Dryer'!J32=0,I8/1020,'5) Dryer'!J32)","v":7.4509803921568628E-3},{"$f":"IF('5) Dryer'!K32=0,J8/1020,'5) Dryer'!K32)","v":7.4509803921568628E-3},{"$f":"IF('5) Dryer'!L32=0,K8/1020,'5) Dryer'!L32)","v":7.4509803921568628E-3},null,"PM10",{"$f":"IF(AZ27=1,N8*'5) Dryer'!$F$17,N8*'5) Dryer'!$F$17*$BA$40*(1-$BA$41))","v":0},{"$f":"IF(BA27=1,O8*'5) Dryer'!$F$18,O8*'5) Dryer'!$F$18*$BA$40*(1-$BA$41))","v":0},{"$f":"IF(BB27=1,P8*'5) Dryer'!$F$19,P8*'5) Dryer'!$F$19*$BA$40*(1-$BA$41))","v":0},{"$f":"IF(BC27=1,Q8*'5) Dryer'!$F$20,Q8*'5) Dryer'!$F$20*$BA$40*(1-$BA$41))","v":0},{"$f":"IF(BD27=1,R8*'5) Dryer'!$F$21,R8*'5) Dryer'!$F$21*$BA$40*(1-$BA$41))","v":0},{"$f":"IF(BE27=1,S8*'5) Dryer'!$F$22,S8*'5) Dryer'!$F$22*$BA$40*(1-$BA$41))","v":0},{"$f":"IF(BF27=1,T8*'5) Dryer'!$F$23,T8*'5) Dryer'!$F$23*$BA$40*(1-$BA$41))","v":0},{"$f":"IF(BG27=1,U8*'5) Dryer'!$F$24,U8*'5) Dryer'!$F$24*$BA$40*(1-$BA$41))","v":0},{"$f":"IF(BH27=1,V8*'5) Dryer'!$F$25,V8*'5) Dryer'!$F$25*$BA$40*(1-$BA$41))","v":0},{"$f":"IF(BI27=1,W8*'5) Dryer'!$F$26,W8*'5) Dryer'!$F$26*$BA$40*(1-$BA$41))","v":0},{"$f":"SUM(Z8:AI8)","v":0},null,"PM10",{"$f":"IF(AM$4=0,Z8*8760/2000,Z8*AM$4/2000)","v":0},{"$f":"IF(AN$4=0,AA8*8760/2000,AA8*AN$4/2000)","v":0},{"$f":"IF(AO$4=0,AB8*8760/2000,AB8*AO$4/2000)","v":0},{"$f":"IF(AP$4=0,AC8*8760/2000,AC8*AP$4/2000)","v":0},{"$f":"IF(AQ$4=0,AD8*8760/2000,AD8*AQ$4/2000)","v":0},{"$f":"IF(AR$4=0,AE8*8760/2000,AE8*AR$4/2000)","v":0},{"$f":"IF(AS$4=0,AF8*8760/2000,AF8*AS$4/2000)","v":0},{"$f":"IF(AT$4=0,AG8*8760/2000,AG8*AT$4/2000)","v":0},{"$f":"IF(AU$4=0,AH8*8760/2000,AH8*AU$4/2000)","v":0},{"$f":"IF(AV$4=0,AI8*8760/2000,AI8*AV$4/2000)","v":0},{"$f":"SUM(AM8:AV8)","v":0},null,"PM10",{"$f":"IF('5) Dryer'!G17=\"\",0.75,LOOKUP('5) Dryer'!G17,'5) Calculations'!$AZ$35:$BB$35,'5) Calculations'!$AZ$37:$BB$37))*'5) Dryer'!D17","v":0},{"$f":"IF('5) Dryer'!G18=\"\",0.75,LOOKUP('5) Dryer'!G18,'5) Calculations'!$AZ$35:$BB$35,'5) Calculations'!$AZ$37:$BB$37))*'5) Dryer'!D18","v":0},{"$f":"IF('5) Dryer'!G19=\"\",0.75,LOOKUP('5) Dryer'!G19,'5) Calculations'!$AZ$35:$BB$35,'5) Calculations'!$AZ$37:$BB$37))*'5) Dryer'!D19","v":0},{"$f":"IF('5) Dryer'!G20=\"\",0.75,LOOKUP('5) Dryer'!G20,'5) Calculations'!$AZ$35:$BB$35,'5) Calculations'!$AZ$37:$BB$37))*'5) Dryer'!D20","v":0},{"$f":"IF('5) Dryer'!G21=\"\",0.75,LOOKUP('5) Dryer'!G21,'5) Calculations'!$AZ$35:$BB$35,'5) Calculations'!$AZ$37:$BB$37))*'5) Dryer'!D21","v":0},{"$f":"IF('5) Dryer'!G22=\"\",0.75,LOOKUP('5) Dryer'!G22,'5) Calculations'!$AZ$35:$BB$35,'5) Calculations'!$AZ$37:$BB$37))*'5) Dryer'!D22","v":0},{"$f":"IF('5) Dryer'!G23=\"\",0.75,LOOKUP('5) Dryer'!G23,'5) Calculations'!$AZ$35:$BB$35,'5) Calculations'!$AZ$37:$BB$37))*'5) Dryer'!D23","v":0},{"$f":"IF('5) Dryer'!G24=\"\",0.75,LOOKUP('5) Dryer'!G24,'5) Calculations'!$AZ$35:$BB$35,'5) Calculations'!$AZ$37:$BB$37))*'5) Dryer'!D24","v":0},{"$f":"IF('5) Dryer'!G25=\"\",0.75,LOOKUP('5) Dryer'!G25,'5) Calculations'!$AZ$35:$BB$35,'5) Calculations'!$AZ$37:$BB$37))*'5) Dryer'!D25","v":0},{"$f":"IF('5) Dryer'!G26=\"\",0.75,LOOKUP('5) Dryer'!G26,'5) Calculations'!$AZ$35:$BB$35,'5) Calculations'!$AZ$37:$BB$37))*'5) Dryer'!D26","v":0},{"$f":"IF(BC28=0,SUM(AZ8:BI8),IF(BC28<=BC30,BC28*BA37,IF(BC28<=(BC30+BC31),(BC30*BA37+(BC28-BC30)*BB37),(BC30*BA37+BC31*BB37+(BC28-BC30-BC31)*AZ37))))","v":0},null,"PM10",{"$f":"IF('5) Dryer'!G17=\"\",0.75,LOOKUP('5) Dryer'!G17,'5) Calculations'!$AZ$35:$BB$35,'5) Calculations'!$AZ$37:$BB$37))*'5) Dryer'!D17*IF(AM4=0,8760,AM4)","v":0},{"$f":"IF('5) Dryer'!G18=\"\",0.75,LOOKUP('5) Dryer'!G18,'5) Calculations'!$AZ$35:$BB$35,'5) Calculations'!$AZ$37:$BB$37))*'5) Dryer'!D18*IF(AN4=0,8760,AN4)","v":0},{"$f":"IF('5) Dryer'!G19=\"\",0.75,LOOKUP('5) Dryer'!G19,'5) Calculations'!$AZ$35:$BB$35,'5) Calculations'!$AZ$37:$BB$37))*'5) Dryer'!D19*IF(AO4=0,8760,AO4)","v":0},{"$f":"IF('5) Dryer'!G20=\"\",0.75,LOOKUP('5) Dryer'!G20,'5) Calculations'!$AZ$35:$BB$35,'5) Calculations'!$AZ$37:$BB$37))*'5) Dryer'!D20*IF(AP4=0,8760,AP4)","v":0},{"$f":"IF('5) Dryer'!G21=\"\",0.75,LOOKUP('5) Dryer'!G21,'5) Calculations'!$AZ$35:$BB$35,'5) Calculations'!$AZ$37:$BB$37))*'5) Dryer'!D21*IF(AQ4=0,8760,AQ4)","v":0},{"$f":"IF('5) Dryer'!G22=\"\",0.75,LOOKUP('5) Dryer'!G22,'5) Calculations'!$AZ$35:$BB$35,'5) Calculations'!$AZ$37:$BB$37))*'5) Dryer'!D22*IF(AR4=0,8760,AR4)","v":0},{"$f":"IF('5) Dryer'!G23=\"\",0.75,LOOKUP('5) Dryer'!G23,'5) Calculations'!$AZ$35:$BB$35,'5) Calculations'!$AZ$37:$BB$37))*'5) Dryer'!D23*IF(AS4=0,8760,AS4)","v":0},{"$f":"IF('5) Dryer'!G24=\"\",0.75,LOOKUP('5) Dryer'!G24,'5) Calculations'!$AZ$35:$BB$35,'5) Calculations'!$AZ$37:$BB$37))*'5) Dryer'!D24*IF(AT4=0,8760,AT4)","v":0},{"$f":"IF('5) Dryer'!G25=\"\",0.75,LOOKUP('5) Dryer'!G25,'5) Calculations'!$AZ$35:$BB$35,'5) Calculations'!$AZ$37:$BB$37))*'5) Dryer'!D25*IF(AU4=0,8760,AU4)","v":0},{"$f":"IF('5) Dryer'!G26=\"\",0.75,LOOKUP('5) Dryer'!G26,'5) Calculations'!$AZ$35:$BB$35,'5) Calculations'!$AZ$37:$BB$37))*'5) Dryer'!D26*IF(AV4=0,8760,AV4)","v":0},{"$f":"IF(BC29=0,SUM(BM8:BV8),IF(BC29<=BC30*8760,BC29*BA37,IF(BC29<=(BC30+BC31)*8760,(BC30*BA37+(BC29-BC30)*BB37),(BC30*BA37+BC31*BB37+(BC29-BC30-BC31)*AZ37))))","v":0},null,"PM10",{"$f":"Z8+AZ15","v":0},{"$f":"AA8+BA15","v":0},{"$f":"AB8+BB15","v":0},{"$f":"AC8+BC15","v":0},{"$f":"AD8+BD15","v":0},{"$f":"AE8+BE15","v":0},{"$f":"AF8+BF15","v":0},{"$f":"AG8+BG15","v":0},{"$f":"AH8+BH15","v":0},{"$f":"AI8+BI15","v":0},{"$f":"AJ8+BJ15","v":0},null,"PM10",{"$f":"AM8+BM15/2000","v":0},{"$f":"AN8+BN15/2000","v":0},{"$f":"AO8+BO15/2000","v":0},{"$f":"AP8+BP15/2000","v":0},{"$f":"AQ8+BQ15/2000","v":0},{"$f":"AR8+BR15/2000","v":0},{"$f":"AS8+BS15/2000","v":0},{"$f":"AT8+BT15/2000","v":0},{"$f":"AU8+BU15/2000","v":0},{"$f":"AV8+BV15/2000","v":0},{"$f":"AW8+BW15/2000","v":0}]
["PM2.5",7.6,7.6,7.6,7.6,7.6,7.6,7.6,7.6,7.6,7.6,null,"PM2.5",{"$f":"IF('5) Dryer'!C33=0,B9/1020,'5) Dryer'!C33)","v":7.4509803921568628E-3},{"$f":"IF('5) Dryer'!D33=0,C9/1020,'5) Dryer'!D33)","v":7.4509803921568628E-3},{"$f":"IF('5) Dryer'!E33=0,D9/1020,'5) Dryer'!E33)","v":7.4509803921568628E-3},{"$f":"IF('5) Dryer'!F33=0,E9/1020,'5) Dryer'!F33)","v":7.4509803921568628E-3},{"$f":"IF('5) Dryer'!G33=0,F9/1020,'5) Dryer'!G33)","v":7.4509803921568628E-3},{"$f":"IF('5) Dryer'!H33=0,G9/1020,'5) Dryer'!H33)","v":7.4509803921568628E-3},{"$f":"IF('5) Dryer'!I33=0,H9/1020,'5) Dryer'!I33)","v":7.4509803921568628E-3},{"$f":"IF('5) Dryer'!J33=0,I9/1020,'5) Dryer'!J33)","v":7.4509803921568628E-3},{"$f":"IF('5) Dryer'!K33=0,J9/1020,'5) Dryer'!K33)","v":7.4509803921568628E-3},{"$f":"IF('5) Dryer'!L33=0,K9/1020,'5) Dryer'!L33)","v":7.4509803921568628E-3},null,"PM2.5",{"$f":"IF(AZ27=1,N9*'5) Dryer'!$F$17,N9*'5) Dryer'!$F$17*$BA$40*(1-$BA$41))","v":0},{"$f":"IF(BA27=1,O9*'5) Dryer'!$F$18,O9*'5) Dryer'!$F$18*$BA$40*(1-$BA$41))","v":0},{"$f":"IF(BB27=1,P9*'5) Dryer'!$F$19,P9*'5) Dryer'!$F$19*$BA$40*(1-$BA$41))","v":0},{"$f":"IF(BC27=1,Q9*'5) Dryer'!$F$20,Q9*'5) Dryer'!$F$20*$BA$40*(1-$BA$41))","v":0},{"$f":"IF(BD27=1,R9*'5) Dryer'!$F$21,R9*'5) Dryer'!$F$21*$BA$40*(1-$BA$41))","v":0},{"$f":"IF(BE27=1,S9*'5) Dryer'!$F$22,S9*'5) Dryer'!$F$22*$BA$40*(1-$BA$41))","v":0},{"$f":"IF(BF27=1,T9*'5) Dryer'!$F$23,T9*'5) Dryer'!$F$23*$BA$40*(1-$BA$41))","v":0},{"$f":"IF(BG27=1,U9*'5) Dryer'!$F$24,U9*'5) Dryer'!$F$24*$BA$40*(1-$BA$41))","v":0},{"$f":"IF(BH27=1,V9*'5) Dryer'!$F$25,V9*'5) Dryer'!$F$25*$BA$40*(1-$BA$41))","v":0},{"$f":"IF(BI27=1,W9*'5) Dryer'!$F$26,W9*'5) Dryer'!$F$26*$BA$40*(1-$BA$41))","v":0},0,null,"PM2.5",{"$f":"IF(AM$4=0,Z9*8760/2000,Z9*AM$4/2000)","v":0},{"$f":"IF(AN$4=0,AA9*8760/2000,AA9*AN$4/2000)","v":0},{"$f":"IF(AO$4=0,AB9*8760/2000,AB9*AO$4/2000)","v":0},{"$f":"IF(AP$4=0,AC9*8760/2000,AC9*AP$4/2000)","v":0},{"$f":"IF(AQ$4=0,AD9*8760/2000,AD9*AQ$4/2000)","v":0},{"$f":"IF(AR$4=0,AE9*8760/2000,AE9*AR$4/2000)","v":0},{"$f":"IF(AS$4=0,AF9*8760/2000,AF9*AS$4/2000)","v":0},{"$f":"IF(AT$4=0,AG9*8760/2000,AG9*AT$4/2000)","v":0},{"$f":"IF(AU$4=0,AH9*8760/2000,AH9*AU$4/2000)","v":0},{"$f":"IF(AV$4=0,AI9*8760/2000,AI9*AV$4/2000)","v":0},0,null,"PM2.5",{"$f":"IF('5) Dryer'!G17=\"\",0.13,LOOKUP('5) Dryer'!G17,'5) Calculations'!$AZ$35:$BB$35,'5) Calculations'!$AZ$38:$BB$38))*'5) Dryer'!D17","v":0},{"$f":"IF('5) Dryer'!G18=\"\",0.13,LOOKUP('5) Dryer'!G18,'5) Calculations'!$AZ$35:$BB$35,'5) Calculations'!$AZ$38:$BB$38))*'5) Dryer'!D18","v":0},{"$f":"IF('5) Dryer'!G19=\"\",0.13,LOOKUP('5) Dryer'!G19,'5) Calculations'!$AZ$35:$BB$35,'5) Calculations'!$AZ$38:$BB$38))*'5) Dryer'!D19","v":0},{"$f":"IF('5) Dryer'!G20=\"\",0.13,LOOKUP('5) Dryer'!G20,'5) Calculations'!$AZ$35:$BB$35,'5) Calculations'!$AZ$38:$BB$38))*'5) Dryer'!D20","v":0},{"$f":"IF('5) Dryer'!G21=\"\",0.13,LOOKUP('5) Dryer'!G21,'5) Calculations'!$AZ$35:$BB$35,'5) Calculations'!$AZ$38:$BB$38))*'5) Dryer'!D21","v":0},{"$f":"IF('5) Dryer'!G22=\"\",0.13,LOOKUP('5) Dryer'!G22,'5) Calculations'!$AZ$35:$BB$35,'5) Calculations'!$AZ$38:$BB$38))*'5) Dryer'!D22","v":0},{"$f":"IF('5) Dryer'!G23=\"\",0.13,LOOKUP('5) Dryer'!G23,'5) Calculations'!$AZ$35:$BB$35,'5) Calculations'!$AZ$38:$BB$38))*'5) Dryer'!D23","v":0},{"$f":"IF('5) Dryer'!G24=\"\",0.13,LOOKUP('5) Dryer'!G24,'5) Calculations'!$AZ$35:$BB$35,'5) Calculations'!$AZ$38:$BB$38))*'5) Dryer'!D24","v":0},{"$f":"IF('5) Dryer'!G25=\"\",0.13,LOOKUP('5) Dryer'!G25,'5) Calculations'!$AZ$35:$BB$35,'5) Calculations'!$AZ$38:$BB$38))*'5) Dryer'!D25","v":0},{"$f":"IF('5) Dryer'!G26=\"\",0.13,LOOKUP('5) Dryer'!G26,'5) Calculations'!$AZ$35:$BB$35,'5) Calculations'!$AZ$38:$BB$38))*'5) Dryer'!D26","v":0},{"$f":"IF(BC28=0,SUM(AZ9:BI9),IF(BC28<=BC30,BC28*BA38,IF(BC28<=(BC30+BC31),(BC30*BA38+(BC28-BC30)*BB38),(BC30*BA38+BC31*BB38+(BC28-BC30-BC31)*AZ38))))","v":0},null,"PM2.5",{"$f":"IF('5) Dryer'!G17=\"\",0.13,LOOKUP('5) Dryer'!G17,'5) Calculations'!$AZ$35:$BB$35,'5) Calculations'!$AZ$38:$BB$38))*'5) Dryer'!D17*IF(AM4=0,8760,AM4)","v":0},{"$f":"IF('5) Dryer'!G18=\"\",0.13,LOOKUP('5) Dryer'!G18,'5) Calculations'!$AZ$35:$BB$35,'5) Calculations'!$AZ$38:$BB$38))*'5) Dryer'!D18*IF(AN4=0,8760,AN4)","v":0},{"$f":"IF('5) Dryer'!G19=\"\",0.13,LOOKUP('5) Dryer'!G19,'5) Calculations'!$AZ$35:$BB$35,'5) Calculations'!$AZ$38:$BB$38))*'5) Dryer'!D19*IF(AO4=0,8760,AO4)","v":0},{"$f":"IF('5) Dryer'!G20=\"\",0.13,LOOKUP('5) Dryer'!G20,'5) Calculations'!$AZ$35:$BB$35,'5) Calculations'!$AZ$38:$BB$38))*'5) Dryer'!D20*IF(AP4=0,8760,AP4)","v":0},{"$f":"IF('5) Dryer'!G21=\"\",0.13,LOOKUP('5) Dryer'!G21,'5) Calculations'!$AZ$35:$BB$35,'5) Calculations'!$AZ$38:$BB$38))*'5) Dryer'!D21*IF(AQ4=0,8760,AQ4)","v":0},{"$f":"IF('5) Dryer'!G22=\"\",0.13,LOOKUP('5) Dryer'!G22,'5) Calculations'!$AZ$35:$BB$35,'5) Calculations'!$AZ$38:$BB$38))*'5) Dryer'!D22*IF(AR4=0,8760,AR4)","v":0},{"$f":"IF('5) Dryer'!G23=\"\",0.13,LOOKUP('5) Dryer'!G23,'5) Calculations'!$AZ$35:$BB$35,'5) Calculations'!$AZ$38:$BB$38))*'5) Dryer'!D23*IF(AS4=0,8760,AS4)","v":0},{"$f":"IF('5) Dryer'!G24=\"\",0.13,LOOKUP('5) Dryer'!G24,'5) Calculations'!$AZ$35:$BB$35,'5) Calculations'!$AZ$38:$BB$38))*'5) Dryer'!D24*IF(AT4=0,8760,AT4)","v":0},{"$f":"IF('5) Dryer'!G25=\"\",0.13,LOOKUP('5) Dryer'!G25,'5) Calculations'!$AZ$35:$BB$35,'5) Calculations'!$AZ$38:$BB$38))*'5) Dryer'!D25*IF(AU4=0,8760,AU4)","v":0},{"$f":"IF('5) Dryer'!G26=\"\",0.13,LOOKUP('5) Dryer'!G26,'5) Calculations'!$AZ$35:$BB$35,'5) Calculations'!$AZ$38:$BB$38))*'5) Dryer'!D26*IF(AV4=0,8760,AV4)","v":0},{"$f":"IF(BC29=0,SUM(BM9:BV9),IF(BC29<=BC30*8760,BC29*BA38,IF(BC29<=(BC30+BC31)*8760,(BC30*BA38+(BC29-BC30)*BB38),(BC30*BA38+BC31*BB38+(BC29-BC30-BC31)*AZ38))))","v":0},null,"PM2.5",0,0,0,0,0,0,0,0,0,0,0,null,"PM2.5",{"$f":"AM9+BM16/2000","v":0},0,0,0,0,0,0,0,0,0,0]
["SO2",0.6,0.6,0.6,0.6,0.6,0.6,0.6,0.6,0.6,0.6,null,"SO2",{"$f":"IF('5) Dryer'!C34=0,B10/1020,'5) Dryer'!C34)","v":5.8823529411764701E-4},{"$f":"IF('5) Dryer'!D34=0,C10/1020,'5) Dryer'!D34)","v":5.8823529411764701E-4},{"$f":"IF('5) Dryer'!E34=0,D10/1020,'5) Dryer'!E34)","v":5.8823529411764701E-4},{"$f":"IF('5) Dryer'!F34=0,E10/1020,'5) Dryer'!F34)","v":5.8823529411764701E-4},{"$f":"IF('5) Dryer'!G34=0,F10/1020,'5) Dryer'!G34)","v":5.8823529411764701E-4},{"$f":"IF('5) Dryer'!H34=0,G10/1020,'5) Dryer'!H34)","v":5.8823529411764701E-4},{"$f":"IF('5) Dryer'!I34=0,H10/1020,'5) Dryer'!I34)","v":5.8823529411764701E-4},{"$f":"IF('5) Dryer'!J34=0,I10/1020,'5) Dryer'!J34)","v":5.8823529411764701E-4},{"$f":"IF('5) Dryer'!K34=0,J10/1020,'5) Dryer'!K34)","v":5.8823529411764701E-4},{"$f":"IF('5) Dryer'!L34=0,K10/1020,'5) Dryer'!L34)","v":5.8823529411764701E-4},null,"SO2",{"$f":"N10*'5) Dryer'!$F$17","v":0},{"$f":"O10*'5) Dryer'!$F$18","v":0},{"$f":"P10*'5) Dryer'!$F$19","v":0},{"$f":"Q10*'5) Dryer'!$F$20","v":0},{"$f":"R10*'5) Dryer'!$F$21","v":0},{"$f":"S10*'5) Dryer'!$F$22","v":0},{"$f":"T10*'5) Dryer'!$F$23","v":0},{"$f":"U10*'5) Dryer'!$F$24","v":0},{"$f":"V10*'5) Dryer'!$F$25","v":0},{"$f":"W10*'5) Dryer'!$F$26","v":0},0,null,"SO2",0,0,0,0,0,0,0,0,0,0,0,null,null,null,null,null,null,null,null,null,null,null,null,null,null,null,null,null,null,null,null,null,null,null,null,null,null,null,"SO2",{"$f":"Z10","v":0},{"$f":"AA10","v":0},0,0,0,0,0,0,0,0,{"$f":"SUM(BZ10:CI10)","v":0},null,"SO2",{"$f":"AM10","v":0},{"$f":"AN10","v":0},0,0,0,0,0,0,0,0,0]
["NOx",{"$f":"IF('5) Dryer'!E17=Datasets!$AA$3,50,IF('5) Dryer'!E17=Datasets!$AA$4,32,100))","v":100},{"$f":"IF('5) Dryer'!E18=Datasets!$AA$3,50,IF('5) Dryer'!E18=Datasets!$AA$4,32,100))","v":100},{"$f":"IF('5) Dryer'!E19=Datasets!$AA$3,50,IF('5) Dryer'!E19=Datasets!$AA$4,32,100))","v":100},{"$f":"IF('5) Dryer'!E20=Datasets!$AA$3,50,IF('5) Dryer'!E20=Datasets!$AA$4,32,100))","v":100},{"$f":"IF('5) Dryer'!E21=Datasets!$AA$3,50,IF('5) Dryer'!E21=Datasets!$AA$4,32,100))","v":100},{"$f":"IF('5) Dryer'!E22=Datasets!$AA$3,50,IF('5) Dryer'!E22=Datasets!$AA$4,32,100))","v":100},{"$f":"IF('5) Dryer'!E23=Datasets!$AA$3,50,IF('5) Dryer'!E23=Datasets!$AA$4,32,100))","v":100},{"$f":"IF('5) Dryer'!E24=Datasets!$AA$3,50,IF('5) Dryer'!E24=Datasets!$AA$4,32,100))","v":100},{"$f":"IF('5) Dryer'!E25=Datasets!$AA$3,50,IF('5) Dryer'!E25=Datasets!$AA$4,32,100))","v":100},{"$f":"IF('5) Dryer'!E26=Datasets!$AA$3,50,IF('5) Dryer'!E26=Datasets!$AA$4,32,100))","v":100},null,"NOx",{"$f":"IF('5) Dryer'!C35=0,B11/1020,'5) Dryer'!C35)","v":9.8039215686274508E-2},{"$f":"IF('5) Dryer'!D35=0,C11/1020,'5) Dryer'!D35)","v":9.8039215686274508E-2},{"$f":"IF('5) Dryer'!E35=0,D11/1020,'5) Dryer'!E35)","v":9.8039215686274508E-2},{"$f":"IF('5) Dryer'!F35=0,E11/1020,'5) Dryer'!F35)","v":9.8039215686274508E-2},{"$f":"IF('5) Dryer'!G35=0,F11/1020,'5) Dryer'!G35)","v":9.8039215686274508E-2},{"$f":"IF('5) Dryer'!H35=0,G11/1020,'5) Dryer'!H35)","v":9.8039215686274508E-2},{"$f":"IF('5) Dryer'!I35=0,H11/1020,'5) Dryer'!I35)","v":9.8039215686274508E-2},{"$f":"IF('5) Dryer'!J35=0,I11/1020,'5) Dryer'!J35)","v":9.8039215686274508E-2},{"$f":"IF('5) Dryer'!K35=0,J11/1020,'5) Dryer'!K35)","v":9.8039215686274508E-2},{"$f":"IF('5) Dryer'!L35=0,K11/1020,'5) Dryer'!L35)","v":9.8039215686274508E-2},null,"NOx",{"$f":"N11*'5) Dryer'!$F$17","v":0},{"$f":"O11*'5) Dryer'!$F$18","v":0},{"$f":"P11*'5) Dryer'!$F$19","v":0},{"$f":"Q11*'5) Dryer'!$F$20","v":0},{"$f":"R11*'5) Dryer'!$F$21","v":0},{"$f":"S11*'5) Dryer'!$F$22","v":0},{"$f":"T11*'5) Dryer'!$F$23","v":0},{"$f":"U11*'5) Dryer'!$F$24","v":0},{"$f":"V11*'5) Dryer'!$F$25","v":0},{"$f":"W11*'5) Dryer'!$F$26","v":0},{"$f":"SUM(Z11:AI11)","v":0},null,"NOx",0,0,0,0,0,0,0,0,0,0,0,null,"PTE in lb/hr considering baghouse control = Emission Factor (lb/ton) x Maximum permitted hourly rate (ton/hr)",null,null,null,null,null,null,null,null,null,null,null,null,"PTE in lb/yr considering baghouse control = Emission Factor (lb/ton) x Maximum permitted annual rate (ton/yr)",null,null,null,null,null,null,null,null,null,null,null,null,"NOx",{"$f":"Z11","v":0},{"$f":"AA11","v":0},{"$f":"AB11","v":0},{"$f":"AC11","v":0},{"$f":"AD11","v":0},{"$f":"AE11","v":0},{"$f":"AF11","v":0},{"$f":"AG11","v":0},{"$f":"AH11","v":0},{"$f":"AI11","v":0},{"$f":"SUM(BZ11:CI11)","v":0},null,"NOx",{"$f":"AM11","v":0},{"$f":"AN11","v":0},{"$f":"AO11","v":0},{"$f":"AP11","v":0},{"$f":"AQ11","v":0},{"$f":"AR11","v":0},{"$f":"AS11","v":0},{"$f":"AT11","v":0},{"$f":"AU11","v":0},{"$f":"AV11","v":0},{"$f":"AW11","v":0}]
["CO",84,84,84,84,84,84,84,84,84,84,null,"CO",{"$f":"IF('5) Dryer'!C36=0,B12/1020,'5) Dryer'!C36)","v":8.2352941176470587E-2},{"$f":"IF('5) Dryer'!D36=0,C12/1020,'5) Dryer'!D36)","v":8.2352941176470587E-2},{"$f":"IF('5) Dryer'!E36=0,D12/1020,'5) Dryer'!E36)","v":8.2352941176470587E-2},{"$f":"IF('5) Dryer'!F36=0,E12/1020,'5) Dryer'!F36)","v":8.2352941176470587E-2},{"$f":"IF('5) Dryer'!G36=0,F12/1020,'5) Dryer'!G36)","v":8.2352941176470587E-2},{"$f":"IF('5) Dryer'!H36=0,G12/1020,'5) Dryer'!H36)","v":8.2352941176470587E-2},{"$f":"IF('5) Dryer'!I36=0,H12/1020,'5) Dryer'!I36)","v":8.2352941176470587E-2},{"$f":"IF('5) Dryer'!J36=0,I12/1020,'5) Dryer'!J36)","v":8.2352941176470587E-2},{"$f":"IF('5) Dryer'!K36=0,J12/1020,'5) Dryer'!K36)","v":8.2352941176470587E-2},{"$f":"IF('5) Dryer'!L36=0,K12/1020,'5) Dryer'!L36)","v":8.2352941176470587E-2},null,"CO",{"$f":"N12*'5) Dryer'!$F$17","v":0},{"$f":"O12*'5) Dryer'!$F$18","v":0},{"$f":"P12*'5) Dryer'!$F$19","v":0},{"$f":"Q12*'5) Dryer'!$F$20","v":0},{"$f":"R12*'5) Dryer'!$F$21","v":0},{"$f":"S12*'5) Dryer'!$F$22","v":0},{"$f":"T12*'5) Dryer'!$F$23","v":0},{"$f":"U12*'5) Dryer'!$F$24","v":0},{"$f":"V12*'5) Dryer'!$F$25","v":0},{"$f":"W12*'5) Dryer'!$F$26","v":0},{"$f":"SUM(Z12:AI12)","v":0},null,"CO",0,0,0,0,0,0,0,0,0,0,0,null,"Pollutant","1st Dryer","2nd Dryer","3rd Dryer","4th Dryer","5th Dryer","6th Dryer","7th Dryer","8th Dryer","9th Dryer","10th Dryer","Total ",null,"Pollutant","1st Dryer","2nd Dryer","3rd Dryer","4th Dryer","5th Dryer","6th Dryer","7th Dryer","8th Dryer","9th Dryer","10th Dryer","Total ",null,"CO",0,0,0,0,0,0,0,0,0,0,{"$f":"SUM(BZ12:CI12)","v":0},null,"CO",0,0,0,0,0,0,0,0,0,0,0]
["VOC",5.5,5.5,5.5,5.5,5.5,5.5,5.5,5.5,5.5,5.5,null,"VOC",{"$f":"IF('5) Dryer'!C37=0,B13/1020,'5) Dryer'!C37)","v":5.392156862745098E-3},{"$f":"IF('5) Dryer'!D37=0,C13/1020,'5) Dryer'!D37)","v":5.392156862745098E-3},{"$f":"IF('5) Dryer'!E37=0,D13/1020,'5) Dryer'!E37)","v":5.392156862745098E-3},{"$f":"IF('5) Dryer'!F37=0,E13/1020,'5) Dryer'!F37)","v":5.392156862745098E-3},{"$f":"IF('5) Dryer'!G37=0,F13/1020,'5) Dryer'!G37)","v":5.392156862745098E-3},{"$f":"IF('5) Dryer'!H37=0,G13/1020,'5) Dryer'!H37)","v":5.392156862745098E-3},{"$f":"IF('5) Dryer'!I37=0,H13/1020,'5) Dryer'!I37)","v":5.392156862745098E-3},{"$f":"IF('5) Dryer'!J37=0,I13/1020,'5) Dryer'!J37)","v":5.392156862745098E-3},{"$f":"IF('5) Dryer'!K37=0,J13/1020,'5) Dryer'!K37)","v":5.392156862745098E-3},{"$f":"IF('5) Dryer'!L37=0,K13/1020,'5) Dryer'!L37)","v":5.392156862745098E-3},null,"VOC",{"$f":"N13*'5) Dryer'!$F$17","v":0},{"$f":"O13*'5) Dryer'!$F$18","v":0},{"$f":"P13*'5) Dryer'!$F$19","v":0},{"$f":"Q13*'5) Dryer'!$F$20","v":0},{"$f":"R13*'5) Dryer'!$F$21","v":0},{"$f":"S13*'5) Dryer'!$F$22","v":0},{"$f":"T13*'5) Dryer'!$F$23","v":0},{"$f":"U13*'5) Dryer'!$F$24","v":0},{"$f":"V13*'5) Dryer'!$F$25","v":0},{"$f":"W13*'5) Dryer'!$F$26","v":0},{"$f":"SUM(Z13:AI13)","v":0},null,"VOC",0,0,0,0,0,0,0,0,0,0,0,null,null,"(lb/hr)",null,null,null,null,null,null,null,null,null,null,null,null,"(lb/year)",null,null,null,null,null,null,null,null,null,null,null,"VOC",0,0,0,0,0,0,0,0,0,0,{"$f":"SUM(BZ13:CI13)","v":0},null,"VOC",0,0,0,0,0,0,0,0,0,0,0]
["Individual HAP","(lb/MMscf)",null,null,null,null,null,null,null,null,null,null,"Individual HAP",null,null,null,null,null,null,null,null,null,null,null,"Individual HAP",null,null,null,null,null,null,null,null,null,null,null,null,"Individual HAP",null,null,null,null,null,null,null,null,null,null,null,null,"PMfilterable",{"$f":"IF(AZ27=1,AZ7,AZ7*$BA$40*(1-$BA$41))","v":0},0,0,0,0,0,0,0,0,0,{"$f":"IF(OR(BC28=0,BC28>=SUM(BC30:BC32)),SUM(AZ14:BI14),IF(BC28<=BI30,BC28*BA36,IF(BC28<=(BI30+BI31),(BI30*BA36+(BC28-BI30)*BB36),IF(BC28<=(BI30+BI31+BI32),(BI30*BA36+BI31*BB36+(BC28-BI30-BI31)*AZ36),IF(BC28<=(BC30+BI31+BI32),(BI30*BA36+BI31*BB36+BI32*AZ36+(BC28-BI30)*BG36),IF(BC28<=(BC30+BC31+BI32),(BI30*BA36+BI31*BB36+BI32*AZ36+(BC30-BI30)*BG36+(BC28-BI31)*BH36),(BI30*BA36+BI31*BB36+BI32*AZ36+(BC30-BI30)*BG36+(BC31-BI31)*BH36+(BC28-BI32)*BF36)))))))","v":0},null,"PMfilterable",{"$f":"IF(AZ27=1,BM7,BM7*$BA$40*(1-$BA$41))","v":0},0,0,0,0,0,0,0,0,0,{"$f":"IF(OR(BC29=0,BC29>=8760*SUM(BC30:BC32)),SUM(BM14:BV14),IF(BC29<=BI30*8760,BC29*BA36,IF(BC29<=(BI30+BI31)*8760,(BI30*BA36*8760+(BC29-BI30*8760)*BB36),IF(BC29<=(BI30+BI31+BI32)*8760,(BI30*BA36*8760+BI31*BB36*8760+(BC29-BI30*8760-BI31*8760)*AZ36),IF(BC29<=(BC30+BI31+BI32)*8760,(BI30*BA36*8760+BI31*BB36*8760+BI32*AZ36*8760+(BC29-BI30*8760)*BG36),IF(BC29<=(BC30+BC31+BI32)*8760,(BI30*BA36*8760+BI31*BB36*8760+BI32*AZ36*8760+(BC30-BI30)*BG36*8760+(BC29-BI31*8760)*BH36),(BI30*BA36*8760+BI31*BB36*8760+BI32*AZ36*8760+(BC30-BI30)*BG36*8760+(BC31-BI31)*BH36*8760+(BC29-BI32*8760)*BF36)))))))","v":0},null,"Individual HAP",null,null,null,null,null,null,null,null,null,null,null,null,"Individual HAP"]
["  Benzene ",2.0999999999999999E-3,2.0999999999999999E-3,2.0999999999999999E-3,2.0999999999999999E-3,2.0999999999999999E-3,2.0999999999999999E-3,2.0999999999999999E-3,2.0999999999999999E-3,2.0999999999999999E-3,2.0999999999999999E-3,null,"  Benzene ",{"$f":"IF('5) Dryer'!C39=0,B15/1020,'5) Dryer'!C39)","v":2.0588235294117645E-6},{"$f":"IF('5) Dryer'!D39=0,C15/1020,'5) Dryer'!D39)","v":2.0588235294117645E-6},{"$f":"IF('5) Dryer'!E39=0,D15/1020,'5) Dryer'!E39)","v":2.0588235294117645E-6},{"$f":"IF('5) Dryer'!F39=0,E15/1020,'5) Dryer'!F39)","v":2.0588235294117645E-6},{"$f":"IF('5) Dryer'!G39=0,F15/1020,'5) Dryer'!G39)","v":2.0588235294117645E-6},{"$f":"IF('5) Dryer'!H39=0,G15/1020,'5) Dryer'!H39)","v":2.0588235294117645E-6},{"$f":"IF('5) Dryer'!I39=0,H15/1020,'5) Dryer'!I39)","v":2.0588235294117645E-6},{"$f":"IF('5) Dryer'!J39=0,I15/1020,'5) Dryer'!J39)","v":2.0588235294117645E-6},{"$f":"IF('5) Dryer'!K39=0,J15/1020,'5) Dryer'!K39)","v":2.0588235294117645E-6},{"$f":"IF('5) Dryer'!L39=0,K15/1020,'5) Dryer'!L39)","v":2.0588235294117645E-6},null,"  Benzene ",{"$f":"N15*'5) Dryer'!$F$17","v":0},{"$f":"O15*'5) Dryer'!$F$18","v":0},{"$f":"P15*'5) Dryer'!$F$19","v":0},{"$f":"Q15*'5) Dryer'!$F$20","v":0},{"$f":"R15*'5) Dryer'!$F$21","v":0},{"$f":"S15*'5) Dryer'!$F$22","v":0},{"$f":"T15*'5) Dryer'!$F$23","v":0},{"$f":"U15*'5) Dryer'!$F$24","v":0},{"$f":"V15*'5) Dryer'!$F$25","v":0},{"$f":"W15*'5) Dryer'!$F$26","v":0},0,null,"  Benzene ",{"$f":"IF(AM$4=0,Z15*8760/2000,Z15*AM$4/2000)","v":0},{"$f":"IF(AN$4=0,AA15*8760/2000,AA15*AN$4/2000)","v":0},{"$f":"IF(AO$4=0,AB15*8760/2000,AB15*AO$4/2000)","v":0},{"$f":"IF(AP$4=0,AC15*8760/2000,AC15*AP$4/2000)","v":0},{"$f":"IF(AQ$4=0,AD15*8760/2000,AD15*AQ$4/2000)","v":0},{"$f":"IF(AR$4=0,AE15*8760/2000,AE15*AR$4/2000)","v":0},{"$f":"IF(AS$4=0,AF15*8760/2000,AF15*AS$4/2000)","v":0},{"$f":"IF(AT$4=0,AG15*8760/2000,AG15*AT$4/2000)","v":0},{"$f":"IF(AU$4=0,AH15*8760/2000,AH15*AU$4/2000)","v":0},{"$f":"IF(AV$4=0,AI15*8760/2000,AI15*AV$4/2000)","v":0},0,null,"PM10",{"$f":"IF(AZ27=1,AZ8,AZ8*$BA$40*(1-$BA$41))","v":0},0,0,0,0,0,0,0,0,0,{"$f":"IF(OR(BC28=0,BC28>=SUM(BC30:BC32)),SUM(AZ15:BI15),IF(BC28<=BI30,BC28*BA37,IF(BC28<=(BI30+BI31),(BI30*BA37+(BC28-BI30)*BB37),IF(BC28<=(BI30+BI31+BI32),(BI30*BA37+BI31*BB37+(BC28-BI30-BI31)*AZ37),IF(BC28<=(BC30+BI31+BI32),(BI30*BA37+BI31*BB37+BI32*AZ37+(BC28-BI30)*BG37),IF(BC28<=(BC30+BC31+BI32),(BI30*BA37+BI31*BB37+BI32*AZ37+(BC30-BI30)*BG37+(BC28-BI31)*BH37),(BI30*BA37+BI31*BB37+BI32*AZ37+(BC30-BI30)*BG37+(BC31-BI31)*BH37+(BC28-BI32)*BF37)))))))","v":0},null,"PM10",{"$f":"IF(AZ27=1,BM8,BM8*$BA$40*(1-$BA$41))","v":0},0,0,0,0,0,0,0,0,0,{"$f":"IF(OR(BC29=0,BC29>=8760*SUM(BC30:BC32)),SUM(BM15:BV15),IF(BC29<=BI30*8760,BC29*BA37,IF(BC29<=(BI30+BI31)*8760,(BI30*BA37*8760+(BC29-BI30*8760)*BB37),IF(BC29<=(BI30+BI31+BI32)*8760,(BI30*BA37*8760+BI31*BB37*8760+(BC29-BI30*8760-BI31*8760)*AZ37),IF(BC29<=(BC30+BI31+BI32)*8760,(BI30*BA37*8760+BI31*BB37*8760+BI32*AZ37*8760+(BC29-BI30*8760)*BG37),IF(BC29<=(BC30+BC31+BI32)*8760,(BI30*BA37*8760+BI31*BB37*8760+BI32*AZ37*8760+(BC30-BI30)*BG37*8760+(BC29-BI31*8760)*BH37),(BI30*BA37*8760+BI31*BB37*8760+BI32*AZ37*8760+(BC30-BI30)*BG37*8760+(BC31-BI31)*BH37*8760+(BC29-BI32*8760)*BF37)))))))","v":0},null,"  Benzene ",{"$f":"Z15","v":0},{"$f":"AA15","v":0},0,0,0,0,0,0,0,0,{"$f":"SUM(BZ15:CI15)","v":0},null,"  Benzene ",{"$f":"AM15","v":0},{"$f":"AN15","v":0},{"$f":"AO15","v":0},{"$f":"AP15","v":0},{"$f":"AQ15","v":0},{"$f":"AR15","v":0},{"$f":"AS15","v":0},{"$f":"AT15","v":0},{"$f":"AU15","v":0},{"$f":"AV15","v":0},{"$f":"AW15","v":0}]
["  Dichlorobenzene ",1.1999999999999999E-3,1.1999999999999999E-3,1.1999999999999999E-3,1.1999999999999999E-3,1.1999999999999999E-3,1.1999999999999999E-3,1.1999999999999999E-3,1.1999999999999999E-3,1.1999999999999999E-3,1.1999999999999999E-3,null,"  Dichlorobenzene ",{"$f":"IF('5) Dryer'!C40=0,B16/1020,'5) Dryer'!C40)","v":1.176470588235294E-6},{"$f":"IF('5) Dryer'!D40=0,C16/1020,'5) Dryer'!D40)","v":1.176470588235294E-6},{"$f":"IF('5) Dryer'!E40=0,D16/1020,'5) Dryer'!E40)","v":1.176470588235294E-6},{"$f":"IF('5) Dryer'!F40=0,E16/1020,'5) Dryer'!F40)","v":1.176470588235294E-6},{"$f":"IF('5) Dryer'!G40=0,F16/1020,'5) Dryer'!G40)","v":1.176470588235294E-6},{"$f":"IF('5) Dryer'!H40=0,G16/1020,'5) Dryer'!H40)","v":1.176470588235294E-6},{"$f":"IF('5) Dryer'!I40=0,H16/1020,'5) Dryer'!I40)","v":1.176470588235294E-6},{"$f":"IF('5) Dryer'!J40=0,I16/1020,'5) Dryer'!J40)","v":1.176470588235294E-6},{"$f":"IF('5) Dryer'!K40=0,J16/1020,'5) Dryer'!K40)","v":1.176470588235294E-6},{"$f":"IF('5) Dryer'!L40=0,K16/1020,'5) Dryer'!L40)","v":1.176470588235294E-6},null,"  Dichlorobenzene ",{"$f":"N16*'5) Dryer'!$F$17","v":0},{"$f":"O16*'5) Dryer'!$F$18","v":0},{"$f":"P16*'5) Dryer'!$F$19","v":0},{"$f":"Q16*'5) Dryer'!$F$20","v":0},{"$f":"R16*'5) Dryer'!$F$21","v":0},{"$f":"S16*'5) Dryer'!$F$22","v":0},{"$f":"T16*'5) Dryer'!$F$23","v":0},{"$f":"U16*'5) Dryer'!$F$24","v":0},{"$f":"V16*'5) Dryer'!$F$25","v":0},{"$f":"W16*'5) Dryer'!$F$26","v":0},0,null,"  Dichlorobenzene ",0,0,0,0,0,0,0,0,0,0,0,null,"PM2.5",{"$f":"IF(AZ27=1,AZ9,AZ9*$BA$40*(1-$BA$41))","v":0},0,0,0,0,0,0,0,0,0,{"$f":"IF(OR(BC28=0,BC28>=SUM(BC30:BC32)),SUM(AZ16:BI16),IF(BC28<=BI30,BC28*BA38,IF(BC28<=(BI30+BI31),(BI30*BA38+(BC28-BI30)*BB38),IF(BC28<=(BI30+BI31+BI32),(BI30*BA38+BI31*BB38+(BC28-BI30-BI31)*AZ38),IF(BC28<=(BC30+BI31+BI32),(BI30*BA38+BI31*BB38+BI32*AZ38+(BC28-BI30)*BG38),IF(BC28<=(BC30+BC31+BI32),(BI30*BA38+BI31*BB38+BI32*AZ38+(BC30-BI30)*BG38+(BC28-BI31)*BH38),(BI30*BA38+BI31*BB38+BI32*AZ38+(BC30-BI30)*BG38+(BC31-BI31)*BH38+(BC28-BI32)*BF38)))))))","v":0},null,"PM2.5",{"$f":"IF(AZ27=1,BM9,BM9*$BA$40*(1-$BA$41))","v":0},0,0,0,0,0,0,0,0,0,{"$f":"IF(OR(BC29=0,BC29>=8760*SUM(BC30:BC32)),SUM(BM16:BV16),IF(BC29<=BI30*8760,BC29*BA38,IF(BC29<=(BI30+BI31)*8760,(BI30*BA38*8760+(BC29-BI30*8760)*BB38),IF(BC29<=(BI30+BI31+BI32)*8760,(BI30*BA38*8760+BI31*BB38*8760+(BC29-BI30*8760-BI31*8760)*AZ38),IF(BC29<=(BC30+BI31+BI32)*8760,(BI30*BA38*8760+BI31*BB38*8760+BI32*AZ38*8760+(BC29-BI30*8760)*BG38),IF(BC29<=(BC30+BC31+BI32)*8760,(BI30*BA38*8760+BI31*BB38*8760+BI32*AZ38*8760+(BC30-BI30)*BG38*8760+(BC29-BI31*8760)*BH38),(BI30*BA38*8760+BI31*BB38*8760+BI32*AZ38*8760+(BC30-BI30)*BG38*8760+(BC31-BI31)*BH38*8760+(BC29-BI32*8760)*BF38)))))))","v":0},null,"  Dichlorobenzene ",{"$f":"Z16","v":0},{"$f":"AA16","v":0},{"$f":"AB16","v":0},{"$f":"AC16","v":0},{"$f":"AD16","v":0},{"$f":"AE16","v":0},{"$f":"AF16","v":0},{"$f":"AG16","v":0},{"$f":"AH16","v":0},{"$f":"AI16","v":0},0,null,"  Dichlorobenzene ",0,0,0,0,0,0,0,0,0,0,0]
["  Hexane ",1.8,1.8,1.8,1.8,1.8,1.8,1.8,1.8,1.8,1.8,null,"  Hexane ",{"$f":"IF('5) Dryer'!C41=0,B17/1020,'5) Dryer'!C41)","v":1.7647058823529412E-3},{"$f":"IF('5) Dryer'!D41=0,C17/1020,'5) Dryer'!D41)","v":1.7647058823529412E-3},{"$f":"IF('5) Dryer'!E41=0,D17/1020,'5) Dryer'!E41)","v":1.7647058823529412E-3},{"$f":"IF('5) Dryer'!F41=0,E17/1020,'5) Dryer'!F41)","v":1.7647058823529412E-3},{"$f":"IF('5) Dryer'!G41=0,F17/1020,'5) Dryer'!G41)","v":1.7647058823529412E-3},{"$f":"IF('5) Dryer'!H41=0,G17/1020,'5) Dryer'!H41)","v":1.7647058823529412E-3},{"$f":"IF('5) Dryer'!I41=0,H17/1020,'5) Dryer'!I41)","v":1.7647058823529412E-3},{"$f":"IF('5) Dryer'!J41=0,I17/1020,'5) Dryer'!J41)","v":1.7647058823529412E-3},{"$f":"IF('5) Dryer'!K41=0,J17/1020,'5) Dryer'!K41)","v":1.7647058823529412E-3},{"$f":"IF('5) Dryer'!L41=0,K17/1020,'5) Dryer'!L41)","v":1.7647058823529412E-3},null,"  Hexane ",{"$f":"N17*'5) Dryer'!$F$17","v":0},{"$f":"O17*'5) Dryer'!$F$18","v":0},{"$f":"P17*'5) Dryer'!$F$19","v":0},{"$f":"Q17*'5) Dryer'!$F$20","v":0},{"$f":"R17*'5) Dryer'!$F$21","v":0},{"$f":"S17*'5) Dryer'!$F$22","v":0},{"$f":"T17*'5) Dryer'!$F$23","v":0},{"$f":"U17*'5) Dryer'!$F$24","v":0},{"$f":"V17*'5) Dryer'!$F$25","v":0},{"$f":"W17*'5) Dryer'!$F$26","v":0},0,null,"  Hexane ",0,0,0,0,0,0,0,0,0,0,0,null,null,null,null,null,null,null,null,null,null,null,null,null,null,null,null,null,null,null,null,null,null,null,null,null,null,null,"  Hexane ",0,0,0,0,0,0,0,0,0,0,0,null,"  Hexane ",0,0,0,0,0,0,0,0,0,0,0]
["  Lead Compounds",5.0000000000000001E-4,5.0000000000000001E-4,5.0000000000000001E-4,5.0000000000000001E-4,5.0000000000000001E-4,5.0000000000000001E-4,5.0000000000000001E-4,5.0000000000000001E-4,5.0000000000000001E-4,5.0000000000000001E-4,null,"  Lead Compounds",{"$f":"IF('5) Dryer'!C42=0,B18/1020,'5) Dryer'!C42)","v":4.9019607843137254E-7},{"$f":"IF('5) Dryer'!D42=0,C18/1020,'5) Dryer'!D42)","v":4.9019607843137254E-7},{"$f":"IF('5) Dryer'!E42=0,D18/1020,'5) Dryer'!E42)","v":4.9019607843137254E-7},{"$f":"IF('5) Dryer'!F42=0,E18/1020,'5) Dryer'!F42)","v":4.9019607843137254E-7},{"$f":"IF('5) Dryer'!G42=0,F18/1020,'5) Dryer'!G42)","v":4.9019607843137254E-7},{"$f":"IF('5) Dryer'!H42=0,G18/1020,'5) Dryer'!H42)","v":4.9019607843137254E-7},{"$f":"IF('5) Dryer'!I42=0,H18/1020,'5) Dryer'!I42)","v":4.9019607843137254E-7},{"$f":"IF('5) Dryer'!J42=0,I18/1020,'5) Dryer'!J42)","v":4.9019607843137254E-7},{"$f":"IF('5) Dryer'!K42=0,J18/1020,'5) Dryer'!K42)","v":4.9019607843137254E-7},{"$f":"IF('5) Dryer'!L42=0,K18/1020,'5) Dryer'!L42)","v":4.9019607843137254E-7},null,"  Lead Compounds",{"$f":"N18*'5) Dryer'!$F$17","v":0},{"$f":"O18*'5) Dryer'!$F$18","v":0},{"$f":"P18*'5) Dryer'!$F$19","v":0},{"$f":"Q18*'5) Dryer'!$F$20","v":0},{"$f":"R18*'5) Dryer'!$F$21","v":0},{"$f":"S18*'5) Dryer'!$F$22","v":0},{"$f":"T18*'5) Dryer'!$F$23","v":0},{"$f":"U18*'5) Dryer'!$F$24","v":0},{"$f":"V18*'5) Dryer'!$F$25","v":0},{"$f":"W18*'5) Dryer'!$F$26","v":0},0,null,"  Lead Compounds",0,0,0,0,0,0,0,0,0,0,0,null,null,null,null,null,null,null,null,null,null,null,null,null,null,null,null,null,null,null,null,null,null,null,null,null,null,null,"  Lead Compounds",0,0,0,0,0,0,0,0,0,0,0,null,"  Lead Compounds",0,0,0,0,0,0,0,0,0,0,0]
["  Naphthalene ",6.0999999999999997E-4,6.0999999999999997E-4,6.0999999999999997E-4,6.0999999999999997E-4,6.0999999999999997E-4,6.0999999999999997E-4,6.0999999999999997E-4,6.0999999999999997E-4,6.0999999999999997E-4,6.0999999999999997E-4,null,"  Naphthalene ",{"$f":"IF('5) Dryer'!C43=0,B19/1020,'5) Dryer'!C43)","v":5.9803921568627444E-7},{"$f":"IF('5) Dryer'!D43=0,C19/1020,'5) Dryer'!D43)","v":5.9803921568627444E-7},{"$f":"IF('5) Dryer'!E43=0,D19/1020,'5) Dryer'!E43)","v":5.9803921568627444E-7},{"$f":"IF('5) Dryer'!F43=0,E19/1020,'5) Dryer'!F43)","v":5.9803921568627444E-7},{"$f":"IF('5) Dryer'!G43=0,F19/1020,'5) Dryer'!G43)","v":5.9803921568627444E-7},{"$f":"IF('5) Dryer'!H43=0,G19/1020,'5) Dryer'!H43)","v":5.9803921568627444E-7},{"$f":"IF('5) Dryer'!I43=0,H19/1020,'5) Dryer'!I43)","v":5.9803921568627444E-7},{"$f":"IF('5) Dryer'!J43=0,I19/1020,'5) Dryer'!J43)","v":5.9803921568627444E-7},{"$f":"IF('5) Dryer'!K43=0,J19/1020,'5) Dryer'!K43)","v":5.9803921568627444E-7},{"$f":"IF('5) Dryer'!L43=0,K19/1020,'5) Dryer'!L43)","v":5.9803921568627444E-7},null,"  Naphthalene ",{"$f":"N19*'5) Dryer'!$F$17","v":0},{"$f":"O19*'5) Dryer'!$F$18","v":0},{"$f":"P19*'5) Dryer'!$F$19","v":0},{"$f":"Q19*'5) Dryer'!$F$20","v":0},{"$f":"R19*'5) Dryer'!$F$21","v":0},{"$f":"S19*'5) Dryer'!$F$22","v":0},{"$f":"T19*'5) Dryer'!$F$23","v":0},{"$f":"U19*'5) Dryer'!$F$24","v":0},{"$f":"V19*'5) Dryer'!$F$25","v":0},{"$f":"W19*'5) Dryer'!$F$26","v":0},0,null,"  Naphthalene ",0,0,0,0,0,0,0,0,0,0,0,null,null,null,null,null,null,null,null,null,null,null,null,null,null,null,null,null,null,null,null,null,null,null,null,null,null,null,"  Naphthalene ",0,0,0,0,0,0,0,0,0,0,0,null,"  Naphthalene ",0,0,0,0,0,0,0,0,0,0,0]
["  Polycyclic Organic Matter ",8.8200000000000003E-5,8.8200000000000003E-5,8.8200000000000003E-5,8.8200000000000003E-5,8.8200000000000003E-5,8.8200000000000003E-5,8.8200000000000003E-5,8.8200000000000003E-5,8.8200000000000003E-5,8.8200000000000003E-5,null,"  Polycyclic Organic Matter ",{"$f":"IF('5) Dryer'!C44=0,B20/1020,'5) Dryer'!C44)","v":8.6470588235294114E-8},{"$f":"IF('5) Dryer'!D44=0,C20/1020,'5) Dryer'!D44)","v":8.6470588235294114E-8},{"$f":"IF('5) Dryer'!E44=0,D20/1020,'5) Dryer'!E44)","v":8.6470588235294114E-8},{"$f":"IF('5) Dryer'!F44=0,E20/1020,'5) Dryer'!F44)","v":8.6470588235294114E-8},{"$f":"IF('5) Dryer'!G44=0,F20/1020,'5) Dryer'!G44)","v":8.6470588235294114E-8},{"$f":"IF('5) Dryer'!H44=0,G20/1020,'5) Dryer'!H44)","v":8.6470588235294114E-8},{"$f":"IF('5) Dryer'!I44=0,H20/1020,'5) Dryer'!I44)","v":8.6470588235294114E-8},{"$f":"IF('5) Dryer'!J44=0,I20/1020,'5) Dryer'!J44)","v":8.6470588235294114E-8},{"$f":"IF('5) Dryer'!K44=0,J20/1020,'5) Dryer'!K44)","v":8.6470588235294114E-8},{"$f":"IF('5) Dryer'!L44=0,K20/1020,'5) Dryer'!L44)","v":8.6470588235294114E-8},null,"  Polycyclic Organic Matter ",{"$f":"N20*'5) Dryer'!$F$17","v":0},{"$f":"O20*'5) Dryer'!$F$18","v":0},{"$f":"P20*'5) Dryer'!$F$19","v":0},{"$f":"Q20*'5) Dryer'!$F$20","v":0},{"$f":"R20*'5) Dryer'!$F$21","v":0},{"$f":"S20*'5) Dryer'!$F$22","v":0},{"$f":"T20*'5) Dryer'!$F$23","v":0},{"$f":"U20*'5) Dryer'!$F$24","v":0},{"$f":"V20*'5) Dryer'!$F$25","v":0},{"$f":"W20*'5) Dryer'!$F$26","v":0},0,null,"  Polycyclic Organic Matter ",0,0,0,0,0,0,0,0,0,0,0,null,null,null,null,null,null,null,null,null,null,null,null,null,null,null,null,null,null,null,null,null,null,null,null,null,null,null,"  Polycyclic Organic Matter ",{"$f":"Z20","v":0},{"$f":"AA20","v":0},{"$f":"AB20","v":0},{"$f":"AC20","v":0},{"$f":"AD20","v":0},{"$f":"AE20","v":0},{"$f":"AF20","v":0},{"$f":"AG20","v":0},{"$f":"AH20","v":0},{"$f":"AI20","v":0},0,null,"  Polycyclic Organic Matter ",0,0,0,0,0,0,0,0,0,0,0]
["  Toluene ",3.3999999999999998E-3,3.3999999999999998E-3,3.3999999999999998E-3,3.3999999999999998E-3,3.3999999999999998E-3,3.3999999999999998E-3,3.3999999999999998E-3,3.3999999999999998E-3,3.3999999999999998E-3,3.3999999999999998E-3,null,"  Toluene ",{"$f":"IF('5) Dryer'!C45=0,B21/1020,'5) Dryer'!C45)","v":3.3333333333333333E-6},{"$f":"IF('5) Dryer'!D45=0,C21/1020,'5) Dryer'!D45)","v":3.3333333333333333E-6},{"$f":"IF('5) Dryer'!E45=0,D21/1020,'5) Dryer'!E45)","v":3.3333333333333333E-6},{"$f":"IF('5) Dryer'!F45=0,E21/1020,'5) Dryer'!F45)","v":3.3333333333333333E-6},{"$f":"IF('5) Dryer'!G45=0,F21/1020,'5) Dryer'!G45)","v":3.3333333333333333E-6},{"$f":"IF('5) Dryer'!H45=0,G21/1020,'5) Dryer'!H45)","v":3.3333333333333333E-6},{"$f":"IF('5) Dryer'!I45=0,H21/1020,'5) Dryer'!I45)","v":3.3333333333333333E-6},{"$f":"IF('5) Dryer'!J45=0,I21/1020,'5) Dryer'!J45)","v":3.3333333333333333E-6},{"$f":"IF('5) Dryer'!K45=0,J21/1020,'5) Dryer'!K45)","v":3.3333333333333333E-6},{"$f":"IF('5) Dryer'!L45=0,K21/1020,'5) Dryer'!L45)","v":3.3333333333333333E-6},null,"  Toluene ",{"$f":"N21*'5) Dryer'!$F$17","v":0},{"$f":"O21*'5) Dryer'!$F$18","v":0},{"$f":"P21*'5) Dryer'!$F$19","v":0},{"$f":"Q21*'5) Dryer'!$F$20","v":0},{"$f":"R21*'5) Dryer'!$F$21","v":0},{"$f":"S21*'5) Dryer'!$F$22","v":0},{"$f":"T21*'5) Dryer'!$F$23","v":0},{"$f":"U21*'5) Dryer'!$F$24","v":0},{"$f":"V21*'5) Dryer'!$F$25","v":0},{"$f":"W21*'5) Dryer'!$F$26","v":0},0,null,"  Toluene ",0,0,0,0,0,0,0,0,0,0,0,null,null,null,null,null,null,null,null,null,null,null,null,null,null,null,null,null,null,null,null,null,null,null,null,null,null,null,"  Toluene ",0,0,0,0,0,0,0,0,0,0,0,null,"  Toluene ",0,0,0,0,0,0,0,0,0,0,0]
["  Arsenic Compounds",2.0000000000000001E-4,2.0000000000000001E-4,2.0000000000000001E-4,2.0000000000000001E-4,2.0000000000000001E-4,2.0000000000000001E-4,2.0000000000000001E-4,2.0000000000000001E-4,2.0000000000000001E-4,2.0000000000000001E-4,null,"  Arsenic Compounds",{"$f":"IF('5) Dryer'!C46=0,B22/1020,'5) Dryer'!C46)","v":1.9607843137254904E-7},{"$f":"IF('5) Dryer'!D46=0,C22/1020,'5) Dryer'!D46)","v":1.9607843137254904E-7},{"$f":"IF('5) Dryer'!E46=0,D22/1020,'5) Dryer'!E46)","v":1.9607843137254904E-7},{"$f":"IF('5) Dryer'!F46=0,E22/1020,'5) Dryer'!F46)","v":1.9607843137254904E-7},{"$f":"IF('5) Dryer'!G46=0,F22/1020,'5) Dryer'!G46)","v":1.9607843137254904E-7},{"$f":"IF('5) Dryer'!H46=0,G22/1020,'5) Dryer'!H46)","v":1.9607843137254904E-7},{"$f":"IF('5) Dryer'!I46=0,H22/1020,'5) Dryer'!I46)","v":1.9607843137254904E-7},{"$f":"IF('5) Dryer'!J46=0,I22/1020,'5) Dryer'!J46)","v":1.9607843137254904E-7},{"$f":"IF('5) Dryer'!K46=0,J22/1020,'5) Dryer'!K46)","v":1.9607843137254904E-7},{"$f":"IF('5) Dryer'!L46=0,K22/1020,'5) Dryer'!L46)","v":1.9607843137254904E-7},null,"  Arsenic Compounds",{"$f":"N22*'5) Dryer'!$F$17","v":0},{"$f":"O22*'5) Dryer'!$F$18","v":0},{"$f":"P22*'5) Dryer'!$F$19","v":0},{"$f":"Q22*'5) Dryer'!$F$20","v":0},{"$f":"R22*'5) Dryer'!$F$21","v":0},{"$f":"S22*'5) Dryer'!$F$22","v":0},{"$f":"T22*'5) Dryer'!$F$23","v":0},{"$f":"U22*'5) Dryer'!$F$24","v":0},{"$f":"V22*'5) Dryer'!$F$25","v":0},{"$f":"W22*'5) Dryer'!$F$26","v":0},0,null,"  Arsenic Compounds",0,0,0,0,0,0,0,0,0,0,0,null,null,null,null,null,null,null,null,null,null,null,null,null,null,null,null,null,null,null,null,null,null,null,null,null,null,null,"  Arsenic Compounds",0,0,0,0,0,0,0,0,0,0,0,null,"  Arsenic Compounds",0,0,0,0,0,0,0,0,0,0,0]
["  Beryllium Compounds",1.2E-5,1.2E-5,1.2E-5,1.2E-5,1.2E-5,1.2E-5,1.2E-5,1.2E-5,1.2E-5,1.2E-5,null,"  Beryllium Compounds",{"$f":"IF('5) Dryer'!C47=0,B23/1020,'5) Dryer'!C47)","v":1.1764705882352941E-8},{"$f":"IF('5) Dryer'!D47=0,C23/1020,'5) Dryer'!D47)","v":1.1764705882352941E-8},{"$f":"IF('5) Dryer'!E47=0,D23/1020,'5) Dryer'!E47)","v":1.1764705882352941E-8},{"$f":"IF('5) Dryer'!F47=0,E23/1020,'5) Dryer'!F47)","v":1.1764705882352941E-8},{"$f":"IF('5) Dryer'!G47=0,F23/1020,'5) Dryer'!G47)","v":1.1764705882352941E-8},{"$f":"IF('5) Dryer'!H47=0,G23/1020,'5) Dryer'!H47)","v":1.1764705882352941E-8},{"$f":"IF('5) Dryer'!I47=0,H23/1020,'5) Dryer'!I47)","v":1.1764705882352941E-8},{"$f":"IF('5) Dryer'!J47=0,I23/1020,'5) Dryer'!J47)","v":1.1764705882352941E-8},{"$f":"IF('5) Dryer'!K47=0,J23/1020,'5) Dryer'!K47)","v":1.1764705882352941E-8},{"$f":"IF('5) Dryer'!L47=0,K23/1020,'5) Dryer'!L47)","v":1.1764705882352941E-8},null,"  Beryllium Compounds",{"$f":"N23*'5) Dryer'!$F$17","v":0},{"$f":"O23*'5) Dryer'!$F$18","v":0},{"$f":"P23*'5) Dryer'!$F$19","v":0},{"$f":"Q23*'5) Dryer'!$F$20","v":0},{"$f":"R23*'5) Dryer'!$F$21","v":0},{"$f":"S23*'5) Dryer'!$F$22","v":0},{"$f":"T23*'5) Dryer'!$F$23","v":0},{"$f":"U23*'5) Dryer'!$F$24","v":0},{"$f":"V23*'5) Dryer'!$F$25","v":0},{"$f":"W23*'5) Dryer'!$F$26","v":0},0,null,"  Beryllium Compounds",0,0,0,0,0,0,0,0,0,0,0,null,null,null,null,null,null,null,null,null,null,null,null,null,null,null,null,null,null,null,null,null,null,null,null,null,null,null,"  Beryllium Compounds",0,0,0,0,0,0,0,0,0,0,0,null,"  Beryllium Compounds",0,0,0,0,0,0,0,0,0,0,0]
["  Cadmium Compounds",1.1000000000000001E-3,1.1000000000000001E-3,1.1000000000000001E-3,1.1000000000000001E-3,1.1000000000000001E-3,1.1000000000000001E-3,1.1000000000000001E-3,1.1000000000000001E-3,1.1000000000000001E-3,1.1000000000000001E-3,null,"  Cadmium Compounds",{"$f":"IF('5) Dryer'!C48=0,B24/1020,'5) Dryer'!C48)","v":1.0784313725490197E-6},{"$f":"IF('5) Dryer'!D48=0,C24/1020,'5) Dryer'!D48)","v":1.0784313725490197E-6},{"$f":"IF('5) Dryer'!E48=0,D24/1020,'5) Dryer'!E48)","v":1.0784313725490197E-6},{"$f":"IF('5) Dryer'!F48=0,E24/1020,'5) Dryer'!F48)","v":1.0784313725490197E-6},{"$f":"IF('5) Dryer'!G48=0,F24/1020,'5) Dryer'!G48)","v":1.0784313725490197E-6},{"$f":"IF('5) Dryer'!H48=0,G24/1020,'5) Dryer'!H48)","v":1.0784313725490197E-6},{"$f":"IF('5) Dryer'!I48=0,H24/1020,'5) Dryer'!I48)","v":1.0784313725490197E-6},{"$f":"IF('5) Dryer'!J48=0,I24/1020,'5) Dryer'!J48)","v":1.0784313725490197E-6},{"$f":"IF('5) Dryer'!K48=0,J24/1020,'5) Dryer'!K48)","v":1.0784313725490197E-6},{"$f":"IF('5) Dryer'!L48=0,K24/1020,'5) Dryer'!L48)","v":1.0784313725490197E-6},null,"  Cadmium Compounds",{"$f":"N24*'5) Dryer'!$F$17","v":0},{"$f":"O24*'5) Dryer'!$F$18","v":0},{"$f":"P24*'5) Dryer'!$F$19","v":0},{"$f":"Q24*'5) Dryer'!$F$20","v":0},{"$f":"R24*'5) Dryer'!$F$21","v":0},{"$f":"S24*'5) Dryer'!$F$22","v":0},{"$f":"T24*'5) Dryer'!$F$23","v":0},{"$f":"U24*'5) Dryer'!$F$24","v":0},{"$f":"V24*'5) Dryer'!$F$25","v":0},{"$f":"W24*'5) Dryer'!$F$26","v":0},0,null,"  Cadmium Compounds",0,0,0,0,0,0,0,0,0,0,0,null,"Supporting data:",null,null,null,null,null,null,null,null,null,null,null,null,null,null,null,null,null,null,null,null,null,null,null,null,null,"  Cadmium Compounds",0,0,0,0,0,0,0,0,0,0,0,null,"  Cadmium Compounds",0,0,0,0,0,0,0,0,0,0,0]
["  Chromium Compounds",1.4E-3,1.4E-3,1.4E-3,1.4E-3,1.4E-3,1.4E-3,1.4E-3,1.4E-3,1.4E-3,1.4E-3,null,"  Chromium Compounds",{"$f":"IF('5) Dryer'!C49=0,B25/1020,'5) Dryer'!C49)","v":1.3725490196078432E-6},{"$f":"IF('5) Dryer'!D49=0,C25/1020,'5) Dryer'!D49)","v":1.3725490196078432E-6},{"$f":"IF('5) Dryer'!E49=0,D25/1020,'5) Dryer'!E49)","v":1.3725490196078432E-6},{"$f":"IF('5) Dryer'!F49=0,E25/1020,'5) Dryer'!F49)","v":1.3725490196078432E-6},{"$f":"IF('5) Dryer'!G49=0,F25/1020,'5) Dryer'!G49)","v":1.3725490196078432E-6},{"$f":"IF('5) Dryer'!H49=0,G25/1020,'5) Dryer'!H49)","v":1.3725490196078432E-6},{"$f":"IF('5) Dryer'!I49=0,H25/1020,'5) Dryer'!I49)","v":1.3725490196078432E-6},{"$f":"IF('5) Dryer'!J49=0,I25/1020,'5) Dryer'!J49)","v":1.3725490196078432E-6},{"$f":"IF('5) Dryer'!K49=0,J25/1020,'5) Dryer'!K49)","v":1.3725490196078432E-6},{"$f":"IF('5) Dryer'!L49=0,K25/1020,'5) Dryer'!L49)","v":1.3725490196078432E-6},null,"  Chromium Compounds",{"$f":"N25*'5) Dryer'!$F$17","v":0},{"$f":"O25*'5) Dryer'!$F$18","v":0},{"$f":"P25*'5) Dryer'!$F$19","v":0},{"$f":"Q25*'5) Dryer'!$F$20","v":0},{"$f":"R25*'5) Dryer'!$F$21","v":0},{"$f":"S25*'5) Dryer'!$F$22","v":0},{"$f":"T25*'5) Dryer'!$F$23","v":0},{"$f":"U25*'5) Dryer'!$F$24","v":0},{"$f":"V25*'5) Dryer'!$F$25","v":0},{"$f":"W25*'5) Dryer'!$F$26","v":0},0,null,"  Chromium Compounds",0,0,0,0,0,0,0,0,0,0,0,null,"ton/hr",{"$f":"'5) Dryer'!D17","v":0},{"$f":"'5) Dryer'!D18","v":0},{"$f":"'5) Dryer'!D19","v":0},{"$f":"'5) Dryer'!D20","v":0},{"$f":"'5) Dryer'!D21","v":0},{"$f":"'5) Dryer'!D22","v":0},{"$f":"'5) Dryer'!D23","v":0},{"$f":"'5) Dryer'!D24","v":0},{"$f":"'5) Dryer'!D25","v":0},{"$f":"'5) Dryer'!D26","v":0},null,null,null,null,null,null,null,null,null,null,null,null,null,null,null,"  Chromium Compounds",0,0,0,0,0,0,0,0,0,0,0,null,"  Chromium Compounds",0,0,0,0,0,0,0,0,0,0,0]
["  Cobalt Compounds",8.3999999999999995E-5,8.3999999999999995E-5,8.3999999999999995E-5,8.3999999999999995E-5,8.3999999999999995E-5,8.3999999999999995E-5,8.3999999999999995E-5,8.3999999999999995E-5,8.3999999999999995E-5,8.3999999999999995E-5,null,"  Cobalt Compounds",{"$f":"IF('5) Dryer'!C50=0,B26/1020,'5) Dryer'!C50)","v":8.2352941176470587E-8},{"$f":"IF('5) Dryer'!D50=0,C26/1020,'5) Dryer'!D50)","v":8.2352941176470587E-8},{"$f":"IF('5) Dryer'!E50=0,D26/1020,'5) Dryer'!E50)","v":8.2352941176470587E-8},{"$f":"IF('5) Dryer'!F50=0,E26/1020,'5) Dryer'!F50)","v":8.2352941176470587E-8},{"$f":"IF('5) Dryer'!G50=0,F26/1020,'5) Dryer'!G50)","v":8.2352941176470587E-8},{"$f":"IF('5) Dryer'!H50=0,G26/1020,'5) Dryer'!H50)","v":8.2352941176470587E-8},{"$f":"IF('5) Dryer'!I50=0,H26/1020,'5) Dryer'!I50)","v":8.2352941176470587E-8},{"$f":"IF('5) Dryer'!J50=0,I26/1020,'5) Dryer'!J50)","v":8.2352941176470587E-8},{"$f":"IF('5) Dryer'!K50=0,J26/1020,'5) Dryer'!K50)","v":8.2352941176470587E-8},{"$f":"IF('5) Dryer'!L50=0,K26/1020,'5) Dryer'!L50)","v":8.2352941176470587E-8},null,"  Cobalt Compounds",{"$f":"N26*'5) Dryer'!$F$17","v":0},{"$f":"O26*'5) Dryer'!$F$18","v":0},{"$f":"P26*'5) Dryer'!$F$19","v":0},{"$f":"Q26*'5) Dryer'!$F$20","v":0},{"$f":"R26*'5) Dryer'!$F$21","v":0},{"$f":"S26*'5) Dryer'!$F$22","v":0},{"$f":"T26*'5) Dryer'!$F$23","v":0},{"$f":"U26*'5) Dryer'!$F$24","v":0},{"$f":"V26*'5) Dryer'!$F$25","v":0},{"$f":"W26*'5) Dryer'!$F$26","v":0},0,null,"  Cobalt Compounds",0,0,0,0,0,0,0,0,0,0,0,null,"Dryer type",{"$f":"'5) Dryer'!G17","v":0},{"$f":"'5) Dryer'!G18","v":0},{"$f":"'5) Dryer'!G19","v":0},{"$f":"'5) Dryer'!G20","v":0},{"$f":"'5) Dryer'!G21","v":0},{"$f":"'5) Dryer'!G22","v":0},{"$f":"'5) Dryer'!G23","v":0},{"$f":"'5) Dryer'!G24","v":0},{"$f":"'5) Dryer'!G25","v":0},{"$f":"'5) Dryer'!G26","v":0},null,null,null,null,null,null,null,null,null,null,null,null,null,null,null,"  Cobalt Compounds",0,0,0,0,0,0,0,0,0,0,0,null,"  Cobalt Compounds",0,0,0,0,0,0,0,0,0,0,0]
["  Manganese Compounds",3.8000000000000002E-4,3.8000000000000002E-4,3.8000000000000002E-4,3.8000000000000002E-4,3.8000000000000002E-4,3.8000000000000002E-4,3.8000000000000002E-4,3.8000000000000002E-4,3.8000000000000002E-4,3.8000000000000002E-4,null,"  Manganese Compounds",{"$f":"IF('5) Dryer'!C51=0,B27/1020,'5) Dryer'!C51)","v":3.7254901960784315E-7},{"$f":"IF('5) Dryer'!D51=0,C27/1020,'5) Dryer'!D51)","v":3.7254901960784315E-7},{"$f":"IF('5) Dryer'!E51=0,D27/1020,'5) Dryer'!E51)","v":3.7254901960784315E-7},{"$f":"IF('5) Dryer'!F51=0,E27/1020,'5) Dryer'!F51)","v":3.7254901960784315E-7},{"$f":"IF('5) Dryer'!G51=0,F27/1020,'5) Dryer'!G51)","v":3.7254901960784315E-7},{"$f":"IF('5) Dryer'!H51=0,G27/1020,'5) Dryer'!H51)","v":3.7254901960784315E-7},{"$f":"IF('5) Dryer'!I51=0,H27/1020,'5) Dryer'!I51)","v":3.7254901960784315E-7},{"$f":"IF('5) Dryer'!J51=0,I27/1020,'5) Dryer'!J51)","v":3.7254901960784315E-7},{"$f":"IF('5) Dryer'!K51=0,J27/1020,'5) Dryer'!K51)","v":3.7254901960784315E-7},{"$f":"IF('5) Dryer'!L51=0,K27/1020,'5) Dryer'!L51)","v":3.7254901960784315E-7},null,"  Manganese Compounds",{"$f":"N27*'5) Dryer'!$F$17","v":0},{"$f":"O27*'5) Dryer'!$F$18","v":0},{"$f":"P27*'5) Dryer'!$F$19","v":0},{"$f":"Q27*'5) Dryer'!$F$20","v":0},{"$f":"R27*'5) Dryer'!$F$21","v":0},{"$f":"S27*'5) Dryer'!$F$22","v":0},{"$f":"T27*'5) Dryer'!$F$23","v":0},{"$f":"U27*'5) Dryer'!$F$24","v":0},{"$f":"V27*'5) Dryer'!$F$25","v":0},{"$f":"W27*'5) Dryer'!$F$26","v":0},0,null,"  Manganese Compounds",0,0,0,0,0,0,0,0,0,0,0,null,"Particulate control",{"$f":"IF('5) Dryer'!H17=Datasets!$C$3,0,1)","v":1},{"$f":"IF('5) Dryer'!H18=Datasets!$C$3,0,1)","v":1},{"$f":"IF('5) Dryer'!H19=Datasets!$C$3,0,1)","v":1},{"$f":"IF('5) Dryer'!H20=Datasets!$C$3,0,1)","v":1},{"$f":"IF('5) Dryer'!H21=Datasets!$C$3,0,1)","v":1},{"$f":"IF('5) Dryer'!H22=Datasets!$C$3,0,1)","v":1},{"$f":"IF('5) Dryer'!H23=Datasets!$C$3,0,1)","v":1},{"$f":"IF('5) Dryer'!H24=Datasets!$C$3,0,1)","v":1},{"$f":"IF('5) Dryer'!H25=Datasets!$C$3,0,1)","v":1},{"$f":"IF('5) Dryer'!H26=Datasets!$C$3,0,1)","v":1},null,null,null,null,null,null,null,null,null,null,null,null,null,null,null,"  Manganese Compounds",0,0,0,0,0,0,0,0,0,0,0,null,"  Manganese Compounds",0,0,0,0,0,0,0,0,0,0,0]
["  Mercury Compounds",2.5999999999999998E-4,2.5999999999999998E-4,2.5999999999999998E-4,2.5999999999999998E-4,2.5999999999999998E-4,2.5999999999999998E-4,2.5999999999999998E-4,2.5999999999999998E-4,2.5999999999999998E-4,2.5999999999999998E-4,null,"  Mercury Compounds",{"$f":"IF('5) Dryer'!C52=0,B28/1020,'5) Dryer'!C52)","v":2.5490196078431371E-7},{"$f":"IF('5) Dryer'!D52=0,C28/1020,'5) Dryer'!D52)","v":2.5490196078431371E-7},{"$f":"IF('5) Dryer'!E52=0,D28/1020,'5) Dryer'!E52)","v":2.5490196078431371E-7},{"$f":"IF('5) Dryer'!F52=0,E28/1020,'5) Dryer'!F52)","v":2.5490196078431371E-7},{"$f":"IF('5) Dryer'!G52=0,F28/1020,'5) Dryer'!G52)","v":2.5490196078431371E-7},{"$f":"IF('5) Dryer'!H52=0,G28/1020,'5) Dryer'!H52)","v":2.5490196078431371E-7},{"$f":"IF('5) Dryer'!I52=0,H28/1020,'5) Dryer'!I52)","v":2.5490196078431371E-7},{"$f":"IF('5) Dryer'!J52=0,I28/1020,'5) Dryer'!J52)","v":2.5490196078431371E-7},{"$f":"IF('5) Dryer'!K52=0,J28/1020,'5) Dryer'!K52)","v":2.5490196078431371E-7},{"$f":"IF('5) Dryer'!L52=0,K28/1020,'5) Dryer'!L52)","v":2.5490196078431371E-7},null,"  Mercury Compounds",{"$f":"N28*'5) Dryer'!$F$17","v":0},{"$f":"O28*'5) Dryer'!$F$18","v":0},{"$f":"P28*'5) Dryer'!$F$19","v":0},{"$f":"Q28*'5) Dryer'!$F$20","v":0},{"$f":"R28*'5) Dryer'!$F$21","v":0},{"$f":"S28*'5) Dryer'!$F$22","v":0},{"$f":"T28*'5) Dryer'!$F$23","v":0},{"$f":"U28*'5) Dryer'!$F$24","v":0},{"$f":"V28*'5) Dryer'!$F$25","v":0},{"$f":"W28*'5) Dryer'!$F$26","v":0},0,null,"  Mercury Compounds",0,0,0,0,0,0,0,0,0,0,0,null,"Ton/hr Limit",null,null,null,{"$f":"'5) Dryer'!D12","v":0},null,null,null,null,null,null,null,null,null,null,null,null,null,null,null,null,null,null,null,null,null,"  Mercury Compounds",0,0,0,0,0,0,0,0,0,0,0,null,"  Mercury Compounds",0,0,0,0,0,0,0,0,0,0,0]
["  Nickel Compounds",2.0999999999999999E-3,2.0999999999999999E-3,2.0999999999999999E-3,2.0999999999999999E-3,2.0999999999999999E-3,2.0999999999999999E-3,2.0999999999999999E-3,2.0999999999999999E-3,2.0999999999999999E-3,2.0999999999999999E-3,null,"  Nickel Compounds",{"$f":"IF('5) Dryer'!C53=0,B29/1020,'5) Dryer'!C53)","v":2.0588235294117645E-6},{"$f":"IF('5) Dryer'!D53=0,C29/1020,'5) Dryer'!D53)","v":2.0588235294117645E-6},{"$f":"IF('5) Dryer'!E53=0,D29/1020,'5) Dryer'!E53)","v":2.0588235294117645E-6},{"$f":"IF('5) Dryer'!F53=0,E29/1020,'5) Dryer'!F53)","v":2.0588235294117645E-6},{"$f":"IF('5) Dryer'!G53=0,F29/1020,'5) Dryer'!G53)","v":2.0588235294117645E-6},{"$f":"IF('5) Dryer'!H53=0,G29/1020,'5) Dryer'!H53)","v":2.0588235294117645E-6},{"$f":"IF('5) Dryer'!I53=0,H29/1020,'5) Dryer'!I53)","v":2.0588235294117645E-6},{"$f":"IF('5) Dryer'!J53=0,I29/1020,'5) Dryer'!J53)","v":2.0588235294117645E-6},{"$f":"IF('5) Dryer'!K53=0,J29/1020,'5) Dryer'!K53)","v":2.0588235294117645E-6},{"$f":"IF('5) Dryer'!L53=0,K29/1020,'5) Dryer'!L53)","v":2.0588235294117645E-6},null,"  Nickel Compounds",{"$f":"N29*'5) Dryer'!$F$17","v":0},{"$f":"O29*'5) Dryer'!$F$18","v":0},{"$f":"P29*'5) Dryer'!$F$19","v":0},{"$f":"Q29*'5) Dryer'!$F$20","v":0},{"$f":"R29*'5) Dryer'!$F$21","v":0},{"$f":"S29*'5) Dryer'!$F$22","v":0},{"$f":"T29*'5) Dryer'!$F$23","v":0},{"$f":"U29*'5) Dryer'!$F$24","v":0},{"$f":"V29*'5) Dryer'!$F$25","v":0},{"$f":"W29*'5) Dryer'!$F$26","v":0},0,null,"  Nickel Compounds",0,0,0,0,0,0,0,0,0,0,0,null,"Ton/yr Limit",null,null,null,{"$f":"'5) Dryer'!D13","v":0},null,null,null,null,null,null,null,null,null,null,null,null,null,null,null,null,null,null,null,null,null,"  Nickel Compounds",0,0,0,0,0,0,0,0,0,0,0,null,"  Nickel Compounds",0,0,0,0,0,0,0,0,0,0,0]
["  Selenium Compounds",2.4000000000000001E-5,2.4000000000000001E-5,2.4000000000000001E-5,2.4000000000000001E-5,2.4000000000000001E-5,2.4000000000000001E-5,2.4000000000000001E-5,2.4000000000000001E-5,2.4000000000000001E-5,2.4000000000000001E-5,null,"  Selenium Compounds",{"$f":"IF('5) Dryer'!C54=0,B30/1020,'5) Dryer'!C54)","v":2.3529411764705881E-8},{"$f":"IF('5) Dryer'!D54=0,C30/1020,'5) Dryer'!D54)","v":2.3529411764705881E-8},{"$f":"IF('5) Dryer'!E54=0,D30/1020,'5) Dryer'!E54)","v":2.3529411764705881E-8},{"$f":"IF('5) Dryer'!F54=0,E30/1020,'5) Dryer'!F54)","v":2.3529411764705881E-8},{"$f":"IF('5) Dryer'!G54=0,F30/1020,'5) Dryer'!G54)","v":2.3529411764705881E-8},{"$f":"IF('5) Dryer'!H54=0,G30/1020,'5) Dryer'!H54)","v":2.3529411764705881E-8},{"$f":"IF('5) Dryer'!I54=0,H30/1020,'5) Dryer'!I54)","v":2.3529411764705881E-8},{"$f":"IF('5) Dryer'!J54=0,I30/1020,'5) Dryer'!J54)","v":2.3529411764705881E-8},{"$f":"IF('5) Dryer'!K54=0,J30/1020,'5) Dryer'!K54)","v":2.3529411764705881E-8},{"$f":"IF('5) Dryer'!L54=0,K30/1020,'5) Dryer'!L54)","v":2.3529411764705881E-8},null,"  Selenium Compounds",{"$f":"N30*'5) Dryer'!$F$17","v":0},{"$f":"O30*'5) Dryer'!$F$18","v":0},{"$f":"P30*'5) Dryer'!$F$19","v":0},{"$f":"Q30*'5) Dryer'!$F$20","v":0},{"$f":"R30*'5) Dryer'!$F$21","v":0},{"$f":"S30*'5) Dryer'!$F$22","v":0},{"$f":"T30*'5) Dryer'!$F$23","v":0},{"$f":"U30*'5) Dryer'!$F$24","v":0},{"$f":"V30*'5) Dryer'!$F$25","v":0},{"$f":"W30*'5) Dryer'!$F$26","v":0},0,null,"  Selenium Compounds",0,0,0,0,0,0,0,0,0,0,0,null,"Total ton/hr of Rack dryers",null,null,null,{"$f":"SUMIFS(AZ25:BI25,AZ26:BI26,'5) Calculations'!BA35)","v":0},null,"Total ton/hr of uncontrolled Rack dryers",null,null,null,{"$f":"SUMIFS(AZ25:BI25,AZ26:BI26,'5) Calculations'!BA35,AZ27:BI27,1)","v":0},null,null,null,null,null,null,null,null,null,null,null,null,null,null,null,"  Selenium Compounds",0,0,0,0,0,0,0,0,0,0,0,null,"  Selenium Compounds",0,0,0,0,0,0,0,0,0,0,0]
["Total HAPs",null,null,null,null,null,null,null,null,null,null,null,"Total HAPs",{"$f":"IF('5) Dryer'!C55=0,B31/1020,'5) Dryer'!C55)","v":0},{"$f":"IF('5) Dryer'!D55=0,C31/1020,'5) Dryer'!D55)","v":0},{"$f":"IF('5) Dryer'!E55=0,D31/1020,'5) Dryer'!E55)","v":0},{"$f":"IF('5) Dryer'!F55=0,E31/1020,'5) Dryer'!F55)","v":0},{"$f":"IF('5) Dryer'!G55=0,F31/1020,'5) Dryer'!G55)","v":0},{"$f":"IF('5) Dryer'!H55=0,G31/1020,'5) Dryer'!H55)","v":0},{"$f":"IF('5) Dryer'!I55=0,H31/1020,'5) Dryer'!I55)","v":0},{"$f":"IF('5) Dryer'!J55=0,I31/1020,'5) Dryer'!J55)","v":0},{"$f":"IF('5) Dryer'!K55=0,J31/1020,'5) Dryer'!K55)","v":0},{"$f":"IF('5) Dryer'!L55=0,K31/1020,'5) Dryer'!L55)","v":0},null,"Total HAPs",{"$f":"SUM(Z15:Z30)","v":0},{"$f":"SUM(AA15:AA30)","v":0},0,0,0,0,0,0,0,0,0,null,"Total HAPs",{"$f":"IF(AM$4=0,Z31*8760/2000,Z31*AM$4/2000)","v":0},{"$f":"IF(AN$4=0,AA31*8760/2000,AA31*AN$4/2000)","v":0},{"$f":"IF(AO$4=0,AB31*8760/2000,AB31*AO$4/2000)","v":0},{"$f":"IF(AP$4=0,AC31*8760/2000,AC31*AP$4/2000)","v":0},{"$f":"IF(AQ$4=0,AD31*8760/2000,AD31*AQ$4/2000)","v":0},{"$f":"IF(AR$4=0,AE31*8760/2000,AE31*AR$4/2000)","v":0},{"$f":"IF(AS$4=0,AF31*8760/2000,AF31*AS$4/2000)","v":0},{"$f":"IF(AT$4=0,AG31*8760/2000,AG31*AT$4/2000)","v":0},{"$f":"IF(AU$4=0,AH31*8760/2000,AH31*AU$4/2000)","v":0},{"$f":"IF(AV$4=0,AI31*8760/2000,AI31*AV$4/2000)","v":0},{"$f":"SUM(AM31:AV31)","v":0},null,"Total ton/hr of Self-Cleaning Screens ",null,null,null,{"$f":"SUMIFS(AZ25:BI25,AZ26:BI26,'5) Calculations'!BB35)","v":0},null,"Total ton/hr of uncontrolled Self-Cleaning Screens ",null,null,null,{"$f":"SUMIFS(AZ25:BI25,AZ26:BI26,'5) Calculations'!BB35,AZ27:BI27,1)","v":0},null,null,null,null,null,null,null,null,null,null,null,null,null,null,null,"Total HAPs",0,0,0,0,0,0,0,0,0,0,0,null,"Total HAPs",0,0,0,0,0,0,0,0,0,0,0]
["Greenhouse Gases (GHG)","(lb/MMBtu)",null,null,null,null,null,null,null,null,null,null,"Greenhouse Gases (GHG)",null,null,null,null,null,null,null,null,null,null,null,null,null,null,null,null,null,null,null,null,null,null,null,null,null,null,null,null,null,null,null,null,null,null,null,null,null,"Total ton/hr of Column dryers",null,null,null,{"$f":"SUMIFS(AZ25:BI25,AZ26:BI26,'5) Calculations'!AZ35)","v":0},null,"Total ton/hr of uncontrolled Column dryers",null,null,null,{"$f":"SUMIFS(AZ25:BI25,AZ26:BI26,'5) Calculations'!AZ35,AZ27:BI27,1)","v":0}]
["  Carbon Dioxide (CO2)",{"$f":"53.06*2.20462","v":116.9771372},{"$f":"53.06*2.20462","v":116.9771372},116.9771372,116.9771372,116.9771372,116.9771372,116.9771372,116.9771372,116.9771372,116.9771372,null,"  Carbon Dioxide (CO2)",{"$f":"IF('5) Dryer'!C57=0,B33,'5) Dryer'!C57)","v":116.9771372},{"$f":"IF('5) Dryer'!D57=0,C33,'5) Dryer'!D57)","v":116.9771372},{"$f":"IF('5) Dryer'!E57=0,D33,'5) Dryer'!E57)","v":116.9771372},{"$f":"IF('5) Dryer'!F57=0,E33,'5) Dryer'!F57)","v":116.9771372},{"$f":"IF('5) Dryer'!G57=0,F33,'5) Dryer'!G57)","v":116.9771372},{"$f":"IF('5) Dryer'!H57=0,G33,'5) Dryer'!H57)","v":116.9771372},{"$f":"IF('5) Dryer'!I57=0,H33,'5) Dryer'!I57)","v":116.9771372},{"$f":"IF('5) Dryer'!J57=0,I33,'5) Dryer'!J57)","v":116.9771372},{"$f":"IF('5) Dryer'!K57=0,J33,'5) Dryer'!K57)","v":116.9771372},{"$f":"IF('5) Dryer'!L57=0,K33,'5) Dryer'!L57)","v":116.9771372},null,"  Carbon Dioxide (CO2)",{"$f":"N33*'5) Dryer'!$F$17","v":0},{"$f":"O33*'5) Dryer'!$F$18","v":0},{"$f":"P33*'5) Dryer'!$F$19","v":0},{"$f":"Q33*'5) Dryer'!$F$20","v":0},{"$f":"R33*'5) Dryer'!$F$21","v":0},{"$f":"S33*'5) Dryer'!$F$22","v":0},{"$f":"T33*'5) Dryer'!$F$23","v":0},{"$f":"U33*'5) Dryer'!$F$24","v":0},{"$f":"V33*'5) Dryer'!$F$25","v":0},{"$f":"W33*'5) Dryer'!$F$26","v":0},{"$f":"SUM(Z33:AI33)","v":0},null,"  Carbon Dioxide (CO2)",{"$f":"IF(AM$4=0,Z33*8760/2000,Z33*AM$4/2000)","v":0},{"$f":"IF(AN$4=0,AA33*8760/2000,AA33*AN$4/2000)","v":0},{"$f":"IF(AO$4=0,AB33*8760/2000,AB33*AO$4/2000)","v":0},{"$f":"IF(AP$4=0,AC33*8760/2000,AC33*AP$4/2000)","v":0},{"$f":"IF(AQ$4=0,AD33*8760/2000,AD33*AQ$4/2000)","v":0},{"$f":"IF(AR$4=0,AE33*8760/2000,AE33*AR$4/2000)","v":0},{"$f":"IF(AS$4=0,AF33*8760/2000,AF33*AS$4/2000)","v":0},{"$f":"IF(AT$4=0,AG33*8760/2000,AG33*AT$4/2000)","v":0},{"$f":"IF(AU$4=0,AH33*8760/2000,AH33*AU$4/2000)","v":0},{"$f":"IF(AV$4=0,AI33*8760/2000,AI33*AV$4/2000)","v":0},{"$f":"SUM(AM33:AV33)","v":0},null,null,null,null,null,null,null,null,null,null,null,null,null,null,null,null,null,null,null,null,null,null,null,null,null,null,null,"  Carbon Dioxide (CO2)",{"$f":"Z33","v":0},{"$f":"AA33","v":0},0,0,0,0,0,0,0,0,{"$f":"SUM(BZ33:CI33)","v":0},null,"  Carbon Dioxide (CO2)",{"$f":"AM33","v":0},{"$f":"AN33","v":0},{"$f":"AO33","v":0},{"$f":"AP33","v":0},{"$f":"AQ33","v":0},{"$f":"AR33","v":0},{"$f":"AS33","v":0},{"$f":"AT33","v":0},{"$f":"AU33","v":0},{"$f":"AV33","v":0},{"$f":"AW33","v":0}]
["  Methane (CH4)",{"$f":"0.001*2.20462","v":2.20462E-3},{"$f":"0.001*2.20462","v":2.20462E-3},2.20462E-3,2.20462E-3,2.20462E-3,2.20462E-3,2.20462E-3,2.20462E-3,2.20462E-3,2.20462E-3,null,"  Methane (CH4)",{"$f":"IF('5) Dryer'!C58=0,B34,'5) Dryer'!C58)","v":2.20462E-3},{"$f":"IF('5) Dryer'!D58=0,C34,'5) Dryer'!D58)","v":2.20462E-3},{"$f":"IF('5) Dryer'!E58=0,D34,'5) Dryer'!E58)","v":2.20462E-3},{"$f":"IF('5) Dryer'!F58=0,E34,'5) Dryer'!F58)","v":2.20462E-3},{"$f":"IF('5) Dryer'!G58=0,F34,'5) Dryer'!G58)","v":2.20462E-3},{"$f":"IF('5) Dryer'!H58=0,G34,'5) Dryer'!H58)","v":2.20462E-3},{"$f":"IF('5) Dryer'!I58=0,H34,'5) Dryer'!I58)","v":2.20462E-3},{"$f":"IF('5) Dryer'!J58=0,I34,'5) Dryer'!J58)","v":2.20462E-3},{"$f":"IF('5) Dryer'!K58=0,J34,'5) Dryer'!K58)","v":2.20462E-3},{"$f":"IF('5) Dryer'!L58=0,K34,'5) Dryer'!L58)","v":2.20462E-3},null,"  Methane (CH4)",{"$f":"N34*'5) Dryer'!$F$17","v":0},{"$f":"O34*'5) Dryer'!$F$18","v":0},{"$f":"P34*'5) Dryer'!$F$19","v":0},{"$f":"Q34*'5) Dryer'!$F$20","v":0},{"$f":"R34*'5) Dryer'!$F$21","v":0},{"$f":"S34*'5) Dryer'!$F$22","v":0},{"$f":"T34*'5) Dryer'!$F$23","v":0},{"$f":"U34*'5) Dryer'!$F$24","v":0},{"$f":"V34*'5) Dryer'!$F$25","v":0},{"$f":"W34*'5) Dryer'!$F$26","v":0},0,null,"  Methane (CH4)",0,0,0,0,0,0,0,0,0,0,0,null,null,"Emission Factor (lb/ton)",null,null,null,null,null,"Controlled Emission Factor (lb/ton)",null,null,null,null,null,null,null,null,null,null,null,null,null,null,null,null,null,null,"  Methane (CH4)",{"$f":"Z34","v":0},{"$f":"AA34","v":0},{"$f":"AB34","v":0},{"$f":"AC34","v":0},{"$f":"AD34","v":0},{"$f":"AE34","v":0},{"$f":"AF34","v":0},{"$f":"AG34","v":0},{"$f":"AH34","v":0},{"$f":"AI34","v":0},0,null,"  Methane (CH4)",0,0,0,0,0,0,0,0,0,0,0]
["  Nitrous Oxide (N2O)",{"$f":"0.0001*2.20462","v":2.2046199999999999E-4},{"$f":"0.0001*2.20462","v":2.2046199999999999E-4},2.2046199999999999E-4,2.2046199999999999E-4,2.2046199999999999E-4,2.2046199999999999E-4,2.2046199999999999E-4,2.2046199999999999E-4,2.2046199999999999E-4,2.2046199999999999E-4,null,"  Nitrous Oxide (N2O)",{"$f":"IF('5) Dryer'!C59=0,B35,'5) Dryer'!C59)","v":2.2046199999999999E-4},{"$f":"IF('5) Dryer'!D59=0,C35,'5) Dryer'!D59)","v":2.2046199999999999E-4},{"$f":"IF('5) Dryer'!E59=0,D35,'5) Dryer'!E59)","v":2.2046199999999999E-4},{"$f":"IF('5) Dryer'!F59=0,E35,'5) Dryer'!F59)","v":2.2046199999999999E-4},{"$f":"IF('5) Dryer'!G59=0,F35,'5) Dryer'!G59)","v":2.2046199999999999E-4},{"$f":"IF('5) Dryer'!H59=0,G35,'5) Dryer'!H59)","v":2.2046199999999999E-4},{"$f":"IF('5) Dryer'!J59=0,H35,'5) Dryer'!J59)","v":2.2046199999999999E-4},{"$f":"IF('5) Dryer'!K59=0,I35,'5) Dryer'!K59)","v":2.2046199999999999E-4},{"$f":"IF('5) Dryer'!L59=0,J35,'5) Dryer'!L59)","v":2.2046199999999999E-4},{"$f":"IF('5) Dryer'!M59=0,K35,'5) Dryer'!M59)","v":2.2046199999999999E-4},null,"  Nitrous Oxide (N2O)",{"$f":"N35*'5) Dryer'!$F$17","v":0},{"$f":"O35*'5) Dryer'!$F$18","v":0},{"$f":"P35*'5) Dryer'!$F$19","v":0},{"$f":"Q35*'5) Dryer'!$F$20","v":0},{"$f":"R35*'5) Dryer'!$F$21","v":0},{"$f":"S35*'5) Dryer'!$F$22","v":0},{"$f":"T35*'5) Dryer'!$F$23","v":0},{"$f":"U35*'5) Dryer'!$F$24","v":0},{"$f":"V35*'5) Dryer'!$F$25","v":0},{"$f":"W35*'5) Dryer'!$F$26","v":0},0,null,"  Nitrous Oxide (N2O)",0,0,0,0,0,0,0,0,0,0,0,null,null,{"$f":"Datasets!L2","v":"column dryer"},{"$f":"Datasets!L3","v":"rack dryer"},{"$f":"Datasets!L4","v":"self‐cleaning screens"},null,null,null,"column dryer","rack dryer","self‐cleaning screens",null,null,null,null,null,null,null,null,null,null,null,null,null,null,null,null,"  Nitrous Oxide (N2O)",0,0,0,0,0,0,0,0,0,0,0,null,"  Nitrous Oxide (N2O)",0,0,0,0,0,0,0,0,0,0,0]
["* Emission factors for Criteria Pollutants and HAPS from AP-42 Tables 1.4-1, 1.4-2, and 1.4-3. Emission Factors for GHGs from 40CFR98 ",null,null,null,null,null,null,null,null,null,null,null,"* Emission factor equals manufacturer's specified. If no manufacturer guarantee entered, AP-42 emission factors are divided by 1020 MMBtu/MMscf",null,null,null,null,null,null,null,null,null,null,null,"Total GHGs",{"$f":"SUM(Z33:Z35)","v":0},{"$f":"SUM(AA33:AA35)","v":0},0,0,0,0,0,0,0,0,0,null,"Total GHGs",0,0,0,0,0,0,0,0,0,0,0,null,"PM",0.22,3,0.47,null,null,"PM",{"$f":"AZ36*(1-$BA$82)","v":1.100000000000001E-2},0.15000000000000013,2.3500000000000021E-2,null,null,null,null,null,null,null,null,null,null,null,null,null,null,null,null,"Total GHGs",{"$f":"Z36","v":0},{"$f":"AA36","v":0},{"$f":"AB36","v":0},{"$f":"AC36","v":0},{"$f":"AD36","v":0},{"$f":"AE36","v":0},{"$f":"AF36","v":0},{"$f":"AG36","v":0},{"$f":"AH36","v":0},{"$f":"AI36","v":0},{"$f":"SUM(CJ33:CJ35)","v":0},null,"Total GHGs",0,0,0,0,0,0,0,0,0,0,0]
[null,null,null,null,null,null,null,null,null,null,null,null,null,null,null,null,null,null,null,null,null,null,null,null,"Greenhouse Gases (GHG) (CO2 Equivalent Basis)",null,null,null,null,null,null,null,null,null,null,null,null,"Greenhouse Gases (GHG) (CO2 Equivalent Basis)",null,null,null,null,null,null,null,null,null,null,null,null,"PM10",5.5E-2,0.75,0.12,null,null,"PM10",2.7500000000000024E-3,3.7500000000000033E-2,6.0000000000000053E-3,null,null,null,null,null,null,null,null,null,null,null,null,null,null,null,null,"Greenhouse Gases (GHG) (CO2 Equivalent Basis)",null,null,null,null,null,null,null,null,null,null,null,null,"Greenhouse Gases (GHG) (CO2 Equivalent Basis)"]
[null,null,null,null,null,null,null,null,null,null,null,null,null,null,null,null,null,null,null,null,null,null,null,null,"  Carbon Dioxide (CO2)",{"$f":"Z33","v":0},{"$f":"AA33","v":0},0,0,0,0,0,0,0,0,{"$f":"SUM(Z38:AI38)","v":0},null,"  Carbon Dioxide (CO2)",{"$f":"IF(AM$4=0,Z38*8760/2000,Z38*AM$4/2000)","v":0},{"$f":"IF(AN$4=0,AA38*8760/2000,AA38*AN$4/2000)","v":0},{"$f":"IF(AO$4=0,AB38*8760/2000,AB38*AO$4/2000)","v":0},{"$f":"IF(AP$4=0,AC38*8760/2000,AC38*AP$4/2000)","v":0},{"$f":"IF(AQ$4=0,AD38*8760/2000,AD38*AQ$4/2000)","v":0},{"$f":"IF(AR$4=0,AE38*8760/2000,AE38*AR$4/2000)","v":0},{"$f":"IF(AS$4=0,AF38*8760/2000,AF38*AS$4/2000)","v":0},{"$f":"IF(AT$4=0,AG38*8760/2000,AG38*AT$4/2000)","v":0},{"$f":"IF(AU$4=0,AH38*8760/2000,AH38*AU$4/2000)","v":0},{"$f":"IF(AV$4=0,AI38*8760/2000,AI38*AV$4/2000)","v":0},{"$f":"SUM(AM38:AV38)","v":0},null,"PM2.5",9.4000000000000004E-3,0.13,0.02,null,null,"PM2.5",4.7000000000000042E-4,6.5000000000000058E-3,1.0000000000000009E-3,null,null,null,null,null,null,null,null,null,null,null,null,null,null,null,null,"  Carbon Dioxide (CO2)",{"$f":"Z38","v":0},{"$f":"AA38","v":0},0,0,0,0,0,0,0,0,{"$f":"SUM(BZ38:CI38)","v":0},null,"  Carbon Dioxide (CO2)",{"$f":"AM38","v":0},{"$f":"AN38","v":0},{"$f":"AO38","v":0},{"$f":"AP38","v":0},{"$f":"AQ38","v":0},{"$f":"AR38","v":0},{"$f":"AS38","v":0},{"$f":"AT38","v":0},{"$f":"AU38","v":0},{"$f":"AV38","v":0},{"$f":"AW38","v":0}]
[null,null,null,null,null,null,null,null,null,null,null,null,null,null,null,null,null,null,null,null,null,null,null,null,"  Methane (CH4)",{"$f":"Z34*25","v":0},{"$f":"AA34*25","v":0},0,0,0,0,0,0,0,0,0,null,"  Methane (CH4)",0,0,0,0,0,0,0,0,0,0,0,null,null,null,null,null,null,null,null,null,null,null,null,null,null,null,null,null,null,null,null,null,null,null,null,null,null,null,"  Methane (CH4)",{"$f":"Z39","v":0},{"$f":"AA39","v":0},{"$f":"AB39","v":0},{"$f":"AC39","v":0},{"$f":"AD39","v":0},{"$f":"AE39","v":0},{"$f":"AF39","v":0},{"$f":"AG39","v":0},{"$f":"AH39","v":0},{"$f":"AI39","v":0},0,null,"  Methane (CH4)",0,0,0,0,0,0,0,0,0,0,0]
[null,null,null,null,null,null,null,null,null,null,null,null,null,null,null,null,null,null,null,null,null,null,null,null,"  Nitrous Oxide (N2O)",{"$f":"Z35*298","v":0},{"$f":"AA35*298","v":0},0,0,0,0,0,0,0,0,0,null,"  Nitrous Oxide (N2O)",0,0,0,0,0,0,0,0,0,0,0,null,"Capture Efficiency",null,1,null,null,null,null,null,null,null,null,null,null,null,null,null,null,null,null,null,null,null,null,null,null,null,"  Nitrous Oxide (N2O)",0,0,0,0,0,0,0,0,0,0,0,null,"  Nitrous Oxide (N2O)",0,0,0,0,0,0,0,0,0,0,0]
[null,null,null,null,null,null,null,null,null,null,null,null,null,null,null,null,null,null,null,null,null,null,null,null,"Total GHGs",{"$f":"SUM(Z38:Z40)","v":0},0,0,0,0,0,0,0,0,0,0,null,"Total GHGs",0,0,0,0,0,0,0,0,0,0,0,null,"Control Efficiency",null,0.95,null,null,null,null,null,null,null,null,null,null,null,null,null,null,null,null,null,null,null,null,null,null,null,"Total GHGs",{"$f":"Z41","v":0},{"$f":"AA41","v":0},{"$f":"AB41","v":0},{"$f":"AC41","v":0},{"$f":"AD41","v":0},{"$f":"AE41","v":0},{"$f":"AF41","v":0},{"$f":"AG41","v":0},{"$f":"AH41","v":0},{"$f":"AI41","v":0},{"$f":"SUM(CJ38:CJ40)","v":0},null,"Total GHGs",0,0,0,0,0,0,0,0,0,0,0]
["Dry Mill: Grain Drying Operations"]
["Emissions from Dry Mill's Grain Drying - Drying Process Emissions"]
[null,null,null,null,null,null,null,null,null,null,null,null,null,null,null,null,null,null,null,null,null,null,null,null,null,null,null,null,null,null,null,null,null,null,null,null,null,"PTE in ton/yr = PTE in lb/hr x annual hours limit / 2000"]
["Emission Factors*",null,null,null,null,null,null,null,null,null,null,null,"Chosen Emission Factors: Manufacturer's Guarantee (If Available) or AP-42 in lb/MMBtu*",null,null,null,null,null,null,null,null,null,null,null,"PTE in lb/hr = Emission Factor x Maximum Rated Capacity, MMBtu/hr",null,null,null,null,null,null,null,null,null,null,null,null,"Annual hours limit",{"$f":"IF('5) Dryer'!R17=0,0,'5) Dryer'!R17/'5) Dryer'!M17)","v":0},{"$f":"IF('5) Dryer'!R18=0,0,'5) Dryer'!R18/'5) Dryer'!M18)","v":0},{"$f":"IF('5) Dryer'!R19=0,0,'5) Dryer'!R19/'5) Dryer'!M19)","v":0},{"$f":"IF('5) Dryer'!R20=0,0,'5) Dryer'!R20/'5) Dryer'!M20)","v":0},{"$f":"IF('5) Dryer'!R21=0,0,'5) Dryer'!R21/'5) Dryer'!M21)","v":0},{"$f":"IF('5) Dryer'!R22=0,0,'5) Dryer'!R22/'5) Dryer'!M22)","v":0},{"$f":"IF('5) Dryer'!R23=0,0,'5) Dryer'!R23/'5) Dryer'!M23)","v":0},{"$f":"IF('5) Dryer'!R24=0,0,'5) Dryer'!R24/'5) Dryer'!M24)","v":0},{"$f":"IF('5) Dryer'!R25=0,0,'5) Dryer'!R25/'5) Dryer'!M25)","v":0},{"$f":"IF('5) Dryer'!R26=0,0,'5) Dryer'!R26/'5) Dryer'!M26)","v":0},null,null,"PTE in lb/hr based on grain drying process = Emission Factor (lb/ton) x Maximum permitted hourly rate (ton/hr)",null,null,null,null,null,null,null,null,null,null,null,null,"PTE in lb/yr based on grain drying process = Emission Factor (lb/ton) x Maximum permitted annual rate (ton/yr)",null,null,null,null,null,null,null,null,null,null,null,null,"Final PTE in lb/hr = Combustion Emissions + Process Emissions",null,null,null,null,null,null,null,null,null,null,null,null,"Final PTE in ton/yr = Combustion Emissions + Process Emissions"]
["Pollutant","1st Dryer","2nd Dryer","3rd Dryer","4th Dryer","5th Dryer","6th Dryer","7th Dryer","8th Dryer","9th Dryer","10th Dryer",null,"Pollutant","1st Dryer","2nd Dryer","3rd Dryer","4th Dryer","5th Dryer","6th Dryer","7th Dryer","8th Dryer","9th Dryer","10th Dryer",null,"Pollutant","1st Dryer","2nd Dryer","3rd Dryer","4th Dryer","5th Dryer","6th Dryer","7th Dryer","8th Dryer","9th Dryer","10th Dryer","Total ",null,"Pollutant","1st Dryer","2nd Dryer","3rd Dryer","4th Dryer","5th Dryer","6th Dryer","7th Dryer","8th Dryer","9th Dryer","10th Dryer","Total ",null,"Pollutant","1st Dryer","2nd Dryer","3rd Dryer","4th Dryer","5th Dryer","6th Dryer","7th Dryer","8th Dryer","9th Dryer","10th Dryer","Total ",null,"Pollutant","1st Dryer","2nd Dryer","3rd Dryer","4th Dryer","5th Dryer","6th Dryer","7th Dryer","8th Dryer","9th Dryer","10th Dryer","Total ",null,"Pollutant","1st Dryer","2nd Dryer","3rd Dryer","4th Dryer","5th Dryer","6th Dryer","7th Dryer","8th Dryer","9th Dryer","10th Dryer","Total ",null,"Pollutant","1st Dryer","2nd Dryer","3rd Dryer","4th Dryer","5th Dryer","6th Dryer","7th Dryer","8th Dryer","9th Dryer","10th Dryer","Total "]
[null,"(lb/MMscf)",null,null,null,null,null,null,null,null,null,null,null,null,null,null,null,null,null,null,null,null,null,null,null,"(lb/hr)",null,null,null,null,null,null,null,null,null,null,null,null,"(ton/year)",null,null,null,null,null,null,null,null,null,null,null,null,"(lb/hr)",null,null,null,null,null,null,null,null,null,null,null,null,"(lb/year)",null,null,null,null,null,null,null,null,null,null,null,null,"(lb/hr)",null,null,null,null,null,null,null,null,null,null,null,null,"(ton/year)"]
["PMfilterable",7.6,7.6,7.6,7.6,7.6,7.6,7.6,7.6,7.6,7.6,null,"PMfilterable",{"$f":"IF('5) Dryer'!C62=0,B48/1020,'5) Dryer'!C62)","v":7.4509803921568628E-3},{"$f":"IF('5) Dryer'!D62=0,C48/1020,'5) Dryer'!D62)","v":7.4509803921568628E-3},{"$f":"IF('5) Dryer'!E62=0,D48/1020,'5) Dryer'!E62)","v":7.4509803921568628E-3},{"$f":"IF('5) Dryer'!F62=0,E48/1020,'5) Dryer'!F62)","v":7.4509803921568628E-3},{"$f":"IF('5) Dryer'!G62=0,F48/1020,'5) Dryer'!G62)","v":7.4509803921568628E-3},{"$f":"IF('5) Dryer'!H62=0,G48/1020,'5) Dryer'!H62)","v":7.4509803921568628E-3},{"$f":"IF('5) Dryer'!I62=0,H48/1020,'5) Dryer'!I62)","v":7.4509803921568628E-3},{"$f":"IF('5) Dryer'!J62=0,I48/1020,'5) Dryer'!J62)","v":7.4509803921568628E-3},{"$f":"IF('5) Dryer'!K62=0,J48/1020,'5) Dryer'!K62)","v":7.4509803921568628E-3},{"$f":"IF('5) Dryer'!L62=0,K48/1020,'5) Dryer'!L62)","v":7.4509803921568628E-3},null,"PMfilterable",{"$f":"IF(AZ68=1,N48*'5) Dryer'!$O$17,N48*'5) Dryer'!$O$17*$BA$81*(1-$BA$82))","v":0},{"$f":"IF(BA68=1,O48*'5) Dryer'!$O$18,O48*'5) Dryer'!$O$18*$BA$81*(1-$BA$82))","v":0},{"$f":"IF(BB68=1,P48*'5) Dryer'!$O$19,P48*'5) Dryer'!$O$19*$BA$81*(1-$BA$82))","v":0},{"$f":"IF(BC68=1,Q48*'5) Dryer'!$O$20,Q48*'5) Dryer'!$O$20*$BA$81*(1-$BA$82))","v":0},{"$f":"IF(BD68=1,R48*'5) Dryer'!$O$21,R48*'5) Dryer'!$O$21*$BA$81*(1-$BA$82))","v":0},{"$f":"IF(BE68=1,S48*'5) Dryer'!$O$22,S48*'5) Dryer'!$O$22*$BA$81*(1-$BA$82))","v":0},{"$f":"IF(BF68=1,T48*'5) Dryer'!$O$23,T48*'5) Dryer'!$O$23*$BA$81*(1-$BA$82))","v":0},{"$f":"IF(BG68=1,U48*'5) Dryer'!$O$24,U48*'5) Dryer'!$O$24*$BA$81*(1-$BA$82))","v":0},{"$f":"IF(BH68=1,V48*'5) Dryer'!$O$25,V48*'5) Dryer'!$O$25*$BA$81*(1-$BA$82))","v":0},{"$f":"IF(BI68=1,W48*'5) Dryer'!$O$26,W48*'5) Dryer'!$O$26*$BA$81*(1-$BA$82))","v":0},{"$f":"SUM(Z48:AI48)","v":0},null,"PMfilterable",{"$f":"IF(AM$45=0,Z48*8760/2000,Z48*AM$45/2000)","v":0},0,0,0,0,0,0,0,0,0,{"$f":"SUM(AM48:AV48)","v":0},null,"PMfilterable",{"$f":"IF('5) Dryer'!P17=\"\",3,LOOKUP('5) Dryer'!P17,'5) Calculations'!$AZ$35:$BB$35,'5) Calculations'!$AZ$36:$BB$36))*'5) Dryer'!M17","v":0},{"$f":"IF('5) Dryer'!P18=\"\",3,LOOKUP('5) Dryer'!P18,'5) Calculations'!$AZ$35:$BB$35,'5) Calculations'!$AZ$36:$BB$36))*'5) Dryer'!M18","v":0},{"$f":"IF('5) Dryer'!P19=\"\",3,LOOKUP('5) Dryer'!P19,'5) Calculations'!$AZ$35:$BB$35,'5) Calculations'!$AZ$36:$BB$36))*'5) Dryer'!M19","v":0},{"$f":"IF('5) Dryer'!P20=\"\",3,LOOKUP('5) Dryer'!P20,'5) Calculations'!$AZ$35:$BB$35,'5) Calculations'!$AZ$36:$BB$36))*'5) Dryer'!M20","v":0},{"$f":"IF('5) Dryer'!P21=\"\",3,LOOKUP('5) Dryer'!P21,'5) Calculations'!$AZ$35:$BB$35,'5) Calculations'!$AZ$36:$BB$36))*'5) Dryer'!M21","v":0},{"$f":"IF('5) Dryer'!P22=\"\",3,LOOKUP('5) Dryer'!P22,'5) Calculations'!$AZ$35:$BB$35,'5) Calculations'!$AZ$36:$BB$36))*'5) Dryer'!M22","v":0},{"$f":"IF('5) Dryer'!P23=\"\",3,LOOKUP('5) Dryer'!P23,'5) Calculations'!$AZ$35:$BB$35,'5) Calculations'!$AZ$36:$BB$36))*'5) Dryer'!M23","v":0},{"$f":"IF('5) Dryer'!P24=\"\",3,LOOKUP('5) Dryer'!P24,'5) Calculations'!$AZ$35:$BB$35,'5) Calculations'!$AZ$36:$BB$36))*'5) Dryer'!M24","v":0},{"$f":"IF('5) Dryer'!P25=\"\",3,LOOKUP('5) Dryer'!P25,'5) Calculations'!$AZ$35:$BB$35,'5) Calculations'!$AZ$36:$BB$36))*'5) Dryer'!M25","v":0},{"$f":"IF('5) Dryer'!P26=\"\",3,LOOKUP('5) Dryer'!P26,'5) Calculations'!$AZ$35:$BB$35,'5) Calculations'!$AZ$36:$BB$36))*'5) Dryer'!M26","v":0},{"$f":"IF(BC69=0,SUM(AZ48:BI48),IF(BC69<=BC71,BC69*BA77,IF(BC69<=(BC71+BC72),(BC71*BA77+(BC69-BC71)*BB77),(BC71*BA77+BC72*BB77+(BC69-BC71-BC72)*AZ77))))","v":0},null,"PMfilterable",{"$f":"IF('5) Dryer'!P17=\"\",3,LOOKUP('5) Dryer'!P17,'5) Calculations'!$AZ$35:$BB$35,'5) Calculations'!$AZ$36:$BB$36))*'5) Dryer'!M17*IF(AM45=0,8760,AM45)","v":0},{"$f":"IF('5) Dryer'!P18=\"\",3,LOOKUP('5) Dryer'!P18,'5) Calculations'!$AZ$35:$BB$35,'5) Calculations'!$AZ$36:$BB$36))*'5) Dryer'!M18*IF(AN45=0,8760,AN45)","v":0},{"$f":"IF('5) Dryer'!P19=\"\",3,LOOKUP('5) Dryer'!P19,'5) Calculations'!$AZ$35:$BB$35,'5) Calculations'!$AZ$36:$BB$36))*'5) Dryer'!M19*IF(AO45=0,8760,AO45)","v":0},{"$f":"IF('5) Dryer'!P20=\"\",3,LOOKUP('5) Dryer'!P20,'5) Calculations'!$AZ$35:$BB$35,'5) Calculations'!$AZ$36:$BB$36))*'5) Dryer'!M20*IF(AP45=0,8760,AP45)","v":0},{"$f":"IF('5) Dryer'!G62=\"\",3,LOOKUP('5) Dryer'!G62,'5) Calculations'!$AZ$35:$BB$35,'5) Calculations'!$AZ$36:$BB$36))*'5) Dryer'!M21*IF(AQ45=0,8760,AQ45)","v":0},{"$f":"IF('5) Dryer'!P22=\"\",3,LOOKUP('5) Dryer'!P22,'5) Calculations'!$AZ$35:$BB$35,'5) Calculations'!$AZ$36:$BB$36))*'5) Dryer'!M22*IF(AR45=0,8760,AR45)","v":0},{"$f":"IF('5) Dryer'!P23=\"\",3,LOOKUP('5) Dryer'!P23,'5) Calculations'!$AZ$35:$BB$35,'5) Calculations'!$AZ$36:$BB$36))*'5) Dryer'!M23*IF(AS45=0,8760,AS45)","v":0},{"$f":"IF('5) Dryer'!G65=\"\",3,LOOKUP('5) Dryer'!G65,'5) Calculations'!$AZ$35:$BB$35,'5) Calculations'!$AZ$36:$BB$36))*'5) Dryer'!M24*IF(AT45=0,8760,AT45)","v":0},{"$f":"IF('5) Dryer'!P25=\"\",3,LOOKUP('5) Dryer'!P25,'5) Calculations'!$AZ$35:$BB$35,'5) Calculations'!$AZ$36:$BB$36))*'5) Dryer'!M25*IF(AU45=0,8760,AU45)","v":0},{"$f":"IF('5) Dryer'!P26=\"\",3,LOOKUP('5) Dryer'!P26,'5) Calculations'!$AZ$35:$BB$35,'5) Calculations'!$AZ$36:$BB$36))*'5) Dryer'!M26*IF(AV45=0,8760,AV45)","v":0},{"$f":"IF(BC70=0,SUM(BM48:BV48),IF(BC70<=BC71*8760,BC70*BA77,IF(BC70<=(BC71+BC72)*8760,(BC71*BA77+(BC70-BC71)*BB77),(BC71*BA77+BC72*BB77+(BC70-BC71-BC72)*AZ77))))","v":0},null,"PMfilterable",{"$f":"Z48+AZ55","v":0},{"$f":"AA48+BA55","v":0},0,0,0,0,0,0,0,0,{"$f":"AJ48+BJ55","v":0},null,"PMfilterable",{"$f":"AM48+BM55/2000","v":0},{"$f":"AN48+BN55/2000","v":0},0,0,0,0,0,0,0,0,0]
["PM10",7.6,7.6,7.6,7.6,7.6,7.6,7.6,7.6,7.6,7.6,null,"PM10",{"$f":"IF('5) Dryer'!C63=0,B49/1020,'5) Dryer'!C63)","v":7.4509803921568628E-3},{"$f":"IF('5) Dryer'!D63=0,C49/1020,'5) Dryer'!D63)","v":7.4509803921568628E-3},{"$f":"IF('5) Dryer'!E63=0,D49/1020,'5) Dryer'!E63)","v":7.4509803921568628E-3},{"$f":"IF('5) Dryer'!F63=0,E49/1020,'5) Dryer'!F63)","v":7.4509803921568628E-3},{"$f":"IF('5) Dryer'!G63=0,F49/1020,'5) Dryer'!G63)","v":7.4509803921568628E-3},{"$f":"IF('5) Dryer'!H63=0,G49/1020,'5) Dryer'!H63)","v":7.4509803921568628E-3},{"$f":"IF('5) Dryer'!I63=0,H49/1020,'5) Dryer'!I63)","v":7.4509803921568628E-3},{"$f":"IF('5) Dryer'!J63=0,I49/1020,'5) Dryer'!J63)","v":7.4509803921568628E-3},{"$f":"IF('5) Dryer'!K63=0,J49/1020,'5) Dryer'!K63)","v":7.4509803921568628E-3},{"$f":"IF('5) Dryer'!L63=0,K49/1020,'5) Dryer'!L63)","v":7.4509803921568628E-3},null,"PM10",{"$f":"IF(AZ68=1,N49*'5) Dryer'!$O$17,N49*'5) Dryer'!$O$17*$BA$81*(1-$BA$82))","v":0},{"$f":"IF(BA68=1,O49*'5) Dryer'!$O$18,O49*'5) Dryer'!$O$18*$BA$81*(1-$BA$82))","v":0},{"$f":"IF(BB68=1,P49*'5) Dryer'!$O$19,P49*'5) Dryer'!$O$19*$BA$81*(1-$BA$82))","v":0},{"$f":"IF(BC68=1,Q49*'5) Dryer'!$O$20,Q49*'5) Dryer'!$O$20*$BA$81*(1-$BA$82))","v":0},{"$f":"IF(BD68=1,R49*'5) Dryer'!$O$21,R49*'5) Dryer'!$O$21*$BA$81*(1-$BA$82))","v":0},{"$f":"IF(BE68=1,S49*'5) Dryer'!$O$22,S49*'5) Dryer'!$O$22*$BA$81*(1-$BA$82))","v":0},{"$f":"IF(BF68=1,T49*'5) Dryer'!$O$23,T49*'5) Dryer'!$O$23*$BA$81*(1-$BA$82))","v":0},{"$f":"IF(BG68=1,U49*'5) Dryer'!$O$24,U49*'5) Dryer'!$O$24*$BA$81*(1-$BA$82))","v":0},{"$f":"IF(BH68=1,V49*'5) Dryer'!$O$25,V49*'5) Dryer'!$O$25*$BA$81*(1-$BA$82))","v":0},{"$f":"IF(BI68=1,W49*'5) Dryer'!$O$26,W49*'5) Dryer'!$O$26*$BA$81*(1-$BA$82))","v":0},{"$f":"SUM(Z49:AI49)","v":0},null,"PM10",0,0,0,0,0,0,0,0,0,0,{"$f":"SUM(AM49:AV49)","v":0},null,"PM10",{"$f":"IF('5) Dryer'!P17=\"\",0.75,LOOKUP('5) Dryer'!P17,'5) Calculations'!$AZ$35:$BB$35,'5) Calculations'!$AZ$37:$BB$37))*'5) Dryer'!M17","v":0},{"$f":"IF('5) Dryer'!P18=\"\",0.75,LOOKUP('5) Dryer'!P18,'5) Calculations'!$AZ$35:$BB$35,'5) Calculations'!$AZ$37:$BB$37))*'5) Dryer'!M18","v":0},{"$f":"IF('5) Dryer'!P19=\"\",0.75,LOOKUP('5) Dryer'!P19,'5) Calculations'!$AZ$35:$BB$35,'5) Calculations'!$AZ$37:$BB$37))*'5) Dryer'!M19","v":0},{"$f":"IF('5) Dryer'!P20=\"\",0.75,LOOKUP('5) Dryer'!P20,'5) Calculations'!$AZ$35:$BB$35,'5) Calculations'!$AZ$37:$BB$37))*'5) Dryer'!M20","v":0},{"$f":"IF('5) Dryer'!P21=\"\",0.75,LOOKUP('5) Dryer'!P21,'5) Calculations'!$AZ$35:$BB$35,'5) Calculations'!$AZ$37:$BB$37))*'5) Dryer'!M21","v":0},{"$f":"IF('5) Dryer'!P22=\"\",0.75,LOOKUP('5) Dryer'!P22,'5) Calculations'!$AZ$35:$BB$35,'5) Calculations'!$AZ$37:$BB$37))*'5) Dryer'!M22","v":0},{"$f":"IF('5) Dryer'!P23=\"\",0.75,LOOKUP('5) Dryer'!P23,'5) Calculations'!$AZ$35:$BB$35,'5) Calculations'!$AZ$37:$BB$37))*'5) Dryer'!M23","v":0},{"$f":"IF('5) Dryer'!P24=\"\",0.75,LOOKUP('5) Dryer'!P24,'5) Calculations'!$AZ$35:$BB$35,'5) Calculations'!$AZ$37:$BB$37))*'5) Dryer'!M24","v":0},{"$f":"IF('5) Dryer'!P25=\"\",0.75,LOOKUP('5) Dryer'!P25,'5) Calculations'!$AZ$35:$BB$35,'5) Calculations'!$AZ$37:$BB$37))*'5) Dryer'!M25","v":0},{"$f":"IF('5) Dryer'!P26=\"\",0.75,LOOKUP('5) Dryer'!P26,'5) Calculations'!$AZ$35:$BB$35,'5) Calculations'!$AZ$37:$BB$37))*'5) Dryer'!M26","v":0},{"$f":"IF(BC69=0,SUM(AZ49:BI49),IF(BC69<=BC71,BC69*BA78,IF(BC69<=(BC71+BC72),(BC71*BA78+(BC69-BC71)*BB78),(BC71*BA78+BC72*BB78+(BC69-BC71-BC72)*AZ78))))","v":0},null,"PM10",{"$f":"IF('5) Dryer'!P17=\"\",0.75,LOOKUP('5) Dryer'!P17,'5) Calculations'!$AZ$35:$BB$35,'5) Calculations'!$AZ$37:$BB$37))*'5) Dryer'!M17*IF(AM45=0,8760,AM45)","v":0},{"$f":"IF('5) Dryer'!P18=\"\",0.75,LOOKUP('5) Dryer'!P18,'5) Calculations'!$AZ$35:$BB$35,'5) Calculations'!$AZ$37:$BB$37))*'5) Dryer'!M18*IF(AN45=0,8760,AN45)","v":0},{"$f":"IF('5) Dryer'!P19=\"\",0.75,LOOKUP('5) Dryer'!P19,'5) Calculations'!$AZ$35:$BB$35,'5) Calculations'!$AZ$37:$BB$37))*'5) Dryer'!M19*IF(AO45=0,8760,AO45)","v":0},{"$f":"IF('5) Dryer'!P20=\"\",0.75,LOOKUP('5) Dryer'!P20,'5) Calculations'!$AZ$35:$BB$35,'5) Calculations'!$AZ$37:$BB$37))*'5) Dryer'!M20*IF(AP45=0,8760,AP45)","v":0},{"$f":"IF('5) Dryer'!G62=\"\",0.75,LOOKUP('5) Dryer'!G62,'5) Calculations'!$AZ$35:$BB$35,'5) Calculations'!$AZ$37:$BB$37))*'5) Dryer'!M21*IF(AQ45=0,8760,AQ45)","v":0},{"$f":"IF('5) Dryer'!P22=\"\",0.75,LOOKUP('5) Dryer'!P22,'5) Calculations'!$AZ$35:$BB$35,'5) Calculations'!$AZ$37:$BB$37))*'5) Dryer'!M22*IF(AR45=0,8760,AR45)","v":0},{"$f":"IF('5) Dryer'!P23=\"\",0.75,LOOKUP('5) Dryer'!P23,'5) Calculations'!$AZ$35:$BB$35,'5) Calculations'!$AZ$37:$BB$37))*'5) Dryer'!M23*IF(AS45=0,8760,AS45)","v":0},{"$f":"IF('5) Dryer'!G65=\"\",0.75,LOOKUP('5) Dryer'!G65,'5) Calculations'!$AZ$35:$BB$35,'5) Calculations'!$AZ$37:$BB$37))*'5) Dryer'!M24*IF(AT45=0,8760,AT45)","v":0},{"$f":"IF('5) Dryer'!P25=\"\",0.75,LOOKUP('5) Dryer'!P25,'5) Calculations'!$AZ$35:$BB$35,'5) Calculations'!$AZ$37:$BB$37))*'5) Dryer'!M25*IF(AU45=0,8760,AU45)","v":0},{"$f":"IF('5) Dryer'!P26=\"\",0.75,LOOKUP('5) Dryer'!P26,'5) Calculations'!$AZ$35:$BB$35,'5) Calculations'!$AZ$37:$BB$37))*'5) Dryer'!M26*IF(AV45=0,8760,AV45)","v":0},{"$f":"IF(BC70=0,SUM(BM49:BV49),IF(BC70<=BC71*8760,BC70*BA78,IF(BC70<=(BC71+BC72)*8760,(BC71*BA78+(BC70-BC71)*BB78),(BC71*BA78+BC72*BB78+(BC70-BC71-BC72)*AZ78))))","v":0},null,"PM10",{"$f":"Z49+AZ56","v":0},{"$f":"AA49+BA56","v":0},{"$f":"AB49+BB56","v":0},{"$f":"AC49+BC56","v":0},{"$f":"AD49+BD56","v":0},{"$f":"AE49+BE56","v":0},{"$f":"AF49+BF56","v":0},{"$f":"AG49+BG56","v":0},{"$f":"AH49+BH56","v":0},{"$f":"AI49+BI56","v":0},{"$f":"AJ49+BJ56","v":0},null,"PM10",{"$f":"AM49+BM56/2000","v":0},{"$f":"AN49+BN56/2000","v":0},{"$f":"AO49+BO56/2000","v":0},{"$f":"AP49+BP56/2000","v":0},{"$f":"AQ49+BQ56/2000","v":0},{"$f":"AR49+BR56/2000","v":0},{"$f":"AS49+BS56/2000","v":0},{"$f":"AT49+BT56/2000","v":0},{"$f":"AU49+BU56/2000","v":0},{"$f":"AV49+BV56/2000","v":0},{"$f":"AW49+BW56/2000","v":0}]
["PM2.5",7.6,7.6,7.6,7.6,7.6,7.6,7.6,7.6,7.6,7.6,null,"PM2.5",{"$f":"IF('5) Dryer'!C64=0,B50/1020,'5) Dryer'!C64)","v":7.4509803921568628E-3},{"$f":"IF('5) Dryer'!D64=0,C50/1020,'5) Dryer'!D64)","v":7.4509803921568628E-3},{"$f":"IF('5) Dryer'!E64=0,D50/1020,'5) Dryer'!E64)","v":7.4509803921568628E-3},{"$f":"IF('5) Dryer'!F64=0,E50/1020,'5) Dryer'!F64)","v":7.4509803921568628E-3},{"$f":"IF('5) Dryer'!G64=0,F50/1020,'5) Dryer'!G64)","v":7.4509803921568628E-3},{"$f":"IF('5) Dryer'!H64=0,G50/1020,'5) Dryer'!H64)","v":7.4509803921568628E-3},{"$f":"IF('5) Dryer'!I64=0,H50/1020,'5) Dryer'!I64)","v":7.4509803921568628E-3},{"$f":"IF('5) Dryer'!J64=0,I50/1020,'5) Dryer'!J64)","v":7.4509803921568628E-3},{"$f":"IF('5) Dryer'!K64=0,J50/1020,'5) Dryer'!K64)","v":7.4509803921568628E-3},{"$f":"IF('5) Dryer'!L64=0,K50/1020,'5) Dryer'!L64)","v":7.4509803921568628E-3},null,"PM2.5",{"$f":"IF(AZ68=1,N50*'5) Dryer'!$O$17,N50*'5) Dryer'!$O$17*$BA$81*(1-$BA$82))","v":0},{"$f":"IF(BA68=1,O50*'5) Dryer'!$O$18,O50*'5) Dryer'!$O$18*$BA$81*(1-$BA$82))","v":0},{"$f":"IF(BB68=1,P50*'5) Dryer'!$O$19,P50*'5) Dryer'!$O$19*$BA$81*(1-$BA$82))","v":0},{"$f":"IF(BC68=1,Q50*'5) Dryer'!$O$20,Q50*'5) Dryer'!$O$20*$BA$81*(1-$BA$82))","v":0},{"$f":"IF(BD68=1,R50*'5) Dryer'!$O$21,R50*'5) Dryer'!$O$21*$BA$81*(1-$BA$82))","v":0},{"$f":"IF(BE68=1,S50*'5) Dryer'!$O$22,S50*'5) Dryer'!$O$22*$BA$81*(1-$BA$82))","v":0},{"$f":"IF(BF68=1,T50*'5) Dryer'!$O$23,T50*'5) Dryer'!$O$23*$BA$81*(1-$BA$82))","v":0},{"$f":"IF(BG68=1,U50*'5) Dryer'!$O$24,U50*'5) Dryer'!$O$24*$BA$81*(1-$BA$82))","v":0},{"$f":"IF(BH68=1,V50*'5) Dryer'!$O$25,V50*'5) Dryer'!$O$25*$BA$81*(1-$BA$82))","v":0},{"$f":"IF(BI68=1,W50*'5) Dryer'!$O$26,W50*'5) Dryer'!$O$26*$BA$81*(1-$BA$82))","v":0},0,null,"PM2.5",0,0,0,0,0,0,0,0,0,0,0,null,"PM2.5",{"$f":"IF('5) Dryer'!P17=\"\",0.13,LOOKUP('5) Dryer'!P17,'5) Calculations'!$AZ$35:$BB$35,'5) Calculations'!$AZ$38:$BB$38))*'5) Dryer'!M17","v":0},{"$f":"IF('5) Dryer'!P18=\"\",0.13,LOOKUP('5) Dryer'!P18,'5) Calculations'!$AZ$35:$BB$35,'5) Calculations'!$AZ$38:$BB$38))*'5) Dryer'!M18","v":0},{"$f":"IF('5) Dryer'!P19=\"\",0.13,LOOKUP('5) Dryer'!P19,'5) Calculations'!$AZ$35:$BB$35,'5) Calculations'!$AZ$38:$BB$38))*'5) Dryer'!M19","v":0},{"$f":"IF('5) Dryer'!P20=\"\",0.13,LOOKUP('5) Dryer'!P20,'5) Calculations'!$AZ$35:$BB$35,'5) Calculations'!$AZ$38:$BB$38))*'5) Dryer'!M20","v":0},{"$f":"IF('5) Dryer'!P21=\"\",0.13,LOOKUP('5) Dryer'!P21,'5) Calculations'!$AZ$35:$BB$35,'5) Calculations'!$AZ$38:$BB$38))*'5) Dryer'!M21","v":0},{"$f":"IF('5) Dryer'!P22=\"\",0.13,LOOKUP('5) Dryer'!P22,'5) Calculations'!$AZ$35:$BB$35,'5) Calculations'!$AZ$38:$BB$38))*'5) Dryer'!M22","v":0},{"$f":"IF('5) Dryer'!P23=\"\",0.13,LOOKUP('5) Dryer'!P23,'5) Calculations'!$AZ$35:$BB$35,'5) Calculations'!$AZ$38:$BB$38))*'5) Dryer'!M23","v":0},{"$f":"IF('5) Dryer'!P24=\"\",0.13,LOOKUP('5) Dryer'!P24,'5) Calculations'!$AZ$35:$BB$35,'5) Calculations'!$AZ$38:$BB$38))*'5) Dryer'!M24","v":0},{"$f":"IF('5) Dryer'!P25=\"\",0.13,LOOKUP('5) Dryer'!P25,'5) Calculations'!$AZ$35:$BB$35,'5) Calculations'!$AZ$38:$BB$38))*'5) Dryer'!M25","v":0},{"$f":"IF('5) Dryer'!P26=\"\",0.13,LOOKUP('5) Dryer'!P26,'5) Calculations'!$AZ$35:$BB$35,'5) Calculations'!$AZ$38:$BB$38))*'5) Dryer'!M26","v":0},{"$f":"IF(BC69=0,SUM(AZ50:BI50),IF(BC69<=BC71,BC69*BA79,IF(BC69<=(BC71+BC72),(BC71*BA79+(BC69-BC71)*BB79),(BC71*BA79+BC72*BB79+(BC69-BC71-BC72)*AZ79))))","v":0},null,"PM2.5",{"$f":"IF('5) Dryer'!P17=\"\",0.13,LOOKUP('5) Dryer'!P17,'5) Calculations'!$AZ$35:$BB$35,'5) Calculations'!$AZ$38:$BB$38))*'5) Dryer'!M17*IF(AM45=0,8760,AM45)","v":0},{"$f":"IF('5) Dryer'!P18=\"\",0.13,LOOKUP('5) Dryer'!P18,'5) Calculations'!$AZ$35:$BB$35,'5) Calculations'!$AZ$38:$BB$38))*'5) Dryer'!M18*IF(AN45=0,8760,AN45)","v":0},{"$f":"IF('5) Dryer'!P19=\"\",0.13,LOOKUP('5) Dryer'!P19,'5) Calculations'!$AZ$35:$BB$35,'5) Calculations'!$AZ$38:$BB$38))*'5) Dryer'!M19*IF(AO45=0,8760,AO45)","v":0},{"$f":"IF('5) Dryer'!P20=\"\",0.13,LOOKUP('5) Dryer'!P20,'5) Calculations'!$AZ$35:$BB$35,'5) Calculations'!$AZ$38:$BB$38))*'5) Dryer'!M20*IF(AP45=0,8760,AP45)","v":0},{"$f":"IF('5) Dryer'!G62=\"\",0.13,LOOKUP('5) Dryer'!G62,'5) Calculations'!$AZ$35:$BB$35,'5) Calculations'!$AZ$38:$BB$38))*'5) Dryer'!M21*IF(AQ45=0,8760,AQ45)","v":0},{"$f":"IF('5) Dryer'!P22=\"\",0.13,LOOKUP('5) Dryer'!P22,'5) Calculations'!$AZ$35:$BB$35,'5) Calculations'!$AZ$38:$BB$38))*'5) Dryer'!M22*IF(AR45=0,8760,AR45)","v":0},{"$f":"IF('5) Dryer'!P23=\"\",0.13,LOOKUP('5) Dryer'!P23,'5) Calculations'!$AZ$35:$BB$35,'5) Calculations'!$AZ$38:$BB$38))*'5) Dryer'!M23*IF(AS45=0,8760,AS45)","v":0},{"$f":"IF('5) Dryer'!G65=\"\",0.13,LOOKUP('5) Dryer'!G65,'5) Calculations'!$AZ$35:$BB$35,'5) Calculations'!$AZ$38:$BB$38))*'5) Dryer'!M24*IF(AT45=0,8760,AT45)","v":0},{"$f":"IF('5) Dryer'!P25=\"\",0.13,LOOKUP('5) Dryer'!P25,'5) Calculations'!$AZ$35:$BB$35,'5) Calculations'!$AZ$38:$BB$38))*'5) Dryer'!M25*IF(AU45=0,8760,AU45)","v":0},{"$f":"IF('5) Dryer'!P26=\"\",0.13,LOOKUP('5) Dryer'!P26,'5) Calculations'!$AZ$35:$BB$35,'5) Calculations'!$AZ$38:$BB$38))*'5) Dryer'!M26*IF(AV45=0,8760,AV45)","v":0},{"$f":"IF(BC70=0,SUM(BM50:BV50),IF(BC70<=BC71*8760,BC70*BA79,IF(BC70<=(BC71+BC72)*8760,(BC71*BA79+(BC70-BC71)*BB79),(BC71*BA79+BC72*BB79+(BC70-BC71-BC72)*AZ79))))","v":0},null,"PM2.5",{"$f":"Z50+AZ57","v":0},0,0,0,0,0,0,0,0,0,{"$f":"AJ50+BJ57","v":0},null,"PM2.5",0,0,0,0,0,0,0,0,0,0,0]
["SO2",0.6,0.6,0.6,0.6,0.6,0.6,0.6,0.6,0.6,0.6,null,"SO2",{"$f":"IF('5) Dryer'!C65=0,B51/1020,'5) Dryer'!C65)","v":5.8823529411764701E-4},{"$f":"IF('5) Dryer'!D65=0,C51/1020,'5) Dryer'!D65)","v":5.8823529411764701E-4},{"$f":"IF('5) Dryer'!E65=0,D51/1020,'5) Dryer'!E65)","v":5.8823529411764701E-4},{"$f":"IF('5) Dryer'!F65=0,E51/1020,'5) Dryer'!F65)","v":5.8823529411764701E-4},{"$f":"IF('5) Dryer'!G65=0,F51/1020,'5) Dryer'!G65)","v":5.8823529411764701E-4},{"$f":"IF('5) Dryer'!H65=0,G51/1020,'5) Dryer'!H65)","v":5.8823529411764701E-4},{"$f":"IF('5) Dryer'!I65=0,H51/1020,'5) Dryer'!I65)","v":5.8823529411764701E-4},{"$f":"IF('5) Dryer'!J65=0,I51/1020,'5) Dryer'!J65)","v":5.8823529411764701E-4},{"$f":"IF('5) Dryer'!K65=0,J51/1020,'5) Dryer'!K65)","v":5.8823529411764701E-4},{"$f":"IF('5) Dryer'!L65=0,K51/1020,'5) Dryer'!L65)","v":5.8823529411764701E-4},null,"SO2",{"$f":"N51*'5) Dryer'!$O$17","v":0},{"$f":"O51*'5) Dryer'!$O$18","v":0},{"$f":"P51*'5) Dryer'!$O$19","v":0},{"$f":"Q51*'5) Dryer'!$O$20","v":0},{"$f":"R51*'5) Dryer'!$O$21","v":0},{"$f":"S51*'5) Dryer'!$O$22","v":0},{"$f":"T51*'5) Dryer'!$O$23","v":0},{"$f":"U51*'5) Dryer'!$O$24","v":0},{"$f":"V51*'5) Dryer'!$O$25","v":0},{"$f":"W51*'5) Dryer'!$O$26","v":0},0,null,"SO2",0,0,0,0,0,0,0,0,0,0,0,null,null,null,null,null,null,null,null,null,null,null,null,null,null,null,null,null,null,null,null,null,null,null,null,null,null,null,"SO2",{"$f":"Z51","v":0},{"$f":"AA51","v":0},0,0,0,0,0,0,0,0,{"$f":"SUM(BZ51:CI51)","v":0},null,"SO2",{"$f":"AM51","v":0},{"$f":"AN51","v":0},0,0,0,0,0,0,0,0,0]
["NOx",{"$f":"IF('5) Dryer'!N17=Datasets!$AA$3,50,IF('5) Dryer'!N17=Datasets!$AA$4,32,100))","v":100},{"$f":"IF('5) Dryer'!N18=Datasets!$AA$3,50,IF('5) Dryer'!N18=Datasets!$AA$4,32,100))","v":100},{"$f":"IF('5) Dryer'!N19=Datasets!$AA$3,50,IF('5) Dryer'!N19=Datasets!$AA$4,32,100))","v":100},{"$f":"IF('5) Dryer'!N20=Datasets!$AA$3,50,IF('5) Dryer'!N20=Datasets!$AA$4,32,100))","v":100},{"$f":"IF('5) Dryer'!N21=Datasets!$AA$3,50,IF('5) Dryer'!N21=Datasets!$AA$4,32,100))","v":100},{"$f":"IF('5) Dryer'!N22=Datasets!$AA$3,50,IF('5) Dryer'!N22=Datasets!$AA$4,32,100))","v":100},{"$f":"IF('5) Dryer'!N23=Datasets!$AA$3,50,IF('5) Dryer'!N23=Datasets!$AA$4,32,100))","v":100},{"$f":"IF('5) Dryer'!N24=Datasets!$AA$3,50,IF('5) Dryer'!N24=Datasets!$AA$4,32,100))","v":100},{"$f":"IF('5) Dryer'!N25=Datasets!$AA$3,50,IF('5) Dryer'!N25=Datasets!$AA$4,32,100))","v":100},{"$f":"IF('5) Dryer'!N26=Datasets!$AA$3,50,IF('5) Dryer'!N26=Datasets!$AA$4,32,100))","v":100},null,"NOx",{"$f":"IF('5) Dryer'!C66=0,B52/1020,'5) Dryer'!C66)","v":9.8039215686274508E-2},{"$f":"IF('5) Dryer'!D66=0,C52/1020,'5) Dryer'!D66)","v":9.8039215686274508E-2},{"$f":"IF('5) Dryer'!E66=0,D52/1020,'5) Dryer'!E66)","v":9.8039215686274508E-2},{"$f":"IF('5) Dryer'!F66=0,E52/1020,'5) Dryer'!F66)","v":9.8039215686274508E-2},{"$f":"IF('5) Dryer'!G66=0,F52/1020,'5) Dryer'!G66)","v":9.8039215686274508E-2},{"$f":"IF('5) Dryer'!H66=0,G52/1020,'5) Dryer'!H66)","v":9.8039215686274508E-2},{"$f":"IF('5) Dryer'!I66=0,H52/1020,'5) Dryer'!I66)","v":9.8039215686274508E-2},{"$f":"IF('5) Dryer'!J66=0,I52/1020,'5) Dryer'!J66)","v":9.8039215686274508E-2},{"$f":"IF('5) Dryer'!K66=0,J52/1020,'5) Dryer'!K66)","v":9.8039215686274508E-2},{"$f":"IF('5) Dryer'!L66=0,K52/1020,'5) Dryer'!L66)","v":9.8039215686274508E-2},null,"NOx",{"$f":"N52*'5) Dryer'!$O$17","v":0},{"$f":"O52*'5) Dryer'!$O$18","v":0},{"$f":"P52*'5) Dryer'!$O$19","v":0},{"$f":"Q52*'5) Dryer'!$O$20","v":0},{"$f":"R52*'5) Dryer'!$O$21","v":0},{"$f":"S52*'5) Dryer'!$O$22","v":0},{"$f":"T52*'5) Dryer'!$O$23","v":0},{"$f":"U52*'5) Dryer'!$O$24","v":0},{"$f":"V52*'5) Dryer'!$O$25","v":0},{"$f":"W52*'5) Dryer'!$O$26","v":0},{"$f":"SUM(Z52:AI52)","v":0},null,"NOx",0,0,0,0,0,0,0,0,0,0,0,null,"PTE in lb/hr considering baghouse control = Emission Factor (lb/ton) x Maximum permitted hourly rate (ton/hr)",null,null,null,null,null,null,null,null,null,null,null,null,"PTE in lb/yr considering baghouse control = Emission Factor (lb/ton) x Maximum permitted annual rate (ton/yr)",null,null,null,null,null,null,null,null,null,null,null,null,"NOx",{"$f":"Z52","v":0},{"$f":"AA52","v":0},0,0,0,0,0,0,0,0,0,null,"NOx",{"$f":"AM52","v":0},{"$f":"AN52","v":0},{"$f":"AO52","v":0},{"$f":"AP52","v":0},{"$f":"AQ52","v":0},{"$f":"AR52","v":0},{"$f":"AS52","v":0},{"$f":"AT52","v":0},{"$f":"AU52","v":0},{"$f":"AV52","v":0},0]
["CO",84,84,84,84,84,84,84,84,84,84,null,"CO",{"$f":"IF('5) Dryer'!C67=0,B53/1020,'5) Dryer'!C67)","v":8.2352941176470587E-2},{"$f":"IF('5) Dryer'!D67=0,C53/1020,'5) Dryer'!D67)","v":8.2352941176470587E-2},{"$f":"IF('5) Dryer'!E67=0,D53/1020,'5) Dryer'!E67)","v":8.2352941176470587E-2},{"$f":"IF('5) Dryer'!F67=0,E53/1020,'5) Dryer'!F67)","v":8.2352941176470587E-2},{"$f":"IF('5) Dryer'!G67=0,F53/1020,'5) Dryer'!G67)","v":8.2352941176470587E-2},{"$f":"IF('5) Dryer'!H67=0,G53/1020,'5) Dryer'!H67)","v":8.2352941176470587E-2},{"$f":"IF('5) Dryer'!I67=0,H53/1020,'5) Dryer'!I67)","v":8.2352941176470587E-2},{"$f":"IF('5) Dryer'!J67=0,I53/1020,'5) Dryer'!J67)","v":8.2352941176470587E-2},{"$f":"IF('5) Dryer'!K67=0,J53/1020,'5) Dryer'!K67)","v":8.2352941176470587E-2},{"$f":"IF('5) Dryer'!L67=0,K53/1020,'5) Dryer'!L67)","v":8.2352941176470587E-2},null,"CO",{"$f":"N53*'5) Dryer'!$O$17","v":0},{"$f":"O53*'5) Dryer'!$O$18","v":0},{"$f":"P53*'5) Dryer'!$O$19","v":0},{"$f":"Q53*'5) Dryer'!$O$20","v":0},{"$f":"R53*'5) Dryer'!$O$21","v":0},{"$f":"S53*'5) Dryer'!$O$22","v":0},{"$f":"T53*'5) Dryer'!$O$23","v":0},{"$f":"U53*'5) Dryer'!$O$24","v":0},{"$f":"V53*'5) Dryer'!$O$25","v":0},{"$f":"W53*'5) Dryer'!$O$26","v":0},{"$f":"SUM(Z53:AI53)","v":0},null,"CO",0,0,0,0,0,0,0,0,0,0,0,null,"Pollutant","1st Dryer","2nd Dryer","3rd Dryer","4th Dryer","5th Dryer","6th Dryer","7th Dryer","8th Dryer","9th Dryer","10th Dryer","Total ",null,"Pollutant","1st Dryer","2nd Dryer","3rd Dryer","4th Dryer","5th Dryer","6th Dryer","7th Dryer","8th Dryer","9th Dryer","10th Dryer","Total ",null,"CO",{"$f":"Z53","v":0},{"$f":"AA53","v":0},0,0,0,0,0,0,0,0,0,null,"CO",0,0,0,0,0,0,0,0,0,0,0]
["VOC",5.5,5.5,5.5,5.5,5.5,5.5,5.5,5.5,5.5,5.5,null,"VOC",{"$f":"IF('5) Dryer'!C68=0,B54/1020,'5) Dryer'!C68)","v":5.392156862745098E-3},{"$f":"IF('5) Dryer'!D68=0,C54/1020,'5) Dryer'!D68)","v":5.392156862745098E-3},{"$f":"IF('5) Dryer'!E68=0,D54/1020,'5) Dryer'!E68)","v":5.392156862745098E-3},{"$f":"IF('5) Dryer'!F68=0,E54/1020,'5) Dryer'!F68)","v":5.392156862745098E-3},{"$f":"IF('5) Dryer'!G68=0,F54/1020,'5) Dryer'!G68)","v":5.392156862745098E-3},{"$f":"IF('5) Dryer'!H68=0,G54/1020,'5) Dryer'!H68)","v":5.392156862745098E-3},{"$f":"IF('5) Dryer'!I68=0,H54/1020,'5) Dryer'!I68)","v":5.392156862745098E-3},{"$f":"IF('5) Dryer'!J68=0,I54/1020,'5) Dryer'!J68)","v":5.392156862745098E-3},{"$f":"IF('5) Dryer'!K68=0,J54/1020,'5) Dryer'!K68)","v":5.392156862745098E-3},{"$f":"IF('5) Dryer'!L68=0,K54/1020,'5) Dryer'!L68)","v":5.392156862745098E-3},null,"VOC",{"$f":"N54*'5) Dryer'!$O$17","v":0},{"$f":"O54*'5) Dryer'!$O$18","v":0},{"$f":"P54*'5) Dryer'!$O$19","v":0},{"$f":"Q54*'5) Dryer'!$O$20","v":0},{"$f":"R54*'5) Dryer'!$O$21","v":0},{"$f":"S54*'5) Dryer'!$O$22","v":0},{"$f":"T54*'5) Dryer'!$O$23","v":0},{"$f":"U54*'5) Dryer'!$O$24","v":0},{"$f":"V54*'5) Dryer'!$O$25","v":0},{"$f":"W54*'5) Dryer'!$O$26","v":0},{"$f":"SUM(Z54:AI54)","v":0},null,"VOC",0,0,0,0,0,0,0,0,0,0,0,null,null,"(lb/hr)",null,null,null,null,null,null,null,null,null,null,null,null,"(lb/year)",null,null,null,null,null,null,null,null,null,null,null,"VOC",{"$f":"Z54","v":0},{"$f":"AA54","v":0},{"$f":"AB54","v":0},{"$f":"AC54","v":0},{"$f":"AD54","v":0},{"$f":"AE54","v":0},{"$f":"AF54","v":0},{"$f":"AG54","v":0},{"$f":"AH54","v":0},{"$f":"AI54","v":0},0,null,"VOC",0,0,0,0,0,0,0,0,0,0,0]
["Individual HAP",null,null,null,null,null,null,null,null,null,null,null,null,null,null,null,null,null,null,null,null,null,null,null,"Individual HAP",null,null,null,null,null,null,null,null,null,null,null,null,"Individual HAP",null,null,null,null,null,null,null,null,null,null,null,null,"PMfilterable",{"$f":"IF(AZ68=1,AZ48,AZ48*$BA$81*(1-$BA$82))","v":0},{"$f":"IF(BA68=1,BA48,BA48*$BA$81*(1-$BA$82))","v":0},0,0,0,0,0,0,0,0,{"$f":"IF(OR(BC69=0,BC69>=SUM(BC71:BC73)),SUM(AZ55:BI55),IF(BC69<=BI71,BC69*BA77,IF(BC69<=(BI71+BI72),(BI71*BA77+(BC69-BI71)*BB77),IF(BC69<=(BI71+BI72+BI73),(BI71*BA77+BI72*BB77+(BC69-BI71-BI72)*AZ77),IF(BC69<=(BC71+BI72+BI73),(BI71*BA77+BI72*BB77+BI73*AZ77+(BC69-BI71)*BG77),IF(BC69<=(BC71+BC72+BI73),(BI71*BA77+BI72*BB77+BI73*AZ77+(BC71-BI71)*BG77+(BC69-BI72)*BH77),(BI71*BA77+BI72*BB77+BI73*AZ77+(BC71-BI71)*BG77+(BC72-BI72)*BH77+(BC69-BI73)*BF77)))))))","v":0},null,"PMfilterable",{"$f":"IF(AZ68=1,BM48,BM48*$BA$81*(1-$BA$82))","v":0},{"$f":"IF(BA68=1,BN48,BN48*$BA$81*(1-$BA$82))","v":0},0,0,0,0,0,0,0,0,{"$f":"IF(OR(BC70=0,BC70>=8760*SUM(BC71:BC73)),SUM(BM55:BV55),IF(BC70<=BI71*8760,BC70*BA77,IF(BC70<=(BI71+BI72)*8760,(BI71*BA77*8760+(BC70-BI71*8760)*BB77),IF(BC70<=(BI71+BI72+BI73)*8760,(BI71*BA77*8760+BI72*BB77*8760+(BC70-BI71*8760-BI72*8760)*AZ77),IF(BC70<=(BC71+BI72+BI73)*8760,(BI71*BA77*8760+BI72*BB77*8760+BI73*AZ77*8760+(BC70-BI71*8760)*BG77),IF(BC70<=(BC71+BC72+BI73)*8760,(BI71*BA77*8760+BI72*BB77*8760+BI73*AZ77*8760+(BC71-BI71)*BG77*8760+(BC70-BI72*8760)*BH77),(BI71*BA77*8760+BI72*BB77*8760+BI73*AZ77*8760+(BC71-BI71)*BG77*8760+(BC72-BI72)*BH77*8760+(BC70-BI73*8760)*BF77)))))))","v":0},null,"Individual HAP",null,null,null,null,null,null,null,null,null,null,null,null,"Individual HAP"]
["  Benzene ",2.0999999999999999E-3,2.0999999999999999E-3,2.0999999999999999E-3,2.0999999999999999E-3,2.0999999999999999E-3,2.0999999999999999E-3,2.0999999999999999E-3,2.0999999999999999E-3,2.0999999999999999E-3,2.0999999999999999E-3,null,"  Benzene ",{"$f":"IF('5) Dryer'!C70=0,B56/1020,'5) Dryer'!C70)","v":2.0588235294117645E-6},{"$f":"IF('5) Dryer'!D70=0,C56/1020,'5) Dryer'!D70)","v":2.0588235294117645E-6},{"$f":"IF('5) Dryer'!E70=0,D56/1020,'5) Dryer'!E70)","v":2.0588235294117645E-6},{"$f":"IF('5) Dryer'!F70=0,E56/1020,'5) Dryer'!F70)","v":2.0588235294117645E-6},{"$f":"IF('5) Dryer'!G70=0,F56/1020,'5) Dryer'!G70)","v":2.0588235294117645E-6},{"$f":"IF('5) Dryer'!H70=0,G56/1020,'5) Dryer'!H70)","v":2.0588235294117645E-6},{"$f":"IF('5) Dryer'!I70=0,H56/1020,'5) Dryer'!I70)","v":2.0588235294117645E-6},{"$f":"IF('5) Dryer'!J70=0,I56/1020,'5) Dryer'!J70)","v":2.0588235294117645E-6},{"$f":"IF('5) Dryer'!K70=0,J56/1020,'5) Dryer'!K70)","v":2.0588235294117645E-6},{"$f":"IF('5) Dryer'!L70=0,K56/1020,'5) Dryer'!L70)","v":2.0588235294117645E-6},null,"  Benzene ",{"$f":"N56*'5) Dryer'!$O$17","v":0},{"$f":"O56*'5) Dryer'!$O$18","v":0},{"$f":"P56*'5) Dryer'!$O$19","v":0},{"$f":"Q56*'5) Dryer'!$O$20","v":0},{"$f":"R56*'5) Dryer'!$O$21","v":0},{"$f":"S56*'5) Dryer'!$O$22","v":0},{"$f":"T56*'5) Dryer'!$O$23","v":0},{"$f":"U56*'5) Dryer'!$O$24","v":0},{"$f":"V56*'5) Dryer'!$O$25","v":0},{"$f":"W56*'5) Dryer'!$O$26","v":0},{"$f":"SUM(Z56:AI56)","v":0},null,"  Benzene ",{"$f":"IF(AM$45=0,Z56*8760/2000,Z56*AM$45/2000)","v":0},{"$f":"IF(AN$45=0,AA56*8760/2000,AA56*AN$45/2000)","v":0},{"$f":"IF(AO$45=0,AB56*8760/2000,AB56*AO$45/2000)","v":0},{"$f":"IF(AP$45=0,AC56*8760/2000,AC56*AP$45/2000)","v":0},{"$f":"IF(AQ$45=0,AD56*8760/2000,AD56*AQ$45/2000)","v":0},{"$f":"IF(AR$45=0,AE56*8760/2000,AE56*AR$45/2000)","v":0},{"$f":"IF(AS$45=0,AF56*8760/2000,AF56*AS$45/2000)","v":0},{"$f":"IF(AT$45=0,AG56*8760/2000,AG56*AT$45/2000)","v":0},{"$f":"IF(AU$45=0,AH56*8760/2000,AH56*AU$45/2000)","v":0},{"$f":"IF(AV$45=0,AI56*8760/2000,AI56*AV$45/2000)","v":0},{"$f":"SUM(AM56:AV56)","v":0},null,"PM10",{"$f":"IF(AZ68=1,AZ49,AZ49*$BA$81*(1-$BA$82))","v":0},{"$f":"IF(BA68=1,BA49,BA49*$BA$81*(1-$BA$82))","v":0},0,0,0,0,0,0,0,0,{"$f":"IF(OR(BC69=0,BC69>=SUM(BC71:BC73)),SUM(AZ56:BI56),IF(BC69<=BI71,BC69*BA78,IF(BC69<=(BI71+BI72),(BI71*BA78+(BC69-BI71)*BB78),IF(BC69<=(BI71+BI72+BI73),(BI71*BA78+BI72*BB78+(BC69-BI71-BI72)*AZ78),IF(BC69<=(BC71+BI72+BI73),(BI71*BA78+BI72*BB78+BI73*AZ78+(BC69-BI71)*BG78),IF(BC69<=(BC71+BC72+BI73),(BI71*BA78+BI72*BB78+BI73*AZ78+(BC71-BI71)*BG78+(BC69-BI72)*BH78),(BI71*BA78+BI72*BB78+BI73*AZ78+(BC71-BI71)*BG78+(BC72-BI72)*BH78+(BC69-BI73)*BF78)))))))","v":0},null,"PM10",{"$f":"IF(AZ68=1,BM49,BM49*$BA$81*(1-$BA$82))","v":0},{"$f":"IF(BA68=1,BN49,BN49*$BA$81*(1-$BA$82))","v":0},0,0,0,0,0,0,0,0,{"$f":"IF(OR(BC70=0,BC70>=8760*SUM(BC71:BC73)),SUM(BM56:BV56),IF(BC70<=BI71*8760,BC70*BA78,IF(BC70<=(BI71+BI72)*8760,(BI71*BA78*8760+(BC70-BI71*8760)*BB78),IF(BC70<=(BI71+BI72+BI73)*8760,(BI71*BA78*8760+BI72*BB78*8760+(BC70-BI71*8760-BI72*8760)*AZ78),IF(BC70<=(BC71+BI72+BI73)*8760,(BI71*BA78*8760+BI72*BB78*8760+BI73*AZ78*8760+(BC70-BI71*8760)*BG78),IF(BC70<=(BC71+BC72+BI73)*8760,(BI71*BA78*8760+BI72*BB78*8760+BI73*AZ78*8760+(BC71-BI71)*BG78*8760+(BC70-BI72*8760)*BH78),(BI71*BA78*8760+BI72*BB78*8760+BI73*AZ78*8760+(BC71-BI71)*BG78*8760+(BC72-BI72)*BH78*8760+(BC70-BI73*8760)*BF78)))))))","v":0},null,"  Benzene ",{"$f":"Z56","v":0},{"$f":"AA56","v":0},0,0,0,0,0,0,0,0,{"$f":"SUM(BZ56:CI56)","v":0},null,"  Benzene ",{"$f":"AM56","v":0},{"$f":"AN56","v":0},0,0,0,0,0,0,0,0,0]
["  Dichlorobenzene ",1.1999999999999999E-3,1.1999999999999999E-3,1.1999999999999999E-3,1.1999999999999999E-3,1.1999999999999999E-3,1.1999999999999999E-3,1.1999999999999999E-3,1.1999999999999999E-3,1.1999999999999999E-3,1.1999999999999999E-3,null,"  Dichlorobenzene ",{"$f":"IF('5) Dryer'!C71=0,B57/1020,'5) Dryer'!C71)","v":1.176470588235294E-6},{"$f":"IF('5) Dryer'!D71=0,C57/1020,'5) Dryer'!D71)","v":1.176470588235294E-6},{"$f":"IF('5) Dryer'!E71=0,D57/1020,'5) Dryer'!E71)","v":1.176470588235294E-6},{"$f":"IF('5) Dryer'!F71=0,E57/1020,'5) Dryer'!F71)","v":1.176470588235294E-6},{"$f":"IF('5) Dryer'!G71=0,F57/1020,'5) Dryer'!G71)","v":1.176470588235294E-6},{"$f":"IF('5) Dryer'!H71=0,G57/1020,'5) Dryer'!H71)","v":1.176470588235294E-6},{"$f":"IF('5) Dryer'!I71=0,H57/1020,'5) Dryer'!I71)","v":1.176470588235294E-6},{"$f":"IF('5) Dryer'!J71=0,I57/1020,'5) Dryer'!J71)","v":1.176470588235294E-6},{"$f":"IF('5) Dryer'!K71=0,J57/1020,'5) Dryer'!K71)","v":1.176470588235294E-6},{"$f":"IF('5) Dryer'!L71=0,K57/1020,'5) Dryer'!L71)","v":1.176470588235294E-6},null,"  Dichlorobenzene ",{"$f":"N57*'5) Dryer'!$O$17","v":0},{"$f":"O57*'5) Dryer'!$O$18","v":0},{"$f":"P57*'5) Dryer'!$O$19","v":0},{"$f":"Q57*'5) Dryer'!$O$20","v":0},{"$f":"R57*'5) Dryer'!$O$21","v":0},{"$f":"S57*'5) Dryer'!$O$22","v":0},{"$f":"T57*'5) Dryer'!$O$23","v":0},{"$f":"U57*'5) Dryer'!$O$24","v":0},{"$f":"V57*'5) Dryer'!$O$25","v":0},{"$f":"W57*'5) Dryer'!$O$26","v":0},0,null,"  Dichlorobenzene ",0,0,0,0,0,0,0,0,0,0,0,null,"PM2.5",{"$f":"IF(AZ68=1,AZ50,AZ50*$BA$81*(1-$BA$82))","v":0},{"$f":"IF(BA68=1,BA50,BA50*$BA$81*(1-$BA$82))","v":0},0,0,0,0,0,0,0,0,{"$f":"IF(OR(BC69=0,BC69>=SUM(BC71:BC73)),SUM(AZ57:BI57),IF(BC69<=BI71,BC69*BA79,IF(BC69<=(BI71+BI72),(BI71*BA79+(BC69-BI71)*BB79),IF(BC69<=(BI71+BI72+BI73),(BI71*BA79+BI72*BB79+(BC69-BI71-BI72)*AZ79),IF(BC69<=(BC71+BI72+BI73),(BI71*BA79+BI72*BB79+BI73*AZ79+(BC69-BI71)*BG79),IF(BC69<=(BC71+BC72+BI73),(BI71*BA79+BI72*BB79+BI73*AZ79+(BC71-BI71)*BG79+(BC69-BI72)*BH79),(BI71*BA79+BI72*BB79+BI73*AZ79+(BC71-BI71)*BG79+(BC72-BI72)*BH79+(BC69-BI73)*BF79)))))))","v":0},null,"PM2.5",{"$f":"IF(AZ68=1,BM50,BM50*$BA$81*(1-$BA$82))","v":0},{"$f":"IF(BA68=1,BN50,BN50*$BA$81*(1-$BA$82))","v":0},0,0,0,0,0,0,0,0,{"$f":"IF(OR(BC70=0,BC70>=8760*SUM(BC71:BC73)),SUM(BM57:BV57),IF(BC70<=BI71*8760,BC70*BA79,IF(BC70<=(BI71+BI72)*8760,(BI71*BA79*8760+(BC70-BI71*8760)*BB79),IF(BC70<=(BI71+BI72+BI73)*8760,(BI71*BA79*8760+BI72*BB79*8760+(BC70-BI71*8760-BI72*8760)*AZ79),IF(BC70<=(BC71+BI72+BI73)*8760,(BI71*BA79*8760+BI72*BB79*8760+BI73*AZ79*8760+(BC70-BI71*8760)*BG79),IF(BC70<=(BC71+BC72+BI73)*8760,(BI71*BA79*8760+BI72*BB79*8760+BI73*AZ79*8760+(BC71-BI71)*BG79*8760+(BC70-BI72*8760)*BH79),(BI71*BA79*8760+BI72*BB79*8760+BI73*AZ79*8760+(BC71-BI71)*BG79*8760+(BC72-BI72)*BH79*8760+(BC70-BI73*8760)*BF79)))))))","v":0},null,"  Dichlorobenzene ",{"$f":"Z57","v":0},{"$f":"AA57","v":0},{"$f":"AB57","v":0},{"$f":"AC57","v":0},{"$f":"AD57","v":0},{"$f":"AE57","v":0},{"$f":"AF57","v":0},{"$f":"AG57","v":0},{"$f":"AH57","v":0},{"$f":"AI57","v":0},0,null,"  Dichlorobenzene ",{"$f":"AM57","v":0},{"$f":"AN57","v":0},{"$f":"AO57","v":0},{"$f":"AP57","v":0},{"$f":"AQ57","v":0},{"$f":"AR57","v":0},{"$f":"AS57","v":0},{"$f":"AT57","v":0},{"$f":"AU57","v":0},{"$f":"AV57","v":0},0]
["  Hexane ",1.8,1.8,1.8,1.8,1.8,1.8,1.8,1.8,1.8,1.8,null,"  Hexane ",{"$f":"IF('5) Dryer'!C72=0,B58/1020,'5) Dryer'!C72)","v":1.7647058823529412E-3},{"$f":"IF('5) Dryer'!D72=0,C58/1020,'5) Dryer'!D72)","v":1.7647058823529412E-3},{"$f":"IF('5) Dryer'!E72=0,D58/1020,'5) Dryer'!E72)","v":1.7647058823529412E-3},{"$f":"IF('5) Dryer'!F72=0,E58/1020,'5) Dryer'!F72)","v":1.7647058823529412E-3},{"$f":"IF('5) Dryer'!G72=0,F58/1020,'5) Dryer'!G72)","v":1.7647058823529412E-3},{"$f":"IF('5) Dryer'!H72=0,G58/1020,'5) Dryer'!H72)","v":1.7647058823529412E-3},{"$f":"IF('5) Dryer'!I72=0,H58/1020,'5) Dryer'!I72)","v":1.7647058823529412E-3},{"$f":"IF('5) Dryer'!J72=0,I58/1020,'5) Dryer'!J72)","v":1.7647058823529412E-3},{"$f":"IF('5) Dryer'!K72=0,J58/1020,'5) Dryer'!K72)","v":1.7647058823529412E-3},{"$f":"IF('5) Dryer'!L72=0,K58/1020,'5) Dryer'!L72)","v":1.7647058823529412E-3},null,"  Hexane ",{"$f":"N58*'5) Dryer'!$O$17","v":0},{"$f":"O58*'5) Dryer'!$O$18","v":0},{"$f":"P58*'5) Dryer'!$O$19","v":0},{"$f":"Q58*'5) Dryer'!$O$20","v":0},{"$f":"R58*'5) Dryer'!$O$21","v":0},{"$f":"S58*'5) Dryer'!$O$22","v":0},{"$f":"T58*'5) Dryer'!$O$23","v":0},{"$f":"U58*'5) Dryer'!$O$24","v":0},{"$f":"V58*'5) Dryer'!$O$25","v":0},{"$f":"W58*'5) Dryer'!$O$26","v":0},0,null,"  Hexane ",0,0,0,0,0,0,0,0,0,0,0,null,null,null,null,null,null,null,null,null,null,null,null,null,null,null,null,null,null,null,null,null,null,null,null,null,null,null,"  Hexane ",0,0,0,0,0,0,0,0,0,0,0,null,"  Hexane ",0,0,0,0,0,0,0,0,0,0,0]
["  Lead Compounds",5.0000000000000001E-4,5.0000000000000001E-4,5.0000000000000001E-4,5.0000000000000001E-4,5.0000000000000001E-4,5.0000000000000001E-4,5.0000000000000001E-4,5.0000000000000001E-4,5.0000000000000001E-4,5.0000000000000001E-4,null,"  Lead Compounds",{"$f":"IF('5) Dryer'!C73=0,B59/1020,'5) Dryer'!C73)","v":4.9019607843137254E-7},{"$f":"IF('5) Dryer'!D73=0,C59/1020,'5) Dryer'!D73)","v":4.9019607843137254E-7},{"$f":"IF('5) Dryer'!E73=0,D59/1020,'5) Dryer'!E73)","v":4.9019607843137254E-7},{"$f":"IF('5) Dryer'!F73=0,E59/1020,'5) Dryer'!F73)","v":4.9019607843137254E-7},{"$f":"IF('5) Dryer'!G73=0,F59/1020,'5) Dryer'!G73)","v":4.9019607843137254E-7},{"$f":"IF('5) Dryer'!H73=0,G59/1020,'5) Dryer'!H73)","v":4.9019607843137254E-7},{"$f":"IF('5) Dryer'!I73=0,H59/1020,'5) Dryer'!I73)","v":4.9019607843137254E-7},{"$f":"IF('5) Dryer'!J73=0,I59/1020,'5) Dryer'!J73)","v":4.9019607843137254E-7},{"$f":"IF('5) Dryer'!K73=0,J59/1020,'5) Dryer'!K73)","v":4.9019607843137254E-7},{"$f":"IF('5) Dryer'!L73=0,K59/1020,'5) Dryer'!L73)","v":4.9019607843137254E-7},null,"  Lead Compounds",{"$f":"N59*'5) Dryer'!$O$17","v":0},{"$f":"O59*'5) Dryer'!$O$18","v":0},{"$f":"P59*'5) Dryer'!$O$19","v":0},{"$f":"Q59*'5) Dryer'!$O$20","v":0},{"$f":"R59*'5) Dryer'!$O$21","v":0},{"$f":"S59*'5) Dryer'!$O$22","v":0},{"$f":"T59*'5) Dryer'!$O$23","v":0},{"$f":"U59*'5) Dryer'!$O$24","v":0},{"$f":"V59*'5) Dryer'!$O$25","v":0},{"$f":"W59*'5) Dryer'!$O$26","v":0},0,null,"  Lead Compounds",0,0,0,0,0,0,0,0,0,0,0,null,null,null,null,null,null,null,null,null,null,null,null,null,null,null,null,null,null,null,null,null,null,null,null,null,null,null,"  Lead Compounds",0,0,0,0,0,0,0,0,0,0,0,null,"  Lead Compounds",0,0,0,0,0,0,0,0,0,0,0]
["  Naphthalene ",6.0999999999999997E-4,6.0999999999999997E-4,6.0999999999999997E-4,6.0999999999999997E-4,6.0999999999999997E-4,6.0999999999999997E-4,6.0999999999999997E-4,6.0999999999999997E-4,6.0999999999999997E-4,6.0999999999999997E-4,null,"  Naphthalene ",{"$f":"IF('5) Dryer'!C74=0,B60/1020,'5) Dryer'!C74)","v":5.9803921568627444E-7},{"$f":"IF('5) Dryer'!D74=0,C60/1020,'5) Dryer'!D74)","v":5.9803921568627444E-7},{"$f":"IF('5) Dryer'!E74=0,D60/1020,'5) Dryer'!E74)","v":5.9803921568627444E-7},{"$f":"IF('5) Dryer'!F74=0,E60/1020,'5) Dryer'!F74)","v":5.9803921568627444E-7},{"$f":"IF('5) Dryer'!G74=0,F60/1020,'5) Dryer'!G74)","v":5.9803921568627444E-7},{"$f":"IF('5) Dryer'!H74=0,G60/1020,'5) Dryer'!H74)","v":5.9803921568627444E-7},{"$f":"IF('5) Dryer'!I74=0,H60/1020,'5) Dryer'!I74)","v":5.9803921568627444E-7},{"$f":"IF('5) Dryer'!J74=0,I60/1020,'5) Dryer'!J74)","v":5.9803921568627444E-7},{"$f":"IF('5) Dryer'!K74=0,J60/1020,'5) Dryer'!K74)","v":5.9803921568627444E-7},{"$f":"IF('5) Dryer'!L74=0,K60/1020,'5) Dryer'!L74)","v":5.9803921568627444E-7},null,"  Naphthalene ",{"$f":"N60*'5) Dryer'!$O$17","v":0},{"$f":"O60*'5) Dryer'!$O$18","v":0},{"$f":"P60*'5) Dryer'!$O$19","v":0},{"$f":"Q60*'5) Dryer'!$O$20","v":0},{"$f":"R60*'5) Dryer'!$O$21","v":0},{"$f":"S60*'5) Dryer'!$O$22","v":0},{"$f":"T60*'5) Dryer'!$O$23","v":0},{"$f":"U60*'5) Dryer'!$O$24","v":0},{"$f":"V60*'5) Dryer'!$O$25","v":0},{"$f":"W60*'5) Dryer'!$O$26","v":0},0,null,"  Naphthalene ",0,0,0,0,0,0,0,0,0,0,0,null,null,null,null,null,null,null,null,null,null,null,null,null,null,null,null,null,null,null,null,null,null,null,null,null,null,null,"  Naphthalene ",0,0,0,0,0,0,0,0,0,0,0,null,"  Naphthalene ",0,0,0,0,0,0,0,0,0,0,0]
["  Polycyclic Organic Matter ",8.8200000000000003E-5,8.8200000000000003E-5,8.8200000000000003E-5,8.8200000000000003E-5,8.8200000000000003E-5,8.8200000000000003E-5,8.8200000000000003E-5,8.8200000000000003E-5,8.8200000000000003E-5,8.8200000000000003E-5,null,"  Polycyclic Organic Matter ",{"$f":"IF('5) Dryer'!C75=0,B61/1020,'5) Dryer'!C75)","v":8.6470588235294114E-8},{"$f":"IF('5) Dryer'!D75=0,C61/1020,'5) Dryer'!D75)","v":8.6470588235294114E-8},{"$f":"IF('5) Dryer'!E75=0,D61/1020,'5) Dryer'!E75)","v":8.6470588235294114E-8},{"$f":"IF('5) Dryer'!F75=0,E61/1020,'5) Dryer'!F75)","v":8.6470588235294114E-8},{"$f":"IF('5) Dryer'!G75=0,F61/1020,'5) Dryer'!G75)","v":8.6470588235294114E-8},{"$f":"IF('5) Dryer'!H75=0,G61/1020,'5) Dryer'!H75)","v":8.6470588235294114E-8},{"$f":"IF('5) Dryer'!I75=0,H61/1020,'5) Dryer'!I75)","v":8.6470588235294114E-8},{"$f":"IF('5) Dryer'!J75=0,I61/1020,'5) Dryer'!J75)","v":8.6470588235294114E-8},{"$f":"IF('5) Dryer'!K75=0,J61/1020,'5) Dryer'!K75)","v":8.6470588235294114E-8},{"$f":"IF('5) Dryer'!L75=0,K61/1020,'5) Dryer'!L75)","v":8.6470588235294114E-8},null,"  Polycyclic Organic Matter ",{"$f":"N61*'5) Dryer'!$O$17","v":0},{"$f":"O61*'5) Dryer'!$O$18","v":0},{"$f":"P61*'5) Dryer'!$O$19","v":0},{"$f":"Q61*'5) Dryer'!$O$20","v":0},{"$f":"R61*'5) Dryer'!$O$21","v":0},{"$f":"S61*'5) Dryer'!$O$22","v":0},{"$f":"T61*'5) Dryer'!$O$23","v":0},{"$f":"U61*'5) Dryer'!$O$24","v":0},{"$f":"V61*'5) Dryer'!$O$25","v":0},{"$f":"W61*'5) Dryer'!$O$26","v":0},0,null,"  Polycyclic Organic Matter ",0,0,0,0,0,0,0,0,0,0,0,null,null,null,null,null,null,null,null,null,null,null,null,null,null,null,null,null,null,null,null,null,null,null,null,null,null,null,"  Polycyclic Organic Matter ",0,0,0,0,0,0,0,0,0,0,0,null,"  Polycyclic Organic Matter ",0,0,0,0,0,0,0,0,0,0,0]
["  Toluene ",3.3999999999999998E-3,3.3999999999999998E-3,3.3999999999999998E-3,3.3999999999999998E-3,3.3999999999999998E-3,3.3999999999999998E-3,3.3999999999999998E-3,3.3999999999999998E-3,3.3999999999999998E-3,3.3999999999999998E-3,null,"  Toluene ",{"$f":"IF('5) Dryer'!C76=0,B62/1020,'5) Dryer'!C76)","v":3.3333333333333333E-6},{"$f":"IF('5) Dryer'!D76=0,C62/1020,'5) Dryer'!D76)","v":3.3333333333333333E-6},{"$f":"IF('5) Dryer'!E76=0,D62/1020,'5) Dryer'!E76)","v":3.3333333333333333E-6},{"$f":"IF('5) Dryer'!F76=0,E62/1020,'5) Dryer'!F76)","v":3.3333333333333333E-6},{"$f":"IF('5) Dryer'!G76=0,F62/1020,'5) Dryer'!G76)","v":3.3333333333333333E-6},{"$f":"IF('5) Dryer'!H76=0,G62/1020,'5) Dryer'!H76)","v":3.3333333333333333E-6},{"$f":"IF('5) Dryer'!I76=0,H62/1020,'5) Dryer'!I76)","v":3.3333333333333333E-6},{"$f":"IF('5) Dryer'!J76=0,I62/1020,'5) Dryer'!J76)","v":3.3333333333333333E-6},{"$f":"IF('5) Dryer'!K76=0,J62/1020,'5) Dryer'!K76)","v":3.3333333333333333E-6},{"$f":"IF('5) Dryer'!L76=0,K62/1020,'5) Dryer'!L76)","v":3.3333333333333333E-6},null,"  Toluene ",{"$f":"N62*'5) Dryer'!$O$17","v":0},{"$f":"O62*'5) Dryer'!$O$18","v":0},{"$f":"P62*'5) Dryer'!$O$19","v":0},{"$f":"Q62*'5) Dryer'!$O$20","v":0},{"$f":"R62*'5) Dryer'!$O$21","v":0},{"$f":"S62*'5) Dryer'!$O$22","v":0},{"$f":"T62*'5) Dryer'!$O$23","v":0},{"$f":"U62*'5) Dryer'!$O$24","v":0},{"$f":"V62*'5) Dryer'!$O$25","v":0},{"$f":"W62*'5) Dryer'!$O$26","v":0},0,null,"  Toluene ",0,0,0,0,0,0,0,0,0,0,0,null,null,null,null,null,null,null,null,null,null,null,null,null,null,null,null,null,null,null,null,null,null,null,null,null,null,null,"  Toluene ",0,0,0,0,0,0,0,0,0,0,0,null,"  Toluene ",0,0,0,0,0,0,0,0,0,0,0]
["  Arsenic Compounds",2.0000000000000001E-4,2.0000000000000001E-4,2.0000000000000001E-4,2.0000000000000001E-4,2.0000000000000001E-4,2.0000000000000001E-4,2.0000000000000001E-4,2.0000000000000001E-4,2.0000000000000001E-4,2.0000000000000001E-4,null,"  Arsenic Compounds",{"$f":"IF('5) Dryer'!C77=0,B63/1020,'5) Dryer'!C77)","v":1.9607843137254904E-7},{"$f":"IF('5) Dryer'!D77=0,C63/1020,'5) Dryer'!D77)","v":1.9607843137254904E-7},{"$f":"IF('5) Dryer'!E77=0,D63/1020,'5) Dryer'!E77)","v":1.9607843137254904E-7},{"$f":"IF('5) Dryer'!F77=0,E63/1020,'5) Dryer'!F77)","v":1.9607843137254904E-7},{"$f":"IF('5) Dryer'!G77=0,F63/1020,'5) Dryer'!G77)","v":1.9607843137254904E-7},{"$f":"IF('5) Dryer'!H77=0,G63/1020,'5) Dryer'!H77)","v":1.9607843137254904E-7},{"$f":"IF('5) Dryer'!I77=0,H63/1020,'5) Dryer'!I77)","v":1.9607843137254904E-7},{"$f":"IF('5) Dryer'!J77=0,I63/1020,'5) Dryer'!J77)","v":1.9607843137254904E-7},{"$f":"IF('5) Dryer'!K77=0,J63/1020,'5) Dryer'!K77)","v":1.9607843137254904E-7},{"$f":"IF('5) Dryer'!L77=0,K63/1020,'5) Dryer'!L77)","v":1.9607843137254904E-7},null,"  Arsenic Compounds",{"$f":"N63*'5) Dryer'!$O$17","v":0},{"$f":"O63*'5) Dryer'!$O$18","v":0},{"$f":"P63*'5) Dryer'!$O$19","v":0},{"$f":"Q63*'5) Dryer'!$O$20","v":0},{"$f":"R63*'5) Dryer'!$O$21","v":0},{"$f":"S63*'5) Dryer'!$O$22","v":0},{"$f":"T63*'5) Dryer'!$O$23","v":0},{"$f":"U63*'5) Dryer'!$O$24","v":0},{"$f":"V63*'5) Dryer'!$O$25","v":0},{"$f":"W63*'5) Dryer'!$O$26","v":0},0,null,"  Arsenic Compounds",0,0,0,0,0,0,0,0,0,0,0,null,null,null,null,null,null,null,null,null,null,null,null,null,null,null,null,null,null,null,null,null,null,null,null,null,null,null,"  Arsenic Compounds",0,0,0,0,0,0,0,0,0,0,0,null,"  Arsenic Compounds",0,0,0,0,0,0,0,0,0,0,0]
["  Beryllium Compounds",1.2E-5,1.2E-5,1.2E-5,1.2E-5,1.2E-5,1.2E-5,1.2E-5,1.2E-5,1.2E-5,1.2E-5,null,"  Beryllium Compounds",{"$f":"IF('5) Dryer'!C78=0,B64/1020,'5) Dryer'!C78)","v":1.1764705882352941E-8},{"$f":"IF('5) Dryer'!D78=0,C64/1020,'5) Dryer'!D78)","v":1.1764705882352941E-8},{"$f":"IF('5) Dryer'!E78=0,D64/1020,'5) Dryer'!E78)","v":1.1764705882352941E-8},{"$f":"IF('5) Dryer'!F78=0,E64/1020,'5) Dryer'!F78)","v":1.1764705882352941E-8},{"$f":"IF('5) Dryer'!G78=0,F64/1020,'5) Dryer'!G78)","v":1.1764705882352941E-8},{"$f":"IF('5) Dryer'!H78=0,G64/1020,'5) Dryer'!H78)","v":1.1764705882352941E-8},{"$f":"IF('5) Dryer'!I78=0,H64/1020,'5) Dryer'!I78)","v":1.1764705882352941E-8},{"$f":"IF('5) Dryer'!J78=0,I64/1020,'5) Dryer'!J78)","v":1.1764705882352941E-8},{"$f":"IF('5) Dryer'!K78=0,J64/1020,'5) Dryer'!K78)","v":1.1764705882352941E-8},{"$f":"IF('5) Dryer'!L78=0,K64/1020,'5) Dryer'!L78)","v":1.1764705882352941E-8},null,"  Beryllium Compounds",{"$f":"N64*'5) Dryer'!$O$17","v":0},{"$f":"O64*'5) Dryer'!$O$18","v":0},{"$f":"P64*'5) Dryer'!$O$19","v":0},{"$f":"Q64*'5) Dryer'!$O$20","v":0},{"$f":"R64*'5) Dryer'!$O$21","v":0},{"$f":"S64*'5) Dryer'!$O$22","v":0},{"$f":"T64*'5) Dryer'!$O$23","v":0},{"$f":"U64*'5) Dryer'!$O$24","v":0},{"$f":"V64*'5) Dryer'!$O$25","v":0},{"$f":"W64*'5) Dryer'!$O$26","v":0},0,null,"  Beryllium Compounds",0,0,0,0,0,0,0,0,0,0,0,null,null,null,null,null,null,null,null,null,null,null,null,null,null,null,null,null,null,null,null,null,null,null,null,null,null,null,"  Beryllium Compounds",0,0,0,0,0,0,0,0,0,0,0,null,"  Beryllium Compounds",0,0,0,0,0,0,0,0,0,0,0]
["  Cadmium Compounds",1.1000000000000001E-3,1.1000000000000001E-3,1.1000000000000001E-3,1.1000000000000001E-3,1.1000000000000001E-3,1.1000000000000001E-3,1.1000000000000001E-3,1.1000000000000001E-3,1.1000000000000001E-3,1.1000000000000001E-3,null,"  Cadmium Compounds",{"$f":"IF('5) Dryer'!C79=0,B65/1020,'5) Dryer'!C79)","v":1.0784313725490197E-6},{"$f":"IF('5) Dryer'!D79=0,C65/1020,'5) Dryer'!D79)","v":1.0784313725490197E-6},{"$f":"IF('5) Dryer'!E79=0,D65/1020,'5) Dryer'!E79)","v":1.0784313725490197E-6},{"$f":"IF('5) Dryer'!F79=0,E65/1020,'5) Dryer'!F79)","v":1.0784313725490197E-6},{"$f":"IF('5) Dryer'!G79=0,F65/1020,'5) Dryer'!G79)","v":1.0784313725490197E-6},{"$f":"IF('5) Dryer'!H79=0,G65/1020,'5) Dryer'!H79)","v":1.0784313725490197E-6},{"$f":"IF('5) Dryer'!I79=0,H65/1020,'5) Dryer'!I79)","v":1.0784313725490197E-6},{"$f":"IF('5) Dryer'!J79=0,I65/1020,'5) Dryer'!J79)","v":1.0784313725490197E-6},{"$f":"IF('5) Dryer'!K79=0,J65/1020,'5) Dryer'!K79)","v":1.0784313725490197E-6},{"$f":"IF('5) Dryer'!L79=0,K65/1020,'5) Dryer'!L79)","v":1.0784313725490197E-6},null,"  Cadmium Compounds",{"$f":"N65*'5) Dryer'!$O$17","v":0},{"$f":"O65*'5) Dryer'!$O$18","v":0},{"$f":"P65*'5) Dryer'!$O$19","v":0},{"$f":"Q65*'5) Dryer'!$O$20","v":0},{"$f":"R65*'5) Dryer'!$O$21","v":0},{"$f":"S65*'5) Dryer'!$O$22","v":0},{"$f":"T65*'5) Dryer'!$O$23","v":0},{"$f":"U65*'5) Dryer'!$O$24","v":0},{"$f":"V65*'5) Dryer'!$O$25","v":0},{"$f":"W65*'5) Dryer'!$O$26","v":0},0,null,"  Cadmium Compounds",0,0,0,0,0,0,0,0,0,0,0,null,"Supporting data:",null,null,null,null,null,null,null,null,null,null,null,null,null,null,null,null,null,null,null,null,null,null,null,null,null,"  Cadmium Compounds",0,0,0,0,0,0,0,0,0,0,0,null,"  Cadmium Compounds",0,0,0,0,0,0,0,0,0,0,0]
["  Chromium Compounds",1.4E-3,1.4E-3,1.4E-3,1.4E-3,1.4E-3,1.4E-3,1.4E-3,1.4E-3,1.4E-3,1.4E-3,null,"  Chromium Compounds",{"$f":"IF('5) Dryer'!C80=0,B66/1020,'5) Dryer'!C80)","v":1.3725490196078432E-6},{"$f":"IF('5) Dryer'!D80=0,C66/1020,'5) Dryer'!D80)","v":1.3725490196078432E-6},{"$f":"IF('5) Dryer'!E80=0,D66/1020,'5) Dryer'!E80)","v":1.3725490196078432E-6},{"$f":"IF('5) Dryer'!F80=0,E66/1020,'5) Dryer'!F80)","v":1.3725490196078432E-6},{"$f":"IF('5) Dryer'!G80=0,F66/1020,'5) Dryer'!G80)","v":1.3725490196078432E-6},{"$f":"IF('5) Dryer'!H80=0,G66/1020,'5) Dryer'!H80)","v":1.3725490196078432E-6},{"$f":"IF('5) Dryer'!I80=0,H66/1020,'5) Dryer'!I80)","v":1.3725490196078432E-6},{"$f":"IF('5) Dryer'!J80=0,I66/1020,'5) Dryer'!J80)","v":1.3725490196078432E-6},{"$f":"IF('5) Dryer'!K80=0,J66/1020,'5) Dryer'!K80)","v":1.3725490196078432E-6},{"$f":"IF('5) Dryer'!L80=0,K66/1020,'5) Dryer'!L80)","v":1.3725490196078432E-6},null,"  Chromium Compounds",{"$f":"N66*'5) Dryer'!$O$17","v":0},{"$f":"O66*'5) Dryer'!$O$18","v":0},{"$f":"P66*'5) Dryer'!$O$19","v":0},{"$f":"Q66*'5) Dryer'!$O$20","v":0},{"$f":"R66*'5) Dryer'!$O$21","v":0},{"$f":"S66*'5) Dryer'!$O$22","v":0},{"$f":"T66*'5) Dryer'!$O$23","v":0},{"$f":"U66*'5) Dryer'!$O$24","v":0},{"$f":"V66*'5) Dryer'!$O$25","v":0},{"$f":"W66*'5) Dryer'!$O$26","v":0},0,null,"  Chromium Compounds",0,0,0,0,0,0,0,0,0,0,0,null,"ton/hr",{"$f":"'5) Dryer'!M17","v":0},{"$f":"'5) Dryer'!M18","v":0},{"$f":"'5) Dryer'!M19","v":0},{"$f":"'5) Dryer'!M20","v":0},{"$f":"'5) Dryer'!M21","v":0},{"$f":"'5) Dryer'!M22","v":0},{"$f":"'5) Dryer'!M23","v":0},{"$f":"'5) Dryer'!M24","v":0},{"$f":"'5) Dryer'!M25","v":0},{"$f":"'5) Dryer'!M26","v":0},null,null,null,null,null,null,null,null,null,null,null,null,null,null,null,"  Chromium Compounds",0,0,0,0,0,0,0,0,0,0,0,null,"  Chromium Compounds",0,0,0,0,0,0,0,0,0,0,0]
["  Cobalt Compounds",8.3999999999999995E-5,8.3999999999999995E-5,8.3999999999999995E-5,8.3999999999999995E-5,8.3999999999999995E-5,8.3999999999999995E-5,8.3999999999999995E-5,8.3999999999999995E-5,8.3999999999999995E-5,8.3999999999999995E-5,null,"  Cobalt Compounds",{"$f":"IF('5) Dryer'!C81=0,B67/1020,'5) Dryer'!C81)","v":8.2352941176470587E-8},{"$f":"IF('5) Dryer'!D81=0,C67/1020,'5) Dryer'!D81)","v":8.2352941176470587E-8},{"$f":"IF('5) Dryer'!E81=0,D67/1020,'5) Dryer'!E81)","v":8.2352941176470587E-8},{"$f":"IF('5) Dryer'!F81=0,E67/1020,'5) Dryer'!F81)","v":8.2352941176470587E-8},{"$f":"IF('5) Dryer'!G81=0,F67/1020,'5) Dryer'!G81)","v":8.2352941176470587E-8},{"$f":"IF('5) Dryer'!H81=0,G67/1020,'5) Dryer'!H81)","v":8.2352941176470587E-8},{"$f":"IF('5) Dryer'!I81=0,H67/1020,'5) Dryer'!I81)","v":8.2352941176470587E-8},{"$f":"IF('5) Dryer'!J81=0,I67/1020,'5) Dryer'!J81)","v":8.2352941176470587E-8},{"$f":"IF('5) Dryer'!K81=0,J67/1020,'5) Dryer'!K81)","v":8.2352941176470587E-8},{"$f":"IF('5) Dryer'!L81=0,K67/1020,'5) Dryer'!L81)","v":8.2352941176470587E-8},null,"  Cobalt Compounds",{"$f":"N67*'5) Dryer'!$O$17","v":0},{"$f":"O67*'5) Dryer'!$O$18","v":0},{"$f":"P67*'5) Dryer'!$O$19","v":0},{"$f":"Q67*'5) Dryer'!$O$20","v":0},{"$f":"R67*'5) Dryer'!$O$21","v":0},{"$f":"S67*'5) Dryer'!$O$22","v":0},{"$f":"T67*'5) Dryer'!$O$23","v":0},{"$f":"U67*'5) Dryer'!$O$24","v":0},{"$f":"V67*'5) Dryer'!$O$25","v":0},{"$f":"W67*'5) Dryer'!$O$26","v":0},0,null,"  Cobalt Compounds",0,0,0,0,0,0,0,0,0,0,0,null,"Dryer type",{"$f":"'5) Dryer'!P17","v":0},{"$f":"'5) Dryer'!P18","v":0},{"$f":"'5) Dryer'!P19","v":0},{"$f":"'5) Dryer'!P20","v":0},{"$f":"'5) Dryer'!G62","v":0},{"$f":"'5) Dryer'!P22","v":0},{"$f":"'5) Dryer'!P23","v":0},{"$f":"'5) Dryer'!G65","v":0},{"$f":"'5) Dryer'!P25","v":0},{"$f":"'5) Dryer'!P26","v":0},null,null,null,null,null,null,null,null,null,null,null,null,null,null,null,"  Cobalt Compounds",0,0,0,0,0,0,0,0,0,0,0,null,"  Cobalt Compounds",0,0,0,0,0,0,0,0,0,0,0]
["  Manganese Compounds",3.8000000000000002E-4,3.8000000000000002E-4,3.8000000000000002E-4,3.8000000000000002E-4,3.8000000000000002E-4,3.8000000000000002E-4,3.8000000000000002E-4,3.8000000000000002E-4,3.8000000000000002E-4,3.8000000000000002E-4,null,"  Manganese Compounds",{"$f":"IF('5) Dryer'!C82=0,B68/1020,'5) Dryer'!C82)","v":3.7254901960784315E-7},{"$f":"IF('5) Dryer'!D82=0,C68/1020,'5) Dryer'!D82)","v":3.7254901960784315E-7},{"$f":"IF('5) Dryer'!E82=0,D68/1020,'5) Dryer'!E82)","v":3.7254901960784315E-7},{"$f":"IF('5) Dryer'!F82=0,E68/1020,'5) Dryer'!F82)","v":3.7254901960784315E-7},{"$f":"IF('5) Dryer'!G82=0,F68/1020,'5) Dryer'!G82)","v":3.7254901960784315E-7},{"$f":"IF('5) Dryer'!H82=0,G68/1020,'5) Dryer'!H82)","v":3.7254901960784315E-7},{"$f":"IF('5) Dryer'!I82=0,H68/1020,'5) Dryer'!I82)","v":3.7254901960784315E-7},{"$f":"IF('5) Dryer'!J82=0,I68/1020,'5) Dryer'!J82)","v":3.7254901960784315E-7},{"$f":"IF('5) Dryer'!K82=0,J68/1020,'5) Dryer'!K82)","v":3.7254901960784315E-7},{"$f":"IF('5) Dryer'!L82=0,K68/1020,'5) Dryer'!L82)","v":3.7254901960784315E-7},null,"  Manganese Compounds",{"$f":"N68*'5) Dryer'!$O$17","v":0},{"$f":"O68*'5) Dryer'!$O$18","v":0},{"$f":"P68*'5) Dryer'!$O$19","v":0},{"$f":"Q68*'5) Dryer'!$O$20","v":0},{"$f":"R68*'5) Dryer'!$O$21","v":0},{"$f":"S68*'5) Dryer'!$O$22","v":0},{"$f":"T68*'5) Dryer'!$O$23","v":0},{"$f":"U68*'5) Dryer'!$O$24","v":0},{"$f":"V68*'5) Dryer'!$O$25","v":0},{"$f":"W68*'5) Dryer'!$O$26","v":0},0,null,"  Manganese Compounds",0,0,0,0,0,0,0,0,0,0,0,null,"Particulate control",{"$f":"IF('5) Dryer'!Q17=Datasets!$C$3,0,1)","v":1},{"$f":"IF('5) Dryer'!Q18=Datasets!$C$3,0,1)","v":1},{"$f":"IF('5) Dryer'!Q19=Datasets!$C$3,0,1)","v":1},{"$f":"IF('5) Dryer'!Q20=Datasets!$C$3,0,1)","v":1},{"$f":"IF('5) Dryer'!Q21=Datasets!$C$3,0,1)","v":1},{"$f":"IF('5) Dryer'!Q22=Datasets!$C$3,0,1)","v":1},{"$f":"IF('5) Dryer'!Q23=Datasets!$C$3,0,1)","v":1},{"$f":"IF('5) Dryer'!Q24=Datasets!$C$3,0,1)","v":1},{"$f":"IF('5) Dryer'!Q25=Datasets!$C$3,0,1)","v":1},{"$f":"IF('5) Dryer'!Q26=Datasets!$C$3,0,1)","v":1},null,null,null,null,null,null,null,null,null,null,null,null,null,null,null,"  Manganese Compounds",0,0,0,0,0,0,0,0,0,0,0,null,"  Manganese Compounds",0,0,0,0,0,0,0,0,0,0,0]
["  Mercury Compounds",2.5999999999999998E-4,2.5999999999999998E-4,2.5999999999999998E-4,2.5999999999999998E-4,2.5999999999999998E-4,2.5999999999999998E-4,2.5999999999999998E-4,2.5999999999999998E-4,2.5999999999999998E-4,2.5999999999999998E-4,null,"  Mercury Compounds",{"$f":"IF('5) Dryer'!C83=0,B69/1020,'5) Dryer'!C83)","v":2.5490196078431371E-7},{"$f":"IF('5) Dryer'!D83=0,C69/1020,'5) Dryer'!D83)","v":2.5490196078431371E-7},{"$f":"IF('5) Dryer'!E83=0,D69/1020,'5) Dryer'!E83)","v":2.5490196078431371E-7},{"$f":"IF('5) Dryer'!F83=0,E69/1020,'5) Dryer'!F83)","v":2.5490196078431371E-7},{"$f":"IF('5) Dryer'!G83=0,F69/1020,'5) Dryer'!G83)","v":2.5490196078431371E-7},{"$f":"IF('5) Dryer'!H83=0,G69/1020,'5) Dryer'!H83)","v":2.5490196078431371E-7},{"$f":"IF('5) Dryer'!I83=0,H69/1020,'5) Dryer'!I83)","v":2.5490196078431371E-7},{"$f":"IF('5) Dryer'!J83=0,I69/1020,'5) Dryer'!J83)","v":2.5490196078431371E-7},{"$f":"IF('5) Dryer'!K83=0,J69/1020,'5) Dryer'!K83)","v":2.5490196078431371E-7},{"$f":"IF('5) Dryer'!L83=0,K69/1020,'5) Dryer'!L83)","v":2.5490196078431371E-7},null,"  Mercury Compounds",{"$f":"N69*'5) Dryer'!$O$17","v":0},{"$f":"O69*'5) Dryer'!$O$18","v":0},{"$f":"P69*'5) Dryer'!$O$19","v":0},{"$f":"Q69*'5) Dryer'!$O$20","v":0},{"$f":"R69*'5) Dryer'!$O$21","v":0},{"$f":"S69*'5) Dryer'!$O$22","v":0},{"$f":"T69*'5) Dryer'!$O$23","v":0},{"$f":"U69*'5) Dryer'!$O$24","v":0},{"$f":"V69*'5) Dryer'!$O$25","v":0},{"$f":"W69*'5) Dryer'!$O$26","v":0},0,null,"  Mercury Compounds",0,0,0,0,0,0,0,0,0,0,0,null,"Ton/hr Limit",null,null,null,{"$f":"'5) Dryer'!M12","v":0},null,null,null,null,null,null,null,null,null,null,null,null,null,null,null,null,null,null,null,null,null,"  Mercury Compounds",0,0,0,0,0,0,0,0,0,0,0,null,"  Mercury Compounds",0,0,0,0,0,0,0,0,0,0,0]
["  Nickel Compounds",2.0999999999999999E-3,2.0999999999999999E-3,2.0999999999999999E-3,2.0999999999999999E-3,2.0999999999999999E-3,2.0999999999999999E-3,2.0999999999999999E-3,2.0999999999999999E-3,2.0999999999999999E-3,2.0999999999999999E-3,null,"  Nickel Compounds",{"$f":"IF('5) Dryer'!C84=0,B70/1020,'5) Dryer'!C84)","v":2.0588235294117645E-6},{"$f":"IF('5) Dryer'!D84=0,C70/1020,'5) Dryer'!D84)","v":2.0588235294117645E-6},{"$f":"IF('5) Dryer'!E84=0,D70/1020,'5) Dryer'!E84)","v":2.0588235294117645E-6},{"$f":"IF('5) Dryer'!F84=0,E70/1020,'5) Dryer'!F84)","v":2.0588235294117645E-6},{"$f":"IF('5) Dryer'!G84=0,F70/1020,'5) Dryer'!G84)","v":2.0588235294117645E-6},{"$f":"IF('5) Dryer'!H84=0,G70/1020,'5) Dryer'!H84)","v":2.0588235294117645E-6},{"$f":"IF('5) Dryer'!I84=0,H70/1020,'5) Dryer'!I84)","v":2.0588235294117645E-6},{"$f":"IF('5) Dryer'!J84=0,I70/1020,'5) Dryer'!J84)","v":2.0588235294117645E-6},{"$f":"IF('5) Dryer'!K84=0,J70/1020,'5) Dryer'!K84)","v":2.0588235294117645E-6},{"$f":"IF('5) Dryer'!L84=0,K70/1020,'5) Dryer'!L84)","v":2.0588235294117645E-6},null,"  Nickel Compounds",{"$f":"N70*'5) Dryer'!$O$17","v":0},{"$f":"O70*'5) Dryer'!$O$18","v":0},{"$f":"P70*'5) Dryer'!$O$19","v":0},{"$f":"Q70*'5) Dryer'!$O$20","v":0},{"$f":"R70*'5) Dryer'!$O$21","v":0},{"$f":"S70*'5) Dryer'!$O$22","v":0},{"$f":"T70*'5) Dryer'!$O$23","v":0},{"$f":"U70*'5) Dryer'!$O$24","v":0},{"$f":"V70*'5) Dryer'!$O$25","v":0},{"$f":"W70*'5) Dryer'!$O$26","v":0},0,null,"  Nickel Compounds",0,0,0,0,0,0,0,0,0,0,0,null,"Ton/yr Limit",null,null,null,{"$f":"'5) Dryer'!M13","v":0},null,null,null,null,null,null,null,null,null,null,null,null,null,null,null,null,null,null,null,null,null,"  Nickel Compounds",0,0,0,0,0,0,0,0,0,0,0,null,"  Nickel Compounds",0,0,0,0,0,0,0,0,0,0,0]
["  Selenium Compounds",2.4000000000000001E-5,2.4000000000000001E-5,2.4000000000000001E-5,2.4000000000000001E-5,2.4000000000000001E-5,2.4000000000000001E-5,2.4000000000000001E-5,2.4000000000000001E-5,2.4000000000000001E-5,2.4000000000000001E-5,null,"  Selenium Compounds",{"$f":"IF('5) Dryer'!C85=0,B71/1020,'5) Dryer'!C85)","v":2.3529411764705881E-8},{"$f":"IF('5) Dryer'!D85=0,C71/1020,'5) Dryer'!D85)","v":2.3529411764705881E-8},{"$f":"IF('5) Dryer'!E85=0,D71/1020,'5) Dryer'!E85)","v":2.3529411764705881E-8},{"$f":"IF('5) Dryer'!F85=0,E71/1020,'5) Dryer'!F85)","v":2.3529411764705881E-8},{"$f":"IF('5) Dryer'!G85=0,F71/1020,'5) Dryer'!G85)","v":2.3529411764705881E-8},{"$f":"IF('5) Dryer'!H85=0,G71/1020,'5) Dryer'!H85)","v":2.3529411764705881E-8},{"$f":"IF('5) Dryer'!I85=0,H71/1020,'5) Dryer'!I85)","v":2.3529411764705881E-8},{"$f":"IF('5) Dryer'!J85=0,I71/1020,'5) Dryer'!J85)","v":2.3529411764705881E-8},{"$f":"IF('5) Dryer'!K85=0,J71/1020,'5) Dryer'!K85)","v":2.3529411764705881E-8},{"$f":"IF('5) Dryer'!L85=0,K71/1020,'5) Dryer'!L85)","v":2.3529411764705881E-8},null,"  Selenium Compounds",{"$f":"N71*'5) Dryer'!$O$17","v":0},{"$f":"O71*'5) Dryer'!$O$18","v":0},{"$f":"P71*'5) Dryer'!$O$19","v":0},{"$f":"Q71*'5) Dryer'!$O$20","v":0},{"$f":"R71*'5) Dryer'!$O$21","v":0},{"$f":"S71*'5) Dryer'!$O$22","v":0},{"$f":"T71*'5) Dryer'!$O$23","v":0},{"$f":"U71*'5) Dryer'!$O$24","v":0},{"$f":"V71*'5) Dryer'!$O$25","v":0},{"$f":"W71*'5) Dryer'!$O$26","v":0},0,null,"  Selenium Compounds",0,0,0,0,0,0,0,0,0,0,0,null,"Total ton/hr of Rack dryers",null,null,null,{"$f":"SUMIFS(AZ66:BI66,AZ67:BI67,'5) Calculations'!BA76)","v":0},null,"Total ton/hr of uncontrolled Rack dryers",null,null,null,{"$f":"SUMIFS(AZ66:BI66,AZ67:BI67,'5) Calculations'!BA76,AZ68:BI68,1)","v":0},null,null,null,null,null,null,null,null,null,null,null,null,null,null,null,"  Selenium Compounds",0,0,0,0,0,0,0,0,0,0,0,null,"  Selenium Compounds",0,0,0,0,0,0,0,0,0,0,0]
["Total HAPs",null,null,null,null,null,null,null,null,null,null,null,"Total HAPs",{"$f":"IF('5) Dryer'!C86=0,B72/1020,'5) Dryer'!C86)","v":0},{"$f":"IF('5) Dryer'!D86=0,C72/1020,'5) Dryer'!D86)","v":0},{"$f":"IF('5) Dryer'!E86=0,D72/1020,'5) Dryer'!E86)","v":0},{"$f":"IF('5) Dryer'!F86=0,E72/1020,'5) Dryer'!F86)","v":0},{"$f":"IF('5) Dryer'!G86=0,F72/1020,'5) Dryer'!G86)","v":0},{"$f":"IF('5) Dryer'!H86=0,G72/1020,'5) Dryer'!H86)","v":0},{"$f":"IF('5) Dryer'!I86=0,H72/1020,'5) Dryer'!I86)","v":0},{"$f":"IF('5) Dryer'!J86=0,I72/1020,'5) Dryer'!J86)","v":0},{"$f":"IF('5) Dryer'!K86=0,J72/1020,'5) Dryer'!K86)","v":0},{"$f":"IF('5) Dryer'!L86=0,K72/1020,'5) Dryer'!L86)","v":0},null,"Total HAPs",{"$f":"SUM(Z56:Z71)","v":0},{"$f":"SUM(AA56:AA71)","v":0},{"$f":"SUM(AB56:AB71)","v":0},{"$f":"SUM(AC56:AC71)","v":0},{"$f":"SUM(AD56:AD71)","v":0},{"$f":"SUM(AE56:AE71)","v":0},{"$f":"SUM(AF56:AF71)","v":0},{"$f":"SUM(AG56:AG71)","v":0},{"$f":"SUM(AH56:AH71)","v":0},{"$f":"SUM(AI56:AI71)","v":0},0,null,"Total HAPs",0,0,0,0,0,0,0,0,0,0,0,null,"Total ton/hr of Self-Cleaning Screens ",null,null,null,{"$f":"SUMIFS(AZ66:BI66,AZ67:BI67,'5) Calculations'!BB76)","v":0},null,"Total ton/hr of uncontrolled Self-Cleaning Screens ",null,null,null,{"$f":"SUMIFS(AZ66:BI66,AZ67:BI67,'5) Calculations'!BB76,AZ68:BI68,1)","v":0},null,null,null,null,null,null,null,null,null,null,null,null,null,null,null,"Total HAPs",0,0,0,0,0,0,0,0,0,0,0,null,"Total HAPs",0,0,0,0,0,0,0,0,0,0,0]
["Greenhouse Gases (GHG)","(lb/MMBtu)",null,null,null,null,null,null,null,null,null,null,null,null,null,null,null,null,null,null,null,null,null,null,null,null,null,null,null,null,null,null,null,null,null,null,null,null,null,null,null,null,null,null,null,null,null,null,null,null,"Total ton/hr of Column dryers",null,null,null,{"$f":"SUMIFS(AZ66:BI66,AZ67:BI67,'5) Calculations'!AZ76)","v":0},null,"Total ton/hr of uncontrolled Column dryers",null,null,null,{"$f":"SUMIFS(AZ66:BI66,AZ67:BI67,'5) Calculations'!AZ76,AZ68:BI68,1)","v":0}]
["  Carbon Dioxide (CO2)",{"$f":"53.06*2.20462","v":116.9771372},{"$f":"53.06*2.20462","v":116.9771372},116.9771372,116.9771372,116.9771372,116.9771372,116.9771372,116.9771372,116.9771372,116.9771372,null,"  Carbon Dioxide (CO2)",{"$f":"IF('5) Dryer'!C88=0,B74,'5) Dryer'!C88)","v":116.9771372},{"$f":"IF('5) Dryer'!D88=0,C74,'5) Dryer'!D88)","v":116.9771372},{"$f":"IF('5) Dryer'!E88=0,D74,'5) Dryer'!E88)","v":116.9771372},{"$f":"IF('5) Dryer'!F88=0,E74,'5) Dryer'!F88)","v":116.9771372},{"$f":"IF('5) Dryer'!G88=0,F74,'5) Dryer'!G88)","v":116.9771372},{"$f":"IF('5) Dryer'!H88=0,G74,'5) Dryer'!H88)","v":116.9771372},{"$f":"IF('5) Dryer'!I88=0,H74,'5) Dryer'!I88)","v":116.9771372},{"$f":"IF('5) Dryer'!J88=0,I74,'5) Dryer'!J88)","v":116.9771372},{"$f":"IF('5) Dryer'!K88=0,J74,'5) Dryer'!K88)","v":116.9771372},{"$f":"IF('5) Dryer'!L88=0,K74,'5) Dryer'!L88)","v":116.9771372},null,"  Carbon Dioxide (CO2)",{"$f":"N74*'5) Dryer'!$O$17","v":0},{"$f":"O74*'5) Dryer'!$O$18","v":0},{"$f":"P74*'5) Dryer'!$O$19","v":0},{"$f":"Q74*'5) Dryer'!$O$20","v":0},{"$f":"R74*'5) Dryer'!$O$21","v":0},{"$f":"S74*'5) Dryer'!$O$22","v":0},{"$f":"T74*'5) Dryer'!$O$23","v":0},{"$f":"U74*'5) Dryer'!$O$24","v":0},{"$f":"V74*'5) Dryer'!$O$25","v":0},{"$f":"W74*'5) Dryer'!$O$26","v":0},{"$f":"SUM(Z74:AI74)","v":0},null,"  Carbon Dioxide (CO2)",{"$f":"IF(AM$45=0,Z74*8760/2000,Z74*AM$45/2000)","v":0},0,0,0,0,0,0,0,0,0,{"$f":"SUM(AM74:AV74)","v":0},null,null,null,null,null,null,null,null,null,null,null,null,null,null,null,null,null,null,null,null,null,null,null,null,null,null,null,"  Carbon Dioxide (CO2)",{"$f":"Z74","v":0},{"$f":"AA74","v":0},0,0,0,0,0,0,0,0,{"$f":"SUM(BZ74:CI74)","v":0},null,"  Carbon Dioxide (CO2)",{"$f":"AM74","v":0},{"$f":"AN74","v":0},0,0,0,0,0,0,0,0,0]
["  Methane (CH4)",{"$f":"0.001*2.20462","v":2.20462E-3},{"$f":"0.001*2.20462","v":2.20462E-3},2.20462E-3,2.20462E-3,2.20462E-3,2.20462E-3,2.20462E-3,2.20462E-3,2.20462E-3,2.20462E-3,null,"  Methane (CH4)",{"$f":"IF('5) Dryer'!C89=0,B75,'5) Dryer'!C89)","v":2.20462E-3},{"$f":"IF('5) Dryer'!D89=0,C75,'5) Dryer'!D89)","v":2.20462E-3},{"$f":"IF('5) Dryer'!E89=0,D75,'5) Dryer'!E89)","v":2.20462E-3},{"$f":"IF('5) Dryer'!F89=0,E75,'5) Dryer'!F89)","v":2.20462E-3},{"$f":"IF('5) Dryer'!G89=0,F75,'5) Dryer'!G89)","v":2.20462E-3},{"$f":"IF('5) Dryer'!H89=0,G75,'5) Dryer'!H89)","v":2.20462E-3},{"$f":"IF('5) Dryer'!I89=0,H75,'5) Dryer'!I89)","v":2.20462E-3},{"$f":"IF('5) Dryer'!J89=0,I75,'5) Dryer'!J89)","v":2.20462E-3},{"$f":"IF('5) Dryer'!K89=0,J75,'5) Dryer'!K89)","v":2.20462E-3},{"$f":"IF('5) Dryer'!L89=0,K75,'5) Dryer'!L89)","v":2.20462E-3},null,"  Methane (CH4)",{"$f":"N75*'5) Dryer'!$O$17","v":0},{"$f":"O75*'5) Dryer'!$O$18","v":0},{"$f":"P75*'5) Dryer'!$O$19","v":0},{"$f":"Q75*'5) Dryer'!$O$20","v":0},{"$f":"R75*'5) Dryer'!$O$21","v":0},{"$f":"S75*'5) Dryer'!$O$22","v":0},{"$f":"T75*'5) Dryer'!$O$23","v":0},{"$f":"U75*'5) Dryer'!$O$24","v":0},{"$f":"V75*'5) Dryer'!$O$25","v":0},{"$f":"W75*'5) Dryer'!$O$26","v":0},0,null,"  Methane (CH4)",0,0,0,0,0,0,0,0,0,0,0,null,null,"Emission Factor (lb/ton)",null,null,null,null,null,"Controlled Emission Factor (lb/ton)",null,null,null,null,null,null,null,null,null,null,null,null,null,null,null,null,null,null,"  Methane (CH4)",{"$f":"Z75","v":0},{"$f":"AA75","v":0},{"$f":"AB75","v":0},{"$f":"AC75","v":0},{"$f":"AD75","v":0},{"$f":"AE75","v":0},{"$f":"AF75","v":0},{"$f":"AG75","v":0},{"$f":"AH75","v":0},{"$f":"AI75","v":0},0,null,"  Methane (CH4)",{"$f":"AM75","v":0},{"$f":"AN75","v":0},{"$f":"AO75","v":0},{"$f":"AP75","v":0},{"$f":"AQ75","v":0},{"$f":"AR75","v":0},{"$f":"AS75","v":0},{"$f":"AT75","v":0},{"$f":"AU75","v":0},{"$f":"AV75","v":0},0]
["  Nitrous Oxide (N2O)",{"$f":"0.0001*2.20462","v":2.2046199999999999E-4},{"$f":"0.0001*2.20462","v":2.2046199999999999E-4},2.2046199999999999E-4,2.2046199999999999E-4,2.2046199999999999E-4,2.2046199999999999E-4,2.2046199999999999E-4,2.2046199999999999E-4,2.2046199999999999E-4,2.2046199999999999E-4,null,"  Nitrous Oxide (N2O)",{"$f":"IF('5) Dryer'!C90=0,B76,'5) Dryer'!C90)","v":2.2046199999999999E-4},{"$f":"IF('5) Dryer'!D90=0,C76,'5) Dryer'!D90)","v":2.2046199999999999E-4},{"$f":"IF('5) Dryer'!E90=0,D76,'5) Dryer'!E90)","v":2.2046199999999999E-4},{"$f":"IF('5) Dryer'!F90=0,E76,'5) Dryer'!F90)","v":2.2046199999999999E-4},{"$f":"IF('5) Dryer'!G90=0,F76,'5) Dryer'!G90)","v":2.2046199999999999E-4},{"$f":"IF('5) Dryer'!H90=0,G76,'5) Dryer'!H90)","v":2.2046199999999999E-4},{"$f":"IF('5) Dryer'!J90=0,H76,'5) Dryer'!J90)","v":2.2046199999999999E-4},{"$f":"IF('5) Dryer'!K90=0,I76,'5) Dryer'!K90)","v":2.2046199999999999E-4},{"$f":"IF('5) Dryer'!L90=0,J76,'5) Dryer'!L90)","v":2.2046199999999999E-4},{"$f":"IF('5) Dryer'!M90=0,K76,'5) Dryer'!M90)","v":2.2046199999999999E-4},null,"  Nitrous Oxide (N2O)",{"$f":"N76*'5) Dryer'!$O$17","v":0},{"$f":"O76*'5) Dryer'!$O$18","v":0},{"$f":"P76*'5) Dryer'!$O$19","v":0},{"$f":"Q76*'5) Dryer'!$O$20","v":0},{"$f":"R76*'5) Dryer'!$O$21","v":0},{"$f":"S76*'5) Dryer'!$O$22","v":0},{"$f":"T76*'5) Dryer'!$O$23","v":0},{"$f":"U76*'5) Dryer'!$O$24","v":0},{"$f":"V76*'5) Dryer'!$O$25","v":0},{"$f":"W76*'5) Dryer'!$O$26","v":0},0,null,"  Nitrous Oxide (N2O)",0,0,0,0,0,0,0,0,0,0,0,null,null,"column dryer","rack dryer","self‐cleaning screens",null,null,null,"column dryer","rack dryer","self‐cleaning screens",null,null,null,null,null,null,null,null,null,null,null,null,null,null,null,null,"  Nitrous Oxide (N2O)",0,0,0,0,0,0,0,0,0,0,0,null,"  Nitrous Oxide (N2O)",0,0,0,0,0,0,0,0,0,0,0]
["* Emission factors for Criteria Pollutants and HAPS from AP-42 Tables 1.4-1, 1.4-2, and 1.4-3. Emission Factors for GHGs from 40CFR98 ",null,null,null,null,null,null,null,null,null,null,null,"* Emission factor equals manufacturer's specified. If no manufacturer guarantee entered, AP-42 emission factors are divided by 1020 MMBtu/MMscf",null,null,null,null,null,null,null,null,null,null,null,"Total GHGs",{"$f":"SUM(Z74:Z76)","v":0},{"$f":"SUM(AA74:AA76)","v":0},{"$f":"SUM(AB74:AB76)","v":0},{"$f":"SUM(AC74:AC76)","v":0},{"$f":"SUM(AD74:AD76)","v":0},{"$f":"SUM(AE74:AE76)","v":0},{"$f":"SUM(AF74:AF76)","v":0},{"$f":"SUM(AG74:AG76)","v":0},{"$f":"SUM(AH74:AH76)","v":0},{"$f":"SUM(AI74:AI76)","v":0},{"$f":"SUM(AJ74:AJ76)","v":0},null,"Total GHGs",0,0,0,0,0,0,0,0,0,0,0,null,"PM",0.22,3,0.47,null,null,"PM",{"$f":"AZ77*(1-$BA$82)","v":1.100000000000001E-2},0.15000000000000013,2.3500000000000021E-2,null,null,null,null,null,null,null,null,null,null,null,null,null,null,null,null,"Total GHGs",0,0,0,0,0,0,0,0,0,0,{"$f":"SUM(CJ74:CJ76)","v":0},null,"Total GHGs",0,0,0,0,0,0,0,0,0,0,0]
[null,null,null,null,null,null,null,null,null,null,null,null,null,null,null,null,null,null,null,null,null,null,null,null,"Greenhouse Gases (GHG) (CO2 Equivalent Basis)",null,null,null,null,null,null,null,null,null,null,null,null,"Greenhouse Gases (GHG) (CO2 Equivalent Basis)",null,null,null,null,null,null,null,null,null,null,null,null,"PM10",5.5E-2,0.75,0.12,null,null,"PM10",2.7500000000000024E-3,3.7500000000000033E-2,6.0000000000000053E-3,null,null,null,null,null,null,null,null,null,null,null,null,null,null,null,null,"Greenhouse Gases (GHG) (CO2 Equivalent Basis)",null,null,null,null,null,null,null,null,null,null,null,null,"Greenhouse Gases (GHG) (CO2 Equivalent Basis)"]
["Color Code",null,null,null,null,null,null,null,null,null,null,null,null,null,null,null,null,null,null,null,null,null,null,null,"  Carbon Dioxide (CO2)",{"$f":"Z74","v":0},{"$f":"AA74","v":0},0,0,0,0,0,0,0,0,{"$f":"SUM(Z79:AI79)","v":0},null,"  Carbon Dioxide (CO2)",{"$f":"IF(AM$45=0,Z79*8760/2000,Z79*AM$45/2000)","v":0},0,0,0,0,0,0,0,0,0,{"$f":"SUM(AM79:AV79)","v":0},null,"PM2.5",9.4000000000000004E-3,0.13,0.02,null,null,"PM2.5",4.7000000000000042E-4,6.5000000000000058E-3,1.0000000000000009E-3,null,null,null,null,null,null,null,null,null,null,null,null,null,null,null,null,"  Carbon Dioxide (CO2)",{"$f":"Z79","v":0},{"$f":"AA79","v":0},0,0,0,0,0,0,0,0,{"$f":"SUM(BZ79:CI79)","v":0},null,"  Carbon Dioxide (CO2)",{"$f":"AM79","v":0},{"$f":"AN79","v":0},0,0,0,0,0,0,0,0,0]
[null,"Before Project",null,null,null,null,null,null,null,null,null,null,null,null,null,null,null,null,null,null,null,null,null,null,"  Methane (CH4)",{"$f":"Z75*25","v":0},{"$f":"AA75*25","v":0},0,0,0,0,0,0,0,0,0,null,"  Methane (CH4)",0,0,0,0,0,0,0,0,0,0,0,null,null,null,null,null,null,null,null,null,null,null,null,null,null,null,null,null,null,null,null,null,null,null,null,null,null,null,"  Methane (CH4)",{"$f":"Z80","v":0},{"$f":"AA80","v":0},{"$f":"AB80","v":0},{"$f":"AC80","v":0},{"$f":"AD80","v":0},{"$f":"AE80","v":0},{"$f":"AF80","v":0},{"$f":"AG80","v":0},{"$f":"AH80","v":0},{"$f":"AI80","v":0},0,null,"  Methane (CH4)",{"$f":"AM80","v":0},{"$f":"AN80","v":0},{"$f":"AO80","v":0},{"$f":"AP80","v":0},{"$f":"AQ80","v":0},{"$f":"AR80","v":0},{"$f":"AS80","v":0},{"$f":"AT80","v":0},{"$f":"AU80","v":0},{"$f":"AV80","v":0},0]
[null,"After Project",null,null,null,null,null,null,null,null,null,null,null,null,null,null,null,null,null,null,null,null,null,null,"  Nitrous Oxide (N2O)",{"$f":"Z76*298","v":0},{"$f":"AA76*298","v":0},0,0,0,0,0,0,0,0,0,null,"  Nitrous Oxide (N2O)",0,0,0,0,0,0,0,0,0,0,0,null,"Capture Efficiency",null,1,null,null,null,null,null,null,null,null,null,null,null,null,null,null,null,null,null,null,null,null,null,null,null,"  Nitrous Oxide (N2O)",0,0,0,0,0,0,0,0,0,0,0,null,"  Nitrous Oxide (N2O)",0,0,0,0,0,0,0,0,0,0,0]
[null,"Default Value of the NDEQ",null,null,null,null,null,null,null,null,null,null,null,null,null,null,null,null,null,null,null,null,null,null,"Total GHGs",{"$f":"SUM(Z79:Z81)","v":0},{"$f":"SUM(AA79:AA81)","v":0},{"$f":"SUM(AB79:AB81)","v":0},{"$f":"SUM(AC79:AC81)","v":0},{"$f":"SUM(AD79:AD81)","v":0},{"$f":"SUM(AE79:AE81)","v":0},{"$f":"SUM(AF79:AF81)","v":0},{"$f":"SUM(AG79:AG81)","v":0},{"$f":"SUM(AH79:AH81)","v":0},{"$f":"SUM(AI79:AI81)","v":0},{"$f":"SUM(AJ79:AJ81)","v":0},null,"Total GHGs",0,0,0,0,0,0,0,0,0,0,0,null,"Control Efficiency",null,0.95,null,null,null,null,null,null,null,null,null,null,null,null,null,null,null,null,null,null,null,null,null,null,null,"Total GHGs",0,0,0,0,0,0,0,0,0,0,{"$f":"SUM(CJ79:CJ81)","v":0},null,"Total GHGs",0,0,0,0,0,0,0,0,0,0,0]
[null,"Final PTE"]
[null,"Calculations"]
[null,"Carry over from user input or other calculated values"]

{"sheet":"6) Calculations","index":22,"n_rows":75,"n_cols":19,"rows_kept":75,"cut":false,"hidden":false,"merged":[[54,0,54,1],[37,0,37,1],[27,4,37,9],[10,4,20,9],[61,4,71,9],[38,0,38,3],[42,2,42,3],[43,4,43,6],[43,7,43,9],[60,4,60,6],[60,7,60,9],[44,4,54,9],[20,0,20,1],[39,0,39,3],[40,0,40,3],[21,0,21,3],[72,0,72,3],[73,0,73,3],[74,0,74,3],[55,0,55,3],[56,0,56,3],[57,0,57,3],[59,2,59,3],[71,0,71,1],[8,2,8,3],[9,4,9,6],[9,7,9,9],[25,2,25,3],[26,4,26,6],[26,7,26,9],[22,0,22,3],[23,0,23,3],[4,4,5,4],[4,7,5,7],[4,10,5,10],[4,13,5,13],[0,0,0,3]]}
["Dry Mill: Grain Hammermilling"]
["Emissions from Dry Mill's Grain Hammermilling"]
[]
["Control type","Control Efficiency",null,"Number of scalpers controlled","Control Efficiency",null,"Number of scalpers controlled","Control Efficiency",null,"Number of hammer mills controlled","Control Efficiency",null,"Number of hammer mills controlled","Control Efficiency",null,null,"PM","PM10","PM2.5"]
["None/Uncontrolled",0,null,{"$f":"COUNTIF('6) Hammermill'!F15:F24,A5)","v":0},{"$f":"IF(OR(D5>0,'6) Hammermill'!D10-SUM(D5:D6)>0),B5,B6)","v":0.99},null,{"$f":"COUNTIF('6) Hammermill'!N15:N24,A5)","v":0},{"$f":"IF(OR(G5>0,'6) Hammermill'!D10-SUM(G5:G6)>0),B5,B6)","v":0.99},null,{"$f":"COUNTIF('6) Hammermill'!F28:F37,A5)","v":0},{"$f":"IF(OR(J5>0,'6) Hammermill'!D11-SUM(J5:J6)>0),B5,B6)","v":0.99},null,{"$f":"COUNTIF('6) Hammermill'!N28:N37,A5)","v":0},{"$f":"IF(OR(M5>0,'6) Hammermill'!L11-SUM(M5:M6)>0),B5,B6)","v":0.99},null,"Scalper",7.4999999999999997E-2,1.9E-2,3.0000000000000001E-3]
["Baghouse",0.99,null,{"$f":"COUNTIF('6) Hammermill'!F15:F24,A6)","v":0},null,null,{"$f":"COUNTIF('6) Hammermill'!N15:N24,A6)","v":0},null,null,{"$f":"COUNTIF('6) Hammermill'!F28:F37,A6)","v":0},null,null,{"$f":"COUNTIF('6) Hammermill'!N28:N37,A6)","v":0},null,null,"Hammer Mill Bag House",1.2E-2,{"$f":"Q6","v":1.2E-2},{"$f":"R6","v":1.2E-2}]
[null,null,null,null,null,null,null,null,null,null,null,null,null,null,null,"Hammer Mill Cyclone",6.7000000000000004E-2,{"$f":"Q7/2","v":3.3500000000000002E-2},{"$f":"R7","v":3.3500000000000002E-2}]
[null,null,null,null,null,null,null,null,null,null,null,null,null,null,null,"AP 42 Chapter 9.9.1: Tables 9.9.1-1 and 9.9.1-2"]
[null,null,"Total Controlled PM/PM10/PM2.5 Emissions1",null,"PM","PM10","PM2.5","PM","PM10","PM2.5"]
[null,"Permit Limit, grains/min \n[A]","lb/hr\n[B] = [A]*60/7000","ton/yr\n[C] =[B]*8760/2000","lb/hr\n[D] = Emission Factor (lb/ton) x Max. Capacity (ton/hr) x (1-Control Eff.)",null,null,"ton/yr\n[E] = Emission Factor (lb/ton) x Max. Capacity (ton/yr)/2000 x (1-Control Eff.)"]
["1st Scalper",{"$f":"'6) Hammermill'!G15","v":0},{"$f":"B11*60/7000","v":0},{"$f":"C11*8760/2000","v":0},null,null,null,null,null,null,null,null,"Color Code"]
["2nd Scalper",{"$f":"'6) Hammermill'!G16","v":0},{"$f":"B12*60/7000","v":0},{"$f":"C12*8760/2000","v":0},null,null,null,null,null,null,null,null,null,"Before Project"]
["3rd Scalper",{"$f":"'6) Hammermill'!G17","v":0},0,0,null,null,null,null,null,null,null,null,null,"After Project"]
["4th Scalper",{"$f":"'6) Hammermill'!G18","v":0},0,0,null,null,null,null,null,null,null,null,null,"Default Value of the NDEQ"]
["5th Scalper",{"$f":"'6) Hammermill'!G19","v":0},0,0,null,null,null,null,null,null,null,null,null,"Final PTE"]
["6th Scalper",{"$f":"'6) Hammermill'!G20","v":0},0,0,null,null,null,null,null,null,null,null,null,"Calculations"]
["7th Scalper",{"$f":"'6) Hammermill'!G21","v":0},0,0,null,null,null,null,null,null,null,null,null,"Carry over from user input or other calculated values"]
["8th Scalper",{"$f":"'6) Hammermill'!G22","v":0},0,0]
["9th Scalper",{"$f":"'6) Hammermill'!G23","v":0},0,0]
["10th Scalper",{"$f":"'6) Hammermill'!G24","v":0},0,0]
["Total",null,{"$f":"SUM(C11:C20)","v":0},{"$f":"SUM(D11:D20)","v":0}]
["Uncontrolled Without permit limits",null,null,null,{"$f":"'6) Hammermill'!$D$8*Q5*56/2000","v":0},{"$f":"'6) Hammermill'!$D$8*R5*56/2000","v":0},{"$f":"'6) Hammermill'!$D$8*S5*56/2000","v":0},{"$f":"Q5*'6) Hammermill'!$D$7/2000","v":0},{"$f":"R5*'6) Hammermill'!$D$7/2000","v":0},{"$f":"S5*'6) Hammermill'!$D$7/2000","v":0}]
["Controlled without permit limits",null,null,null,{"$f":"E22*(1-$B$6)","v":0},{"$f":"F22*(1-$B$6)","v":0},0,{"$f":"H22*(1-$B$6)","v":0},{"$f":"I22*(1-$B$6)","v":0},0]
["Final Emissions",null,null,null,{"$f":"IF($C$21<>0,$C$21,IF($E$5=0,E22,E23))","v":0},{"$f":"IF($C$21<>0,$C$21,IF($E$5=0,F22,F23))","v":0},0,{"$f":"IF($D$21<>0,$D$21,IF($E$5=0,H22,H23))","v":0},{"$f":"IF($D$21<>0,$D$21,IF($E$5=0,I22,I23))","v":0},0]
[]
[null,null,"Total Controlled PM/PM10/PM2.5 Emissions1",null,"PM","PM10","PM2.5","PM","PM10","PM2.5"]
[null,"Permit Limit, grains/min \n(If applicable)","lb/hr\n[B] = [A]*60/7000","ton/yr\n[C] =[B]*8760/2000","lb/hr\n[D] = Emission Factor (lb/ton) x Max. Capacity (ton/hr) x (1-Control Eff.)",null,null,"ton/yr\n[E] = Emission Factor (lb/ton) x Max. Capacity (ton/yr)/2000 x (1-Control Eff.)"]
["1st Hammer Mill",{"$f":"'6) Hammermill'!G28","v":0},{"$f":"B28*60/7000","v":0},{"$f":"C28*8760/2000","v":0}]
["2nd Hammer Mill",{"$f":"'6) Hammermill'!G29","v":0},{"$f":"B29*60/7000","v":0},{"$f":"C29*8760/2000","v":0}]
["3rd Hammer Mill",{"$f":"'6) Hammermill'!G30","v":0},0,0]
["4th Hammer Mill",{"$f":"'6) Hammermill'!G31","v":0},0,0]
["5th Hammer Mill",{"$f":"'6) Hammermill'!G32","v":0},0,0]
["6th Hammer Mill",{"$f":"'6) Hammermill'!G33","v":0},0,0]
["7th Hammer Mill",{"$f":"'6) Hammermill'!G34","v":0},0,0]
["8th Hammer Mill",{"$f":"'6) Hammermill'!G35","v":0},0,0]
["9th Hammer Mill",{"$f":"'6) Hammermill'!G36","v":0},0,0]
["10th Hammer Mill",{"$f":"'6) Hammermill'!G37","v":0},0,0]
["Total",null,{"$f":"SUM(C28:C37)","v":0},{"$f":"SUM(D28:D37)","v":0}]
["Uncontrolled Without permit limits",null,null,null,{"$f":"'6) Hammermill'!$D$8*Q7*56/2000","v":0},{"$f":"'6) Hammermill'!$D$8*R7*56/2000","v":0},{"$f":"'6) Hammermill'!$D$8*S7*56/2000","v":0},{"$f":"Q7*'6) Hammermill'!$D$7/2000","v":0},{"$f":"R7*'6) Hammermill'!$D$7/2000","v":0},{"$f":"S7*'6) Hammermill'!$D$7/2000","v":0}]
["Controlled without permit limits",null,null,null,{"$f":"'6) Hammermill'!$D$8*Q6*56/2000","v":0},{"$f":"'6) Hammermill'!$D$8*R6*56/2000","v":0},{"$f":"'6) Hammermill'!$D$8*S6*56/2000","v":0},{"$f":"Q6*'6) Hammermill'!$D$7/2000","v":0},{"$f":"R6*'6) Hammermill'!$D$7/2000","v":0},{"$f":"S6*'6) Hammermill'!$D$7/2000","v":0}]
["Final Emissions",null,null,null,{"$f":"IF($C$38<>0,$C$38,IF($K$5=0,E39,E40))","v":0},{"$f":"IF($C$38<>0,$C$38,IF($K$5=0,F39,F40))","v":0},0,{"$f":"IF($D$38<>0,$D$38,IF($K$5=0,H39,H40))","v":0},{"$f":"IF($D$38<>0,$D$38,IF($K$5=0,I39,I40))","v":0},0]
[]
[null,null,"Total Controlled PM/PM10/PM2.5 Emissions1",null,"PM","PM10","PM2.5","PM","PM10","PM2.5"]
[null,"Permit Limit, grains/min \n[A]","lb/hr\n[B] = [A]*60/7000","ton/yr\n[C] =[B]*8760/2000","lb/hr\n[D] = Emission Factor (lb/ton) x Max. Capacity (ton/hr) x (1-Control Eff.)",null,null,"ton/yr\n[E] = Emission Factor (lb/ton) x Max. Capacity (ton/yr)/2000 x (1-Control Eff.)"]
["1st Scalper",{"$f":"'6) Hammermill'!O15","v":0},{"$f":"B45*60/7000","v":0},{"$f":"C45*8760/2000","v":0}]
["2nd Scalper",{"$f":"'6) Hammermill'!O16","v":0},{"$f":"B46*60/7000","v":0},{"$f":"C46*8760/2000","v":0}]
["3rd Scalper",{"$f":"'6) Hammermill'!O17","v":0},0,0]
["4th Scalper",{"$f":"'6) Hammermill'!O18","v":0},0,0]
["5th Scalper",{"$f":"'6) Hammermill'!O19","v":0},0,0]
["6th Scalper",{"$f":"'6) Hammermill'!O20","v":0},0,0]
["7th Scalper",{"$f":"'6) Hammermill'!O21","v":0},0,0]
["8th Scalper",{"$f":"'6) Hammermill'!O22","v":0},0,0]
["9th Scalper",{"$f":"'6) Hammermill'!O23","v":0},0,0]
["10th Scalper",{"$f":"'6) Hammermill'!O24","v":0},0,0]
["Total",null,{"$f":"SUM(C45:C54)","v":0},{"$f":"SUM(D45:D54)","v":0}]
["Uncontrolled Without permit limits",null,null,null,{"$f":"'6) Hammermill'!$L$8*Q5*56/2000","v":0},{"$f":"'6) Hammermill'!$L$8*R5*56/2000","v":0},{"$f":"'6) Hammermill'!$L$8*S5*56/2000","v":0},{"$f":"Q5*'6) Hammermill'!$L$7/2000","v":0},{"$f":"R5*'6) Hammermill'!$L$7/2000","v":0},{"$f":"S5*'6) Hammermill'!$L$7/2000","v":0}]
["Controlled without permit limits",null,null,null,{"$f":"E56*(1-$B$6)","v":0},{"$f":"F56*(1-$B$6)","v":0},{"$f":"G56*(1-$B$6)","v":0},{"$f":"H56*(1-$B$6)","v":0},{"$f":"I56*(1-$B$6)","v":0},{"$f":"J56*(1-$B$6)","v":0}]
["Final Emissions",null,null,null,{"$f":"IF($C$55<>0,$C$55,IF($H$5=0,E56,E57))","v":0},{"$f":"IF($C$55<>0,$C$55,IF($H$5=0,F56,F57))","v":0},0,{"$f":"IF($D$55<>0,$D$55,IF($H$5=0,H56,H57))","v":0},{"$f":"IF($D$55<>0,$D$55,IF($H$5=0,I56,I57))","v":0},0]
[]
[null,null,"Total Controlled PM/PM10/PM2.5 Emissions1",null,"PM","PM10","PM2.5","PM","PM10","PM2.5"]
[null,"Permit Limit, grains/min \n(If applicable)","lb/hr\n[B] = [A]*60/7000","ton/yr\n[C] =[B]*8760/2000","lb/hr\n[D] = Emission Factor (lb/ton) x Max. Capacity (ton/hr) x (1-Control Eff.)",null,null,"ton/yr\n[E] = Emission Factor (lb/ton) x Max. Capacity (ton/yr)/2000 x (1-Control Eff.)"]
["1st Hammer Mill",{"$f":"'6) Hammermill'!O28","v":0},{"$f":"B62*60/7000","v":0},{"$f":"C62*8760/2000","v":0}]
["2nd Hammer Mill",{"$f":"'6) Hammermill'!O29","v":0},{"$f":"B63*60/7000","v":0},{"$f":"C63*8760/2000","v":0}]
["3rd Hammer Mill",{"$f":"'6) Hammermill'!O30","v":0},0,0]
["4th Hammer Mill",{"$f":"'6) Hammermill'!O31","v":0},0,0]
["5th Hammer Mill",{"$f":"'6) Hammermill'!O32","v":0},0,0]
["6th Hammer Mill",{"$f":"'6) Hammermill'!O33","v":0},0,0]
["7th Hammer Mill",{"$f":"'6) Hammermill'!O34","v":0},0,0]
["8th Hammer Mill",{"$f":"'6) Hammermill'!O35","v":0},0,0]
["9th Hammer Mill",{"$f":"'6) Hammermill'!O36","v":0},0,0]
["10th Hammer Mill",{"$f":"'6) Hammermill'!O37","v":0},0,0]
["Total",null,{"$f":"SUM(C62:C71)","v":0},{"$f":"SUM(D62:D71)","v":0}]
["Uncontrolled Without permit limits",null,null,null,{"$f":"'6) Hammermill'!$L$8*Q7*56/2000","v":0},{"$f":"'6) Hammermill'!$L$8*R7*56/2000","v":0},{"$f":"'6) Hammermill'!$L$8*S7*56/2000","v":0},{"$f":"Q7*'6) Hammermill'!$L$7/2000","v":0},{"$f":"R7*'6) Hammermill'!$L$7/2000","v":0},{"$f":"S7*'6) Hammermill'!$L$7/2000","v":0}]
["Controlled without permit limits",null,null,null,{"$f":"'6) Hammermill'!$L$8*Q6*56/2000","v":0},{"$f":"'6) Hammermill'!$L$8*R6*56/2000","v":0},{"$f":"'6) Hammermill'!$L$8*S6*56/2000","v":0},{"$f":"Q6*'6) Hammermill'!$L$7/2000","v":0},{"$f":"R6*'6) Hammermill'!$L$7/2000","v":0},{"$f":"S6*'6) Hammermill'!$L$7/2000","v":0}]
["Final Emissions",null,null,null,{"$f":"IF($C$72<>0,$C$72,IF($N$5=0,E73,E74))","v":0},{"$f":"IF($C$72<>0,$C$72,IF($N$5=0,F73,F74))","v":0},0,{"$f":"IF($D$72<>0,$D$72,IF($N$5=0,H73,H74))","v":0},{"$f":"IF($D$72<>0,$D$72,IF($N$5=0,I73,I74))","v":0},0]

{"sheet":"7) Calculations","index":23,"n_rows":87,"n_cols":58,"rows_kept":87,"cut":false,"hidden":false,"merged":[[46,9,47,9],[1,33,1,44],[3,34,3,44],[2,0,3,0],[2,1,2,4],[2,5,2,7],[1,21,1,31],[0,0,0,3],[44,9,44,12],[2,9,3,9],[2,21,3,21],[1,9,1,19],[55,22,55,31],[46,21,47,21],[3,10,3,19],[47,10,47,19],[47,34,47,44],[2,33,3,33],[77,10,77,19],[77,22,77,31],[1,46,1,57],[2,46,3,46],[3,47,3,57],[45,46,45,57],[46,46,47,46],[47,47,47,57],[43,33,43,44],[45,9,45,19],[45,21,45,31],[45,33,45,44],[11,10,11,19],[33,10,33,19],[46,33,47,33],[55,10,55,19]]}
["RTO"]
[null,null,null,null,null,null,null,null,null,"Emission Factors*",null,null,null,null,null,null,null,null,null,null,null,"Chosen Emission Factors: Manufacturer's Guarantee (If Available) or AP-42 in lb/MMBtu*",null,null,null,null,null,null,null,null,null,null,null,"PTE in lb/hr = Emission Factor x Maximum Rated Capacity, MMBtu/hr",null,null,null,null,null,null,null,null,null,null,null,null,"PTE in ton/yr = PTE in lb/hr x 8760 / 2000 (or hourly limit if available)"]
["Pollutant","Large",null,null,null,"Small",null,null,null,"Pollutant","1st RTO","2nd RTO","3rd RTO","4th RTO","5th RTO","6th RTO","7th RTO","8th RTO","9th RTO","10th RTO",null,"Pollutant","1st RTO","2nd RTO","3rd RTO","4th RTO","5th RTO","6th RTO","7th RTO","8th RTO","9th RTO","10th RTO",null,"Pollutant","1st RTO","2nd RTO","3rd RTO","4th RTO","5th RTO","6th RTO","7th RTO","8th RTO","9th RTO","10th RTO","Total ",null,"Pollutant","1st RTO","2nd RTO","3rd RTO","4th RTO","5th RTO","6th RTO","7th RTO","8th RTO","9th RTO","10th RTO","Total "]
[null,"PreNSPS","Post-NSPS","Low NOx burners","Flue gas recirculation","Uncontrolled","Low NOx burners","NOx burners/Flue gas recirculation",null,null,"(lb/MMscf)",null,null,null,null,null,null,null,null,null,null,null,"(lb/MMBtu)",null,null,null,null,null,null,null,null,null,null,null,"(lb/hr)",null,null,null,null,null,null,null,null,null,null,null,null,"(lb/hr)"]
["NOx, lb/MMScf",280,190,140,100,100,50,32,null,"PMfilterable",7.6,7.6,7.6,7.6,7.6,7.6,7.6,7.6,7.6,7.6,null,"PMfilterable",{"$f":"IF('8) DDGS Dryer'!P45=0,K5/1020,'8) DDGS Dryer'!P45)","v":7.4509803921568628E-3},{"$f":"IF('8) DDGS Dryer'!Q45=0,L5/1020,'8) DDGS Dryer'!Q45)","v":7.4509803921568628E-3},{"$f":"IF('8) DDGS Dryer'!R45=0,M5/1020,'8) DDGS Dryer'!R45)","v":7.4509803921568628E-3},{"$f":"IF('8) DDGS Dryer'!S45=0,N5/1020,'8) DDGS Dryer'!S45)","v":7.4509803921568628E-3},{"$f":"IF('8) DDGS Dryer'!T45=0,O5/1020,'8) DDGS Dryer'!T45)","v":7.4509803921568628E-3},{"$f":"IF('8) DDGS Dryer'!U45=0,P5/1020,'8) DDGS Dryer'!U45)","v":7.4509803921568628E-3},{"$f":"IF('8) DDGS Dryer'!V45=0,Q5/1020,'8) DDGS Dryer'!V45)","v":7.4509803921568628E-3},{"$f":"IF('8) DDGS Dryer'!W45=0,R5/1020,'8) DDGS Dryer'!W45)","v":7.4509803921568628E-3},{"$f":"IF('8) DDGS Dryer'!X45=0,S5/1020,'8) DDGS Dryer'!X45)","v":7.4509803921568628E-3},{"$f":"IF('8) DDGS Dryer'!Y45=0,T5/1020,'8) DDGS Dryer'!Y45)","v":7.4509803921568628E-3},null,"PMfilterable",{"$f":"W5*'8) DDGS Dryer'!D$29","v":0},{"$f":"X5*'8) DDGS Dryer'!D$30","v":0},{"$f":"Y5*'8) DDGS Dryer'!D$31","v":0},{"$f":"Z5*'8) DDGS Dryer'!D$32","v":0},{"$f":"AA5*'8) DDGS Dryer'!D$33","v":0},{"$f":"AB5*'8) DDGS Dryer'!D$34","v":0},{"$f":"AC5*'8) DDGS Dryer'!D$35","v":0},{"$f":"AD5*'8) DDGS Dryer'!D$36","v":0},{"$f":"AE5*'8) DDGS Dryer'!D$37","v":0},{"$f":"AF5*'8) DDGS Dryer'!D$38","v":0},{"$f":"SUM(AI5:AR5)","v":0},null,"PMfilterable",{"$f":"IF('8) DDGS Dryer'!$G$29=\"\",AI5*8760/2000,AI5*'8) DDGS Dryer'!$G$29/2000)","v":0},{"$f":"IF('8) DDGS Dryer'!$G$30=\"\",AJ5*8760/2000,AJ5*'8) DDGS Dryer'!$G$30/2000)","v":0},{"$f":"IF('8) DDGS Dryer'!$G$31=\"\",AK5*8760/2000,AK5*'8) DDGS Dryer'!$G$31/2000)","v":0},{"$f":"IF('8) DDGS Dryer'!$G$32=\"\",AL5*8760/2000,AL5*'8) DDGS Dryer'!$G$32/2000)","v":0},{"$f":"IF('8) DDGS Dryer'!$G$33=\"\",AM5*8760/2000,AM5*'8) DDGS Dryer'!$G$33/2000)","v":0},{"$f":"IF('8) DDGS Dryer'!$G$34=\"\",AN5*8760/2000,AN5*'8) DDGS Dryer'!$G$34/2000)","v":0},{"$f":"IF('8) DDGS Dryer'!$G$35=\"\",AO5*8760/2000,AO5*'8) DDGS Dryer'!$G$35/2000)","v":0},{"$f":"IF('8) DDGS Dryer'!$G$36=\"\",AP5*8760/2000,AP5*'8) DDGS Dryer'!$G$36/2000)","v":0},{"$f":"IF('8) DDGS Dryer'!$G$37=\"\",AQ5*8760/2000,AQ5*'8) DDGS Dryer'!$G$37/2000)","v":0},{"$f":"IF('8) DDGS Dryer'!$G$38=\"\",AR5*8760/2000,AR5*'8) DDGS Dryer'!$G$38/2000)","v":0},{"$f":"SUM(AV5:BE5)","v":0}]
["NOx, lb/MMBtu",{"$f":"B5/1020","v":0.27450980392156865},{"$f":"C5/1020","v":0.18627450980392157},0.13725490196078433,9.8039215686274508E-2,9.8039215686274508E-2,4.9019607843137254E-2,3.1372549019607843E-2,null,"PM10",7.6,7.6,7.6,7.6,7.6,7.6,7.6,7.6,7.6,7.6,null,"PM10",{"$f":"IF('8) DDGS Dryer'!P46=0,K6/1020,'8) DDGS Dryer'!P46)","v":7.4509803921568628E-3},{"$f":"IF('8) DDGS Dryer'!Q46=0,L6/1020,'8) DDGS Dryer'!Q46)","v":7.4509803921568628E-3},{"$f":"IF('8) DDGS Dryer'!R46=0,M6/1020,'8) DDGS Dryer'!R46)","v":7.4509803921568628E-3},{"$f":"IF('8) DDGS Dryer'!S46=0,N6/1020,'8) DDGS Dryer'!S46)","v":7.4509803921568628E-3},{"$f":"IF('8) DDGS Dryer'!T46=0,O6/1020,'8) DDGS Dryer'!T46)","v":7.4509803921568628E-3},{"$f":"IF('8) DDGS Dryer'!U46=0,P6/1020,'8) DDGS Dryer'!U46)","v":7.4509803921568628E-3},{"$f":"IF('8) DDGS Dryer'!V46=0,Q6/1020,'8) DDGS Dryer'!V46)","v":7.4509803921568628E-3},{"$f":"IF('8) DDGS Dryer'!W46=0,R6/1020,'8) DDGS Dryer'!W46)","v":7.4509803921568628E-3},{"$f":"IF('8) DDGS Dryer'!X46=0,S6/1020,'8) DDGS Dryer'!X46)","v":7.4509803921568628E-3},{"$f":"IF('8) DDGS Dryer'!Y46=0,T6/1020,'8) DDGS Dryer'!Y46)","v":7.4509803921568628E-3},null,"PM10",{"$f":"W6*'8) DDGS Dryer'!D$29","v":0},{"$f":"X6*'8) DDGS Dryer'!D$30","v":0},{"$f":"Y6*'8) DDGS Dryer'!D$31","v":0},{"$f":"Z6*'8) DDGS Dryer'!D$32","v":0},{"$f":"AA6*'8) DDGS Dryer'!D$33","v":0},{"$f":"AB6*'8) DDGS Dryer'!D$34","v":0},{"$f":"AC6*'8) DDGS Dryer'!D$35","v":0},{"$f":"AD6*'8) DDGS Dryer'!D$36","v":0},{"$f":"AE6*'8) DDGS Dryer'!D$37","v":0},{"$f":"AF6*'8) DDGS Dryer'!D$38","v":0},{"$f":"SUM(AI6:AR6)","v":0},null,"PM10",{"$f":"IF('8) DDGS Dryer'!$G$29=\"\",AI6*8760/2000,AI6*'8) DDGS Dryer'!$G$29/2000)","v":0},{"$f":"IF('8) DDGS Dryer'!$G$30=\"\",AJ6*8760/2000,AJ6*'8) DDGS Dryer'!$G$30/2000)","v":0},{"$f":"IF('8) DDGS Dryer'!$G$31=\"\",AK6*8760/2000,AK6*'8) DDGS Dryer'!$G$31/2000)","v":0},{"$f":"IF('8) DDGS Dryer'!$G$32=\"\",AL6*8760/2000,AL6*'8) DDGS Dryer'!$G$32/2000)","v":0},{"$f":"IF('8) DDGS Dryer'!$G$33=\"\",AM6*8760/2000,AM6*'8) DDGS Dryer'!$G$33/2000)","v":0},{"$f":"IF('8) DDGS Dryer'!$G$34=\"\",AN6*8760/2000,AN6*'8) DDGS Dryer'!$G$34/2000)","v":0},{"$f":"IF('8) DDGS Dryer'!$G$35=\"\",AO6*8760/2000,AO6*'8) DDGS Dryer'!$G$35/2000)","v":0},{"$f":"IF('8) DDGS Dryer'!$G$36=\"\",AP6*8760/2000,AP6*'8) DDGS Dryer'!$G$36/2000)","v":0},{"$f":"IF('8) DDGS Dryer'!$G$37=\"\",AQ6*8760/2000,AQ6*'8) DDGS Dryer'!$G$37/2000)","v":0},{"$f":"IF('8) DDGS Dryer'!$G$38=\"\",AR6*8760/2000,AR6*'8) DDGS Dryer'!$G$38/2000)","v":0},{"$f":"SUM(AV6:BE6)","v":0}]
[null,null,null,null,null,null,null,null,null,"PM2.5",7.6,7.6,7.6,7.6,7.6,7.6,7.6,7.6,7.6,7.6,null,"PM2.5",{"$f":"IF('8) DDGS Dryer'!P47=0,K7/1020,'8) DDGS Dryer'!P47)","v":7.4509803921568628E-3},{"$f":"IF('8) DDGS Dryer'!Q47=0,L7/1020,'8) DDGS Dryer'!Q47)","v":7.4509803921568628E-3},{"$f":"IF('8) DDGS Dryer'!R47=0,M7/1020,'8) DDGS Dryer'!R47)","v":7.4509803921568628E-3},{"$f":"IF('8) DDGS Dryer'!S47=0,N7/1020,'8) DDGS Dryer'!S47)","v":7.4509803921568628E-3},{"$f":"IF('8) DDGS Dryer'!T47=0,O7/1020,'8) DDGS Dryer'!T47)","v":7.4509803921568628E-3},{"$f":"IF('8) DDGS Dryer'!U47=0,P7/1020,'8) DDGS Dryer'!U47)","v":7.4509803921568628E-3},{"$f":"IF('8) DDGS Dryer'!V47=0,Q7/1020,'8) DDGS Dryer'!V47)","v":7.4509803921568628E-3},{"$f":"IF('8) DDGS Dryer'!W47=0,R7/1020,'8) DDGS Dryer'!W47)","v":7.4509803921568628E-3},{"$f":"IF('8) DDGS Dryer'!X47=0,S7/1020,'8) DDGS Dryer'!X47)","v":7.4509803921568628E-3},{"$f":"IF('8) DDGS Dryer'!Y47=0,T7/1020,'8) DDGS Dryer'!Y47)","v":7.4509803921568628E-3},null,"PM2.5",{"$f":"W7*'8) DDGS Dryer'!D$29","v":0},{"$f":"X7*'8) DDGS Dryer'!D$30","v":0},{"$f":"Y7*'8) DDGS Dryer'!D$31","v":0},{"$f":"Z7*'8) DDGS Dryer'!D$32","v":0},{"$f":"AA7*'8) DDGS Dryer'!D$33","v":0},{"$f":"AB7*'8) DDGS Dryer'!D$34","v":0},{"$f":"AC7*'8) DDGS Dryer'!D$35","v":0},{"$f":"AD7*'8) DDGS Dryer'!D$36","v":0},{"$f":"AE7*'8) DDGS Dryer'!D$37","v":0},{"$f":"AF7*'8) DDGS Dryer'!D$38","v":0},0,null,"PM2.5",{"$f":"IF('8) DDGS Dryer'!$G$29=\"\",AI7*8760/2000,AI7*'8) DDGS Dryer'!$G$29/2000)","v":0},{"$f":"IF('8) DDGS Dryer'!$G$30=\"\",AJ7*8760/2000,AJ7*'8) DDGS Dryer'!$G$30/2000)","v":0},{"$f":"IF('8) DDGS Dryer'!$G$31=\"\",AK7*8760/2000,AK7*'8) DDGS Dryer'!$G$31/2000)","v":0},{"$f":"IF('8) DDGS Dryer'!$G$32=\"\",AL7*8760/2000,AL7*'8) DDGS Dryer'!$G$32/2000)","v":0},{"$f":"IF('8) DDGS Dryer'!$G$33=\"\",AM7*8760/2000,AM7*'8) DDGS Dryer'!$G$33/2000)","v":0},{"$f":"IF('8) DDGS Dryer'!$G$34=\"\",AN7*8760/2000,AN7*'8) DDGS Dryer'!$G$34/2000)","v":0},{"$f":"IF('8) DDGS Dryer'!$G$35=\"\",AO7*8760/2000,AO7*'8) DDGS Dryer'!$G$35/2000)","v":0},{"$f":"IF('8) DDGS Dryer'!$G$36=\"\",AP7*8760/2000,AP7*'8) DDGS Dryer'!$G$36/2000)","v":0},{"$f":"IF('8) DDGS Dryer'!$G$37=\"\",AQ7*8760/2000,AQ7*'8) DDGS Dryer'!$G$37/2000)","v":0},{"$f":"IF('8) DDGS Dryer'!$G$38=\"\",AR7*8760/2000,AR7*'8) DDGS Dryer'!$G$38/2000)","v":0},0]
[null,null,null,null,null,null,null,null,null,"SO2",0.6,0.6,0.6,0.6,0.6,0.6,0.6,0.6,0.6,0.6,null,"SO2",{"$f":"IF('8) DDGS Dryer'!P48=0,K8/1020,'8) DDGS Dryer'!P48)","v":5.8823529411764701E-4},{"$f":"IF('8) DDGS Dryer'!Q48=0,L8/1020,'8) DDGS Dryer'!Q48)","v":5.8823529411764701E-4},{"$f":"IF('8) DDGS Dryer'!R48=0,M8/1020,'8) DDGS Dryer'!R48)","v":5.8823529411764701E-4},{"$f":"IF('8) DDGS Dryer'!S48=0,N8/1020,'8) DDGS Dryer'!S48)","v":5.8823529411764701E-4},{"$f":"IF('8) DDGS Dryer'!T48=0,O8/1020,'8) DDGS Dryer'!T48)","v":5.8823529411764701E-4},{"$f":"IF('8) DDGS Dryer'!U48=0,P8/1020,'8) DDGS Dryer'!U48)","v":5.8823529411764701E-4},{"$f":"IF('8) DDGS Dryer'!V48=0,Q8/1020,'8) DDGS Dryer'!V48)","v":5.8823529411764701E-4},{"$f":"IF('8) DDGS Dryer'!W48=0,R8/1020,'8) DDGS Dryer'!W48)","v":5.8823529411764701E-4},{"$f":"IF('8) DDGS Dryer'!X48=0,S8/1020,'8) DDGS Dryer'!X48)","v":5.8823529411764701E-4},{"$f":"IF('8) DDGS Dryer'!Y48=0,T8/1020,'8) DDGS Dryer'!Y48)","v":5.8823529411764701E-4},null,"SO2",{"$f":"W8*'8) DDGS Dryer'!D$29","v":0},{"$f":"X8*'8) DDGS Dryer'!D$30","v":0},{"$f":"Y8*'8) DDGS Dryer'!D$31","v":0},{"$f":"Z8*'8) DDGS Dryer'!D$32","v":0},{"$f":"AA8*'8) DDGS Dryer'!D$33","v":0},{"$f":"AB8*'8) DDGS Dryer'!D$34","v":0},{"$f":"AC8*'8) DDGS Dryer'!D$35","v":0},{"$f":"AD8*'8) DDGS Dryer'!D$36","v":0},{"$f":"AE8*'8) DDGS Dryer'!D$37","v":0},{"$f":"AF8*'8) DDGS Dryer'!D$38","v":0},0,null,"SO2",{"$f":"IF('8) DDGS Dryer'!$G$29=\"\",AI8*8760/2000,AI8*'8) DDGS Dryer'!$G$29/2000)","v":0},{"$f":"IF('8) DDGS Dryer'!$G$30=\"\",AJ8*8760/2000,AJ8*'8) DDGS Dryer'!$G$30/2000)","v":0},{"$f":"IF('8) DDGS Dryer'!$G$31=\"\",AK8*8760/2000,AK8*'8) DDGS Dryer'!$G$31/2000)","v":0},{"$f":"IF('8) DDGS Dryer'!$G$32=\"\",AL8*8760/2000,AL8*'8) DDGS Dryer'!$G$32/2000)","v":0},{"$f":"IF('8) DDGS Dryer'!$G$33=\"\",AM8*8760/2000,AM8*'8) DDGS Dryer'!$G$33/2000)","v":0},{"$f":"IF('8) DDGS Dryer'!$G$34=\"\",AN8*8760/2000,AN8*'8) DDGS Dryer'!$G$34/2000)","v":0},{"$f":"IF('8) DDGS Dryer'!$G$35=\"\",AO8*8760/2000,AO8*'8) DDGS Dryer'!$G$35/2000)","v":0},{"$f":"IF('8) DDGS Dryer'!$G$36=\"\",AP8*8760/2000,AP8*'8) DDGS Dryer'!$G$36/2000)","v":0},{"$f":"IF('8) DDGS Dryer'!$G$37=\"\",AQ8*8760/2000,AQ8*'8) DDGS Dryer'!$G$37/2000)","v":0},{"$f":"IF('8) DDGS Dryer'!$G$38=\"\",AR8*8760/2000,AR8*'8) DDGS Dryer'!$G$38/2000)","v":0},0]
[null,null,null,null,null,null,null,null,null,"NOx",{"$f":"IF('8) DDGS Dryer'!D29<100,IF('8) DDGS Dryer'!E29=Datasets!$AA$3,G5,IF('8) DDGS Dryer'!E29=Datasets!$AA$4,H5,F5)),IF('8) DDGS Dryer'!E29=Datasets!$AA$3,D5,IF('8) DDGS Dryer'!E29=Datasets!$AA$4,E5,IF('8) DDGS Dryer'!F29=Datasets!$AB$2,'7) Calculations'!B5,'7) Calculations'!C5))))","v":100},{"$f":"IF('8) DDGS Dryer'!D30<100,IF('8) DDGS Dryer'!E30=Datasets!$AA$3,$G$5,IF('8) DDGS Dryer'!E30=Datasets!$AA$4,$H$5,$F$5)),IF('8) DDGS Dryer'!E30=Datasets!$AA$3,$D$5,IF('8) DDGS Dryer'!E30=Datasets!$AA$4,$E$5,IF('8) DDGS Dryer'!F30=Datasets!$AB$2,'7) Calculations'!$C$5,'7) Calculations'!$B$5))))","v":100},{"$f":"IF('8) DDGS Dryer'!D31<100,IF('8) DDGS Dryer'!E31=Datasets!$AA$3,$G$5,IF('8) DDGS Dryer'!E31=Datasets!$AA$4,$H$5,$F$5)),IF('8) DDGS Dryer'!E31=Datasets!$AA$3,$D$5,IF('8) DDGS Dryer'!E31=Datasets!$AA$4,$E$5,IF('8) DDGS Dryer'!F31=Datasets!$AB$2,'7) Calculations'!$C$5,'7) Calculations'!$B$5))))","v":100},{"$f":"IF('8) DDGS Dryer'!D32<100,IF('8) DDGS Dryer'!E32=Datasets!$AA$3,$G$5,IF('8) DDGS Dryer'!E32=Datasets!$AA$4,$H$5,$F$5)),IF('8) DDGS Dryer'!E32=Datasets!$AA$3,$D$5,IF('8) DDGS Dryer'!E32=Datasets!$AA$4,$E$5,IF('8) DDGS Dryer'!F32=Datasets!$AB$2,'7) Calculations'!$C$5,'7) Calculations'!$B$5))))","v":100},{"$f":"IF('8) DDGS Dryer'!D33<100,IF('8) DDGS Dryer'!E33=Datasets!$AA$3,$G$5,IF('8) DDGS Dryer'!E33=Datasets!$AA$4,$H$5,$F$5)),IF('8) DDGS Dryer'!E33=Datasets!$AA$3,$D$5,IF('8) DDGS Dryer'!E33=Datasets!$AA$4,$E$5,IF('8) DDGS Dryer'!F33=Datasets!$AB$2,'7) Calculations'!$C$5,'7) Calculations'!$B$5))))","v":100},{"$f":"IF('8) DDGS Dryer'!D34<100,IF('8) DDGS Dryer'!E34=Datasets!$AA$3,$G$5,IF('8) DDGS Dryer'!E34=Datasets!$AA$4,$H$5,$F$5)),IF('8) DDGS Dryer'!E34=Datasets!$AA$3,$D$5,IF('8) DDGS Dryer'!E34=Datasets!$AA$4,$E$5,IF('8) DDGS Dryer'!F34=Datasets!$AB$2,'7) Calculations'!$C$5,'7) Calculations'!$B$5))))","v":100},{"$f":"IF('8) DDGS Dryer'!D35<100,IF('8) DDGS Dryer'!E35=Datasets!$AA$3,$G$5,IF('8) DDGS Dryer'!E35=Datasets!$AA$4,$H$5,$F$5)),IF('8) DDGS Dryer'!E35=Datasets!$AA$3,$D$5,IF('8) DDGS Dryer'!E35=Datasets!$AA$4,$E$5,IF('8) DDGS Dryer'!F35=Datasets!$AB$2,'7) Calculations'!$C$5,'7) Calculations'!$B$5))))","v":100},{"$f":"IF('8) DDGS Dryer'!D36<100,IF('8) DDGS Dryer'!E36=Datasets!$AA$3,$G$5,IF('8) DDGS Dryer'!E36=Datasets!$AA$4,$H$5,$F$5)),IF('8) DDGS Dryer'!E36=Datasets!$AA$3,$D$5,IF('8) DDGS Dryer'!E36=Datasets!$AA$4,$E$5,IF('8) DDGS Dryer'!F36=Datasets!$AB$2,'7) Calculations'!$C$5,'7) Calculations'!$B$5))))","v":100},{"$f":"IF('8) DDGS Dryer'!D37<100,IF('8) DDGS Dryer'!E37=Datasets!$AA$3,$G$5,IF('8) DDGS Dryer'!E37=Datasets!$AA$4,$H$5,$F$5)),IF('8) DDGS Dryer'!E37=Datasets!$AA$3,$D$5,IF('8) DDGS Dryer'!E37=Datasets!$AA$4,$E$5,IF('8) DDGS Dryer'!F37=Datasets!$AB$2,'7) Calculations'!$C$5,'7) Calculations'!$B$5))))","v":100},{"$f":"IF('8) DDGS Dryer'!D38<100,IF('8) DDGS Dryer'!E38=Datasets!$AA$3,$G$5,IF('8) DDGS Dryer'!E38=Datasets!$AA$4,$H$5,$F$5)),IF('8) DDGS Dryer'!E38=Datasets!$AA$3,$D$5,IF('8) DDGS Dryer'!E38=Datasets!$AA$4,$E$5,IF('8) DDGS Dryer'!F38=Datasets!$AB$2,'7) Calculations'!$C$5,'7) Calculations'!$B$5))))","v":100},null,"NOx",{"$f":"IF('8) DDGS Dryer'!P49=0,K9/1020,'8) DDGS Dryer'!P49)","v":9.8039215686274508E-2},{"$f":"IF('8) DDGS Dryer'!Q49=0,L9/1020,'8) DDGS Dryer'!Q49)","v":9.8039215686274508E-2},{"$f":"IF('8) DDGS Dryer'!R49=0,M9/1020,'8) DDGS Dryer'!R49)","v":9.8039215686274508E-2},{"$f":"IF('8) DDGS Dryer'!S49=0,N9/1020,'8) DDGS Dryer'!S49)","v":9.8039215686274508E-2},{"$f":"IF('8) DDGS Dryer'!T49=0,O9/1020,'8) DDGS Dryer'!T49)","v":9.8039215686274508E-2},{"$f":"IF('8) DDGS Dryer'!U49=0,P9/1020,'8) DDGS Dryer'!U49)","v":9.8039215686274508E-2},{"$f":"IF('8) DDGS Dryer'!V49=0,Q9/1020,'8) DDGS Dryer'!V49)","v":9.8039215686274508E-2},{"$f":"IF('8) DDGS Dryer'!W49=0,R9/1020,'8) DDGS Dryer'!W49)","v":9.8039215686274508E-2},{"$f":"IF('8) DDGS Dryer'!X49=0,S9/1020,'8) DDGS Dryer'!X49)","v":9.8039215686274508E-2},{"$f":"IF('8) DDGS Dryer'!Y49=0,T9/1020,'8) DDGS Dryer'!Y49)","v":9.8039215686274508E-2},null,"NOx",{"$f":"W9*'8) DDGS Dryer'!D$29","v":0},{"$f":"X9*'8) DDGS Dryer'!D$30","v":0},{"$f":"Y9*'8) DDGS Dryer'!D$31","v":0},{"$f":"Z9*'8) DDGS Dryer'!D$32","v":0},{"$f":"AA9*'8) DDGS Dryer'!D$33","v":0},{"$f":"AB9*'8) DDGS Dryer'!D$34","v":0},{"$f":"AC9*'8) DDGS Dryer'!D$35","v":0},{"$f":"AD9*'8) DDGS Dryer'!D$36","v":0},{"$f":"AE9*'8) DDGS Dryer'!D$37","v":0},{"$f":"AF9*'8) DDGS Dryer'!D$38","v":0},{"$f":"SUM(AI9:AR9)","v":0},null,"NOx",{"$f":"IF('8) DDGS Dryer'!$G$29=\"\",AI9*8760/2000,AI9*'8) DDGS Dryer'!$G$29/2000)","v":0},{"$f":"IF('8) DDGS Dryer'!$G$30=\"\",AJ9*8760/2000,AJ9*'8) DDGS Dryer'!$G$30/2000)","v":0},{"$f":"IF('8) DDGS Dryer'!$G$31=\"\",AK9*8760/2000,AK9*'8) DDGS Dryer'!$G$31/2000)","v":0},{"$f":"IF('8) DDGS Dryer'!$G$32=\"\",AL9*8760/2000,AL9*'8) DDGS Dryer'!$G$32/2000)","v":0},{"$f":"IF('8) DDGS Dryer'!$G$33=\"\",AM9*8760/2000,AM9*'8) DDGS Dryer'!$G$33/2000)","v":0},{"$f":"IF('8) DDGS Dryer'!$G$34=\"\",AN9*8760/2000,AN9*'8) DDGS Dryer'!$G$34/2000)","v":0},{"$f":"IF('8) DDGS Dryer'!$G$35=\"\",AO9*8760/2000,AO9*'8) DDGS Dryer'!$G$35/2000)","v":0},{"$f":"IF('8) DDGS Dryer'!$G$36=\"\",AP9*8760/2000,AP9*'8) DDGS Dryer'!$G$36/2000)","v":0},{"$f":"IF('8) DDGS Dryer'!$G$37=\"\",AQ9*8760/2000,AQ9*'8) DDGS Dryer'!$G$37/2000)","v":0},{"$f":"IF('8) DDGS Dryer'!$G$38=\"\",AR9*8760/2000,AR9*'8) DDGS Dryer'!$G$38/2000)","v":0},0]
[null,null,null,null,null,null,null,null,null,"CO",84,84,84,84,84,84,84,84,84,84,null,"CO",{"$f":"IF('8) DDGS Dryer'!P50=0,K10/1020,'8) DDGS Dryer'!P50)","v":8.2352941176470587E-2},{"$f":"IF('8) DDGS Dryer'!Q50=0,L10/1020,'8) DDGS Dryer'!Q50)","v":8.2352941176470587E-2},{"$f":"IF('8) DDGS Dryer'!R50=0,M10/1020,'8) DDGS Dryer'!R50)","v":8.2352941176470587E-2},{"$f":"IF('8) DDGS Dryer'!S50=0,N10/1020,'8) DDGS Dryer'!S50)","v":8.2352941176470587E-2},{"$f":"IF('8) DDGS Dryer'!T50=0,O10/1020,'8) DDGS Dryer'!T50)","v":8.2352941176470587E-2},{"$f":"IF('8) DDGS Dryer'!U50=0,P10/1020,'8) DDGS Dryer'!U50)","v":8.2352941176470587E-2},{"$f":"IF('8) DDGS Dryer'!V50=0,Q10/1020,'8) DDGS Dryer'!V50)","v":8.2352941176470587E-2},{"$f":"IF('8) DDGS Dryer'!W50=0,R10/1020,'8) DDGS Dryer'!W50)","v":8.2352941176470587E-2},{"$f":"IF('8) DDGS Dryer'!X50=0,S10/1020,'8) DDGS Dryer'!X50)","v":8.2352941176470587E-2},{"$f":"IF('8) DDGS Dryer'!Y50=0,T10/1020,'8) DDGS Dryer'!Y50)","v":8.2352941176470587E-2},null,"CO",{"$f":"W10*'8) DDGS Dryer'!D$29","v":0},{"$f":"X10*'8) DDGS Dryer'!D$30","v":0},{"$f":"Y10*'8) DDGS Dryer'!D$31","v":0},{"$f":"Z10*'8) DDGS Dryer'!D$32","v":0},{"$f":"AA10*'8) DDGS Dryer'!D$33","v":0},{"$f":"AB10*'8) DDGS Dryer'!D$34","v":0},{"$f":"AC10*'8) DDGS Dryer'!D$35","v":0},{"$f":"AD10*'8) DDGS Dryer'!D$36","v":0},{"$f":"AE10*'8) DDGS Dryer'!D$37","v":0},{"$f":"AF10*'8) DDGS Dryer'!D$38","v":0},{"$f":"SUM(AI10:AR10)","v":0},null,"CO",{"$f":"IF('8) DDGS Dryer'!$G$29=\"\",AI10*8760/2000,AI10*'8) DDGS Dryer'!$G$29/2000)","v":0},{"$f":"IF('8) DDGS Dryer'!$G$30=\"\",AJ10*8760/2000,AJ10*'8) DDGS Dryer'!$G$30/2000)","v":0},{"$f":"IF('8) DDGS Dryer'!$G$31=\"\",AK10*8760/2000,AK10*'8) DDGS Dryer'!$G$31/2000)","v":0},{"$f":"IF('8) DDGS Dryer'!$G$32=\"\",AL10*8760/2000,AL10*'8) DDGS Dryer'!$G$32/2000)","v":0},{"$f":"IF('8) DDGS Dryer'!$G$33=\"\",AM10*8760/2000,AM10*'8) DDGS Dryer'!$G$33/2000)","v":0},{"$f":"IF('8) DDGS Dryer'!$G$34=\"\",AN10*8760/2000,AN10*'8) DDGS Dryer'!$G$34/2000)","v":0},{"$f":"IF('8) DDGS Dryer'!$G$35=\"\",AO10*8760/2000,AO10*'8) DDGS Dryer'!$G$35/2000)","v":0},{"$f":"IF('8) DDGS Dryer'!$G$36=\"\",AP10*8760/2000,AP10*'8) DDGS Dryer'!$G$36/2000)","v":0},{"$f":"IF('8) DDGS Dryer'!$G$37=\"\",AQ10*8760/2000,AQ10*'8) DDGS Dryer'!$G$37/2000)","v":0},{"$f":"IF('8) DDGS Dryer'!$G$38=\"\",AR10*8760/2000,AR10*'8) DDGS Dryer'!$G$38/2000)","v":0},0]
[null,null,null,null,null,null,null,null,null,"VOC",5.5,5.5,5.5,5.5,5.5,5.5,5.5,5.5,5.5,5.5,null,"VOC",{"$f":"IF('8) DDGS Dryer'!P51=0,K11/1020,'8) DDGS Dryer'!P51)","v":5.392156862745098E-3},{"$f":"IF('8) DDGS Dryer'!Q51=0,L11/1020,'8) DDGS Dryer'!Q51)","v":5.392156862745098E-3},{"$f":"IF('8) DDGS Dryer'!R51=0,M11/1020,'8) DDGS Dryer'!R51)","v":5.392156862745098E-3},{"$f":"IF('8) DDGS Dryer'!S51=0,N11/1020,'8) DDGS Dryer'!S51)","v":5.392156862745098E-3},{"$f":"IF('8) DDGS Dryer'!T51=0,O11/1020,'8) DDGS Dryer'!T51)","v":5.392156862745098E-3},{"$f":"IF('8) DDGS Dryer'!U51=0,P11/1020,'8) DDGS Dryer'!U51)","v":5.392156862745098E-3},{"$f":"IF('8) DDGS Dryer'!V51=0,Q11/1020,'8) DDGS Dryer'!V51)","v":5.392156862745098E-3},{"$f":"IF('8) DDGS Dryer'!W51=0,R11/1020,'8) DDGS Dryer'!W51)","v":5.392156862745098E-3},{"$f":"IF('8) DDGS Dryer'!X51=0,S11/1020,'8) DDGS Dryer'!X51)","v":5.392156862745098E-3},{"$f":"IF('8) DDGS Dryer'!Y51=0,T11/1020,'8) DDGS Dryer'!Y51)","v":5.392156862745098E-3},null,"VOC",{"$f":"W11*'8) DDGS Dryer'!D$29","v":0},{"$f":"X11*'8) DDGS Dryer'!D$30","v":0},{"$f":"Y11*'8) DDGS Dryer'!D$31","v":0},{"$f":"Z11*'8) DDGS Dryer'!D$32","v":0},{"$f":"AA11*'8) DDGS Dryer'!D$33","v":0},{"$f":"AB11*'8) DDGS Dryer'!D$34","v":0},{"$f":"AC11*'8) DDGS Dryer'!D$35","v":0},{"$f":"AD11*'8) DDGS Dryer'!D$36","v":0},{"$f":"AE11*'8) DDGS Dryer'!D$37","v":0},{"$f":"AF11*'8) DDGS Dryer'!D$38","v":0},{"$f":"SUM(AI11:AR11)","v":0},null,"VOC",{"$f":"IF('8) DDGS Dryer'!$G$29=\"\",AI11*8760/2000,AI11*'8) DDGS Dryer'!$G$29/2000)","v":0},{"$f":"IF('8) DDGS Dryer'!$G$30=\"\",AJ11*8760/2000,AJ11*'8) DDGS Dryer'!$G$30/2000)","v":0},{"$f":"IF('8) DDGS Dryer'!$G$31=\"\",AK11*8760/2000,AK11*'8) DDGS Dryer'!$G$31/2000)","v":0},{"$f":"IF('8) DDGS Dryer'!$G$32=\"\",AL11*8760/2000,AL11*'8) DDGS Dryer'!$G$32/2000)","v":0},{"$f":"IF('8) DDGS Dryer'!$G$33=\"\",AM11*8760/2000,AM11*'8) DDGS Dryer'!$G$33/2000)","v":0},{"$f":"IF('8) DDGS Dryer'!$G$34=\"\",AN11*8760/2000,AN11*'8) DDGS Dryer'!$G$34/2000)","v":0},{"$f":"IF('8) DDGS Dryer'!$G$35=\"\",AO11*8760/2000,AO11*'8) DDGS Dryer'!$G$35/2000)","v":0},{"$f":"IF('8) DDGS Dryer'!$G$36=\"\",AP11*8760/2000,AP11*'8) DDGS Dryer'!$G$36/2000)","v":0},{"$f":"IF('8) DDGS Dryer'!$G$37=\"\",AQ11*8760/2000,AQ11*'8) DDGS Dryer'!$G$37/2000)","v":0},{"$f":"IF('8) DDGS Dryer'!$G$38=\"\",AR11*8760/2000,AR11*'8) DDGS Dryer'!$G$38/2000)","v":0},0]
[null,null,null,null,null,null,null,null,null,"Individual HAP",null,null,null,null,null,null,null,null,null,null,null,"Individual HAP",null,null,null,null,null,null,null,null,null,null,null,"Individual HAP",null,null,null,null,null,null,null,null,null,null,null,null,"Individual HAP"]
[null,null,null,null,null,null,null,null,null,{"$f":"'7) Ferm'!A49","v":"  Acetaldehyde"},null,null,null,null,null,null,null,null,null,null,null,"  Acetaldehyde",{"$f":"IF('8) DDGS Dryer'!P53=0,K13/1020,'8) DDGS Dryer'!P53)","v":0},{"$f":"IF('8) DDGS Dryer'!Q53=0,L13/1020,'8) DDGS Dryer'!Q53)","v":0},{"$f":"IF('8) DDGS Dryer'!R53=0,M13/1020,'8) DDGS Dryer'!R53)","v":0},{"$f":"IF('8) DDGS Dryer'!S53=0,N13/1020,'8) DDGS Dryer'!S53)","v":0},{"$f":"IF('8) DDGS Dryer'!T53=0,O13/1020,'8) DDGS Dryer'!T53)","v":0},{"$f":"IF('8) DDGS Dryer'!U53=0,P13/1020,'8) DDGS Dryer'!U53)","v":0},{"$f":"IF('8) DDGS Dryer'!V53=0,Q13/1020,'8) DDGS Dryer'!V53)","v":0},{"$f":"IF('8) DDGS Dryer'!W53=0,R13/1020,'8) DDGS Dryer'!W53)","v":0},{"$f":"IF('8) DDGS Dryer'!X53=0,S13/1020,'8) DDGS Dryer'!X53)","v":0},{"$f":"IF('8) DDGS Dryer'!Y53=0,T13/1020,'8) DDGS Dryer'!Y53)","v":0},null,"  Acetaldehyde",{"$f":"W13*'8) DDGS Dryer'!D$29","v":0},{"$f":"X13*'8) DDGS Dryer'!D$30","v":0},{"$f":"Y13*'8) DDGS Dryer'!D$31","v":0},{"$f":"Z13*'8) DDGS Dryer'!D$32","v":0},{"$f":"AA13*'8) DDGS Dryer'!D$33","v":0},{"$f":"AB13*'8) DDGS Dryer'!D$34","v":0},{"$f":"AC13*'8) DDGS Dryer'!D$35","v":0},{"$f":"AD13*'8) DDGS Dryer'!D$36","v":0},{"$f":"AE13*'8) DDGS Dryer'!D$37","v":0},{"$f":"AF13*'8) DDGS Dryer'!D$38","v":0},{"$f":"SUM(AI13:AR13)","v":0},null,"  Acetaldehyde",{"$f":"IF('8) DDGS Dryer'!$G$29=\"\",AI13*8760/2000,AI13*'8) DDGS Dryer'!$G$29/2000)","v":0},{"$f":"IF('8) DDGS Dryer'!$G$30=\"\",AJ13*8760/2000,AJ13*'8) DDGS Dryer'!$G$30/2000)","v":0},{"$f":"IF('8) DDGS Dryer'!$G$31=\"\",AK13*8760/2000,AK13*'8) DDGS Dryer'!$G$31/2000)","v":0},{"$f":"IF('8) DDGS Dryer'!$G$32=\"\",AL13*8760/2000,AL13*'8) DDGS Dryer'!$G$32/2000)","v":0},{"$f":"IF('8) DDGS Dryer'!$G$33=\"\",AM13*8760/2000,AM13*'8) DDGS Dryer'!$G$33/2000)","v":0},{"$f":"IF('8) DDGS Dryer'!$G$34=\"\",AN13*8760/2000,AN13*'8) DDGS Dryer'!$G$34/2000)","v":0},{"$f":"IF('8) DDGS Dryer'!$G$35=\"\",AO13*8760/2000,AO13*'8) DDGS Dryer'!$G$35/2000)","v":0},{"$f":"IF('8) DDGS Dryer'!$G$36=\"\",AP13*8760/2000,AP13*'8) DDGS Dryer'!$G$36/2000)","v":0},{"$f":"IF('8) DDGS Dryer'!$G$37=\"\",AQ13*8760/2000,AQ13*'8) DDGS Dryer'!$G$37/2000)","v":0},{"$f":"IF('8) DDGS Dryer'!$G$38=\"\",AR13*8760/2000,AR13*'8) DDGS Dryer'!$G$38/2000)","v":0},{"$f":"SUM(AV13:BE13)","v":0}]
[null,null,null,null,null,null,null,null,null,{"$f":"'7) Ferm'!A50","v":"Acrolein"},null,null,null,null,null,null,null,null,null,null,null,"  Acrolein",{"$f":"IF('8) DDGS Dryer'!P54=0,K14/1020,'8) DDGS Dryer'!P54)","v":0},{"$f":"IF('8) DDGS Dryer'!Q54=0,L14/1020,'8) DDGS Dryer'!Q54)","v":0},{"$f":"IF('8) DDGS Dryer'!R54=0,M14/1020,'8) DDGS Dryer'!R54)","v":0},{"$f":"IF('8) DDGS Dryer'!S54=0,N14/1020,'8) DDGS Dryer'!S54)","v":0},{"$f":"IF('8) DDGS Dryer'!T54=0,O14/1020,'8) DDGS Dryer'!T54)","v":0},{"$f":"IF('8) DDGS Dryer'!U54=0,P14/1020,'8) DDGS Dryer'!U54)","v":0},{"$f":"IF('8) DDGS Dryer'!V54=0,Q14/1020,'8) DDGS Dryer'!V54)","v":0},{"$f":"IF('8) DDGS Dryer'!W54=0,R14/1020,'8) DDGS Dryer'!W54)","v":0},{"$f":"IF('8) DDGS Dryer'!X54=0,S14/1020,'8) DDGS Dryer'!X54)","v":0},{"$f":"IF('8) DDGS Dryer'!Y54=0,T14/1020,'8) DDGS Dryer'!Y54)","v":0},null,"  Acrolein",{"$f":"W14*'8) DDGS Dryer'!D$29","v":0},{"$f":"X14*'8) DDGS Dryer'!D$30","v":0},{"$f":"Y14*'8) DDGS Dryer'!D$31","v":0},{"$f":"Z14*'8) DDGS Dryer'!D$32","v":0},{"$f":"AA14*'8) DDGS Dryer'!D$33","v":0},{"$f":"AB14*'8) DDGS Dryer'!D$34","v":0},{"$f":"AC14*'8) DDGS Dryer'!D$35","v":0},{"$f":"AD14*'8) DDGS Dryer'!D$36","v":0},{"$f":"AE14*'8) DDGS Dryer'!D$37","v":0},{"$f":"AF14*'8) DDGS Dryer'!D$38","v":0},{"$f":"SUM(AI14:AR14)","v":0},null,"  Acrolein",{"$f":"IF('8) DDGS Dryer'!$G$29=\"\",AI14*8760/2000,AI14*'8) DDGS Dryer'!$G$29/2000)","v":0},{"$f":"IF('8) DDGS Dryer'!$G$30=\"\",AJ14*8760/2000,AJ14*'8) DDGS Dryer'!$G$30/2000)","v":0},{"$f":"IF('8) DDGS Dryer'!$G$31=\"\",AK14*8760/2000,AK14*'8) DDGS Dryer'!$G$31/2000)","v":0},{"$f":"IF('8) DDGS Dryer'!$G$32=\"\",AL14*8760/2000,AL14*'8) DDGS Dryer'!$G$32/2000)","v":0},{"$f":"IF('8) DDGS Dryer'!$G$33=\"\",AM14*8760/2000,AM14*'8) DDGS Dryer'!$G$33/2000)","v":0},{"$f":"IF('8) DDGS Dryer'!$G$34=\"\",AN14*8760/2000,AN14*'8) DDGS Dryer'!$G$34/2000)","v":0},{"$f":"IF('8) DDGS Dryer'!$G$35=\"\",AO14*8760/2000,AO14*'8) DDGS Dryer'!$G$35/2000)","v":0},{"$f":"IF('8) DDGS Dryer'!$G$36=\"\",AP14*8760/2000,AP14*'8) DDGS Dryer'!$G$36/2000)","v":0},{"$f":"IF('8) DDGS Dryer'!$G$37=\"\",AQ14*8760/2000,AQ14*'8) DDGS Dryer'!$G$37/2000)","v":0},{"$f":"IF('8) DDGS Dryer'!$G$38=\"\",AR14*8760/2000,AR14*'8) DDGS Dryer'!$G$38/2000)","v":0},0]
[null,null,null,null,null,null,null,null,null,{"$f":"'7) Ferm'!A51","v":"Formaldehyde"},null,null,null,null,null,null,null,null,null,null,null,"  Formaldehyde",{"$f":"IF('8) DDGS Dryer'!P55=0,K15/1020,'8) DDGS Dryer'!P55)","v":0},{"$f":"IF('8) DDGS Dryer'!Q55=0,L15/1020,'8) DDGS Dryer'!Q55)","v":0},{"$f":"IF('8) DDGS Dryer'!R55=0,M15/1020,'8) DDGS Dryer'!R55)","v":0},{"$f":"IF('8) DDGS Dryer'!S55=0,N15/1020,'8) DDGS Dryer'!S55)","v":0},{"$f":"IF('8) DDGS Dryer'!T55=0,O15/1020,'8) DDGS Dryer'!T55)","v":0},{"$f":"IF('8) DDGS Dryer'!U55=0,P15/1020,'8) DDGS Dryer'!U55)","v":0},{"$f":"IF('8) DDGS Dryer'!V55=0,Q15/1020,'8) DDGS Dryer'!V55)","v":0},{"$f":"IF('8) DDGS Dryer'!W55=0,R15/1020,'8) DDGS Dryer'!W55)","v":0},{"$f":"IF('8) DDGS Dryer'!X55=0,S15/1020,'8) DDGS Dryer'!X55)","v":0},{"$f":"IF('8) DDGS Dryer'!Y55=0,T15/1020,'8) DDGS Dryer'!Y55)","v":0},null,"  Formaldehyde",{"$f":"W15*'8) DDGS Dryer'!D$29","v":0},{"$f":"X15*'8) DDGS Dryer'!D$30","v":0},{"$f":"Y15*'8) DDGS Dryer'!D$31","v":0},{"$f":"Z15*'8) DDGS Dryer'!D$32","v":0},{"$f":"AA15*'8) DDGS Dryer'!D$33","v":0},{"$f":"AB15*'8) DDGS Dryer'!D$34","v":0},{"$f":"AC15*'8) DDGS Dryer'!D$35","v":0},{"$f":"AD15*'8) DDGS Dryer'!D$36","v":0},{"$f":"AE15*'8) DDGS Dryer'!D$37","v":0},{"$f":"AF15*'8) DDGS Dryer'!D$38","v":0},0,null,"  Formaldehyde",{"$f":"IF('8) DDGS Dryer'!$G$29=\"\",AI15*8760/2000,AI15*'8) DDGS Dryer'!$G$29/2000)","v":0},{"$f":"IF('8) DDGS Dryer'!$G$30=\"\",AJ15*8760/2000,AJ15*'8) DDGS Dryer'!$G$30/2000)","v":0},{"$f":"IF('8) DDGS Dryer'!$G$31=\"\",AK15*8760/2000,AK15*'8) DDGS Dryer'!$G$31/2000)","v":0},{"$f":"IF('8) DDGS Dryer'!$G$32=\"\",AL15*8760/2000,AL15*'8) DDGS Dryer'!$G$32/2000)","v":0},{"$f":"IF('8) DDGS Dryer'!$G$33=\"\",AM15*8760/2000,AM15*'8) DDGS Dryer'!$G$33/2000)","v":0},{"$f":"IF('8) DDGS Dryer'!$G$34=\"\",AN15*8760/2000,AN15*'8) DDGS Dryer'!$G$34/2000)","v":0},{"$f":"IF('8) DDGS Dryer'!$G$35=\"\",AO15*8760/2000,AO15*'8) DDGS Dryer'!$G$35/2000)","v":0},{"$f":"IF('8) DDGS Dryer'!$G$36=\"\",AP15*8760/2000,AP15*'8) DDGS Dryer'!$G$36/2000)","v":0},{"$f":"IF('8) DDGS Dryer'!$G$37=\"\",AQ15*8760/2000,AQ15*'8) DDGS Dryer'!$G$37/2000)","v":0},{"$f":"IF('8) DDGS Dryer'!$G$38=\"\",AR15*8760/2000,AR15*'8) DDGS Dryer'!$G$38/2000)","v":0},0]
[null,null,null,null,null,null,null,null,null,{"$f":"'7) Ferm'!A52","v":"  Methanol"},null,null,null,null,null,null,null,null,null,null,null,"  Methanol",{"$f":"IF('8) DDGS Dryer'!P56=0,K16/1020,'8) DDGS Dryer'!P56)","v":0},{"$f":"IF('8) DDGS Dryer'!Q56=0,L16/1020,'8) DDGS Dryer'!Q56)","v":0},{"$f":"IF('8) DDGS Dryer'!R56=0,M16/1020,'8) DDGS Dryer'!R56)","v":0},{"$f":"IF('8) DDGS Dryer'!S56=0,N16/1020,'8) DDGS Dryer'!S56)","v":0},{"$f":"IF('8) DDGS Dryer'!T56=0,O16/1020,'8) DDGS Dryer'!T56)","v":0},{"$f":"IF('8) DDGS Dryer'!U56=0,P16/1020,'8) DDGS Dryer'!U56)","v":0},{"$f":"IF('8) DDGS Dryer'!V56=0,Q16/1020,'8) DDGS Dryer'!V56)","v":0},{"$f":"IF('8) DDGS Dryer'!W56=0,R16/1020,'8) DDGS Dryer'!W56)","v":0},{"$f":"IF('8) DDGS Dryer'!X56=0,S16/1020,'8) DDGS Dryer'!X56)","v":0},{"$f":"IF('8) DDGS Dryer'!Y56=0,T16/1020,'8) DDGS Dryer'!Y56)","v":0},null,"  Methanol",{"$f":"W16*'8) DDGS Dryer'!D$29","v":0},{"$f":"X16*'8) DDGS Dryer'!D$30","v":0},{"$f":"Y16*'8) DDGS Dryer'!D$31","v":0},{"$f":"Z16*'8) DDGS Dryer'!D$32","v":0},{"$f":"AA16*'8) DDGS Dryer'!D$33","v":0},{"$f":"AB16*'8) DDGS Dryer'!D$34","v":0},{"$f":"AC16*'8) DDGS Dryer'!D$35","v":0},{"$f":"AD16*'8) DDGS Dryer'!D$36","v":0},{"$f":"AE16*'8) DDGS Dryer'!D$37","v":0},{"$f":"AF16*'8) DDGS Dryer'!D$38","v":0},0,null,"  Methanol",{"$f":"IF('8) DDGS Dryer'!$G$29=\"\",AI16*8760/2000,AI16*'8) DDGS Dryer'!$G$29/2000)","v":0},{"$f":"IF('8) DDGS Dryer'!$G$30=\"\",AJ16*8760/2000,AJ16*'8) DDGS Dryer'!$G$30/2000)","v":0},{"$f":"IF('8) DDGS Dryer'!$G$31=\"\",AK16*8760/2000,AK16*'8) DDGS Dryer'!$G$31/2000)","v":0},{"$f":"IF('8) DDGS Dryer'!$G$32=\"\",AL16*8760/2000,AL16*'8) DDGS Dryer'!$G$32/2000)","v":0},{"$f":"IF('8) DDGS Dryer'!$G$33=\"\",AM16*8760/2000,AM16*'8) DDGS Dryer'!$G$33/2000)","v":0},{"$f":"IF('8) DDGS Dryer'!$G$34=\"\",AN16*8760/2000,AN16*'8) DDGS Dryer'!$G$34/2000)","v":0},{"$f":"IF('8) DDGS Dryer'!$G$35=\"\",AO16*8760/2000,AO16*'8) DDGS Dryer'!$G$35/2000)","v":0},{"$f":"IF('8) DDGS Dryer'!$G$36=\"\",AP16*8760/2000,AP16*'8) DDGS Dryer'!$G$36/2000)","v":0},{"$f":"IF('8) DDGS Dryer'!$G$37=\"\",AQ16*8760/2000,AQ16*'8) DDGS Dryer'!$G$37/2000)","v":0},{"$f":"IF('8) DDGS Dryer'!$G$38=\"\",AR16*8760/2000,AR16*'8) DDGS Dryer'!$G$38/2000)","v":0},0]
[null,null,null,null,null,null,null,null,null,"  Benzene ",2.0999999999999999E-3,2.0999999999999999E-3,2.0999999999999999E-3,2.0999999999999999E-3,2.0999999999999999E-3,2.0999999999999999E-3,2.0999999999999999E-3,2.0999999999999999E-3,2.0999999999999999E-3,2.0999999999999999E-3,null,"  Benzene ",{"$f":"IF('8) DDGS Dryer'!P57=0,K17/1020,'8) DDGS Dryer'!P57)","v":2.0588235294117645E-6},{"$f":"IF('8) DDGS Dryer'!Q57=0,L17/1020,'8) DDGS Dryer'!Q57)","v":2.0588235294117645E-6},{"$f":"IF('8) DDGS Dryer'!R57=0,M17/1020,'8) DDGS Dryer'!R57)","v":2.0588235294117645E-6},{"$f":"IF('8) DDGS Dryer'!S57=0,N17/1020,'8) DDGS Dryer'!S57)","v":2.0588235294117645E-6},{"$f":"IF('8) DDGS Dryer'!T57=0,O17/1020,'8) DDGS Dryer'!T57)","v":2.0588235294117645E-6},{"$f":"IF('8) DDGS Dryer'!U57=0,P17/1020,'8) DDGS Dryer'!U57)","v":2.0588235294117645E-6},{"$f":"IF('8) DDGS Dryer'!V57=0,Q17/1020,'8) DDGS Dryer'!V57)","v":2.0588235294117645E-6},{"$f":"IF('8) DDGS Dryer'!W57=0,R17/1020,'8) DDGS Dryer'!W57)","v":2.0588235294117645E-6},{"$f":"IF('8) DDGS Dryer'!X57=0,S17/1020,'8) DDGS Dryer'!X57)","v":2.0588235294117645E-6},{"$f":"IF('8) DDGS Dryer'!Y57=0,T17/1020,'8) DDGS Dryer'!Y57)","v":2.0588235294117645E-6},null,"  Benzene ",{"$f":"W17*'8) DDGS Dryer'!D$29","v":0},{"$f":"X17*'8) DDGS Dryer'!D$30","v":0},{"$f":"Y17*'8) DDGS Dryer'!D$31","v":0},{"$f":"Z17*'8) DDGS Dryer'!D$32","v":0},{"$f":"AA17*'8) DDGS Dryer'!D$33","v":0},{"$f":"AB17*'8) DDGS Dryer'!D$34","v":0},{"$f":"AC17*'8) DDGS Dryer'!D$35","v":0},{"$f":"AD17*'8) DDGS Dryer'!D$36","v":0},{"$f":"AE17*'8) DDGS Dryer'!D$37","v":0},{"$f":"AF17*'8) DDGS Dryer'!D$38","v":0},0,null,"  Benzene ",{"$f":"IF('8) DDGS Dryer'!$G$29=\"\",AI17*8760/2000,AI17*'8) DDGS Dryer'!$G$29/2000)","v":0},{"$f":"IF('8) DDGS Dryer'!$G$30=\"\",AJ17*8760/2000,AJ17*'8) DDGS Dryer'!$G$30/2000)","v":0},{"$f":"IF('8) DDGS Dryer'!$G$31=\"\",AK17*8760/2000,AK17*'8) DDGS Dryer'!$G$31/2000)","v":0},{"$f":"IF('8) DDGS Dryer'!$G$32=\"\",AL17*8760/2000,AL17*'8) DDGS Dryer'!$G$32/2000)","v":0},{"$f":"IF('8) DDGS Dryer'!$G$33=\"\",AM17*8760/2000,AM17*'8) DDGS Dryer'!$G$33/2000)","v":0},{"$f":"IF('8) DDGS Dryer'!$G$34=\"\",AN17*8760/2000,AN17*'8) DDGS Dryer'!$G$34/2000)","v":0},{"$f":"IF('8) DDGS Dryer'!$G$35=\"\",AO17*8760/2000,AO17*'8) DDGS Dryer'!$G$35/2000)","v":0},{"$f":"IF('8) DDGS Dryer'!$G$36=\"\",AP17*8760/2000,AP17*'8) DDGS Dryer'!$G$36/2000)","v":0},{"$f":"IF('8) DDGS Dryer'!$G$37=\"\",AQ17*8760/2000,AQ17*'8) DDGS Dryer'!$G$37/2000)","v":0},{"$f":"IF('8) DDGS Dryer'!$G$38=\"\",AR17*8760/2000,AR17*'8) DDGS Dryer'!$G$38/2000)","v":0},0]
[null,null,null,null,null,null,null,null,null,"  Dichlorobenzene ",1.1999999999999999E-3,1.1999999999999999E-3,1.1999999999999999E-3,1.1999999999999999E-3,1.1999999999999999E-3,1.1999999999999999E-3,1.1999999999999999E-3,1.1999999999999999E-3,1.1999999999999999E-3,1.1999999999999999E-3,null,"  Dichlorobenzene ",{"$f":"IF('8) DDGS Dryer'!P58=0,K18/1020,'8) DDGS Dryer'!P58)","v":1.176470588235294E-6},{"$f":"IF('8) DDGS Dryer'!Q58=0,L18/1020,'8) DDGS Dryer'!Q58)","v":1.176470588235294E-6},{"$f":"IF('8) DDGS Dryer'!R58=0,M18/1020,'8) DDGS Dryer'!R58)","v":1.176470588235294E-6},{"$f":"IF('8) DDGS Dryer'!S58=0,N18/1020,'8) DDGS Dryer'!S58)","v":1.176470588235294E-6},{"$f":"IF('8) DDGS Dryer'!T58=0,O18/1020,'8) DDGS Dryer'!T58)","v":1.176470588235294E-6},{"$f":"IF('8) DDGS Dryer'!U58=0,P18/1020,'8) DDGS Dryer'!U58)","v":1.176470588235294E-6},{"$f":"IF('8) DDGS Dryer'!V58=0,Q18/1020,'8) DDGS Dryer'!V58)","v":1.176470588235294E-6},{"$f":"IF('8) DDGS Dryer'!W58=0,R18/1020,'8) DDGS Dryer'!W58)","v":1.176470588235294E-6},{"$f":"IF('8) DDGS Dryer'!X58=0,S18/1020,'8) DDGS Dryer'!X58)","v":1.176470588235294E-6},{"$f":"IF('8) DDGS Dryer'!Y58=0,T18/1020,'8) DDGS Dryer'!Y58)","v":1.176470588235294E-6},null,"  Dichlorobenzene ",{"$f":"W18*'8) DDGS Dryer'!D$29","v":0},{"$f":"X18*'8) DDGS Dryer'!D$30","v":0},{"$f":"Y18*'8) DDGS Dryer'!D$31","v":0},{"$f":"Z18*'8) DDGS Dryer'!D$32","v":0},{"$f":"AA18*'8) DDGS Dryer'!D$33","v":0},{"$f":"AB18*'8) DDGS Dryer'!D$34","v":0},{"$f":"AC18*'8) DDGS Dryer'!D$35","v":0},{"$f":"AD18*'8) DDGS Dryer'!D$36","v":0},{"$f":"AE18*'8) DDGS Dryer'!D$37","v":0},{"$f":"AF18*'8) DDGS Dryer'!D$38","v":0},0,null,"  Dichlorobenzene ",{"$f":"IF('8) DDGS Dryer'!$G$29=\"\",AI18*8760/2000,AI18*'8) DDGS Dryer'!$G$29/2000)","v":0},{"$f":"IF('8) DDGS Dryer'!$G$30=\"\",AJ18*8760/2000,AJ18*'8) DDGS Dryer'!$G$30/2000)","v":0},{"$f":"IF('8) DDGS Dryer'!$G$31=\"\",AK18*8760/2000,AK18*'8) DDGS Dryer'!$G$31/2000)","v":0},{"$f":"IF('8) DDGS Dryer'!$G$32=\"\",AL18*8760/2000,AL18*'8) DDGS Dryer'!$G$32/2000)","v":0},{"$f":"IF('8) DDGS Dryer'!$G$33=\"\",AM18*8760/2000,AM18*'8) DDGS Dryer'!$G$33/2000)","v":0},{"$f":"IF('8) DDGS Dryer'!$G$34=\"\",AN18*8760/2000,AN18*'8) DDGS Dryer'!$G$34/2000)","v":0},{"$f":"IF('8) DDGS Dryer'!$G$35=\"\",AO18*8760/2000,AO18*'8) DDGS Dryer'!$G$35/2000)","v":0},{"$f":"IF('8) DDGS Dryer'!$G$36=\"\",AP18*8760/2000,AP18*'8) DDGS Dryer'!$G$36/2000)","v":0},{"$f":"IF('8) DDGS Dryer'!$G$37=\"\",AQ18*8760/2000,AQ18*'8) DDGS Dryer'!$G$37/2000)","v":0},{"$f":"IF('8) DDGS Dryer'!$G$38=\"\",AR18*8760/2000,AR18*'8) DDGS Dryer'!$G$38/2000)","v":0},0]
[null,null,null,null,null,null,null,null,null,"  Hexane ",1.8,1.8,1.8,1.8,1.8,1.8,1.8,1.8,1.8,1.8,null,"  Hexane ",{"$f":"IF('8) DDGS Dryer'!P59=0,K19/1020,'8) DDGS Dryer'!P59)","v":1.7647058823529412E-3},{"$f":"IF('8) DDGS Dryer'!Q59=0,L19/1020,'8) DDGS Dryer'!Q59)","v":1.7647058823529412E-3},{"$f":"IF('8) DDGS Dryer'!R59=0,M19/1020,'8) DDGS Dryer'!R59)","v":1.7647058823529412E-3},{"$f":"IF('8) DDGS Dryer'!S59=0,N19/1020,'8) DDGS Dryer'!S59)","v":1.7647058823529412E-3},{"$f":"IF('8) DDGS Dryer'!T59=0,O19/1020,'8) DDGS Dryer'!T59)","v":1.7647058823529412E-3},{"$f":"IF('8) DDGS Dryer'!U59=0,P19/1020,'8) DDGS Dryer'!U59)","v":1.7647058823529412E-3},{"$f":"IF('8) DDGS Dryer'!V59=0,Q19/1020,'8) DDGS Dryer'!V59)","v":1.7647058823529412E-3},{"$f":"IF('8) DDGS Dryer'!W59=0,R19/1020,'8) DDGS Dryer'!W59)","v":1.7647058823529412E-3},{"$f":"IF('8) DDGS Dryer'!X59=0,S19/1020,'8) DDGS Dryer'!X59)","v":1.7647058823529412E-3},{"$f":"IF('8) DDGS Dryer'!Y59=0,T19/1020,'8) DDGS Dryer'!Y59)","v":1.7647058823529412E-3},null,"  Hexane ",{"$f":"W19*'8) DDGS Dryer'!D$29","v":0},{"$f":"X19*'8) DDGS Dryer'!D$30","v":0},{"$f":"Y19*'8) DDGS Dryer'!D$31","v":0},{"$f":"Z19*'8) DDGS Dryer'!D$32","v":0},{"$f":"AA19*'8) DDGS Dryer'!D$33","v":0},{"$f":"AB19*'8) DDGS Dryer'!D$34","v":0},{"$f":"AC19*'8) DDGS Dryer'!D$35","v":0},{"$f":"AD19*'8) DDGS Dryer'!D$36","v":0},{"$f":"AE19*'8) DDGS Dryer'!D$37","v":0},{"$f":"AF19*'8) DDGS Dryer'!D$38","v":0},0,null,"  Hexane ",{"$f":"IF('8) DDGS Dryer'!$G$29=\"\",AI19*8760/2000,AI19*'8) DDGS Dryer'!$G$29/2000)","v":0},{"$f":"IF('8) DDGS Dryer'!$G$30=\"\",AJ19*8760/2000,AJ19*'8) DDGS Dryer'!$G$30/2000)","v":0},{"$f":"IF('8) DDGS Dryer'!$G$31=\"\",AK19*8760/2000,AK19*'8) DDGS Dryer'!$G$31/2000)","v":0},{"$f":"IF('8) DDGS Dryer'!$G$32=\"\",AL19*8760/2000,AL19*'8) DDGS Dryer'!$G$32/2000)","v":0},{"$f":"IF('8) DDGS Dryer'!$G$33=\"\",AM19*8760/2000,AM19*'8) DDGS Dryer'!$G$33/2000)","v":0},{"$f":"IF('8) DDGS Dryer'!$G$34=\"\",AN19*8760/2000,AN19*'8) DDGS Dryer'!$G$34/2000)","v":0},{"$f":"IF('8) DDGS Dryer'!$G$35=\"\",AO19*8760/2000,AO19*'8) DDGS Dryer'!$G$35/2000)","v":0},{"$f":"IF('8) DDGS Dryer'!$G$36=\"\",AP19*8760/2000,AP19*'8) DDGS Dryer'!$G$36/2000)","v":0},{"$f":"IF('8) DDGS Dryer'!$G$37=\"\",AQ19*8760/2000,AQ19*'8) DDGS Dryer'!$G$37/2000)","v":0},{"$f":"IF('8) DDGS Dryer'!$G$38=\"\",AR19*8760/2000,AR19*'8) DDGS Dryer'!$G$38/2000)","v":0},0]
[null,null,null,null,null,null,null,null,null,"  Lead Compounds",5.0000000000000001E-4,5.0000000000000001E-4,5.0000000000000001E-4,5.0000000000000001E-4,5.0000000000000001E-4,5.0000000000000001E-4,5.0000000000000001E-4,5.0000000000000001E-4,5.0000000000000001E-4,5.0000000000000001E-4,null,"  Lead Compounds",{"$f":"IF('8) DDGS Dryer'!P60=0,K20/1020,'8) DDGS Dryer'!P60)","v":4.9019607843137254E-7},{"$f":"IF('8) DDGS Dryer'!Q60=0,L20/1020,'8) DDGS Dryer'!Q60)","v":4.9019607843137254E-7},{"$f":"IF('8) DDGS Dryer'!R60=0,M20/1020,'8) DDGS Dryer'!R60)","v":4.9019607843137254E-7},{"$f":"IF('8) DDGS Dryer'!S60=0,N20/1020,'8) DDGS Dryer'!S60)","v":4.9019607843137254E-7},{"$f":"IF('8) DDGS Dryer'!T60=0,O20/1020,'8) DDGS Dryer'!T60)","v":4.9019607843137254E-7},{"$f":"IF('8) DDGS Dryer'!U60=0,P20/1020,'8) DDGS Dryer'!U60)","v":4.9019607843137254E-7},{"$f":"IF('8) DDGS Dryer'!V60=0,Q20/1020,'8) DDGS Dryer'!V60)","v":4.9019607843137254E-7},{"$f":"IF('8) DDGS Dryer'!W60=0,R20/1020,'8) DDGS Dryer'!W60)","v":4.9019607843137254E-7},{"$f":"IF('8) DDGS Dryer'!X60=0,S20/1020,'8) DDGS Dryer'!X60)","v":4.9019607843137254E-7},{"$f":"IF('8) DDGS Dryer'!Y60=0,T20/1020,'8) DDGS Dryer'!Y60)","v":4.9019607843137254E-7},null,"  Lead Compounds",{"$f":"W20*'8) DDGS Dryer'!D$29","v":0},{"$f":"X20*'8) DDGS Dryer'!D$30","v":0},{"$f":"Y20*'8) DDGS Dryer'!D$31","v":0},{"$f":"Z20*'8) DDGS Dryer'!D$32","v":0},{"$f":"AA20*'8) DDGS Dryer'!D$33","v":0},{"$f":"AB20*'8) DDGS Dryer'!D$34","v":0},{"$f":"AC20*'8) DDGS Dryer'!D$35","v":0},{"$f":"AD20*'8) DDGS Dryer'!D$36","v":0},{"$f":"AE20*'8) DDGS Dryer'!D$37","v":0},{"$f":"AF20*'8) DDGS Dryer'!D$38","v":0},0,null,"  Lead Compounds",{"$f":"IF('8) DDGS Dryer'!$G$29=\"\",AI20*8760/2000,AI20*'8) DDGS Dryer'!$G$29/2000)","v":0},{"$f":"IF('8) DDGS Dryer'!$G$30=\"\",AJ20*8760/2000,AJ20*'8) DDGS Dryer'!$G$30/2000)","v":0},{"$f":"IF('8) DDGS Dryer'!$G$31=\"\",AK20*8760/2000,AK20*'8) DDGS Dryer'!$G$31/2000)","v":0},{"$f":"IF('8) DDGS Dryer'!$G$32=\"\",AL20*8760/2000,AL20*'8) DDGS Dryer'!$G$32/2000)","v":0},{"$f":"IF('8) DDGS Dryer'!$G$33=\"\",AM20*8760/2000,AM20*'8) DDGS Dryer'!$G$33/2000)","v":0},{"$f":"IF('8) DDGS Dryer'!$G$34=\"\",AN20*8760/2000,AN20*'8) DDGS Dryer'!$G$34/2000)","v":0},{"$f":"IF('8) DDGS Dryer'!$G$35=\"\",AO20*8760/2000,AO20*'8) DDGS Dryer'!$G$35/2000)","v":0},{"$f":"IF('8) DDGS Dryer'!$G$36=\"\",AP20*8760/2000,AP20*'8) DDGS Dryer'!$G$36/2000)","v":0},{"$f":"IF('8) DDGS Dryer'!$G$37=\"\",AQ20*8760/2000,AQ20*'8) DDGS Dryer'!$G$37/2000)","v":0},{"$f":"IF('8) DDGS Dryer'!$G$38=\"\",AR20*8760/2000,AR20*'8) DDGS Dryer'!$G$38/2000)","v":0},0]
[null,null,null,null,null,null,null,null,null,"  Naphthalene ",6.0999999999999997E-4,6.0999999999999997E-4,6.0999999999999997E-4,6.0999999999999997E-4,6.0999999999999997E-4,6.0999999999999997E-4,6.0999999999999997E-4,6.0999999999999997E-4,6.0999999999999997E-4,6.0999999999999997E-4,null,"  Naphthalene ",{"$f":"IF('8) DDGS Dryer'!P61=0,K21/1020,'8) DDGS Dryer'!P61)","v":5.9803921568627444E-7},{"$f":"IF('8) DDGS Dryer'!Q61=0,L21/1020,'8) DDGS Dryer'!Q61)","v":5.9803921568627444E-7},{"$f":"IF('8) DDGS Dryer'!R61=0,M21/1020,'8) DDGS Dryer'!R61)","v":5.9803921568627444E-7},{"$f":"IF('8) DDGS Dryer'!S61=0,N21/1020,'8) DDGS Dryer'!S61)","v":5.9803921568627444E-7},{"$f":"IF('8) DDGS Dryer'!T61=0,O21/1020,'8) DDGS Dryer'!T61)","v":5.9803921568627444E-7},{"$f":"IF('8) DDGS Dryer'!U61=0,P21/1020,'8) DDGS Dryer'!U61)","v":5.9803921568627444E-7},{"$f":"IF('8) DDGS Dryer'!V61=0,Q21/1020,'8) DDGS Dryer'!V61)","v":5.9803921568627444E-7},{"$f":"IF('8) DDGS Dryer'!W61=0,R21/1020,'8) DDGS Dryer'!W61)","v":5.9803921568627444E-7},{"$f":"IF('8) DDGS Dryer'!X61=0,S21/1020,'8) DDGS Dryer'!X61)","v":5.9803921568627444E-7},{"$f":"IF('8) DDGS Dryer'!Y61=0,T21/1020,'8) DDGS Dryer'!Y61)","v":5.9803921568627444E-7},null,"  Naphthalene ",{"$f":"W21*'8) DDGS Dryer'!D$29","v":0},{"$f":"X21*'8) DDGS Dryer'!D$30","v":0},{"$f":"Y21*'8) DDGS Dryer'!D$31","v":0},{"$f":"Z21*'8) DDGS Dryer'!D$32","v":0},{"$f":"AA21*'8) DDGS Dryer'!D$33","v":0},{"$f":"AB21*'8) DDGS Dryer'!D$34","v":0},{"$f":"AC21*'8) DDGS Dryer'!D$35","v":0},{"$f":"AD21*'8) DDGS Dryer'!D$36","v":0},{"$f":"AE21*'8) DDGS Dryer'!D$37","v":0},{"$f":"AF21*'8) DDGS Dryer'!D$38","v":0},0,null,"  Naphthalene ",{"$f":"IF('8) DDGS Dryer'!$G$29=\"\",AI21*8760/2000,AI21*'8) DDGS Dryer'!$G$29/2000)","v":0},{"$f":"IF('8) DDGS Dryer'!$G$30=\"\",AJ21*8760/2000,AJ21*'8) DDGS Dryer'!$G$30/2000)","v":0},{"$f":"IF('8) DDGS Dryer'!$G$31=\"\",AK21*8760/2000,AK21*'8) DDGS Dryer'!$G$31/2000)","v":0},{"$f":"IF('8) DDGS Dryer'!$G$32=\"\",AL21*8760/2000,AL21*'8) DDGS Dryer'!$G$32/2000)","v":0},{"$f":"IF('8) DDGS Dryer'!$G$33=\"\",AM21*8760/2000,AM21*'8) DDGS Dryer'!$G$33/2000)","v":0},{"$f":"IF('8) DDGS Dryer'!$G$34=\"\",AN21*8760/2000,AN21*'8) DDGS Dryer'!$G$34/2000)","v":0},{"$f":"IF('8) DDGS Dryer'!$G$35=\"\",AO21*8760/2000,AO21*'8) DDGS Dryer'!$G$35/2000)","v":0},{"$f":"IF('8) DDGS Dryer'!$G$36=\"\",AP21*8760/2000,AP21*'8) DDGS Dryer'!$G$36/2000)","v":0},{"$f":"IF('8) DDGS Dryer'!$G$37=\"\",AQ21*8760/2000,AQ21*'8) DDGS Dryer'!$G$37/2000)","v":0},{"$f":"IF('8) DDGS Dryer'!$G$38=\"\",AR21*8760/2000,AR21*'8) DDGS Dryer'!$G$38/2000)","v":0},0]
[null,null,null,null,null,null,null,null,null,"  Polycyclic Organic Matter ",8.8200000000000003E-5,8.8200000000000003E-5,8.8200000000000003E-5,8.8200000000000003E-5,8.8200000000000003E-5,8.8200000000000003E-5,8.8200000000000003E-5,8.8200000000000003E-5,8.8200000000000003E-5,8.8200000000000003E-5,null,"  Polycyclic Organic Matter ",{"$f":"IF('8) DDGS Dryer'!P62=0,K22/1020,'8) DDGS Dryer'!P62)","v":8.6470588235294114E-8},{"$f":"IF('8) DDGS Dryer'!Q62=0,L22/1020,'8) DDGS Dryer'!Q62)","v":8.6470588235294114E-8},{"$f":"IF('8) DDGS Dryer'!R62=0,M22/1020,'8) DDGS Dryer'!R62)","v":8.6470588235294114E-8},{"$f":"IF('8) DDGS Dryer'!S62=0,N22/1020,'8) DDGS Dryer'!S62)","v":8.6470588235294114E-8},{"$f":"IF('8) DDGS Dryer'!T62=0,O22/1020,'8) DDGS Dryer'!T62)","v":8.6470588235294114E-8},{"$f":"IF('8) DDGS Dryer'!U62=0,P22/1020,'8) DDGS Dryer'!U62)","v":8.6470588235294114E-8},{"$f":"IF('8) DDGS Dryer'!V62=0,Q22/1020,'8) DDGS Dryer'!V62)","v":8.6470588235294114E-8},{"$f":"IF('8) DDGS Dryer'!W62=0,R22/1020,'8) DDGS Dryer'!W62)","v":8.6470588235294114E-8},{"$f":"IF('8) DDGS Dryer'!X62=0,S22/1020,'8) DDGS Dryer'!X62)","v":8.6470588235294114E-8},{"$f":"IF('8) DDGS Dryer'!Y62=0,T22/1020,'8) DDGS Dryer'!Y62)","v":8.6470588235294114E-8},null,"  Polycyclic Organic Matter ",{"$f":"W22*'8) DDGS Dryer'!D$29","v":0},{"$f":"X22*'8) DDGS Dryer'!D$30","v":0},{"$f":"Y22*'8) DDGS Dryer'!D$31","v":0},{"$f":"Z22*'8) DDGS Dryer'!D$32","v":0},{"$f":"AA22*'8) DDGS Dryer'!D$33","v":0},{"$f":"AB22*'8) DDGS Dryer'!D$34","v":0},{"$f":"AC22*'8) DDGS Dryer'!D$35","v":0},{"$f":"AD22*'8) DDGS Dryer'!D$36","v":0},{"$f":"AE22*'8) DDGS Dryer'!D$37","v":0},{"$f":"AF22*'8) DDGS Dryer'!D$38","v":0},0,null,"  Polycyclic Organic Matter ",{"$f":"IF('8) DDGS Dryer'!$G$29=\"\",AI22*8760/2000,AI22*'8) DDGS Dryer'!$G$29/2000)","v":0},{"$f":"IF('8) DDGS Dryer'!$G$30=\"\",AJ22*8760/2000,AJ22*'8) DDGS Dryer'!$G$30/2000)","v":0},{"$f":"IF('8) DDGS Dryer'!$G$31=\"\",AK22*8760/2000,AK22*'8) DDGS Dryer'!$G$31/2000)","v":0},{"$f":"IF('8) DDGS Dryer'!$G$32=\"\",AL22*8760/2000,AL22*'8) DDGS Dryer'!$G$32/2000)","v":0},{"$f":"IF('8) DDGS Dryer'!$G$33=\"\",AM22*8760/2000,AM22*'8) DDGS Dryer'!$G$33/2000)","v":0},{"$f":"IF('8) DDGS Dryer'!$G$34=\"\",AN22*8760/2000,AN22*'8) DDGS Dryer'!$G$34/2000)","v":0},{"$f":"IF('8) DDGS Dryer'!$G$35=\"\",AO22*8760/2000,AO22*'8) DDGS Dryer'!$G$35/2000)","v":0},{"$f":"IF('8) DDGS Dryer'!$G$36=\"\",AP22*8760/2000,AP22*'8) DDGS Dryer'!$G$36/2000)","v":0},{"$f":"IF('8) DDGS Dryer'!$G$37=\"\",AQ22*8760/2000,AQ22*'8) DDGS Dryer'!$G$37/2000)","v":0},{"$f":"IF('8) DDGS Dryer'!$G$38=\"\",AR22*8760/2000,AR22*'8) DDGS Dryer'!$G$38/2000)","v":0},0]
[null,null,null,null,null,null,null,null,null,"  Toluene ",3.3999999999999998E-3,3.3999999999999998E-3,3.3999999999999998E-3,3.3999999999999998E-3,3.3999999999999998E-3,3.3999999999999998E-3,3.3999999999999998E-3,3.3999999999999998E-3,3.3999999999999998E-3,3.3999999999999998E-3,null,"  Toluene ",{"$f":"IF('8) DDGS Dryer'!P63=0,K23/1020,'8) DDGS Dryer'!P63)","v":3.3333333333333333E-6},{"$f":"IF('8) DDGS Dryer'!Q63=0,L23/1020,'8) DDGS Dryer'!Q63)","v":3.3333333333333333E-6},{"$f":"IF('8) DDGS Dryer'!R63=0,M23/1020,'8) DDGS Dryer'!R63)","v":3.3333333333333333E-6},{"$f":"IF('8) DDGS Dryer'!S63=0,N23/1020,'8) DDGS Dryer'!S63)","v":3.3333333333333333E-6},{"$f":"IF('8) DDGS Dryer'!T63=0,O23/1020,'8) DDGS Dryer'!T63)","v":3.3333333333333333E-6},{"$f":"IF('8) DDGS Dryer'!U63=0,P23/1020,'8) DDGS Dryer'!U63)","v":3.3333333333333333E-6},{"$f":"IF('8) DDGS Dryer'!V63=0,Q23/1020,'8) DDGS Dryer'!V63)","v":3.3333333333333333E-6},{"$f":"IF('8) DDGS Dryer'!W63=0,R23/1020,'8) DDGS Dryer'!W63)","v":3.3333333333333333E-6},{"$f":"IF('8) DDGS Dryer'!X63=0,S23/1020,'8) DDGS Dryer'!X63)","v":3.3333333333333333E-6},{"$f":"IF('8) DDGS Dryer'!Y63=0,T23/1020,'8) DDGS Dryer'!Y63)","v":3.3333333333333333E-6},null,"  Toluene ",{"$f":"W23*'8) DDGS Dryer'!D$29","v":0},{"$f":"X23*'8) DDGS Dryer'!D$30","v":0},{"$f":"Y23*'8) DDGS Dryer'!D$31","v":0},{"$f":"Z23*'8) DDGS Dryer'!D$32","v":0},{"$f":"AA23*'8) DDGS Dryer'!D$33","v":0},{"$f":"AB23*'8) DDGS Dryer'!D$34","v":0},{"$f":"AC23*'8) DDGS Dryer'!D$35","v":0},{"$f":"AD23*'8) DDGS Dryer'!D$36","v":0},{"$f":"AE23*'8) DDGS Dryer'!D$37","v":0},{"$f":"AF23*'8) DDGS Dryer'!D$38","v":0},0,null,"  Toluene ",{"$f":"IF('8) DDGS Dryer'!$G$29=\"\",AI23*8760/2000,AI23*'8) DDGS Dryer'!$G$29/2000)","v":0},{"$f":"IF('8) DDGS Dryer'!$G$30=\"\",AJ23*8760/2000,AJ23*'8) DDGS Dryer'!$G$30/2000)","v":0},{"$f":"IF('8) DDGS Dryer'!$G$31=\"\",AK23*8760/2000,AK23*'8) DDGS Dryer'!$G$31/2000)","v":0},{"$f":"IF('8) DDGS Dryer'!$G$32=\"\",AL23*8760/2000,AL23*'8) DDGS Dryer'!$G$32/2000)","v":0},{"$f":"IF('8) DDGS Dryer'!$G$33=\"\",AM23*8760/2000,AM23*'8) DDGS Dryer'!$G$33/2000)","v":0},{"$f":"IF('8) DDGS Dryer'!$G$34=\"\",AN23*8760/2000,AN23*'8) DDGS Dryer'!$G$34/2000)","v":0},{"$f":"IF('8) DDGS Dryer'!$G$35=\"\",AO23*8760/2000,AO23*'8) DDGS Dryer'!$G$35/2000)","v":0},{"$f":"IF('8) DDGS Dryer'!$G$36=\"\",AP23*8760/2000,AP23*'8) DDGS Dryer'!$G$36/2000)","v":0},{"$f":"IF('8) DDGS Dryer'!$G$37=\"\",AQ23*8760/2000,AQ23*'8) DDGS Dryer'!$G$37/2000)","v":0},{"$f":"IF('8) DDGS Dryer'!$G$38=\"\",AR23*8760/2000,AR23*'8) DDGS Dryer'!$G$38/2000)","v":0},0]
[null,null,null,null,null,null,null,null,null,"  Arsenic Compounds",2.0000000000000001E-4,2.0000000000000001E-4,2.0000000000000001E-4,2.0000000000000001E-4,2.0000000000000001E-4,2.0000000000000001E-4,2.0000000000000001E-4,2.0000000000000001E-4,2.0000000000000001E-4,2.0000000000000001E-4,null,"  Arsenic Compounds",{"$f":"IF('8) DDGS Dryer'!P64=0,K24/1020,'8) DDGS Dryer'!P64)","v":1.9607843137254904E-7},{"$f":"IF('8) DDGS Dryer'!Q64=0,L24/1020,'8) DDGS Dryer'!Q64)","v":1.9607843137254904E-7},{"$f":"IF('8) DDGS Dryer'!R64=0,M24/1020,'8) DDGS Dryer'!R64)","v":1.9607843137254904E-7},{"$f":"IF('8) DDGS Dryer'!S64=0,N24/1020,'8) DDGS Dryer'!S64)","v":1.9607843137254904E-7},{"$f":"IF('8) DDGS Dryer'!T64=0,O24/1020,'8) DDGS Dryer'!T64)","v":1.9607843137254904E-7},{"$f":"IF('8) DDGS Dryer'!U64=0,P24/1020,'8) DDGS Dryer'!U64)","v":1.9607843137254904E-7},{"$f":"IF('8) DDGS Dryer'!V64=0,Q24/1020,'8) DDGS Dryer'!V64)","v":1.9607843137254904E-7},{"$f":"IF('8) DDGS Dryer'!W64=0,R24/1020,'8) DDGS Dryer'!W64)","v":1.9607843137254904E-7},{"$f":"IF('8) DDGS Dryer'!X64=0,S24/1020,'8) DDGS Dryer'!X64)","v":1.9607843137254904E-7},{"$f":"IF('8) DDGS Dryer'!Y64=0,T24/1020,'8) DDGS Dryer'!Y64)","v":1.9607843137254904E-7},null,"  Arsenic Compounds",{"$f":"W24*'8) DDGS Dryer'!D$29","v":0},{"$f":"X24*'8) DDGS Dryer'!D$30","v":0},{"$f":"Y24*'8) DDGS Dryer'!D$31","v":0},{"$f":"Z24*'8) DDGS Dryer'!D$32","v":0},{"$f":"AA24*'8) DDGS Dryer'!D$33","v":0},{"$f":"AB24*'8) DDGS Dryer'!D$34","v":0},{"$f":"AC24*'8) DDGS Dryer'!D$35","v":0},{"$f":"AD24*'8) DDGS Dryer'!D$36","v":0},{"$f":"AE24*'8) DDGS Dryer'!D$37","v":0},{"$f":"AF24*'8) DDGS Dryer'!D$38","v":0},0,null,"  Arsenic Compounds",{"$f":"IF('8) DDGS Dryer'!$G$29=\"\",AI24*8760/2000,AI24*'8) DDGS Dryer'!$G$29/2000)","v":0},{"$f":"IF('8) DDGS Dryer'!$G$30=\"\",AJ24*8760/2000,AJ24*'8) DDGS Dryer'!$G$30/2000)","v":0},{"$f":"IF('8) DDGS Dryer'!$G$31=\"\",AK24*8760/2000,AK24*'8) DDGS Dryer'!$G$31/2000)","v":0},{"$f":"IF('8) DDGS Dryer'!$G$32=\"\",AL24*8760/2000,AL24*'8) DDGS Dryer'!$G$32/2000)","v":0},{"$f":"IF('8) DDGS Dryer'!$G$33=\"\",AM24*8760/2000,AM24*'8) DDGS Dryer'!$G$33/2000)","v":0},{"$f":"IF('8) DDGS Dryer'!$G$34=\"\",AN24*8760/2000,AN24*'8) DDGS Dryer'!$G$34/2000)","v":0},{"$f":"IF('8) DDGS Dryer'!$G$35=\"\",AO24*8760/2000,AO24*'8) DDGS Dryer'!$G$35/2000)","v":0},{"$f":"IF('8) DDGS Dryer'!$G$36=\"\",AP24*8760/2000,AP24*'8) DDGS Dryer'!$G$36/2000)","v":0},{"$f":"IF('8) DDGS Dryer'!$G$37=\"\",AQ24*8760/2000,AQ24*'8) DDGS Dryer'!$G$37/2000)","v":0},{"$f":"IF('8) DDGS Dryer'!$G$38=\"\",AR24*8760/2000,AR24*'8) DDGS Dryer'!$G$38/2000)","v":0},0]
[null,null,null,null,null,null,null,null,null,"  Beryllium Compounds",1.2E-5,1.2E-5,1.2E-5,1.2E-5,1.2E-5,1.2E-5,1.2E-5,1.2E-5,1.2E-5,1.2E-5,null,"  Beryllium Compounds",{"$f":"IF('8) DDGS Dryer'!P65=0,K25/1020,'8) DDGS Dryer'!P65)","v":1.1764705882352941E-8},{"$f":"IF('8) DDGS Dryer'!Q65=0,L25/1020,'8) DDGS Dryer'!Q65)","v":1.1764705882352941E-8},{"$f":"IF('8) DDGS Dryer'!R65=0,M25/1020,'8) DDGS Dryer'!R65)","v":1.1764705882352941E-8},{"$f":"IF('8) DDGS Dryer'!S65=0,N25/1020,'8) DDGS Dryer'!S65)","v":1.1764705882352941E-8},{"$f":"IF('8) DDGS Dryer'!T65=0,O25/1020,'8) DDGS Dryer'!T65)","v":1.1764705882352941E-8},{"$f":"IF('8) DDGS Dryer'!U65=0,P25/1020,'8) DDGS Dryer'!U65)","v":1.1764705882352941E-8},{"$f":"IF('8) DDGS Dryer'!V65=0,Q25/1020,'8) DDGS Dryer'!V65)","v":1.1764705882352941E-8},{"$f":"IF('8) DDGS Dryer'!W65=0,R25/1020,'8) DDGS Dryer'!W65)","v":1.1764705882352941E-8},{"$f":"IF('8) DDGS Dryer'!X65=0,S25/1020,'8) DDGS Dryer'!X65)","v":1.1764705882352941E-8},{"$f":"IF('8) DDGS Dryer'!Y65=0,T25/1020,'8) DDGS Dryer'!Y65)","v":1.1764705882352941E-8},null,"  Beryllium Compounds",{"$f":"W25*'8) DDGS Dryer'!D$29","v":0},{"$f":"X25*'8) DDGS Dryer'!D$30","v":0},{"$f":"Y25*'8) DDGS Dryer'!D$31","v":0},{"$f":"Z25*'8) DDGS Dryer'!D$32","v":0},{"$f":"AA25*'8) DDGS Dryer'!D$33","v":0},{"$f":"AB25*'8) DDGS Dryer'!D$34","v":0},{"$f":"AC25*'8) DDGS Dryer'!D$35","v":0},{"$f":"AD25*'8) DDGS Dryer'!D$36","v":0},{"$f":"AE25*'8) DDGS Dryer'!D$37","v":0},{"$f":"AF25*'8) DDGS Dryer'!D$38","v":0},0,null,"  Beryllium Compounds",{"$f":"IF('8) DDGS Dryer'!$G$29=\"\",AI25*8760/2000,AI25*'8) DDGS Dryer'!$G$29/2000)","v":0},{"$f":"IF('8) DDGS Dryer'!$G$30=\"\",AJ25*8760/2000,AJ25*'8) DDGS Dryer'!$G$30/2000)","v":0},{"$f":"IF('8) DDGS Dryer'!$G$31=\"\",AK25*8760/2000,AK25*'8) DDGS Dryer'!$G$31/2000)","v":0},{"$f":"IF('8) DDGS Dryer'!$G$32=\"\",AL25*8760/2000,AL25*'8) DDGS Dryer'!$G$32/2000)","v":0},{"$f":"IF('8) DDGS Dryer'!$G$33=\"\",AM25*8760/2000,AM25*'8) DDGS Dryer'!$G$33/2000)","v":0},{"$f":"IF('8) DDGS Dryer'!$G$34=\"\",AN25*8760/2000,AN25*'8) DDGS Dryer'!$G$34/2000)","v":0},{"$f":"IF('8) DDGS Dryer'!$G$35=\"\",AO25*8760/2000,AO25*'8) DDGS Dryer'!$G$35/2000)","v":0},{"$f":"IF('8) DDGS Dryer'!$G$36=\"\",AP25*8760/2000,AP25*'8) DDGS Dryer'!$G$36/2000)","v":0},{"$f":"IF('8) DDGS Dryer'!$G$37=\"\",AQ25*8760/2000,AQ25*'8) DDGS Dryer'!$G$37/2000)","v":0},{"$f":"IF('8) DDGS Dryer'!$G$38=\"\",AR25*8760/2000,AR25*'8) DDGS Dryer'!$G$38/2000)","v":0},0]
[null,null,null,null,null,null,null,null,null,"  Cadmium Compounds",1.1000000000000001E-3,1.1000000000000001E-3,1.1000000000000001E-3,1.1000000000000001E-3,1.1000000000000001E-3,1.1000000000000001E-3,1.1000000000000001E-3,1.1000000000000001E-3,1.1000000000000001E-3,1.1000000000000001E-3,null,"  Cadmium Compounds",{"$f":"IF('8) DDGS Dryer'!P66=0,K26/1020,'8) DDGS Dryer'!P66)","v":1.0784313725490197E-6},{"$f":"IF('8) DDGS Dryer'!Q66=0,L26/1020,'8) DDGS Dryer'!Q66)","v":1.0784313725490197E-6},{"$f":"IF('8) DDGS Dryer'!R66=0,M26/1020,'8) DDGS Dryer'!R66)","v":1.0784313725490197E-6},{"$f":"IF('8) DDGS Dryer'!S66=0,N26/1020,'8) DDGS Dryer'!S66)","v":1.0784313725490197E-6},{"$f":"IF('8) DDGS Dryer'!T66=0,O26/1020,'8) DDGS Dryer'!T66)","v":1.0784313725490197E-6},{"$f":"IF('8) DDGS Dryer'!U66=0,P26/1020,'8) DDGS Dryer'!U66)","v":1.0784313725490197E-6},{"$f":"IF('8) DDGS Dryer'!V66=0,Q26/1020,'8) DDGS Dryer'!V66)","v":1.0784313725490197E-6},{"$f":"IF('8) DDGS Dryer'!W66=0,R26/1020,'8) DDGS Dryer'!W66)","v":1.0784313725490197E-6},{"$f":"IF('8) DDGS Dryer'!X66=0,S26/1020,'8) DDGS Dryer'!X66)","v":1.0784313725490197E-6},{"$f":"IF('8) DDGS Dryer'!Y66=0,T26/1020,'8) DDGS Dryer'!Y66)","v":1.0784313725490197E-6},null,"  Cadmium Compounds",{"$f":"W26*'8) DDGS Dryer'!D$29","v":0},{"$f":"X26*'8) DDGS Dryer'!D$30","v":0},{"$f":"Y26*'8) DDGS Dryer'!D$31","v":0},{"$f":"Z26*'8) DDGS Dryer'!D$32","v":0},{"$f":"AA26*'8) DDGS Dryer'!D$33","v":0},{"$f":"AB26*'8) DDGS Dryer'!D$34","v":0},{"$f":"AC26*'8) DDGS Dryer'!D$35","v":0},{"$f":"AD26*'8) DDGS Dryer'!D$36","v":0},{"$f":"AE26*'8) DDGS Dryer'!D$37","v":0},{"$f":"AF26*'8) DDGS Dryer'!D$38","v":0},0,null,"  Cadmium Compounds",{"$f":"IF('8) DDGS Dryer'!$G$29=\"\",AI26*8760/2000,AI26*'8) DDGS Dryer'!$G$29/2000)","v":0},{"$f":"IF('8) DDGS Dryer'!$G$30=\"\",AJ26*8760/2000,AJ26*'8) DDGS Dryer'!$G$30/2000)","v":0},{"$f":"IF('8) DDGS Dryer'!$G$31=\"\",AK26*8760/2000,AK26*'8) DDGS Dryer'!$G$31/2000)","v":0},{"$f":"IF('8) DDGS Dryer'!$G$32=\"\",AL26*8760/2000,AL26*'8) DDGS Dryer'!$G$32/2000)","v":0},{"$f":"IF('8) DDGS Dryer'!$G$33=\"\",AM26*8760/2000,AM26*'8) DDGS Dryer'!$G$33/2000)","v":0},{"$f":"IF('8) DDGS Dryer'!$G$34=\"\",AN26*8760/2000,AN26*'8) DDGS Dryer'!$G$34/2000)","v":0},{"$f":"IF('8) DDGS Dryer'!$G$35=\"\",AO26*8760/2000,AO26*'8) DDGS Dryer'!$G$35/2000)","v":0},{"$f":"IF('8) DDGS Dryer'!$G$36=\"\",AP26*8760/2000,AP26*'8) DDGS Dryer'!$G$36/2000)","v":0},{"$f":"IF('8) DDGS Dryer'!$G$37=\"\",AQ26*8760/2000,AQ26*'8) DDGS Dryer'!$G$37/2000)","v":0},{"$f":"IF('8) DDGS Dryer'!$G$38=\"\",AR26*8760/2000,AR26*'8) DDGS Dryer'!$G$38/2000)","v":0},0]
[null,null,null,null,null,null,null,null,null,"  Chromium Compounds",1.4E-3,1.4E-3,1.4E-3,1.4E-3,1.4E-3,1.4E-3,1.4E-3,1.4E-3,1.4E-3,1.4E-3,null,"  Chromium Compounds",{"$f":"IF('8) DDGS Dryer'!P67=0,K27/1020,'8) DDGS Dryer'!P67)","v":1.3725490196078432E-6},{"$f":"IF('8) DDGS Dryer'!Q67=0,L27/1020,'8) DDGS Dryer'!Q67)","v":1.3725490196078432E-6},{"$f":"IF('8) DDGS Dryer'!R67=0,M27/1020,'8) DDGS Dryer'!R67)","v":1.3725490196078432E-6},{"$f":"IF('8) DDGS Dryer'!S67=0,N27/1020,'8) DDGS Dryer'!S67)","v":1.3725490196078432E-6},{"$f":"IF('8) DDGS Dryer'!T67=0,O27/1020,'8) DDGS Dryer'!T67)","v":1.3725490196078432E-6},{"$f":"IF('8) DDGS Dryer'!U67=0,P27/1020,'8) DDGS Dryer'!U67)","v":1.3725490196078432E-6},{"$f":"IF('8) DDGS Dryer'!V67=0,Q27/1020,'8) DDGS Dryer'!V67)","v":1.3725490196078432E-6},{"$f":"IF('8) DDGS Dryer'!W67=0,R27/1020,'8) DDGS Dryer'!W67)","v":1.3725490196078432E-6},{"$f":"IF('8) DDGS Dryer'!X67=0,S27/1020,'8) DDGS Dryer'!X67)","v":1.3725490196078432E-6},{"$f":"IF('8) DDGS Dryer'!Y67=0,T27/1020,'8) DDGS Dryer'!Y67)","v":1.3725490196078432E-6},null,"  Chromium Compounds",{"$f":"W27*'8) DDGS Dryer'!D$29","v":0},{"$f":"X27*'8) DDGS Dryer'!D$30","v":0},{"$f":"Y27*'8) DDGS Dryer'!D$31","v":0},{"$f":"Z27*'8) DDGS Dryer'!D$32","v":0},{"$f":"AA27*'8) DDGS Dryer'!D$33","v":0},{"$f":"AB27*'8) DDGS Dryer'!D$34","v":0},{"$f":"AC27*'8) DDGS Dryer'!D$35","v":0},{"$f":"AD27*'8) DDGS Dryer'!D$36","v":0},{"$f":"AE27*'8) DDGS Dryer'!D$37","v":0},{"$f":"AF27*'8) DDGS Dryer'!D$38","v":0},0,null,"  Chromium Compounds",{"$f":"IF('8) DDGS Dryer'!$G$29=\"\",AI27*8760/2000,AI27*'8) DDGS Dryer'!$G$29/2000)","v":0},{"$f":"IF('8) DDGS Dryer'!$G$30=\"\",AJ27*8760/2000,AJ27*'8) DDGS Dryer'!$G$30/2000)","v":0},{"$f":"IF('8) DDGS Dryer'!$G$31=\"\",AK27*8760/2000,AK27*'8) DDGS Dryer'!$G$31/2000)","v":0},{"$f":"IF('8) DDGS Dryer'!$G$32=\"\",AL27*8760/2000,AL27*'8) DDGS Dryer'!$G$32/2000)","v":0},{"$f":"IF('8) DDGS Dryer'!$G$33=\"\",AM27*8760/2000,AM27*'8) DDGS Dryer'!$G$33/2000)","v":0},{"$f":"IF('8) DDGS Dryer'!$G$34=\"\",AN27*8760/2000,AN27*'8) DDGS Dryer'!$G$34/2000)","v":0},{"$f":"IF('8) DDGS Dryer'!$G$35=\"\",AO27*8760/2000,AO27*'8) DDGS Dryer'!$G$35/2000)","v":0},{"$f":"IF('8) DDGS Dryer'!$G$36=\"\",AP27*8760/2000,AP27*'8) DDGS Dryer'!$G$36/2000)","v":0},{"$f":"IF('8) DDGS Dryer'!$G$37=\"\",AQ27*8760/2000,AQ27*'8) DDGS Dryer'!$G$37/2000)","v":0},{"$f":"IF('8) DDGS Dryer'!$G$38=\"\",AR27*8760/2000,AR27*'8) DDGS Dryer'!$G$38/2000)","v":0},0]
[null,null,null,null,null,null,null,null,null,"  Cobalt Compounds",8.3999999999999995E-5,8.3999999999999995E-5,8.3999999999999995E-5,8.3999999999999995E-5,8.3999999999999995E-5,8.3999999999999995E-5,8.3999999999999995E-5,8.3999999999999995E-5,8.3999999999999995E-5,8.3999999999999995E-5,null,"  Cobalt Compounds",{"$f":"IF('8) DDGS Dryer'!P68=0,K28/1020,'8) DDGS Dryer'!P68)","v":8.2352941176470587E-8},{"$f":"IF('8) DDGS Dryer'!Q68=0,L28/1020,'8) DDGS Dryer'!Q68)","v":8.2352941176470587E-8},{"$f":"IF('8) DDGS Dryer'!R68=0,M28/1020,'8) DDGS Dryer'!R68)","v":8.2352941176470587E-8},{"$f":"IF('8) DDGS Dryer'!S68=0,N28/1020,'8) DDGS Dryer'!S68)","v":8.2352941176470587E-8},{"$f":"IF('8) DDGS Dryer'!T68=0,O28/1020,'8) DDGS Dryer'!T68)","v":8.2352941176470587E-8},{"$f":"IF('8) DDGS Dryer'!U68=0,P28/1020,'8) DDGS Dryer'!U68)","v":8.2352941176470587E-8},{"$f":"IF('8) DDGS Dryer'!V68=0,Q28/1020,'8) DDGS Dryer'!V68)","v":8.2352941176470587E-8},{"$f":"IF('8) DDGS Dryer'!W68=0,R28/1020,'8) DDGS Dryer'!W68)","v":8.2352941176470587E-8},{"$f":"IF('8) DDGS Dryer'!X68=0,S28/1020,'8) DDGS Dryer'!X68)","v":8.2352941176470587E-8},{"$f":"IF('8) DDGS Dryer'!Y68=0,T28/1020,'8) DDGS Dryer'!Y68)","v":8.2352941176470587E-8},null,"  Cobalt Compounds",{"$f":"W28*'8) DDGS Dryer'!D$29","v":0},{"$f":"X28*'8) DDGS Dryer'!D$30","v":0},{"$f":"Y28*'8) DDGS Dryer'!D$31","v":0},{"$f":"Z28*'8) DDGS Dryer'!D$32","v":0},{"$f":"AA28*'8) DDGS Dryer'!D$33","v":0},{"$f":"AB28*'8) DDGS Dryer'!D$34","v":0},{"$f":"AC28*'8) DDGS Dryer'!D$35","v":0},{"$f":"AD28*'8) DDGS Dryer'!D$36","v":0},{"$f":"AE28*'8) DDGS Dryer'!D$37","v":0},{"$f":"AF28*'8) DDGS Dryer'!D$38","v":0},0,null,"  Cobalt Compounds",{"$f":"IF('8) DDGS Dryer'!$G$29=\"\",AI28*8760/2000,AI28*'8) DDGS Dryer'!$G$29/2000)","v":0},{"$f":"IF('8) DDGS Dryer'!$G$30=\"\",AJ28*8760/2000,AJ28*'8) DDGS Dryer'!$G$30/2000)","v":0},{"$f":"IF('8) DDGS Dryer'!$G$31=\"\",AK28*8760/2000,AK28*'8) DDGS Dryer'!$G$31/2000)","v":0},{"$f":"IF('8) DDGS Dryer'!$G$32=\"\",AL28*8760/2000,AL28*'8) DDGS Dryer'!$G$32/2000)","v":0},{"$f":"IF('8) DDGS Dryer'!$G$33=\"\",AM28*8760/2000,AM28*'8) DDGS Dryer'!$G$33/2000)","v":0},{"$f":"IF('8) DDGS Dryer'!$G$34=\"\",AN28*8760/2000,AN28*'8) DDGS Dryer'!$G$34/2000)","v":0},{"$f":"IF('8) DDGS Dryer'!$G$35=\"\",AO28*8760/2000,AO28*'8) DDGS Dryer'!$G$35/2000)","v":0},{"$f":"IF('8) DDGS Dryer'!$G$36=\"\",AP28*8760/2000,AP28*'8) DDGS Dryer'!$G$36/2000)","v":0},{"$f":"IF('8) DDGS Dryer'!$G$37=\"\",AQ28*8760/2000,AQ28*'8) DDGS Dryer'!$G$37/2000)","v":0},{"$f":"IF('8) DDGS Dryer'!$G$38=\"\",AR28*8760/2000,AR28*'8) DDGS Dryer'!$G$38/2000)","v":0},0]
[null,null,null,null,null,null,null,null,null,"  Manganese Compounds",3.8000000000000002E-4,3.8000000000000002E-4,3.8000000000000002E-4,3.8000000000000002E-4,3.8000000000000002E-4,3.8000000000000002E-4,3.8000000000000002E-4,3.8000000000000002E-4,3.8000000000000002E-4,3.8000000000000002E-4,null,"  Manganese Compounds",{"$f":"IF('8) DDGS Dryer'!P69=0,K29/1020,'8) DDGS Dryer'!P69)","v":3.7254901960784315E-7},{"$f":"IF('8) DDGS Dryer'!Q69=0,L29/1020,'8) DDGS Dryer'!Q69)","v":3.7254901960784315E-7},{"$f":"IF('8) DDGS Dryer'!R69=0,M29/1020,'8) DDGS Dryer'!R69)","v":3.7254901960784315E-7},{"$f":"IF('8) DDGS Dryer'!S69=0,N29/1020,'8) DDGS Dryer'!S69)","v":3.7254901960784315E-7},{"$f":"IF('8) DDGS Dryer'!T69=0,O29/1020,'8) DDGS Dryer'!T69)","v":3.7254901960784315E-7},{"$f":"IF('8) DDGS Dryer'!U69=0,P29/1020,'8) DDGS Dryer'!U69)","v":3.7254901960784315E-7},{"$f":"IF('8) DDGS Dryer'!V69=0,Q29/1020,'8) DDGS Dryer'!V69)","v":3.7254901960784315E-7},{"$f":"IF('8) DDGS Dryer'!W69=0,R29/1020,'8) DDGS Dryer'!W69)","v":3.7254901960784315E-7},{"$f":"IF('8) DDGS Dryer'!X69=0,S29/1020,'8) DDGS Dryer'!X69)","v":3.7254901960784315E-7},{"$f":"IF('8) DDGS Dryer'!Y69=0,T29/1020,'8) DDGS Dryer'!Y69)","v":3.7254901960784315E-7},null,"  Manganese Compounds",{"$f":"W29*'8) DDGS Dryer'!D$29","v":0},{"$f":"X29*'8) DDGS Dryer'!D$30","v":0},{"$f":"Y29*'8) DDGS Dryer'!D$31","v":0},{"$f":"Z29*'8) DDGS Dryer'!D$32","v":0},{"$f":"AA29*'8) DDGS Dryer'!D$33","v":0},{"$f":"AB29*'8) DDGS Dryer'!D$34","v":0},{"$f":"AC29*'8) DDGS Dryer'!D$35","v":0},{"$f":"AD29*'8) DDGS Dryer'!D$36","v":0},{"$f":"AE29*'8) DDGS Dryer'!D$37","v":0},{"$f":"AF29*'8) DDGS Dryer'!D$38","v":0},0,null,"  Manganese Compounds",{"$f":"IF('8) DDGS Dryer'!$G$29=\"\",AI29*8760/2000,AI29*'8) DDGS Dryer'!$G$29/2000)","v":0},{"$f":"IF('8) DDGS Dryer'!$G$30=\"\",AJ29*8760/2000,AJ29*'8) DDGS Dryer'!$G$30/2000)","v":0},{"$f":"IF('8) DDGS Dryer'!$G$31=\"\",AK29*8760/2000,AK29*'8) DDGS Dryer'!$G$31/2000)","v":0},{"$f":"IF('8) DDGS Dryer'!$G$32=\"\",AL29*8760/2000,AL29*'8) DDGS Dryer'!$G$32/2000)","v":0},{"$f":"IF('8) DDGS Dryer'!$G$33=\"\",AM29*8760/2000,AM29*'8) DDGS Dryer'!$G$33/2000)","v":0},{"$f":"IF('8) DDGS Dryer'!$G$34=\"\",AN29*8760/2000,AN29*'8) DDGS Dryer'!$G$34/2000)","v":0},{"$f":"IF('8) DDGS Dryer'!$G$35=\"\",AO29*8760/2000,AO29*'8) DDGS Dryer'!$G$35/2000)","v":0},{"$f":"IF('8) DDGS Dryer'!$G$36=\"\",AP29*8760/2000,AP29*'8) DDGS Dryer'!$G$36/2000)","v":0},{"$f":"IF('8) DDGS Dryer'!$G$37=\"\",AQ29*8760/2000,AQ29*'8) DDGS Dryer'!$G$37/2000)","v":0},{"$f":"IF('8) DDGS Dryer'!$G$38=\"\",AR29*8760/2000,AR29*'8) DDGS Dryer'!$G$38/2000)","v":0},0]
[null,null,null,null,null,null,null,null,null,"  Mercury Compounds",2.5999999999999998E-4,2.5999999999999998E-4,2.5999999999999998E-4,2.5999999999999998E-4,2.5999999999999998E-4,2.5999999999999998E-4,2.5999999999999998E-4,2.5999999999999998E-4,2.5999999999999998E-4,2.5999999999999998E-4,null,"  Mercury Compounds",{"$f":"IF('8) DDGS Dryer'!P70=0,K30/1020,'8) DDGS Dryer'!P70)","v":2.5490196078431371E-7},{"$f":"IF('8) DDGS Dryer'!Q70=0,L30/1020,'8) DDGS Dryer'!Q70)","v":2.5490196078431371E-7},{"$f":"IF('8) DDGS Dryer'!R70=0,M30/1020,'8) DDGS Dryer'!R70)","v":2.5490196078431371E-7},{"$f":"IF('8) DDGS Dryer'!S70=0,N30/1020,'8) DDGS Dryer'!S70)","v":2.5490196078431371E-7},{"$f":"IF('8) DDGS Dryer'!T70=0,O30/1020,'8) DDGS Dryer'!T70)","v":2.5490196078431371E-7},{"$f":"IF('8) DDGS Dryer'!U70=0,P30/1020,'8) DDGS Dryer'!U70)","v":2.5490196078431371E-7},{"$f":"IF('8) DDGS Dryer'!V70=0,Q30/1020,'8) DDGS Dryer'!V70)","v":2.5490196078431371E-7},{"$f":"IF('8) DDGS Dryer'!W70=0,R30/1020,'8) DDGS Dryer'!W70)","v":2.5490196078431371E-7},{"$f":"IF('8) DDGS Dryer'!X70=0,S30/1020,'8) DDGS Dryer'!X70)","v":2.5490196078431371E-7},{"$f":"IF('8) DDGS Dryer'!Y70=0,T30/1020,'8) DDGS Dryer'!Y70)","v":2.5490196078431371E-7},null,"  Mercury Compounds",{"$f":"W30*'8) DDGS Dryer'!D$29","v":0},{"$f":"X30*'8) DDGS Dryer'!D$30","v":0},{"$f":"Y30*'8) DDGS Dryer'!D$31","v":0},{"$f":"Z30*'8) DDGS Dryer'!D$32","v":0},{"$f":"AA30*'8) DDGS Dryer'!D$33","v":0},{"$f":"AB30*'8) DDGS Dryer'!D$34","v":0},{"$f":"AC30*'8) DDGS Dryer'!D$35","v":0},{"$f":"AD30*'8) DDGS Dryer'!D$36","v":0},{"$f":"AE30*'8) DDGS Dryer'!D$37","v":0},{"$f":"AF30*'8) DDGS Dryer'!D$38","v":0},0,null,"  Mercury Compounds",{"$f":"IF('8) DDGS Dryer'!$G$29=\"\",AI30*8760/2000,AI30*'8) DDGS Dryer'!$G$29/2000)","v":0},{"$f":"IF('8) DDGS Dryer'!$G$30=\"\",AJ30*8760/2000,AJ30*'8) DDGS Dryer'!$G$30/2000)","v":0},{"$f":"IF('8) DDGS Dryer'!$G$31=\"\",AK30*8760/2000,AK30*'8) DDGS Dryer'!$G$31/2000)","v":0},{"$f":"IF('8) DDGS Dryer'!$G$32=\"\",AL30*8760/2000,AL30*'8) DDGS Dryer'!$G$32/2000)","v":0},{"$f":"IF('8) DDGS Dryer'!$G$33=\"\",AM30*8760/2000,AM30*'8) DDGS Dryer'!$G$33/2000)","v":0},{"$f":"IF('8) DDGS Dryer'!$G$34=\"\",AN30*8760/2000,AN30*'8) DDGS Dryer'!$G$34/2000)","v":0},{"$f":"IF('8) DDGS Dryer'!$G$35=\"\",AO30*8760/2000,AO30*'8) DDGS Dryer'!$G$35/2000)","v":0},{"$f":"IF('8) DDGS Dryer'!$G$36=\"\",AP30*8760/2000,AP30*'8) DDGS Dryer'!$G$36/2000)","v":0},{"$f":"IF('8) DDGS Dryer'!$G$37=\"\",AQ30*8760/2000,AQ30*'8) DDGS Dryer'!$G$37/2000)","v":0},{"$f":"IF('8) DDGS Dryer'!$G$38=\"\",AR30*8760/2000,AR30*'8) DDGS Dryer'!$G$38/2000)","v":0},0]
[null,null,null,null,null,null,null,null,null,"  Nickel Compounds",2.0999999999999999E-3,2.0999999999999999E-3,2.0999999999999999E-3,2.0999999999999999E-3,2.0999999999999999E-3,2.0999999999999999E-3,2.0999999999999999E-3,2.0999999999999999E-3,2.0999999999999999E-3,2.0999999999999999E-3,null,"  Nickel Compounds",{"$f":"IF('8) DDGS Dryer'!P71=0,K31/1020,'8) DDGS Dryer'!P71)","v":2.0588235294117645E-6},{"$f":"IF('8) DDGS Dryer'!Q71=0,L31/1020,'8) DDGS Dryer'!Q71)","v":2.0588235294117645E-6},{"$f":"IF('8) DDGS Dryer'!R71=0,M31/1020,'8) DDGS Dryer'!R71)","v":2.0588235294117645E-6},{"$f":"IF('8) DDGS Dryer'!S71=0,N31/1020,'8) DDGS Dryer'!S71)","v":2.0588235294117645E-6},{"$f":"IF('8) DDGS Dryer'!T71=0,O31/1020,'8) DDGS Dryer'!T71)","v":2.0588235294117645E-6},{"$f":"IF('8) DDGS Dryer'!U71=0,P31/1020,'8) DDGS Dryer'!U71)","v":2.0588235294117645E-6},{"$f":"IF('8) DDGS Dryer'!V71=0,Q31/1020,'8) DDGS Dryer'!V71)","v":2.0588235294117645E-6},{"$f":"IF('8) DDGS Dryer'!W71=0,R31/1020,'8) DDGS Dryer'!W71)","v":2.0588235294117645E-6},{"$f":"IF('8) DDGS Dryer'!X71=0,S31/1020,'8) DDGS Dryer'!X71)","v":2.0588235294117645E-6},{"$f":"IF('8) DDGS Dryer'!Y71=0,T31/1020,'8) DDGS Dryer'!Y71)","v":2.0588235294117645E-6},null,"  Nickel Compounds",{"$f":"W31*'8) DDGS Dryer'!D$29","v":0},{"$f":"X31*'8) DDGS Dryer'!D$30","v":0},{"$f":"Y31*'8) DDGS Dryer'!D$31","v":0},{"$f":"Z31*'8) DDGS Dryer'!D$32","v":0},{"$f":"AA31*'8) DDGS Dryer'!D$33","v":0},{"$f":"AB31*'8) DDGS Dryer'!D$34","v":0},{"$f":"AC31*'8) DDGS Dryer'!D$35","v":0},{"$f":"AD31*'8) DDGS Dryer'!D$36","v":0},{"$f":"AE31*'8) DDGS Dryer'!D$37","v":0},{"$f":"AF31*'8) DDGS Dryer'!D$38","v":0},0,null,"  Nickel Compounds",{"$f":"IF('8) DDGS Dryer'!$G$29=\"\",AI31*8760/2000,AI31*'8) DDGS Dryer'!$G$29/2000)","v":0},{"$f":"IF('8) DDGS Dryer'!$G$30=\"\",AJ31*8760/2000,AJ31*'8) DDGS Dryer'!$G$30/2000)","v":0},{"$f":"IF('8) DDGS Dryer'!$G$31=\"\",AK31*8760/2000,AK31*'8) DDGS Dryer'!$G$31/2000)","v":0},{"$f":"IF('8) DDGS Dryer'!$G$32=\"\",AL31*8760/2000,AL31*'8) DDGS Dryer'!$G$32/2000)","v":0},{"$f":"IF('8) DDGS Dryer'!$G$33=\"\",AM31*8760/2000,AM31*'8) DDGS Dryer'!$G$33/2000)","v":0},{"$f":"IF('8) DDGS Dryer'!$G$34=\"\",AN31*8760/2000,AN31*'8) DDGS Dryer'!$G$34/2000)","v":0},{"$f":"IF('8) DDGS Dryer'!$G$35=\"\",AO31*8760/2000,AO31*'8) DDGS Dryer'!$G$35/2000)","v":0},{"$f":"IF('8) DDGS Dryer'!$G$36=\"\",AP31*8760/2000,AP31*'8) DDGS Dryer'!$G$36/2000)","v":0},{"$f":"IF('8) DDGS Dryer'!$G$37=\"\",AQ31*8760/2000,AQ31*'8) DDGS Dryer'!$G$37/2000)","v":0},{"$f":"IF('8) DDGS Dryer'!$G$38=\"\",AR31*8760/2000,AR31*'8) DDGS Dryer'!$G$38/2000)","v":0},0]
[null,null,null,null,null,null,null,null,null,"  Selenium Compounds",2.4000000000000001E-5,2.4000000000000001E-5,2.4000000000000001E-5,2.4000000000000001E-5,2.4000000000000001E-5,2.4000000000000001E-5,2.4000000000000001E-5,2.4000000000000001E-5,2.4000000000000001E-5,2.4000000000000001E-5,null,"  Selenium Compounds",{"$f":"IF('8) DDGS Dryer'!P72=0,K32/1020,'8) DDGS Dryer'!P72)","v":2.3529411764705881E-8},{"$f":"IF('8) DDGS Dryer'!Q72=0,L32/1020,'8) DDGS Dryer'!Q72)","v":2.3529411764705881E-8},{"$f":"IF('8) DDGS Dryer'!R72=0,M32/1020,'8) DDGS Dryer'!R72)","v":2.3529411764705881E-8},{"$f":"IF('8) DDGS Dryer'!S72=0,N32/1020,'8) DDGS Dryer'!S72)","v":2.3529411764705881E-8},{"$f":"IF('8) DDGS Dryer'!T72=0,O32/1020,'8) DDGS Dryer'!T72)","v":2.3529411764705881E-8},{"$f":"IF('8) DDGS Dryer'!U72=0,P32/1020,'8) DDGS Dryer'!U72)","v":2.3529411764705881E-8},{"$f":"IF('8) DDGS Dryer'!V72=0,Q32/1020,'8) DDGS Dryer'!V72)","v":2.3529411764705881E-8},{"$f":"IF('8) DDGS Dryer'!W72=0,R32/1020,'8) DDGS Dryer'!W72)","v":2.3529411764705881E-8},{"$f":"IF('8) DDGS Dryer'!X72=0,S32/1020,'8) DDGS Dryer'!X72)","v":2.3529411764705881E-8},{"$f":"IF('8) DDGS Dryer'!Y72=0,T32/1020,'8) DDGS Dryer'!Y72)","v":2.3529411764705881E-8},null,"  Selenium Compounds",{"$f":"W32*'8) DDGS Dryer'!D$29","v":0},{"$f":"X32*'8) DDGS Dryer'!D$30","v":0},{"$f":"Y32*'8) DDGS Dryer'!D$31","v":0},{"$f":"Z32*'8) DDGS Dryer'!D$32","v":0},{"$f":"AA32*'8) DDGS Dryer'!D$33","v":0},{"$f":"AB32*'8) DDGS Dryer'!D$34","v":0},{"$f":"AC32*'8) DDGS Dryer'!D$35","v":0},{"$f":"AD32*'8) DDGS Dryer'!D$36","v":0},{"$f":"AE32*'8) DDGS Dryer'!D$37","v":0},{"$f":"AF32*'8) DDGS Dryer'!D$38","v":0},0,null,"  Selenium Compounds",{"$f":"IF('8) DDGS Dryer'!$G$29=\"\",AI32*8760/2000,AI32*'8) DDGS Dryer'!$G$29/2000)","v":0},{"$f":"IF('8) DDGS Dryer'!$G$30=\"\",AJ32*8760/2000,AJ32*'8) DDGS Dryer'!$G$30/2000)","v":0},{"$f":"IF('8) DDGS Dryer'!$G$31=\"\",AK32*8760/2000,AK32*'8) DDGS Dryer'!$G$31/2000)","v":0},{"$f":"IF('8) DDGS Dryer'!$G$32=\"\",AL32*8760/2000,AL32*'8) DDGS Dryer'!$G$32/2000)","v":0},{"$f":"IF('8) DDGS Dryer'!$G$33=\"\",AM32*8760/2000,AM32*'8) DDGS Dryer'!$G$33/2000)","v":0},{"$f":"IF('8) DDGS Dryer'!$G$34=\"\",AN32*8760/2000,AN32*'8) DDGS Dryer'!$G$34/2000)","v":0},{"$f":"IF('8) DDGS Dryer'!$G$35=\"\",AO32*8760/2000,AO32*'8) DDGS Dryer'!$G$35/2000)","v":0},{"$f":"IF('8) DDGS Dryer'!$G$36=\"\",AP32*8760/2000,AP32*'8) DDGS Dryer'!$G$36/2000)","v":0},{"$f":"IF('8) DDGS Dryer'!$G$37=\"\",AQ32*8760/2000,AQ32*'8) DDGS Dryer'!$G$37/2000)","v":0},{"$f":"IF('8) DDGS Dryer'!$G$38=\"\",AR32*8760/2000,AR32*'8) DDGS Dryer'!$G$38/2000)","v":0},0]
[null,null,null,null,null,null,null,null,null,"Total HAPs",null,null,null,null,null,null,null,null,null,null,null,"Total HAPs",{"$f":"IF('8) DDGS Dryer'!P73=0,K33/1020,'8) DDGS Dryer'!P73)","v":0},{"$f":"IF('8) DDGS Dryer'!Q73=0,L33/1020,'8) DDGS Dryer'!Q73)","v":0},{"$f":"IF('8) DDGS Dryer'!R73=0,M33/1020,'8) DDGS Dryer'!R73)","v":0},{"$f":"IF('8) DDGS Dryer'!S73=0,N33/1020,'8) DDGS Dryer'!S73)","v":0},{"$f":"IF('8) DDGS Dryer'!T73=0,O33/1020,'8) DDGS Dryer'!T73)","v":0},{"$f":"IF('8) DDGS Dryer'!U73=0,P33/1020,'8) DDGS Dryer'!U73)","v":0},{"$f":"IF('8) DDGS Dryer'!V73=0,Q33/1020,'8) DDGS Dryer'!V73)","v":0},{"$f":"IF('8) DDGS Dryer'!W73=0,R33/1020,'8) DDGS Dryer'!W73)","v":0},{"$f":"IF('8) DDGS Dryer'!X73=0,S33/1020,'8) DDGS Dryer'!X73)","v":0},{"$f":"IF('8) DDGS Dryer'!Y73=0,T33/1020,'8) DDGS Dryer'!Y73)","v":0},null,"Total HAPs",{"$f":"SUM(AI13:AI32)","v":0},{"$f":"SUM(AJ13:AJ32)","v":0},{"$f":"SUM(AK13:AK32)","v":0},{"$f":"SUM(AL13:AL32)","v":0},{"$f":"SUM(AM13:AM32)","v":0},{"$f":"SUM(AN13:AN32)","v":0},{"$f":"SUM(AO13:AO32)","v":0},{"$f":"SUM(AP13:AP32)","v":0},{"$f":"SUM(AQ13:AQ32)","v":0},{"$f":"SUM(AR13:AR32)","v":0},0,null,"Total HAPs",{"$f":"IF('8) DDGS Dryer'!$G$29=\"\",AI33*8760/2000,AI33*'8) DDGS Dryer'!$G$29/2000)","v":0},{"$f":"IF('8) DDGS Dryer'!$G$30=\"\",AJ33*8760/2000,AJ33*'8) DDGS Dryer'!$G$30/2000)","v":0},{"$f":"IF('8) DDGS Dryer'!$G$31=\"\",AK33*8760/2000,AK33*'8) DDGS Dryer'!$G$31/2000)","v":0},{"$f":"IF('8) DDGS Dryer'!$G$32=\"\",AL33*8760/2000,AL33*'8) DDGS Dryer'!$G$32/2000)","v":0},{"$f":"IF('8) DDGS Dryer'!$G$33=\"\",AM33*8760/2000,AM33*'8) DDGS Dryer'!$G$33/2000)","v":0},{"$f":"IF('8) DDGS Dryer'!$G$34=\"\",AN33*8760/2000,AN33*'8) DDGS Dryer'!$G$34/2000)","v":0},{"$f":"IF('8) DDGS Dryer'!$G$35=\"\",AO33*8760/2000,AO33*'8) DDGS Dryer'!$G$35/2000)","v":0},{"$f":"IF('8) DDGS Dryer'!$G$36=\"\",AP33*8760/2000,AP33*'8) DDGS Dryer'!$G$36/2000)","v":0},{"$f":"IF('8) DDGS Dryer'!$G$37=\"\",AQ33*8760/2000,AQ33*'8) DDGS Dryer'!$G$37/2000)","v":0},{"$f":"IF('8) DDGS Dryer'!$G$38=\"\",AR33*8760/2000,AR33*'8) DDGS Dryer'!$G$38/2000)","v":0},0]
[null,null,null,null,null,null,null,null,null,"Greenhouse Gases (GHG)","(lb/MMBtu)",null,null,null,null,null,null,null,null,null,null,"Greenhouse Gases (GHG)"]
[null,null,null,null,null,null,null,null,null,"  Carbon Dioxide (CO2)",{"$f":"53.06*2.20462","v":116.9771372},{"$f":"53.06*2.20462","v":116.9771372},116.9771372,116.9771372,116.9771372,116.9771372,116.9771372,116.9771372,116.9771372,116.9771372,null,"  Carbon Dioxide (CO2)",{"$f":"IF('8) DDGS Dryer'!P75=0,K35,'8) DDGS Dryer'!P75)","v":116.9771372},{"$f":"IF('8) DDGS Dryer'!Q75=0,L35,'8) DDGS Dryer'!Q75)","v":116.9771372},{"$f":"IF('8) DDGS Dryer'!R75=0,M35,'8) DDGS Dryer'!R75)","v":116.9771372},{"$f":"IF('8) DDGS Dryer'!S75=0,N35,'8) DDGS Dryer'!S75)","v":116.9771372},{"$f":"IF('8) DDGS Dryer'!T75=0,O35,'8) DDGS Dryer'!T75)","v":116.9771372},{"$f":"IF('8) DDGS Dryer'!U75=0,P35,'8) DDGS Dryer'!U75)","v":116.9771372},{"$f":"IF('8) DDGS Dryer'!V75=0,Q35,'8) DDGS Dryer'!V75)","v":116.9771372},{"$f":"IF('8) DDGS Dryer'!W75=0,R35,'8) DDGS Dryer'!W75)","v":116.9771372},{"$f":"IF('8) DDGS Dryer'!X75=0,S35,'8) DDGS Dryer'!X75)","v":116.9771372},{"$f":"IF('8) DDGS Dryer'!Y75=0,T35,'8) DDGS Dryer'!Y75)","v":116.9771372},null,"  Carbon Dioxide (CO2)",{"$f":"W35*'8) DDGS Dryer'!D$29","v":0},{"$f":"X35*'8) DDGS Dryer'!D$30","v":0},{"$f":"SUM(AK15:AK34)","v":0},{"$f":"SUM(AL15:AL34)","v":0},{"$f":"SUM(AM15:AM34)","v":0},{"$f":"SUM(AN15:AN34)","v":0},{"$f":"SUM(AO15:AO34)","v":0},{"$f":"SUM(AP15:AP34)","v":0},{"$f":"SUM(AQ15:AQ34)","v":0},{"$f":"SUM(AR15:AR34)","v":0},{"$f":"SUM(AI35:AR35)","v":0},null,"  Carbon Dioxide (CO2)",{"$f":"IF('8) DDGS Dryer'!$G$29=\"\",AI35*8760/2000,AI35*'8) DDGS Dryer'!$G$29/2000)","v":0},{"$f":"IF('8) DDGS Dryer'!$G$30=\"\",AJ35*8760/2000,AJ35*'8) DDGS Dryer'!$G$30/2000)","v":0},{"$f":"IF('8) DDGS Dryer'!$G$31=\"\",AK35*8760/2000,AK35*'8) DDGS Dryer'!$G$31/2000)","v":0},{"$f":"IF('8) DDGS Dryer'!$G$32=\"\",AL35*8760/2000,AL35*'8) DDGS Dryer'!$G$32/2000)","v":0},{"$f":"IF('8) DDGS Dryer'!$G$33=\"\",AM35*8760/2000,AM35*'8) DDGS Dryer'!$G$33/2000)","v":0},{"$f":"IF('8) DDGS Dryer'!$G$34=\"\",AN35*8760/2000,AN35*'8) DDGS Dryer'!$G$34/2000)","v":0},{"$f":"IF('8) DDGS Dryer'!$G$35=\"\",AO35*8760/2000,AO35*'8) DDGS Dryer'!$G$35/2000)","v":0},{"$f":"IF('8) DDGS Dryer'!$G$36=\"\",AP35*8760/2000,AP35*'8) DDGS Dryer'!$G$36/2000)","v":0},{"$f":"IF('8) DDGS Dryer'!$G$37=\"\",AQ35*8760/2000,AQ35*'8) DDGS Dryer'!$G$37/2000)","v":0},{"$f":"IF('8) DDGS Dryer'!$G$38=\"\",AR35*8760/2000,AR35*'8) DDGS Dryer'!$G$38/2000)","v":0},{"$f":"SUM(AV35:BE35)","v":0}]
[null,null,null,null,null,null,null,null,null,"  Methane (CH4)",{"$f":"0.001*2.20462","v":2.20462E-3},{"$f":"0.001*2.20462","v":2.20462E-3},2.20462E-3,2.20462E-3,2.20462E-3,2.20462E-3,2.20462E-3,2.20462E-3,2.20462E-3,2.20462E-3,null,"  Methane (CH4)",{"$f":"IF('8) DDGS Dryer'!P76=0,K36,'8) DDGS Dryer'!P76)","v":2.20462E-3},{"$f":"IF('8) DDGS Dryer'!Q76=0,L36,'8) DDGS Dryer'!Q76)","v":2.20462E-3},{"$f":"IF('8) DDGS Dryer'!R76=0,M36,'8) DDGS Dryer'!R76)","v":2.20462E-3},{"$f":"IF('8) DDGS Dryer'!S76=0,N36,'8) DDGS Dryer'!S76)","v":2.20462E-3},{"$f":"IF('8) DDGS Dryer'!T76=0,O36,'8) DDGS Dryer'!T76)","v":2.20462E-3},{"$f":"IF('8) DDGS Dryer'!U76=0,P36,'8) DDGS Dryer'!U76)","v":2.20462E-3},{"$f":"IF('8) DDGS Dryer'!V76=0,Q36,'8) DDGS Dryer'!V76)","v":2.20462E-3},{"$f":"IF('8) DDGS Dryer'!W76=0,R36,'8) DDGS Dryer'!W76)","v":2.20462E-3},{"$f":"IF('8) DDGS Dryer'!X76=0,S36,'8) DDGS Dryer'!X76)","v":2.20462E-3},{"$f":"IF('8) DDGS Dryer'!Y76=0,T36,'8) DDGS Dryer'!Y76)","v":2.20462E-3},null,"  Methane (CH4)",{"$f":"W36*'8) DDGS Dryer'!D$29","v":0},{"$f":"X36*'8) DDGS Dryer'!D$30","v":0},0,0,0,0,0,0,0,0,0,null,"  Methane (CH4)",{"$f":"IF('8) DDGS Dryer'!$G$29=\"\",AI36*8760/2000,AI36*'8) DDGS Dryer'!$G$29/2000)","v":0},{"$f":"IF('8) DDGS Dryer'!$G$30=\"\",AJ36*8760/2000,AJ36*'8) DDGS Dryer'!$G$30/2000)","v":0},{"$f":"IF('8) DDGS Dryer'!$G$31=\"\",AK36*8760/2000,AK36*'8) DDGS Dryer'!$G$31/2000)","v":0},{"$f":"IF('8) DDGS Dryer'!$G$32=\"\",AL36*8760/2000,AL36*'8) DDGS Dryer'!$G$32/2000)","v":0},{"$f":"IF('8) DDGS Dryer'!$G$33=\"\",AM36*8760/2000,AM36*'8) DDGS Dryer'!$G$33/2000)","v":0},{"$f":"IF('8) DDGS Dryer'!$G$34=\"\",AN36*8760/2000,AN36*'8) DDGS Dryer'!$G$34/2000)","v":0},{"$f":"IF('8) DDGS Dryer'!$G$35=\"\",AO36*8760/2000,AO36*'8) DDGS Dryer'!$G$35/2000)","v":0},{"$f":"IF('8) DDGS Dryer'!$G$36=\"\",AP36*8760/2000,AP36*'8) DDGS Dryer'!$G$36/2000)","v":0},{"$f":"IF('8) DDGS Dryer'!$G$37=\"\",AQ36*8760/2000,AQ36*'8) DDGS Dryer'!$G$37/2000)","v":0},{"$f":"IF('8) DDGS Dryer'!$G$38=\"\",AR36*8760/2000,AR36*'8) DDGS Dryer'!$G$38/2000)","v":0},0]
[null,null,null,null,null,null,null,null,null,"  Nitrous Oxide (N2O)",{"$f":"0.0001*2.20462","v":2.2046199999999999E-4},{"$f":"0.0001*2.20462","v":2.2046199999999999E-4},2.2046199999999999E-4,2.2046199999999999E-4,2.2046199999999999E-4,2.2046199999999999E-4,2.2046199999999999E-4,2.2046199999999999E-4,2.2046199999999999E-4,2.2046199999999999E-4,null,"  Nitrous Oxide (N2O)",{"$f":"IF('8) DDGS Dryer'!P77=0,K37,'8) DDGS Dryer'!P77)","v":2.2046199999999999E-4},{"$f":"IF('8) DDGS Dryer'!Q77=0,L37,'8) DDGS Dryer'!Q77)","v":2.2046199999999999E-4},{"$f":"IF('8) DDGS Dryer'!R77=0,M37,'8) DDGS Dryer'!R77)","v":2.2046199999999999E-4},{"$f":"IF('8) DDGS Dryer'!S77=0,N37,'8) DDGS Dryer'!S77)","v":2.2046199999999999E-4},{"$f":"IF('8) DDGS Dryer'!T77=0,O37,'8) DDGS Dryer'!T77)","v":2.2046199999999999E-4},{"$f":"IF('8) DDGS Dryer'!U77=0,P37,'8) DDGS Dryer'!U77)","v":2.2046199999999999E-4},{"$f":"IF('8) DDGS Dryer'!V77=0,Q37,'8) DDGS Dryer'!V77)","v":2.2046199999999999E-4},{"$f":"IF('8) DDGS Dryer'!W77=0,R37,'8) DDGS Dryer'!W77)","v":2.2046199999999999E-4},{"$f":"IF('8) DDGS Dryer'!X77=0,S37,'8) DDGS Dryer'!X77)","v":2.2046199999999999E-4},{"$f":"IF('8) DDGS Dryer'!Y77=0,T37,'8) DDGS Dryer'!Y77)","v":2.2046199999999999E-4},null,"  Nitrous Oxide (N2O)",{"$f":"W37*'8) DDGS Dryer'!D$29","v":0},{"$f":"X37*'8) DDGS Dryer'!D$30","v":0},0,0,0,0,0,0,0,0,0,null,"  Nitrous Oxide (N2O)",{"$f":"IF('8) DDGS Dryer'!$G$29=\"\",AI37*8760/2000,AI37*'8) DDGS Dryer'!$G$29/2000)","v":0},{"$f":"IF('8) DDGS Dryer'!$G$30=\"\",AJ37*8760/2000,AJ37*'8) DDGS Dryer'!$G$30/2000)","v":0},{"$f":"IF('8) DDGS Dryer'!$G$31=\"\",AK37*8760/2000,AK37*'8) DDGS Dryer'!$G$31/2000)","v":0},{"$f":"IF('8) DDGS Dryer'!$G$32=\"\",AL37*8760/2000,AL37*'8) DDGS Dryer'!$G$32/2000)","v":0},{"$f":"IF('8) DDGS Dryer'!$G$33=\"\",AM37*8760/2000,AM37*'8) DDGS Dryer'!$G$33/2000)","v":0},{"$f":"IF('8) DDGS Dryer'!$G$34=\"\",AN37*8760/2000,AN37*'8) DDGS Dryer'!$G$34/2000)","v":0},{"$f":"IF('8) DDGS Dryer'!$G$35=\"\",AO37*8760/2000,AO37*'8) DDGS Dryer'!$G$35/2000)","v":0},{"$f":"IF('8) DDGS Dryer'!$G$36=\"\",AP37*8760/2000,AP37*'8) DDGS Dryer'!$G$36/2000)","v":0},{"$f":"IF('8) DDGS Dryer'!$G$37=\"\",AQ37*8760/2000,AQ37*'8) DDGS Dryer'!$G$37/2000)","v":0},{"$f":"IF('8) DDGS Dryer'!$G$38=\"\",AR37*8760/2000,AR37*'8) DDGS Dryer'!$G$38/2000)","v":0},0]
[null,null,null,null,null,null,null,null,null,"* Emission factors for Criteria Pollutants and HAPS from AP-42 Tables 1.4-1, 1.4-2, and 1.4-3. Emission Factors for GHGs from 40CFR98 ",null,null,null,null,null,null,null,null,null,null,null,"* Emission factor equals manufacturer's specified. If no manufacturer guarantee entered, AP-42 emission factors are divided by 1020 MMBtu/MMscf",null,null,null,null,null,null,null,null,null,null,null,"Total GHGs",{"$f":"SUM(AI35:AI37)","v":0},0,0,0,0,0,0,0,0,0,0,null,"Total GHGs",{"$f":"IF('8) DDGS Dryer'!$G$29=\"\",AI38*8760/2000,AI38*'8) DDGS Dryer'!$G$29/2000)","v":0},{"$f":"IF('8) DDGS Dryer'!$G$30=\"\",AJ38*8760/2000,AJ38*'8) DDGS Dryer'!$G$30/2000)","v":0},{"$f":"IF('8) DDGS Dryer'!$G$31=\"\",AK38*8760/2000,AK38*'8) DDGS Dryer'!$G$31/2000)","v":0},{"$f":"IF('8) DDGS Dryer'!$G$32=\"\",AL38*8760/2000,AL38*'8) DDGS Dryer'!$G$32/2000)","v":0},{"$f":"IF('8) DDGS Dryer'!$G$33=\"\",AM38*8760/2000,AM38*'8) DDGS Dryer'!$G$33/2000)","v":0},{"$f":"IF('8) DDGS Dryer'!$G$34=\"\",AN38*8760/2000,AN38*'8) DDGS Dryer'!$G$34/2000)","v":0},{"$f":"IF('8) DDGS Dryer'!$G$35=\"\",AO38*8760/2000,AO38*'8) DDGS Dryer'!$G$35/2000)","v":0},{"$f":"IF('8) DDGS Dryer'!$G$36=\"\",AP38*8760/2000,AP38*'8) DDGS Dryer'!$G$36/2000)","v":0},{"$f":"IF('8) DDGS Dryer'!$G$37=\"\",AQ38*8760/2000,AQ38*'8) DDGS Dryer'!$G$37/2000)","v":0},{"$f":"IF('8) DDGS Dryer'!$G$38=\"\",AR38*8760/2000,AR38*'8) DDGS Dryer'!$G$38/2000)","v":0},0]
[null,null,null,null,null,null,null,null,null,null,null,null,null,null,null,null,null,null,null,null,null,null,null,null,null,null,null,null,null,null,null,null,null,"Greenhouse Gases (GHG) (CO2 Equivalent Basis)",null,null,null,null,null,null,null,null,null,null,null,null,"Greenhouse Gases (GHG) (CO2 Equivalent Basis)"]
[null,null,null,null,null,null,null,null,null,null,null,null,null,null,null,null,null,null,null,null,null,null,null,null,null,null,null,null,null,null,null,null,null,"  Carbon Dioxide (CO2)",{"$f":"AI35","v":0},{"$f":"AJ35","v":0},0,0,0,0,0,0,0,0,{"$f":"SUM(AI40:AR40)","v":0},null,"  Carbon Dioxide (CO2)",{"$f":"IF('8) DDGS Dryer'!$G$29=\"\",AI40*8760/2000,AI40*'8) DDGS Dryer'!$G$29/2000)","v":0},{"$f":"IF('8) DDGS Dryer'!$G$30=\"\",AJ40*8760/2000,AJ40*'8) DDGS Dryer'!$G$30/2000)","v":0},{"$f":"IF('8) DDGS Dryer'!$G$31=\"\",AK40*8760/2000,AK40*'8) DDGS Dryer'!$G$31/2000)","v":0},{"$f":"IF('8) DDGS Dryer'!$G$32=\"\",AL40*8760/2000,AL40*'8) DDGS Dryer'!$G$32/2000)","v":0},{"$f":"IF('8) DDGS Dryer'!$G$33=\"\",AM40*8760/2000,AM40*'8) DDGS Dryer'!$G$33/2000)","v":0},{"$f":"IF('8) DDGS Dryer'!$G$34=\"\",AN40*8760/2000,AN40*'8) DDGS Dryer'!$G$34/2000)","v":0},{"$f":"IF('8) DDGS Dryer'!$G$35=\"\",AO40*8760/2000,AO40*'8) DDGS Dryer'!$G$35/2000)","v":0},{"$f":"IF('8) DDGS Dryer'!$G$36=\"\",AP40*8760/2000,AP40*'8) DDGS Dryer'!$G$36/2000)","v":0},{"$f":"IF('8) DDGS Dryer'!$G$37=\"\",AQ40*8760/2000,AQ40*'8) DDGS Dryer'!$G$37/2000)","v":0},{"$f":"IF('8) DDGS Dryer'!$G$38=\"\",AR40*8760/2000,AR40*'8) DDGS Dryer'!$G$38/2000)","v":0},{"$f":"SUM(AV40:BE40)","v":0}]
[null,null,null,null,null,null,null,null,null,null,null,null,null,null,null,null,null,null,null,null,null,null,null,null,null,null,null,null,null,null,null,null,null,"  Methane (CH4)",{"$f":"AI36*25","v":0},{"$f":"AJ36*25","v":0},0,0,0,0,0,0,0,0,0,null,"  Methane (CH4)",{"$f":"IF('8) DDGS Dryer'!$G$29=\"\",AI41*8760/2000,AI41*'8) DDGS Dryer'!$G$29/2000)","v":0},{"$f":"IF('8) DDGS Dryer'!$G$30=\"\",AJ41*8760/2000,AJ41*'8) DDGS Dryer'!$G$30/2000)","v":0},{"$f":"IF('8) DDGS Dryer'!$G$31=\"\",AK41*8760/2000,AK41*'8) DDGS Dryer'!$G$31/2000)","v":0},{"$f":"IF('8) DDGS Dryer'!$G$32=\"\",AL41*8760/2000,AL41*'8) DDGS Dryer'!$G$32/2000)","v":0},{"$f":"IF('8) DDGS Dryer'!$G$33=\"\",AM41*8760/2000,AM41*'8) DDGS Dryer'!$G$33/2000)","v":0},{"$f":"IF('8) DDGS Dryer'!$G$34=\"\",AN41*8760/2000,AN41*'8) DDGS Dryer'!$G$34/2000)","v":0},{"$f":"IF('8) DDGS Dryer'!$G$35=\"\",AO41*8760/2000,AO41*'8) DDGS Dryer'!$G$35/2000)","v":0},{"$f":"IF('8) DDGS Dryer'!$G$36=\"\",AP41*8760/2000,AP41*'8) DDGS Dryer'!$G$36/2000)","v":0},{"$f":"IF('8) DDGS Dryer'!$G$37=\"\",AQ41*8760/2000,AQ41*'8) DDGS Dryer'!$G$37/2000)","v":0},{"$f":"IF('8) DDGS Dryer'!$G$38=\"\",AR41*8760/2000,AR41*'8) DDGS Dryer'!$G$38/2000)","v":0},0]
[null,null,null,null,null,null,null,null,null,null,null,null,null,null,null,null,null,null,null,null,null,null,null,null,null,null,null,null,null,null,null,null,null,"  Nitrous Oxide (N2O)",{"$f":"AI37*298","v":0},{"$f":"AJ37*298","v":0},0,0,0,0,0,0,0,0,0,null,"  Nitrous Oxide (N2O)",{"$f":"IF('8) DDGS Dryer'!$G$29=\"\",AI42*8760/2000,AI42*'8) DDGS Dryer'!$G$29/2000)","v":0},{"$f":"IF('8) DDGS Dryer'!$G$30=\"\",AJ42*8760/2000,AJ42*'8) DDGS Dryer'!$G$30/2000)","v":0},{"$f":"IF('8) DDGS Dryer'!$G$31=\"\",AK42*8760/2000,AK42*'8) DDGS Dryer'!$G$31/2000)","v":0},{"$f":"IF('8) DDGS Dryer'!$G$32=\"\",AL42*8760/2000,AL42*'8) DDGS Dryer'!$G$32/2000)","v":0},{"$f":"IF('8) DDGS Dryer'!$G$33=\"\",AM42*8760/2000,AM42*'8) DDGS Dryer'!$G$33/2000)","v":0},{"$f":"IF('8) DDGS Dryer'!$G$34=\"\",AN42*8760/2000,AN42*'8) DDGS Dryer'!$G$34/2000)","v":0},{"$f":"IF('8) DDGS Dryer'!$G$35=\"\",AO42*8760/2000,AO42*'8) DDGS Dryer'!$G$35/2000)","v":0},{"$f":"IF('8) DDGS Dryer'!$G$36=\"\",AP42*8760/2000,AP42*'8) DDGS Dryer'!$G$36/2000)","v":0},{"$f":"IF('8) DDGS Dryer'!$G$37=\"\",AQ42*8760/2000,AQ42*'8) DDGS Dryer'!$G$37/2000)","v":0},{"$f":"IF('8) DDGS Dryer'!$G$38=\"\",AR42*8760/2000,AR42*'8) DDGS Dryer'!$G$38/2000)","v":0},0]
[null,null,null,null,null,null,null,null,null,null,null,null,null,null,null,null,null,null,null,null,null,null,null,null,null,null,null,null,null,null,null,null,null,"Total GHGs",{"$f":"SUM(AI40:AI42)","v":0},{"$f":"SUM(AJ40:AJ42)","v":0},0,0,0,0,0,0,0,0,0,null,"Total GHGs",{"$f":"IF('8) DDGS Dryer'!$G$29=\"\",AI43*8760/2000,AI43*'8) DDGS Dryer'!$G$29/2000)","v":0},{"$f":"IF('8) DDGS Dryer'!$G$30=\"\",AJ43*8760/2000,AJ43*'8) DDGS Dryer'!$G$30/2000)","v":0},{"$f":"IF('8) DDGS Dryer'!$G$31=\"\",AK43*8760/2000,AK43*'8) DDGS Dryer'!$G$31/2000)","v":0},{"$f":"IF('8) DDGS Dryer'!$G$32=\"\",AL43*8760/2000,AL43*'8) DDGS Dryer'!$G$32/2000)","v":0},{"$f":"IF('8) DDGS Dryer'!$G$33=\"\",AM43*8760/2000,AM43*'8) DDGS Dryer'!$G$33/2000)","v":0},{"$f":"IF('8) DDGS Dryer'!$G$34=\"\",AN43*8760/2000,AN43*'8) DDGS Dryer'!$G$34/2000)","v":0},{"$f":"IF('8) DDGS Dryer'!$G$35=\"\",AO43*8760/2000,AO43*'8) DDGS Dryer'!$G$35/2000)","v":0},{"$f":"IF('8) DDGS Dryer'!$G$36=\"\",AP43*8760/2000,AP43*'8) DDGS Dryer'!$G$36/2000)","v":0},{"$f":"IF('8) DDGS Dryer'!$G$37=\"\",AQ43*8760/2000,AQ43*'8) DDGS Dryer'!$G$37/2000)","v":0},{"$f":"IF('8) DDGS Dryer'!$G$38=\"\",AR43*8760/2000,AR43*'8) DDGS Dryer'!$G$38/2000)","v":0},0]
[]
[null,null,null,null,null,null,null,null,null,"Fact Sheet Attachment: Dry Mill: DDGS Drying Operations"]
[null,null,null,null,null,null,null,null,null,"Emission Factors*",null,null,null,null,null,null,null,null,null,null,null,"Chosen Emission Factors: Manufacturer's Guarantee (If Available) or AP-42 in lb/MMBtu*",null,null,null,null,null,null,null,null,null,null,null,"PTE in lb/hr = Emission Factor x Maximum Rated Capacity, MMBtu/hr",null,null,null,null,null,null,null,null,null,null,null,null,"PTE in ton/yr = PTE in lb/hr x 8760 / 2000 (or hourly limit if available)"]
[null,null,null,null,null,null,null,null,null,"Pollutant","1st RTO","2nd RTO","3rd RTO","4th RTO","5th RTO","6th RTO","7th RTO","8th RTO","9th RTO","10th RTO",null,"Pollutant","1st RTO","2nd RTO","3rd RTO","4th RTO","5th RTO","6th RTO","7th RTO","8th RTO","9th RTO","10th RTO",null,"Pollutant","1st RTO","2nd RTO","3rd RTO","4th RTO","5th RTO","6th RTO","7th RTO","8th RTO","9th RTO","10th RTO","Total ",null,"Pollutant","1st RTO","2nd RTO","3rd RTO","4th RTO","5th RTO","6th RTO","7th RTO","8th RTO","9th RTO","10th RTO","Total "]
[null,null,null,null,null,null,null,null,null,null,"(lb/MMscf)",null,null,null,null,null,null,null,null,null,null,null,"(lb/MMBtu)",null,null,null,null,null,null,null,null,null,null,null,"(lb/hr)",null,null,null,null,null,null,null,null,null,null,null,null,"(lb/hr)"]
[null,null,null,null,null,null,null,null,null,"PMfilterable",7.6,7.6,7.6,7.6,7.6,7.6,7.6,7.6,7.6,7.6,null,"PMfilterable",{"$f":"IF('8) DDGS Dryer'!C81=0,K49/1020,'8) DDGS Dryer'!C81)","v":7.4509803921568628E-3},{"$f":"IF('8) DDGS Dryer'!D81=0,L49/1020,'8) DDGS Dryer'!D81)","v":7.4509803921568628E-3},{"$f":"IF('8) DDGS Dryer'!E81=0,M49/1020,'8) DDGS Dryer'!E81)","v":7.4509803921568628E-3},{"$f":"IF('8) DDGS Dryer'!F81=0,N49/1020,'8) DDGS Dryer'!F81)","v":7.4509803921568628E-3},{"$f":"IF('8) DDGS Dryer'!G81=0,O49/1020,'8) DDGS Dryer'!G81)","v":7.4509803921568628E-3},{"$f":"IF('8) DDGS Dryer'!H81=0,P49/1020,'8) DDGS Dryer'!H81)","v":7.4509803921568628E-3},{"$f":"IF('8) DDGS Dryer'!I81=0,Q49/1020,'8) DDGS Dryer'!I81)","v":7.4509803921568628E-3},{"$f":"IF('8) DDGS Dryer'!J81=0,R49/1020,'8) DDGS Dryer'!J81)","v":7.4509803921568628E-3},{"$f":"IF('8) DDGS Dryer'!K81=0,S49/1020,'8) DDGS Dryer'!K81)","v":7.4509803921568628E-3},{"$f":"IF('8) DDGS Dryer'!L81=0,T49/1020,'8) DDGS Dryer'!L81)","v":7.4509803921568628E-3},null,"PMfilterable",{"$f":"W49*'8) DDGS Dryer'!L$29","v":0},{"$f":"X49*'8) DDGS Dryer'!L$30","v":0},{"$f":"Y49*'8) DDGS Dryer'!L$31","v":0},{"$f":"Z49*'8) DDGS Dryer'!L$32","v":0},{"$f":"AA49*'8) DDGS Dryer'!L$33","v":0},{"$f":"AB49*'8) DDGS Dryer'!L$34","v":0},{"$f":"AC49*'8) DDGS Dryer'!L$35","v":0},{"$f":"AD49*'8) DDGS Dryer'!L$36","v":0},{"$f":"AE49*'8) DDGS Dryer'!L$37","v":0},{"$f":"AF49*'8) DDGS Dryer'!L$38","v":0},{"$f":"SUM(AI49:AR49)","v":0},null,"PMfilterable",{"$f":"IF('8) DDGS Dryer'!$O$29=\"\",AI49*8760/2000,AI49*'8) DDGS Dryer'!$O$29/2000)","v":0},{"$f":"IF('8) DDGS Dryer'!$O$30=\"\",AJ49*8760/2000,AJ49*'8) DDGS Dryer'!$O$30/2000)","v":0},{"$f":"IF('8) DDGS Dryer'!$O$31=\"\",AK49*8760/2000,AK49*'8) DDGS Dryer'!$O$31/2000)","v":0},{"$f":"IF('8) DDGS Dryer'!$O$32=\"\",AL49*8760/2000,AL49*'8) DDGS Dryer'!$O$32/2000)","v":0},{"$f":"IF('8) DDGS Dryer'!$O$33=\"\",AM49*8760/2000,AM49*'8) DDGS Dryer'!$O$33/2000)","v":0},{"$f":"IF('8) DDGS Dryer'!$O$34=\"\",AN49*8760/2000,AN49*'8) DDGS Dryer'!$O$34/2000)","v":0},{"$f":"IF('8) DDGS Dryer'!$O$35=\"\",AO49*8760/2000,AO49*'8) DDGS Dryer'!$O$35/2000)","v":0},{"$f":"IF('8) DDGS Dryer'!$O$36=\"\",AP49*8760/2000,AP49*'8) DDGS Dryer'!$O$36/2000)","v":0},{"$f":"IF('8) DDGS Dryer'!$O$37=\"\",AQ49*8760/2000,AQ49*'8) DDGS Dryer'!$O$37/2000)","v":0},{"$f":"IF('8) DDGS Dryer'!$O$38=\"\",AR49*8760/2000,AR49*'8) DDGS Dryer'!$O$38/2000)","v":0},{"$f":"SUM(AV49:BE49)","v":0}]
[null,null,null,null,null,null,null,null,null,"PM10",7.6,7.6,7.6,7.6,7.6,7.6,7.6,7.6,7.6,7.6,null,"PM10",{"$f":"IF('8) DDGS Dryer'!C82=0,K50/1020,'8) DDGS Dryer'!C82)","v":7.4509803921568628E-3},{"$f":"IF('8) DDGS Dryer'!D82=0,L50/1020,'8) DDGS Dryer'!D82)","v":7.4509803921568628E-3},{"$f":"IF('8) DDGS Dryer'!E82=0,M50/1020,'8) DDGS Dryer'!E82)","v":7.4509803921568628E-3},{"$f":"IF('8) DDGS Dryer'!F82=0,N50/1020,'8) DDGS Dryer'!F82)","v":7.4509803921568628E-3},{"$f":"IF('8) DDGS Dryer'!G82=0,O50/1020,'8) DDGS Dryer'!G82)","v":7.4509803921568628E-3},{"$f":"IF('8) DDGS Dryer'!H82=0,P50/1020,'8) DDGS Dryer'!H82)","v":7.4509803921568628E-3},{"$f":"IF('8) DDGS Dryer'!I82=0,Q50/1020,'8) DDGS Dryer'!I82)","v":7.4509803921568628E-3},{"$f":"IF('8) DDGS Dryer'!J82=0,R50/1020,'8) DDGS Dryer'!J82)","v":7.4509803921568628E-3},{"$f":"IF('8) DDGS Dryer'!K82=0,S50/1020,'8) DDGS Dryer'!K82)","v":7.4509803921568628E-3},{"$f":"IF('8) DDGS Dryer'!L82=0,T50/1020,'8) DDGS Dryer'!L82)","v":7.4509803921568628E-3},null,"PM10",{"$f":"W50*'8) DDGS Dryer'!L$29","v":0},{"$f":"X50*'8) DDGS Dryer'!L$30","v":0},{"$f":"Y50*'8) DDGS Dryer'!L$31","v":0},{"$f":"Z50*'8) DDGS Dryer'!L$32","v":0},{"$f":"AA50*'8) DDGS Dryer'!L$33","v":0},{"$f":"AB50*'8) DDGS Dryer'!L$34","v":0},{"$f":"AC50*'8) DDGS Dryer'!L$35","v":0},{"$f":"AD50*'8) DDGS Dryer'!L$36","v":0},{"$f":"AE50*'8) DDGS Dryer'!L$37","v":0},{"$f":"AF50*'8) DDGS Dryer'!L$38","v":0},{"$f":"SUM(AI50:AR50)","v":0},null,"PM10",{"$f":"IF('8) DDGS Dryer'!$O$29=\"\",AI50*8760/2000,AI50*'8) DDGS Dryer'!$O$29/2000)","v":0},{"$f":"IF('8) DDGS Dryer'!$O$30=\"\",AJ50*8760/2000,AJ50*'8) DDGS Dryer'!$O$30/2000)","v":0},{"$f":"IF('8) DDGS Dryer'!$O$31=\"\",AK50*8760/2000,AK50*'8) DDGS Dryer'!$O$31/2000)","v":0},{"$f":"IF('8) DDGS Dryer'!$O$32=\"\",AL50*8760/2000,AL50*'8) DDGS Dryer'!$O$32/2000)","v":0},{"$f":"IF('8) DDGS Dryer'!$O$33=\"\",AM50*8760/2000,AM50*'8) DDGS Dryer'!$O$33/2000)","v":0},{"$f":"IF('8) DDGS Dryer'!$O$34=\"\",AN50*8760/2000,AN50*'8) DDGS Dryer'!$O$34/2000)","v":0},{"$f":"IF('8) DDGS Dryer'!$O$35=\"\",AO50*8760/2000,AO50*'8) DDGS Dryer'!$O$35/2000)","v":0},{"$f":"IF('8) DDGS Dryer'!$O$36=\"\",AP50*8760/2000,AP50*'8) DDGS Dryer'!$O$36/2000)","v":0},{"$f":"IF('8) DDGS Dryer'!$O$37=\"\",AQ50*8760/2000,AQ50*'8) DDGS Dryer'!$O$37/2000)","v":0},{"$f":"IF('8) DDGS Dryer'!$O$38=\"\",AR50*8760/2000,AR50*'8) DDGS Dryer'!$O$38/2000)","v":0},{"$f":"SUM(AV50:BE50)","v":0}]
[null,null,null,null,null,null,null,null,null,"PM2.5",7.6,7.6,7.6,7.6,7.6,7.6,7.6,7.6,7.6,7.6,null,"PM2.5",{"$f":"IF('8) DDGS Dryer'!C83=0,K51/1020,'8) DDGS Dryer'!C83)","v":7.4509803921568628E-3},{"$f":"IF('8) DDGS Dryer'!D83=0,L51/1020,'8) DDGS Dryer'!D83)","v":7.4509803921568628E-3},{"$f":"IF('8) DDGS Dryer'!E83=0,M51/1020,'8) DDGS Dryer'!E83)","v":7.4509803921568628E-3},{"$f":"IF('8) DDGS Dryer'!F83=0,N51/1020,'8) DDGS Dryer'!F83)","v":7.4509803921568628E-3},{"$f":"IF('8) DDGS Dryer'!G83=0,O51/1020,'8) DDGS Dryer'!G83)","v":7.4509803921568628E-3},{"$f":"IF('8) DDGS Dryer'!H83=0,P51/1020,'8) DDGS Dryer'!H83)","v":7.4509803921568628E-3},{"$f":"IF('8) DDGS Dryer'!I83=0,Q51/1020,'8) DDGS Dryer'!I83)","v":7.4509803921568628E-3},{"$f":"IF('8) DDGS Dryer'!J83=0,R51/1020,'8) DDGS Dryer'!J83)","v":7.4509803921568628E-3},{"$f":"IF('8) DDGS Dryer'!K83=0,S51/1020,'8) DDGS Dryer'!K83)","v":7.4509803921568628E-3},{"$f":"IF('8) DDGS Dryer'!L83=0,T51/1020,'8) DDGS Dryer'!L83)","v":7.4509803921568628E-3},null,"PM2.5",{"$f":"W51*'8) DDGS Dryer'!L$29","v":0},{"$f":"X51*'8) DDGS Dryer'!L$30","v":0},{"$f":"Y51*'8) DDGS Dryer'!L$31","v":0},{"$f":"Z51*'8) DDGS Dryer'!L$32","v":0},{"$f":"AA51*'8) DDGS Dryer'!L$33","v":0},{"$f":"AB51*'8) DDGS Dryer'!L$34","v":0},{"$f":"AC51*'8) DDGS Dryer'!L$35","v":0},{"$f":"AD51*'8) DDGS Dryer'!L$36","v":0},{"$f":"AE51*'8) DDGS Dryer'!L$37","v":0},{"$f":"AF51*'8) DDGS Dryer'!L$38","v":0},0,null,"PM2.5",{"$f":"IF('8) DDGS Dryer'!$O$29=\"\",AI51*8760/2000,AI51*'8) DDGS Dryer'!$O$29/2000)","v":0},{"$f":"IF('8) DDGS Dryer'!$O$30=\"\",AJ51*8760/2000,AJ51*'8) DDGS Dryer'!$O$30/2000)","v":0},{"$f":"IF('8) DDGS Dryer'!$O$31=\"\",AK51*8760/2000,AK51*'8) DDGS Dryer'!$O$31/2000)","v":0},{"$f":"IF('8) DDGS Dryer'!$O$32=\"\",AL51*8760/2000,AL51*'8) DDGS Dryer'!$O$32/2000)","v":0},{"$f":"IF('8) DDGS Dryer'!$O$33=\"\",AM51*8760/2000,AM51*'8) DDGS Dryer'!$O$33/2000)","v":0},{"$f":"IF('8) DDGS Dryer'!$O$34=\"\",AN51*8760/2000,AN51*'8) DDGS Dryer'!$O$34/2000)","v":0},{"$f":"IF('8) DDGS Dryer'!$O$35=\"\",AO51*8760/2000,AO51*'8) DDGS Dryer'!$O$35/2000)","v":0},{"$f":"IF('8) DDGS Dryer'!$O$36=\"\",AP51*8760/2000,AP51*'8) DDGS Dryer'!$O$36/2000)","v":0},{"$f":"IF('8) DDGS Dryer'!$O$37=\"\",AQ51*8760/2000,AQ51*'8) DDGS Dryer'!$O$37/2000)","v":0},{"$f":"IF('8) DDGS Dryer'!$O$38=\"\",AR51*8760/2000,AR51*'8) DDGS Dryer'!$O$38/2000)","v":0},0]
[null,null,null,null,null,null,null,null,null,"SO2",0.6,0.6,0.6,0.6,0.6,0.6,0.6,0.6,0.6,0.6,null,"SO2",{"$f":"IF('8) DDGS Dryer'!C84=0,K52/1020,'8) DDGS Dryer'!C84)","v":5.8823529411764701E-4},{"$f":"IF('8) DDGS Dryer'!D84=0,L52/1020,'8) DDGS Dryer'!D84)","v":5.8823529411764701E-4},{"$f":"IF('8) DDGS Dryer'!E84=0,M52/1020,'8) DDGS Dryer'!E84)","v":5.8823529411764701E-4},{"$f":"IF('8) DDGS Dryer'!F84=0,N52/1020,'8) DDGS Dryer'!F84)","v":5.8823529411764701E-4},{"$f":"IF('8) DDGS Dryer'!G84=0,O52/1020,'8) DDGS Dryer'!G84)","v":5.8823529411764701E-4},{"$f":"IF('8) DDGS Dryer'!H84=0,P52/1020,'8) DDGS Dryer'!H84)","v":5.8823529411764701E-4},{"$f":"IF('8) DDGS Dryer'!I84=0,Q52/1020,'8) DDGS Dryer'!I84)","v":5.8823529411764701E-4},{"$f":"IF('8) DDGS Dryer'!J84=0,R52/1020,'8) DDGS Dryer'!J84)","v":5.8823529411764701E-4},{"$f":"IF('8) DDGS Dryer'!K84=0,S52/1020,'8) DDGS Dryer'!K84)","v":5.8823529411764701E-4},{"$f":"IF('8) DDGS Dryer'!L84=0,T52/1020,'8) DDGS Dryer'!L84)","v":5.8823529411764701E-4},null,"SO2",{"$f":"W52*'8) DDGS Dryer'!L$29","v":0},{"$f":"X52*'8) DDGS Dryer'!L$30","v":0},{"$f":"Y52*'8) DDGS Dryer'!L$31","v":0},{"$f":"Z52*'8) DDGS Dryer'!L$32","v":0},{"$f":"AA52*'8) DDGS Dryer'!L$33","v":0},{"$f":"AB52*'8) DDGS Dryer'!L$34","v":0},{"$f":"AC52*'8) DDGS Dryer'!L$35","v":0},{"$f":"AD52*'8) DDGS Dryer'!L$36","v":0},{"$f":"AE52*'8) DDGS Dryer'!L$37","v":0},{"$f":"AF52*'8) DDGS Dryer'!L$38","v":0},0,null,"SO2",{"$f":"IF('8) DDGS Dryer'!$O$29=\"\",AI52*8760/2000,AI52*'8) DDGS Dryer'!$O$29/2000)","v":0},{"$f":"IF('8) DDGS Dryer'!$O$30=\"\",AJ52*8760/2000,AJ52*'8) DDGS Dryer'!$O$30/2000)","v":0},{"$f":"IF('8) DDGS Dryer'!$O$31=\"\",AK52*8760/2000,AK52*'8) DDGS Dryer'!$O$31/2000)","v":0},{"$f":"IF('8) DDGS Dryer'!$O$32=\"\",AL52*8760/2000,AL52*'8) DDGS Dryer'!$O$32/2000)","v":0},{"$f":"IF('8) DDGS Dryer'!$O$33=\"\",AM52*8760/2000,AM52*'8) DDGS Dryer'!$O$33/2000)","v":0},{"$f":"IF('8) DDGS Dryer'!$O$34=\"\",AN52*8760/2000,AN52*'8) DDGS Dryer'!$O$34/2000)","v":0},{"$f":"IF('8) DDGS Dryer'!$O$35=\"\",AO52*8760/2000,AO52*'8) DDGS Dryer'!$O$35/2000)","v":0},{"$f":"IF('8) DDGS Dryer'!$O$36=\"\",AP52*8760/2000,AP52*'8) DDGS Dryer'!$O$36/2000)","v":0},{"$f":"IF('8) DDGS Dryer'!$O$37=\"\",AQ52*8760/2000,AQ52*'8) DDGS Dryer'!$O$37/2000)","v":0},{"$f":"IF('8) DDGS Dryer'!$O$38=\"\",AR52*8760/2000,AR52*'8) DDGS Dryer'!$O$38/2000)","v":0},0]
[null,null,null,null,null,null,null,null,null,"NOx",{"$f":"IF('8) DDGS Dryer'!L29<100,IF('8) DDGS Dryer'!M29=Datasets!$AA$3,$G$5,IF('8) DDGS Dryer'!M29=Datasets!$AA$4,$H$5,$F$5)),IF('8) DDGS Dryer'!M29=Datasets!$AA$3,$D$5,IF('8) DDGS Dryer'!M29=Datasets!$AA$4,$E$5,IF('8) DDGS Dryer'!N29=Datasets!$AB$2,'7) Calculations'!$C$5,'7) Calculations'!$B$5))))","v":100},{"$f":"IF('8) DDGS Dryer'!L30<100,IF('8) DDGS Dryer'!M30=Datasets!$AA$3,$G$5,IF('8) DDGS Dryer'!M30=Datasets!$AA$4,$H$5,$F$5)),IF('8) DDGS Dryer'!M30=Datasets!$AA$3,$D$5,IF('8) DDGS Dryer'!M30=Datasets!$AA$4,$E$5,IF('8) DDGS Dryer'!N30=Datasets!$AB$2,'7) Calculations'!$C$5,'7) Calculations'!$B$5))))","v":100},{"$f":"IF('8) DDGS Dryer'!L31<100,IF('8) DDGS Dryer'!M31=Datasets!$AA$3,$G$5,IF('8) DDGS Dryer'!M31=Datasets!$AA$4,$H$5,$F$5)),IF('8) DDGS Dryer'!M31=Datasets!$AA$3,$D$5,IF('8) DDGS Dryer'!M31=Datasets!$AA$4,$E$5,IF('8) DDGS Dryer'!N31=Datasets!$AB$2,'7) Calculations'!$C$5,'7) Calculations'!$B$5))))","v":100},{"$f":"IF('8) DDGS Dryer'!L32<100,IF('8) DDGS Dryer'!M32=Datasets!$AA$3,$G$5,IF('8) DDGS Dryer'!M32=Datasets!$AA$4,$H$5,$F$5)),IF('8) DDGS Dryer'!M32=Datasets!$AA$3,$D$5,IF('8) DDGS Dryer'!M32=Datasets!$AA$4,$E$5,IF('8) DDGS Dryer'!N32=Datasets!$AB$2,'7) Calculations'!$C$5,'7) Calculations'!$B$5))))","v":100},{"$f":"IF('8) DDGS Dryer'!L33<100,IF('8) DDGS Dryer'!M33=Datasets!$AA$3,$G$5,IF('8) DDGS Dryer'!M33=Datasets!$AA$4,$H$5,$F$5)),IF('8) DDGS Dryer'!M33=Datasets!$AA$3,$D$5,IF('8) DDGS Dryer'!M33=Datasets!$AA$4,$E$5,IF('8) DDGS Dryer'!N33=Datasets!$AB$2,'7) Calculations'!$C$5,'7) Calculations'!$B$5))))","v":100},{"$f":"IF('8) DDGS Dryer'!L34<100,IF('8) DDGS Dryer'!M34=Datasets!$AA$3,$G$5,IF('8) DDGS Dryer'!M34=Datasets!$AA$4,$H$5,$F$5)),IF('8) DDGS Dryer'!M34=Datasets!$AA$3,$D$5,IF('8) DDGS Dryer'!M34=Datasets!$AA$4,$E$5,IF('8) DDGS Dryer'!N34=Datasets!$AB$2,'7) Calculations'!$C$5,'7) Calculations'!$B$5))))","v":100},{"$f":"IF('8) DDGS Dryer'!L35<100,IF('8) DDGS Dryer'!M35=Datasets!$AA$3,$G$5,IF('8) DDGS Dryer'!M35=Datasets!$AA$4,$H$5,$F$5)),IF('8) DDGS Dryer'!M35=Datasets!$AA$3,$D$5,IF('8) DDGS Dryer'!M35=Datasets!$AA$4,$E$5,IF('8) DDGS Dryer'!N35=Datasets!$AB$2,'7) Calculations'!$C$5,'7) Calculations'!$B$5))))","v":100},{"$f":"IF('8) DDGS Dryer'!L36<100,IF('8) DDGS Dryer'!M36=Datasets!$AA$3,$G$5,IF('8) DDGS Dryer'!M36=Datasets!$AA$4,$H$5,$F$5)),IF('8) DDGS Dryer'!M36=Datasets!$AA$3,$D$5,IF('8) DDGS Dryer'!M36=Datasets!$AA$4,$E$5,IF('8) DDGS Dryer'!N36=Datasets!$AB$2,'7) Calculations'!$C$5,'7) Calculations'!$B$5))))","v":100},{"$f":"IF('8) DDGS Dryer'!L37<100,IF('8) DDGS Dryer'!M37=Datasets!$AA$3,$G$5,IF('8) DDGS Dryer'!M37=Datasets!$AA$4,$H$5,$F$5)),IF('8) DDGS Dryer'!M37=Datasets!$AA$3,$D$5,IF('8) DDGS Dryer'!M37=Datasets!$AA$4,$E$5,IF('8) DDGS Dryer'!N37=Datasets!$AB$2,'7) Calculations'!$C$5,'7) Calculations'!$B$5))))","v":100},{"$f":"IF('8) DDGS Dryer'!L38<100,IF('8) DDGS Dryer'!M38=Datasets!$AA$3,$G$5,IF('8) DDGS Dryer'!M38=Datasets!$AA$4,$H$5,$F$5)),IF('8) DDGS Dryer'!M38=Datasets!$AA$3,$D$5,IF('8) DDGS Dryer'!M38=Datasets!$AA$4,$E$5,IF('8) DDGS Dryer'!N38=Datasets!$AB$2,'7) Calculations'!$C$5,'7) Calculations'!$B$5))))","v":100},null,"NOx",{"$f":"IF('8) DDGS Dryer'!C85=0,K53/1020,'8) DDGS Dryer'!C85)","v":9.8039215686274508E-2},{"$f":"IF('8) DDGS Dryer'!D85=0,L53/1020,'8) DDGS Dryer'!D85)","v":9.8039215686274508E-2},{"$f":"IF('8) DDGS Dryer'!E85=0,M53/1020,'8) DDGS Dryer'!E85)","v":9.8039215686274508E-2},{"$f":"IF('8) DDGS Dryer'!F85=0,N53/1020,'8) DDGS Dryer'!F85)","v":9.8039215686274508E-2},{"$f":"IF('8) DDGS Dryer'!G85=0,O53/1020,'8) DDGS Dryer'!G85)","v":9.8039215686274508E-2},{"$f":"IF('8) DDGS Dryer'!H85=0,P53/1020,'8) DDGS Dryer'!H85)","v":9.8039215686274508E-2},{"$f":"IF('8) DDGS Dryer'!I85=0,Q53/1020,'8) DDGS Dryer'!I85)","v":9.8039215686274508E-2},{"$f":"IF('8) DDGS Dryer'!J85=0,R53/1020,'8) DDGS Dryer'!J85)","v":9.8039215686274508E-2},{"$f":"IF('8) DDGS Dryer'!K85=0,S53/1020,'8) DDGS Dryer'!K85)","v":9.8039215686274508E-2},{"$f":"IF('8) DDGS Dryer'!L85=0,T53/1020,'8) DDGS Dryer'!L85)","v":9.8039215686274508E-2},null,"NOx",{"$f":"W53*'8) DDGS Dryer'!L$29","v":0},{"$f":"X53*'8) DDGS Dryer'!L$30","v":0},{"$f":"Y53*'8) DDGS Dryer'!L$31","v":0},{"$f":"Z53*'8) DDGS Dryer'!L$32","v":0},{"$f":"AA53*'8) DDGS Dryer'!L$33","v":0},{"$f":"AB53*'8) DDGS Dryer'!L$34","v":0},{"$f":"AC53*'8) DDGS Dryer'!L$35","v":0},{"$f":"AD53*'8) DDGS Dryer'!L$36","v":0},{"$f":"AE53*'8) DDGS Dryer'!L$37","v":0},{"$f":"AF53*'8) DDGS Dryer'!L$38","v":0},{"$f":"SUM(AI53:AR53)","v":0},null,"NOx",{"$f":"IF('8) DDGS Dryer'!$O$29=\"\",AI53*8760/2000,AI53*'8) DDGS Dryer'!$O$29/2000)","v":0},{"$f":"IF('8) DDGS Dryer'!$O$30=\"\",AJ53*8760/2000,AJ53*'8) DDGS Dryer'!$O$30/2000)","v":0},{"$f":"IF('8) DDGS Dryer'!$O$31=\"\",AK53*8760/2000,AK53*'8) DDGS Dryer'!$O$31/2000)","v":0},{"$f":"IF('8) DDGS Dryer'!$O$32=\"\",AL53*8760/2000,AL53*'8) DDGS Dryer'!$O$32/2000)","v":0},{"$f":"IF('8) DDGS Dryer'!$O$33=\"\",AM53*8760/2000,AM53*'8) DDGS Dryer'!$O$33/2000)","v":0},{"$f":"IF('8) DDGS Dryer'!$O$34=\"\",AN53*8760/2000,AN53*'8) DDGS Dryer'!$O$34/2000)","v":0},{"$f":"IF('8) DDGS Dryer'!$O$35=\"\",AO53*8760/2000,AO53*'8) DDGS Dryer'!$O$35/2000)","v":0},{"$f":"IF('8) DDGS Dryer'!$O$36=\"\",AP53*8760/2000,AP53*'8) DDGS Dryer'!$O$36/2000)","v":0},{"$f":"IF('8) DDGS Dryer'!$O$37=\"\",AQ53*8760/2000,AQ53*'8) DDGS Dryer'!$O$37/2000)","v":0},{"$f":"IF('8) DDGS Dryer'!$O$38=\"\",AR53*8760/2000,AR53*'8) DDGS Dryer'!$O$38/2000)","v":0},0]
[null,null,null,null,null,null,null,null,null,"CO",84,84,84,84,84,84,84,84,84,84,null,"CO",{"$f":"IF('8) DDGS Dryer'!C86=0,K54/1020,'8) DDGS Dryer'!C86)","v":8.2352941176470587E-2},{"$f":"IF('8) DDGS Dryer'!D86=0,L54/1020,'8) DDGS Dryer'!D86)","v":8.2352941176470587E-2},{"$f":"IF('8) DDGS Dryer'!E86=0,M54/1020,'8) DDGS Dryer'!E86)","v":8.2352941176470587E-2},{"$f":"IF('8) DDGS Dryer'!F86=0,N54/1020,'8) DDGS Dryer'!F86)","v":8.2352941176470587E-2},{"$f":"IF('8) DDGS Dryer'!G86=0,O54/1020,'8) DDGS Dryer'!G86)","v":8.2352941176470587E-2},{"$f":"IF('8) DDGS Dryer'!H86=0,P54/1020,'8) DDGS Dryer'!H86)","v":8.2352941176470587E-2},{"$f":"IF('8) DDGS Dryer'!I86=0,Q54/1020,'8) DDGS Dryer'!I86)","v":8.2352941176470587E-2},{"$f":"IF('8) DDGS Dryer'!J86=0,R54/1020,'8) DDGS Dryer'!J86)","v":8.2352941176470587E-2},{"$f":"IF('8) DDGS Dryer'!K86=0,S54/1020,'8) DDGS Dryer'!K86)","v":8.2352941176470587E-2},{"$f":"IF('8) DDGS Dryer'!L86=0,T54/1020,'8) DDGS Dryer'!L86)","v":8.2352941176470587E-2},null,"CO",{"$f":"W54*'8) DDGS Dryer'!L$29","v":0},{"$f":"X54*'8) DDGS Dryer'!L$30","v":0},{"$f":"Y54*'8) DDGS Dryer'!L$31","v":0},{"$f":"Z54*'8) DDGS Dryer'!L$32","v":0},{"$f":"AA54*'8) DDGS Dryer'!L$33","v":0},{"$f":"AB54*'8) DDGS Dryer'!L$34","v":0},{"$f":"AC54*'8) DDGS Dryer'!L$35","v":0},{"$f":"AD54*'8) DDGS Dryer'!L$36","v":0},{"$f":"AE54*'8) DDGS Dryer'!L$37","v":0},{"$f":"AF54*'8) DDGS Dryer'!L$38","v":0},{"$f":"SUM(AI54:AR54)","v":0},null,"CO",{"$f":"IF('8) DDGS Dryer'!$O$29=\"\",AI54*8760/2000,AI54*'8) DDGS Dryer'!$O$29/2000)","v":0},{"$f":"IF('8) DDGS Dryer'!$O$30=\"\",AJ54*8760/2000,AJ54*'8) DDGS Dryer'!$O$30/2000)","v":0},{"$f":"IF('8) DDGS Dryer'!$O$31=\"\",AK54*8760/2000,AK54*'8) DDGS Dryer'!$O$31/2000)","v":0},{"$f":"IF('8) DDGS Dryer'!$O$32=\"\",AL54*8760/2000,AL54*'8) DDGS Dryer'!$O$32/2000)","v":0},{"$f":"IF('8) DDGS Dryer'!$O$33=\"\",AM54*8760/2000,AM54*'8) DDGS Dryer'!$O$33/2000)","v":0},{"$f":"IF('8) DDGS Dryer'!$O$34=\"\",AN54*8760/2000,AN54*'8) DDGS Dryer'!$O$34/2000)","v":0},{"$f":"IF('8) DDGS Dryer'!$O$35=\"\",AO54*8760/2000,AO54*'8) DDGS Dryer'!$O$35/2000)","v":0},{"$f":"IF('8) DDGS Dryer'!$O$36=\"\",AP54*8760/2000,AP54*'8) DDGS Dryer'!$O$36/2000)","v":0},{"$f":"IF('8) DDGS Dryer'!$O$37=\"\",AQ54*8760/2000,AQ54*'8) DDGS Dryer'!$O$37/2000)","v":0},{"$f":"IF('8) DDGS Dryer'!$O$38=\"\",AR54*8760/2000,AR54*'8) DDGS Dryer'!$O$38/2000)","v":0},0]
[null,null,null,null,null,null,null,null,null,"VOC",5.5,5.5,5.5,5.5,5.5,5.5,5.5,5.5,5.5,5.5,null,"VOC",{"$f":"IF('8) DDGS Dryer'!C87=0,K55/1020,'8) DDGS Dryer'!C87)","v":5.392156862745098E-3},{"$f":"IF('8) DDGS Dryer'!D87=0,L55/1020,'8) DDGS Dryer'!D87)","v":5.392156862745098E-3},{"$f":"IF('8) DDGS Dryer'!E87=0,M55/1020,'8) DDGS Dryer'!E87)","v":5.392156862745098E-3},{"$f":"IF('8) DDGS Dryer'!F87=0,N55/1020,'8) DDGS Dryer'!F87)","v":5.392156862745098E-3},{"$f":"IF('8) DDGS Dryer'!G87=0,O55/1020,'8) DDGS Dryer'!G87)","v":5.392156862745098E-3},{"$f":"IF('8) DDGS Dryer'!H87=0,P55/1020,'8) DDGS Dryer'!H87)","v":5.392156862745098E-3},{"$f":"IF('8) DDGS Dryer'!I87=0,Q55/1020,'8) DDGS Dryer'!I87)","v":5.392156862745098E-3},{"$f":"IF('8) DDGS Dryer'!J87=0,R55/1020,'8) DDGS Dryer'!J87)","v":5.392156862745098E-3},{"$f":"IF('8) DDGS Dryer'!K87=0,S55/1020,'8) DDGS Dryer'!K87)","v":5.392156862745098E-3},{"$f":"IF('8) DDGS Dryer'!L87=0,T55/1020,'8) DDGS Dryer'!L87)","v":5.392156862745098E-3},null,"VOC",{"$f":"W55*'8) DDGS Dryer'!L$29","v":0},{"$f":"X55*'8) DDGS Dryer'!L$30","v":0},{"$f":"Y55*'8) DDGS Dryer'!L$31","v":0},{"$f":"Z55*'8) DDGS Dryer'!L$32","v":0},{"$f":"AA55*'8) DDGS Dryer'!L$33","v":0},{"$f":"AB55*'8) DDGS Dryer'!L$34","v":0},{"$f":"AC55*'8) DDGS Dryer'!L$35","v":0},{"$f":"AD55*'8) DDGS Dryer'!L$36","v":0},{"$f":"AE55*'8) DDGS Dryer'!L$37","v":0},{"$f":"AF55*'8) DDGS Dryer'!L$38","v":0},{"$f":"SUM(AI55:AR55)","v":0},null,"VOC",{"$f":"IF('8) DDGS Dryer'!$O$29=\"\",AI55*8760/2000,AI55*'8) DDGS Dryer'!$O$29/2000)","v":0},{"$f":"IF('8) DDGS Dryer'!$O$30=\"\",AJ55*8760/2000,AJ55*'8) DDGS Dryer'!$O$30/2000)","v":0},{"$f":"IF('8) DDGS Dryer'!$O$31=\"\",AK55*8760/2000,AK55*'8) DDGS Dryer'!$O$31/2000)","v":0},{"$f":"IF('8) DDGS Dryer'!$O$32=\"\",AL55*8760/2000,AL55*'8) DDGS Dryer'!$O$32/2000)","v":0},{"$f":"IF('8) DDGS Dryer'!$O$33=\"\",AM55*8760/2000,AM55*'8) DDGS Dryer'!$O$33/2000)","v":0},{"$f":"IF('8) DDGS Dryer'!$O$34=\"\",AN55*8760/2000,AN55*'8) DDGS Dryer'!$O$34/2000)","v":0},{"$f":"IF('8) DDGS Dryer'!$O$35=\"\",AO55*8760/2000,AO55*'8) DDGS Dryer'!$O$35/2000)","v":0},{"$f":"IF('8) DDGS Dryer'!$O$36=\"\",AP55*8760/2000,AP55*'8) DDGS Dryer'!$O$36/2000)","v":0},{"$f":"IF('8) DDGS Dryer'!$O$37=\"\",AQ55*8760/2000,AQ55*'8) DDGS Dryer'!$O$37/2000)","v":0},{"$f":"IF('8) DDGS Dryer'!$O$38=\"\",AR55*8760/2000,AR55*'8) DDGS Dryer'!$O$38/2000)","v":0},0]
[null,null,null,null,null,null,null,null,null,"Individual HAP",null,null,null,null,null,null,null,null,null,null,null,null,null,null,null,null,null,null,null,null,null,null,null,"Individual HAP",null,null,null,null,null,null,null,null,null,null,null,null,"Individual HAP"]
[null,null,null,null,null,null,null,null,null,{"$f":"'7) Ferm'!A49","v":"  Acetaldehyde"},null,null,null,null,null,null,null,null,null,null,null,"  Acetaldehyde",{"$f":"IF('8) DDGS Dryer'!C89=0,K57/1020,'8) DDGS Dryer'!C89)","v":0},{"$f":"IF('8) DDGS Dryer'!D89=0,L57/1020,'8) DDGS Dryer'!D89)","v":0},{"$f":"IF('8) DDGS Dryer'!E89=0,M57/1020,'8) DDGS Dryer'!E89)","v":0},{"$f":"IF('8) DDGS Dryer'!F89=0,N57/1020,'8) DDGS Dryer'!F89)","v":0},{"$f":"IF('8) DDGS Dryer'!G89=0,O57/1020,'8) DDGS Dryer'!G89)","v":0},{"$f":"IF('8) DDGS Dryer'!H89=0,P57/1020,'8) DDGS Dryer'!H89)","v":0},{"$f":"IF('8) DDGS Dryer'!I89=0,Q57/1020,'8) DDGS Dryer'!I89)","v":0},{"$f":"IF('8) DDGS Dryer'!J89=0,R57/1020,'8) DDGS Dryer'!J89)","v":0},{"$f":"IF('8) DDGS Dryer'!K89=0,S57/1020,'8) DDGS Dryer'!K89)","v":0},{"$f":"IF('8) DDGS Dryer'!L89=0,T57/1020,'8) DDGS Dryer'!L89)","v":0},null,"  Acetaldehyde",{"$f":"W57*'8) DDGS Dryer'!L$29","v":0},{"$f":"X57*'8) DDGS Dryer'!L$30","v":0},{"$f":"Y57*'8) DDGS Dryer'!L$31","v":0},{"$f":"Z57*'8) DDGS Dryer'!L$32","v":0},{"$f":"AA57*'8) DDGS Dryer'!L$33","v":0},{"$f":"AB57*'8) DDGS Dryer'!L$34","v":0},{"$f":"AC57*'8) DDGS Dryer'!L$35","v":0},{"$f":"AD57*'8) DDGS Dryer'!L$36","v":0},{"$f":"AE57*'8) DDGS Dryer'!L$37","v":0},{"$f":"AF57*'8) DDGS Dryer'!L$38","v":0},{"$f":"SUM(AI57:AR57)","v":0},null,"  Acetaldehyde",{"$f":"IF('8) DDGS Dryer'!$O$29=\"\",AI57*8760/2000,AI57*'8) DDGS Dryer'!$O$29/2000)","v":0},{"$f":"IF('8) DDGS Dryer'!$O$30=\"\",AJ57*8760/2000,AJ57*'8) DDGS Dryer'!$O$30/2000)","v":0},{"$f":"IF('8) DDGS Dryer'!$O$31=\"\",AK57*8760/2000,AK57*'8) DDGS Dryer'!$O$31/2000)","v":0},{"$f":"IF('8) DDGS Dryer'!$O$32=\"\",AL57*8760/2000,AL57*'8) DDGS Dryer'!$O$32/2000)","v":0},{"$f":"IF('8) DDGS Dryer'!$O$33=\"\",AM57*8760/2000,AM57*'8) DDGS Dryer'!$O$33/2000)","v":0},{"$f":"IF('8) DDGS Dryer'!$O$34=\"\",AN57*8760/2000,AN57*'8) DDGS Dryer'!$O$34/2000)","v":0},{"$f":"IF('8) DDGS Dryer'!$O$35=\"\",AO57*8760/2000,AO57*'8) DDGS Dryer'!$O$35/2000)","v":0},{"$f":"IF('8) DDGS Dryer'!$O$36=\"\",AP57*8760/2000,AP57*'8) DDGS Dryer'!$O$36/2000)","v":0},{"$f":"IF('8) DDGS Dryer'!$O$37=\"\",AQ57*8760/2000,AQ57*'8) DDGS Dryer'!$O$37/2000)","v":0},{"$f":"IF('8) DDGS Dryer'!$O$38=\"\",AR57*8760/2000,AR57*'8) DDGS Dryer'!$O$38/2000)","v":0},{"$f":"SUM(AV57:BE57)","v":0}]
[null,null,null,null,null,null,null,null,null,{"$f":"'7) Ferm'!A50","v":"Acrolein"},null,null,null,null,null,null,null,null,null,null,null,"  Acrolein",{"$f":"IF('8) DDGS Dryer'!C90=0,K58/1020,'8) DDGS Dryer'!C90)","v":0},{"$f":"IF('8) DDGS Dryer'!D90=0,L58/1020,'8) DDGS Dryer'!D90)","v":0},{"$f":"IF('8) DDGS Dryer'!E90=0,M58/1020,'8) DDGS Dryer'!E90)","v":0},{"$f":"IF('8) DDGS Dryer'!F90=0,N58/1020,'8) DDGS Dryer'!F90)","v":0},{"$f":"IF('8) DDGS Dryer'!G90=0,O58/1020,'8) DDGS Dryer'!G90)","v":0},{"$f":"IF('8) DDGS Dryer'!H90=0,P58/1020,'8) DDGS Dryer'!H90)","v":0},{"$f":"IF('8) DDGS Dryer'!I90=0,Q58/1020,'8) DDGS Dryer'!I90)","v":0},{"$f":"IF('8) DDGS Dryer'!J90=0,R58/1020,'8) DDGS Dryer'!J90)","v":0},{"$f":"IF('8) DDGS Dryer'!K90=0,S58/1020,'8) DDGS Dryer'!K90)","v":0},{"$f":"IF('8) DDGS Dryer'!L90=0,T58/1020,'8) DDGS Dryer'!L90)","v":0},null,"  Acrolein",{"$f":"W58*'8) DDGS Dryer'!L$29","v":0},{"$f":"X58*'8) DDGS Dryer'!L$30","v":0},{"$f":"Y58*'8) DDGS Dryer'!L$31","v":0},{"$f":"Z58*'8) DDGS Dryer'!L$32","v":0},{"$f":"AA58*'8) DDGS Dryer'!L$33","v":0},{"$f":"AB58*'8) DDGS Dryer'!L$34","v":0},{"$f":"AC58*'8) DDGS Dryer'!L$35","v":0},{"$f":"AD58*'8) DDGS Dryer'!L$36","v":0},{"$f":"AE58*'8) DDGS Dryer'!L$37","v":0},{"$f":"AF58*'8) DDGS Dryer'!L$38","v":0},0,null,"  Acrolein",{"$f":"IF('8) DDGS Dryer'!$O$29=\"\",AI58*8760/2000,AI58*'8) DDGS Dryer'!$O$29/2000)","v":0},{"$f":"IF('8) DDGS Dryer'!$O$30=\"\",AJ58*8760/2000,AJ58*'8) DDGS Dryer'!$O$30/2000)","v":0},{"$f":"IF('8) DDGS Dryer'!$O$31=\"\",AK58*8760/2000,AK58*'8) DDGS Dryer'!$O$31/2000)","v":0},{"$f":"IF('8) DDGS Dryer'!$O$32=\"\",AL58*8760/2000,AL58*'8) DDGS Dryer'!$O$32/2000)","v":0},{"$f":"IF('8) DDGS Dryer'!$O$33=\"\",AM58*8760/2000,AM58*'8) DDGS Dryer'!$O$33/2000)","v":0},{"$f":"IF('8) DDGS Dryer'!$O$34=\"\",AN58*8760/2000,AN58*'8) DDGS Dryer'!$O$34/2000)","v":0},{"$f":"IF('8) DDGS Dryer'!$O$35=\"\",AO58*8760/2000,AO58*'8) DDGS Dryer'!$O$35/2000)","v":0},{"$f":"IF('8) DDGS Dryer'!$O$36=\"\",AP58*8760/2000,AP58*'8) DDGS Dryer'!$O$36/2000)","v":0},{"$f":"IF('8) DDGS Dryer'!$O$37=\"\",AQ58*8760/2000,AQ58*'8) DDGS Dryer'!$O$37/2000)","v":0},{"$f":"IF('8) DDGS Dryer'!$O$38=\"\",AR58*8760/2000,AR58*'8) DDGS Dryer'!$O$38/2000)","v":0},0]
[null,null,null,null,null,null,null,null,null,{"$f":"'7) Ferm'!A51","v":"Formaldehyde"},null,null,null,null,null,null,null,null,null,null,null,"  Formaldehyde",{"$f":"IF('8) DDGS Dryer'!C91=0,K59/1020,'8) DDGS Dryer'!C91)","v":0},{"$f":"IF('8) DDGS Dryer'!D91=0,L59/1020,'8) DDGS Dryer'!D91)","v":0},{"$f":"IF('8) DDGS Dryer'!E91=0,M59/1020,'8) DDGS Dryer'!E91)","v":0},{"$f":"IF('8) DDGS Dryer'!F91=0,N59/1020,'8) DDGS Dryer'!F91)","v":0},{"$f":"IF('8) DDGS Dryer'!G91=0,O59/1020,'8) DDGS Dryer'!G91)","v":0},{"$f":"IF('8) DDGS Dryer'!H91=0,P59/1020,'8) DDGS Dryer'!H91)","v":0},{"$f":"IF('8) DDGS Dryer'!I91=0,Q59/1020,'8) DDGS Dryer'!I91)","v":0},{"$f":"IF('8) DDGS Dryer'!J91=0,R59/1020,'8) DDGS Dryer'!J91)","v":0},{"$f":"IF('8) DDGS Dryer'!K91=0,S59/1020,'8) DDGS Dryer'!K91)","v":0},{"$f":"IF('8) DDGS Dryer'!L91=0,T59/1020,'8) DDGS Dryer'!L91)","v":0},null,"  Formaldehyde",{"$f":"W59*'8) DDGS Dryer'!L$29","v":0},{"$f":"X59*'8) DDGS Dryer'!L$30","v":0},{"$f":"Y59*'8) DDGS Dryer'!L$31","v":0},{"$f":"Z59*'8) DDGS Dryer'!L$32","v":0},{"$f":"AA59*'8) DDGS Dryer'!L$33","v":0},{"$f":"AB59*'8) DDGS Dryer'!L$34","v":0},{"$f":"AC59*'8) DDGS Dryer'!L$35","v":0},{"$f":"AD59*'8) DDGS Dryer'!L$36","v":0},{"$f":"AE59*'8) DDGS Dryer'!L$37","v":0},{"$f":"AF59*'8) DDGS Dryer'!L$38","v":0},0,null,"  Formaldehyde",{"$f":"IF('8) DDGS Dryer'!$O$29=\"\",AI59*8760/2000,AI59*'8) DDGS Dryer'!$O$29/2000)","v":0},{"$f":"IF('8) DDGS Dryer'!$O$30=\"\",AJ59*8760/2000,AJ59*'8) DDGS Dryer'!$O$30/2000)","v":0},{"$f":"IF('8) DDGS Dryer'!$O$31=\"\",AK59*8760/2000,AK59*'8) DDGS Dryer'!$O$31/2000)","v":0},{"$f":"IF('8) DDGS Dryer'!$O$32=\"\",AL59*8760/2000,AL59*'8) DDGS Dryer'!$O$32/2000)","v":0},{"$f":"IF('8) DDGS Dryer'!$O$33=\"\",AM59*8760/2000,AM59*'8) DDGS Dryer'!$O$33/2000)","v":0},{"$f":"IF('8) DDGS Dryer'!$O$34=\"\",AN59*8760/2000,AN59*'8) DDGS Dryer'!$O$34/2000)","v":0},{"$f":"IF('8) DDGS Dryer'!$O$35=\"\",AO59*8760/2000,AO59*'8) DDGS Dryer'!$O$35/2000)","v":0},{"$f":"IF('8) DDGS Dryer'!$O$36=\"\",AP59*8760/2000,AP59*'8) DDGS Dryer'!$O$36/2000)","v":0},{"$f":"IF('8) DDGS Dryer'!$O$37=\"\",AQ59*8760/2000,AQ59*'8) DDGS Dryer'!$O$37/2000)","v":0},{"$f":"IF('8) DDGS Dryer'!$O$38=\"\",AR59*8760/2000,AR59*'8) DDGS Dryer'!$O$38/2000)","v":0},0]
[null,null,null,null,null,null,null,null,null,{"$f":"'7) Ferm'!A52","v":"  Methanol"},null,null,null,null,null,null,null,null,null,null,null,"  Methanol",{"$f":"IF('8) DDGS Dryer'!C92=0,K60/1020,'8) DDGS Dryer'!C92)","v":0},{"$f":"IF('8) DDGS Dryer'!D92=0,L60/1020,'8) DDGS Dryer'!D92)","v":0},{"$f":"IF('8) DDGS Dryer'!E92=0,M60/1020,'8) DDGS Dryer'!E92)","v":0},{"$f":"IF('8) DDGS Dryer'!F92=0,N60/1020,'8) DDGS Dryer'!F92)","v":0},{"$f":"IF('8) DDGS Dryer'!G92=0,O60/1020,'8) DDGS Dryer'!G92)","v":0},{"$f":"IF('8) DDGS Dryer'!H92=0,P60/1020,'8) DDGS Dryer'!H92)","v":0},{"$f":"IF('8) DDGS Dryer'!I92=0,Q60/1020,'8) DDGS Dryer'!I92)","v":0},{"$f":"IF('8) DDGS Dryer'!J92=0,R60/1020,'8) DDGS Dryer'!J92)","v":0},{"$f":"IF('8) DDGS Dryer'!K92=0,S60/1020,'8) DDGS Dryer'!K92)","v":0},{"$f":"IF('8) DDGS Dryer'!L92=0,T60/1020,'8) DDGS Dryer'!L92)","v":0},null,"  Methanol",{"$f":"W60*'8) DDGS Dryer'!L$29","v":0},{"$f":"X60*'8) DDGS Dryer'!L$30","v":0},{"$f":"Y60*'8) DDGS Dryer'!L$31","v":0},{"$f":"Z60*'8) DDGS Dryer'!L$32","v":0},{"$f":"AA60*'8) DDGS Dryer'!L$33","v":0},{"$f":"AB60*'8) DDGS Dryer'!L$34","v":0},{"$f":"AC60*'8) DDGS Dryer'!L$35","v":0},{"$f":"AD60*'8) DDGS Dryer'!L$36","v":0},{"$f":"AE60*'8) DDGS Dryer'!L$37","v":0},{"$f":"AF60*'8) DDGS Dryer'!L$38","v":0},0,null,"  Methanol",{"$f":"IF('8) DDGS Dryer'!$O$29=\"\",AI60*8760/2000,AI60*'8) DDGS Dryer'!$O$29/2000)","v":0},{"$f":"IF('8) DDGS Dryer'!$O$30=\"\",AJ60*8760/2000,AJ60*'8) DDGS Dryer'!$O$30/2000)","v":0},{"$f":"IF('8) DDGS Dryer'!$O$31=\"\",AK60*8760/2000,AK60*'8) DDGS Dryer'!$O$31/2000)","v":0},{"$f":"IF('8) DDGS Dryer'!$O$32=\"\",AL60*8760/2000,AL60*'8) DDGS Dryer'!$O$32/2000)","v":0},{"$f":"IF('8) DDGS Dryer'!$O$33=\"\",AM60*8760/2000,AM60*'8) DDGS Dryer'!$O$33/2000)","v":0},{"$f":"IF('8) DDGS Dryer'!$O$34=\"\",AN60*8760/2000,AN60*'8) DDGS Dryer'!$O$34/2000)","v":0},{"$f":"IF('8) DDGS Dryer'!$O$35=\"\",AO60*8760/2000,AO60*'8) DDGS Dryer'!$O$35/2000)","v":0},{"$f":"IF('8) DDGS Dryer'!$O$36=\"\",AP60*8760/2000,AP60*'8) DDGS Dryer'!$O$36/2000)","v":0},{"$f":"IF('8) DDGS Dryer'!$O$37=\"\",AQ60*8760/2000,AQ60*'8) DDGS Dryer'!$O$37/2000)","v":0},{"$f":"IF('8) DDGS Dryer'!$O$38=\"\",AR60*8760/2000,AR60*'8) DDGS Dryer'!$O$38/2000)","v":0},0]
[null,null,null,null,null,null,null,null,null,"  Benzene ",2.0999999999999999E-3,2.0999999999999999E-3,2.0999999999999999E-3,2.0999999999999999E-3,2.0999999999999999E-3,2.0999999999999999E-3,2.0999999999999999E-3,2.0999999999999999E-3,2.0999999999999999E-3,2.0999999999999999E-3,null,"  Benzene ",{"$f":"IF('8) DDGS Dryer'!C93=0,K61/1020,'8) DDGS Dryer'!C93)","v":2.0588235294117645E-6},{"$f":"IF('8) DDGS Dryer'!D93=0,L61/1020,'8) DDGS Dryer'!D93)","v":2.0588235294117645E-6},{"$f":"IF('8) DDGS Dryer'!E93=0,M61/1020,'8) DDGS Dryer'!E93)","v":2.0588235294117645E-6},{"$f":"IF('8) DDGS Dryer'!F93=0,N61/1020,'8) DDGS Dryer'!F93)","v":2.0588235294117645E-6},{"$f":"IF('8) DDGS Dryer'!G93=0,O61/1020,'8) DDGS Dryer'!G93)","v":2.0588235294117645E-6},{"$f":"IF('8) DDGS Dryer'!H93=0,P61/1020,'8) DDGS Dryer'!H93)","v":2.0588235294117645E-6},{"$f":"IF('8) DDGS Dryer'!I93=0,Q61/1020,'8) DDGS Dryer'!I93)","v":2.0588235294117645E-6},{"$f":"IF('8) DDGS Dryer'!J93=0,R61/1020,'8) DDGS Dryer'!J93)","v":2.0588235294117645E-6},{"$f":"IF('8) DDGS Dryer'!K93=0,S61/1020,'8) DDGS Dryer'!K93)","v":2.0588235294117645E-6},{"$f":"IF('8) DDGS Dryer'!L93=0,T61/1020,'8) DDGS Dryer'!L93)","v":2.0588235294117645E-6},null,"  Benzene ",{"$f":"W61*'8) DDGS Dryer'!L$29","v":0},{"$f":"X61*'8) DDGS Dryer'!L$30","v":0},{"$f":"Y61*'8) DDGS Dryer'!L$31","v":0},{"$f":"Z61*'8) DDGS Dryer'!L$32","v":0},{"$f":"AA61*'8) DDGS Dryer'!L$33","v":0},{"$f":"AB61*'8) DDGS Dryer'!L$34","v":0},{"$f":"AC61*'8) DDGS Dryer'!L$35","v":0},{"$f":"AD61*'8) DDGS Dryer'!L$36","v":0},{"$f":"AE61*'8) DDGS Dryer'!L$37","v":0},{"$f":"AF61*'8) DDGS Dryer'!L$38","v":0},0,null,"  Benzene ",{"$f":"IF('8) DDGS Dryer'!$O$29=\"\",AI61*8760/2000,AI61*'8) DDGS Dryer'!$O$29/2000)","v":0},{"$f":"IF('8) DDGS Dryer'!$O$30=\"\",AJ61*8760/2000,AJ61*'8) DDGS Dryer'!$O$30/2000)","v":0},{"$f":"IF('8) DDGS Dryer'!$O$31=\"\",AK61*8760/2000,AK61*'8) DDGS Dryer'!$O$31/2000)","v":0},{"$f":"IF('8) DDGS Dryer'!$O$32=\"\",AL61*8760/2000,AL61*'8) DDGS Dryer'!$O$32/2000)","v":0},{"$f":"IF('8) DDGS Dryer'!$O$33=\"\",AM61*8760/2000,AM61*'8) DDGS Dryer'!$O$33/2000)","v":0},{"$f":"IF('8) DDGS Dryer'!$O$34=\"\",AN61*8760/2000,AN61*'8) DDGS Dryer'!$O$34/2000)","v":0},{"$f":"IF('8) DDGS Dryer'!$O$35=\"\",AO61*8760/2000,AO61*'8) DDGS Dryer'!$O$35/2000)","v":0},{"$f":"IF('8) DDGS Dryer'!$O$36=\"\",AP61*8760/2000,AP61*'8) DDGS Dryer'!$O$36/2000)","v":0},{"$f":"IF('8) DDGS Dryer'!$O$37=\"\",AQ61*8760/2000,AQ61*'8) DDGS Dryer'!$O$37/2000)","v":0},{"$f":"IF('8) DDGS Dryer'!$O$38=\"\",AR61*8760/2000,AR61*'8) DDGS Dryer'!$O$38/2000)","v":0},0]
[null,null,null,null,null,null,null,null,null,"  Dichlorobenzene ",1.1999999999999999E-3,1.1999999999999999E-3,1.1999999999999999E-3,1.1999999999999999E-3,1.1999999999999999E-3,1.1999999999999999E-3,1.1999999999999999E-3,1.1999999999999999E-3,1.1999999999999999E-3,1.1999999999999999E-3,null,"  Dichlorobenzene ",{"$f":"IF('8) DDGS Dryer'!C94=0,K62/1020,'8) DDGS Dryer'!C94)","v":1.176470588235294E-6},{"$f":"IF('8) DDGS Dryer'!D94=0,L62/1020,'8) DDGS Dryer'!D94)","v":1.176470588235294E-6},{"$f":"IF('8) DDGS Dryer'!E94=0,M62/1020,'8) DDGS Dryer'!E94)","v":1.176470588235294E-6},{"$f":"IF('8) DDGS Dryer'!F94=0,N62/1020,'8) DDGS Dryer'!F94)","v":1.176470588235294E-6},{"$f":"IF('8) DDGS Dryer'!G94=0,O62/1020,'8) DDGS Dryer'!G94)","v":1.176470588235294E-6},{"$f":"IF('8) DDGS Dryer'!H94=0,P62/1020,'8) DDGS Dryer'!H94)","v":1.176470588235294E-6},{"$f":"IF('8) DDGS Dryer'!I94=0,Q62/1020,'8) DDGS Dryer'!I94)","v":1.176470588235294E-6},{"$f":"IF('8) DDGS Dryer'!J94=0,R62/1020,'8) DDGS Dryer'!J94)","v":1.176470588235294E-6},{"$f":"IF('8) DDGS Dryer'!K94=0,S62/1020,'8) DDGS Dryer'!K94)","v":1.176470588235294E-6},{"$f":"IF('8) DDGS Dryer'!L94=0,T62/1020,'8) DDGS Dryer'!L94)","v":1.176470588235294E-6},null,"  Dichlorobenzene ",{"$f":"W62*'8) DDGS Dryer'!L$29","v":0},{"$f":"X62*'8) DDGS Dryer'!L$30","v":0},{"$f":"Y62*'8) DDGS Dryer'!L$31","v":0},{"$f":"Z62*'8) DDGS Dryer'!L$32","v":0},{"$f":"AA62*'8) DDGS Dryer'!L$33","v":0},{"$f":"AB62*'8) DDGS Dryer'!L$34","v":0},{"$f":"AC62*'8) DDGS Dryer'!L$35","v":0},{"$f":"AD62*'8) DDGS Dryer'!L$36","v":0},{"$f":"AE62*'8) DDGS Dryer'!L$37","v":0},{"$f":"AF62*'8) DDGS Dryer'!L$38","v":0},0,null,"  Dichlorobenzene ",{"$f":"IF('8) DDGS Dryer'!$O$29=\"\",AI62*8760/2000,AI62*'8) DDGS Dryer'!$O$29/2000)","v":0},{"$f":"IF('8) DDGS Dryer'!$O$30=\"\",AJ62*8760/2000,AJ62*'8) DDGS Dryer'!$O$30/2000)","v":0},{"$f":"IF('8) DDGS Dryer'!$O$31=\"\",AK62*8760/2000,AK62*'8) DDGS Dryer'!$O$31/2000)","v":0},{"$f":"IF('8) DDGS Dryer'!$O$32=\"\",AL62*8760/2000,AL62*'8) DDGS Dryer'!$O$32/2000)","v":0},{"$f":"IF('8) DDGS Dryer'!$O$33=\"\",AM62*8760/2000,AM62*'8) DDGS Dryer'!$O$33/2000)","v":0},{"$f":"IF('8) DDGS Dryer'!$O$34=\"\",AN62*8760/2000,AN62*'8) DDGS Dryer'!$O$34/2000)","v":0},{"$f":"IF('8) DDGS Dryer'!$O$35=\"\",AO62*8760/2000,AO62*'8) DDGS Dryer'!$O$35/2000)","v":0},{"$f":"IF('8) DDGS Dryer'!$O$36=\"\",AP62*8760/2000,AP62*'8) DDGS Dryer'!$O$36/2000)","v":0},{"$f":"IF('8) DDGS Dryer'!$O$37=\"\",AQ62*8760/2000,AQ62*'8) DDGS Dryer'!$O$37/2000)","v":0},{"$f":"IF('8) DDGS Dryer'!$O$38=\"\",AR62*8760/2000,AR62*'8) DDGS Dryer'!$O$38/2000)","v":0},0]
[null,null,null,null,null,null,null,null,null,"  Hexane ",1.8,1.8,1.8,1.8,1.8,1.8,1.8,1.8,1.8,1.8,null,"  Hexane ",{"$f":"IF('8) DDGS Dryer'!C95=0,K63/1020,'8) DDGS Dryer'!C95)","v":1.7647058823529412E-3},{"$f":"IF('8) DDGS Dryer'!D95=0,L63/1020,'8) DDGS Dryer'!D95)","v":1.7647058823529412E-3},{"$f":"IF('8) DDGS Dryer'!E95=0,M63/1020,'8) DDGS Dryer'!E95)","v":1.7647058823529412E-3},{"$f":"IF('8) DDGS Dryer'!F95=0,N63/1020,'8) DDGS Dryer'!F95)","v":1.7647058823529412E-3},{"$f":"IF('8) DDGS Dryer'!G95=0,O63/1020,'8) DDGS Dryer'!G95)","v":1.7647058823529412E-3},{"$f":"IF('8) DDGS Dryer'!H95=0,P63/1020,'8) DDGS Dryer'!H95)","v":1.7647058823529412E-3},{"$f":"IF('8) DDGS Dryer'!I95=0,Q63/1020,'8) DDGS Dryer'!I95)","v":1.7647058823529412E-3},{"$f":"IF('8) DDGS Dryer'!J95=0,R63/1020,'8) DDGS Dryer'!J95)","v":1.7647058823529412E-3},{"$f":"IF('8) DDGS Dryer'!K95=0,S63/1020,'8) DDGS Dryer'!K95)","v":1.7647058823529412E-3},{"$f":"IF('8) DDGS Dryer'!L95=0,T63/1020,'8) DDGS Dryer'!L95)","v":1.7647058823529412E-3},null,"  Hexane ",{"$f":"W63*'8) DDGS Dryer'!L$29","v":0},{"$f":"X63*'8) DDGS Dryer'!L$30","v":0},{"$f":"Y63*'8) DDGS Dryer'!L$31","v":0},{"$f":"Z63*'8) DDGS Dryer'!L$32","v":0},{"$f":"AA63*'8) DDGS Dryer'!L$33","v":0},{"$f":"AB63*'8) DDGS Dryer'!L$34","v":0},{"$f":"AC63*'8) DDGS Dryer'!L$35","v":0},{"$f":"AD63*'8) DDGS Dryer'!L$36","v":0},{"$f":"AE63*'8) DDGS Dryer'!L$37","v":0},{"$f":"AF63*'8) DDGS Dryer'!L$38","v":0},{"$f":"SUM(AI63:AR63)","v":0},null,"  Hexane ",{"$f":"IF('8) DDGS Dryer'!$O$29=\"\",AI63*8760/2000,AI63*'8) DDGS Dryer'!$O$29/2000)","v":0},{"$f":"IF('8) DDGS Dryer'!$O$30=\"\",AJ63*8760/2000,AJ63*'8) DDGS Dryer'!$O$30/2000)","v":0},{"$f":"IF('8) DDGS Dryer'!$O$31=\"\",AK63*8760/2000,AK63*'8) DDGS Dryer'!$O$31/2000)","v":0},{"$f":"IF('8) DDGS Dryer'!$O$32=\"\",AL63*8760/2000,AL63*'8) DDGS Dryer'!$O$32/2000)","v":0},{"$f":"IF('8) DDGS Dryer'!$O$33=\"\",AM63*8760/2000,AM63*'8) DDGS Dryer'!$O$33/2000)","v":0},{"$f":"IF('8) DDGS Dryer'!$O$34=\"\",AN63*8760/2000,AN63*'8) DDGS Dryer'!$O$34/2000)","v":0},{"$f":"IF('8) DDGS Dryer'!$O$35=\"\",AO63*8760/2000,AO63*'8) DDGS Dryer'!$O$35/2000)","v":0},{"$f":"IF('8) DDGS Dryer'!$O$36=\"\",AP63*8760/2000,AP63*'8) DDGS Dryer'!$O$36/2000)","v":0},{"$f":"IF('8) DDGS Dryer'!$O$37=\"\",AQ63*8760/2000,AQ63*'8) DDGS Dryer'!$O$37/2000)","v":0},{"$f":"IF('8) DDGS Dryer'!$O$38=\"\",AR63*8760/2000,AR63*'8) DDGS Dryer'!$O$38/2000)","v":0},0]
[null,null,null,null,null,null,null,null,null,"  Lead Compounds",5.0000000000000001E-4,5.0000000000000001E-4,5.0000000000000001E-4,5.0000000000000001E-4,5.0000000000000001E-4,5.0000000000000001E-4,5.0000000000000001E-4,5.0000000000000001E-4,5.0000000000000001E-4,5.0000000000000001E-4,null,"  Lead Compounds",{"$f":"IF('8) DDGS Dryer'!C96=0,K64/1020,'8) DDGS Dryer'!C96)","v":4.9019607843137254E-7},{"$f":"IF('8) DDGS Dryer'!D96=0,L64/1020,'8) DDGS Dryer'!D96)","v":4.9019607843137254E-7},{"$f":"IF('8) DDGS Dryer'!E96=0,M64/1020,'8) DDGS Dryer'!E96)","v":4.9019607843137254E-7},{"$f":"IF('8) DDGS Dryer'!F96=0,N64/1020,'8) DDGS Dryer'!F96)","v":4.9019607843137254E-7},{"$f":"IF('8) DDGS Dryer'!G96=0,O64/1020,'8) DDGS Dryer'!G96)","v":4.9019607843137254E-7},{"$f":"IF('8) DDGS Dryer'!H96=0,P64/1020,'8) DDGS Dryer'!H96)","v":4.9019607843137254E-7},{"$f":"IF('8) DDGS Dryer'!I96=0,Q64/1020,'8) DDGS Dryer'!I96)","v":4.9019607843137254E-7},{"$f":"IF('8) DDGS Dryer'!J96=0,R64/1020,'8) DDGS Dryer'!J96)","v":4.9019607843137254E-7},{"$f":"IF('8) DDGS Dryer'!K96=0,S64/1020,'8) DDGS Dryer'!K96)","v":4.9019607843137254E-7},{"$f":"IF('8) DDGS Dryer'!L96=0,T64/1020,'8) DDGS Dryer'!L96)","v":4.9019607843137254E-7},null,"  Lead Compounds",{"$f":"W64*'8) DDGS Dryer'!L$29","v":0},{"$f":"X64*'8) DDGS Dryer'!L$30","v":0},{"$f":"Y64*'8) DDGS Dryer'!L$31","v":0},{"$f":"Z64*'8) DDGS Dryer'!L$32","v":0},{"$f":"AA64*'8) DDGS Dryer'!L$33","v":0},{"$f":"AB64*'8) DDGS Dryer'!L$34","v":0},{"$f":"AC64*'8) DDGS Dryer'!L$35","v":0},{"$f":"AD64*'8) DDGS Dryer'!L$36","v":0},{"$f":"AE64*'8) DDGS Dryer'!L$37","v":0},{"$f":"AF64*'8) DDGS Dryer'!L$38","v":0},0,null,"  Lead Compounds",{"$f":"IF('8) DDGS Dryer'!$O$29=\"\",AI64*8760/2000,AI64*'8) DDGS Dryer'!$O$29/2000)","v":0},{"$f":"IF('8) DDGS Dryer'!$O$30=\"\",AJ64*8760/2000,AJ64*'8) DDGS Dryer'!$O$30/2000)","v":0},{"$f":"IF('8) DDGS Dryer'!$O$31=\"\",AK64*8760/2000,AK64*'8) DDGS Dryer'!$O$31/2000)","v":0},{"$f":"IF('8) DDGS Dryer'!$O$32=\"\",AL64*8760/2000,AL64*'8) DDGS Dryer'!$O$32/2000)","v":0},{"$f":"IF('8) DDGS Dryer'!$O$33=\"\",AM64*8760/2000,AM64*'8) DDGS Dryer'!$O$33/2000)","v":0},{"$f":"IF('8) DDGS Dryer'!$O$34=\"\",AN64*8760/2000,AN64*'8) DDGS Dryer'!$O$34/2000)","v":0},{"$f":"IF('8) DDGS Dryer'!$O$35=\"\",AO64*8760/2000,AO64*'8) DDGS Dryer'!$O$35/2000)","v":0},{"$f":"IF('8) DDGS Dryer'!$O$36=\"\",AP64*8760/2000,AP64*'8) DDGS Dryer'!$O$36/2000)","v":0},{"$f":"IF('8) DDGS Dryer'!$O$37=\"\",AQ64*8760/2000,AQ64*'8) DDGS Dryer'!$O$37/2000)","v":0},{"$f":"IF('8) DDGS Dryer'!$O$38=\"\",AR64*8760/2000,AR64*'8) DDGS Dryer'!$O$38/2000)","v":0},0]
[null,null,null,null,null,null,null,null,null,"  Naphthalene ",6.0999999999999997E-4,6.0999999999999997E-4,6.0999999999999997E-4,6.0999999999999997E-4,6.0999999999999997E-4,6.0999999999999997E-4,6.0999999999999997E-4,6.0999999999999997E-4,6.0999999999999997E-4,6.0999999999999997E-4,null,"  Naphthalene ",{"$f":"IF('8) DDGS Dryer'!C97=0,K65/1020,'8) DDGS Dryer'!C97)","v":5.9803921568627444E-7},{"$f":"IF('8) DDGS Dryer'!D97=0,L65/1020,'8) DDGS Dryer'!D97)","v":5.9803921568627444E-7},{"$f":"IF('8) DDGS Dryer'!E97=0,M65/1020,'8) DDGS Dryer'!E97)","v":5.9803921568627444E-7},{"$f":"IF('8) DDGS Dryer'!F97=0,N65/1020,'8) DDGS Dryer'!F97)","v":5.9803921568627444E-7},{"$f":"IF('8) DDGS Dryer'!G97=0,O65/1020,'8) DDGS Dryer'!G97)","v":5.9803921568627444E-7},{"$f":"IF('8) DDGS Dryer'!H97=0,P65/1020,'8) DDGS Dryer'!H97)","v":5.9803921568627444E-7},{"$f":"IF('8) DDGS Dryer'!I97=0,Q65/1020,'8) DDGS Dryer'!I97)","v":5.9803921568627444E-7},{"$f":"IF('8) DDGS Dryer'!J97=0,R65/1020,'8) DDGS Dryer'!J97)","v":5.9803921568627444E-7},{"$f":"IF('8) DDGS Dryer'!K97=0,S65/1020,'8) DDGS Dryer'!K97)","v":5.9803921568627444E-7},{"$f":"IF('8) DDGS Dryer'!L97=0,T65/1020,'8) DDGS Dryer'!L97)","v":5.9803921568627444E-7},null,"  Naphthalene ",{"$f":"W65*'8) DDGS Dryer'!L$29","v":0},{"$f":"X65*'8) DDGS Dryer'!L$30","v":0},{"$f":"Y65*'8) DDGS Dryer'!L$31","v":0},{"$f":"Z65*'8) DDGS Dryer'!L$32","v":0},{"$f":"AA65*'8) DDGS Dryer'!L$33","v":0},{"$f":"AB65*'8) DDGS Dryer'!L$34","v":0},{"$f":"AC65*'8) DDGS Dryer'!L$35","v":0},{"$f":"AD65*'8) DDGS Dryer'!L$36","v":0},{"$f":"AE65*'8) DDGS Dryer'!L$37","v":0},{"$f":"AF65*'8) DDGS Dryer'!L$38","v":0},0,null,"  Naphthalene ",{"$f":"IF('8) DDGS Dryer'!$O$29=\"\",AI65*8760/2000,AI65*'8) DDGS Dryer'!$O$29/2000)","v":0},{"$f":"IF('8) DDGS Dryer'!$O$30=\"\",AJ65*8760/2000,AJ65*'8) DDGS Dryer'!$O$30/2000)","v":0},{"$f":"IF('8) DDGS Dryer'!$O$31=\"\",AK65*8760/2000,AK65*'8) DDGS Dryer'!$O$31/2000)","v":0},{"$f":"IF('8) DDGS Dryer'!$O$32=\"\",AL65*8760/2000,AL65*'8) DDGS Dryer'!$O$32/2000)","v":0},{"$f":"IF('8) DDGS Dryer'!$O$33=\"\",AM65*8760/2000,AM65*'8) DDGS Dryer'!$O$33/2000)","v":0},{"$f":"IF('8) DDGS Dryer'!$O$34=\"\",AN65*8760/2000,AN65*'8) DDGS Dryer'!$O$34/2000)","v":0},{"$f":"IF('8) DDGS Dryer'!$O$35=\"\",AO65*8760/2000,AO65*'8) DDGS Dryer'!$O$35/2000)","v":0},{"$f":"IF('8) DDGS Dryer'!$O$36=\"\",AP65*8760/2000,AP65*'8) DDGS Dryer'!$O$36/2000)","v":0},{"$f":"IF('8) DDGS Dryer'!$O$37=\"\",AQ65*8760/2000,AQ65*'8) DDGS Dryer'!$O$37/2000)","v":0},{"$f":"IF('8) DDGS Dryer'!$O$38=\"\",AR65*8760/2000,AR65*'8) DDGS Dryer'!$O$38/2000)","v":0},0]
[null,null,null,null,null,null,null,null,null,"  Polycyclic Organic Matter ",8.8200000000000003E-5,8.8200000000000003E-5,8.8200000000000003E-5,8.8200000000000003E-5,8.8200000000000003E-5,8.8200000000000003E-5,8.8200000000000003E-5,8.8200000000000003E-5,8.8200000000000003E-5,8.8200000000000003E-5,null,"  Polycyclic Organic Matter ",{"$f":"IF('8) DDGS Dryer'!C98=0,K66/1020,'8) DDGS Dryer'!C98)","v":8.6470588235294114E-8},{"$f":"IF('8) DDGS Dryer'!D98=0,L66/1020,'8) DDGS Dryer'!D98)","v":8.6470588235294114E-8},{"$f":"IF('8) DDGS Dryer'!E98=0,M66/1020,'8) DDGS Dryer'!E98)","v":8.6470588235294114E-8},{"$f":"IF('8) DDGS Dryer'!F98=0,N66/1020,'8) DDGS Dryer'!F98)","v":8.6470588235294114E-8},{"$f":"IF('8) DDGS Dryer'!G98=0,O66/1020,'8) DDGS Dryer'!G98)","v":8.6470588235294114E-8},{"$f":"IF('8) DDGS Dryer'!H98=0,P66/1020,'8) DDGS Dryer'!H98)","v":8.6470588235294114E-8},{"$f":"IF('8) DDGS Dryer'!I98=0,Q66/1020,'8) DDGS Dryer'!I98)","v":8.6470588235294114E-8},{"$f":"IF('8) DDGS Dryer'!J98=0,R66/1020,'8) DDGS Dryer'!J98)","v":8.6470588235294114E-8},{"$f":"IF('8) DDGS Dryer'!K98=0,S66/1020,'8) DDGS Dryer'!K98)","v":8.6470588235294114E-8},{"$f":"IF('8) DDGS Dryer'!L98=0,T66/1020,'8) DDGS Dryer'!L98)","v":8.6470588235294114E-8},null,"  Polycyclic Organic Matter ",{"$f":"W66*'8) DDGS Dryer'!L$29","v":0},{"$f":"X66*'8) DDGS Dryer'!L$30","v":0},{"$f":"Y66*'8) DDGS Dryer'!L$31","v":0},{"$f":"Z66*'8) DDGS Dryer'!L$32","v":0},{"$f":"AA66*'8) DDGS Dryer'!L$33","v":0},{"$f":"AB66*'8) DDGS Dryer'!L$34","v":0},{"$f":"AC66*'8) DDGS Dryer'!L$35","v":0},{"$f":"AD66*'8) DDGS Dryer'!L$36","v":0},{"$f":"AE66*'8) DDGS Dryer'!L$37","v":0},{"$f":"AF66*'8) DDGS Dryer'!L$38","v":0},0,null,"  Polycyclic Organic Matter ",{"$f":"IF('8) DDGS Dryer'!$O$29=\"\",AI66*8760/2000,AI66*'8) DDGS Dryer'!$O$29/2000)","v":0},{"$f":"IF('8) DDGS Dryer'!$O$30=\"\",AJ66*8760/2000,AJ66*'8) DDGS Dryer'!$O$30/2000)","v":0},{"$f":"IF('8) DDGS Dryer'!$O$31=\"\",AK66*8760/2000,AK66*'8) DDGS Dryer'!$O$31/2000)","v":0},{"$f":"IF('8) DDGS Dryer'!$O$32=\"\",AL66*8760/2000,AL66*'8) DDGS Dryer'!$O$32/2000)","v":0},{"$f":"IF('8) DDGS Dryer'!$O$33=\"\",AM66*8760/2000,AM66*'8) DDGS Dryer'!$O$33/2000)","v":0},{"$f":"IF('8) DDGS Dryer'!$O$34=\"\",AN66*8760/2000,AN66*'8) DDGS Dryer'!$O$34/2000)","v":0},{"$f":"IF('8) DDGS Dryer'!$O$35=\"\",AO66*8760/2000,AO66*'8) DDGS Dryer'!$O$35/2000)","v":0},{"$f":"IF('8) DDGS Dryer'!$O$36=\"\",AP66*8760/2000,AP66*'8) DDGS Dryer'!$O$36/2000)","v":0},{"$f":"IF('8) DDGS Dryer'!$O$37=\"\",AQ66*8760/2000,AQ66*'8) DDGS Dryer'!$O$37/2000)","v":0},{"$f":"IF('8) DDGS Dryer'!$O$38=\"\",AR66*8760/2000,AR66*'8) DDGS Dryer'!$O$38/2000)","v":0},0]
[null,null,null,null,null,null,null,null,null,"  Toluene ",3.3999999999999998E-3,3.3999999999999998E-3,3.3999999999999998E-3,3.3999999999999998E-3,3.3999999999999998E-3,3.3999999999999998E-3,3.3999999999999998E-3,3.3999999999999998E-3,3.3999999999999998E-3,3.3999999999999998E-3,null,"  Toluene ",{"$f":"IF('8) DDGS Dryer'!C99=0,K67/1020,'8) DDGS Dryer'!C99)","v":3.3333333333333333E-6},{"$f":"IF('8) DDGS Dryer'!D99=0,L67/1020,'8) DDGS Dryer'!D99)","v":3.3333333333333333E-6},{"$f":"IF('8) DDGS Dryer'!E99=0,M67/1020,'8) DDGS Dryer'!E99)","v":3.3333333333333333E-6},{"$f":"IF('8) DDGS Dryer'!F99=0,N67/1020,'8) DDGS Dryer'!F99)","v":3.3333333333333333E-6},{"$f":"IF('8) DDGS Dryer'!G99=0,O67/1020,'8) DDGS Dryer'!G99)","v":3.3333333333333333E-6},{"$f":"IF('8) DDGS Dryer'!H99=0,P67/1020,'8) DDGS Dryer'!H99)","v":3.3333333333333333E-6},{"$f":"IF('8) DDGS Dryer'!I99=0,Q67/1020,'8) DDGS Dryer'!I99)","v":3.3333333333333333E-6},{"$f":"IF('8) DDGS Dryer'!J99=0,R67/1020,'8) DDGS Dryer'!J99)","v":3.3333333333333333E-6},{"$f":"IF('8) DDGS Dryer'!K99=0,S67/1020,'8) DDGS Dryer'!K99)","v":3.3333333333333333E-6},{"$f":"IF('8) DDGS Dryer'!L99=0,T67/1020,'8) DDGS Dryer'!L99)","v":3.3333333333333333E-6},null,"  Toluene ",{"$f":"W67*'8) DDGS Dryer'!L$29","v":0},{"$f":"X67*'8) DDGS Dryer'!L$30","v":0},{"$f":"Y67*'8) DDGS Dryer'!L$31","v":0},{"$f":"Z67*'8) DDGS Dryer'!L$32","v":0},{"$f":"AA67*'8) DDGS Dryer'!L$33","v":0},{"$f":"AB67*'8) DDGS Dryer'!L$34","v":0},{"$f":"AC67*'8) DDGS Dryer'!L$35","v":0},{"$f":"AD67*'8) DDGS Dryer'!L$36","v":0},{"$f":"AE67*'8) DDGS Dryer'!L$37","v":0},{"$f":"AF67*'8) DDGS Dryer'!L$38","v":0},0,null,"  Toluene ",{"$f":"IF('8) DDGS Dryer'!$O$29=\"\",AI67*8760/2000,AI67*'8) DDGS Dryer'!$O$29/2000)","v":0},{"$f":"IF('8) DDGS Dryer'!$O$30=\"\",AJ67*8760/2000,AJ67*'8) DDGS Dryer'!$O$30/2000)","v":0},{"$f":"IF('8) DDGS Dryer'!$O$31=\"\",AK67*8760/2000,AK67*'8) DDGS Dryer'!$O$31/2000)","v":0},{"$f":"IF('8) DDGS Dryer'!$O$32=\"\",AL67*8760/2000,AL67*'8) DDGS Dryer'!$O$32/2000)","v":0},{"$f":"IF('8) DDGS Dryer'!$O$33=\"\",AM67*8760/2000,AM67*'8) DDGS Dryer'!$O$33/2000)","v":0},{"$f":"IF('8) DDGS Dryer'!$O$34=\"\",AN67*8760/2000,AN67*'8) DDGS Dryer'!$O$34/2000)","v":0},{"$f":"IF('8) DDGS Dryer'!$O$35=\"\",AO67*8760/2000,AO67*'8) DDGS Dryer'!$O$35/2000)","v":0},{"$f":"IF('8) DDGS Dryer'!$O$36=\"\",AP67*8760/2000,AP67*'8) DDGS Dryer'!$O$36/2000)","v":0},{"$f":"IF('8) DDGS Dryer'!$O$37=\"\",AQ67*8760/2000,AQ67*'8) DDGS Dryer'!$O$37/2000)","v":0},{"$f":"IF('8) DDGS Dryer'!$O$38=\"\",AR67*8760/2000,AR67*'8) DDGS Dryer'!$O$38/2000)","v":0},0]
[null,null,null,null,null,null,null,null,null,"  Arsenic Compounds",2.0000000000000001E-4,2.0000000000000001E-4,2.0000000000000001E-4,2.0000000000000001E-4,2.0000000000000001E-4,2.0000000000000001E-4,2.0000000000000001E-4,2.0000000000000001E-4,2.0000000000000001E-4,2.0000000000000001E-4,null,"  Arsenic Compounds",{"$f":"IF('8) DDGS Dryer'!C100=0,K68/1020,'8) DDGS Dryer'!C100)","v":1.9607843137254904E-7},{"$f":"IF('8) DDGS Dryer'!D100=0,L68/1020,'8) DDGS Dryer'!D100)","v":1.9607843137254904E-7},{"$f":"IF('8) DDGS Dryer'!E100=0,M68/1020,'8) DDGS Dryer'!E100)","v":1.9607843137254904E-7},{"$f":"IF('8) DDGS Dryer'!F100=0,N68/1020,'8) DDGS Dryer'!F100)","v":1.9607843137254904E-7},{"$f":"IF('8) DDGS Dryer'!G100=0,O68/1020,'8) DDGS Dryer'!G100)","v":1.9607843137254904E-7},{"$f":"IF('8) DDGS Dryer'!H100=0,P68/1020,'8) DDGS Dryer'!H100)","v":1.9607843137254904E-7},{"$f":"IF('8) DDGS Dryer'!I100=0,Q68/1020,'8) DDGS Dryer'!I100)","v":1.9607843137254904E-7},{"$f":"IF('8) DDGS Dryer'!J100=0,R68/1020,'8) DDGS Dryer'!J100)","v":1.9607843137254904E-7},{"$f":"IF('8) DDGS Dryer'!K100=0,S68/1020,'8) DDGS Dryer'!K100)","v":1.9607843137254904E-7},{"$f":"IF('8) DDGS Dryer'!L100=0,T68/1020,'8) DDGS Dryer'!L100)","v":1.9607843137254904E-7},null,"  Arsenic Compounds",{"$f":"W68*'8) DDGS Dryer'!L$29","v":0},{"$f":"X68*'8) DDGS Dryer'!L$30","v":0},{"$f":"Y68*'8) DDGS Dryer'!L$31","v":0},{"$f":"Z68*'8) DDGS Dryer'!L$32","v":0},{"$f":"AA68*'8) DDGS Dryer'!L$33","v":0},{"$f":"AB68*'8) DDGS Dryer'!L$34","v":0},{"$f":"AC68*'8) DDGS Dryer'!L$35","v":0},{"$f":"AD68*'8) DDGS Dryer'!L$36","v":0},{"$f":"AE68*'8) DDGS Dryer'!L$37","v":0},{"$f":"AF68*'8) DDGS Dryer'!L$38","v":0},0,null,"  Arsenic Compounds",{"$f":"IF('8) DDGS Dryer'!$O$29=\"\",AI68*8760/2000,AI68*'8) DDGS Dryer'!$O$29/2000)","v":0},{"$f":"IF('8) DDGS Dryer'!$O$30=\"\",AJ68*8760/2000,AJ68*'8) DDGS Dryer'!$O$30/2000)","v":0},{"$f":"IF('8) DDGS Dryer'!$O$31=\"\",AK68*8760/2000,AK68*'8) DDGS Dryer'!$O$31/2000)","v":0},{"$f":"IF('8) DDGS Dryer'!$O$32=\"\",AL68*8760/2000,AL68*'8) DDGS Dryer'!$O$32/2000)","v":0},{"$f":"IF('8) DDGS Dryer'!$O$33=\"\",AM68*8760/2000,AM68*'8) DDGS Dryer'!$O$33/2000)","v":0},{"$f":"IF('8) DDGS Dryer'!$O$34=\"\",AN68*8760/2000,AN68*'8) DDGS Dryer'!$O$34/2000)","v":0},{"$f":"IF('8) DDGS Dryer'!$O$35=\"\",AO68*8760/2000,AO68*'8) DDGS Dryer'!$O$35/2000)","v":0},{"$f":"IF('8) DDGS Dryer'!$O$36=\"\",AP68*8760/2000,AP68*'8) DDGS Dryer'!$O$36/2000)","v":0},{"$f":"IF('8) DDGS Dryer'!$O$37=\"\",AQ68*8760/2000,AQ68*'8) DDGS Dryer'!$O$37/2000)","v":0},{"$f":"IF('8) DDGS Dryer'!$O$38=\"\",AR68*8760/2000,AR68*'8) DDGS Dryer'!$O$38/2000)","v":0},0]
[null,null,null,null,null,null,null,null,null,"  Beryllium Compounds",1.2E-5,1.2E-5,1.2E-5,1.2E-5,1.2E-5,1.2E-5,1.2E-5,1.2E-5,1.2E-5,1.2E-5,null,"  Beryllium Compounds",{"$f":"IF('8) DDGS Dryer'!C101=0,K69/1020,'8) DDGS Dryer'!C101)","v":1.1764705882352941E-8},{"$f":"IF('8) DDGS Dryer'!D101=0,L69/1020,'8) DDGS Dryer'!D101)","v":1.1764705882352941E-8},{"$f":"IF('8) DDGS Dryer'!E101=0,M69/1020,'8) DDGS Dryer'!E101)","v":1.1764705882352941E-8},{"$f":"IF('8) DDGS Dryer'!F101=0,N69/1020,'8) DDGS Dryer'!F101)","v":1.1764705882352941E-8},{"$f":"IF('8) DDGS Dryer'!G101=0,O69/1020,'8) DDGS Dryer'!G101)","v":1.1764705882352941E-8},{"$f":"IF('8) DDGS Dryer'!H101=0,P69/1020,'8) DDGS Dryer'!H101)","v":1.1764705882352941E-8},{"$f":"IF('8) DDGS Dryer'!I101=0,Q69/1020,'8) DDGS Dryer'!I101)","v":1.1764705882352941E-8},{"$f":"IF('8) DDGS Dryer'!J101=0,R69/1020,'8) DDGS Dryer'!J101)","v":1.1764705882352941E-8},{"$f":"IF('8) DDGS Dryer'!K101=0,S69/1020,'8) DDGS Dryer'!K101)","v":1.1764705882352941E-8},{"$f":"IF('8) DDGS Dryer'!L101=0,T69/1020,'8) DDGS Dryer'!L101)","v":1.1764705882352941E-8},null,"  Beryllium Compounds",{"$f":"W69*'8) DDGS Dryer'!L$29","v":0},{"$f":"X69*'8) DDGS Dryer'!L$30","v":0},{"$f":"Y69*'8) DDGS Dryer'!L$31","v":0},{"$f":"Z69*'8) DDGS Dryer'!L$32","v":0},{"$f":"AA69*'8) DDGS Dryer'!L$33","v":0},{"$f":"AB69*'8) DDGS Dryer'!L$34","v":0},{"$f":"AC69*'8) DDGS Dryer'!L$35","v":0},{"$f":"AD69*'8) DDGS Dryer'!L$36","v":0},{"$f":"AE69*'8) DDGS Dryer'!L$37","v":0},{"$f":"AF69*'8) DDGS Dryer'!L$38","v":0},0,null,"  Beryllium Compounds",{"$f":"IF('8) DDGS Dryer'!$O$29=\"\",AI69*8760/2000,AI69*'8) DDGS Dryer'!$O$29/2000)","v":0},{"$f":"IF('8) DDGS Dryer'!$O$30=\"\",AJ69*8760/2000,AJ69*'8) DDGS Dryer'!$O$30/2000)","v":0},{"$f":"IF('8) DDGS Dryer'!$O$31=\"\",AK69*8760/2000,AK69*'8) DDGS Dryer'!$O$31/2000)","v":0},{"$f":"IF('8) DDGS Dryer'!$O$32=\"\",AL69*8760/2000,AL69*'8) DDGS Dryer'!$O$32/2000)","v":0},{"$f":"IF('8) DDGS Dryer'!$O$33=\"\",AM69*8760/2000,AM69*'8) DDGS Dryer'!$O$33/2000)","v":0},{"$f":"IF('8) DDGS Dryer'!$O$34=\"\",AN69*8760/2000,AN69*'8) DDGS Dryer'!$O$34/2000)","v":0},{"$f":"IF('8) DDGS Dryer'!$O$35=\"\",AO69*8760/2000,AO69*'8) DDGS Dryer'!$O$35/2000)","v":0},{"$f":"IF('8) DDGS Dryer'!$O$36=\"\",AP69*8760/2000,AP69*'8) DDGS Dryer'!$O$36/2000)","v":0},{"$f":"IF('8) DDGS Dryer'!$O$37=\"\",AQ69*8760/2000,AQ69*'8) DDGS Dryer'!$O$37/2000)","v":0},{"$f":"IF('8) DDGS Dryer'!$O$38=\"\",AR69*8760/2000,AR69*'8) DDGS Dryer'!$O$38/2000)","v":0},0]
[null,null,null,null,null,null,null,null,null,"  Cadmium Compounds",1.1000000000000001E-3,1.1000000000000001E-3,1.1000000000000001E-3,1.1000000000000001E-3,1.1000000000000001E-3,1.1000000000000001E-3,1.1000000000000001E-3,1.1000000000000001E-3,1.1000000000000001E-3,1.1000000000000001E-3,null,"  Cadmium Compounds",{"$f":"IF('8) DDGS Dryer'!C102=0,K70/1020,'8) DDGS Dryer'!C102)","v":1.0784313725490197E-6},{"$f":"IF('8) DDGS Dryer'!D102=0,L70/1020,'8) DDGS Dryer'!D102)","v":1.0784313725490197E-6},{"$f":"IF('8) DDGS Dryer'!E102=0,M70/1020,'8) DDGS Dryer'!E102)","v":1.0784313725490197E-6},{"$f":"IF('8) DDGS Dryer'!F102=0,N70/1020,'8) DDGS Dryer'!F102)","v":1.0784313725490197E-6},{"$f":"IF('8) DDGS Dryer'!G102=0,O70/1020,'8) DDGS Dryer'!G102)","v":1.0784313725490197E-6},{"$f":"IF('8) DDGS Dryer'!H102=0,P70/1020,'8) DDGS Dryer'!H102)","v":1.0784313725490197E-6},{"$f":"IF('8) DDGS Dryer'!I102=0,Q70/1020,'8) DDGS Dryer'!I102)","v":1.0784313725490197E-6},{"$f":"IF('8) DDGS Dryer'!J102=0,R70/1020,'8) DDGS Dryer'!J102)","v":1.0784313725490197E-6},{"$f":"IF('8) DDGS Dryer'!K102=0,S70/1020,'8) DDGS Dryer'!K102)","v":1.0784313725490197E-6},{"$f":"IF('8) DDGS Dryer'!L102=0,T70/1020,'8) DDGS Dryer'!L102)","v":1.0784313725490197E-6},null,"  Cadmium Compounds",{"$f":"W70*'8) DDGS Dryer'!L$29","v":0},{"$f":"X70*'8) DDGS Dryer'!L$30","v":0},{"$f":"Y70*'8) DDGS Dryer'!L$31","v":0},{"$f":"Z70*'8) DDGS Dryer'!L$32","v":0},{"$f":"AA70*'8) DDGS Dryer'!L$33","v":0},{"$f":"AB70*'8) DDGS Dryer'!L$34","v":0},{"$f":"AC70*'8) DDGS Dryer'!L$35","v":0},{"$f":"AD70*'8) DDGS Dryer'!L$36","v":0},{"$f":"AE70*'8) DDGS Dryer'!L$37","v":0},{"$f":"AF70*'8) DDGS Dryer'!L$38","v":0},0,null,"  Cadmium Compounds",{"$f":"IF('8) DDGS Dryer'!$O$29=\"\",AI70*8760/2000,AI70*'8) DDGS Dryer'!$O$29/2000)","v":0},{"$f":"IF('8) DDGS Dryer'!$O$30=\"\",AJ70*8760/2000,AJ70*'8) DDGS Dryer'!$O$30/2000)","v":0},{"$f":"IF('8) DDGS Dryer'!$O$31=\"\",AK70*8760/2000,AK70*'8) DDGS Dryer'!$O$31/2000)","v":0},{"$f":"IF('8) DDGS Dryer'!$O$32=\"\",AL70*8760/2000,AL70*'8) DDGS Dryer'!$O$32/2000)","v":0},{"$f":"IF('8) DDGS Dryer'!$O$33=\"\",AM70*8760/2000,AM70*'8) DDGS Dryer'!$O$33/2000)","v":0},{"$f":"IF('8) DDGS Dryer'!$O$34=\"\",AN70*8760/2000,AN70*'8) DDGS Dryer'!$O$34/2000)","v":0},{"$f":"IF('8) DDGS Dryer'!$O$35=\"\",AO70*8760/2000,AO70*'8) DDGS Dryer'!$O$35/2000)","v":0},{"$f":"IF('8) DDGS Dryer'!$O$36=\"\",AP70*8760/2000,AP70*'8) DDGS Dryer'!$O$36/2000)","v":0},{"$f":"IF('8) DDGS Dryer'!$O$37=\"\",AQ70*8760/2000,AQ70*'8) DDGS Dryer'!$O$37/2000)","v":0},{"$f":"IF('8) DDGS Dryer'!$O$38=\"\",AR70*8760/2000,AR70*'8) DDGS Dryer'!$O$38/2000)","v":0},0]
[null,null,null,null,null,null,null,null,null,"  Chromium Compounds",1.4E-3,1.4E-3,1.4E-3,1.4E-3,1.4E-3,1.4E-3,1.4E-3,1.4E-3,1.4E-3,1.4E-3,null,"  Chromium Compounds",{"$f":"IF('8) DDGS Dryer'!C103=0,K71/1020,'8) DDGS Dryer'!C103)","v":1.3725490196078432E-6},{"$f":"IF('8) DDGS Dryer'!D103=0,L71/1020,'8) DDGS Dryer'!D103)","v":1.3725490196078432E-6},{"$f":"IF('8) DDGS Dryer'!E103=0,M71/1020,'8) DDGS Dryer'!E103)","v":1.3725490196078432E-6},{"$f":"IF('8) DDGS Dryer'!F103=0,N71/1020,'8) DDGS Dryer'!F103)","v":1.3725490196078432E-6},{"$f":"IF('8) DDGS Dryer'!G103=0,O71/1020,'8) DDGS Dryer'!G103)","v":1.3725490196078432E-6},{"$f":"IF('8) DDGS Dryer'!H103=0,P71/1020,'8) DDGS Dryer'!H103)","v":1.3725490196078432E-6},{"$f":"IF('8) DDGS Dryer'!I103=0,Q71/1020,'8) DDGS Dryer'!I103)","v":1.3725490196078432E-6},{"$f":"IF('8) DDGS Dryer'!J103=0,R71/1020,'8) DDGS Dryer'!J103)","v":1.3725490196078432E-6},{"$f":"IF('8) DDGS Dryer'!K103=0,S71/1020,'8) DDGS Dryer'!K103)","v":1.3725490196078432E-6},{"$f":"IF('8) DDGS Dryer'!L103=0,T71/1020,'8) DDGS Dryer'!L103)","v":1.3725490196078432E-6},null,"  Chromium Compounds",{"$f":"W71*'8) DDGS Dryer'!L$29","v":0},{"$f":"X71*'8) DDGS Dryer'!L$30","v":0},{"$f":"Y71*'8) DDGS Dryer'!L$31","v":0},{"$f":"Z71*'8) DDGS Dryer'!L$32","v":0},{"$f":"AA71*'8) DDGS Dryer'!L$33","v":0},{"$f":"AB71*'8) DDGS Dryer'!L$34","v":0},{"$f":"AC71*'8) DDGS Dryer'!L$35","v":0},{"$f":"AD71*'8) DDGS Dryer'!L$36","v":0},{"$f":"AE71*'8) DDGS Dryer'!L$37","v":0},{"$f":"AF71*'8) DDGS Dryer'!L$38","v":0},0,null,"  Chromium Compounds",{"$f":"IF('8) DDGS Dryer'!$O$29=\"\",AI71*8760/2000,AI71*'8) DDGS Dryer'!$O$29/2000)","v":0},{"$f":"IF('8) DDGS Dryer'!$O$30=\"\",AJ71*8760/2000,AJ71*'8) DDGS Dryer'!$O$30/2000)","v":0},{"$f":"IF('8) DDGS Dryer'!$O$31=\"\",AK71*8760/2000,AK71*'8) DDGS Dryer'!$O$31/2000)","v":0},{"$f":"IF('8) DDGS Dryer'!$O$32=\"\",AL71*8760/2000,AL71*'8) DDGS Dryer'!$O$32/2000)","v":0},{"$f":"IF('8) DDGS Dryer'!$O$33=\"\",AM71*8760/2000,AM71*'8) DDGS Dryer'!$O$33/2000)","v":0},{"$f":"IF('8) DDGS Dryer'!$O$34=\"\",AN71*8760/2000,AN71*'8) DDGS Dryer'!$O$34/2000)","v":0},{"$f":"IF('8) DDGS Dryer'!$O$35=\"\",AO71*8760/2000,AO71*'8) DDGS Dryer'!$O$35/2000)","v":0},{"$f":"IF('8) DDGS Dryer'!$O$36=\"\",AP71*8760/2000,AP71*'8) DDGS Dryer'!$O$36/2000)","v":0},{"$f":"IF('8) DDGS Dryer'!$O$37=\"\",AQ71*8760/2000,AQ71*'8) DDGS Dryer'!$O$37/2000)","v":0},{"$f":"IF('8) DDGS Dryer'!$O$38=\"\",AR71*8760/2000,AR71*'8) DDGS Dryer'!$O$38/2000)","v":0},0]
[null,null,null,null,null,null,null,null,null,"  Cobalt Compounds",8.3999999999999995E-5,8.3999999999999995E-5,8.3999999999999995E-5,8.3999999999999995E-5,8.3999999999999995E-5,8.3999999999999995E-5,8.3999999999999995E-5,8.3999999999999995E-5,8.3999999999999995E-5,8.3999999999999995E-5,null,"  Cobalt Compounds",{"$f":"IF('8) DDGS Dryer'!C104=0,K72/1020,'8) DDGS Dryer'!C104)","v":8.2352941176470587E-8},{"$f":"IF('8) DDGS Dryer'!D104=0,L72/1020,'8) DDGS Dryer'!D104)","v":8.2352941176470587E-8},{"$f":"IF('8) DDGS Dryer'!E104=0,M72/1020,'8) DDGS Dryer'!E104)","v":8.2352941176470587E-8},{"$f":"IF('8) DDGS Dryer'!F104=0,N72/1020,'8) DDGS Dryer'!F104)","v":8.2352941176470587E-8},{"$f":"IF('8) DDGS Dryer'!G104=0,O72/1020,'8) DDGS Dryer'!G104)","v":8.2352941176470587E-8},{"$f":"IF('8) DDGS Dryer'!H104=0,P72/1020,'8) DDGS Dryer'!H104)","v":8.2352941176470587E-8},{"$f":"IF('8) DDGS Dryer'!I104=0,Q72/1020,'8) DDGS Dryer'!I104)","v":8.2352941176470587E-8},{"$f":"IF('8) DDGS Dryer'!J104=0,R72/1020,'8) DDGS Dryer'!J104)","v":8.2352941176470587E-8},{"$f":"IF('8) DDGS Dryer'!K104=0,S72/1020,'8) DDGS Dryer'!K104)","v":8.2352941176470587E-8},{"$f":"IF('8) DDGS Dryer'!L104=0,T72/1020,'8) DDGS Dryer'!L104)","v":8.2352941176470587E-8},null,"  Cobalt Compounds",{"$f":"W72*'8) DDGS Dryer'!L$29","v":0},{"$f":"X72*'8) DDGS Dryer'!L$30","v":0},{"$f":"Y72*'8) DDGS Dryer'!L$31","v":0},{"$f":"Z72*'8) DDGS Dryer'!L$32","v":0},{"$f":"AA72*'8) DDGS Dryer'!L$33","v":0},{"$f":"AB72*'8) DDGS Dryer'!L$34","v":0},{"$f":"AC72*'8) DDGS Dryer'!L$35","v":0},{"$f":"AD72*'8) DDGS Dryer'!L$36","v":0},{"$f":"AE72*'8) DDGS Dryer'!L$37","v":0},{"$f":"AF72*'8) DDGS Dryer'!L$38","v":0},0,null,"  Cobalt Compounds",{"$f":"IF('8) DDGS Dryer'!$O$29=\"\",AI72*8760/2000,AI72*'8) DDGS Dryer'!$O$29/2000)","v":0},{"$f":"IF('8) DDGS Dryer'!$O$30=\"\",AJ72*8760/2000,AJ72*'8) DDGS Dryer'!$O$30/2000)","v":0},{"$f":"IF('8) DDGS Dryer'!$O$31=\"\",AK72*8760/2000,AK72*'8) DDGS Dryer'!$O$31/2000)","v":0},{"$f":"IF('8) DDGS Dryer'!$O$32=\"\",AL72*8760/2000,AL72*'8) DDGS Dryer'!$O$32/2000)","v":0},{"$f":"IF('8) DDGS Dryer'!$O$33=\"\",AM72*8760/2000,AM72*'8) DDGS Dryer'!$O$33/2000)","v":0},{"$f":"IF('8) DDGS Dryer'!$O$34=\"\",AN72*8760/2000,AN72*'8) DDGS Dryer'!$O$34/2000)","v":0},{"$f":"IF('8) DDGS Dryer'!$O$35=\"\",AO72*8760/2000,AO72*'8) DDGS Dryer'!$O$35/2000)","v":0},{"$f":"IF('8) DDGS Dryer'!$O$36=\"\",AP72*8760/2000,AP72*'8) DDGS Dryer'!$O$36/2000)","v":0},{"$f":"IF('8) DDGS Dryer'!$O$37=\"\",AQ72*8760/2000,AQ72*'8) DDGS Dryer'!$O$37/2000)","v":0},{"$f":"IF('8) DDGS Dryer'!$O$38=\"\",AR72*8760/2000,AR72*'8) DDGS Dryer'!$O$38/2000)","v":0},0]
[null,null,null,null,null,null,null,null,null,"  Manganese Compounds",3.8000000000000002E-4,3.8000000000000002E-4,3.8000000000000002E-4,3.8000000000000002E-4,3.8000000000000002E-4,3.8000000000000002E-4,3.8000000000000002E-4,3.8000000000000002E-4,3.8000000000000002E-4,3.8000000000000002E-4,null,"  Manganese Compounds",{"$f":"IF('8) DDGS Dryer'!C105=0,K73/1020,'8) DDGS Dryer'!C105)","v":3.7254901960784315E-7},{"$f":"IF('8) DDGS Dryer'!D105=0,L73/1020,'8) DDGS Dryer'!D105)","v":3.7254901960784315E-7},{"$f":"IF('8) DDGS Dryer'!E105=0,M73/1020,'8) DDGS Dryer'!E105)","v":3.7254901960784315E-7},{"$f":"IF('8) DDGS Dryer'!F105=0,N73/1020,'8) DDGS Dryer'!F105)","v":3.7254901960784315E-7},{"$f":"IF('8) DDGS Dryer'!G105=0,O73/1020,'8) DDGS Dryer'!G105)","v":3.7254901960784315E-7},{"$f":"IF('8) DDGS Dryer'!H105=0,P73/1020,'8) DDGS Dryer'!H105)","v":3.7254901960784315E-7},{"$f":"IF('8) DDGS Dryer'!I105=0,Q73/1020,'8) DDGS Dryer'!I105)","v":3.7254901960784315E-7},{"$f":"IF('8) DDGS Dryer'!J105=0,R73/1020,'8) DDGS Dryer'!J105)","v":3.7254901960784315E-7},{"$f":"IF('8) DDGS Dryer'!K105=0,S73/1020,'8) DDGS Dryer'!K105)","v":3.7254901960784315E-7},{"$f":"IF('8) DDGS Dryer'!L105=0,T73/1020,'8) DDGS Dryer'!L105)","v":3.7254901960784315E-7},null,"  Manganese Compounds",{"$f":"W73*'8) DDGS Dryer'!L$29","v":0},{"$f":"X73*'8) DDGS Dryer'!L$30","v":0},{"$f":"Y73*'8) DDGS Dryer'!L$31","v":0},{"$f":"Z73*'8) DDGS Dryer'!L$32","v":0},{"$f":"AA73*'8) DDGS Dryer'!L$33","v":0},{"$f":"AB73*'8) DDGS Dryer'!L$34","v":0},{"$f":"AC73*'8) DDGS Dryer'!L$35","v":0},{"$f":"AD73*'8) DDGS Dryer'!L$36","v":0},{"$f":"AE73*'8) DDGS Dryer'!L$37","v":0},{"$f":"AF73*'8) DDGS Dryer'!L$38","v":0},0,null,"  Manganese Compounds",{"$f":"IF('8) DDGS Dryer'!$O$29=\"\",AI73*8760/2000,AI73*'8) DDGS Dryer'!$O$29/2000)","v":0},{"$f":"IF('8) DDGS Dryer'!$O$30=\"\",AJ73*8760/2000,AJ73*'8) DDGS Dryer'!$O$30/2000)","v":0},{"$f":"IF('8) DDGS Dryer'!$O$31=\"\",AK73*8760/2000,AK73*'8) DDGS Dryer'!$O$31/2000)","v":0},{"$f":"IF('8) DDGS Dryer'!$O$32=\"\",AL73*8760/2000,AL73*'8) DDGS Dryer'!$O$32/2000)","v":0},{"$f":"IF('8) DDGS Dryer'!$O$33=\"\",AM73*8760/2000,AM73*'8) DDGS Dryer'!$O$33/2000)","v":0},{"$f":"IF('8) DDGS Dryer'!$O$34=\"\",AN73*8760/2000,AN73*'8) DDGS Dryer'!$O$34/2000)","v":0},{"$f":"IF('8) DDGS Dryer'!$O$35=\"\",AO73*8760/2000,AO73*'8) DDGS Dryer'!$O$35/2000)","v":0},{"$f":"IF('8) DDGS Dryer'!$O$36=\"\",AP73*8760/2000,AP73*'8) DDGS Dryer'!$O$36/2000)","v":0},{"$f":"IF('8) DDGS Dryer'!$O$37=\"\",AQ73*8760/2000,AQ73*'8) DDGS Dryer'!$O$37/2000)","v":0},{"$f":"IF('8) DDGS Dryer'!$O$38=\"\",AR73*8760/2000,AR73*'8) DDGS Dryer'!$O$38/2000)","v":0},0]
[null,null,null,null,null,null,null,null,null,"  Mercury Compounds",2.5999999999999998E-4,2.5999999999999998E-4,2.5999999999999998E-4,2.5999999999999998E-4,2.5999999999999998E-4,2.5999999999999998E-4,2.5999999999999998E-4,2.5999999999999998E-4,2.5999999999999998E-4,2.5999999999999998E-4,null,"  Mercury Compounds",{"$f":"IF('8) DDGS Dryer'!C106=0,K74/1020,'8) DDGS Dryer'!C106)","v":2.5490196078431371E-7},{"$f":"IF('8) DDGS Dryer'!D106=0,L74/1020,'8) DDGS Dryer'!D106)","v":2.5490196078431371E-7},{"$f":"IF('8) DDGS Dryer'!E106=0,M74/1020,'8) DDGS Dryer'!E106)","v":2.5490196078431371E-7},{"$f":"IF('8) DDGS Dryer'!F106=0,N74/1020,'8) DDGS Dryer'!F106)","v":2.5490196078431371E-7},{"$f":"IF('8) DDGS Dryer'!G106=0,O74/1020,'8) DDGS Dryer'!G106)","v":2.5490196078431371E-7},{"$f":"IF('8) DDGS Dryer'!H106=0,P74/1020,'8) DDGS Dryer'!H106)","v":2.5490196078431371E-7},{"$f":"IF('8) DDGS Dryer'!I106=0,Q74/1020,'8) DDGS Dryer'!I106)","v":2.5490196078431371E-7},{"$f":"IF('8) DDGS Dryer'!J106=0,R74/1020,'8) DDGS Dryer'!J106)","v":2.5490196078431371E-7},{"$f":"IF('8) DDGS Dryer'!K106=0,S74/1020,'8) DDGS Dryer'!K106)","v":2.5490196078431371E-7},{"$f":"IF('8) DDGS Dryer'!L106=0,T74/1020,'8) DDGS Dryer'!L106)","v":2.5490196078431371E-7},null,"  Mercury Compounds",{"$f":"W74*'8) DDGS Dryer'!L$29","v":0},{"$f":"X74*'8) DDGS Dryer'!L$30","v":0},{"$f":"Y74*'8) DDGS Dryer'!L$31","v":0},{"$f":"Z74*'8) DDGS Dryer'!L$32","v":0},{"$f":"AA74*'8) DDGS Dryer'!L$33","v":0},{"$f":"AB74*'8) DDGS Dryer'!L$34","v":0},{"$f":"AC74*'8) DDGS Dryer'!L$35","v":0},{"$f":"AD74*'8) DDGS Dryer'!L$36","v":0},{"$f":"AE74*'8) DDGS Dryer'!L$37","v":0},{"$f":"AF74*'8) DDGS Dryer'!L$38","v":0},0,null,"  Mercury Compounds",{"$f":"IF('8) DDGS Dryer'!$O$29=\"\",AI74*8760/2000,AI74*'8) DDGS Dryer'!$O$29/2000)","v":0},{"$f":"IF('8) DDGS Dryer'!$O$30=\"\",AJ74*8760/2000,AJ74*'8) DDGS Dryer'!$O$30/2000)","v":0},{"$f":"IF('8) DDGS Dryer'!$O$31=\"\",AK74*8760/2000,AK74*'8) DDGS Dryer'!$O$31/2000)","v":0},{"$f":"IF('8) DDGS Dryer'!$O$32=\"\",AL74*8760/2000,AL74*'8) DDGS Dryer'!$O$32/2000)","v":0},{"$f":"IF('8) DDGS Dryer'!$O$33=\"\",AM74*8760/2000,AM74*'8) DDGS Dryer'!$O$33/2000)","v":0},{"$f":"IF('8) DDGS Dryer'!$O$34=\"\",AN74*8760/2000,AN74*'8) DDGS Dryer'!$O$34/2000)","v":0},{"$f":"IF('8) DDGS Dryer'!$O$35=\"\",AO74*8760/2000,AO74*'8) DDGS Dryer'!$O$35/2000)","v":0},{"$f":"IF('8) DDGS Dryer'!$O$36=\"\",AP74*8760/2000,AP74*'8) DDGS Dryer'!$O$36/2000)","v":0},{"$f":"IF('8) DDGS Dryer'!$O$37=\"\",AQ74*8760/2000,AQ74*'8) DDGS Dryer'!$O$37/2000)","v":0},{"$f":"IF('8) DDGS Dryer'!$O$38=\"\",AR74*8760/2000,AR74*'8) DDGS Dryer'!$O$38/2000)","v":0},0]
[null,null,null,null,null,null,null,null,null,"  Nickel Compounds",2.0999999999999999E-3,2.0999999999999999E-3,2.0999999999999999E-3,2.0999999999999999E-3,2.0999999999999999E-3,2.0999999999999999E-3,2.0999999999999999E-3,2.0999999999999999E-3,2.0999999999999999E-3,2.0999999999999999E-3,null,"  Nickel Compounds",{"$f":"IF('8) DDGS Dryer'!C107=0,K75/1020,'8) DDGS Dryer'!C107)","v":2.0588235294117645E-6},{"$f":"IF('8) DDGS Dryer'!D107=0,L75/1020,'8) DDGS Dryer'!D107)","v":2.0588235294117645E-6},{"$f":"IF('8) DDGS Dryer'!E107=0,M75/1020,'8) DDGS Dryer'!E107)","v":2.0588235294117645E-6},{"$f":"IF('8) DDGS Dryer'!F107=0,N75/1020,'8) DDGS Dryer'!F107)","v":2.0588235294117645E-6},{"$f":"IF('8) DDGS Dryer'!G107=0,O75/1020,'8) DDGS Dryer'!G107)","v":2.0588235294117645E-6},{"$f":"IF('8) DDGS Dryer'!H107=0,P75/1020,'8) DDGS Dryer'!H107)","v":2.0588235294117645E-6},{"$f":"IF('8) DDGS Dryer'!I107=0,Q75/1020,'8) DDGS Dryer'!I107)","v":2.0588235294117645E-6},{"$f":"IF('8) DDGS Dryer'!J107=0,R75/1020,'8) DDGS Dryer'!J107)","v":2.0588235294117645E-6},{"$f":"IF('8) DDGS Dryer'!K107=0,S75/1020,'8) DDGS Dryer'!K107)","v":2.0588235294117645E-6},{"$f":"IF('8) DDGS Dryer'!L107=0,T75/1020,'8) DDGS Dryer'!L107)","v":2.0588235294117645E-6},null,"  Nickel Compounds",{"$f":"W75*'8) DDGS Dryer'!L$29","v":0},{"$f":"X75*'8) DDGS Dryer'!L$30","v":0},{"$f":"Y75*'8) DDGS Dryer'!L$31","v":0},{"$f":"Z75*'8) DDGS Dryer'!L$32","v":0},{"$f":"AA75*'8) DDGS Dryer'!L$33","v":0},{"$f":"AB75*'8) DDGS Dryer'!L$34","v":0},{"$f":"AC75*'8) DDGS Dryer'!L$35","v":0},{"$f":"AD75*'8) DDGS Dryer'!L$36","v":0},{"$f":"AE75*'8) DDGS Dryer'!L$37","v":0},{"$f":"AF75*'8) DDGS Dryer'!L$38","v":0},0,null,"  Nickel Compounds",{"$f":"IF('8) DDGS Dryer'!$O$29=\"\",AI75*8760/2000,AI75*'8) DDGS Dryer'!$O$29/2000)","v":0},{"$f":"IF('8) DDGS Dryer'!$O$30=\"\",AJ75*8760/2000,AJ75*'8) DDGS Dryer'!$O$30/2000)","v":0},{"$f":"IF('8) DDGS Dryer'!$O$31=\"\",AK75*8760/2000,AK75*'8) DDGS Dryer'!$O$31/2000)","v":0},{"$f":"IF('8) DDGS Dryer'!$O$32=\"\",AL75*8760/2000,AL75*'8) DDGS Dryer'!$O$32/2000)","v":0},{"$f":"IF('8) DDGS Dryer'!$O$33=\"\",AM75*8760/2000,AM75*'8) DDGS Dryer'!$O$33/2000)","v":0},{"$f":"IF('8) DDGS Dryer'!$O$34=\"\",AN75*8760/2000,AN75*'8) DDGS Dryer'!$O$34/2000)","v":0},{"$f":"IF('8) DDGS Dryer'!$O$35=\"\",AO75*8760/2000,AO75*'8) DDGS Dryer'!$O$35/2000)","v":0},{"$f":"IF('8) DDGS Dryer'!$O$36=\"\",AP75*8760/2000,AP75*'8) DDGS Dryer'!$O$36/2000)","v":0},{"$f":"IF('8) DDGS Dryer'!$O$37=\"\",AQ75*8760/2000,AQ75*'8) DDGS Dryer'!$O$37/2000)","v":0},{"$f":"IF('8) DDGS Dryer'!$O$38=\"\",AR75*8760/2000,AR75*'8) DDGS Dryer'!$O$38/2000)","v":0},0]
[null,null,null,null,null,null,null,null,null,"  Selenium Compounds",2.4000000000000001E-5,2.4000000000000001E-5,2.4000000000000001E-5,2.4000000000000001E-5,2.4000000000000001E-5,2.4000000000000001E-5,2.4000000000000001E-5,2.4000000000000001E-5,2.4000000000000001E-5,2.4000000000000001E-5,null,"  Selenium Compounds",{"$f":"IF('8) DDGS Dryer'!C108=0,K76/1020,'8) DDGS Dryer'!C108)","v":2.3529411764705881E-8},{"$f":"IF('8) DDGS Dryer'!D108=0,L76/1020,'8) DDGS Dryer'!D108)","v":2.3529411764705881E-8},{"$f":"IF('8) DDGS Dryer'!E108=0,M76/1020,'8) DDGS Dryer'!E108)","v":2.3529411764705881E-8},{"$f":"IF('8) DDGS Dryer'!F108=0,N76/1020,'8) DDGS Dryer'!F108)","v":2.3529411764705881E-8},{"$f":"IF('8) DDGS Dryer'!G108=0,O76/1020,'8) DDGS Dryer'!G108)","v":2.3529411764705881E-8},{"$f":"IF('8) DDGS Dryer'!H108=0,P76/1020,'8) DDGS Dryer'!H108)","v":2.3529411764705881E-8},{"$f":"IF('8) DDGS Dryer'!I108=0,Q76/1020,'8) DDGS Dryer'!I108)","v":2.3529411764705881E-8},{"$f":"IF('8) DDGS Dryer'!J108=0,R76/1020,'8) DDGS Dryer'!J108)","v":2.3529411764705881E-8},{"$f":"IF('8) DDGS Dryer'!K108=0,S76/1020,'8) DDGS Dryer'!K108)","v":2.3529411764705881E-8},{"$f":"IF('8) DDGS Dryer'!L108=0,T76/1020,'8) DDGS Dryer'!L108)","v":2.3529411764705881E-8},null,"  Selenium Compounds",{"$f":"W76*'8) DDGS Dryer'!L$29","v":0},{"$f":"X76*'8) DDGS Dryer'!L$30","v":0},{"$f":"Y76*'8) DDGS Dryer'!L$31","v":0},{"$f":"Z76*'8) DDGS Dryer'!L$32","v":0},{"$f":"AA76*'8) DDGS Dryer'!L$33","v":0},{"$f":"AB76*'8) DDGS Dryer'!L$34","v":0},{"$f":"AC76*'8) DDGS Dryer'!L$35","v":0},{"$f":"AD76*'8) DDGS Dryer'!L$36","v":0},{"$f":"AE76*'8) DDGS Dryer'!L$37","v":0},{"$f":"AF76*'8) DDGS Dryer'!L$38","v":0},0,null,"  Selenium Compounds",{"$f":"IF('8) DDGS Dryer'!$O$29=\"\",AI76*8760/2000,AI76*'8) DDGS Dryer'!$O$29/2000)","v":0},{"$f":"IF('8) DDGS Dryer'!$O$30=\"\",AJ76*8760/2000,AJ76*'8) DDGS Dryer'!$O$30/2000)","v":0},{"$f":"IF('8) DDGS Dryer'!$O$31=\"\",AK76*8760/2000,AK76*'8) DDGS Dryer'!$O$31/2000)","v":0},{"$f":"IF('8) DDGS Dryer'!$O$32=\"\",AL76*8760/2000,AL76*'8) DDGS Dryer'!$O$32/2000)","v":0},{"$f":"IF('8) DDGS Dryer'!$O$33=\"\",AM76*8760/2000,AM76*'8) DDGS Dryer'!$O$33/2000)","v":0},{"$f":"IF('8) DDGS Dryer'!$O$34=\"\",AN76*8760/2000,AN76*'8) DDGS Dryer'!$O$34/2000)","v":0},{"$f":"IF('8) DDGS Dryer'!$O$35=\"\",AO76*8760/2000,AO76*'8) DDGS Dryer'!$O$35/2000)","v":0},{"$f":"IF('8) DDGS Dryer'!$O$36=\"\",AP76*8760/2000,AP76*'8) DDGS Dryer'!$O$36/2000)","v":0},{"$f":"IF('8) DDGS Dryer'!$O$37=\"\",AQ76*8760/2000,AQ76*'8) DDGS Dryer'!$O$37/2000)","v":0},{"$f":"IF('8) DDGS Dryer'!$O$38=\"\",AR76*8760/2000,AR76*'8) DDGS Dryer'!$O$38/2000)","v":0},0]
[null,null,null,null,null,null,null,null,null,"Total HAPs",null,null,null,null,null,null,null,null,null,null,null,"Total HAPs",{"$f":"IF('8) DDGS Dryer'!C109=0,K77/1020,'8) DDGS Dryer'!C109)","v":0},{"$f":"IF('8) DDGS Dryer'!D109=0,L77/1020,'8) DDGS Dryer'!D109)","v":0},{"$f":"IF('8) DDGS Dryer'!E109=0,M77/1020,'8) DDGS Dryer'!E109)","v":0},{"$f":"IF('8) DDGS Dryer'!F109=0,N77/1020,'8) DDGS Dryer'!F109)","v":0},{"$f":"IF('8) DDGS Dryer'!G109=0,O77/1020,'8) DDGS Dryer'!G109)","v":0},{"$f":"IF('8) DDGS Dryer'!H109=0,P77/1020,'8) DDGS Dryer'!H109)","v":0},{"$f":"IF('8) DDGS Dryer'!I109=0,Q77/1020,'8) DDGS Dryer'!I109)","v":0},{"$f":"IF('8) DDGS Dryer'!J109=0,R77/1020,'8) DDGS Dryer'!J109)","v":0},{"$f":"IF('8) DDGS Dryer'!K109=0,S77/1020,'8) DDGS Dryer'!K109)","v":0},{"$f":"IF('8) DDGS Dryer'!L109=0,T77/1020,'8) DDGS Dryer'!L109)","v":0},null,"Total HAPs",{"$f":"SUM(AI57:AI76)","v":0},{"$f":"SUM(AJ57:AJ76)","v":0},0,0,0,0,0,0,0,0,0,null,"Total HAPs",{"$f":"IF('8) DDGS Dryer'!$O$29=\"\",AI77*8760/2000,AI77*'8) DDGS Dryer'!$O$29/2000)","v":0},{"$f":"IF('8) DDGS Dryer'!$O$30=\"\",AJ77*8760/2000,AJ77*'8) DDGS Dryer'!$O$30/2000)","v":0},{"$f":"IF('8) DDGS Dryer'!$O$31=\"\",AK77*8760/2000,AK77*'8) DDGS Dryer'!$O$31/2000)","v":0},{"$f":"IF('8) DDGS Dryer'!$O$32=\"\",AL77*8760/2000,AL77*'8) DDGS Dryer'!$O$32/2000)","v":0},{"$f":"IF('8) DDGS Dryer'!$O$33=\"\",AM77*8760/2000,AM77*'8) DDGS Dryer'!$O$33/2000)","v":0},{"$f":"IF('8) DDGS Dryer'!$O$34=\"\",AN77*8760/2000,AN77*'8) DDGS Dryer'!$O$34/2000)","v":0},{"$f":"IF('8) DDGS Dryer'!$O$35=\"\",AO77*8760/2000,AO77*'8) DDGS Dryer'!$O$35/2000)","v":0},{"$f":"IF('8) DDGS Dryer'!$O$36=\"\",AP77*8760/2000,AP77*'8) DDGS Dryer'!$O$36/2000)","v":0},{"$f":"IF('8) DDGS Dryer'!$O$37=\"\",AQ77*8760/2000,AQ77*'8) DDGS Dryer'!$O$37/2000)","v":0},{"$f":"IF('8) DDGS Dryer'!$O$38=\"\",AR77*8760/2000,AR77*'8) DDGS Dryer'!$O$38/2000)","v":0},0]
[null,null,null,null,null,null,null,null,null,"Greenhouse Gases (GHG)","(lb/MMBtu)"]
[null,null,null,null,null,null,null,null,null,"  Carbon Dioxide (CO2)",{"$f":"53.06*2.20462","v":116.9771372},{"$f":"53.06*2.20462","v":116.9771372},116.9771372,116.9771372,116.9771372,116.9771372,116.9771372,116.9771372,116.9771372,116.9771372,null,"  Carbon Dioxide (CO2)",{"$f":"IF('8) DDGS Dryer'!C111=0,K79,'8) DDGS Dryer'!C111)","v":116.9771372},{"$f":"IF('8) DDGS Dryer'!D111=0,L79,'8) DDGS Dryer'!D111)","v":116.9771372},{"$f":"IF('8) DDGS Dryer'!E111=0,M79,'8) DDGS Dryer'!E111)","v":116.9771372},{"$f":"IF('8) DDGS Dryer'!F111=0,N79,'8) DDGS Dryer'!F111)","v":116.9771372},{"$f":"IF('8) DDGS Dryer'!G111=0,O79,'8) DDGS Dryer'!G111)","v":116.9771372},{"$f":"IF('8) DDGS Dryer'!H111=0,P79,'8) DDGS Dryer'!H111)","v":116.9771372},{"$f":"IF('8) DDGS Dryer'!I111=0,Q79,'8) DDGS Dryer'!I111)","v":116.9771372},{"$f":"IF('8) DDGS Dryer'!J111=0,R79,'8) DDGS Dryer'!J111)","v":116.9771372},{"$f":"IF('8) DDGS Dryer'!K111=0,S79,'8) DDGS Dryer'!K111)","v":116.9771372},{"$f":"IF('8) DDGS Dryer'!L111=0,T79,'8) DDGS Dryer'!L111)","v":116.9771372},null,"  Carbon Dioxide (CO2)",{"$f":"W79*'8) DDGS Dryer'!L$29","v":0},{"$f":"X79*'8) DDGS Dryer'!L$30","v":0},{"$f":"Y79*'8) DDGS Dryer'!L$31","v":0},{"$f":"Z79*'8) DDGS Dryer'!L$32","v":0},{"$f":"AA79*'8) DDGS Dryer'!L$33","v":0},{"$f":"AB79*'8) DDGS Dryer'!L$34","v":0},{"$f":"AC79*'8) DDGS Dryer'!L$35","v":0},{"$f":"AD79*'8) DDGS Dryer'!L$36","v":0},{"$f":"AE79*'8) DDGS Dryer'!L$37","v":0},{"$f":"AF79*'8) DDGS Dryer'!L$38","v":0},{"$f":"SUM(AI79:AR79)","v":0},null,"  Carbon Dioxide (CO2)",{"$f":"IF('8) DDGS Dryer'!$O$29=\"\",AI79*8760/2000,AI79*'8) DDGS Dryer'!$O$29/2000)","v":0},{"$f":"IF('8) DDGS Dryer'!$O$30=\"\",AJ79*8760/2000,AJ79*'8) DDGS Dryer'!$O$30/2000)","v":0},{"$f":"IF('8) DDGS Dryer'!$O$31=\"\",AK79*8760/2000,AK79*'8) DDGS Dryer'!$O$31/2000)","v":0},{"$f":"IF('8) DDGS Dryer'!$O$32=\"\",AL79*8760/2000,AL79*'8) DDGS Dryer'!$O$32/2000)","v":0},{"$f":"IF('8) DDGS Dryer'!$O$33=\"\",AM79*8760/2000,AM79*'8) DDGS Dryer'!$O$33/2000)","v":0},{"$f":"IF('8) DDGS Dryer'!$O$34=\"\",AN79*8760/2000,AN79*'8) DDGS Dryer'!$O$34/2000)","v":0},{"$f":"IF('8) DDGS Dryer'!$O$35=\"\",AO79*8760/2000,AO79*'8) DDGS Dryer'!$O$35/2000)","v":0},{"$f":"IF('8) DDGS Dryer'!$O$36=\"\",AP79*8760/2000,AP79*'8) DDGS Dryer'!$O$36/2000)","v":0},{"$f":"IF('8) DDGS Dryer'!$O$37=\"\",AQ79*8760/2000,AQ79*'8) DDGS Dryer'!$O$37/2000)","v":0},{"$f":"IF('8) DDGS Dryer'!$O$38=\"\",AR79*8760/2000,AR79*'8) DDGS Dryer'!$O$38/2000)","v":0},{"$f":"SUM(AV79:BE79)","v":0}]
[null,null,null,null,null,null,null,null,null,"  Methane (CH4)",{"$f":"0.001*2.20462","v":2.20462E-3},{"$f":"0.001*2.20462","v":2.20462E-3},2.20462E-3,2.20462E-3,2.20462E-3,2.20462E-3,2.20462E-3,2.20462E-3,2.20462E-3,2.20462E-3,null,"  Methane (CH4)",{"$f":"IF('8) DDGS Dryer'!C112=0,K80,'8) DDGS Dryer'!C112)","v":2.20462E-3},{"$f":"IF('8) DDGS Dryer'!D112=0,L80,'8) DDGS Dryer'!D112)","v":2.20462E-3},{"$f":"IF('8) DDGS Dryer'!E112=0,M80,'8) DDGS Dryer'!E112)","v":2.20462E-3},{"$f":"IF('8) DDGS Dryer'!F112=0,N80,'8) DDGS Dryer'!F112)","v":2.20462E-3},{"$f":"IF('8) DDGS Dryer'!G112=0,O80,'8) DDGS Dryer'!G112)","v":2.20462E-3},{"$f":"IF('8) DDGS Dryer'!H112=0,P80,'8) DDGS Dryer'!H112)","v":2.20462E-3},{"$f":"IF('8) DDGS Dryer'!I112=0,Q80,'8) DDGS Dryer'!I112)","v":2.20462E-3},{"$f":"IF('8) DDGS Dryer'!J112=0,R80,'8) DDGS Dryer'!J112)","v":2.20462E-3},{"$f":"IF('8) DDGS Dryer'!K112=0,S80,'8) DDGS Dryer'!K112)","v":2.20462E-3},{"$f":"IF('8) DDGS Dryer'!L112=0,T80,'8) DDGS Dryer'!L112)","v":2.20462E-3},null,"  Methane (CH4)",{"$f":"W80*'8) DDGS Dryer'!L$29","v":0},{"$f":"X80*'8) DDGS Dryer'!L$30","v":0},{"$f":"Y80*'8) DDGS Dryer'!L$31","v":0},{"$f":"Z80*'8) DDGS Dryer'!L$32","v":0},{"$f":"AA80*'8) DDGS Dryer'!L$33","v":0},{"$f":"AB80*'8) DDGS Dryer'!L$34","v":0},{"$f":"AC80*'8) DDGS Dryer'!L$35","v":0},{"$f":"AD80*'8) DDGS Dryer'!L$36","v":0},{"$f":"AE80*'8) DDGS Dryer'!L$37","v":0},{"$f":"AF80*'8) DDGS Dryer'!L$38","v":0},0,null,"  Methane (CH4)",{"$f":"IF('8) DDGS Dryer'!$O$29=\"\",AI80*8760/2000,AI80*'8) DDGS Dryer'!$O$29/2000)","v":0},{"$f":"IF('8) DDGS Dryer'!$O$30=\"\",AJ80*8760/2000,AJ80*'8) DDGS Dryer'!$O$30/2000)","v":0},{"$f":"IF('8) DDGS Dryer'!$O$31=\"\",AK80*8760/2000,AK80*'8) DDGS Dryer'!$O$31/2000)","v":0},{"$f":"IF('8) DDGS Dryer'!$O$32=\"\",AL80*8760/2000,AL80*'8) DDGS Dryer'!$O$32/2000)","v":0},{"$f":"IF('8) DDGS Dryer'!$O$33=\"\",AM80*8760/2000,AM80*'8) DDGS Dryer'!$O$33/2000)","v":0},{"$f":"IF('8) DDGS Dryer'!$O$34=\"\",AN80*8760/2000,AN80*'8) DDGS Dryer'!$O$34/2000)","v":0},{"$f":"IF('8) DDGS Dryer'!$O$35=\"\",AO80*8760/2000,AO80*'8) DDGS Dryer'!$O$35/2000)","v":0},{"$f":"IF('8) DDGS Dryer'!$O$36=\"\",AP80*8760/2000,AP80*'8) DDGS Dryer'!$O$36/2000)","v":0},{"$f":"IF('8) DDGS Dryer'!$O$37=\"\",AQ80*8760/2000,AQ80*'8) DDGS Dryer'!$O$37/2000)","v":0},{"$f":"IF('8) DDGS Dryer'!$O$38=\"\",AR80*8760/2000,AR80*'8) DDGS Dryer'!$O$38/2000)","v":0},0]
[null,null,null,null,null,null,null,null,null,"  Nitrous Oxide (N2O)",{"$f":"0.0001*2.20462","v":2.2046199999999999E-4},{"$f":"0.0001*2.20462","v":2.2046199999999999E-4},2.2046199999999999E-4,2.2046199999999999E-4,2.2046199999999999E-4,2.2046199999999999E-4,2.2046199999999999E-4,2.2046199999999999E-4,2.2046199999999999E-4,2.2046199999999999E-4,null,"  Nitrous Oxide (N2O)",{"$f":"IF('8) DDGS Dryer'!C113=0,K81,'8) DDGS Dryer'!C113)","v":2.2046199999999999E-4},{"$f":"IF('8) DDGS Dryer'!D113=0,L81,'8) DDGS Dryer'!D113)","v":2.2046199999999999E-4},{"$f":"IF('8) DDGS Dryer'!E113=0,M81,'8) DDGS Dryer'!E113)","v":2.2046199999999999E-4},{"$f":"IF('8) DDGS Dryer'!F113=0,N81,'8) DDGS Dryer'!F113)","v":2.2046199999999999E-4},{"$f":"IF('8) DDGS Dryer'!G113=0,O81,'8) DDGS Dryer'!G113)","v":2.2046199999999999E-4},{"$f":"IF('8) DDGS Dryer'!H113=0,P81,'8) DDGS Dryer'!H113)","v":2.2046199999999999E-4},{"$f":"IF('8) DDGS Dryer'!I113=0,Q81,'8) DDGS Dryer'!I113)","v":2.2046199999999999E-4},{"$f":"IF('8) DDGS Dryer'!J113=0,R81,'8) DDGS Dryer'!J113)","v":2.2046199999999999E-4},{"$f":"IF('8) DDGS Dryer'!K113=0,S81,'8) DDGS Dryer'!K113)","v":2.2046199999999999E-4},{"$f":"IF('8) DDGS Dryer'!L113=0,T81,'8) DDGS Dryer'!L113)","v":2.2046199999999999E-4},null,"  Nitrous Oxide (N2O)",{"$f":"W81*'8) DDGS Dryer'!L$29","v":0},{"$f":"X81*'8) DDGS Dryer'!L$30","v":0},{"$f":"Y81*'8) DDGS Dryer'!L$31","v":0},{"$f":"Z81*'8) DDGS Dryer'!L$32","v":0},{"$f":"AA81*'8) DDGS Dryer'!L$33","v":0},{"$f":"AB81*'8) DDGS Dryer'!L$34","v":0},{"$f":"AC81*'8) DDGS Dryer'!L$35","v":0},{"$f":"AD81*'8) DDGS Dryer'!L$36","v":0},{"$f":"AE81*'8) DDGS Dryer'!L$37","v":0},{"$f":"AF81*'8) DDGS Dryer'!L$38","v":0},0,null,"  Nitrous Oxide (N2O)",{"$f":"IF('8) DDGS Dryer'!$O$29=\"\",AI81*8760/2000,AI81*'8) DDGS Dryer'!$O$29/2000)","v":0},{"$f":"IF('8) DDGS Dryer'!$O$30=\"\",AJ81*8760/2000,AJ81*'8) DDGS Dryer'!$O$30/2000)","v":0},{"$f":"IF('8) DDGS Dryer'!$O$31=\"\",AK81*8760/2000,AK81*'8) DDGS Dryer'!$O$31/2000)","v":0},{"$f":"IF('8) DDGS Dryer'!$O$32=\"\",AL81*8760/2000,AL81*'8) DDGS Dryer'!$O$32/2000)","v":0},{"$f":"IF('8) DDGS Dryer'!$O$33=\"\",AM81*8760/2000,AM81*'8) DDGS Dryer'!$O$33/2000)","v":0},{"$f":"IF('8) DDGS Dryer'!$O$34=\"\",AN81*8760/2000,AN81*'8) DDGS Dryer'!$O$34/2000)","v":0},{"$f":"IF('8) DDGS Dryer'!$O$35=\"\",AO81*8760/2000,AO81*'8) DDGS Dryer'!$O$35/2000)","v":0},{"$f":"IF('8) DDGS Dryer'!$O$36=\"\",AP81*8760/2000,AP81*'8) DDGS Dryer'!$O$36/2000)","v":0},{"$f":"IF('8) DDGS Dryer'!$O$37=\"\",AQ81*8760/2000,AQ81*'8) DDGS Dryer'!$O$37/2000)","v":0},{"$f":"IF('8) DDGS Dryer'!$O$38=\"\",AR81*8760/2000,AR81*'8) DDGS Dryer'!$O$38/2000)","v":0},0]
[null,null,null,null,null,null,null,null,null,"Total GHGs",null,null,null,null,null,null,null,null,null,null,null,"Total GHGs",null,null,null,null,null,null,null,null,null,null,null,"Total GHGs",{"$f":"SUM(AI79:AI81)","v":0},{"$f":"SUM(AJ79:AJ81)","v":0},0,0,0,0,0,0,0,0,0,null,"Total GHGs",{"$f":"IF('8) DDGS Dryer'!$O$29=\"\",AI82*8760/2000,AI82*'8) DDGS Dryer'!$O$29/2000)","v":0},{"$f":"IF('8) DDGS Dryer'!$O$30=\"\",AJ82*8760/2000,AJ82*'8) DDGS Dryer'!$O$30/2000)","v":0},{"$f":"IF('8) DDGS Dryer'!$O$31=\"\",AK82*8760/2000,AK82*'8) DDGS Dryer'!$O$31/2000)","v":0},{"$f":"IF('8) DDGS Dryer'!$O$32=\"\",AL82*8760/2000,AL82*'8) DDGS Dryer'!$O$32/2000)","v":0},{"$f":"IF('8) DDGS Dryer'!$O$33=\"\",AM82*8760/2000,AM82*'8) DDGS Dryer'!$O$33/2000)","v":0},{"$f":"IF('8) DDGS Dryer'!$O$34=\"\",AN82*8760/2000,AN82*'8) DDGS Dryer'!$O$34/2000)","v":0},{"$f":"IF('8) DDGS Dryer'!$O$35=\"\",AO82*8760/2000,AO82*'8) DDGS Dryer'!$O$35/2000)","v":0},{"$f":"IF('8) DDGS Dryer'!$O$36=\"\",AP82*8760/2000,AP82*'8) DDGS Dryer'!$O$36/2000)","v":0},{"$f":"IF('8) DDGS Dryer'!$O$37=\"\",AQ82*8760/2000,AQ82*'8) DDGS Dryer'!$O$37/2000)","v":0},{"$f":"IF('8) DDGS Dryer'!$O$38=\"\",AR82*8760/2000,AR82*'8) DDGS Dryer'!$O$38/2000)","v":0},0]
[null,null,null,null,null,null,null,null,null,null,null,null,null,null,null,null,null,null,null,null,null,null,null,null,null,null,null,null,null,null,null,null,null,"Greenhouse Gases (GHG) (CO2 Equivalent Basis)",null,null,null,null,null,null,null,null,null,null,null,null,"Greenhouse Gases (GHG) (CO2 Equivalent Basis)"]
[null,null,null,null,null,null,null,null,null,null,null,null,null,null,null,null,null,null,null,null,null,null,null,null,null,null,null,null,null,null,null,null,null,"  Carbon Dioxide (CO2)",{"$f":"AI79","v":0},{"$f":"AJ79","v":0},0,0,0,0,0,0,0,0,{"$f":"SUM(AI84:AR84)","v":0},null,"  Carbon Dioxide (CO2)",{"$f":"IF('8) DDGS Dryer'!$O$29=\"\",AI84*8760/2000,AI84*'8) DDGS Dryer'!$O$29/2000)","v":0},{"$f":"IF('8) DDGS Dryer'!$O$30=\"\",AJ84*8760/2000,AJ84*'8) DDGS Dryer'!$O$30/2000)","v":0},{"$f":"IF('8) DDGS Dryer'!$O$31=\"\",AK84*8760/2000,AK84*'8) DDGS Dryer'!$O$31/2000)","v":0},{"$f":"IF('8) DDGS Dryer'!$O$32=\"\",AL84*8760/2000,AL84*'8) DDGS Dryer'!$O$32/2000)","v":0},{"$f":"IF('8) DDGS Dryer'!$O$33=\"\",AM84*8760/2000,AM84*'8) DDGS Dryer'!$O$33/2000)","v":0},{"$f":"IF('8) DDGS Dryer'!$O$34=\"\",AN84*8760/2000,AN84*'8) DDGS Dryer'!$O$34/2000)","v":0},{"$f":"IF('8) DDGS Dryer'!$O$35=\"\",AO84*8760/2000,AO84*'8) DDGS Dryer'!$O$35/2000)","v":0},{"$f":"IF('8) DDGS Dryer'!$O$36=\"\",AP84*8760/2000,AP84*'8) DDGS Dryer'!$O$36/2000)","v":0},{"$f":"IF('8) DDGS Dryer'!$O$37=\"\",AQ84*8760/2000,AQ84*'8) DDGS Dryer'!$O$37/2000)","v":0},{"$f":"IF('8) DDGS Dryer'!$O$38=\"\",AR84*8760/2000,AR84*'8) DDGS Dryer'!$O$38/2000)","v":0},{"$f":"SUM(AV84:BE84)","v":0}]
[null,null,null,null,null,null,null,null,null,null,null,null,null,null,null,null,null,null,null,null,null,null,null,null,null,null,null,null,null,null,null,null,null,"  Methane (CH4)",{"$f":"AI80*25","v":0},{"$f":"AJ80*25","v":0},0,0,0,0,0,0,0,0,0,null,"  Methane (CH4)",{"$f":"IF('8) DDGS Dryer'!$O$29=\"\",AI85*8760/2000,AI85*'8) DDGS Dryer'!$O$29/2000)","v":0},{"$f":"IF('8) DDGS Dryer'!$O$30=\"\",AJ85*8760/2000,AJ85*'8) DDGS Dryer'!$O$30/2000)","v":0},{"$f":"IF('8) DDGS Dryer'!$O$31=\"\",AK85*8760/2000,AK85*'8) DDGS Dryer'!$O$31/2000)","v":0},{"$f":"IF('8) DDGS Dryer'!$O$32=\"\",AL85*8760/2000,AL85*'8) DDGS Dryer'!$O$32/2000)","v":0},{"$f":"IF('8) DDGS Dryer'!$O$33=\"\",AM85*8760/2000,AM85*'8) DDGS Dryer'!$O$33/2000)","v":0},{"$f":"IF('8) DDGS Dryer'!$O$34=\"\",AN85*8760/2000,AN85*'8) DDGS Dryer'!$O$34/2000)","v":0},{"$f":"IF('8) DDGS Dryer'!$O$35=\"\",AO85*8760/2000,AO85*'8) DDGS Dryer'!$O$35/2000)","v":0},{"$f":"IF('8) DDGS Dryer'!$O$36=\"\",AP85*8760/2000,AP85*'8) DDGS Dryer'!$O$36/2000)","v":0},{"$f":"IF('8) DDGS Dryer'!$O$37=\"\",AQ85*8760/2000,AQ85*'8) DDGS Dryer'!$O$37/2000)","v":0},{"$f":"IF('8) DDGS Dryer'!$O$38=\"\",AR85*8760/2000,AR85*'8) DDGS Dryer'!$O$38/2000)","v":0},0]
[null,null,null,null,null,null,null,null,null,null,null,null,null,null,null,null,null,null,null,null,null,null,null,null,null,null,null,null,null,null,null,null,null,"  Nitrous Oxide (N2O)",{"$f":"AI81*298","v":0},{"$f":"AJ81*298","v":0},0,0,0,0,0,0,0,0,0,null,"  Nitrous Oxide (N2O)",{"$f":"IF('8) DDGS Dryer'!$O$29=\"\",AI86*8760/2000,AI86*'8) DDGS Dryer'!$O$29/2000)","v":0},{"$f":"IF('8) DDGS Dryer'!$O$30=\"\",AJ86*8760/2000,AJ86*'8) DDGS Dryer'!$O$30/2000)","v":0},{"$f":"IF('8) DDGS Dryer'!$O$31=\"\",AK86*8760/2000,AK86*'8) DDGS Dryer'!$O$31/2000)","v":0},{"$f":"IF('8) DDGS Dryer'!$O$32=\"\",AL86*8760/2000,AL86*'8) DDGS Dryer'!$O$32/2000)","v":0},{"$f":"IF('8) DDGS Dryer'!$O$33=\"\",AM86*8760/2000,AM86*'8) DDGS Dryer'!$O$33/2000)","v":0},{"$f":"IF('8) DDGS Dryer'!$O$34=\"\",AN86*8760/2000,AN86*'8) DDGS Dryer'!$O$34/2000)","v":0},{"$f":"IF('8) DDGS Dryer'!$O$35=\"\",AO86*8760/2000,AO86*'8) DDGS Dryer'!$O$35/2000)","v":0},{"$f":"IF('8) DDGS Dryer'!$O$36=\"\",AP86*8760/2000,AP86*'8) DDGS Dryer'!$O$36/2000)","v":0},{"$f":"IF('8) DDGS Dryer'!$O$37=\"\",AQ86*8760/2000,AQ86*'8) DDGS Dryer'!$O$37/2000)","v":0},{"$f":"IF('8) DDGS Dryer'!$O$38=\"\",AR86*8760/2000,AR86*'8) DDGS Dryer'!$O$38/2000)","v":0},0]
[null,null,null,null,null,null,null,null,null,null,null,null,null,null,null,null,null,null,null,null,null,null,null,null,null,null,null,null,null,null,null,null,null,"Total GHGs",{"$f":"SUM(AI84:AI86)","v":0},{"$f":"SUM(AJ84:AJ86)","v":0},0,0,0,0,0,0,0,0,0,null,"Total GHGs",{"$f":"IF('8) DDGS Dryer'!$O$29=\"\",AI87*8760/2000,AI87*'8) DDGS Dryer'!$O$29/2000)","v":0},{"$f":"IF('8) DDGS Dryer'!$O$30=\"\",AJ87*8760/2000,AJ87*'8) DDGS Dryer'!$O$30/2000)","v":0},{"$f":"IF('8) DDGS Dryer'!$O$31=\"\",AK87*8760/2000,AK87*'8) DDGS Dryer'!$O$31/2000)","v":0},{"$f":"IF('8) DDGS Dryer'!$O$32=\"\",AL87*8760/2000,AL87*'8) DDGS Dryer'!$O$32/2000)","v":0},{"$f":"IF('8) DDGS Dryer'!$O$33=\"\",AM87*8760/2000,AM87*'8) DDGS Dryer'!$O$33/2000)","v":0},{"$f":"IF('8) DDGS Dryer'!$O$34=\"\",AN87*8760/2000,AN87*'8) DDGS Dryer'!$O$34/2000)","v":0},{"$f":"IF('8) DDGS Dryer'!$O$35=\"\",AO87*8760/2000,AO87*'8) DDGS Dryer'!$O$35/2000)","v":0},{"$f":"IF('8) DDGS Dryer'!$O$36=\"\",AP87*8760/2000,AP87*'8) DDGS Dryer'!$O$36/2000)","v":0},{"$f":"IF('8) DDGS Dryer'!$O$37=\"\",AQ87*8760/2000,AQ87*'8) DDGS Dryer'!$O$37/2000)","v":0},{"$f":"IF('8) DDGS Dryer'!$O$38=\"\",AR87*8760/2000,AR87*'8) DDGS Dryer'!$O$38/2000)","v":0},0]

{"sheet":"8) Calculations","index":24,"n_rows":95,"n_cols":49,"rows_kept":95,"cut":false,"hidden":false,"merged":[[51,0,52,0],[4,0,4,10],[4,12,4,22],[4,24,4,35],[6,25,6,35],[50,24,50,35],[51,12,52,12],[51,24,52,24],[6,1,6,10],[52,1,52,10],[14,1,14,10],[50,0,50,10],[50,12,50,22],[0,0,0,3],[46,0,46,3],[5,0,6,0],[5,12,6,12],[5,24,6,24],[14,13,14,22],[36,1,36,10],[36,13,36,22],[49,37,49,48],[51,37,52,37],[52,25,52,35],[52,38,52,48],[3,37,3,48],[5,37,6,37],[6,38,6,48],[92,37,92,48],[60,1,60,10],[60,13,60,22],[82,1,82,10],[82,13,82,22]]}
["Fact Sheet Attachment: Dry Mill: DDGS Drying Operations"]
["Emissions from Dry Mill's DDGS Drying - Drying Process Emissions"]
[]
[null,null,null,null,null,null,null,null,null,null,null,null,null,null,null,null,null,null,null,null,null,null,null,null,null,null,null,null,null,null,null,null,null,null,null,null,null,"DDGS Dryer PTE in ton/yr = PTE in lb/hr x annual hour limit / 2000"]
["DDGS Dryer Emission Factors*",null,null,null,null,null,null,null,null,null,null,null,"DDGS Dryer Chosen Emission Factors: Manufacturer's Guarantee (If Available) or AP-42 in lb/MMBtu*",null,null,null,null,null,null,null,null,null,null,null,"DDGS Dryer PTE in lb/hr = Emission Factor x Maximum Rated Capacity, MMBtu/hr",null,null,null,null,null,null,null,null,null,null,null,null,"Annual hour limit",{"$f":"IF('8) DDGS Dryer'!H16=0,8760,'8) DDGS Dryer'!H16/'8) DDGS Dryer'!D16)","v":8760},{"$f":"IF('8) DDGS Dryer'!H17=0,8760,'8) DDGS Dryer'!H17/'8) DDGS Dryer'!D17)","v":8760},{"$f":"IF('8) DDGS Dryer'!H18=0,8760,'8) DDGS Dryer'!H18/'8) DDGS Dryer'!D18)","v":8760},{"$f":"IF('8) DDGS Dryer'!H19=0,8760,'8) DDGS Dryer'!H19/'8) DDGS Dryer'!D19)","v":8760},{"$f":"IF('8) DDGS Dryer'!H20=0,8760,'8) DDGS Dryer'!H20/'8) DDGS Dryer'!D20)","v":8760},{"$f":"IF('8) DDGS Dryer'!H21=0,8760,'8) DDGS Dryer'!H21/'8) DDGS Dryer'!D21)","v":8760},{"$f":"IF('8) DDGS Dryer'!H22=0,8760,'8) DDGS Dryer'!H22/'8) DDGS Dryer'!D22)","v":8760},{"$f":"IF('8) DDGS Dryer'!H23=0,8760,'8) DDGS Dryer'!H23/'8) DDGS Dryer'!D23)","v":8760},{"$f":"IF('8) DDGS Dryer'!H24=0,8760,'8) DDGS Dryer'!H24/'8) DDGS Dryer'!D24)","v":8760},{"$f":"IF('8) DDGS Dryer'!H25=0,8760,'8) DDGS Dryer'!H25/'8) DDGS Dryer'!D25)","v":8760}]
["Pollutant","1st Dryer","2nd Dryer","3rd Dryer","4th Dryer","5th Dryer","6th Dryer","7th Dryer","8th Dryer","9th Dryer","10th Dryer",null,"Pollutant","1st Dryer","2nd Dryer","3rd Dryer","4th Dryer","5th Dryer","6th Dryer","7th Dryer","8th Dryer","9th Dryer","10th Dryer",null,"Pollutant","1st Dryer","2nd Dryer","3rd Dryer","4th Dryer","5th Dryer","6th Dryer","7th Dryer","8th Dryer","9th Dryer","10th Dryer","Total ",null,"Pollutant","1st Dryer","2nd Dryer","3rd Dryer","4th Dryer","5th Dryer","6th Dryer","7th Dryer","8th Dryer","9th Dryer","10th Dryer","Total "]
[null,"(lb/MMscf)",null,null,null,null,null,null,null,null,null,null,null,null,null,null,null,null,null,null,null,null,null,null,null,"(lb/hr)",null,null,null,null,null,null,null,null,null,null,null,null,"(ton/year)"]
["PMfilterable",7.6,7.6,7.6,7.6,7.6,7.6,7.6,7.6,7.6,7.6,null,"PMfilterable",{"$f":"IF('8) DDGS Dryer'!C45=0,B8/1020,'8) DDGS Dryer'!C45)","v":7.4509803921568628E-3},{"$f":"IF('8) DDGS Dryer'!D45=0,C8/1020,'8) DDGS Dryer'!D45)","v":7.4509803921568628E-3},{"$f":"IF('8) DDGS Dryer'!E45=0,D8/1020,'8) DDGS Dryer'!E45)","v":7.4509803921568628E-3},{"$f":"IF('8) DDGS Dryer'!F45=0,E8/1020,'8) DDGS Dryer'!F45)","v":7.4509803921568628E-3},{"$f":"IF('8) DDGS Dryer'!G45=0,F8/1020,'8) DDGS Dryer'!G45)","v":7.4509803921568628E-3},{"$f":"IF('8) DDGS Dryer'!H45=0,G8/1020,'8) DDGS Dryer'!H45)","v":7.4509803921568628E-3},{"$f":"IF('8) DDGS Dryer'!I45=0,H8/1020,'8) DDGS Dryer'!I45)","v":7.4509803921568628E-3},{"$f":"IF('8) DDGS Dryer'!J45=0,I8/1020,'8) DDGS Dryer'!J45)","v":7.4509803921568628E-3},{"$f":"IF('8) DDGS Dryer'!K45=0,J8/1020,'8) DDGS Dryer'!K45)","v":7.4509803921568628E-3},{"$f":"IF('8) DDGS Dryer'!L45=0,K8/1020,'8) DDGS Dryer'!L45)","v":7.4509803921568628E-3},null,"PMfilterable",{"$f":"N8*'8) DDGS Dryer'!$F$16","v":0},{"$f":"O8*'8) DDGS Dryer'!$F$17","v":0},{"$f":"P8*'8) DDGS Dryer'!$F$18","v":0},{"$f":"Q8*'8) DDGS Dryer'!$F$19","v":0},{"$f":"R8*'8) DDGS Dryer'!$F$20","v":0},{"$f":"S8*'8) DDGS Dryer'!$F$21","v":0},{"$f":"T8*'8) DDGS Dryer'!$F$22","v":0},{"$f":"U8*'8) DDGS Dryer'!$F$23","v":0},{"$f":"V8*'8) DDGS Dryer'!$F$24","v":0},{"$f":"W8*'8) DDGS Dryer'!$F$25","v":0},{"$f":"SUM(Z8:AI8)","v":0},null,"PMfilterable",{"$f":"Z8*AM$5/2000","v":0},{"$f":"AA8*AN$5/2000","v":0},{"$f":"AB8*AO$5/2000","v":0},0,0,0,0,0,0,0,{"$f":"SUM(AM8:AV8)","v":0}]
["PM10",7.6,7.6,7.6,7.6,7.6,7.6,7.6,7.6,7.6,7.6,null,"PM10",{"$f":"IF('8) DDGS Dryer'!C46=0,B9/1020,'8) DDGS Dryer'!C46)","v":7.4509803921568628E-3},{"$f":"IF('8) DDGS Dryer'!D46=0,C9/1020,'8) DDGS Dryer'!D46)","v":7.4509803921568628E-3},{"$f":"IF('8) DDGS Dryer'!E46=0,D9/1020,'8) DDGS Dryer'!E46)","v":7.4509803921568628E-3},{"$f":"IF('8) DDGS Dryer'!F46=0,E9/1020,'8) DDGS Dryer'!F46)","v":7.4509803921568628E-3},{"$f":"IF('8) DDGS Dryer'!G46=0,F9/1020,'8) DDGS Dryer'!G46)","v":7.4509803921568628E-3},{"$f":"IF('8) DDGS Dryer'!H46=0,G9/1020,'8) DDGS Dryer'!H46)","v":7.4509803921568628E-3},{"$f":"IF('8) DDGS Dryer'!I46=0,H9/1020,'8) DDGS Dryer'!I46)","v":7.4509803921568628E-3},{"$f":"IF('8) DDGS Dryer'!J46=0,I9/1020,'8) DDGS Dryer'!J46)","v":7.4509803921568628E-3},{"$f":"IF('8) DDGS Dryer'!K46=0,J9/1020,'8) DDGS Dryer'!K46)","v":7.4509803921568628E-3},{"$f":"IF('8) DDGS Dryer'!L46=0,K9/1020,'8) DDGS Dryer'!L46)","v":7.4509803921568628E-3},null,"PM10",{"$f":"N9*'8) DDGS Dryer'!$F$16","v":0},{"$f":"O9*'8) DDGS Dryer'!$F$17","v":0},{"$f":"P9*'8) DDGS Dryer'!$F$18","v":0},{"$f":"Q9*'8) DDGS Dryer'!$F$19","v":0},{"$f":"R9*'8) DDGS Dryer'!$F$20","v":0},{"$f":"S9*'8) DDGS Dryer'!$F$21","v":0},{"$f":"T9*'8) DDGS Dryer'!$F$22","v":0},{"$f":"U9*'8) DDGS Dryer'!$F$23","v":0},{"$f":"V9*'8) DDGS Dryer'!$F$24","v":0},{"$f":"W9*'8) DDGS Dryer'!$F$25","v":0},{"$f":"SUM(Z9:AI9)","v":0},null,"PM10",{"$f":"Z9*AM$5/2000","v":0},{"$f":"AA9*AN$5/2000","v":0},{"$f":"AB9*AO$5/2000","v":0},{"$f":"AC9*AP$5/2000","v":0},{"$f":"AD9*AQ$5/2000","v":0},{"$f":"AE9*AR$5/2000","v":0},{"$f":"AF9*AS$5/2000","v":0},{"$f":"AG9*AT$5/2000","v":0},{"$f":"AH9*AU$5/2000","v":0},{"$f":"AI9*AV$5/2000","v":0},{"$f":"SUM(AM9:AV9)","v":0}]
["PM2.5",7.6,7.6,7.6,7.6,7.6,7.6,7.6,7.6,7.6,7.6,null,"PM2.5",{"$f":"IF('8) DDGS Dryer'!C47=0,B10/1020,'8) DDGS Dryer'!C47)","v":7.4509803921568628E-3},{"$f":"IF('8) DDGS Dryer'!D47=0,C10/1020,'8) DDGS Dryer'!D47)","v":7.4509803921568628E-3},{"$f":"IF('8) DDGS Dryer'!E47=0,D10/1020,'8) DDGS Dryer'!E47)","v":7.4509803921568628E-3},{"$f":"IF('8) DDGS Dryer'!F47=0,E10/1020,'8) DDGS Dryer'!F47)","v":7.4509803921568628E-3},{"$f":"IF('8) DDGS Dryer'!G47=0,F10/1020,'8) DDGS Dryer'!G47)","v":7.4509803921568628E-3},{"$f":"IF('8) DDGS Dryer'!H47=0,G10/1020,'8) DDGS Dryer'!H47)","v":7.4509803921568628E-3},{"$f":"IF('8) DDGS Dryer'!I47=0,H10/1020,'8) DDGS Dryer'!I47)","v":7.4509803921568628E-3},{"$f":"IF('8) DDGS Dryer'!J47=0,I10/1020,'8) DDGS Dryer'!J47)","v":7.4509803921568628E-3},{"$f":"IF('8) DDGS Dryer'!K47=0,J10/1020,'8) DDGS Dryer'!K47)","v":7.4509803921568628E-3},{"$f":"IF('8) DDGS Dryer'!L47=0,K10/1020,'8) DDGS Dryer'!L47)","v":7.4509803921568628E-3},null,"PM2.5",{"$f":"N10*'8) DDGS Dryer'!$F$16","v":0},{"$f":"O10*'8) DDGS Dryer'!$F$17","v":0},{"$f":"P10*'8) DDGS Dryer'!$F$18","v":0},{"$f":"Q10*'8) DDGS Dryer'!$F$19","v":0},{"$f":"R10*'8) DDGS Dryer'!$F$20","v":0},{"$f":"S10*'8) DDGS Dryer'!$F$21","v":0},{"$f":"T10*'8) DDGS Dryer'!$F$22","v":0},{"$f":"U10*'8) DDGS Dryer'!$F$23","v":0},{"$f":"V10*'8) DDGS Dryer'!$F$24","v":0},{"$f":"W10*'8) DDGS Dryer'!$F$25","v":0},0,null,"PM2.5",{"$f":"Z10*AM$5/2000","v":0},0,0,0,0,0,0,0,0,0,0]
["SO2",0.6,0.6,0.6,0.6,0.6,0.6,0.6,0.6,0.6,0.6,null,"SO2",{"$f":"IF('8) DDGS Dryer'!C48=0,B11/1020,'8) DDGS Dryer'!C48)","v":5.8823529411764701E-4},{"$f":"IF('8) DDGS Dryer'!D48=0,C11/1020,'8) DDGS Dryer'!D48)","v":5.8823529411764701E-4},{"$f":"IF('8) DDGS Dryer'!E48=0,D11/1020,'8) DDGS Dryer'!E48)","v":5.8823529411764701E-4},{"$f":"IF('8) DDGS Dryer'!F48=0,E11/1020,'8) DDGS Dryer'!F48)","v":5.8823529411764701E-4},{"$f":"IF('8) DDGS Dryer'!G48=0,F11/1020,'8) DDGS Dryer'!G48)","v":5.8823529411764701E-4},{"$f":"IF('8) DDGS Dryer'!H48=0,G11/1020,'8) DDGS Dryer'!H48)","v":5.8823529411764701E-4},{"$f":"IF('8) DDGS Dryer'!I48=0,H11/1020,'8) DDGS Dryer'!I48)","v":5.8823529411764701E-4},{"$f":"IF('8) DDGS Dryer'!J48=0,I11/1020,'8) DDGS Dryer'!J48)","v":5.8823529411764701E-4},{"$f":"IF('8) DDGS Dryer'!K48=0,J11/1020,'8) DDGS Dryer'!K48)","v":5.8823529411764701E-4},{"$f":"IF('8) DDGS Dryer'!L48=0,K11/1020,'8) DDGS Dryer'!L48)","v":5.8823529411764701E-4},null,"SO2",{"$f":"N11*'8) DDGS Dryer'!$F$16","v":0},{"$f":"O11*'8) DDGS Dryer'!$F$17","v":0},{"$f":"P11*'8) DDGS Dryer'!$F$18","v":0},{"$f":"Q11*'8) DDGS Dryer'!$F$19","v":0},{"$f":"R11*'8) DDGS Dryer'!$F$20","v":0},{"$f":"S11*'8) DDGS Dryer'!$F$21","v":0},{"$f":"T11*'8) DDGS Dryer'!$F$22","v":0},{"$f":"U11*'8) DDGS Dryer'!$F$23","v":0},{"$f":"V11*'8) DDGS Dryer'!$F$24","v":0},{"$f":"W11*'8) DDGS Dryer'!$F$25","v":0},0,null,"SO2",{"$f":"Z11*AM$5/2000","v":0},0,0,0,0,0,0,0,0,0,0]
["NOx",{"$f":"IF('5) Dryer'!E17=Datasets!$AA$3,50,IF('5) Dryer'!E17=Datasets!$AA$4,32,100))","v":100},{"$f":"IF('5) Dryer'!E18=Datasets!$AA$3,50,IF('5) Dryer'!E18=Datasets!$AA$4,32,100))","v":100},{"$f":"IF('5) Dryer'!E19=Datasets!$AA$3,50,IF('5) Dryer'!E19=Datasets!$AA$4,32,100))","v":100},{"$f":"IF('5) Dryer'!E20=Datasets!$AA$3,50,IF('5) Dryer'!E20=Datasets!$AA$4,32,100))","v":100},{"$f":"IF('5) Dryer'!E21=Datasets!$AA$3,50,IF('5) Dryer'!E21=Datasets!$AA$4,32,100))","v":100},{"$f":"IF('5) Dryer'!E22=Datasets!$AA$3,50,IF('5) Dryer'!E22=Datasets!$AA$4,32,100))","v":100},{"$f":"IF('5) Dryer'!E23=Datasets!$AA$3,50,IF('5) Dryer'!E23=Datasets!$AA$4,32,100))","v":100},{"$f":"IF('5) Dryer'!E24=Datasets!$AA$3,50,IF('5) Dryer'!E24=Datasets!$AA$4,32,100))","v":100},{"$f":"IF('5) Dryer'!E25=Datasets!$AA$3,50,IF('5) Dryer'!E25=Datasets!$AA$4,32,100))","v":100},{"$f":"IF('5) Dryer'!E26=Datasets!$AA$3,50,IF('5) Dryer'!E26=Datasets!$AA$4,32,100))","v":100},null,"NOx",{"$f":"IF('8) DDGS Dryer'!C49=0,B12/1020,'8) DDGS Dryer'!C49)","v":9.8039215686274508E-2},{"$f":"IF('8) DDGS Dryer'!D49=0,C12/1020,'8) DDGS Dryer'!D49)","v":9.8039215686274508E-2},{"$f":"IF('8) DDGS Dryer'!E49=0,D12/1020,'8) DDGS Dryer'!E49)","v":9.8039215686274508E-2},{"$f":"IF('8) DDGS Dryer'!F49=0,E12/1020,'8) DDGS Dryer'!F49)","v":9.8039215686274508E-2},{"$f":"IF('8) DDGS Dryer'!G49=0,F12/1020,'8) DDGS Dryer'!G49)","v":9.8039215686274508E-2},{"$f":"IF('8) DDGS Dryer'!H49=0,G12/1020,'8) DDGS Dryer'!H49)","v":9.8039215686274508E-2},{"$f":"IF('8) DDGS Dryer'!I49=0,H12/1020,'8) DDGS Dryer'!I49)","v":9.8039215686274508E-2},{"$f":"IF('8) DDGS Dryer'!J49=0,I12/1020,'8) DDGS Dryer'!J49)","v":9.8039215686274508E-2},{"$f":"IF('8) DDGS Dryer'!K49=0,J12/1020,'8) DDGS Dryer'!K49)","v":9.8039215686274508E-2},{"$f":"IF('8) DDGS Dryer'!L49=0,K12/1020,'8) DDGS Dryer'!L49)","v":9.8039215686274508E-2},null,"NOx",{"$f":"N12*'8) DDGS Dryer'!$F$16","v":0},{"$f":"O12*'8) DDGS Dryer'!$F$17","v":0},{"$f":"P12*'8) DDGS Dryer'!$F$18","v":0},{"$f":"Q12*'8) DDGS Dryer'!$F$19","v":0},{"$f":"R12*'8) DDGS Dryer'!$F$20","v":0},{"$f":"S12*'8) DDGS Dryer'!$F$21","v":0},{"$f":"T12*'8) DDGS Dryer'!$F$22","v":0},{"$f":"U12*'8) DDGS Dryer'!$F$23","v":0},{"$f":"V12*'8) DDGS Dryer'!$F$24","v":0},{"$f":"W12*'8) DDGS Dryer'!$F$25","v":0},{"$f":"SUM(Z12:AI12)","v":0},null,"NOx",0,0,0,0,0,0,0,0,0,0,0]
["CO",84,84,84,84,84,84,84,84,84,84,null,"CO",{"$f":"IF('8) DDGS Dryer'!C50=0,B13/1020,'8) DDGS Dryer'!C50)","v":8.2352941176470587E-2},{"$f":"IF('8) DDGS Dryer'!D50=0,C13/1020,'8) DDGS Dryer'!D50)","v":8.2352941176470587E-2},{"$f":"IF('8) DDGS Dryer'!E50=0,D13/1020,'8) DDGS Dryer'!E50)","v":8.2352941176470587E-2},{"$f":"IF('8) DDGS Dryer'!F50=0,E13/1020,'8) DDGS Dryer'!F50)","v":8.2352941176470587E-2},{"$f":"IF('8) DDGS Dryer'!G50=0,F13/1020,'8) DDGS Dryer'!G50)","v":8.2352941176470587E-2},{"$f":"IF('8) DDGS Dryer'!H50=0,G13/1020,'8) DDGS Dryer'!H50)","v":8.2352941176470587E-2},{"$f":"IF('8) DDGS Dryer'!I50=0,H13/1020,'8) DDGS Dryer'!I50)","v":8.2352941176470587E-2},{"$f":"IF('8) DDGS Dryer'!J50=0,I13/1020,'8) DDGS Dryer'!J50)","v":8.2352941176470587E-2},{"$f":"IF('8) DDGS Dryer'!K50=0,J13/1020,'8) DDGS Dryer'!K50)","v":8.2352941176470587E-2},{"$f":"IF('8) DDGS Dryer'!L50=0,K13/1020,'8) DDGS Dryer'!L50)","v":8.2352941176470587E-2},null,"CO",{"$f":"N13*'8) DDGS Dryer'!$F$16","v":0},{"$f":"O13*'8) DDGS Dryer'!$F$17","v":0},{"$f":"P13*'8) DDGS Dryer'!$F$18","v":0},{"$f":"Q13*'8) DDGS Dryer'!$F$19","v":0},{"$f":"R13*'8) DDGS Dryer'!$F$20","v":0},{"$f":"S13*'8) DDGS Dryer'!$F$21","v":0},{"$f":"T13*'8) DDGS Dryer'!$F$22","v":0},{"$f":"U13*'8) DDGS Dryer'!$F$23","v":0},{"$f":"V13*'8) DDGS Dryer'!$F$24","v":0},{"$f":"W13*'8) DDGS Dryer'!$F$25","v":0},{"$f":"SUM(Z13:AI13)","v":0},null,"CO",0,0,0,0,0,0,0,0,0,0,0]
["VOC",5.5,5.5,5.5,5.5,5.5,5.5,5.5,5.5,5.5,5.5,null,"VOC",{"$f":"IF('8) DDGS Dryer'!C51=0,B14/1020,'8) DDGS Dryer'!C51)","v":5.392156862745098E-3},{"$f":"IF('8) DDGS Dryer'!D51=0,C14/1020,'8) DDGS Dryer'!D51)","v":5.392156862745098E-3},{"$f":"IF('8) DDGS Dryer'!E51=0,D14/1020,'8) DDGS Dryer'!E51)","v":5.392156862745098E-3},{"$f":"IF('8) DDGS Dryer'!F51=0,E14/1020,'8) DDGS Dryer'!F51)","v":5.392156862745098E-3},{"$f":"IF('8) DDGS Dryer'!G51=0,F14/1020,'8) DDGS Dryer'!G51)","v":5.392156862745098E-3},{"$f":"IF('8) DDGS Dryer'!H51=0,G14/1020,'8) DDGS Dryer'!H51)","v":5.392156862745098E-3},{"$f":"IF('8) DDGS Dryer'!I51=0,H14/1020,'8) DDGS Dryer'!I51)","v":5.392156862745098E-3},{"$f":"IF('8) DDGS Dryer'!J51=0,I14/1020,'8) DDGS Dryer'!J51)","v":5.392156862745098E-3},{"$f":"IF('8) DDGS Dryer'!K51=0,J14/1020,'8) DDGS Dryer'!K51)","v":5.392156862745098E-3},{"$f":"IF('8) DDGS Dryer'!L51=0,K14/1020,'8) DDGS Dryer'!L51)","v":5.392156862745098E-3},null,"VOC",{"$f":"N14*'8) DDGS Dryer'!$F$16","v":0},{"$f":"O14*'8) DDGS Dryer'!$F$17","v":0},{"$f":"P14*'8) DDGS Dryer'!$F$18","v":0},{"$f":"Q14*'8) DDGS Dryer'!$F$19","v":0},{"$f":"R14*'8) DDGS Dryer'!$F$20","v":0},{"$f":"S14*'8) DDGS Dryer'!$F$21","v":0},{"$f":"T14*'8) DDGS Dryer'!$F$22","v":0},{"$f":"U14*'8) DDGS Dryer'!$F$23","v":0},{"$f":"V14*'8) DDGS Dryer'!$F$24","v":0},{"$f":"W14*'8) DDGS Dryer'!$F$25","v":0},{"$f":"SUM(Z14:AI14)","v":0},null,"VOC",0,0,0,0,0,0,0,0,0,0,0]
["Individual HAP",null,null,null,null,null,null,null,null,null,null,null,null,null,null,null,null,null,null,null,null,null,null,null,"Individual HAP",null,null,null,null,null,null,null,null,null,null,null,null,"Individual HAP"]
["  Acetaldehyde",null,null,null,null,null,null,null,null,null,null,null,"  Acetaldehyde",{"$f":"IF('8) DDGS Dryer'!C53=0,B16/1020,'8) DDGS Dryer'!C53)","v":0},{"$f":"IF('8) DDGS Dryer'!D53=0,C16/1020,'8) DDGS Dryer'!D53)","v":0},{"$f":"IF('8) DDGS Dryer'!E53=0,D16/1020,'8) DDGS Dryer'!E53)","v":0},{"$f":"IF('8) DDGS Dryer'!F53=0,E16/1020,'8) DDGS Dryer'!F53)","v":0},{"$f":"IF('8) DDGS Dryer'!G53=0,F16/1020,'8) DDGS Dryer'!G53)","v":0},{"$f":"IF('8) DDGS Dryer'!H53=0,G16/1020,'8) DDGS Dryer'!H53)","v":0},{"$f":"IF('8) DDGS Dryer'!I53=0,H16/1020,'8) DDGS Dryer'!I53)","v":0},{"$f":"IF('8) DDGS Dryer'!J53=0,I16/1020,'8) DDGS Dryer'!J53)","v":0},{"$f":"IF('8) DDGS Dryer'!K53=0,J16/1020,'8) DDGS Dryer'!K53)","v":0},{"$f":"IF('8) DDGS Dryer'!L53=0,K16/1020,'8) DDGS Dryer'!L53)","v":0},null,"  Acetaldehyde",{"$f":"N16*'8) DDGS Dryer'!$F$16","v":0},{"$f":"O16*'8) DDGS Dryer'!$F$17","v":0},{"$f":"P16*'8) DDGS Dryer'!$F$18","v":0},{"$f":"Q16*'8) DDGS Dryer'!$F$19","v":0},{"$f":"R16*'8) DDGS Dryer'!$F$20","v":0},{"$f":"S16*'8) DDGS Dryer'!$F$21","v":0},{"$f":"T16*'8) DDGS Dryer'!$F$22","v":0},{"$f":"U16*'8) DDGS Dryer'!$F$23","v":0},{"$f":"V16*'8) DDGS Dryer'!$F$24","v":0},{"$f":"W16*'8) DDGS Dryer'!$F$25","v":0},{"$f":"SUM(Z16:AI16)","v":0},null,"  Acetaldehyde",{"$f":"Z16*AM$5/2000","v":0},{"$f":"AA16*AN$5/2000","v":0},{"$f":"AB16*AO$5/2000","v":0},{"$f":"AC16*AP$5/2000","v":0},{"$f":"AD16*AQ$5/2000","v":0},{"$f":"AE16*AR$5/2000","v":0},{"$f":"AF16*AS$5/2000","v":0},{"$f":"AG16*AT$5/2000","v":0},{"$f":"AH16*AU$5/2000","v":0},{"$f":"AI16*AV$5/2000","v":0},{"$f":"SUM(AM16:AV16)","v":0}]
["  Formaldehyde",null,null,null,null,null,null,null,null,null,null,null,"  Formaldehyde",{"$f":"IF('8) DDGS Dryer'!C54=0,B17/1020,'8) DDGS Dryer'!C54)","v":0},{"$f":"IF('8) DDGS Dryer'!D54=0,C17/1020,'8) DDGS Dryer'!D54)","v":0},{"$f":"IF('8) DDGS Dryer'!E54=0,D17/1020,'8) DDGS Dryer'!E54)","v":0},{"$f":"IF('8) DDGS Dryer'!F54=0,E17/1020,'8) DDGS Dryer'!F54)","v":0},{"$f":"IF('8) DDGS Dryer'!G54=0,F17/1020,'8) DDGS Dryer'!G54)","v":0},{"$f":"IF('8) DDGS Dryer'!H54=0,G17/1020,'8) DDGS Dryer'!H54)","v":0},{"$f":"IF('8) DDGS Dryer'!I54=0,H17/1020,'8) DDGS Dryer'!I54)","v":0},{"$f":"IF('8) DDGS Dryer'!J54=0,I17/1020,'8) DDGS Dryer'!J54)","v":0},{"$f":"IF('8) DDGS Dryer'!K54=0,J17/1020,'8) DDGS Dryer'!K54)","v":0},{"$f":"IF('8) DDGS Dryer'!L54=0,K17/1020,'8) DDGS Dryer'!L54)","v":0},null,"  Formaldehyde",{"$f":"N17*'8) DDGS Dryer'!$F$16","v":0},{"$f":"O17*'8) DDGS Dryer'!$F$17","v":0},{"$f":"P17*'8) DDGS Dryer'!$F$18","v":0},{"$f":"Q17*'8) DDGS Dryer'!$F$19","v":0},{"$f":"R17*'8) DDGS Dryer'!$F$20","v":0},{"$f":"S17*'8) DDGS Dryer'!$F$21","v":0},{"$f":"T17*'8) DDGS Dryer'!$F$22","v":0},{"$f":"U17*'8) DDGS Dryer'!$F$23","v":0},{"$f":"V17*'8) DDGS Dryer'!$F$24","v":0},{"$f":"W17*'8) DDGS Dryer'!$F$25","v":0},0,null,"  Formaldehyde",0,0,0,0,0,0,0,0,0,0,0]
["  Acrolein",null,null,null,null,null,null,null,null,null,null,null,"  Acrolein",{"$f":"IF('8) DDGS Dryer'!C55=0,B18/1020,'8) DDGS Dryer'!C55)","v":0},{"$f":"IF('8) DDGS Dryer'!D55=0,C18/1020,'8) DDGS Dryer'!D55)","v":0},{"$f":"IF('8) DDGS Dryer'!E55=0,D18/1020,'8) DDGS Dryer'!E55)","v":0},{"$f":"IF('8) DDGS Dryer'!F55=0,E18/1020,'8) DDGS Dryer'!F55)","v":0},{"$f":"IF('8) DDGS Dryer'!G55=0,F18/1020,'8) DDGS Dryer'!G55)","v":0},{"$f":"IF('8) DDGS Dryer'!H55=0,G18/1020,'8) DDGS Dryer'!H55)","v":0},{"$f":"IF('8) DDGS Dryer'!I55=0,H18/1020,'8) DDGS Dryer'!I55)","v":0},{"$f":"IF('8) DDGS Dryer'!J55=0,I18/1020,'8) DDGS Dryer'!J55)","v":0},{"$f":"IF('8) DDGS Dryer'!K55=0,J18/1020,'8) DDGS Dryer'!K55)","v":0},{"$f":"IF('8) DDGS Dryer'!L55=0,K18/1020,'8) DDGS Dryer'!L55)","v":0},null,"  Acrolein",{"$f":"N18*'8) DDGS Dryer'!$F$16","v":0},{"$f":"O18*'8) DDGS Dryer'!$F$17","v":0},{"$f":"P18*'8) DDGS Dryer'!$F$18","v":0},{"$f":"Q18*'8) DDGS Dryer'!$F$19","v":0},{"$f":"R18*'8) DDGS Dryer'!$F$20","v":0},{"$f":"S18*'8) DDGS Dryer'!$F$21","v":0},{"$f":"T18*'8) DDGS Dryer'!$F$22","v":0},{"$f":"U18*'8) DDGS Dryer'!$F$23","v":0},{"$f":"V18*'8) DDGS Dryer'!$F$24","v":0},{"$f":"W18*'8) DDGS Dryer'!$F$25","v":0},0,null,"  Acrolein",0,0,0,0,0,0,0,0,0,0,0]
["  Methanol",null,null,null,null,null,null,null,null,null,null,null,"  Methanol",{"$f":"IF('8) DDGS Dryer'!C56=0,B19/1020,'8) DDGS Dryer'!C56)","v":0},{"$f":"IF('8) DDGS Dryer'!D56=0,C19/1020,'8) DDGS Dryer'!D56)","v":0},{"$f":"IF('8) DDGS Dryer'!E56=0,D19/1020,'8) DDGS Dryer'!E56)","v":0},{"$f":"IF('8) DDGS Dryer'!F56=0,E19/1020,'8) DDGS Dryer'!F56)","v":0},{"$f":"IF('8) DDGS Dryer'!G56=0,F19/1020,'8) DDGS Dryer'!G56)","v":0},{"$f":"IF('8) DDGS Dryer'!H56=0,G19/1020,'8) DDGS Dryer'!H56)","v":0},{"$f":"IF('8) DDGS Dryer'!I56=0,H19/1020,'8) DDGS Dryer'!I56)","v":0},{"$f":"IF('8) DDGS Dryer'!J56=0,I19/1020,'8) DDGS Dryer'!J56)","v":0},{"$f":"IF('8) DDGS Dryer'!K56=0,J19/1020,'8) DDGS Dryer'!K56)","v":0},{"$f":"IF('8) DDGS Dryer'!L56=0,K19/1020,'8) DDGS Dryer'!L56)","v":0},null,"  Methanol",{"$f":"N19*'8) DDGS Dryer'!$F$16","v":0},{"$f":"O19*'8) DDGS Dryer'!$F$17","v":0},{"$f":"P19*'8) DDGS Dryer'!$F$18","v":0},{"$f":"Q19*'8) DDGS Dryer'!$F$19","v":0},{"$f":"R19*'8) DDGS Dryer'!$F$20","v":0},{"$f":"S19*'8) DDGS Dryer'!$F$21","v":0},{"$f":"T19*'8) DDGS Dryer'!$F$22","v":0},{"$f":"U19*'8) DDGS Dryer'!$F$23","v":0},{"$f":"V19*'8) DDGS Dryer'!$F$24","v":0},{"$f":"W19*'8) DDGS Dryer'!$F$25","v":0},0,null,"  Methanol",0,0,0,0,0,0,0,0,0,0,0]
["  Benzene ",2.0999999999999999E-3,2.0999999999999999E-3,2.0999999999999999E-3,2.0999999999999999E-3,2.0999999999999999E-3,2.0999999999999999E-3,2.0999999999999999E-3,2.0999999999999999E-3,2.0999999999999999E-3,2.0999999999999999E-3,null,"  Benzene ",{"$f":"IF('8) DDGS Dryer'!C57=0,B20/1020,'8) DDGS Dryer'!C57)","v":2.0588235294117645E-6},{"$f":"IF('8) DDGS Dryer'!D57=0,C20/1020,'8) DDGS Dryer'!D57)","v":2.0588235294117645E-6},{"$f":"IF('8) DDGS Dryer'!E57=0,D20/1020,'8) DDGS Dryer'!E57)","v":2.0588235294117645E-6},{"$f":"IF('8) DDGS Dryer'!F57=0,E20/1020,'8) DDGS Dryer'!F57)","v":2.0588235294117645E-6},{"$f":"IF('8) DDGS Dryer'!G57=0,F20/1020,'8) DDGS Dryer'!G57)","v":2.0588235294117645E-6},{"$f":"IF('8) DDGS Dryer'!H57=0,G20/1020,'8) DDGS Dryer'!H57)","v":2.0588235294117645E-6},{"$f":"IF('8) DDGS Dryer'!I57=0,H20/1020,'8) DDGS Dryer'!I57)","v":2.0588235294117645E-6},{"$f":"IF('8) DDGS Dryer'!J57=0,I20/1020,'8) DDGS Dryer'!J57)","v":2.0588235294117645E-6},{"$f":"IF('8) DDGS Dryer'!K57=0,J20/1020,'8) DDGS Dryer'!K57)","v":2.0588235294117645E-6},{"$f":"IF('8) DDGS Dryer'!L57=0,K20/1020,'8) DDGS Dryer'!L57)","v":2.0588235294117645E-6},null,"  Benzene ",{"$f":"N20*'8) DDGS Dryer'!$F$16","v":0},{"$f":"O20*'8) DDGS Dryer'!$F$17","v":0},{"$f":"P20*'8) DDGS Dryer'!$F$18","v":0},{"$f":"Q20*'8) DDGS Dryer'!$F$19","v":0},{"$f":"R20*'8) DDGS Dryer'!$F$20","v":0},{"$f":"S20*'8) DDGS Dryer'!$F$21","v":0},{"$f":"T20*'8) DDGS Dryer'!$F$22","v":0},{"$f":"U20*'8) DDGS Dryer'!$F$23","v":0},{"$f":"V20*'8) DDGS Dryer'!$F$24","v":0},{"$f":"W20*'8) DDGS Dryer'!$F$25","v":0},0,null,"  Benzene ",0,0,0,0,0,0,0,0,0,0,0]
["  Dichlorobenzene ",1.1999999999999999E-3,1.1999999999999999E-3,1.1999999999999999E-3,1.1999999999999999E-3,1.1999999999999999E-3,1.1999999999999999E-3,1.1999999999999999E-3,1.1999999999999999E-3,1.1999999999999999E-3,1.1999999999999999E-3,null,"  Dichlorobenzene ",{"$f":"IF('8) DDGS Dryer'!C58=0,B21/1020,'8) DDGS Dryer'!C58)","v":1.176470588235294E-6},{"$f":"IF('8) DDGS Dryer'!D58=0,C21/1020,'8) DDGS Dryer'!D58)","v":1.176470588235294E-6},{"$f":"IF('8) DDGS Dryer'!E58=0,D21/1020,'8) DDGS Dryer'!E58)","v":1.176470588235294E-6},{"$f":"IF('8) DDGS Dryer'!F58=0,E21/1020,'8) DDGS Dryer'!F58)","v":1.176470588235294E-6},{"$f":"IF('8) DDGS Dryer'!G58=0,F21/1020,'8) DDGS Dryer'!G58)","v":1.176470588235294E-6},{"$f":"IF('8) DDGS Dryer'!H58=0,G21/1020,'8) DDGS Dryer'!H58)","v":1.176470588235294E-6},{"$f":"IF('8) DDGS Dryer'!I58=0,H21/1020,'8) DDGS Dryer'!I58)","v":1.176470588235294E-6},{"$f":"IF('8) DDGS Dryer'!J58=0,I21/1020,'8) DDGS Dryer'!J58)","v":1.176470588235294E-6},{"$f":"IF('8) DDGS Dryer'!K58=0,J21/1020,'8) DDGS Dryer'!K58)","v":1.176470588235294E-6},{"$f":"IF('8) DDGS Dryer'!L58=0,K21/1020,'8) DDGS Dryer'!L58)","v":1.176470588235294E-6},null,"  Dichlorobenzene ",{"$f":"N21*'8) DDGS Dryer'!$F$16","v":0},{"$f":"O21*'8) DDGS Dryer'!$F$17","v":0},{"$f":"P21*'8) DDGS Dryer'!$F$18","v":0},{"$f":"Q21*'8) DDGS Dryer'!$F$19","v":0},{"$f":"R21*'8) DDGS Dryer'!$F$20","v":0},{"$f":"S21*'8) DDGS Dryer'!$F$21","v":0},{"$f":"T21*'8) DDGS Dryer'!$F$22","v":0},{"$f":"U21*'8) DDGS Dryer'!$F$23","v":0},{"$f":"V21*'8) DDGS Dryer'!$F$24","v":0},{"$f":"W21*'8) DDGS Dryer'!$F$25","v":0},0,null,"  Dichlorobenzene ",0,0,0,0,0,0,0,0,0,0,0]
["  Hexane ",1.8,1.8,1.8,1.8,1.8,1.8,1.8,1.8,1.8,1.8,null,"  Hexane ",{"$f":"IF('8) DDGS Dryer'!C59=0,B22/1020,'8) DDGS Dryer'!C59)","v":1.7647058823529412E-3},{"$f":"IF('8) DDGS Dryer'!D59=0,C22/1020,'8) DDGS Dryer'!D59)","v":1.7647058823529412E-3},{"$f":"IF('8) DDGS Dryer'!E59=0,D22/1020,'8) DDGS Dryer'!E59)","v":1.7647058823529412E-3},{"$f":"IF('8) DDGS Dryer'!F59=0,E22/1020,'8) DDGS Dryer'!F59)","v":1.7647058823529412E-3},{"$f":"IF('8) DDGS Dryer'!G59=0,F22/1020,'8) DDGS Dryer'!G59)","v":1.7647058823529412E-3},{"$f":"IF('8) DDGS Dryer'!H59=0,G22/1020,'8) DDGS Dryer'!H59)","v":1.7647058823529412E-3},{"$f":"IF('8) DDGS Dryer'!I59=0,H22/1020,'8) DDGS Dryer'!I59)","v":1.7647058823529412E-3},{"$f":"IF('8) DDGS Dryer'!J59=0,I22/1020,'8) DDGS Dryer'!J59)","v":1.7647058823529412E-3},{"$f":"IF('8) DDGS Dryer'!K59=0,J22/1020,'8) DDGS Dryer'!K59)","v":1.7647058823529412E-3},{"$f":"IF('8) DDGS Dryer'!L59=0,K22/1020,'8) DDGS Dryer'!L59)","v":1.7647058823529412E-3},null,"  Hexane ",{"$f":"N22*'8) DDGS Dryer'!$F$16","v":0},{"$f":"O22*'8) DDGS Dryer'!$F$17","v":0},{"$f":"P22*'8) DDGS Dryer'!$F$18","v":0},{"$f":"Q22*'8) DDGS Dryer'!$F$19","v":0},{"$f":"R22*'8) DDGS Dryer'!$F$20","v":0},{"$f":"S22*'8) DDGS Dryer'!$F$21","v":0},{"$f":"T22*'8) DDGS Dryer'!$F$22","v":0},{"$f":"U22*'8) DDGS Dryer'!$F$23","v":0},{"$f":"V22*'8) DDGS Dryer'!$F$24","v":0},{"$f":"W22*'8) DDGS Dryer'!$F$25","v":0},0,null,"  Hexane ",0,0,0,0,0,0,0,0,0,0,0]
["  Lead Compounds",5.0000000000000001E-4,5.0000000000000001E-4,5.0000000000000001E-4,5.0000000000000001E-4,5.0000000000000001E-4,5.0000000000000001E-4,5.0000000000000001E-4,5.0000000000000001E-4,5.0000000000000001E-4,5.0000000000000001E-4,null,"  Lead Compounds",{"$f":"IF('8) DDGS Dryer'!C60=0,B23/1020,'8) DDGS Dryer'!C60)","v":4.9019607843137254E-7},{"$f":"IF('8) DDGS Dryer'!D60=0,C23/1020,'8) DDGS Dryer'!D60)","v":4.9019607843137254E-7},{"$f":"IF('8) DDGS Dryer'!E60=0,D23/1020,'8) DDGS Dryer'!E60)","v":4.9019607843137254E-7},{"$f":"IF('8) DDGS Dryer'!F60=0,E23/1020,'8) DDGS Dryer'!F60)","v":4.9019607843137254E-7},{"$f":"IF('8) DDGS Dryer'!G60=0,F23/1020,'8) DDGS Dryer'!G60)","v":4.9019607843137254E-7},{"$f":"IF('8) DDGS Dryer'!H60=0,G23/1020,'8) DDGS Dryer'!H60)","v":4.9019607843137254E-7},{"$f":"IF('8) DDGS Dryer'!I60=0,H23/1020,'8) DDGS Dryer'!I60)","v":4.9019607843137254E-7},{"$f":"IF('8) DDGS Dryer'!J60=0,I23/1020,'8) DDGS Dryer'!J60)","v":4.9019607843137254E-7},{"$f":"IF('8) DDGS Dryer'!K60=0,J23/1020,'8) DDGS Dryer'!K60)","v":4.9019607843137254E-7},{"$f":"IF('8) DDGS Dryer'!L60=0,K23/1020,'8) DDGS Dryer'!L60)","v":4.9019607843137254E-7},null,"  Lead Compounds",{"$f":"N23*'8) DDGS Dryer'!$F$16","v":0},{"$f":"O23*'8) DDGS Dryer'!$F$17","v":0},{"$f":"P23*'8) DDGS Dryer'!$F$18","v":0},{"$f":"Q23*'8) DDGS Dryer'!$F$19","v":0},{"$f":"R23*'8) DDGS Dryer'!$F$20","v":0},{"$f":"S23*'8) DDGS Dryer'!$F$21","v":0},{"$f":"T23*'8) DDGS Dryer'!$F$22","v":0},{"$f":"U23*'8) DDGS Dryer'!$F$23","v":0},{"$f":"V23*'8) DDGS Dryer'!$F$24","v":0},{"$f":"W23*'8) DDGS Dryer'!$F$25","v":0},0,null,"  Lead Compounds",0,0,0,0,0,0,0,0,0,0,0]
["  Naphthalene ",6.0999999999999997E-4,6.0999999999999997E-4,6.0999999999999997E-4,6.0999999999999997E-4,6.0999999999999997E-4,6.0999999999999997E-4,6.0999999999999997E-4,6.0999999999999997E-4,6.0999999999999997E-4,6.0999999999999997E-4,null,"  Naphthalene ",{"$f":"IF('8) DDGS Dryer'!C61=0,B24/1020,'8) DDGS Dryer'!C61)","v":5.9803921568627444E-7},{"$f":"IF('8) DDGS Dryer'!D61=0,C24/1020,'8) DDGS Dryer'!D61)","v":5.9803921568627444E-7},{"$f":"IF('8) DDGS Dryer'!E61=0,D24/1020,'8) DDGS Dryer'!E61)","v":5.9803921568627444E-7},{"$f":"IF('8) DDGS Dryer'!F61=0,E24/1020,'8) DDGS Dryer'!F61)","v":5.9803921568627444E-7},{"$f":"IF('8) DDGS Dryer'!G61=0,F24/1020,'8) DDGS Dryer'!G61)","v":5.9803921568627444E-7},{"$f":"IF('8) DDGS Dryer'!H61=0,G24/1020,'8) DDGS Dryer'!H61)","v":5.9803921568627444E-7},{"$f":"IF('8) DDGS Dryer'!I61=0,H24/1020,'8) DDGS Dryer'!I61)","v":5.9803921568627444E-7},{"$f":"IF('8) DDGS Dryer'!J61=0,I24/1020,'8) DDGS Dryer'!J61)","v":5.9803921568627444E-7},{"$f":"IF('8) DDGS Dryer'!K61=0,J24/1020,'8) DDGS Dryer'!K61)","v":5.9803921568627444E-7},{"$f":"IF('8) DDGS Dryer'!L61=0,K24/1020,'8) DDGS Dryer'!L61)","v":5.9803921568627444E-7},null,"  Naphthalene ",{"$f":"N24*'8) DDGS Dryer'!$F$16","v":0},{"$f":"O24*'8) DDGS Dryer'!$F$17","v":0},{"$f":"P24*'8) DDGS Dryer'!$F$18","v":0},{"$f":"Q24*'8) DDGS Dryer'!$F$19","v":0},{"$f":"R24*'8) DDGS Dryer'!$F$20","v":0},{"$f":"S24*'8) DDGS Dryer'!$F$21","v":0},{"$f":"T24*'8) DDGS Dryer'!$F$22","v":0},{"$f":"U24*'8) DDGS Dryer'!$F$23","v":0},{"$f":"V24*'8) DDGS Dryer'!$F$24","v":0},{"$f":"W24*'8) DDGS Dryer'!$F$25","v":0},0,null,"  Naphthalene ",0,0,0,0,0,0,0,0,0,0,0]
["  Polycyclic Organic Matter ",8.8200000000000003E-5,8.8200000000000003E-5,8.8200000000000003E-5,8.8200000000000003E-5,8.8200000000000003E-5,8.8200000000000003E-5,8.8200000000000003E-5,8.8200000000000003E-5,8.8200000000000003E-5,8.8200000000000003E-5,null,"  Polycyclic Organic Matter ",{"$f":"IF('8) DDGS Dryer'!C62=0,B25/1020,'8) DDGS Dryer'!C62)","v":8.6470588235294114E-8},{"$f":"IF('8) DDGS Dryer'!D62=0,C25/1020,'8) DDGS Dryer'!D62)","v":8.6470588235294114E-8},{"$f":"IF('8) DDGS Dryer'!E62=0,D25/1020,'8) DDGS Dryer'!E62)","v":8.6470588235294114E-8},{"$f":"IF('8) DDGS Dryer'!F62=0,E25/1020,'8) DDGS Dryer'!F62)","v":8.6470588235294114E-8},{"$f":"IF('8) DDGS Dryer'!G62=0,F25/1020,'8) DDGS Dryer'!G62)","v":8.6470588235294114E-8},{"$f":"IF('8) DDGS Dryer'!H62=0,G25/1020,'8) DDGS Dryer'!H62)","v":8.6470588235294114E-8},{"$f":"IF('8) DDGS Dryer'!I62=0,H25/1020,'8) DDGS Dryer'!I62)","v":8.6470588235294114E-8},{"$f":"IF('8) DDGS Dryer'!J62=0,I25/1020,'8) DDGS Dryer'!J62)","v":8.6470588235294114E-8},{"$f":"IF('8) DDGS Dryer'!K62=0,J25/1020,'8) DDGS Dryer'!K62)","v":8.6470588235294114E-8},{"$f":"IF('8) DDGS Dryer'!L62=0,K25/1020,'8) DDGS Dryer'!L62)","v":8.6470588235294114E-8},null,"  Polycyclic Organic Matter ",{"$f":"N25*'8) DDGS Dryer'!$F$16","v":0},{"$f":"O25*'8) DDGS Dryer'!$F$17","v":0},{"$f":"P25*'8) DDGS Dryer'!$F$18","v":0},{"$f":"Q25*'8) DDGS Dryer'!$F$19","v":0},{"$f":"R25*'8) DDGS Dryer'!$F$20","v":0},{"$f":"S25*'8) DDGS Dryer'!$F$21","v":0},{"$f":"T25*'8) DDGS Dryer'!$F$22","v":0},{"$f":"U25*'8) DDGS Dryer'!$F$23","v":0},{"$f":"V25*'8) DDGS Dryer'!$F$24","v":0},{"$f":"W25*'8) DDGS Dryer'!$F$25","v":0},0,null,"  Polycyclic Organic Matter ",0,0,0,0,0,0,0,0,0,0,0]
["  Toluene ",3.3999999999999998E-3,3.3999999999999998E-3,3.3999999999999998E-3,3.3999999999999998E-3,3.3999999999999998E-3,3.3999999999999998E-3,3.3999999999999998E-3,3.3999999999999998E-3,3.3999999999999998E-3,3.3999999999999998E-3,null,"  Toluene ",{"$f":"IF('8) DDGS Dryer'!C63=0,B26/1020,'8) DDGS Dryer'!C63)","v":3.3333333333333333E-6},{"$f":"IF('8) DDGS Dryer'!D63=0,C26/1020,'8) DDGS Dryer'!D63)","v":3.3333333333333333E-6},{"$f":"IF('8) DDGS Dryer'!E63=0,D26/1020,'8) DDGS Dryer'!E63)","v":3.3333333333333333E-6},{"$f":"IF('8) DDGS Dryer'!F63=0,E26/1020,'8) DDGS Dryer'!F63)","v":3.3333333333333333E-6},{"$f":"IF('8) DDGS Dryer'!G63=0,F26/1020,'8) DDGS Dryer'!G63)","v":3.3333333333333333E-6},{"$f":"IF('8) DDGS Dryer'!H63=0,G26/1020,'8) DDGS Dryer'!H63)","v":3.3333333333333333E-6},{"$f":"IF('8) DDGS Dryer'!I63=0,H26/1020,'8) DDGS Dryer'!I63)","v":3.3333333333333333E-6},{"$f":"IF('8) DDGS Dryer'!J63=0,I26/1020,'8) DDGS Dryer'!J63)","v":3.3333333333333333E-6},{"$f":"IF('8) DDGS Dryer'!K63=0,J26/1020,'8) DDGS Dryer'!K63)","v":3.3333333333333333E-6},{"$f":"IF('8) DDGS Dryer'!L63=0,K26/1020,'8) DDGS Dryer'!L63)","v":3.3333333333333333E-6},null,"  Toluene ",{"$f":"N26*'8) DDGS Dryer'!$F$16","v":0},{"$f":"O26*'8) DDGS Dryer'!$F$17","v":0},{"$f":"P26*'8) DDGS Dryer'!$F$18","v":0},{"$f":"Q26*'8) DDGS Dryer'!$F$19","v":0},{"$f":"R26*'8) DDGS Dryer'!$F$20","v":0},{"$f":"S26*'8) DDGS Dryer'!$F$21","v":0},{"$f":"T26*'8) DDGS Dryer'!$F$22","v":0},{"$f":"U26*'8) DDGS Dryer'!$F$23","v":0},{"$f":"V26*'8) DDGS Dryer'!$F$24","v":0},{"$f":"W26*'8) DDGS Dryer'!$F$25","v":0},0,null,"  Toluene ",0,0,0,0,0,0,0,0,0,0,0]
["  Arsenic Compounds",2.0000000000000001E-4,2.0000000000000001E-4,2.0000000000000001E-4,2.0000000000000001E-4,2.0000000000000001E-4,2.0000000000000001E-4,2.0000000000000001E-4,2.0000000000000001E-4,2.0000000000000001E-4,2.0000000000000001E-4,null,"  Arsenic Compounds",{"$f":"IF('8) DDGS Dryer'!C64=0,B27/1020,'8) DDGS Dryer'!C64)","v":1.9607843137254904E-7},{"$f":"IF('8) DDGS Dryer'!D64=0,C27/1020,'8) DDGS Dryer'!D64)","v":1.9607843137254904E-7},{"$f":"IF('8) DDGS Dryer'!E64=0,D27/1020,'8) DDGS Dryer'!E64)","v":1.9607843137254904E-7},{"$f":"IF('8) DDGS Dryer'!F64=0,E27/1020,'8) DDGS Dryer'!F64)","v":1.9607843137254904E-7},{"$f":"IF('8) DDGS Dryer'!G64=0,F27/1020,'8) DDGS Dryer'!G64)","v":1.9607843137254904E-7},{"$f":"IF('8) DDGS Dryer'!H64=0,G27/1020,'8) DDGS Dryer'!H64)","v":1.9607843137254904E-7},{"$f":"IF('8) DDGS Dryer'!I64=0,H27/1020,'8) DDGS Dryer'!I64)","v":1.9607843137254904E-7},{"$f":"IF('8) DDGS Dryer'!J64=0,I27/1020,'8) DDGS Dryer'!J64)","v":1.9607843137254904E-7},{"$f":"IF('8) DDGS Dryer'!K64=0,J27/1020,'8) DDGS Dryer'!K64)","v":1.9607843137254904E-7},{"$f":"IF('8) DDGS Dryer'!L64=0,K27/1020,'8) DDGS Dryer'!L64)","v":1.9607843137254904E-7},null,"  Arsenic Compounds",{"$f":"N27*'8) DDGS Dryer'!$F$16","v":0},{"$f":"O27*'8) DDGS Dryer'!$F$17","v":0},{"$f":"P27*'8) DDGS Dryer'!$F$18","v":0},{"$f":"Q27*'8) DDGS Dryer'!$F$19","v":0},{"$f":"R27*'8) DDGS Dryer'!$F$20","v":0},{"$f":"S27*'8) DDGS Dryer'!$F$21","v":0},{"$f":"T27*'8) DDGS Dryer'!$F$22","v":0},{"$f":"U27*'8) DDGS Dryer'!$F$23","v":0},{"$f":"V27*'8) DDGS Dryer'!$F$24","v":0},{"$f":"W27*'8) DDGS Dryer'!$F$25","v":0},0,null,"  Arsenic Compounds",0,0,0,0,0,0,0,0,0,0,0]
["  Beryllium Compounds",1.2E-5,1.2E-5,1.2E-5,1.2E-5,1.2E-5,1.2E-5,1.2E-5,1.2E-5,1.2E-5,1.2E-5,null,"  Beryllium Compounds",{"$f":"IF('8) DDGS Dryer'!C65=0,B28/1020,'8) DDGS Dryer'!C65)","v":1.1764705882352941E-8},{"$f":"IF('8) DDGS Dryer'!D65=0,C28/1020,'8) DDGS Dryer'!D65)","v":1.1764705882352941E-8},{"$f":"IF('8) DDGS Dryer'!E65=0,D28/1020,'8) DDGS Dryer'!E65)","v":1.1764705882352941E-8},{"$f":"IF('8) DDGS Dryer'!F65=0,E28/1020,'8) DDGS Dryer'!F65)","v":1.1764705882352941E-8},{"$f":"IF('8) DDGS Dryer'!G65=0,F28/1020,'8) DDGS Dryer'!G65)","v":1.1764705882352941E-8},{"$f":"IF('8) DDGS Dryer'!H65=0,G28/1020,'8) DDGS Dryer'!H65)","v":1.1764705882352941E-8},{"$f":"IF('8) DDGS Dryer'!I65=0,H28/1020,'8) DDGS Dryer'!I65)","v":1.1764705882352941E-8},{"$f":"IF('8) DDGS Dryer'!J65=0,I28/1020,'8) DDGS Dryer'!J65)","v":1.1764705882352941E-8},{"$f":"IF('8) DDGS Dryer'!K65=0,J28/1020,'8) DDGS Dryer'!K65)","v":1.1764705882352941E-8},{"$f":"IF('8) DDGS Dryer'!L65=0,K28/1020,'8) DDGS Dryer'!L65)","v":1.1764705882352941E-8},null,"  Beryllium Compounds",{"$f":"N28*'8) DDGS Dryer'!$F$16","v":0},{"$f":"O28*'8) DDGS Dryer'!$F$17","v":0},{"$f":"P28*'8) DDGS Dryer'!$F$18","v":0},{"$f":"Q28*'8) DDGS Dryer'!$F$19","v":0},{"$f":"R28*'8) DDGS Dryer'!$F$20","v":0},{"$f":"S28*'8) DDGS Dryer'!$F$21","v":0},{"$f":"T28*'8) DDGS Dryer'!$F$22","v":0},{"$f":"U28*'8) DDGS Dryer'!$F$23","v":0},{"$f":"V28*'8) DDGS Dryer'!$F$24","v":0},{"$f":"W28*'8) DDGS Dryer'!$F$25","v":0},0,null,"  Beryllium Compounds",0,0,0,0,0,0,0,0,0,0,0]
["  Cadmium Compounds",1.1000000000000001E-3,1.1000000000000001E-3,1.1000000000000001E-3,1.1000000000000001E-3,1.1000000000000001E-3,1.1000000000000001E-3,1.1000000000000001E-3,1.1000000000000001E-3,1.1000000000000001E-3,1.1000000000000001E-3,null,"  Cadmium Compounds",{"$f":"IF('8) DDGS Dryer'!C66=0,B29/1020,'8) DDGS Dryer'!C66)","v":1.0784313725490197E-6},{"$f":"IF('8) DDGS Dryer'!D66=0,C29/1020,'8) DDGS Dryer'!D66)","v":1.0784313725490197E-6},{"$f":"IF('8) DDGS Dryer'!E66=0,D29/1020,'8) DDGS Dryer'!E66)","v":1.0784313725490197E-6},{"$f":"IF('8) DDGS Dryer'!F66=0,E29/1020,'8) DDGS Dryer'!F66)","v":1.0784313725490197E-6},{"$f":"IF('8) DDGS Dryer'!G66=0,F29/1020,'8) DDGS Dryer'!G66)","v":1.0784313725490197E-6},{"$f":"IF('8) DDGS Dryer'!H66=0,G29/1020,'8) DDGS Dryer'!H66)","v":1.0784313725490197E-6},{"$f":"IF('8) DDGS Dryer'!I66=0,H29/1020,'8) DDGS Dryer'!I66)","v":1.0784313725490197E-6},{"$f":"IF('8) DDGS Dryer'!J66=0,I29/1020,'8) DDGS Dryer'!J66)","v":1.0784313725490197E-6},{"$f":"IF('8) DDGS Dryer'!K66=0,J29/1020,'8) DDGS Dryer'!K66)","v":1.0784313725490197E-6},{"$f":"IF('8) DDGS Dryer'!L66=0,K29/1020,'8) DDGS Dryer'!L66)","v":1.0784313725490197E-6},null,"  Cadmium Compounds",{"$f":"N29*'8) DDGS Dryer'!$F$16","v":0},{"$f":"O29*'8) DDGS Dryer'!$F$17","v":0},{"$f":"P29*'8) DDGS Dryer'!$F$18","v":0},{"$f":"Q29*'8) DDGS Dryer'!$F$19","v":0},{"$f":"R29*'8) DDGS Dryer'!$F$20","v":0},{"$f":"S29*'8) DDGS Dryer'!$F$21","v":0},{"$f":"T29*'8) DDGS Dryer'!$F$22","v":0},{"$f":"U29*'8) DDGS Dryer'!$F$23","v":0},{"$f":"V29*'8) DDGS Dryer'!$F$24","v":0},{"$f":"W29*'8) DDGS Dryer'!$F$25","v":0},0,null,"  Cadmium Compounds",0,0,0,0,0,0,0,0,0,0,0]
["  Chromium Compounds",1.4E-3,1.4E-3,1.4E-3,1.4E-3,1.4E-3,1.4E-3,1.4E-3,1.4E-3,1.4E-3,1.4E-3,null,"  Chromium Compounds",{"$f":"IF('8) DDGS Dryer'!C67=0,B30/1020,'8) DDGS Dryer'!C67)","v":1.3725490196078432E-6},{"$f":"IF('8) DDGS Dryer'!D67=0,C30/1020,'8) DDGS Dryer'!D67)","v":1.3725490196078432E-6},{"$f":"IF('8) DDGS Dryer'!E67=0,D30/1020,'8) DDGS Dryer'!E67)","v":1.3725490196078432E-6},{"$f":"IF('8) DDGS Dryer'!F67=0,E30/1020,'8) DDGS Dryer'!F67)","v":1.3725490196078432E-6},{"$f":"IF('8) DDGS Dryer'!G67=0,F30/1020,'8) DDGS Dryer'!G67)","v":1.3725490196078432E-6},{"$f":"IF('8) DDGS Dryer'!H67=0,G30/1020,'8) DDGS Dryer'!H67)","v":1.3725490196078432E-6},{"$f":"IF('8) DDGS Dryer'!I67=0,H30/1020,'8) DDGS Dryer'!I67)","v":1.3725490196078432E-6},{"$f":"IF('8) DDGS Dryer'!J67=0,I30/1020,'8) DDGS Dryer'!J67)","v":1.3725490196078432E-6},{"$f":"IF('8) DDGS Dryer'!K67=0,J30/1020,'8) DDGS Dryer'!K67)","v":1.3725490196078432E-6},{"$f":"IF('8) DDGS Dryer'!L67=0,K30/1020,'8) DDGS Dryer'!L67)","v":1.3725490196078432E-6},null,"  Chromium Compounds",{"$f":"N30*'8) DDGS Dryer'!$F$16","v":0},{"$f":"O30*'8) DDGS Dryer'!$F$17","v":0},{"$f":"P30*'8) DDGS Dryer'!$F$18","v":0},{"$f":"Q30*'8) DDGS Dryer'!$F$19","v":0},{"$f":"R30*'8) DDGS Dryer'!$F$20","v":0},{"$f":"S30*'8) DDGS Dryer'!$F$21","v":0},{"$f":"T30*'8) DDGS Dryer'!$F$22","v":0},{"$f":"U30*'8) DDGS Dryer'!$F$23","v":0},{"$f":"V30*'8) DDGS Dryer'!$F$24","v":0},{"$f":"W30*'8) DDGS Dryer'!$F$25","v":0},0,null,"  Chromium Compounds",0,0,0,0,0,0,0,0,0,0,0]
["  Cobalt Compounds",8.3999999999999995E-5,8.3999999999999995E-5,8.3999999999999995E-5,8.3999999999999995E-5,8.3999999999999995E-5,8.3999999999999995E-5,8.3999999999999995E-5,8.3999999999999995E-5,8.3999999999999995E-5,8.3999999999999995E-5,null,"  Cobalt Compounds",{"$f":"IF('8) DDGS Dryer'!C68=0,B31/1020,'8) DDGS Dryer'!C68)","v":8.2352941176470587E-8},{"$f":"IF('8) DDGS Dryer'!D68=0,C31/1020,'8) DDGS Dryer'!D68)","v":8.2352941176470587E-8},{"$f":"IF('8) DDGS Dryer'!E68=0,D31/1020,'8) DDGS Dryer'!E68)","v":8.2352941176470587E-8},{"$f":"IF('8) DDGS Dryer'!F68=0,E31/1020,'8) DDGS Dryer'!F68)","v":8.2352941176470587E-8},{"$f":"IF('8) DDGS Dryer'!G68=0,F31/1020,'8) DDGS Dryer'!G68)","v":8.2352941176470587E-8},{"$f":"IF('8) DDGS Dryer'!H68=0,G31/1020,'8) DDGS Dryer'!H68)","v":8.2352941176470587E-8},{"$f":"IF('8) DDGS Dryer'!I68=0,H31/1020,'8) DDGS Dryer'!I68)","v":8.2352941176470587E-8},{"$f":"IF('8) DDGS Dryer'!J68=0,I31/1020,'8) DDGS Dryer'!J68)","v":8.2352941176470587E-8},{"$f":"IF('8) DDGS Dryer'!K68=0,J31/1020,'8) DDGS Dryer'!K68)","v":8.2352941176470587E-8},{"$f":"IF('8) DDGS Dryer'!L68=0,K31/1020,'8) DDGS Dryer'!L68)","v":8.2352941176470587E-8},null,"  Cobalt Compounds",{"$f":"N31*'8) DDGS Dryer'!$F$16","v":0},{"$f":"O31*'8) DDGS Dryer'!$F$17","v":0},{"$f":"P31*'8) DDGS Dryer'!$F$18","v":0},{"$f":"Q31*'8) DDGS Dryer'!$F$19","v":0},{"$f":"R31*'8) DDGS Dryer'!$F$20","v":0},{"$f":"S31*'8) DDGS Dryer'!$F$21","v":0},{"$f":"T31*'8) DDGS Dryer'!$F$22","v":0},{"$f":"U31*'8) DDGS Dryer'!$F$23","v":0},{"$f":"V31*'8) DDGS Dryer'!$F$24","v":0},{"$f":"W31*'8) DDGS Dryer'!$F$25","v":0},0,null,"  Cobalt Compounds",0,0,0,0,0,0,0,0,0,0,0]
["  Manganese Compounds",3.8000000000000002E-4,3.8000000000000002E-4,3.8000000000000002E-4,3.8000000000000002E-4,3.8000000000000002E-4,3.8000000000000002E-4,3.8000000000000002E-4,3.8000000000000002E-4,3.8000000000000002E-4,3.8000000000000002E-4,null,"  Manganese Compounds",{"$f":"IF('8) DDGS Dryer'!C69=0,B32/1020,'8) DDGS Dryer'!C69)","v":3.7254901960784315E-7},{"$f":"IF('8) DDGS Dryer'!D69=0,C32/1020,'8) DDGS Dryer'!D69)","v":3.7254901960784315E-7},{"$f":"IF('8) DDGS Dryer'!E69=0,D32/1020,'8) DDGS Dryer'!E69)","v":3.7254901960784315E-7},{"$f":"IF('8) DDGS Dryer'!F69=0,E32/1020,'8) DDGS Dryer'!F69)","v":3.7254901960784315E-7},{"$f":"IF('8) DDGS Dryer'!G69=0,F32/1020,'8) DDGS Dryer'!G69)","v":3.7254901960784315E-7},{"$f":"IF('8) DDGS Dryer'!H69=0,G32/1020,'8) DDGS Dryer'!H69)","v":3.7254901960784315E-7},{"$f":"IF('8) DDGS Dryer'!I69=0,H32/1020,'8) DDGS Dryer'!I69)","v":3.7254901960784315E-7},{"$f":"IF('8) DDGS Dryer'!J69=0,I32/1020,'8) DDGS Dryer'!J69)","v":3.7254901960784315E-7},{"$f":"IF('8) DDGS Dryer'!K69=0,J32/1020,'8) DDGS Dryer'!K69)","v":3.7254901960784315E-7},{"$f":"IF('8) DDGS Dryer'!L69=0,K32/1020,'8) DDGS Dryer'!L69)","v":3.7254901960784315E-7},null,"  Manganese Compounds",{"$f":"N32*'8) DDGS Dryer'!$F$16","v":0},{"$f":"O32*'8) DDGS Dryer'!$F$17","v":0},{"$f":"P32*'8) DDGS Dryer'!$F$18","v":0},{"$f":"Q32*'8) DDGS Dryer'!$F$19","v":0},{"$f":"R32*'8) DDGS Dryer'!$F$20","v":0},{"$f":"S32*'8) DDGS Dryer'!$F$21","v":0},{"$f":"T32*'8) DDGS Dryer'!$F$22","v":0},{"$f":"U32*'8) DDGS Dryer'!$F$23","v":0},{"$f":"V32*'8) DDGS Dryer'!$F$24","v":0},{"$f":"W32*'8) DDGS Dryer'!$F$25","v":0},0,null,"  Manganese Compounds",0,0,0,0,0,0,0,0,0,0,0]
["  Mercury Compounds",2.5999999999999998E-4,2.5999999999999998E-4,2.5999999999999998E-4,2.5999999999999998E-4,2.5999999999999998E-4,2.5999999999999998E-4,2.5999999999999998E-4,2.5999999999999998E-4,2.5999999999999998E-4,2.5999999999999998E-4,null,"  Mercury Compounds",{"$f":"IF('8) DDGS Dryer'!C70=0,B33/1020,'8) DDGS Dryer'!C70)","v":2.5490196078431371E-7},{"$f":"IF('8) DDGS Dryer'!D70=0,C33/1020,'8) DDGS Dryer'!D70)","v":2.5490196078431371E-7},{"$f":"IF('8) DDGS Dryer'!E70=0,D33/1020,'8) DDGS Dryer'!E70)","v":2.5490196078431371E-7},{"$f":"IF('8) DDGS Dryer'!F70=0,E33/1020,'8) DDGS Dryer'!F70)","v":2.5490196078431371E-7},{"$f":"IF('8) DDGS Dryer'!G70=0,F33/1020,'8) DDGS Dryer'!G70)","v":2.5490196078431371E-7},{"$f":"IF('8) DDGS Dryer'!H70=0,G33/1020,'8) DDGS Dryer'!H70)","v":2.5490196078431371E-7},{"$f":"IF('8) DDGS Dryer'!I70=0,H33/1020,'8) DDGS Dryer'!I70)","v":2.5490196078431371E-7},{"$f":"IF('8) DDGS Dryer'!J70=0,I33/1020,'8) DDGS Dryer'!J70)","v":2.5490196078431371E-7},{"$f":"IF('8) DDGS Dryer'!K70=0,J33/1020,'8) DDGS Dryer'!K70)","v":2.5490196078431371E-7},{"$f":"IF('8) DDGS Dryer'!L70=0,K33/1020,'8) DDGS Dryer'!L70)","v":2.5490196078431371E-7},null,"  Mercury Compounds",{"$f":"N33*'8) DDGS Dryer'!$F$16","v":0},{"$f":"O33*'8) DDGS Dryer'!$F$17","v":0},{"$f":"P33*'8) DDGS Dryer'!$F$18","v":0},{"$f":"Q33*'8) DDGS Dryer'!$F$19","v":0},{"$f":"R33*'8) DDGS Dryer'!$F$20","v":0},{"$f":"S33*'8) DDGS Dryer'!$F$21","v":0},{"$f":"T33*'8) DDGS Dryer'!$F$22","v":0},{"$f":"U33*'8) DDGS Dryer'!$F$23","v":0},{"$f":"V33*'8) DDGS Dryer'!$F$24","v":0},{"$f":"W33*'8) DDGS Dryer'!$F$25","v":0},0,null,"  Mercury Compounds",0,0,0,0,0,0,0,0,0,0,0]
["  Nickel Compounds",2.0999999999999999E-3,2.0999999999999999E-3,2.0999999999999999E-3,2.0999999999999999E-3,2.0999999999999999E-3,2.0999999999999999E-3,2.0999999999999999E-3,2.0999999999999999E-3,2.0999999999999999E-3,2.0999999999999999E-3,null,"  Nickel Compounds",{"$f":"IF('8) DDGS Dryer'!C71=0,B34/1020,'8) DDGS Dryer'!C71)","v":2.0588235294117645E-6},{"$f":"IF('8) DDGS Dryer'!D71=0,C34/1020,'8) DDGS Dryer'!D71)","v":2.0588235294117645E-6},{"$f":"IF('8) DDGS Dryer'!E71=0,D34/1020,'8) DDGS Dryer'!E71)","v":2.0588235294117645E-6},{"$f":"IF('8) DDGS Dryer'!F71=0,E34/1020,'8) DDGS Dryer'!F71)","v":2.0588235294117645E-6},{"$f":"IF('8) DDGS Dryer'!G71=0,F34/1020,'8) DDGS Dryer'!G71)","v":2.0588235294117645E-6},{"$f":"IF('8) DDGS Dryer'!H71=0,G34/1020,'8) DDGS Dryer'!H71)","v":2.0588235294117645E-6},{"$f":"IF('8) DDGS Dryer'!I71=0,H34/1020,'8) DDGS Dryer'!I71)","v":2.0588235294117645E-6},{"$f":"IF('8) DDGS Dryer'!J71=0,I34/1020,'8) DDGS Dryer'!J71)","v":2.0588235294117645E-6},{"$f":"IF('8) DDGS Dryer'!K71=0,J34/1020,'8) DDGS Dryer'!K71)","v":2.0588235294117645E-6},{"$f":"IF('8) DDGS Dryer'!L71=0,K34/1020,'8) DDGS Dryer'!L71)","v":2.0588235294117645E-6},null,"  Nickel Compounds",{"$f":"N34*'8) DDGS Dryer'!$F$16","v":0},{"$f":"O34*'8) DDGS Dryer'!$F$17","v":0},{"$f":"P34*'8) DDGS Dryer'!$F$18","v":0},{"$f":"Q34*'8) DDGS Dryer'!$F$19","v":0},{"$f":"R34*'8) DDGS Dryer'!$F$20","v":0},{"$f":"S34*'8) DDGS Dryer'!$F$21","v":0},{"$f":"T34*'8) DDGS Dryer'!$F$22","v":0},{"$f":"U34*'8) DDGS Dryer'!$F$23","v":0},{"$f":"V34*'8) DDGS Dryer'!$F$24","v":0},{"$f":"W34*'8) DDGS Dryer'!$F$25","v":0},0,null,"  Nickel Compounds",0,0,0,0,0,0,0,0,0,0,0]
["  Selenium Compounds",2.4000000000000001E-5,2.4000000000000001E-5,2.4000000000000001E-5,2.4000000000000001E-5,2.4000000000000001E-5,2.4000000000000001E-5,2.4000000000000001E-5,2.4000000000000001E-5,2.4000000000000001E-5,2.4000000000000001E-5,null,"  Selenium Compounds",{"$f":"IF('8) DDGS Dryer'!C72=0,B35/1020,'8) DDGS Dryer'!C72)","v":2.3529411764705881E-8},{"$f":"IF('8) DDGS Dryer'!D72=0,C35/1020,'8) DDGS Dryer'!D72)","v":2.3529411764705881E-8},{"$f":"IF('8) DDGS Dryer'!E72=0,D35/1020,'8) DDGS Dryer'!E72)","v":2.3529411764705881E-8},{"$f":"IF('8) DDGS Dryer'!F72=0,E35/1020,'8) DDGS Dryer'!F72)","v":2.3529411764705881E-8},{"$f":"IF('8) DDGS Dryer'!G72=0,F35/1020,'8) DDGS Dryer'!G72)","v":2.3529411764705881E-8},{"$f":"IF('8) DDGS Dryer'!H72=0,G35/1020,'8) DDGS Dryer'!H72)","v":2.3529411764705881E-8},{"$f":"IF('8) DDGS Dryer'!I72=0,H35/1020,'8) DDGS Dryer'!I72)","v":2.3529411764705881E-8},{"$f":"IF('8) DDGS Dryer'!J72=0,I35/1020,'8) DDGS Dryer'!J72)","v":2.3529411764705881E-8},{"$f":"IF('8) DDGS Dryer'!K72=0,J35/1020,'8) DDGS Dryer'!K72)","v":2.3529411764705881E-8},{"$f":"IF('8) DDGS Dryer'!L72=0,K35/1020,'8) DDGS Dryer'!L72)","v":2.3529411764705881E-8},null,"  Selenium Compounds",{"$f":"N35*'8) DDGS Dryer'!$F$16","v":0},{"$f":"O35*'8) DDGS Dryer'!$F$17","v":0},{"$f":"P35*'8) DDGS Dryer'!$F$18","v":0},{"$f":"Q35*'8) DDGS Dryer'!$F$19","v":0},{"$f":"R35*'8) DDGS Dryer'!$F$20","v":0},{"$f":"S35*'8) DDGS Dryer'!$F$21","v":0},{"$f":"T35*'8) DDGS Dryer'!$F$22","v":0},{"$f":"U35*'8) DDGS Dryer'!$F$23","v":0},{"$f":"V35*'8) DDGS Dryer'!$F$24","v":0},{"$f":"W35*'8) DDGS Dryer'!$F$25","v":0},0,null,"  Selenium Compounds",0,0,0,0,0,0,0,0,0,0,0]
["Total HAPs",null,null,null,null,null,null,null,null,null,null,null,"Total HAPs",{"$f":"IF('8) DDGS Dryer'!C73=0,B36/1020,'8) DDGS Dryer'!C73)","v":0},{"$f":"IF('8) DDGS Dryer'!D73=0,C36/1020,'8) DDGS Dryer'!D73)","v":0},{"$f":"IF('8) DDGS Dryer'!E73=0,D36/1020,'8) DDGS Dryer'!E73)","v":0},{"$f":"IF('8) DDGS Dryer'!F73=0,E36/1020,'8) DDGS Dryer'!F73)","v":0},{"$f":"IF('8) DDGS Dryer'!G73=0,F36/1020,'8) DDGS Dryer'!G73)","v":0},{"$f":"IF('8) DDGS Dryer'!H73=0,G36/1020,'8) DDGS Dryer'!H73)","v":0},{"$f":"IF('8) DDGS Dryer'!I73=0,H36/1020,'8) DDGS Dryer'!I73)","v":0},{"$f":"IF('8) DDGS Dryer'!J73=0,I36/1020,'8) DDGS Dryer'!J73)","v":0},{"$f":"IF('8) DDGS Dryer'!K73=0,J36/1020,'8) DDGS Dryer'!K73)","v":0},{"$f":"IF('8) DDGS Dryer'!L73=0,K36/1020,'8) DDGS Dryer'!L73)","v":0},null,"Total HAPs",{"$f":"SUM(Z20:Z35)","v":0},0,0,0,0,0,0,0,0,0,0,null,"Total HAPs",0,0,0,0,0,0,0,0,0,0,0]
["Greenhouse Gases (GHG)","(lb/MMBtu)"]
["  Carbon Dioxide (CO2)",{"$f":"53.06*2.20462","v":116.9771372},{"$f":"53.06*2.20462","v":116.9771372},116.9771372,116.9771372,116.9771372,116.9771372,116.9771372,116.9771372,116.9771372,116.9771372,null,"  Carbon Dioxide (CO2)",{"$f":"IF('8) DDGS Dryer'!C75=0,B38,'8) DDGS Dryer'!C75)","v":116.9771372},{"$f":"IF('8) DDGS Dryer'!D75=0,C38,'8) DDGS Dryer'!D75)","v":116.9771372},{"$f":"IF('8) DDGS Dryer'!E75=0,D38,'8) DDGS Dryer'!E75)","v":116.9771372},{"$f":"IF('8) DDGS Dryer'!F75=0,E38,'8) DDGS Dryer'!F75)","v":116.9771372},{"$f":"IF('8) DDGS Dryer'!G75=0,F38,'8) DDGS Dryer'!G75)","v":116.9771372},{"$f":"IF('8) DDGS Dryer'!H75=0,G38,'8) DDGS Dryer'!H75)","v":116.9771372},{"$f":"IF('8) DDGS Dryer'!I75=0,H38,'8) DDGS Dryer'!I75)","v":116.9771372},{"$f":"IF('8) DDGS Dryer'!J75=0,I38,'8) DDGS Dryer'!J75)","v":116.9771372},{"$f":"IF('8) DDGS Dryer'!K75=0,J38,'8) DDGS Dryer'!K75)","v":116.9771372},{"$f":"IF('8) DDGS Dryer'!L75=0,K38,'8) DDGS Dryer'!L75)","v":116.9771372},null,"  Carbon Dioxide (CO2)",{"$f":"N38*'8) DDGS Dryer'!$F$16","v":0},{"$f":"O38*'8) DDGS Dryer'!$F$17","v":0},{"$f":"P38*'8) DDGS Dryer'!$F$18","v":0},{"$f":"Q38*'8) DDGS Dryer'!$F$19","v":0},{"$f":"R38*'8) DDGS Dryer'!$F$20","v":0},{"$f":"S38*'8) DDGS Dryer'!$F$21","v":0},{"$f":"T38*'8) DDGS Dryer'!$F$22","v":0},{"$f":"U38*'8) DDGS Dryer'!$F$23","v":0},{"$f":"V38*'8) DDGS Dryer'!$F$24","v":0},{"$f":"W38*'8) DDGS Dryer'!$F$25","v":0},{"$f":"SUM(Z38:AI38)","v":0},null,"  Carbon Dioxide (CO2)",{"$f":"Z38*AM$5/2000","v":0},{"$f":"AA38*AN$5/2000","v":0},{"$f":"AB38*AO$5/2000","v":0},{"$f":"AC38*AP$5/2000","v":0},{"$f":"AD38*AQ$5/2000","v":0},{"$f":"AE38*AR$5/2000","v":0},{"$f":"AF38*AS$5/2000","v":0},{"$f":"AG38*AT$5/2000","v":0},{"$f":"AH38*AU$5/2000","v":0},{"$f":"AI38*AV$5/2000","v":0},{"$f":"SUM(AM38:AV38)","v":0}]
["  Methane (CH4)",{"$f":"0.001*2.20462","v":2.20462E-3},{"$f":"0.001*2.20462","v":2.20462E-3},2.20462E-3,2.20462E-3,2.20462E-3,2.20462E-3,2.20462E-3,2.20462E-3,2.20462E-3,2.20462E-3,null,"  Methane (CH4)",{"$f":"IF('8) DDGS Dryer'!C76=0,B39,'8) DDGS Dryer'!C76)","v":2.20462E-3},{"$f":"IF('8) DDGS Dryer'!D76=0,C39,'8) DDGS Dryer'!D76)","v":2.20462E-3},{"$f":"IF('8) DDGS Dryer'!E76=0,D39,'8) DDGS Dryer'!E76)","v":2.20462E-3},{"$f":"IF('8) DDGS Dryer'!F76=0,E39,'8) DDGS Dryer'!F76)","v":2.20462E-3},{"$f":"IF('8) DDGS Dryer'!G76=0,F39,'8) DDGS Dryer'!G76)","v":2.20462E-3},{"$f":"IF('8) DDGS Dryer'!H76=0,G39,'8) DDGS Dryer'!H76)","v":2.20462E-3},{"$f":"IF('8) DDGS Dryer'!I76=0,H39,'8) DDGS Dryer'!I76)","v":2.20462E-3},{"$f":"IF('8) DDGS Dryer'!J76=0,I39,'8) DDGS Dryer'!J76)","v":2.20462E-3},{"$f":"IF('8) DDGS Dryer'!K76=0,J39,'8) DDGS Dryer'!K76)","v":2.20462E-3},{"$f":"IF('8) DDGS Dryer'!L76=0,K39,'8) DDGS Dryer'!L76)","v":2.20462E-3},null,"  Methane (CH4)",{"$f":"N39*'8) DDGS Dryer'!$F$16","v":0},{"$f":"O39*'8) DDGS Dryer'!$F$17","v":0},{"$f":"P39*'8) DDGS Dryer'!$F$18","v":0},{"$f":"Q39*'8) DDGS Dryer'!$F$19","v":0},{"$f":"R39*'8) DDGS Dryer'!$F$20","v":0},{"$f":"S39*'8) DDGS Dryer'!$F$21","v":0},{"$f":"T39*'8) DDGS Dryer'!$F$22","v":0},{"$f":"U39*'8) DDGS Dryer'!$F$23","v":0},{"$f":"V39*'8) DDGS Dryer'!$F$24","v":0},{"$f":"W39*'8) DDGS Dryer'!$F$25","v":0},0,null,"  Methane (CH4)",0,0,0,0,0,0,0,0,0,0,0]
["  Nitrous Oxide (N2O)",{"$f":"0.0001*2.20462","v":2.2046199999999999E-4},{"$f":"0.0001*2.20462","v":2.2046199999999999E-4},2.2046199999999999E-4,2.2046199999999999E-4,2.2046199999999999E-4,2.2046199999999999E-4,2.2046199999999999E-4,2.2046199999999999E-4,2.2046199999999999E-4,2.2046199999999999E-4,null,"  Nitrous Oxide (N2O)",{"$f":"IF('8) DDGS Dryer'!C77=0,B40,'8) DDGS Dryer'!C77)","v":2.2046199999999999E-4},{"$f":"IF('8) DDGS Dryer'!D77=0,C40,'8) DDGS Dryer'!D77)","v":2.2046199999999999E-4},{"$f":"IF('8) DDGS Dryer'!E77=0,D40,'8) DDGS Dryer'!E77)","v":2.2046199999999999E-4},{"$f":"IF('8) DDGS Dryer'!F77=0,E40,'8) DDGS Dryer'!F77)","v":2.2046199999999999E-4},{"$f":"IF('8) DDGS Dryer'!G77=0,F40,'8) DDGS Dryer'!G77)","v":2.2046199999999999E-4},{"$f":"IF('8) DDGS Dryer'!H77=0,G40,'8) DDGS Dryer'!H77)","v":2.2046199999999999E-4},{"$f":"IF('8) DDGS Dryer'!I77=0,H40,'8) DDGS Dryer'!I77)","v":2.2046199999999999E-4},{"$f":"IF('8) DDGS Dryer'!J77=0,I40,'8) DDGS Dryer'!J77)","v":2.2046199999999999E-4},{"$f":"IF('8) DDGS Dryer'!K77=0,J40,'8) DDGS Dryer'!K77)","v":2.2046199999999999E-4},{"$f":"IF('8) DDGS Dryer'!L77=0,K40,'8) DDGS Dryer'!L77)","v":2.2046199999999999E-4},null,"  Nitrous Oxide (N2O)",{"$f":"N40*'8) DDGS Dryer'!$F$16","v":0},{"$f":"O40*'8) DDGS Dryer'!$F$17","v":0},{"$f":"P40*'8) DDGS Dryer'!$F$18","v":0},{"$f":"Q40*'8) DDGS Dryer'!$F$19","v":0},{"$f":"R40*'8) DDGS Dryer'!$F$20","v":0},{"$f":"S40*'8) DDGS Dryer'!$F$21","v":0},{"$f":"T40*'8) DDGS Dryer'!$F$22","v":0},{"$f":"U40*'8) DDGS Dryer'!$F$23","v":0},{"$f":"V40*'8) DDGS Dryer'!$F$24","v":0},{"$f":"W40*'8) DDGS Dryer'!$F$25","v":0},0,null,"  Nitrous Oxide (N2O)",0,0,0,0,0,0,0,0,0,0,0]
["* Emission factors for Criteria Pollutants and HAPS from AP-42 Tables 1.4-1, 1.4-2, and 1.4-3. Emission Factors for GHGs from 40CFR98 ",null,null,null,null,null,null,null,null,null,null,null,"* Emission factor equals manufacturer's specified. If no manufacturer guarantee entered, AP-42 emission factors are divided by 1020 MMBtu/MMscf",null,null,null,null,null,null,null,null,null,null,null,"Total GHGs",{"$f":"SUM(Z38:Z40)","v":0},{"$f":"SUM(AA38:AA40)","v":0},0,0,0,0,0,0,0,0,0,null,"Total GHGs",0,0,0,0,0,0,0,0,0,0,0]
[null,null,null,null,null,null,null,null,null,null,null,null,null,null,null,null,null,null,null,null,null,null,null,null,"Greenhouse Gases (GHG) (CO2 Equivalent Basis)",null,null,null,null,null,null,null,null,null,null,null,null,"Greenhouse Gases (GHG) (CO2 Equivalent Basis)"]
[null,null,null,null,null,null,null,null,null,null,null,null,null,null,null,null,null,null,null,null,null,null,null,null,"  Carbon Dioxide (CO2)",{"$f":"Z38","v":0},{"$f":"AA38","v":0},0,0,0,0,0,0,0,0,{"$f":"SUM(Z43:AI43)","v":0},null,"  Carbon Dioxide (CO2)",{"$f":"Z43*AM$5/2000","v":0},{"$f":"AA43*AN$5/2000","v":0},{"$f":"AB43*AO$5/2000","v":0},{"$f":"AC43*AP$5/2000","v":0},{"$f":"AD43*AQ$5/2000","v":0},{"$f":"AE43*AR$5/2000","v":0},{"$f":"AF43*AS$5/2000","v":0},{"$f":"AG43*AT$5/2000","v":0},{"$f":"AH43*AU$5/2000","v":0},{"$f":"AI43*AV$5/2000","v":0},{"$f":"SUM(AM43:AV43)","v":0}]
[null,null,null,null,null,null,null,null,null,null,null,null,null,null,null,null,null,null,null,null,null,null,null,null,"  Methane (CH4)",{"$f":"Z39*25","v":0},{"$f":"AA39*25","v":0},0,0,0,0,0,0,0,0,{"$f":"SUM(Z44:AI44)","v":0},null,"  Methane (CH4)",0,0,0,0,0,0,0,0,0,0,0]
[null,null,null,null,null,null,null,null,null,null,null,null,null,null,null,null,null,null,null,null,null,null,null,null,"  Nitrous Oxide (N2O)",{"$f":"Z40*298","v":0},{"$f":"AA40*298","v":0},0,0,0,0,0,0,0,0,{"$f":"SUM(Z45:AI45)","v":0},null,"  Nitrous Oxide (N2O)",0,0,0,0,0,0,0,0,0,0,0]
[null,null,null,null,null,null,null,null,null,null,null,null,null,null,null,null,null,null,null,null,null,null,null,null,"Total GHGs",{"$f":"SUM(Z43:Z45)","v":0},{"$f":"SUM(AA43:AA45)","v":0},0,0,0,0,0,0,0,0,{"$f":"SUM(AJ43:AJ45)","v":0},null,"Total GHGs",0,0,0,0,0,0,0,0,0,0,0]
["Fact Sheet Attachment: Dry Mill: DDGS Drying Operations"]
[]
[]
[null,null,null,null,null,null,null,null,null,null,null,null,null,null,null,null,null,null,null,null,null,null,null,null,null,null,null,null,null,null,null,null,null,null,null,null,null,"DDGS Dryer PTE in ton/yr = PTE in lb/hr x annual hour limit / 2000"]
["Emission Factors*",null,null,null,null,null,null,null,null,null,null,null,"Chosen Emission Factors: Manufacturer's Guarantee (If Available) or AP-42 in lb/MMBtu*",null,null,null,null,null,null,null,null,null,null,null,"PTE in lb/hr",null,null,null,null,null,null,null,null,null,null,null,null,null,{"$f":"IF('8) DDGS Dryer'!P16=0,8760,'8) DDGS Dryer'!P16/'8) DDGS Dryer'!L16)","v":8760},{"$f":"IF('8) DDGS Dryer'!P17=0,8760,'8) DDGS Dryer'!P17/'8) DDGS Dryer'!L17)","v":8760},{"$f":"IF('8) DDGS Dryer'!P18=0,8760,'8) DDGS Dryer'!P18/'8) DDGS Dryer'!L18)","v":8760},{"$f":"IF('8) DDGS Dryer'!P19=0,8760,'8) DDGS Dryer'!P19/'8) DDGS Dryer'!L19)","v":8760},{"$f":"IF('8) DDGS Dryer'!P20=0,8760,'8) DDGS Dryer'!P20/'8) DDGS Dryer'!L20)","v":8760},{"$f":"IF('8) DDGS Dryer'!P21=0,8760,'8) DDGS Dryer'!P21/'8) DDGS Dryer'!L21)","v":8760},{"$f":"IF('8) DDGS Dryer'!P22=0,8760,'8) DDGS Dryer'!P22/'8) DDGS Dryer'!L22)","v":8760},{"$f":"IF('8) DDGS Dryer'!P23=0,8760,'8) DDGS Dryer'!P23/'8) DDGS Dryer'!L23)","v":8760},{"$f":"IF('8) DDGS Dryer'!P24=0,8760,'8) DDGS Dryer'!P24/'8) DDGS Dryer'!L24)","v":8760},{"$f":"IF('8) DDGS Dryer'!P25=0,8760,'8) DDGS Dryer'!P25/'8) DDGS Dryer'!L25)","v":8760}]
["Pollutant","1st Dryer","2nd Dryer","3rd Dryer","4th Dryer","5th Dryer","6th Dryer","7th Dryer","8th Dryer","9th Dryer","10th Dryer",null,"Pollutant","1st Dryer","2nd Dryer","3rd Dryer","4th Dryer","5th Dryer","6th Dryer","7th Dryer","8th Dryer","9th Dryer","10th Dryer",null,"Pollutant","1st Dryer","2nd Dryer","3rd Dryer","4th Dryer","5th Dryer","6th Dryer","7th Dryer","8th Dryer","9th Dryer","10th Dryer","Total ",null,"Pollutant","1st Dryer","2nd Dryer","3rd Dryer","4th Dryer","5th Dryer","6th Dryer","7th Dryer","8th Dryer","9th Dryer","10th Dryer","Total "]
[null,"(lb/MMscf)",null,null,null,null,null,null,null,null,null,null,null,null,null,null,null,null,null,null,null,null,null,null,null,"(lb/hr)",null,null,null,null,null,null,null,null,null,null,null,null,"(ton/year)"]
["PMfilterable",7.6,7.6,7.6,7.6,7.6,7.6,7.6,7.6,7.6,7.6,null,"PMfilterable",{"$f":"IF('8) DDGS Dryer'!C81=0,B54/1020,'8) DDGS Dryer'!C81)","v":7.4509803921568628E-3},{"$f":"IF('8) DDGS Dryer'!D81=0,C54/1020,'8) DDGS Dryer'!D81)","v":7.4509803921568628E-3},{"$f":"IF('8) DDGS Dryer'!E81=0,D54/1020,'8) DDGS Dryer'!E81)","v":7.4509803921568628E-3},{"$f":"IF('8) DDGS Dryer'!F81=0,E54/1020,'8) DDGS Dryer'!F81)","v":7.4509803921568628E-3},{"$f":"IF('8) DDGS Dryer'!G81=0,F54/1020,'8) DDGS Dryer'!G81)","v":7.4509803921568628E-3},{"$f":"IF('8) DDGS Dryer'!H81=0,G54/1020,'8) DDGS Dryer'!H81)","v":7.4509803921568628E-3},{"$f":"IF('8) DDGS Dryer'!I81=0,H54/1020,'8) DDGS Dryer'!I81)","v":7.4509803921568628E-3},{"$f":"IF('8) DDGS Dryer'!J81=0,I54/1020,'8) DDGS Dryer'!J81)","v":7.4509803921568628E-3},{"$f":"IF('8) DDGS Dryer'!K81=0,J54/1020,'8) DDGS Dryer'!K81)","v":7.4509803921568628E-3},{"$f":"IF('8) DDGS Dryer'!L81=0,K54/1020,'8) DDGS Dryer'!L81)","v":7.4509803921568628E-3},null,"PMfilterable",{"$f":"N54*'8) DDGS Dryer'!$N$16","v":0},{"$f":"O54*'8) DDGS Dryer'!$N$17","v":0},{"$f":"P54*'8) DDGS Dryer'!$N$18","v":0},{"$f":"Q54*'8) DDGS Dryer'!$N$19","v":0},{"$f":"R54*'8) DDGS Dryer'!$N$20","v":0},{"$f":"S54*'8) DDGS Dryer'!$N$21","v":0},{"$f":"T54*'8) DDGS Dryer'!$N$22","v":0},{"$f":"U54*'8) DDGS Dryer'!$N$23","v":0},{"$f":"V54*'8) DDGS Dryer'!$N$24","v":0},{"$f":"W54*'8) DDGS Dryer'!$N$25","v":0},{"$f":"SUM(Z54:AI54)","v":0},null,"PMfilterable",{"$f":"Z54*AM$51/2000","v":0},{"$f":"AA54*AN$51/2000","v":0},0,0,0,0,0,0,0,0,{"$f":"SUM(AM54:AV54)","v":0}]
["PM10",7.6,7.6,7.6,7.6,7.6,7.6,7.6,7.6,7.6,7.6,null,"PM10",{"$f":"IF('8) DDGS Dryer'!C82=0,B55/1020,'8) DDGS Dryer'!C82)","v":7.4509803921568628E-3},{"$f":"IF('8) DDGS Dryer'!D82=0,C55/1020,'8) DDGS Dryer'!D82)","v":7.4509803921568628E-3},{"$f":"IF('8) DDGS Dryer'!E82=0,D55/1020,'8) DDGS Dryer'!E82)","v":7.4509803921568628E-3},{"$f":"IF('8) DDGS Dryer'!F82=0,E55/1020,'8) DDGS Dryer'!F82)","v":7.4509803921568628E-3},{"$f":"IF('8) DDGS Dryer'!G82=0,F55/1020,'8) DDGS Dryer'!G82)","v":7.4509803921568628E-3},{"$f":"IF('8) DDGS Dryer'!H82=0,G55/1020,'8) DDGS Dryer'!H82)","v":7.4509803921568628E-3},{"$f":"IF('8) DDGS Dryer'!I82=0,H55/1020,'8) DDGS Dryer'!I82)","v":7.4509803921568628E-3},{"$f":"IF('8) DDGS Dryer'!J82=0,I55/1020,'8) DDGS Dryer'!J82)","v":7.4509803921568628E-3},{"$f":"IF('8) DDGS Dryer'!K82=0,J55/1020,'8) DDGS Dryer'!K82)","v":7.4509803921568628E-3},{"$f":"IF('8) DDGS Dryer'!L82=0,K55/1020,'8) DDGS Dryer'!L82)","v":7.4509803921568628E-3},null,"PM10",{"$f":"N55*'8) DDGS Dryer'!$N$16","v":0},{"$f":"O55*'8) DDGS Dryer'!$N$17","v":0},{"$f":"P55*'8) DDGS Dryer'!$N$18","v":0},{"$f":"Q55*'8) DDGS Dryer'!$N$19","v":0},{"$f":"R55*'8) DDGS Dryer'!$N$20","v":0},{"$f":"S55*'8) DDGS Dryer'!$N$21","v":0},{"$f":"T55*'8) DDGS Dryer'!$N$22","v":0},{"$f":"U55*'8) DDGS Dryer'!$N$23","v":0},{"$f":"V55*'8) DDGS Dryer'!$N$24","v":0},{"$f":"W55*'8) DDGS Dryer'!$N$25","v":0},{"$f":"SUM(Z55:AI55)","v":0},null,"PM10",{"$f":"Z55*AM$51/2000","v":0},{"$f":"AA55*AN$51/2000","v":0},{"$f":"AB55*AO$51/2000","v":0},{"$f":"AC55*AP$51/2000","v":0},{"$f":"AD55*AQ$51/2000","v":0},{"$f":"AE55*AR$51/2000","v":0},{"$f":"AF55*AS$51/2000","v":0},{"$f":"AG55*AT$51/2000","v":0},{"$f":"AH55*AU$51/2000","v":0},{"$f":"AI55*AV$51/2000","v":0},{"$f":"SUM(AM55:AV55)","v":0}]
["PM2.5",7.6,7.6,7.6,7.6,7.6,7.6,7.6,7.6,7.6,7.6,null,"PM2.5",{"$f":"IF('8) DDGS Dryer'!C83=0,B56/1020,'8) DDGS Dryer'!C83)","v":7.4509803921568628E-3},{"$f":"IF('8) DDGS Dryer'!D83=0,C56/1020,'8) DDGS Dryer'!D83)","v":7.4509803921568628E-3},{"$f":"IF('8) DDGS Dryer'!E83=0,D56/1020,'8) DDGS Dryer'!E83)","v":7.4509803921568628E-3},{"$f":"IF('8) DDGS Dryer'!F83=0,E56/1020,'8) DDGS Dryer'!F83)","v":7.4509803921568628E-3},{"$f":"IF('8) DDGS Dryer'!G83=0,F56/1020,'8) DDGS Dryer'!G83)","v":7.4509803921568628E-3},{"$f":"IF('8) DDGS Dryer'!H83=0,G56/1020,'8) DDGS Dryer'!H83)","v":7.4509803921568628E-3},{"$f":"IF('8) DDGS Dryer'!I83=0,H56/1020,'8) DDGS Dryer'!I83)","v":7.4509803921568628E-3},{"$f":"IF('8) DDGS Dryer'!J83=0,I56/1020,'8) DDGS Dryer'!J83)","v":7.4509803921568628E-3},{"$f":"IF('8) DDGS Dryer'!K83=0,J56/1020,'8) DDGS Dryer'!K83)","v":7.4509803921568628E-3},{"$f":"IF('8) DDGS Dryer'!L83=0,K56/1020,'8) DDGS Dryer'!L83)","v":7.4509803921568628E-3},null,"PM2.5",{"$f":"N56*'8) DDGS Dryer'!$N$16","v":0},{"$f":"O56*'8) DDGS Dryer'!$N$17","v":0},{"$f":"P56*'8) DDGS Dryer'!$N$18","v":0},{"$f":"Q56*'8) DDGS Dryer'!$N$19","v":0},{"$f":"R56*'8) DDGS Dryer'!$N$20","v":0},{"$f":"S56*'8) DDGS Dryer'!$N$21","v":0},{"$f":"T56*'8) DDGS Dryer'!$N$22","v":0},{"$f":"U56*'8) DDGS Dryer'!$N$23","v":0},{"$f":"V56*'8) DDGS Dryer'!$N$24","v":0},{"$f":"W56*'8) DDGS Dryer'!$N$25","v":0},0,null,"PM2.5",0,0,0,0,0,0,0,0,0,0,0]
["SO2",0.6,0.6,0.6,0.6,0.6,0.6,0.6,0.6,0.6,0.6,null,"SO2",{"$f":"IF('8) DDGS Dryer'!C84=0,B57/1020,'8) DDGS Dryer'!C84)","v":5.8823529411764701E-4},{"$f":"IF('8) DDGS Dryer'!D84=0,C57/1020,'8) DDGS Dryer'!D84)","v":5.8823529411764701E-4},{"$f":"IF('8) DDGS Dryer'!E84=0,D57/1020,'8) DDGS Dryer'!E84)","v":5.8823529411764701E-4},{"$f":"IF('8) DDGS Dryer'!F84=0,E57/1020,'8) DDGS Dryer'!F84)","v":5.8823529411764701E-4},{"$f":"IF('8) DDGS Dryer'!G84=0,F57/1020,'8) DDGS Dryer'!G84)","v":5.8823529411764701E-4},{"$f":"IF('8) DDGS Dryer'!H84=0,G57/1020,'8) DDGS Dryer'!H84)","v":5.8823529411764701E-4},{"$f":"IF('8) DDGS Dryer'!I84=0,H57/1020,'8) DDGS Dryer'!I84)","v":5.8823529411764701E-4},{"$f":"IF('8) DDGS Dryer'!J84=0,I57/1020,'8) DDGS Dryer'!J84)","v":5.8823529411764701E-4},{"$f":"IF('8) DDGS Dryer'!K84=0,J57/1020,'8) DDGS Dryer'!K84)","v":5.8823529411764701E-4},{"$f":"IF('8) DDGS Dryer'!L84=0,K57/1020,'8) DDGS Dryer'!L84)","v":5.8823529411764701E-4},null,"SO2",{"$f":"N57*'8) DDGS Dryer'!$N$16","v":0},{"$f":"O57*'8) DDGS Dryer'!$N$17","v":0},{"$f":"P57*'8) DDGS Dryer'!$N$18","v":0},{"$f":"Q57*'8) DDGS Dryer'!$N$19","v":0},{"$f":"R57*'8) DDGS Dryer'!$N$20","v":0},{"$f":"S57*'8) DDGS Dryer'!$N$21","v":0},{"$f":"T57*'8) DDGS Dryer'!$N$22","v":0},{"$f":"U57*'8) DDGS Dryer'!$N$23","v":0},{"$f":"V57*'8) DDGS Dryer'!$N$24","v":0},{"$f":"W57*'8) DDGS Dryer'!$N$25","v":0},0,null,"SO2",0,0,0,0,0,0,0,0,0,0,0]
["NOx",{"$f":"IF('5) Dryer'!N17=Datasets!$AA$3,50,IF('5) Dryer'!N17=Datasets!$AA$4,32,100))","v":100},{"$f":"IF('5) Dryer'!N18=Datasets!$AA$3,50,IF('5) Dryer'!N18=Datasets!$AA$4,32,100))","v":100},{"$f":"IF('5) Dryer'!N19=Datasets!$AA$3,50,IF('5) Dryer'!N19=Datasets!$AA$4,32,100))","v":100},{"$f":"IF('5) Dryer'!N20=Datasets!$AA$3,50,IF('5) Dryer'!N20=Datasets!$AA$4,32,100))","v":100},{"$f":"IF('5) Dryer'!N21=Datasets!$AA$3,50,IF('5) Dryer'!N21=Datasets!$AA$4,32,100))","v":100},{"$f":"IF('5) Dryer'!N22=Datasets!$AA$3,50,IF('5) Dryer'!N22=Datasets!$AA$4,32,100))","v":100},{"$f":"IF('5) Dryer'!N23=Datasets!$AA$3,50,IF('5) Dryer'!N23=Datasets!$AA$4,32,100))","v":100},{"$f":"IF('5) Dryer'!N24=Datasets!$AA$3,50,IF('5) Dryer'!N24=Datasets!$AA$4,32,100))","v":100},{"$f":"IF('5) Dryer'!N25=Datasets!$AA$3,50,IF('5) Dryer'!N25=Datasets!$AA$4,32,100))","v":100},{"$f":"IF('5) Dryer'!N26=Datasets!$AA$3,50,IF('5) Dryer'!N26=Datasets!$AA$4,32,100))","v":100},null,"NOx",{"$f":"IF('8) DDGS Dryer'!C85=0,B58/1020,'8) DDGS Dryer'!C85)","v":9.8039215686274508E-2},{"$f":"IF('8) DDGS Dryer'!D85=0,C58/1020,'8) DDGS Dryer'!D85)","v":9.8039215686274508E-2},{"$f":"IF('8) DDGS Dryer'!E85=0,D58/1020,'8) DDGS Dryer'!E85)","v":9.8039215686274508E-2},{"$f":"IF('8) DDGS Dryer'!F85=0,E58/1020,'8) DDGS Dryer'!F85)","v":9.8039215686274508E-2},{"$f":"IF('8) DDGS Dryer'!G85=0,F58/1020,'8) DDGS Dryer'!G85)","v":9.8039215686274508E-2},{"$f":"IF('8) DDGS Dryer'!H85=0,G58/1020,'8) DDGS Dryer'!H85)","v":9.8039215686274508E-2},{"$f":"IF('8) DDGS Dryer'!I85=0,H58/1020,'8) DDGS Dryer'!I85)","v":9.8039215686274508E-2},{"$f":"IF('8) DDGS Dryer'!J85=0,I58/1020,'8) DDGS Dryer'!J85)","v":9.8039215686274508E-2},{"$f":"IF('8) DDGS Dryer'!K85=0,J58/1020,'8) DDGS Dryer'!K85)","v":9.8039215686274508E-2},{"$f":"IF('8) DDGS Dryer'!L85=0,K58/1020,'8) DDGS Dryer'!L85)","v":9.8039215686274508E-2},null,"NOx",{"$f":"N58*'8) DDGS Dryer'!$N$16","v":0},{"$f":"O58*'8) DDGS Dryer'!$N$17","v":0},{"$f":"P58*'8) DDGS Dryer'!$N$18","v":0},{"$f":"Q58*'8) DDGS Dryer'!$N$19","v":0},{"$f":"R58*'8) DDGS Dryer'!$N$20","v":0},{"$f":"S58*'8) DDGS Dryer'!$N$21","v":0},{"$f":"T58*'8) DDGS Dryer'!$N$22","v":0},{"$f":"U58*'8) DDGS Dryer'!$N$23","v":0},{"$f":"V58*'8) DDGS Dryer'!$N$24","v":0},{"$f":"W58*'8) DDGS Dryer'!$N$25","v":0},{"$f":"SUM(Z58:AI58)","v":0},null,"NOx",0,0,0,0,0,0,0,0,0,0,0]
["CO",84,84,84,84,84,84,84,84,84,84,null,"CO",{"$f":"IF('8) DDGS Dryer'!C86=0,B59/1020,'8) DDGS Dryer'!C86)","v":8.2352941176470587E-2},{"$f":"IF('8) DDGS Dryer'!D86=0,C59/1020,'8) DDGS Dryer'!D86)","v":8.2352941176470587E-2},{"$f":"IF('8) DDGS Dryer'!E86=0,D59/1020,'8) DDGS Dryer'!E86)","v":8.2352941176470587E-2},{"$f":"IF('8) DDGS Dryer'!F86=0,E59/1020,'8) DDGS Dryer'!F86)","v":8.2352941176470587E-2},{"$f":"IF('8) DDGS Dryer'!G86=0,F59/1020,'8) DDGS Dryer'!G86)","v":8.2352941176470587E-2},{"$f":"IF('8) DDGS Dryer'!H86=0,G59/1020,'8) DDGS Dryer'!H86)","v":8.2352941176470587E-2},{"$f":"IF('8) DDGS Dryer'!I86=0,H59/1020,'8) DDGS Dryer'!I86)","v":8.2352941176470587E-2},{"$f":"IF('8) DDGS Dryer'!J86=0,I59/1020,'8) DDGS Dryer'!J86)","v":8.2352941176470587E-2},{"$f":"IF('8) DDGS Dryer'!K86=0,J59/1020,'8) DDGS Dryer'!K86)","v":8.2352941176470587E-2},{"$f":"IF('8) DDGS Dryer'!L86=0,K59/1020,'8) DDGS Dryer'!L86)","v":8.2352941176470587E-2},null,"CO",{"$f":"N59*'8) DDGS Dryer'!$N$16","v":0},{"$f":"O59*'8) DDGS Dryer'!$N$17","v":0},{"$f":"P59*'8) DDGS Dryer'!$N$18","v":0},{"$f":"Q59*'8) DDGS Dryer'!$N$19","v":0},{"$f":"R59*'8) DDGS Dryer'!$N$20","v":0},{"$f":"S59*'8) DDGS Dryer'!$N$21","v":0},{"$f":"T59*'8) DDGS Dryer'!$N$22","v":0},{"$f":"U59*'8) DDGS Dryer'!$N$23","v":0},{"$f":"V59*'8) DDGS Dryer'!$N$24","v":0},{"$f":"W59*'8) DDGS Dryer'!$N$25","v":0},{"$f":"SUM(Z59:AI59)","v":0},null,"CO",0,0,0,0,0,0,0,0,0,0,0]
["VOC",5.5,5.5,5.5,5.5,5.5,5.5,5.5,5.5,5.5,5.5,null,"VOC",{"$f":"IF('8) DDGS Dryer'!C87=0,B60/1020,'8) DDGS Dryer'!C87)","v":5.392156862745098E-3},{"$f":"IF('8) DDGS Dryer'!D87=0,C60/1020,'8) DDGS Dryer'!D87)","v":5.392156862745098E-3},{"$f":"IF('8) DDGS Dryer'!E87=0,D60/1020,'8) DDGS Dryer'!E87)","v":5.392156862745098E-3},{"$f":"IF('8) DDGS Dryer'!F87=0,E60/1020,'8) DDGS Dryer'!F87)","v":5.392156862745098E-3},{"$f":"IF('8) DDGS Dryer'!G87=0,F60/1020,'8) DDGS Dryer'!G87)","v":5.392156862745098E-3},{"$f":"IF('8) DDGS Dryer'!H87=0,G60/1020,'8) DDGS Dryer'!H87)","v":5.392156862745098E-3},{"$f":"IF('8) DDGS Dryer'!I87=0,H60/1020,'8) DDGS Dryer'!I87)","v":5.392156862745098E-3},{"$f":"IF('8) DDGS Dryer'!J87=0,I60/1020,'8) DDGS Dryer'!J87)","v":5.392156862745098E-3},{"$f":"IF('8) DDGS Dryer'!K87=0,J60/1020,'8) DDGS Dryer'!K87)","v":5.392156862745098E-3},{"$f":"IF('8) DDGS Dryer'!L87=0,K60/1020,'8) DDGS Dryer'!L87)","v":5.392156862745098E-3},null,"VOC",{"$f":"N60*'8) DDGS Dryer'!$N$16","v":0},{"$f":"O60*'8) DDGS Dryer'!$N$17","v":0},{"$f":"P60*'8) DDGS Dryer'!$N$18","v":0},{"$f":"Q60*'8) DDGS Dryer'!$N$19","v":0},{"$f":"R60*'8) DDGS Dryer'!$N$20","v":0},{"$f":"S60*'8) DDGS Dryer'!$N$21","v":0},{"$f":"T60*'8) DDGS Dryer'!$N$22","v":0},{"$f":"U60*'8) DDGS Dryer'!$N$23","v":0},{"$f":"V60*'8) DDGS Dryer'!$N$24","v":0},{"$f":"W60*'8) DDGS Dryer'!$N$25","v":0},{"$f":"SUM(Z60:AI60)","v":0},null,"VOC",0,0,0,0,0,0,0,0,0,0,0]
["Individual HAP",null,null,null,null,null,null,null,null,null,null,null,null,null,null,null,null,null,null,null,null,null,null,null,"Individual HAP",null,null,null,null,null,null,null,null,null,null,null,null,"Individual HAP"]
["  Acetaldehyde",null,null,null,null,null,null,null,null,null,null,null,"  Acetaldehyde",{"$f":"IF('8) DDGS Dryer'!C89=0,B62/1020,'8) DDGS Dryer'!C89)","v":0},{"$f":"IF('8) DDGS Dryer'!D89=0,C62/1020,'8) DDGS Dryer'!D89)","v":0},{"$f":"IF('8) DDGS Dryer'!E89=0,D62/1020,'8) DDGS Dryer'!E89)","v":0},{"$f":"IF('8) DDGS Dryer'!F89=0,E62/1020,'8) DDGS Dryer'!F89)","v":0},{"$f":"IF('8) DDGS Dryer'!G89=0,F62/1020,'8) DDGS Dryer'!G89)","v":0},{"$f":"IF('8) DDGS Dryer'!H89=0,G62/1020,'8) DDGS Dryer'!H89)","v":0},{"$f":"IF('8) DDGS Dryer'!I89=0,H62/1020,'8) DDGS Dryer'!I89)","v":0},{"$f":"IF('8) DDGS Dryer'!J89=0,I62/1020,'8) DDGS Dryer'!J89)","v":0},{"$f":"IF('8) DDGS Dryer'!K89=0,J62/1020,'8) DDGS Dryer'!K89)","v":0},{"$f":"IF('8) DDGS Dryer'!L89=0,K62/1020,'8) DDGS Dryer'!L89)","v":0},null,"  Acetaldehyde",{"$f":"N62*'8) DDGS Dryer'!$N$16","v":0},{"$f":"O62*'8) DDGS Dryer'!$N$17","v":0},{"$f":"P62*'8) DDGS Dryer'!$N$18","v":0},{"$f":"Q62*'8) DDGS Dryer'!$N$19","v":0},{"$f":"R62*'8) DDGS Dryer'!$N$20","v":0},{"$f":"S62*'8) DDGS Dryer'!$N$21","v":0},{"$f":"T62*'8) DDGS Dryer'!$N$22","v":0},{"$f":"U62*'8) DDGS Dryer'!$N$23","v":0},{"$f":"V62*'8) DDGS Dryer'!$N$24","v":0},{"$f":"W62*'8) DDGS Dryer'!$N$25","v":0},{"$f":"SUM(Z62:AI62)","v":0},null,"  Acetaldehyde",{"$f":"Z62*AM$51/2000","v":0},{"$f":"AA62*AN$51/2000","v":0},{"$f":"AB62*AO$51/2000","v":0},{"$f":"AC62*AP$51/2000","v":0},{"$f":"AD62*AQ$51/2000","v":0},{"$f":"AE62*AR$51/2000","v":0},{"$f":"AF62*AS$51/2000","v":0},{"$f":"AG62*AT$51/2000","v":0},{"$f":"AH62*AU$51/2000","v":0},{"$f":"AI62*AV$51/2000","v":0},{"$f":"SUM(AM62:AV62)","v":0}]
["  Formaldehyde",null,null,null,null,null,null,null,null,null,null,null,"  Formaldehyde",{"$f":"IF('8) DDGS Dryer'!C90=0,B63/1020,'8) DDGS Dryer'!C90)","v":0},{"$f":"IF('8) DDGS Dryer'!D90=0,C63/1020,'8) DDGS Dryer'!D90)","v":0},{"$f":"IF('8) DDGS Dryer'!E90=0,D63/1020,'8) DDGS Dryer'!E90)","v":0},{"$f":"IF('8) DDGS Dryer'!F90=0,E63/1020,'8) DDGS Dryer'!F90)","v":0},{"$f":"IF('8) DDGS Dryer'!G90=0,F63/1020,'8) DDGS Dryer'!G90)","v":0},{"$f":"IF('8) DDGS Dryer'!H90=0,G63/1020,'8) DDGS Dryer'!H90)","v":0},{"$f":"IF('8) DDGS Dryer'!I90=0,H63/1020,'8) DDGS Dryer'!I90)","v":0},{"$f":"IF('8) DDGS Dryer'!J90=0,I63/1020,'8) DDGS Dryer'!J90)","v":0},{"$f":"IF('8) DDGS Dryer'!K90=0,J63/1020,'8) DDGS Dryer'!K90)","v":0},{"$f":"IF('8) DDGS Dryer'!L90=0,K63/1020,'8) DDGS Dryer'!L90)","v":0},null,"  Formaldehyde",{"$f":"N63*'8) DDGS Dryer'!$N$16","v":0},{"$f":"O63*'8) DDGS Dryer'!$N$17","v":0},{"$f":"P63*'8) DDGS Dryer'!$N$18","v":0},{"$f":"Q63*'8) DDGS Dryer'!$N$19","v":0},{"$f":"R63*'8) DDGS Dryer'!$N$20","v":0},{"$f":"S63*'8) DDGS Dryer'!$N$21","v":0},{"$f":"T63*'8) DDGS Dryer'!$N$22","v":0},{"$f":"U63*'8) DDGS Dryer'!$N$23","v":0},{"$f":"V63*'8) DDGS Dryer'!$N$24","v":0},{"$f":"W63*'8) DDGS Dryer'!$N$25","v":0},0,null,"  Formaldehyde",0,0,0,0,0,0,0,0,0,0,0]
["  Acrolein",null,null,null,null,null,null,null,null,null,null,null,"  Acrolein",{"$f":"IF('8) DDGS Dryer'!C91=0,B64/1020,'8) DDGS Dryer'!C91)","v":0},{"$f":"IF('8) DDGS Dryer'!D91=0,C64/1020,'8) DDGS Dryer'!D91)","v":0},{"$f":"IF('8) DDGS Dryer'!E91=0,D64/1020,'8) DDGS Dryer'!E91)","v":0},{"$f":"IF('8) DDGS Dryer'!F91=0,E64/1020,'8) DDGS Dryer'!F91)","v":0},{"$f":"IF('8) DDGS Dryer'!G91=0,F64/1020,'8) DDGS Dryer'!G91)","v":0},{"$f":"IF('8) DDGS Dryer'!H91=0,G64/1020,'8) DDGS Dryer'!H91)","v":0},{"$f":"IF('8) DDGS Dryer'!I91=0,H64/1020,'8) DDGS Dryer'!I91)","v":0},{"$f":"IF('8) DDGS Dryer'!J91=0,I64/1020,'8) DDGS Dryer'!J91)","v":0},{"$f":"IF('8) DDGS Dryer'!K91=0,J64/1020,'8) DDGS Dryer'!K91)","v":0},{"$f":"IF('8) DDGS Dryer'!L91=0,K64/1020,'8) DDGS Dryer'!L91)","v":0},null,"  Acrolein",{"$f":"N64*'8) DDGS Dryer'!$N$16","v":0},{"$f":"O64*'8) DDGS Dryer'!$N$17","v":0},{"$f":"P64*'8) DDGS Dryer'!$N$18","v":0},{"$f":"Q64*'8) DDGS Dryer'!$N$19","v":0},{"$f":"R64*'8) DDGS Dryer'!$N$20","v":0},{"$f":"S64*'8) DDGS Dryer'!$N$21","v":0},{"$f":"T64*'8) DDGS Dryer'!$N$22","v":0},{"$f":"U64*'8) DDGS Dryer'!$N$23","v":0},{"$f":"V64*'8) DDGS Dryer'!$N$24","v":0},{"$f":"W64*'8) DDGS Dryer'!$N$25","v":0},0,null,"  Acrolein",0,0,0,0,0,0,0,0,0,0,0]
["  Methanol",null,null,null,null,null,null,null,null,null,null,null,"  Methanol",{"$f":"IF('8) DDGS Dryer'!C92=0,B65/1020,'8) DDGS Dryer'!C92)","v":0},{"$f":"IF('8) DDGS Dryer'!D92=0,C65/1020,'8) DDGS Dryer'!D92)","v":0},{"$f":"IF('8) DDGS Dryer'!E92=0,D65/1020,'8) DDGS Dryer'!E92)","v":0},{"$f":"IF('8) DDGS Dryer'!F92=0,E65/1020,'8) DDGS Dryer'!F92)","v":0},{"$f":"IF('8) DDGS Dryer'!G92=0,F65/1020,'8) DDGS Dryer'!G92)","v":0},{"$f":"IF('8) DDGS Dryer'!H92=0,G65/1020,'8) DDGS Dryer'!H92)","v":0},{"$f":"IF('8) DDGS Dryer'!I92=0,H65/1020,'8) DDGS Dryer'!I92)","v":0},{"$f":"IF('8) DDGS Dryer'!J92=0,I65/1020,'8) DDGS Dryer'!J92)","v":0},{"$f":"IF('8) DDGS Dryer'!K92=0,J65/1020,'8) DDGS Dryer'!K92)","v":0},{"$f":"IF('8) DDGS Dryer'!L92=0,K65/1020,'8) DDGS Dryer'!L92)","v":0},null,"  Methanol",{"$f":"N65*'8) DDGS Dryer'!$N$16","v":0},{"$f":"O65*'8) DDGS Dryer'!$N$17","v":0},{"$f":"P65*'8) DDGS Dryer'!$N$18","v":0},{"$f":"Q65*'8) DDGS Dryer'!$N$19","v":0},{"$f":"R65*'8) DDGS Dryer'!$N$20","v":0},{"$f":"S65*'8) DDGS Dryer'!$N$21","v":0},{"$f":"T65*'8) DDGS Dryer'!$N$22","v":0},{"$f":"U65*'8) DDGS Dryer'!$N$23","v":0},{"$f":"V65*'8) DDGS Dryer'!$N$24","v":0},{"$f":"W65*'8) DDGS Dryer'!$N$25","v":0},0,null,"  Methanol",0,0,0,0,0,0,0,0,0,0,0]
["  Benzene ",2.0999999999999999E-3,2.0999999999999999E-3,2.0999999999999999E-3,2.0999999999999999E-3,2.0999999999999999E-3,2.0999999999999999E-3,2.0999999999999999E-3,2.0999999999999999E-3,2.0999999999999999E-3,2.0999999999999999E-3,null,"  Benzene ",{"$f":"IF('8) DDGS Dryer'!C93=0,B66/1020,'8) DDGS Dryer'!C93)","v":2.0588235294117645E-6},{"$f":"IF('8) DDGS Dryer'!D93=0,C66/1020,'8) DDGS Dryer'!D93)","v":2.0588235294117645E-6},{"$f":"IF('8) DDGS Dryer'!E93=0,D66/1020,'8) DDGS Dryer'!E93)","v":2.0588235294117645E-6},{"$f":"IF('8) DDGS Dryer'!F93=0,E66/1020,'8) DDGS Dryer'!F93)","v":2.0588235294117645E-6},{"$f":"IF('8) DDGS Dryer'!G93=0,F66/1020,'8) DDGS Dryer'!G93)","v":2.0588235294117645E-6},{"$f":"IF('8) DDGS Dryer'!H93=0,G66/1020,'8) DDGS Dryer'!H93)","v":2.0588235294117645E-6},{"$f":"IF('8) DDGS Dryer'!I93=0,H66/1020,'8) DDGS Dryer'!I93)","v":2.0588235294117645E-6},{"$f":"IF('8) DDGS Dryer'!J93=0,I66/1020,'8) DDGS Dryer'!J93)","v":2.0588235294117645E-6},{"$f":"IF('8) DDGS Dryer'!K93=0,J66/1020,'8) DDGS Dryer'!K93)","v":2.0588235294117645E-6},{"$f":"IF('8) DDGS Dryer'!L93=0,K66/1020,'8) DDGS Dryer'!L93)","v":2.0588235294117645E-6},null,"  Benzene ",{"$f":"N66*'8) DDGS Dryer'!$N$16","v":0},{"$f":"O66*'8) DDGS Dryer'!$N$17","v":0},{"$f":"P66*'8) DDGS Dryer'!$N$18","v":0},{"$f":"Q66*'8) DDGS Dryer'!$N$19","v":0},{"$f":"R66*'8) DDGS Dryer'!$N$20","v":0},{"$f":"S66*'8) DDGS Dryer'!$N$21","v":0},{"$f":"T66*'8) DDGS Dryer'!$N$22","v":0},{"$f":"U66*'8) DDGS Dryer'!$N$23","v":0},{"$f":"V66*'8) DDGS Dryer'!$N$24","v":0},{"$f":"W66*'8) DDGS Dryer'!$N$25","v":0},{"$f":"SUM(Z66:AI66)","v":0},null,"  Benzene ",0,0,0,0,0,0,0,0,0,0,0]
["  Dichlorobenzene ",1.1999999999999999E-3,1.1999999999999999E-3,1.1999999999999999E-3,1.1999999999999999E-3,1.1999999999999999E-3,1.1999999999999999E-3,1.1999999999999999E-3,1.1999999999999999E-3,1.1999999999999999E-3,1.1999999999999999E-3,null,"  Dichlorobenzene ",{"$f":"IF('8) DDGS Dryer'!C94=0,B67/1020,'8) DDGS Dryer'!C94)","v":1.176470588235294E-6},{"$f":"IF('8) DDGS Dryer'!D94=0,C67/1020,'8) DDGS Dryer'!D94)","v":1.176470588235294E-6},{"$f":"IF('8) DDGS Dryer'!E94=0,D67/1020,'8) DDGS Dryer'!E94)","v":1.176470588235294E-6},{"$f":"IF('8) DDGS Dryer'!F94=0,E67/1020,'8) DDGS Dryer'!F94)","v":1.176470588235294E-6},{"$f":"IF('8) DDGS Dryer'!G94=0,F67/1020,'8) DDGS Dryer'!G94)","v":1.176470588235294E-6},{"$f":"IF('8) DDGS Dryer'!H94=0,G67/1020,'8) DDGS Dryer'!H94)","v":1.176470588235294E-6},{"$f":"IF('8) DDGS Dryer'!I94=0,H67/1020,'8) DDGS Dryer'!I94)","v":1.176470588235294E-6},{"$f":"IF('8) DDGS Dryer'!J94=0,I67/1020,'8) DDGS Dryer'!J94)","v":1.176470588235294E-6},{"$f":"IF('8) DDGS Dryer'!K94=0,J67/1020,'8) DDGS Dryer'!K94)","v":1.176470588235294E-6},{"$f":"IF('8) DDGS Dryer'!L94=0,K67/1020,'8) DDGS Dryer'!L94)","v":1.176470588235294E-6},null,"  Dichlorobenzene ",{"$f":"N67*'8) DDGS Dryer'!$N$16","v":0},{"$f":"O67*'8) DDGS Dryer'!$N$17","v":0},{"$f":"P67*'8) DDGS Dryer'!$N$18","v":0},{"$f":"Q67*'8) DDGS Dryer'!$N$19","v":0},{"$f":"R67*'8) DDGS Dryer'!$N$20","v":0},{"$f":"S67*'8) DDGS Dryer'!$N$21","v":0},{"$f":"T67*'8) DDGS Dryer'!$N$22","v":0},{"$f":"U67*'8) DDGS Dryer'!$N$23","v":0},{"$f":"V67*'8) DDGS Dryer'!$N$24","v":0},{"$f":"W67*'8) DDGS Dryer'!$N$25","v":0},0,null,"  Dichlorobenzene ",0,0,0,0,0,0,0,0,0,0,0]
["  Hexane ",1.8,1.8,1.8,1.8,1.8,1.8,1.8,1.8,1.8,1.8,null,"  Hexane ",{"$f":"IF('8) DDGS Dryer'!C95=0,B68/1020,'8) DDGS Dryer'!C95)","v":1.7647058823529412E-3},{"$f":"IF('8) DDGS Dryer'!D95=0,C68/1020,'8) DDGS Dryer'!D95)","v":1.7647058823529412E-3},{"$f":"IF('8) DDGS Dryer'!E95=0,D68/1020,'8) DDGS Dryer'!E95)","v":1.7647058823529412E-3},{"$f":"IF('8) DDGS Dryer'!F95=0,E68/1020,'8) DDGS Dryer'!F95)","v":1.7647058823529412E-3},{"$f":"IF('8) DDGS Dryer'!G95=0,F68/1020,'8) DDGS Dryer'!G95)","v":1.7647058823529412E-3},{"$f":"IF('8) DDGS Dryer'!H95=0,G68/1020,'8) DDGS Dryer'!H95)","v":1.7647058823529412E-3},{"$f":"IF('8) DDGS Dryer'!I95=0,H68/1020,'8) DDGS Dryer'!I95)","v":1.7647058823529412E-3},{"$f":"IF('8) DDGS Dryer'!J95=0,I68/1020,'8) DDGS Dryer'!J95)","v":1.7647058823529412E-3},{"$f":"IF('8) DDGS Dryer'!K95=0,J68/1020,'8) DDGS Dryer'!K95)","v":1.7647058823529412E-3},{"$f":"IF('8) DDGS Dryer'!L95=0,K68/1020,'8) DDGS Dryer'!L95)","v":1.7647058823529412E-3},null,"  Hexane ",{"$f":"N68*'8) DDGS Dryer'!$N$16","v":0},{"$f":"O68*'8) DDGS Dryer'!$N$17","v":0},{"$f":"P68*'8) DDGS Dryer'!$N$18","v":0},{"$f":"Q68*'8) DDGS Dryer'!$N$19","v":0},{"$f":"R68*'8) DDGS Dryer'!$N$20","v":0},{"$f":"S68*'8) DDGS Dryer'!$N$21","v":0},{"$f":"T68*'8) DDGS Dryer'!$N$22","v":0},{"$f":"U68*'8) DDGS Dryer'!$N$23","v":0},{"$f":"V68*'8) DDGS Dryer'!$N$24","v":0},{"$f":"W68*'8) DDGS Dryer'!$N$25","v":0},0,null,"  Hexane ",0,0,0,0,0,0,0,0,0,0,0]
["  Lead Compounds",5.0000000000000001E-4,5.0000000000000001E-4,5.0000000000000001E-4,5.0000000000000001E-4,5.0000000000000001E-4,5.0000000000000001E-4,5.0000000000000001E-4,5.0000000000000001E-4,5.0000000000000001E-4,5.0000000000000001E-4,null,"  Lead Compounds",{"$f":"IF('8) DDGS Dryer'!C96=0,B69/1020,'8) DDGS Dryer'!C96)","v":4.9019607843137254E-7},{"$f":"IF('8) DDGS Dryer'!D96=0,C69/1020,'8) DDGS Dryer'!D96)","v":4.9019607843137254E-7},{"$f":"IF('8) DDGS Dryer'!E96=0,D69/1020,'8) DDGS Dryer'!E96)","v":4.9019607843137254E-7},{"$f":"IF('8) DDGS Dryer'!F96=0,E69/1020,'8) DDGS Dryer'!F96)","v":4.9019607843137254E-7},{"$f":"IF('8) DDGS Dryer'!G96=0,F69/1020,'8) DDGS Dryer'!G96)","v":4.9019607843137254E-7},{"$f":"IF('8) DDGS Dryer'!H96=0,G69/1020,'8) DDGS Dryer'!H96)","v":4.9019607843137254E-7},{"$f":"IF('8) DDGS Dryer'!I96=0,H69/1020,'8) DDGS Dryer'!I96)","v":4.9019607843137254E-7},{"$f":"IF('8) DDGS Dryer'!J96=0,I69/1020,'8) DDGS Dryer'!J96)","v":4.9019607843137254E-7},{"$f":"IF('8) DDGS Dryer'!K96=0,J69/1020,'8) DDGS Dryer'!K96)","v":4.9019607843137254E-7},{"$f":"IF('8) DDGS Dryer'!L96=0,K69/1020,'8) DDGS Dryer'!L96)","v":4.9019607843137254E-7},null,"  Lead Compounds",{"$f":"N69*'8) DDGS Dryer'!$N$16","v":0},{"$f":"O69*'8) DDGS Dryer'!$N$17","v":0},{"$f":"P69*'8) DDGS Dryer'!$N$18","v":0},{"$f":"Q69*'8) DDGS Dryer'!$N$19","v":0},{"$f":"R69*'8) DDGS Dryer'!$N$20","v":0},{"$f":"S69*'8) DDGS Dryer'!$N$21","v":0},{"$f":"T69*'8) DDGS Dryer'!$N$22","v":0},{"$f":"U69*'8) DDGS Dryer'!$N$23","v":0},{"$f":"V69*'8) DDGS Dryer'!$N$24","v":0},{"$f":"W69*'8) DDGS Dryer'!$N$25","v":0},0,null,"  Lead Compounds",0,0,0,0,0,0,0,0,0,0,0]
["  Naphthalene ",6.0999999999999997E-4,6.0999999999999997E-4,6.0999999999999997E-4,6.0999999999999997E-4,6.0999999999999997E-4,6.0999999999999997E-4,6.0999999999999997E-4,6.0999999999999997E-4,6.0999999999999997E-4,6.0999999999999997E-4,null,"  Naphthalene ",{"$f":"IF('8) DDGS Dryer'!C97=0,B70/1020,'8) DDGS Dryer'!C97)","v":5.9803921568627444E-7},{"$f":"IF('8) DDGS Dryer'!D97=0,C70/1020,'8) DDGS Dryer'!D97)","v":5.9803921568627444E-7},{"$f":"IF('8) DDGS Dryer'!E97=0,D70/1020,'8) DDGS Dryer'!E97)","v":5.9803921568627444E-7},{"$f":"IF('8) DDGS Dryer'!F97=0,E70/1020,'8) DDGS Dryer'!F97)","v":5.9803921568627444E-7},{"$f":"IF('8) DDGS Dryer'!G97=0,F70/1020,'8) DDGS Dryer'!G97)","v":5.9803921568627444E-7},{"$f":"IF('8) DDGS Dryer'!H97=0,G70/1020,'8) DDGS Dryer'!H97)","v":5.9803921568627444E-7},{"$f":"IF('8) DDGS Dryer'!I97=0,H70/1020,'8) DDGS Dryer'!I97)","v":5.9803921568627444E-7},{"$f":"IF('8) DDGS Dryer'!J97=0,I70/1020,'8) DDGS Dryer'!J97)","v":5.9803921568627444E-7},{"$f":"IF('8) DDGS Dryer'!K97=0,J70/1020,'8) DDGS Dryer'!K97)","v":5.9803921568627444E-7},{"$f":"IF('8) DDGS Dryer'!L97=0,K70/1020,'8) DDGS Dryer'!L97)","v":5.9803921568627444E-7},null,"  Naphthalene ",{"$f":"N70*'8) DDGS Dryer'!$N$16","v":0},{"$f":"O70*'8) DDGS Dryer'!$N$17","v":0},{"$f":"P70*'8) DDGS Dryer'!$N$18","v":0},{"$f":"Q70*'8) DDGS Dryer'!$N$19","v":0},{"$f":"R70*'8) DDGS Dryer'!$N$20","v":0},{"$f":"S70*'8) DDGS Dryer'!$N$21","v":0},{"$f":"T70*'8) DDGS Dryer'!$N$22","v":0},{"$f":"U70*'8) DDGS Dryer'!$N$23","v":0},{"$f":"V70*'8) DDGS Dryer'!$N$24","v":0},{"$f":"W70*'8) DDGS Dryer'!$N$25","v":0},0,null,"  Naphthalene ",0,0,0,0,0,0,0,0,0,0,0]
["  Polycyclic Organic Matter ",8.8200000000000003E-5,8.8200000000000003E-5,8.8200000000000003E-5,8.8200000000000003E-5,8.8200000000000003E-5,8.8200000000000003E-5,8.8200000000000003E-5,8.8200000000000003E-5,8.8200000000000003E-5,8.8200000000000003E-5,null,"  Polycyclic Organic Matter ",{"$f":"IF('8) DDGS Dryer'!C98=0,B71/1020,'8) DDGS Dryer'!C98)","v":8.6470588235294114E-8},{"$f":"IF('8) DDGS Dryer'!D98=0,C71/1020,'8) DDGS Dryer'!D98)","v":8.6470588235294114E-8},{"$f":"IF('8) DDGS Dryer'!E98=0,D71/1020,'8) DDGS Dryer'!E98)","v":8.6470588235294114E-8},{"$f":"IF('8) DDGS Dryer'!F98=0,E71/1020,'8) DDGS Dryer'!F98)","v":8.6470588235294114E-8},{"$f":"IF('8) DDGS Dryer'!G98=0,F71/1020,'8) DDGS Dryer'!G98)","v":8.6470588235294114E-8},{"$f":"IF('8) DDGS Dryer'!H98=0,G71/1020,'8) DDGS Dryer'!H98)","v":8.6470588235294114E-8},{"$f":"IF('8) DDGS Dryer'!I98=0,H71/1020,'8) DDGS Dryer'!I98)","v":8.6470588235294114E-8},{"$f":"IF('8) DDGS Dryer'!J98=0,I71/1020,'8) DDGS Dryer'!J98)","v":8.6470588235294114E-8},{"$f":"IF('8) DDGS Dryer'!K98=0,J71/1020,'8) DDGS Dryer'!K98)","v":8.6470588235294114E-8},{"$f":"IF('8) DDGS Dryer'!L98=0,K71/1020,'8) DDGS Dryer'!L98)","v":8.6470588235294114E-8},null,"  Polycyclic Organic Matter ",{"$f":"N71*'8) DDGS Dryer'!$N$16","v":0},{"$f":"O71*'8) DDGS Dryer'!$N$17","v":0},{"$f":"P71*'8) DDGS Dryer'!$N$18","v":0},{"$f":"Q71*'8) DDGS Dryer'!$N$19","v":0},{"$f":"R71*'8) DDGS Dryer'!$N$20","v":0},{"$f":"S71*'8) DDGS Dryer'!$N$21","v":0},{"$f":"T71*'8) DDGS Dryer'!$N$22","v":0},{"$f":"U71*'8) DDGS Dryer'!$N$23","v":0},{"$f":"V71*'8) DDGS Dryer'!$N$24","v":0},{"$f":"W71*'8) DDGS Dryer'!$N$25","v":0},0,null,"  Polycyclic Organic Matter ",0,0,0,0,0,0,0,0,0,0,0]
["  Toluene ",3.3999999999999998E-3,3.3999999999999998E-3,3.3999999999999998E-3,3.3999999999999998E-3,3.3999999999999998E-3,3.3999999999999998E-3,3.3999999999999998E-3,3.3999999999999998E-3,3.3999999999999998E-3,3.3999999999999998E-3,null,"  Toluene ",{"$f":"IF('8) DDGS Dryer'!C99=0,B72/1020,'8) DDGS Dryer'!C99)","v":3.3333333333333333E-6},{"$f":"IF('8) DDGS Dryer'!D99=0,C72/1020,'8) DDGS Dryer'!D99)","v":3.3333333333333333E-6},{"$f":"IF('8) DDGS Dryer'!E99=0,D72/1020,'8) DDGS Dryer'!E99)","v":3.3333333333333333E-6},{"$f":"IF('8) DDGS Dryer'!F99=0,E72/1020,'8) DDGS Dryer'!F99)","v":3.3333333333333333E-6},{"$f":"IF('8) DDGS Dryer'!G99=0,F72/1020,'8) DDGS Dryer'!G99)","v":3.3333333333333333E-6},{"$f":"IF('8) DDGS Dryer'!H99=0,G72/1020,'8) DDGS Dryer'!H99)","v":3.3333333333333333E-6},{"$f":"IF('8) DDGS Dryer'!I99=0,H72/1020,'8) DDGS Dryer'!I99)","v":3.3333333333333333E-6},{"$f":"IF('8) DDGS Dryer'!J99=0,I72/1020,'8) DDGS Dryer'!J99)","v":3.3333333333333333E-6},{"$f":"IF('8) DDGS Dryer'!K99=0,J72/1020,'8) DDGS Dryer'!K99)","v":3.3333333333333333E-6},{"$f":"IF('8) DDGS Dryer'!L99=0,K72/1020,'8) DDGS Dryer'!L99)","v":3.3333333333333333E-6},null,"  Toluene ",{"$f":"N72*'8) DDGS Dryer'!$N$16","v":0},{"$f":"O72*'8) DDGS Dryer'!$N$17","v":0},{"$f":"P72*'8) DDGS Dryer'!$N$18","v":0},{"$f":"Q72*'8) DDGS Dryer'!$N$19","v":0},{"$f":"R72*'8) DDGS Dryer'!$N$20","v":0},{"$f":"S72*'8) DDGS Dryer'!$N$21","v":0},{"$f":"T72*'8) DDGS Dryer'!$N$22","v":0},{"$f":"U72*'8) DDGS Dryer'!$N$23","v":0},{"$f":"V72*'8) DDGS Dryer'!$N$24","v":0},{"$f":"W72*'8) DDGS Dryer'!$N$25","v":0},0,null,"  Toluene ",0,0,0,0,0,0,0,0,0,0,0]
["  Arsenic Compounds",2.0000000000000001E-4,2.0000000000000001E-4,2.0000000000000001E-4,2.0000000000000001E-4,2.0000000000000001E-4,2.0000000000000001E-4,2.0000000000000001E-4,2.0000000000000001E-4,2.0000000000000001E-4,2.0000000000000001E-4,null,"  Arsenic Compounds",{"$f":"IF('8) DDGS Dryer'!C100=0,B73/1020,'8) DDGS Dryer'!C100)","v":1.9607843137254904E-7},{"$f":"IF('8) DDGS Dryer'!D100=0,C73/1020,'8) DDGS Dryer'!D100)","v":1.9607843137254904E-7},{"$f":"IF('8) DDGS Dryer'!E100=0,D73/1020,'8) DDGS Dryer'!E100)","v":1.9607843137254904E-7},{"$f":"IF('8) DDGS Dryer'!F100=0,E73/1020,'8) DDGS Dryer'!F100)","v":1.9607843137254904E-7},{"$f":"IF('8) DDGS Dryer'!G100=0,F73/1020,'8) DDGS Dryer'!G100)","v":1.9607843137254904E-7},{"$f":"IF('8) DDGS Dryer'!H100=0,G73/1020,'8) DDGS Dryer'!H100)","v":1.9607843137254904E-7},{"$f":"IF('8) DDGS Dryer'!I100=0,H73/1020,'8) DDGS Dryer'!I100)","v":1.9607843137254904E-7},{"$f":"IF('8) DDGS Dryer'!J100=0,I73/1020,'8) DDGS Dryer'!J100)","v":1.9607843137254904E-7},{"$f":"IF('8) DDGS Dryer'!K100=0,J73/1020,'8) DDGS Dryer'!K100)","v":1.9607843137254904E-7},{"$f":"IF('8) DDGS Dryer'!L100=0,K73/1020,'8) DDGS Dryer'!L100)","v":1.9607843137254904E-7},null,"  Arsenic Compounds",{"$f":"N73*'8) DDGS Dryer'!$N$16","v":0},{"$f":"O73*'8) DDGS Dryer'!$N$17","v":0},{"$f":"P73*'8) DDGS Dryer'!$N$18","v":0},{"$f":"Q73*'8) DDGS Dryer'!$N$19","v":0},{"$f":"R73*'8) DDGS Dryer'!$N$20","v":0},{"$f":"S73*'8) DDGS Dryer'!$N$21","v":0},{"$f":"T73*'8) DDGS Dryer'!$N$22","v":0},{"$f":"U73*'8) DDGS Dryer'!$N$23","v":0},{"$f":"V73*'8) DDGS Dryer'!$N$24","v":0},{"$f":"W73*'8) DDGS Dryer'!$N$25","v":0},0,null,"  Arsenic Compounds",0,0,0,0,0,0,0,0,0,0,0]
["  Beryllium Compounds",1.2E-5,1.2E-5,1.2E-5,1.2E-5,1.2E-5,1.2E-5,1.2E-5,1.2E-5,1.2E-5,1.2E-5,null,"  Beryllium Compounds",{"$f":"IF('8) DDGS Dryer'!C101=0,B74/1020,'8) DDGS Dryer'!C101)","v":1.1764705882352941E-8},{"$f":"IF('8) DDGS Dryer'!D101=0,C74/1020,'8) DDGS Dryer'!D101)","v":1.1764705882352941E-8},{"$f":"IF('8) DDGS Dryer'!E101=0,D74/1020,'8) DDGS Dryer'!E101)","v":1.1764705882352941E-8},{"$f":"IF('8) DDGS Dryer'!F101=0,E74/1020,'8) DDGS Dryer'!F101)","v":1.1764705882352941E-8},{"$f":"IF('8) DDGS Dryer'!G101=0,F74/1020,'8) DDGS Dryer'!G101)","v":1.1764705882352941E-8},{"$f":"IF('8) DDGS Dryer'!H101=0,G74/1020,'8) DDGS Dryer'!H101)","v":1.1764705882352941E-8},{"$f":"IF('8) DDGS Dryer'!I101=0,H74/1020,'8) DDGS Dryer'!I101)","v":1.1764705882352941E-8},{"$f":"IF('8) DDGS Dryer'!J101=0,I74/1020,'8) DDGS Dryer'!J101)","v":1.1764705882352941E-8},{"$f":"IF('8) DDGS Dryer'!K101=0,J74/1020,'8) DDGS Dryer'!K101)","v":1.1764705882352941E-8},{"$f":"IF('8) DDGS Dryer'!L101=0,K74/1020,'8) DDGS Dryer'!L101)","v":1.1764705882352941E-8},null,"  Beryllium Compounds",{"$f":"N74*'8) DDGS Dryer'!$N$16","v":0},{"$f":"O74*'8) DDGS Dryer'!$N$17","v":0},{"$f":"P74*'8) DDGS Dryer'!$N$18","v":0},{"$f":"Q74*'8) DDGS Dryer'!$N$19","v":0},{"$f":"R74*'8) DDGS Dryer'!$N$20","v":0},{"$f":"S74*'8) DDGS Dryer'!$N$21","v":0},{"$f":"T74*'8) DDGS Dryer'!$N$22","v":0},{"$f":"U74*'8) DDGS Dryer'!$N$23","v":0},{"$f":"V74*'8) DDGS Dryer'!$N$24","v":0},{"$f":"W74*'8) DDGS Dryer'!$N$25","v":0},0,null,"  Beryllium Compounds",0,0,0,0,0,0,0,0,0,0,0]
["  Cadmium Compounds",1.1000000000000001E-3,1.1000000000000001E-3,1.1000000000000001E-3,1.1000000000000001E-3,1.1000000000000001E-3,1.1000000000000001E-3,1.1000000000000001E-3,1.1000000000000001E-3,1.1000000000000001E-3,1.1000000000000001E-3,null,"  Cadmium Compounds",{"$f":"IF('8) DDGS Dryer'!C102=0,B75/1020,'8) DDGS Dryer'!C102)","v":1.0784313725490197E-6},{"$f":"IF('8) DDGS Dryer'!D102=0,C75/1020,'8) DDGS Dryer'!D102)","v":1.0784313725490197E-6},{"$f":"IF('8) DDGS Dryer'!E102=0,D75/1020,'8) DDGS Dryer'!E102)","v":1.0784313725490197E-6},{"$f":"IF('8) DDGS Dryer'!F102=0,E75/1020,'8) DDGS Dryer'!F102)","v":1.0784313725490197E-6},{"$f":"IF('8) DDGS Dryer'!G102=0,F75/1020,'8) DDGS Dryer'!G102)","v":1.0784313725490197E-6},{"$f":"IF('8) DDGS Dryer'!H102=0,G75/1020,'8) DDGS Dryer'!H102)","v":1.0784313725490197E-6},{"$f":"IF('8) DDGS Dryer'!I102=0,H75/1020,'8) DDGS Dryer'!I102)","v":1.0784313725490197E-6},{"$f":"IF('8) DDGS Dryer'!J102=0,I75/1020,'8) DDGS Dryer'!J102)","v":1.0784313725490197E-6},{"$f":"IF('8) DDGS Dryer'!K102=0,J75/1020,'8) DDGS Dryer'!K102)","v":1.0784313725490197E-6},{"$f":"IF('8) DDGS Dryer'!L102=0,K75/1020,'8) DDGS Dryer'!L102)","v":1.0784313725490197E-6},null,"  Cadmium Compounds",{"$f":"N75*'8) DDGS Dryer'!$N$16","v":0},{"$f":"O75*'8) DDGS Dryer'!$N$17","v":0},{"$f":"P75*'8) DDGS Dryer'!$N$18","v":0},{"$f":"Q75*'8) DDGS Dryer'!$N$19","v":0},{"$f":"R75*'8) DDGS Dryer'!$N$20","v":0},{"$f":"S75*'8) DDGS Dryer'!$N$21","v":0},{"$f":"T75*'8) DDGS Dryer'!$N$22","v":0},{"$f":"U75*'8) DDGS Dryer'!$N$23","v":0},{"$f":"V75*'8) DDGS Dryer'!$N$24","v":0},{"$f":"W75*'8) DDGS Dryer'!$N$25","v":0},0,null,"  Cadmium Compounds",0,0,0,0,0,0,0,0,0,0,0]
["  Chromium Compounds",1.4E-3,1.4E-3,1.4E-3,1.4E-3,1.4E-3,1.4E-3,1.4E-3,1.4E-3,1.4E-3,1.4E-3,null,"  Chromium Compounds",{"$f":"IF('8) DDGS Dryer'!C103=0,B76/1020,'8) DDGS Dryer'!C103)","v":1.3725490196078432E-6},{"$f":"IF('8) DDGS Dryer'!D103=0,C76/1020,'8) DDGS Dryer'!D103)","v":1.3725490196078432E-6},{"$f":"IF('8) DDGS Dryer'!E103=0,D76/1020,'8) DDGS Dryer'!E103)","v":1.3725490196078432E-6},{"$f":"IF('8) DDGS Dryer'!F103=0,E76/1020,'8) DDGS Dryer'!F103)","v":1.3725490196078432E-6},{"$f":"IF('8) DDGS Dryer'!G103=0,F76/1020,'8) DDGS Dryer'!G103)","v":1.3725490196078432E-6},{"$f":"IF('8) DDGS Dryer'!H103=0,G76/1020,'8) DDGS Dryer'!H103)","v":1.3725490196078432E-6},{"$f":"IF('8) DDGS Dryer'!I103=0,H76/1020,'8) DDGS Dryer'!I103)","v":1.3725490196078432E-6},{"$f":"IF('8) DDGS Dryer'!J103=0,I76/1020,'8) DDGS Dryer'!J103)","v":1.3725490196078432E-6},{"$f":"IF('8) DDGS Dryer'!K103=0,J76/1020,'8) DDGS Dryer'!K103)","v":1.3725490196078432E-6},{"$f":"IF('8) DDGS Dryer'!L103=0,K76/1020,'8) DDGS Dryer'!L103)","v":1.3725490196078432E-6},null,"  Chromium Compounds",{"$f":"N76*'8) DDGS Dryer'!$N$16","v":0},{"$f":"O76*'8) DDGS Dryer'!$N$17","v":0},{"$f":"P76*'8) DDGS Dryer'!$N$18","v":0},{"$f":"Q76*'8) DDGS Dryer'!$N$19","v":0},{"$f":"R76*'8) DDGS Dryer'!$N$20","v":0},{"$f":"S76*'8) DDGS Dryer'!$N$21","v":0},{"$f":"T76*'8) DDGS Dryer'!$N$22","v":0},{"$f":"U76*'8) DDGS Dryer'!$N$23","v":0},{"$f":"V76*'8) DDGS Dryer'!$N$24","v":0},{"$f":"W76*'8) DDGS Dryer'!$N$25","v":0},0,null,"  Chromium Compounds",0,0,0,0,0,0,0,0,0,0,0]
["  Cobalt Compounds",8.3999999999999995E-5,8.3999999999999995E-5,8.3999999999999995E-5,8.3999999999999995E-5,8.3999999999999995E-5,8.3999999999999995E-5,8.3999999999999995E-5,8.3999999999999995E-5,8.3999999999999995E-5,8.3999999999999995E-5,null,"  Cobalt Compounds",{"$f":"IF('8) DDGS Dryer'!C104=0,B77/1020,'8) DDGS Dryer'!C104)","v":8.2352941176470587E-8},{"$f":"IF('8) DDGS Dryer'!D104=0,C77/1020,'8) DDGS Dryer'!D104)","v":8.2352941176470587E-8},{"$f":"IF('8) DDGS Dryer'!E104=0,D77/1020,'8) DDGS Dryer'!E104)","v":8.2352941176470587E-8},{"$f":"IF('8) DDGS Dryer'!F104=0,E77/1020,'8) DDGS Dryer'!F104)","v":8.2352941176470587E-8},{"$f":"IF('8) DDGS Dryer'!G104=0,F77/1020,'8) DDGS Dryer'!G104)","v":8.2352941176470587E-8},{"$f":"IF('8) DDGS Dryer'!H104=0,G77/1020,'8) DDGS Dryer'!H104)","v":8.2352941176470587E-8},{"$f":"IF('8) DDGS Dryer'!I104=0,H77/1020,'8) DDGS Dryer'!I104)","v":8.2352941176470587E-8},{"$f":"IF('8) DDGS Dryer'!J104=0,I77/1020,'8) DDGS Dryer'!J104)","v":8.2352941176470587E-8},{"$f":"IF('8) DDGS Dryer'!K104=0,J77/1020,'8) DDGS Dryer'!K104)","v":8.2352941176470587E-8},{"$f":"IF('8) DDGS Dryer'!L104=0,K77/1020,'8) DDGS Dryer'!L104)","v":8.2352941176470587E-8},null,"  Cobalt Compounds",{"$f":"N77*'8) DDGS Dryer'!$N$16","v":0},{"$f":"O77*'8) DDGS Dryer'!$N$17","v":0},{"$f":"P77*'8) DDGS Dryer'!$N$18","v":0},{"$f":"Q77*'8) DDGS Dryer'!$N$19","v":0},{"$f":"R77*'8) DDGS Dryer'!$N$20","v":0},{"$f":"S77*'8) DDGS Dryer'!$N$21","v":0},{"$f":"T77*'8) DDGS Dryer'!$N$22","v":0},{"$f":"U77*'8) DDGS Dryer'!$N$23","v":0},{"$f":"V77*'8) DDGS Dryer'!$N$24","v":0},{"$f":"W77*'8) DDGS Dryer'!$N$25","v":0},0,null,"  Cobalt Compounds",0,0,0,0,0,0,0,0,0,0,0]
["  Manganese Compounds",3.8000000000000002E-4,3.8000000000000002E-4,3.8000000000000002E-4,3.8000000000000002E-4,3.8000000000000002E-4,3.8000000000000002E-4,3.8000000000000002E-4,3.8000000000000002E-4,3.8000000000000002E-4,3.8000000000000002E-4,null,"  Manganese Compounds",{"$f":"IF('8) DDGS Dryer'!C105=0,B78/1020,'8) DDGS Dryer'!C105)","v":3.7254901960784315E-7},{"$f":"IF('8) DDGS Dryer'!D105=0,C78/1020,'8) DDGS Dryer'!D105)","v":3.7254901960784315E-7},{"$f":"IF('8) DDGS Dryer'!E105=0,D78/1020,'8) DDGS Dryer'!E105)","v":3.7254901960784315E-7},{"$f":"IF('8) DDGS Dryer'!F105=0,E78/1020,'8) DDGS Dryer'!F105)","v":3.7254901960784315E-7},{"$f":"IF('8) DDGS Dryer'!G105=0,F78/1020,'8) DDGS Dryer'!G105)","v":3.7254901960784315E-7},{"$f":"IF('8) DDGS Dryer'!H105=0,G78/1020,'8) DDGS Dryer'!H105)","v":3.7254901960784315E-7},{"$f":"IF('8) DDGS Dryer'!I105=0,H78/1020,'8) DDGS Dryer'!I105)","v":3.7254901960784315E-7},{"$f":"IF('8) DDGS Dryer'!J105=0,I78/1020,'8) DDGS Dryer'!J105)","v":3.7254901960784315E-7},{"$f":"IF('8) DDGS Dryer'!K105=0,J78/1020,'8) DDGS Dryer'!K105)","v":3.7254901960784315E-7},{"$f":"IF('8) DDGS Dryer'!L105=0,K78/1020,'8) DDGS Dryer'!L105)","v":3.7254901960784315E-7},null,"  Manganese Compounds",{"$f":"N78*'8) DDGS Dryer'!$N$16","v":0},{"$f":"O78*'8) DDGS Dryer'!$N$17","v":0},{"$f":"P78*'8) DDGS Dryer'!$N$18","v":0},{"$f":"Q78*'8) DDGS Dryer'!$N$19","v":0},{"$f":"R78*'8) DDGS Dryer'!$N$20","v":0},{"$f":"S78*'8) DDGS Dryer'!$N$21","v":0},{"$f":"T78*'8) DDGS Dryer'!$N$22","v":0},{"$f":"U78*'8) DDGS Dryer'!$N$23","v":0},{"$f":"V78*'8) DDGS Dryer'!$N$24","v":0},{"$f":"W78*'8) DDGS Dryer'!$N$25","v":0},0,null,"  Manganese Compounds",0,0,0,0,0,0,0,0,0,0,0]
["  Mercury Compounds",2.5999999999999998E-4,2.5999999999999998E-4,2.5999999999999998E-4,2.5999999999999998E-4,2.5999999999999998E-4,2.5999999999999998E-4,2.5999999999999998E-4,2.5999999999999998E-4,2.5999999999999998E-4,2.5999999999999998E-4,null,"  Mercury Compounds",{"$f":"IF('8) DDGS Dryer'!C106=0,B79/1020,'8) DDGS Dryer'!C106)","v":2.5490196078431371E-7},{"$f":"IF('8) DDGS Dryer'!D106=0,C79/1020,'8) DDGS Dryer'!D106)","v":2.5490196078431371E-7},{"$f":"IF('8) DDGS Dryer'!E106=0,D79/1020,'8) DDGS Dryer'!E106)","v":2.5490196078431371E-7},{"$f":"IF('8) DDGS Dryer'!F106=0,E79/1020,'8) DDGS Dryer'!F106)","v":2.5490196078431371E-7},{"$f":"IF('8) DDGS Dryer'!G106=0,F79/1020,'8) DDGS Dryer'!G106)","v":2.5490196078431371E-7},{"$f":"IF('8) DDGS Dryer'!H106=0,G79/1020,'8) DDGS Dryer'!H106)","v":2.5490196078431371E-7},{"$f":"IF('8) DDGS Dryer'!I106=0,H79/1020,'8) DDGS Dryer'!I106)","v":2.5490196078431371E-7},{"$f":"IF('8) DDGS Dryer'!J106=0,I79/1020,'8) DDGS Dryer'!J106)","v":2.5490196078431371E-7},{"$f":"IF('8) DDGS Dryer'!K106=0,J79/1020,'8) DDGS Dryer'!K106)","v":2.5490196078431371E-7},{"$f":"IF('8) DDGS Dryer'!L106=0,K79/1020,'8) DDGS Dryer'!L106)","v":2.5490196078431371E-7},null,"  Mercury Compounds",{"$f":"N79*'8) DDGS Dryer'!$N$16","v":0},{"$f":"O79*'8) DDGS Dryer'!$N$17","v":0},{"$f":"P79*'8) DDGS Dryer'!$N$18","v":0},{"$f":"Q79*'8) DDGS Dryer'!$N$19","v":0},{"$f":"R79*'8) DDGS Dryer'!$N$20","v":0},{"$f":"S79*'8) DDGS Dryer'!$N$21","v":0},{"$f":"T79*'8) DDGS Dryer'!$N$22","v":0},{"$f":"U79*'8) DDGS Dryer'!$N$23","v":0},{"$f":"V79*'8) DDGS Dryer'!$N$24","v":0},{"$f":"W79*'8) DDGS Dryer'!$N$25","v":0},0,null,"  Mercury Compounds",0,0,0,0,0,0,0,0,0,0,0]
["  Nickel Compounds",2.0999999999999999E-3,2.0999999999999999E-3,2.0999999999999999E-3,2.0999999999999999E-3,2.0999999999999999E-3,2.0999999999999999E-3,2.0999999999999999E-3,2.0999999999999999E-3,2.0999999999999999E-3,2.0999999999999999E-3,null,"  Nickel Compounds",{"$f":"IF('8) DDGS Dryer'!C107=0,B80/1020,'8) DDGS Dryer'!C107)","v":2.0588235294117645E-6},{"$f":"IF('8) DDGS Dryer'!D107=0,C80/1020,'8) DDGS Dryer'!D107)","v":2.0588235294117645E-6},{"$f":"IF('8) DDGS Dryer'!E107=0,D80/1020,'8) DDGS Dryer'!E107)","v":2.0588235294117645E-6},{"$f":"IF('8) DDGS Dryer'!F107=0,E80/1020,'8) DDGS Dryer'!F107)","v":2.0588235294117645E-6},{"$f":"IF('8) DDGS Dryer'!G107=0,F80/1020,'8) DDGS Dryer'!G107)","v":2.0588235294117645E-6},{"$f":"IF('8) DDGS Dryer'!H107=0,G80/1020,'8) DDGS Dryer'!H107)","v":2.0588235294117645E-6},{"$f":"IF('8) DDGS Dryer'!I107=0,H80/1020,'8) DDGS Dryer'!I107)","v":2.0588235294117645E-6},{"$f":"IF('8) DDGS Dryer'!J107=0,I80/1020,'8) DDGS Dryer'!J107)","v":2.0588235294117645E-6},{"$f":"IF('8) DDGS Dryer'!K107=0,J80/1020,'8) DDGS Dryer'!K107)","v":2.0588235294117645E-6},{"$f":"IF('8) DDGS Dryer'!L107=0,K80/1020,'8) DDGS Dryer'!L107)","v":2.0588235294117645E-6},null,"  Nickel Compounds",{"$f":"N80*'8) DDGS Dryer'!$N$16","v":0},{"$f":"O80*'8) DDGS Dryer'!$N$17","v":0},{"$f":"P80*'8) DDGS Dryer'!$N$18","v":0},{"$f":"Q80*'8) DDGS Dryer'!$N$19","v":0},{"$f":"R80*'8) DDGS Dryer'!$N$20","v":0},{"$f":"S80*'8) DDGS Dryer'!$N$21","v":0},{"$f":"T80*'8) DDGS Dryer'!$N$22","v":0},{"$f":"U80*'8) DDGS Dryer'!$N$23","v":0},{"$f":"V80*'8) DDGS Dryer'!$N$24","v":0},{"$f":"W80*'8) DDGS Dryer'!$N$25","v":0},0,null,"  Nickel Compounds",0,0,0,0,0,0,0,0,0,0,0]
["  Selenium Compounds",2.4000000000000001E-5,2.4000000000000001E-5,2.4000000000000001E-5,2.4000000000000001E-5,2.4000000000000001E-5,2.4000000000000001E-5,2.4000000000000001E-5,2.4000000000000001E-5,2.4000000000000001E-5,2.4000000000000001E-5,null,"  Selenium Compounds",{"$f":"IF('8) DDGS Dryer'!C108=0,B81/1020,'8) DDGS Dryer'!C108)","v":2.3529411764705881E-8},{"$f":"IF('8) DDGS Dryer'!D108=0,C81/1020,'8) DDGS Dryer'!D108)","v":2.3529411764705881E-8},{"$f":"IF('8) DDGS Dryer'!E108=0,D81/1020,'8) DDGS Dryer'!E108)","v":2.3529411764705881E-8},{"$f":"IF('8) DDGS Dryer'!F108=0,E81/1020,'8) DDGS Dryer'!F108)","v":2.3529411764705881E-8},{"$f":"IF('8) DDGS Dryer'!G108=0,F81/1020,'8) DDGS Dryer'!G108)","v":2.3529411764705881E-8},{"$f":"IF('8) DDGS Dryer'!H108=0,G81/1020,'8) DDGS Dryer'!H108)","v":2.3529411764705881E-8},{"$f":"IF('8) DDGS Dryer'!I108=0,H81/1020,'8) DDGS Dryer'!I108)","v":2.3529411764705881E-8},{"$f":"IF('8) DDGS Dryer'!J108=0,I81/1020,'8) DDGS Dryer'!J108)","v":2.3529411764705881E-8},{"$f":"IF('8) DDGS Dryer'!K108=0,J81/1020,'8) DDGS Dryer'!K108)","v":2.3529411764705881E-8},{"$f":"IF('8) DDGS Dryer'!L108=0,K81/1020,'8) DDGS Dryer'!L108)","v":2.3529411764705881E-8},null,"  Selenium Compounds",{"$f":"N81*'8) DDGS Dryer'!$N$16","v":0},{"$f":"O81*'8) DDGS Dryer'!$N$17","v":0},{"$f":"P81*'8) DDGS Dryer'!$N$18","v":0},{"$f":"Q81*'8) DDGS Dryer'!$N$19","v":0},{"$f":"R81*'8) DDGS Dryer'!$N$20","v":0},{"$f":"S81*'8) DDGS Dryer'!$N$21","v":0},{"$f":"T81*'8) DDGS Dryer'!$N$22","v":0},{"$f":"U81*'8) DDGS Dryer'!$N$23","v":0},{"$f":"V81*'8) DDGS Dryer'!$N$24","v":0},{"$f":"W81*'8) DDGS Dryer'!$N$25","v":0},0,null,"  Selenium Compounds",0,0,0,0,0,0,0,0,0,0,0]
["Total HAPs",null,null,null,null,null,null,null,null,null,null,null,"Total HAPs",{"$f":"IF('8) DDGS Dryer'!C109=0,B82/1020,'8) DDGS Dryer'!C109)","v":0},{"$f":"IF('8) DDGS Dryer'!D109=0,C82/1020,'8) DDGS Dryer'!D109)","v":0},{"$f":"IF('8) DDGS Dryer'!E109=0,D82/1020,'8) DDGS Dryer'!E109)","v":0},{"$f":"IF('8) DDGS Dryer'!F109=0,E82/1020,'8) DDGS Dryer'!F109)","v":0},{"$f":"IF('8) DDGS Dryer'!G109=0,F82/1020,'8) DDGS Dryer'!G109)","v":0},{"$f":"IF('8) DDGS Dryer'!H109=0,G82/1020,'8) DDGS Dryer'!H109)","v":0},{"$f":"IF('8) DDGS Dryer'!I109=0,H82/1020,'8) DDGS Dryer'!I109)","v":0},{"$f":"IF('8) DDGS Dryer'!J109=0,I82/1020,'8) DDGS Dryer'!J109)","v":0},{"$f":"IF('8) DDGS Dryer'!K109=0,J82/1020,'8) DDGS Dryer'!K109)","v":0},{"$f":"IF('8) DDGS Dryer'!L109=0,K82/1020,'8) DDGS Dryer'!L109)","v":0},null,"Total HAPs",{"$f":"SUM(Z66:Z81)","v":0},{"$f":"SUM(AA66:AA81)","v":0},0,0,0,0,0,0,0,0,0,null,"Total HAPs",0,0,0,0,0,0,0,0,0,0,0]
["Greenhouse Gases (GHG)","(lb/MMBtu)"]
["  Carbon Dioxide (CO2)",{"$f":"53.06*2.20462","v":116.9771372},{"$f":"53.06*2.20462","v":116.9771372},116.9771372,116.9771372,116.9771372,116.9771372,116.9771372,116.9771372,116.9771372,116.9771372,null,"  Carbon Dioxide (CO2)",{"$f":"IF('8) DDGS Dryer'!C111=0,B84,'8) DDGS Dryer'!C111)","v":116.9771372},{"$f":"IF('8) DDGS Dryer'!D111=0,C84,'8) DDGS Dryer'!D111)","v":116.9771372},{"$f":"IF('8) DDGS Dryer'!E111=0,D84,'8) DDGS Dryer'!E111)","v":116.9771372},{"$f":"IF('8) DDGS Dryer'!F111=0,E84,'8) DDGS Dryer'!F111)","v":116.9771372},{"$f":"IF('8) DDGS Dryer'!G111=0,F84,'8) DDGS Dryer'!G111)","v":116.9771372},{"$f":"IF('8) DDGS Dryer'!H111=0,G84,'8) DDGS Dryer'!H111)","v":116.9771372},{"$f":"IF('8) DDGS Dryer'!I111=0,H84,'8) DDGS Dryer'!I111)","v":116.9771372},{"$f":"IF('8) DDGS Dryer'!J111=0,I84,'8) DDGS Dryer'!J111)","v":116.9771372},{"$f":"IF('8) DDGS Dryer'!K111=0,J84,'8) DDGS Dryer'!K111)","v":116.9771372},{"$f":"IF('8) DDGS Dryer'!L111=0,K84,'8) DDGS Dryer'!L111)","v":116.9771372},null,"  Carbon Dioxide (CO2)",{"$f":"N84*'8) DDGS Dryer'!$N$16","v":0},{"$f":"O84*'8) DDGS Dryer'!$N$17","v":0},{"$f":"P84*'8) DDGS Dryer'!$N$18","v":0},{"$f":"Q84*'8) DDGS Dryer'!$N$19","v":0},{"$f":"R84*'8) DDGS Dryer'!$N$20","v":0},{"$f":"S84*'8) DDGS Dryer'!$N$21","v":0},{"$f":"T84*'8) DDGS Dryer'!$N$22","v":0},{"$f":"U84*'8) DDGS Dryer'!$N$23","v":0},{"$f":"V84*'8) DDGS Dryer'!$N$24","v":0},{"$f":"W84*'8) DDGS Dryer'!$N$25","v":0},{"$f":"SUM(Z84:AI84)","v":0},null,"  Carbon Dioxide (CO2)",{"$f":"Z84*AM$51/2000","v":0},{"$f":"AA84*AN$51/2000","v":0},{"$f":"AB84*AO$51/2000","v":0},{"$f":"AC84*AP$51/2000","v":0},{"$f":"AD84*AQ$51/2000","v":0},{"$f":"AE84*AR$51/2000","v":0},{"$f":"AF84*AS$51/2000","v":0},{"$f":"AG84*AT$51/2000","v":0},{"$f":"AH84*AU$51/2000","v":0},{"$f":"AI84*AV$51/2000","v":0},{"$f":"SUM(AM84:AV84)","v":0}]
["  Methane (CH4)",{"$f":"0.001*2.20462","v":2.20462E-3},{"$f":"0.001*2.20462","v":2.20462E-3},2.20462E-3,2.20462E-3,2.20462E-3,2.20462E-3,2.20462E-3,2.20462E-3,2.20462E-3,2.20462E-3,null,"  Methane (CH4)",{"$f":"IF('8) DDGS Dryer'!C112=0,B85,'8) DDGS Dryer'!C112)","v":2.20462E-3},{"$f":"IF('8) DDGS Dryer'!D112=0,C85,'8) DDGS Dryer'!D112)","v":2.20462E-3},{"$f":"IF('8) DDGS Dryer'!E112=0,D85,'8) DDGS Dryer'!E112)","v":2.20462E-3},{"$f":"IF('8) DDGS Dryer'!F112=0,E85,'8) DDGS Dryer'!F112)","v":2.20462E-3},{"$f":"IF('8) DDGS Dryer'!G112=0,F85,'8) DDGS Dryer'!G112)","v":2.20462E-3},{"$f":"IF('8) DDGS Dryer'!H112=0,G85,'8) DDGS Dryer'!H112)","v":2.20462E-3},{"$f":"IF('8) DDGS Dryer'!I112=0,H85,'8) DDGS Dryer'!I112)","v":2.20462E-3},{"$f":"IF('8) DDGS Dryer'!J112=0,I85,'8) DDGS Dryer'!J112)","v":2.20462E-3},{"$f":"IF('8) DDGS Dryer'!K112=0,J85,'8) DDGS Dryer'!K112)","v":2.20462E-3},{"$f":"IF('8) DDGS Dryer'!L112=0,K85,'8) DDGS Dryer'!L112)","v":2.20462E-3},null,"  Methane (CH4)",{"$f":"N85*'8) DDGS Dryer'!$N$16","v":0},{"$f":"O85*'8) DDGS Dryer'!$N$17","v":0},{"$f":"P85*'8) DDGS Dryer'!$N$18","v":0},{"$f":"Q85*'8) DDGS Dryer'!$N$19","v":0},{"$f":"R85*'8) DDGS Dryer'!$N$20","v":0},{"$f":"S85*'8) DDGS Dryer'!$N$21","v":0},{"$f":"T85*'8) DDGS Dryer'!$N$22","v":0},{"$f":"U85*'8) DDGS Dryer'!$N$23","v":0},{"$f":"V85*'8) DDGS Dryer'!$N$24","v":0},{"$f":"W85*'8) DDGS Dryer'!$N$25","v":0},0,null,"  Methane (CH4)",0,0,0,0,0,0,0,0,0,0,0]
["  Nitrous Oxide (N2O)",{"$f":"0.0001*2.20462","v":2.2046199999999999E-4},{"$f":"0.0001*2.20462","v":2.2046199999999999E-4},2.2046199999999999E-4,2.2046199999999999E-4,2.2046199999999999E-4,2.2046199999999999E-4,2.2046199999999999E-4,2.2046199999999999E-4,2.2046199999999999E-4,2.2046199999999999E-4,null,"  Nitrous Oxide (N2O)",{"$f":"IF('8) DDGS Dryer'!C113=0,B86,'8) DDGS Dryer'!C113)","v":2.2046199999999999E-4},{"$f":"IF('8) DDGS Dryer'!D113=0,C86,'8) DDGS Dryer'!D113)","v":2.2046199999999999E-4},{"$f":"IF('8) DDGS Dryer'!E113=0,D86,'8) DDGS Dryer'!E113)","v":2.2046199999999999E-4},{"$f":"IF('8) DDGS Dryer'!F113=0,E86,'8) DDGS Dryer'!F113)","v":2.2046199999999999E-4},{"$f":"IF('8) DDGS Dryer'!G113=0,F86,'8) DDGS Dryer'!G113)","v":2.2046199999999999E-4},{"$f":"IF('8) DDGS Dryer'!H113=0,G86,'8) DDGS Dryer'!H113)","v":2.2046199999999999E-4},{"$f":"IF('8) DDGS Dryer'!I113=0,H86,'8) DDGS Dryer'!I113)","v":2.2046199999999999E-4},{"$f":"IF('8) DDGS Dryer'!J113=0,I86,'8) DDGS Dryer'!J113)","v":2.2046199999999999E-4},{"$f":"IF('8) DDGS Dryer'!K113=0,J86,'8) DDGS Dryer'!K113)","v":2.2046199999999999E-4},{"$f":"IF('8) DDGS Dryer'!L113=0,K86,'8) DDGS Dryer'!L113)","v":2.2046199999999999E-4},null,"  Nitrous Oxide (N2O)",{"$f":"N86*'8) DDGS Dryer'!$N$16","v":0},{"$f":"O86*'8) DDGS Dryer'!$N$17","v":0},{"$f":"P86*'8) DDGS Dryer'!$N$18","v":0},{"$f":"Q86*'8) DDGS Dryer'!$N$19","v":0},{"$f":"R86*'8) DDGS Dryer'!$N$20","v":0},{"$f":"S86*'8) DDGS Dryer'!$N$21","v":0},{"$f":"T86*'8) DDGS Dryer'!$N$22","v":0},{"$f":"U86*'8) DDGS Dryer'!$N$23","v":0},{"$f":"V86*'8) DDGS Dryer'!$N$24","v":0},{"$f":"W86*'8) DDGS Dryer'!$N$25","v":0},0,null,"  Nitrous Oxide (N2O)",0,0,0,0,0,0,0,0,0,0,0]
["* Emission factors for Criteria Pollutants and HAPS from AP-42 Tables 1.4-1, 1.4-2, and 1.4-3. Emission Factors for GHGs from 40CFR98 ",null,null,null,null,null,null,null,null,null,null,null,"* Emission factor equals manufacturer's specified. If no manufacturer guarantee entered, AP-42 emission factors are divided by 1020 MMBtu/MMscf",null,null,null,null,null,null,null,null,null,null,null,"Total GHGs",{"$f":"SUM(Z84:Z86)","v":0},{"$f":"SUM(AA84:AA86)","v":0},0,0,0,0,0,0,0,0,0,null,"Total GHGs",0,0,0,0,0,0,0,0,0,0,0]
[null,null,null,null,null,null,null,null,null,null,null,null,null,null,null,null,null,null,null,null,null,null,null,null,"Greenhouse Gases (GHG) (CO2 Equivalent Basis)",null,null,null,null,null,null,null,null,null,null,null,null,"Greenhouse Gases (GHG) (CO2 Equivalent Basis)"]
["Color Code",null,null,null,null,null,null,null,null,null,null,null,null,null,null,null,null,null,null,null,null,null,null,null,"  Carbon Dioxide (CO2)",{"$f":"Z84","v":0},{"$f":"AA84","v":0},0,0,0,0,0,0,0,0,{"$f":"SUM(Z89:AI89)","v":0},null,"  Carbon Dioxide (CO2)",{"$f":"Z89*AM$51/2000","v":0},{"$f":"AA89*AN$51/2000","v":0},{"$f":"AB89*AO$51/2000","v":0},{"$f":"AC89*AP$51/2000","v":0},{"$f":"AD89*AQ$51/2000","v":0},{"$f":"AE89*AR$51/2000","v":0},{"$f":"AF89*AS$51/2000","v":0},{"$f":"AG89*AT$51/2000","v":0},{"$f":"AH89*AU$51/2000","v":0},{"$f":"AI89*AV$51/2000","v":0},{"$f":"SUM(AM89:AV89)","v":0}]
[null,"Before Project",null,null,null,null,null,null,null,null,null,null,null,null,null,null,null,null,null,null,null,null,null,null,"  Methane (CH4)",{"$f":"Z85*25","v":0},{"$f":"AA85*25","v":0},0,0,0,0,0,0,0,0,0,null,"  Methane (CH4)",0,0,0,0,0,0,0,0,0,0,0]
[null,"After Project",null,null,null,null,null,null,null,null,null,null,null,null,null,null,null,null,null,null,null,null,null,null,"  Nitrous Oxide (N2O)",{"$f":"Z86*298","v":0},{"$f":"AA86*298","v":0},0,0,0,0,0,0,0,0,0,null,"  Nitrous Oxide (N2O)",0,0,0,0,0,0,0,0,0,0,0]
[null,"Default Value of the NDEQ",null,null,null,null,null,null,null,null,null,null,null,null,null,null,null,null,null,null,null,null,null,null,"Total GHGs",{"$f":"SUM(Z89:Z91)","v":0},{"$f":"SUM(AA89:AA91)","v":0},0,0,0,0,0,0,0,0,0,null,"Total GHGs",0,0,0,0,0,0,0,0,0,0,0]
[null,"Final PTE"]
[null,"Calculations"]
[null,"Carry over from user input or other calculated values"]

{"sheet":"9) Calculations","index":25,"n_rows":25,"n_cols":9,"rows_kept":25,"cut":false,"hidden":false,"merged":[[13,7,13,8],[13,0,14,0],[13,1,14,1],[13,2,13,3],[13,5,14,5],[13,6,14,6],[5,5,6,5],[5,6,6,6],[5,7,5,8],[2,0,3,0],[2,5,3,5],[5,0,6,0],[5,1,6,1],[5,2,5,3]]}
["Emissions from Dry Mill's WDGS Product Storage and Loadout"]
[]
["Maximum amount of WDGS produced",{"$f":"'9) Solids Loadout'!D9","v":0},"tons/year",null,null,"Maximum amount of WDGS produced",{"$f":"'9) Solids Loadout'!L9","v":0},"tons/year"]
[null,{"$f":"B3/8760","v":0},"tons/hour",null,null,null,{"$f":"G3/8760","v":0},"tons/hour"]
[]
["Pollutant","Grain loading, gr/scf","Potential Emission Rate",null,null,"Pollutant","Grain loading, gr/scf","Potential Emission Rate"]
[null,null,"(lb/hr)","(ton/yr)",null,null,null,"(lb/hr)","(ton/yr)"]
["PMfilterable[5]",{"$f":"0.005","v":5.0000000000000001E-3},{"$f":"B8*SUM('9) Solids Loadout'!F14:F23)/7000*60","v":0},{"$f":"C8*8760/2000","v":0},null,"PMfilterable[5]",{"$f":"0.005","v":5.0000000000000001E-3},{"$f":"G8*SUM('9) Solids Loadout'!N14:N23)/7000*60","v":0},{"$f":"H8*8760/2000","v":0}]
["PM10[5]",{"$f":"B8","v":5.0000000000000001E-3},{"$f":"B9*SUM('9) Solids Loadout'!F14:F23)/7000*60","v":0},{"$f":"C9*8760/2000","v":0},null,"PM10[5]",{"$f":"G8","v":5.0000000000000001E-3},{"$f":"G9*SUM('9) Solids Loadout'!N14:N23)/7000*60","v":0},{"$f":"H9*8760/2000","v":0}]
["PM2.5[6]",{"$f":"0.034*B9","v":1.7000000000000001E-4},{"$f":"B10*SUM('9) Solids Loadout'!F14:F23)/7000*60","v":0},{"$f":"C10*8760/2000","v":0},null,"PM2.5[6]",{"$f":"0.034*G9","v":1.7000000000000001E-4},{"$f":"G10*SUM('9) Solids Loadout'!N14:N23)/7000*60","v":0},{"$f":"H10*8760/2000","v":0}]
[]
[]
[]
["Pollutant","Emission Factor[1]\n(lb/ton WDGS)","Potential Emission Rate",null,null,"Pollutant","Emission Factor[1]\n(lb/ton WDGS)","Potential Emission Rate"]
[null,null,"(lb/hr)[2]","(ton/yr)[3]",null,null,null,"(lb/hr)[2]","(ton/yr)[3]"]
["Volatile Organic Compounds (VOC)",8.3000000000000001E-3,{"$f":"B16*$B$4","v":0},{"$f":"C16*8760/2000","v":0},null,"Volatile Organic Compounds (VOC)",8.3000000000000001E-3,{"$f":"G16*$G$4","v":0},{"$f":"H16*8760/2000","v":0}]
["Individual Hazardous Air Pollutants (HAP) ",null,null,null,null,"Individual Hazardous Air Pollutants (HAP) "]
[" Acetaldehyde",1.11E-4,{"$f":"B18*$B$4","v":0},{"$f":"C18*8760/2000","v":0},null," Acetaldehyde",1.11E-4,{"$f":"G18*$G$4","v":0},{"$f":"H18*8760/2000","v":0}]
[" Acrolein",1.6699999999999999E-5,{"$f":"B19*$B$4","v":0},{"$f":"C19*8760/2000","v":0},null," Acrolein",1.6699999999999999E-5,{"$f":"G19*$G$4","v":0},{"$f":"H19*8760/2000","v":0}]
[" Formaldehyde",2.22E-4,{"$f":"B20*$B$4","v":0},{"$f":"C20*8760/2000","v":0},null," Formaldehyde",2.22E-4,0,{"$f":"H20*8760/2000","v":0}]
[" Methanol",4.4400000000000002E-5,{"$f":"B21*$B$4","v":0},{"$f":"C21*8760/2000","v":0},null," Methanol",4.4400000000000002E-5,0,{"$f":"H21*8760/2000","v":0}]
["Total HAPs","-",{"$f":"SUM(C18:C21)","v":0},{"$f":"SUM(D18:D21)","v":0},null,"Total HAPs","-",{"$f":"SUM(H18:H21)","v":0},{"$f":"SUM(I18:I21)","v":0}]
["[1]Emission Factors based on November 2, 2004 emissions testing at DENCO, LLC in Morris, MN @ 65% moisture product",null,null,null,null,"[1]Emission Factors based on November 2, 2004 emissions testing at DENCO, LLC in Morris, MN @ 65% moisture product"]
["[2] (lb/hr) = (lb/ton WDGS) x (tons WDGS/hr)",null,null,null,null,"[2] (lb/hr) = (lb/ton WDGS) x (tons WDGS/hr)"]
["[3] (tons/hr) = (lbs/hr pollutant) x (8760 hrs/yr) / (2000 lbs/ton)",null,null,null,null,"[3] (tons/hr) = (lbs/hr pollutant) x (8760 hrs/yr) / (2000 lbs/ton)"]

{"sheet":"10) Calculation","index":26,"n_rows":91,"n_cols":27,"rows_kept":91,"cut":false,"hidden":false,"merged":[[0,0,0,3],[30,0,31,0],[52,0,52,4],[79,4,80,4],[0,14,0,17],[30,14,31,14],[52,14,52,18],[66,12,67,12],[66,5,66,7],[66,9,66,11],[79,1,79,3],[30,1,30,3],[29,0,29,3],[66,18,67,18],[29,14,29,17],[30,15,30,17],[90,1,90,3],[66,8,67,8],[66,0,67,1],[66,2,66,3],[66,4,67,4],[79,0,80,0],[66,23,66,25],[66,26,67,26],[90,15,90,17],[66,14,67,15],[66,16,66,17],[79,14,80,14],[66,19,66,21],[79,15,79,17],[79,18,80,18],[66,22,67,22]]}
["Fact Sheet Attachment: Dry Mill: Denatured Ethanol Loadout",null,null,null,null,null,null,null,null,null,null,null,null,null,"Fact Sheet Attachment: Dry Mill: Denatured Ethanol Loadout"]
["Emissions from Dry Mill's Liquid Loadout",null,null,null,null,null,null,null,null,null,null,null,null,null,"Emissions from Dry Mill's Liquid Loadout"]
[]
["Anhydrous Ethanol Loading Rate:",{"$f":"'10) Liquid Loadout'!E7","v":0},"MMGal/yr",null,null,null,null,null,null,null,null,null,null,null,"Anhydrous Ethanol Loading Rate:",{"$f":"'10) Liquid Loadout'!J7","v":0},"MMGal/yr"]
["Denaturant Loading Rate:",{"$f":"'10) Liquid Loadout'!E8","v":0},"MMGal/yr",null,null,null,null,null,null,null,null,null,null,null,"Denaturant Loading Rate:",{"$f":"'10) Liquid Loadout'!J8","v":0},"MMGal/yr"]
["Denatured Ethanol Loading Rate:",{"$f":"'10) Liquid Loadout'!E9","v":0},"MMGal/yr",null,null,null,null,null,null,null,null,null,null,null,"Denatured Ethanol Loading Rate:",{"$f":"'10) Liquid Loadout'!J9","v":0},"MMGal/yr"]
[]
["Vapor Recovery Control Efficiency",null,null,null,null,null,null,null,null,null,null,null,null,null,"Vapor Recovery Control Efficiency provided in Application"]
[null,"Rail loadout","Truck Loadout",null,null,null,null,null,null,null,null,null,null,null,null,"Rail loadout","Truck Loadout"]
["Capture efficiency:",0,0.98,null,null,null,null,null,null,null,null,null,null,null,"Capture efficiency:",0,0.98]
["Control efficiency:",0,0.95,null,null,null,null,null,null,null,null,null,null,null,"Control efficiency:",0,0.95]
["Overall control efficiency:",0,0.93100000000000005,null,null,null,null,null,null,null,null,null,null,null,"Overall control efficiency:",0,{"$f":"Q10*Q11","v":0.93099999999999994}]
[]
["Material Physical Data",null,null,null,null,null,null,null,null,null,null,null,null,null,"Material Physical Data"]
[null,"Ethanol","Denaturant\n(Natural Gasoline)","Gasoline",null,null,null,null,null,null,null,null,null,null,null,"Ethanol","Denaturant\n(Natural Gasoline)","Gasoline"]
["Molecular weight (M, lbs/lbs-mole)",49.9,62,62,null,null,null,null,null,null,null,null,null,null,"Molecular weight (M, lbs/lbs-mole)",49.9,62,62]
["Temperature (T, deg R)[1]",509.71,509.7,509.71,null,null,null,null,null,null,null,null,null,null,"Temperature (T, deg R)[1]",509.71,509.7,509.71]
["Vapor pressure (P, psia)",0.63600000000000001,5.96,5.96,null,null,null,null,null,null,null,null,null,null,"Vapor pressure (P, psia)",0.63600000000000001,5.96,5.96]
["Liquid molecular weight (ML)",46,92,92,null,null,null,null,null,null,null,null,null,null,"Liquid molecular weight (ML)",46,92,92]
["Density (D, lb/gal)",6.6,5.6,5.6,null,null,null,null,null,null,null,null,null,null,"Density (D, lb/gal)",6.6,5.6,5.6]
["Liquid Mole Fraction (X)[2]",{"$f":"IF(((B20*B4/B19)+(C20*B5/C19))=0,0,(B20*B4/B19)/((B20*B4/B19)+(C20*B5/C19)))","v":0},{"$f":"IF(((B20*B4/B19)+(C20*B5/C19))=0,0,(C20*B5/C19)/((C20*B5/C19)+(B20*B4/B19)))","v":0},"NA",null,null,null,null,null,null,null,null,null,null,"Liquid Mole Fraction (X)[2]",{"$f":"IF(((P20*P4/P19)+(Q20*P5/Q19))=0,0,(P20*P4/P19)/((P20*P4/P19)+(Q20*P5/Q19)))","v":0},{"$f":"IF(((P20*P4/P19)+(Q20*P5/Q19))=0,0,(Q20*P5/Q19)/((Q20*P5/Q19)+(P20*P4/P19)))","v":0},"NA"]
["[1]Temperatures from TANKS 4.09d, average ambient temperature for Grand Island, NE",null,null,null,null,null,null,null,null,null,null,null,null,null,"[1]Temperatures from TANKS 4.09d, average ambient temperature for Grand Island, NE"]
["[2]Liquid Mole Fraction (X) was calculated as follows, where V = loading rate: ",null,null,null,null,null,null,null,null,null,null,null,null,null,"[2]Liquid Mole Fraction (X) was calculated as follows, where V = loading rate: "]
[]
[]
[]
[]
[]
[]
["Hazardous Air Pollutant Weight Fractions",null,null,null,null,null,null,null,null,null,null,null,null,null,"Hazardous Air Pollutant Weight Fractions"]
["Individual HAPs","HAP Weight Fraction or Denatured Ethanol Vapor Composition (wt%)",null,null,null,null,null,null,null,null,null,null,null,null,"Individual HAPs","HAP Weight Fraction or Denatured Ethanol Vapor Composition (wt%)"]
[null,"Ethanol","Denaturant","Gasoline",null,null,null,null,null,null,null,null,null,null,null,"Ethanol","Denaturant","Gasoline"]
[" Acetaldehyde",2.0000000000000001E-4,"N/A","N/A",null,null,null,null,null,null,null,null,null,null," Acetaldehyde",2.0000000000000001E-4,"N/A","N/A"]
[" Benzene","N/A",{"$f":"0.01","v":0.01},{"$f":"4.35/100","v":4.3499999999999997E-2},null,null,null,null,null,null,null,null,null,null," Benzene","N/A",{"$f":"0.01","v":0.01},{"$f":"4.35/100","v":4.3499999999999997E-2}]
[" Carbon disulfide","N/A","N/A","N/A",null,null,null,null,null,null,null,null,null,null," Carbon disulfide","N/A","N/A","N/A"]
[" Cumene","N/A","N/A",{"$f":"2.25/100","v":2.2499999999999999E-2},null,null,null,null,null,null,null,null,null,null," Cumene","N/A","N/A",{"$f":"2.25/100","v":2.2499999999999999E-2}]
[" Ethyl benzene","N/A","N/A",{"$f":"2.75/100","v":2.75E-2},null,null,null,null,null,null,null,null,null,null," Ethyl benzene","N/A","N/A",{"$f":"2.75/100","v":2.75E-2}]
[" n-Hexane","N/A",0.5,{"$f":"14.25/100","v":0.14249999999999999},null,null,null,null,null,null,null,null,null,null," n-Hexane","N/A",0.5,{"$f":"14.25/100","v":0.14249999999999999}]
[" Methanol",2.0000000000000001E-4,"N/A","N/A",null,null,null,null,null,null,null,null,null,null," Methanol",2.0000000000000001E-4,"N/A","N/A"]
[" Toluene","N/A","N/A",{"$f":"23.75/100","v":0.23749999999999999},null,null,null,null,null,null,null,null,null,null," Toluene","N/A","N/A",{"$f":"23.75/100","v":0.23749999999999999}]
[" Xylene","N/A","N/A",{"$f":"19.5/100","v":0.19500000000000001},null,null,null,null,null,null,null,null,null,null," Xylene","N/A","N/A",{"$f":"19.5/100","v":0.19500000000000001}]
["Total HAPs",{"$f":"SUM(B33:B41)","v":4.0000000000000002E-4},{"$f":"SUM(C33:C41)","v":0.51},{"$f":"SUM(D33:D41)","v":0.66849999999999998},null,null,null,null,null,null,null,null,null,null,"Total HAPs",{"$f":"SUM(P33:P41)","v":4.0000000000000002E-4},{"$f":"SUM(Q33:Q41)","v":0.51},{"$f":"SUM(R33:R41)","v":0.66849999999999998}]
[]
[{"$f":"A1","v":"Fact Sheet Attachment: Dry Mill: Denatured Ethanol Loadout"},null,null,null,null,null,null,null,null,null,null,null,null,null,{"$f":"O1","v":"Fact Sheet Attachment: Dry Mill: Denatured Ethanol Loadout"}]
[{"$f":"A2","v":"Emissions from Dry Mill's Liquid Loadout"},null,null,null,null,null,null,null,null,null,null,null,null,null,{"$f":"O2","v":"Emissions from Dry Mill's Liquid Loadout"}]
[]
["Saturation Factors",null,null,null,null,null,null,null,null,null,null,null,null,null,"Saturation Factors"]
["  Snormal dedicated, submerged loading",0.6,"Saturation factor",null,null,null,null,null,null,null,null,null,null,null,"  Snormal dedicated, submerged loading",0.6,"Saturation factor"]
["   Sclean cargo, submerged loading",0.5,"Saturation factor",null,null,null,null,null,null,null,null,null,null,null,"   Sclean cargo, submerged loading",0.5,"Saturation factor"]
[]
["Rail loadout is assumed to be in dedicated railcars, which previous load was denatured ethanol.",null,null,null,null,null,null,null,null,null,null,null,null,null,"Rail loadout is assumed to be in dedicated railcars, which previous load was denatured ethanol."]
[]
["Denatured Ethanol Emission Factor Calculations For VOC",null,null,null,null,null,null,null,null,null,null,null,null,null,"Denatured Ethanol Emission Factor Calculations For VOC"]
[null,"Railcar Loadout Uncontrolled\nEmission Factor\n(lbs VOC/Mgal)","Railcar Loadout Controlled\nEmission Factor\n(lbs VOC/Mgal)","Truck Loadout Uncontrolled\nEmission Factor\n(lbs VOC/Mgal)","Truck Loadout Controlled\nEmission Factor\n(lbs VOC/Mgal)",null,null,null,null,null,null,null,null,null,null,"Railcar Loadout Uncontrolled\nEmission Factor\n(lbs VOC/Mgal)","Railcar Loadout Controlled\nEmission Factor\n(lbs VOC/Mgal)","Truck Loadout Uncontrolled\nEmission Factor\n(lbs VOC/Mgal)","Truck Loadout Controlled\nEmission Factor\n(lbs VOC/Mgal)"]
["  EFethanol",{"$f":"(($B49)*12.46*B$16*B$18/B$17)*B21","v":0},{"$f":"B55*(1-$B$12)","v":0},{"$f":"(($B49)*12.46*B$16*B$18/B$17)*B21","v":0},{"$f":"D55*(1-$C$12)","v":0},null,null,null,null,null,null,null,null,null,"  EFethanol",{"$f":"(($P49)*12.46*P$16*P$18/P$17)*P21","v":0},{"$f":"P55*(1-$P$12)","v":0},{"$f":"(($P49)*12.46*P$16*P$18/P$17)*P21","v":0},{"$f":"R55*(1-$Q$12)","v":0}]
["  EFdenaturant",{"$f":"(($B49)*12.46*C$16*C$18/C$17)*C21","v":0},{"$f":"B56*(1-$B$12)","v":0},{"$f":"(($B49)*12.46*C$16*C$18/C$17)*C21","v":0},{"$f":"D56*(1-$C$12)","v":0},null,null,null,null,null,null,null,null,null,"  EFdenaturant",{"$f":"(($P49)*12.46*Q$16*Q$18/Q$17)*Q21","v":0},{"$f":"P56*(1-$P$12)","v":0},{"$f":"(($P49)*12.46*Q$16*Q$18/Q$17)*Q21","v":0},{"$f":"R56*(1-$Q$12)","v":0}]
["  EFgasoline",null,null,{"$f":"((B48-$B49)*12.46*D$16*D$18/D$17)","v":0.9033017205862155},6.2327818720448826E-2,null,null,null,null,null,null,null,null,null,"  EFgasoline",null,null,{"$f":"((P48-$P49)*12.46*R$16*R$18/R$17)","v":0.9033017205862155},{"$f":"R57*(1-$Q$12)","v":6.2327818720448923E-2}]
["  EFVOC",{"$f":"SUM(B55:B56)","v":0},{"$f":"B58*(1-$B$12)","v":0},{"$f":"SUM(D55:D57)","v":0.9033017205862155},{"$f":"SUM(E55:E57)","v":6.2327818720448826E-2},null,null,null,null,null,null,null,null,null,"  EFVOC",{"$f":"SUM(P55:P56)","v":0},{"$f":"P58*(1-$P$12)","v":0},{"$f":"SUM(R55:R57)","v":0.9033017205862155},{"$f":"SUM(S55:S57)","v":6.2327818720448923E-2}]
["VOC emission factor equation from AP-42, Section 5.2.2 - Loading Losses (1/1995)",null,null,null,null,null,null,null,null,null,null,null,null,null,"VOC emission factor equation from AP-42, Section 5.2.2 - Loading Losses (1/1995)"]
["EF = 12.46*S*P*M/T*(1-eff/100)*X = lbs/Mgal per component",null,null,null,null,null,null,null,null,null,null,null,null,null,"EF = 12.46*S*P*M/T*(1-eff/100)*X = lbs/Mgal per component"]
[]
[]
["Total VOC Emission Calculations from Denatured Ethanol Loadout",null,null,null,null,null,null,null,null,null,null,null,null,null,"Total VOC Emission Calculations from Denatured Ethanol Loadout"]
[]
["(A) Denatured Ethanol Loaded Out",null,{"$f":"B6*1000","v":0},"Mgal/yr",null,null,null,null,null,null,null,null,null,null,"(A) Denatured Ethanol Loaded Out",{"$f":"P6*1000","v":0},"Mgal/yr"]
["(A) Denatured Ethanol Loaded Fraction by Truck",null,{"$f":"IF('10) Liquid Loadout'!$E$11=Datasets!$P$2,1,IF('10) Liquid Loadout'!$E$11=Datasets!$P$4,'10) Liquid Loadout'!E13/'10) Liquid Loadout'!E9,0))","v":1},null,null,null,null,null,null,null,null,null,null,null,"(A) Denatured Ethanol Loaded Fraction by Truck",{"$f":"IF('10) Liquid Loadout'!$J$11=Datasets!$P$2,1,IF('10) Liquid Loadout'!$J$11=Datasets!$P$4,'10) Liquid Loadout'!J13/'10) Liquid Loadout'!J9,0))","v":0}]
[null,null,"Rail Loadout",null,"100% Loadout By Rail","Truck Loadout",null,null,"100% Loadout By Truck"," Worst Case Loadout",null,null,"100% Loadout By Worst Case",null,null,null,"Rail Loadout",null,"100% Loadout By Rail","Truck Loadout",null,null,"100% Loadout By Truck"," Worst Case Loadout",null,null,"100% Loadout By Worst Case"]
[null,null,"Ethanol","Denaturant",null,"Ethanol","Denaturant","gasoline",null,"Ethanol","Denaturant","gasoline",null,null,null,null,"Ethanol","Denaturant",null,"Ethanol","Denaturant","gasoline",null,"Ethanol","Denaturant","gasoline"]
["(B)\nUncontrolled Emission Factor","(lbs VOC/Mgal)",{"$f":"B55","v":0},{"$f":"B56","v":0},null,{"$f":"D55","v":0},{"$f":"D56","v":0},{"$f":"D57","v":0.9033017205862155},null,{"$f":"IF('10) Liquid Loadout'!$E$11=Datasets!$P$2,'10) Calculation'!F69,IF('10) Liquid Loadout'!$E$11=Datasets!$P$3,'10) Calculation'!C69,MAX(C69,F69*$C$66+C69*(1-$C$66))))","v":0},{"$f":"IF('10) Liquid Loadout'!$E$11=Datasets!$P$2,'10) Calculation'!G69,IF('10) Liquid Loadout'!$E$11=Datasets!$P$3,'10) Calculation'!D69,MAX(D69,G69*$C$66+D69*(1-$C$66))))","v":0},{"$f":"IF('10) Liquid Loadout'!$E$11=Datasets!$P$2,'10) Calculation'!H69,IF('10) Liquid Loadout'!$E$11=Datasets!$P$3,0,H69*$C$66))","v":0.9033017205862155},null,null,"(B)\nUncontrolled Emission Factor","(lbs VOC/Mgal)",{"$f":"P55","v":0},{"$f":"P56","v":0},null,{"$f":"R55","v":0},{"$f":"R56","v":0},{"$f":"R57","v":0.9033017205862155},null,{"$f":"IF('10) Liquid Loadout'!$E$11=Datasets!$P$2,'10) Calculation'!T69,IF('10) Liquid Loadout'!$E$11=Datasets!$P$3,'10) Calculation'!Q69,MAX(Q69,T69*$C$66+Q69*(1-$C$66))))","v":0},{"$f":"IF('10) Liquid Loadout'!$E$11=Datasets!$P$2,'10) Calculation'!U69,IF('10) Liquid Loadout'!$E$11=Datasets!$P$3,'10) Calculation'!R69,MAX(R69,U69*$C$66+R69*(1-$C$66))))","v":0},{"$f":"IF('10) Liquid Loadout'!$E$11=Datasets!$P$2,'10) Calculation'!V69,IF('10) Liquid Loadout'!$E$11=Datasets!$P$3,0,V69*$C$66))","v":0.9033017205862155}]
["(C)=(A)x(B)/2000\nTotal VOC Emissions","(tons/year)",{"$f":"$C$65*C69/2000","v":0},{"$f":"$C$65*D69/2000","v":0},{"$f":"SUM(C70:D70)","v":0},{"$f":"$C$65*F69/2000","v":0},{"$f":"$C$65*G69/2000","v":0},{"$f":"$C$65*H69/2000","v":0},{"$f":"SUM(F70:H70)","v":0},{"$f":"IF('10) Liquid Loadout'!$E$11=Datasets!$P$2,'10) Calculation'!F70,IF('10) Liquid Loadout'!$E$11=Datasets!$P$3,'10) Calculation'!C70,MAX(C70,F70*$C$66+C70*(1-$C$66))))","v":0},{"$f":"IF('10) Liquid Loadout'!$E$11=Datasets!$P$2,'10) Calculation'!G70,IF('10) Liquid Loadout'!$E$11=Datasets!$P$3,'10) Calculation'!D70,MAX(D70,G70*$C$66+D70*(1-$C$66))))","v":0},{"$f":"IF('10) Liquid Loadout'!$E$11=Datasets!$P$2,'10) Calculation'!H70,IF('10) Liquid Loadout'!$E$11=Datasets!$P$3,0,H70*$C$66))","v":0},{"$f":"SUM(J70:L70)","v":0},null,"(C)=(A)x(B)/2000\nTotal VOC Emissions","(tons/year)",{"$f":"$P$65*Q69/2000","v":0},{"$f":"$P$65*R69/2000","v":0},{"$f":"SUM(Q70:R70)","v":0},{"$f":"$P$65*T69/2000","v":0},{"$f":"$P$65*U69/2000","v":0},{"$f":"$P$65*V69/2000","v":0},{"$f":"SUM(T70:V70)","v":0},{"$f":"IF('10) Liquid Loadout'!$E$11=Datasets!$P$2,'10) Calculation'!T70,IF('10) Liquid Loadout'!$E$11=Datasets!$P$3,'10) Calculation'!Q70,MAX(Q70,T70*$C$66+Q70*(1-$C$66))))","v":0},{"$f":"IF('10) Liquid Loadout'!$E$11=Datasets!$P$2,'10) Calculation'!U70,IF('10) Liquid Loadout'!$E$11=Datasets!$P$3,'10) Calculation'!R70,MAX(R70,U70*$C$66+R70*(1-$C$66))))","v":0},{"$f":"IF('10) Liquid Loadout'!$E$11=Datasets!$P$2,'10) Calculation'!V70,IF('10) Liquid Loadout'!$E$11=Datasets!$P$3,0,V70*$C$66))","v":0},{"$f":"SUM(X70:Z70)","v":0}]
["(D)\nCapture Efficiency","(%)",{"$f":"$B$10","v":0},{"$f":"$B$10","v":0},null,{"$f":"$C$10","v":0.98},{"$f":"$C$10","v":0.98},0.98,null,{"$f":"$C$10","v":0.98},{"$f":"$C$10","v":0.98},0.98,null,null,"(D)\nCapture Efficiency","(%)",{"$f":"$B$10","v":0},{"$f":"$B$10","v":0},null,{"$f":"$C$10","v":0.98},{"$f":"$C$10","v":0.98},0.98,null,{"$f":"$C$10","v":0.98},{"$f":"$C$10","v":0.98},0.98]
["(E)=(C)x(D)\nCaptured VOC Emissions","(tons/year)",{"$f":"C70*C71","v":0},{"$f":"D70*D71","v":0},{"$f":"SUM(C72:D72)","v":0},{"$f":"F70*F71","v":0},{"$f":"G70*G71","v":0},0,{"$f":"SUM(F72:H72)","v":0},{"$f":"IF('10) Liquid Loadout'!$E$11=Datasets!$P$2,'10) Calculation'!F72,IF('10) Liquid Loadout'!$E$11=Datasets!$P$3,'10) Calculation'!C72,MAX(C72,F72*$C$66+C72*(1-$C$66))))","v":0},{"$f":"IF('10) Liquid Loadout'!$E$11=Datasets!$P$2,'10) Calculation'!G72,IF('10) Liquid Loadout'!$E$11=Datasets!$P$3,'10) Calculation'!D72,MAX(D72,G72*$C$66+D72*(1-$C$66))))","v":0},{"$f":"IF('10) Liquid Loadout'!$E$11=Datasets!$P$2,'10) Calculation'!H72,IF('10) Liquid Loadout'!$E$11=Datasets!$P$3,0,H72*$C$66))","v":0},{"$f":"SUM(J72:L72)","v":0},null,"(E)=(C)x(D)\nCaptured VOC Emissions","(tons/year)",{"$f":"Q70*Q71","v":0},{"$f":"R70*R71","v":0},{"$f":"SUM(Q72:R72)","v":0},{"$f":"T70*T71","v":0},{"$f":"U70*U71","v":0},{"$f":"V70*V71","v":0},{"$f":"SUM(T72:V72)","v":0},{"$f":"IF('10) Liquid Loadout'!$E$11=Datasets!$P$2,'10) Calculation'!T72,IF('10) Liquid Loadout'!$E$11=Datasets!$P$3,'10) Calculation'!Q72,MAX(Q72,T72*$C$66+Q72*(1-$C$66))))","v":0},{"$f":"IF('10) Liquid Loadout'!$E$11=Datasets!$P$2,'10) Calculation'!U72,IF('10) Liquid Loadout'!$E$11=Datasets!$P$3,'10) Calculation'!R72,MAX(R72,U72*$C$66+R72*(1-$C$66))))","v":0},{"$f":"IF('10) Liquid Loadout'!$E$11=Datasets!$P$2,'10) Calculation'!V72,IF('10) Liquid Loadout'!$E$11=Datasets!$P$3,0,V72*$C$66))","v":0},{"$f":"SUM(X72:Z72)","v":0}]
["(F)=(C)-(E)\nUncaptured VOC Emissions","(tons/year)",{"$f":"C70-C72","v":0},{"$f":"D70-D72","v":0},{"$f":"SUM(C73:C73)","v":0},{"$f":"F70-F72","v":0},0,0,0,{"$f":"IF('10) Liquid Loadout'!$E$11=Datasets!$P$2,'10) Calculation'!F73,IF('10) Liquid Loadout'!$E$11=Datasets!$P$3,'10) Calculation'!C73,MAX(C73,F73*$C$66+C73*(1-$C$66))))","v":0},{"$f":"IF('10) Liquid Loadout'!$E$11=Datasets!$P$2,'10) Calculation'!G73,IF('10) Liquid Loadout'!$E$11=Datasets!$P$3,'10) Calculation'!D73,MAX(D73,G73*$C$66+D73*(1-$C$66))))","v":0},{"$f":"IF('10) Liquid Loadout'!$E$11=Datasets!$P$2,'10) Calculation'!H73,IF('10) Liquid Loadout'!$E$11=Datasets!$P$3,0,H73*$C$66))","v":0},0,null,"(F)=(C)-(E)\nUncaptured VOC Emissions","(tons/year)",{"$f":"Q70-Q72","v":0},{"$f":"R70-R72","v":0},{"$f":"SUM(Q73:Q73)","v":0},{"$f":"T70-T72","v":0},{"$f":"U70-U72","v":0},{"$f":"V70-V72","v":0},0,{"$f":"IF('10) Liquid Loadout'!$E$11=Datasets!$P$2,'10) Calculation'!T73,IF('10) Liquid Loadout'!$E$11=Datasets!$P$3,'10) Calculation'!Q73,MAX(Q73,T73*$C$66+Q73*(1-$C$66))))","v":0},{"$f":"IF('10) Liquid Loadout'!$E$11=Datasets!$P$2,'10) Calculation'!U73,IF('10) Liquid Loadout'!$E$11=Datasets!$P$3,'10) Calculation'!R73,MAX(R73,U73*$C$66+R73*(1-$C$66))))","v":0},{"$f":"IF('10) Liquid Loadout'!$E$11=Datasets!$P$2,'10) Calculation'!V73,IF('10) Liquid Loadout'!$E$11=Datasets!$P$3,0,V73*$C$66))","v":0},0]
["(G)\nControl Efficiency","(%)",{"$f":"$B$11","v":0},{"$f":"$B$11","v":0},null,{"$f":"$C$11","v":0.95},{"$f":"$C$11","v":0.95},0.95,null,{"$f":"$C$11","v":0.95},{"$f":"$C$11","v":0.95},0.95,null,null,"(G)\nControl Efficiency","(%)",{"$f":"$B$11","v":0},{"$f":"$B$11","v":0},null,{"$f":"$C$11","v":0.95},{"$f":"$C$11","v":0.95},0.95,null,{"$f":"$C$11","v":0.95},{"$f":"$C$11","v":0.95},0.95]
["(H)=(E)x[1-(G)]\nCaptured and Controlled VOC Emissions","(tons/year)",{"$f":"C72*(1-C74)","v":0},{"$f":"D72*(1-D74)","v":0},{"$f":"SUM(C75:D75)","v":0},{"$f":"F72*(1-F74)","v":0},0,0,{"$f":"SUM(F75:H75)","v":0},{"$f":"IF('10) Liquid Loadout'!$E$11=Datasets!$P$2,'10) Calculation'!F75,IF('10) Liquid Loadout'!$E$11=Datasets!$P$3,'10) Calculation'!C75,MAX(C75,F75*$C$66+C75*(1-$C$66))))","v":0},{"$f":"IF('10) Liquid Loadout'!$E$11=Datasets!$P$2,'10) Calculation'!G75,IF('10) Liquid Loadout'!$E$11=Datasets!$P$3,'10) Calculation'!D75,MAX(D75,G75*$C$66+D75*(1-$C$66))))","v":0},{"$f":"IF('10) Liquid Loadout'!$E$11=Datasets!$P$2,'10) Calculation'!H75,IF('10) Liquid Loadout'!$E$11=Datasets!$P$3,0,H75*$C$66))","v":0},{"$f":"SUM(J75:L75)","v":0},null,"(H)=(E)x[1-(G)]\nCaptured and Controlled VOC Emissions","(tons/year)",{"$f":"Q72*(1-Q74)","v":0},{"$f":"R72*(1-R74)","v":0},{"$f":"SUM(Q75:R75)","v":0},{"$f":"T72*(1-T74)","v":0},{"$f":"U72*(1-U74)","v":0},{"$f":"V72*(1-V74)","v":0},{"$f":"SUM(T75:V75)","v":0},{"$f":"IF('10) Liquid Loadout'!$E$11=Datasets!$P$2,'10) Calculation'!T75,IF('10) Liquid Loadout'!$E$11=Datasets!$P$3,'10) Calculation'!Q75,MAX(Q75,T75*$C$66+Q75*(1-$C$66))))","v":0},{"$f":"IF('10) Liquid Loadout'!$E$11=Datasets!$P$2,'10) Calculation'!U75,IF('10) Liquid Loadout'!$E$11=Datasets!$P$3,'10) Calculation'!R75,MAX(R75,U75*$C$66+R75*(1-$C$66))))","v":0},{"$f":"IF('10) Liquid Loadout'!$E$11=Datasets!$P$2,'10) Calculation'!V75,IF('10) Liquid Loadout'!$E$11=Datasets!$P$3,0,V75*$C$66))","v":0},{"$f":"SUM(X75:Z75)","v":0}]
["(I)=(F)+(H)\nTotal VOC Emissions","(tons/year)",{"$f":"C73+C75","v":0},{"$f":"D73+D75","v":0},{"$f":"SUM(C76:D76)","v":0},{"$f":"F73+F75","v":0},0,0,{"$f":"SUM(F76:H76)","v":0},{"$f":"IF('10) Liquid Loadout'!$E$11=Datasets!$P$2,'10) Calculation'!F76,IF('10) Liquid Loadout'!$E$11=Datasets!$P$3,'10) Calculation'!C76,MAX(C76,F76*$C$66+C76*(1-$C$66))))","v":0},{"$f":"IF('10) Liquid Loadout'!$E$11=Datasets!$P$2,'10) Calculation'!G76,IF('10) Liquid Loadout'!$E$11=Datasets!$P$3,'10) Calculation'!D76,MAX(D76,G76*$C$66+D76*(1-$C$66))))","v":0},{"$f":"IF('10) Liquid Loadout'!$E$11=Datasets!$P$2,'10) Calculation'!H76,IF('10) Liquid Loadout'!$E$11=Datasets!$P$3,0,H76*$C$66))","v":0},{"$f":"SUM(J76:L76)","v":0},null,"(I)=(F)+(H)\nTotal VOC Emissions","(tons/year)",{"$f":"Q73+Q75","v":0},{"$f":"R73+R75","v":0},{"$f":"SUM(Q76:R76)","v":0},{"$f":"T73+T75","v":0},{"$f":"U73+U75","v":0},{"$f":"V73+V75","v":0},{"$f":"SUM(T76:V76)","v":0},{"$f":"IF('10) Liquid Loadout'!$E$11=Datasets!$P$2,'10) Calculation'!T76,IF('10) Liquid Loadout'!$E$11=Datasets!$P$3,'10) Calculation'!Q76,MAX(Q76,T76*$C$66+Q76*(1-$C$66))))","v":0},{"$f":"IF('10) Liquid Loadout'!$E$11=Datasets!$P$2,'10) Calculation'!U76,IF('10) Liquid Loadout'!$E$11=Datasets!$P$3,'10) Calculation'!R76,MAX(R76,U76*$C$66+R76*(1-$C$66))))","v":0},{"$f":"IF('10) Liquid Loadout'!$E$11=Datasets!$P$2,'10) Calculation'!V76,IF('10) Liquid Loadout'!$E$11=Datasets!$P$3,0,V76*$C$66))","v":0},{"$f":"SUM(X76:Z76)","v":0}]
[]
["Controlled Hazardous Air Pollutant Emissions assuming worst case",null,null,null,null,null,null,null,null,null,null,null,null,null,"Controlled Hazardous Air Pollutant Emissions assuming worst case"]
[]
["Hazardous Air Pollutant","Worst Case\n(ton/yr)",null,null,"Maximum Controlled \nHAP Emissions\n(tons/year)",null,null,null,null,null,null,null,null,null,"Hazardous Air Pollutant","Rail Loadout\n(ton/yr)",null,null,"Maximum Controlled \nHAP Emissions\n(tons/year)"]
[null,"Ethanol ","Denaturant","gasoline",null,null,null,null,null,null,null,null,null,null,null,"Ethanol ","Denaturant"]
[" Acetaldehyde",{"$f":"IF(B33=\"N/A\", \"N/A\", $J$76*B33)","v":0},{"$f":"IF(C33=\"N/A\", \"N/A\", $K$76*C33)","v":"N/A"},{"$f":"IF(D33=\"N/A\", \"N/A\", $L$76*D33)","v":"N/A"},{"$f":"SUM(B82:D82)","v":0},null,null,null,null,null,null,null,null,null," Acetaldehyde",{"$f":"IF(P33=\"N/A\", \"N/A\", $X$76*P33)","v":0},{"$f":"IF(Q33=\"N/A\", \"N/A\", $Y$76*Q33)","v":"N/A"},{"$f":"IF(R33=\"N/A\", \"N/A\", $Z$76*R33)","v":"N/A"},{"$f":"SUM(P82:R82)","v":0}]
[" Benzene",{"$f":"IF(B34=\"N/A\", \"N/A\", $J$76*B34)","v":"N/A"},0,0,{"$f":"SUM(B83:D83)","v":0},null,null,null,null,null,null,null,null,null," Benzene","N/A",0,0,{"$f":"SUM(P83:R83)","v":0}]
[" Carbon disulfide","N/A","N/A","N/A",0,null,null,null,null,null,null,null,null,null," Carbon disulfide","N/A","N/A","N/A",0]
[" Cumene","N/A","N/A",0,0,null,null,null,null,null,null,null,null,null," Cumene","N/A","N/A",0,0]
[" Ethyl benzene","N/A","N/A",0,0,null,null,null,null,null,null,null,null,null," Ethyl benzene","N/A","N/A",0,0]
[" n-Hexane","N/A",{"$f":"IF(C38=\"N/A\", \"N/A\", $K$76*C38)","v":0},0,0,null,null,null,null,null,null,null,null,null," n-Hexane","N/A",0,0,0]
[" Methanol",0,"N/A","N/A",0,null,null,null,null,null,null,null,null,null," Methanol",0,"N/A","N/A",0]
[" Toluene","N/A","N/A",0,0,null,null,null,null,null,null,null,null,null," Toluene","N/A","N/A",0,0]
[" Xylene","N/A","N/A",0,0,null,null,null,null,null,null,null,null,null," Xylene","N/A","N/A",0,0]
["Total HAPs",{"$f":"SUM(B82:D90)","v":0},null,null,{"$f":"B91","v":0},null,null,null,null,null,null,null,null,null,"Total HAPs",{"$f":"SUM(P82:R90)","v":0},null,null,{"$f":"P91","v":0}]

{"sheet":"10) Calc Flares","index":27,"n_rows":89,"n_cols":9,"rows_kept":89,"cut":false,"hidden":false,"merged":[[88,5,88,8],[89,5,89,8],[87,0,87,3],[88,0,88,3],[89,0,89,3],[86,5,86,8],[87,5,87,8],[0,0,0,3],[47,0,47,3],[82,0,82,3],[83,0,83,3],[84,0,84,3],[86,0,86,3],[0,5,0,8],[47,5,47,8],[82,5,82,8],[83,5,83,8],[84,5,84,8],[3,2,3,3],[4,2,4,3],[5,2,5,3],[6,2,6,3],[7,2,7,3],[8,2,8,3],[9,2,9,3],[10,2,10,3],[11,2,11,3],[12,2,12,3],[13,2,13,3],[14,2,14,3],[15,2,15,3],[16,2,16,3],[17,2,17,3],[18,2,18,3],[19,2,19,3],[20,2,20,3],[21,2,21,3],[22,2,22,3],[23,2,23,3],[24,2,24,3],[25,2,25,3],[26,2,26,3],[29,2,29,3],[30,2,30,3],[31,2,31,3],[32,2,32,3],[3,7,3,8],[4,7,4,8],[5,7,5,8],[6,7,6,8],[7,7,7,8],[8,7,8,8],[9,7,9,8],[10,7,10,8],[11,7,11,8],[12,7,12,8],[13,7,13,8],[14,7,14,8],[15,7,15,8],[16,7,16,8],[17,7,17,8],[18,7,18,8],[19,7,19,8],[20,7,20,8],[21,7,21,8],[22,7,22,8],[30,7,30,8],[31,7,31,8],[32,7,32,8],[23,7,23,8],[24,7,24,8],[25,7,25,8],[26,7,26,8],[29,7,29,8]]}
["Fact Sheet Attachment: Dry Mill: Denatured Ethanol Loadout",null,null,null,null,"Fact Sheet Attachment: Dry Mill: Denatured Ethanol Loadout"]
["Combustion Emissions from Dry Mill's Liquid Loadout Flares ",null,null,null,null,"Combustion Emissions from Dry Mill's Liquid Loadout Flares "]
[]
["(A) Maximum Denatured Ethanol Loadout",{"$f":"'2) Production Rates'!C11","v":0},"gallons/hour",null,null,"(A) Maximum Denatured Ethanol Loadout",{"$f":"'2) Production Rates'!E11","v":0},"gallons/hour"]
[null,{"$f":"'2) Production Rates'!C10*1000000","v":0},"gallons/year",null,null,null,{"$f":"'2) Production Rates'!E10*1000000","v":0},"gallons/year"]
[]
["(B) lbs VOC / Mgal Denatured Ethanol Load Out",{"$f":"'10) Calculation'!J69+'10) Calculation'!K69","v":0},"lb/Mgal",null,null,"(B) lbs VOC / Mgal Denatured Ethanol Load Out",{"$f":"'10) Calculation'!X69+'10) Calculation'!Y69","v":0},"lb/Mgal"]
[]
["Flare Information (Captured Loadout Vapors)",null,null,null,null,"Flare Information (Captured Loadout Vapors)"]
["(C) Heating Value of Captured Vapor[1]",19,"Btu/gal Liquid Denatured Ethanol Loaded",null,null,"(C) Heating Value of Captured Vapor[1]",19,"Btu/gal Liquid Denatured Ethanol Loaded"]
["(D) Density of Denatured Ethanol (Liquid @ 27oF)",6.5030000000000001,"lb/gallon Liquid",null,null,"(D) Density of Denatured Ethanol (Liquid @ 27oF)",6.5030000000000001,"lb/gallon Liquid"]
["(E) Hourly Captured VOC Vapors[2]",{"$f":"(B4/1000)*B7","v":0},"lb VOC/hr",null,null,"(E) Hourly Captured VOC Vapors[2]",{"$f":"(G4/1000)*G7","v":0},"lb VOC/hr"]
["(F) Hourly Captured Rate[3]",{"$f":"B12/B11","v":0},"gallons/hr",null,null,"(F) Hourly Captured Rate[3]",{"$f":"G12/G11","v":0},"gallons/hr"]
["(G) Hourly MMBtu/hr from Captured Vapor[4]",{"$f":"B13*B10/1000000","v":0},"MMBtu/hr",null,null,"(G) Hourly MMBtu/hr from Captured Vapor[4]",{"$f":"G13*G10/1000000","v":0},"MMBtu/hr"]
["(H) Annual Captured Denatured Ethanol Vapors[5]",{"$f":"(B5/1000)*B7/2000","v":0},"ton VOC/yr",null,null,"(H) Annual Captured Denatured Ethanol Vapors[5]",{"$f":"(G5/1000)*G7/2000","v":0},"ton VOC/yr"]
["(I) Annual Captured Rate[6]",{"$f":"B15*2000/B11","v":0},"gallons/year",null,null,"(I) Annual Captured Rate[6]",{"$f":"G15*2000/G11","v":0},"gallons/year"]
["(J) Annual MMBtu from Captured Vapor[7]",{"$f":"B16*B10/1000000","v":0},"MMBtu/yr",null,null,"(J) Annual MMBtu from Captured Vapor[7]",{"$f":"G16*G10/1000000","v":0},"MMBtu/yr"]
[]
["Information for all Flares",null,null,null,null,"Information for all Flares"]
["(K) Hourly MMBtu/hr from Supplemental Fuel",{"$f":"SUM('10) Liquid Loadout'!F19:F28)","v":0},"MMBtu/hr",null,null,"(K) Hourly MMBtu/hr from Supplemental Fuel",{"$f":"SUM('10) Liquid Loadout'!N19:N28)","v":0},"MMBtu/hr"]
["(L) Annual MMBtu from Supplemental Fuel[8]",{"$f":"B20*8760","v":0},"MMBtu/yr",null,null,"(L) Annual MMBtu from Supplemental Fuel[8]",{"$f":"G20*8760","v":0},"MMBtu/yr"]
["(M) Hourly MMBtu/hr from Pilot",{"$f":"SUM('10) Liquid Loadout'!G19:G28)","v":0},"MMBtu/hr",null,null,"(M) Hourly MMBtu/hr from Pilot",{"$f":"SUM('10) Liquid Loadout'!O19:O28)","v":0},"MMBtu/hr"]
["(N) Annual MMBtu from Pilot[8]",{"$f":"B22*8760","v":0},"MMBtu/yr",null,null,"(N) Annual MMBtu from Pilot[8]",{"$f":"G22*8760","v":0},"MMBtu/yr"]
[]
["MMscf/hr from Natural Gas for all Flares",null,null,null,null,"MMscf/hr from Natural Gas for all Flares"]
["(O) Hourly MMscf/hr from Natural Gas[9]",{"$f":"(B20+B22)/1020","v":0},"MMscf/hr",null,null,"(O) Hourly MMscf/hr from Natural Gas[9]",{"$f":"(G20+G22)/1020","v":0},"MMscf/hr"]
["(P) Annual MMscf/yr from Natural Gas[10]",{"$f":"(B21+B23)/1020","v":0},"MMscf/yr",null,null,"(P) Annual MMscf/yr from Natural Gas[10]",{"$f":"(G21+G23)/1020","v":0},"MMscf/yr"]
[]
["MMBtu/hr and MMscf/hr from Natural Gas and Denatured Ethanol Vapors",null,null,null,null,"MMBtu/hr and MMscf/hr from Natural Gas and Denatured Ethanol Vapors"]
["(Q) Total MMBtu/hr[11]",{"$f":"B14+((B20+B22))","v":0},"MMBtu/hr",null,null,"(Q) Total MMBtu/hr[11]",{"$f":"G14+((G20+G22))","v":0},"MMBtu/hr"]
["(R) Total MMscf/hr[12]",{"$f":"B30/1020","v":0},"MMscf/hr",null,null,"(R) Total MMscf/hr[12]",{"$f":"G30/1020","v":0},"MMscf/hr"]
["(S) Total MMBtu/year[13]",{"$f":"B17+((B21+B23))","v":0},"MMBtu/yr",null,null,"(S) Total MMBtu/year[13]",{"$f":"G17+((G21+G23))","v":0},"MMBtu/yr"]
["(T) Total MMscf/year[12]",{"$f":"B32/1020","v":0},"MMscf/yr",null,null,"(T) Total MMscf/year[12]",{"$f":"G32/1020","v":0},"MMscf/yr"]
[]
["[1] Default Value",null,null,null,null,"[1] Default Value"]
["[2](E) = [((A) gal/hr) / (1,000 gal/Mgal)] x (B)",null,null,null,null,"[2](E) = [((A) gal/hr) / (1,000 gal/Mgal)] x (B)"]
["[3](F) = (E)/(D) ",null,null,null,null,"[3](F) = (E)/(D) "]
["[4](G) = (F) x (C) / (1,000,000 Btu/MMBtu)",null,null,null,null,"[4](G) = (F) x (C) / (1,000,000 Btu/MMBtu)"]
["[5](H) = [((A) gal/yr) /(1,000 gal/Mgal)] x (B) / (2,000 lb/ton)",null,null,null,null,"[5](H) = [((A) gal/yr) /(1,000 gal/Mgal)] x (B) / (2,000 lb/ton)"]
["[6](I) = (H) x (2,000 lbs/ton) / (D)",null,null,null,null,"[6](I) = (H) x (2,000 lbs/ton) / (D)"]
["[7](J) = (I) x (C) / (1,000,000 Btu/MMBtu)",null,null,null,null,"[7](J) = (I) x (C) / (1,000,000 Btu/MMBtu)"]
["[8](MMBtu/yr) = (MMBtu/hr) x (8,760 hours/yr)",null,null,null,null,"[8](MMBtu/yr) = (MMBtu/hr) x (8,760 hours/yr)"]
["[9](O) = [(K) + (M)] / (1,020 MMBtu/MMscf)",null,null,null,null,"[9](O) = [(K) + (M)] / (1,020 MMBtu/MMscf)"]
["[10](P) = [(L) + (N)] / (1,020 MMBtu/MMscf)",null,null,null,null,"[10](P) = [(L) + (N)] / (1,020 MMBtu/MMscf)"]
["[11](Q) = (G) + (((K) + (M))* 2 flares)",null,null,null,null,"[11](Q) = (G) + (((K) + (M))* 2 flares)"]
["[12](MMscf/hr) = (MMBtu/hr) / (1,020 MMBtu/MMscf)",null,null,null,null,"[12](MMscf/hr) = (MMBtu/hr) / (1,020 MMBtu/MMscf)"]
["[13](S) = (J) + ((L) + (N))",null,null,null,null,"[13](S) = (J) + ((L) + (N))"]
["Fact Sheet Attachment: Dry Mill: Denatured Ethanol Loadout",null,null,null,null,"Fact Sheet Attachment: Dry Mill: Denatured Ethanol Loadout"]
["Combustion Emissions from Dry Mill's Liquid Loadout Flares",null,null,null,null,"Combustion Emissions from Dry Mill's Liquid Loadout Flares"]
[]
["Pollutant","(U)\nEmission Factor\n(lb/MMscf)[14]","(V)\nEmission Rate\n(lbs/hr)[15]","(W)\nEmission Rate\n(tons/yr)[16]",null,"Pollutant","(U)\nEmission Factor\n(lb/MMscf)[14]","(V)\nEmission Rate\n(lbs/hr)[15]","(W)\nEmission Rate\n(tons/yr)[16]"]
["Particulate Matter (PMfilterable)",7.6,{"$f":"$B$31*B52","v":0},{"$f":"$B$33*B52/2000","v":0},null,"Particulate Matter (PMfilterable)",7.6,{"$f":"$B$31*G52","v":0},{"$f":"$B$33*G52/2000","v":0}]
["Particulate Matter (PM10)",7.6,{"$f":"$B$31*B53","v":0},{"$f":"$B$33*B53/2000","v":0},null,"Particulate Matter (PM10)",7.6,{"$f":"$B$31*G53","v":0},{"$f":"$B$33*G53/2000","v":0}]
["Particulate Matter (PM2.5)",7.6,{"$f":"$B$31*B54","v":0},{"$f":"$B$33*B54/2000","v":0},null,"Particulate Matter (PM2.5)",7.6,{"$f":"$B$31*G54","v":0},{"$f":"$B$33*G54/2000","v":0}]
["Sulfur Dioxide (SO2)",0.6,{"$f":"$B$31*B55","v":0},{"$f":"$B$33*B55/2000","v":0},null,"Sulfur Dioxide (SO2)",0.6,{"$f":"$B$31*G55","v":0},{"$f":"$B$33*G55/2000","v":0}]
[null,"(lb/MMBtu)[17]",null,null,null,null,"(lb/MMBtu)[17]"]
["Nitrogen Oxides (NOx)",0.15,{"$f":"$B$30*B57","v":0},{"$f":"$B$32*B57/2000","v":0},null,"Nitrogen Oxides (NOx)",0.15,{"$f":"$B$30*G57","v":0},{"$f":"$B$32*G57/2000","v":0}]
["Carbon Monoxide (CO)",0.35,0,{"$f":"$B$32*B58/2000","v":0},null,"Carbon Monoxide (CO)",0.35,0,{"$f":"$B$32*G58/2000","v":0}]
["Individual Hazardous Air Pollutants (HAP) ","(lb/MMscf)[14]",null,"(tons/yr)[16]",null,"Individual Hazardous Air Pollutants (HAP) ","(lb/MMscf)[14]",null,"(tons/yr)[16]"]
["  Benzene ",2.0999999999999999E-3,{"$f":"$B$26*B60","v":0},{"$f":"$B$27*B60/2000","v":0},null,"  Benzene ",2.0999999999999999E-3,{"$f":"$B$26*G60","v":0},{"$f":"$B$27*G60/2000","v":0}]
["  Dichlorobenzene ",1.1999999999999999E-3,{"$f":"$B$26*B61","v":0},{"$f":"$B$27*B61/2000","v":0},null,"  Dichlorobenzene ",1.1999999999999999E-3,{"$f":"$B$26*G61","v":0},{"$f":"$B$27*G61/2000","v":0}]
["  Formaldehyde ",7.4999999999999997E-2,0,0,null,"  Formaldehyde ",7.4999999999999997E-2,0,0]
["  Hexane ",1.8,0,0,null,"  Hexane ",1.8,0,0]
["  Lead Compounds",5.0000000000000001E-4,0,0,null,"  Lead Compounds",5.0000000000000001E-4,0,0]
["  Naphthalene ",6.0999999999999997E-4,0,0,null,"  Naphthalene ",6.0999999999999997E-4,0,0]
["  Polycyclic Organic Matter (POM)",8.8200000000000003E-5,0,0,null,"  Polycyclic Organic Matter (POM)",8.8200000000000003E-5,0,0]
["  Toluene ",3.3999999999999998E-3,0,0,null,"  Toluene ",3.3999999999999998E-3,0,0]
["  Arsenic Compounds (ASC)",2.0000000000000001E-4,0,0,null,"  Arsenic Compounds (ASC)",2.0000000000000001E-4,0,0]
["  Beryllium Compounds (BEC)",1.2E-5,0,0,null,"  Beryllium Compounds (BEC)",1.2E-5,0,0]
["  Cadmium Compounds (CDC)",1.1000000000000001E-3,0,0,null,"  Cadmium Compounds (CDC)",1.1000000000000001E-3,0,0]
["  Chromium Compounds (CRC)",1.4E-3,0,0,null,"  Chromium Compounds (CRC)",1.4E-3,0,0]
["  Cobalt Compounds (COC)",8.3999999999999995E-5,0,0,null,"  Cobalt Compounds (COC)",8.3999999999999995E-5,0,0]
["  Manganese Compounds (MNC)",3.8000000000000002E-4,0,0,null,"  Manganese Compounds (MNC)",3.8000000000000002E-4,0,0]
["  Mercury Compounds (HGC)",2.5999999999999998E-4,0,0,null,"  Mercury Compounds (HGC)",2.5999999999999998E-4,0,0]
["  Nickel Compounds (NIC)",2.0999999999999999E-3,0,0,null,"  Nickel Compounds (NIC)",2.0999999999999999E-3,0,0]
["  Selenium Compounds (SEC)",2.4000000000000001E-5,0,0,null,"  Selenium Compounds (SEC)",2.4000000000000001E-5,0,0]
["Total HAPs","-",{"$f":"SUM(C60:C76)","v":0},{"$f":"SUM(D60:D76)","v":0},null,"Total HAPs","-",{"$f":"SUM(H60:H76)","v":0},{"$f":"SUM(I60:I76)","v":0}]
["Greenhouse Gases (GHG)","(kg/MMBtu)[18]","(tons/yr)[19]","(tons CO2e/yr)[20]",null,"Greenhouse Gases (GHG)","(kg/MMBtu)[18]","(tons/yr)[19]","(tons CO2e/yr)[20]"]
["  Carbon Dioxide (CO2)",53.06,{"$f":"B79*B$32/907.18","v":0},{"$f":"C79*1","v":0},null,"  Carbon Dioxide (CO2)",53.06,{"$f":"G79*G$32/907.18","v":0},{"$f":"H79*1","v":0}]
["  Methane (CH4)",1E-3,{"$f":"B80*B$32/907.18","v":0},{"$f":"C80*25","v":0},null,"  Methane (CH4)",1E-3,{"$f":"G80*G$32/907.18","v":0},{"$f":"H80*25","v":0}]
["  Nitrous Oxide (N2O)",1E-4,{"$f":"B81*B$32/907.18","v":0},{"$f":"C81*298","v":0},null,"  Nitrous Oxide (N2O)",1E-4,{"$f":"G81*G$32/907.18","v":0},{"$f":"H81*298","v":0}]
["Total GHGs",null,{"$f":"SUM(C79:C81)","v":0},{"$f":"SUM(D79:D81)","v":0},null,"Total GHGs",null,{"$f":"SUM(H79:H81)","v":0},{"$f":"SUM(I79:I81)","v":0}]
["[14] The criteria pollutants (except PM2.5) and HAP Emission Factors from AP-42 Tables 1.4-1, 1.4-2, 1.4-3, and 1.4-4 (7/98). Emission Factors for PM2.5 equals to PM and PM10.",null,null,null,null,"[14] The criteria pollutants (except PM2.5) and HAP Emission Factors from AP-42 Tables 1.4-1, 1.4-2, 1.4-3, and 1.4-4 (7/98). Emission Factors for PM2.5 equals to PM and PM10."]
["[15]For PM, PM10, PM2.5 and SO2: (V) = (R) x (U).  For NOx and CO: (V) = (Q) x (U).  For HAPs: (V) = (O) x (U). Emissions for criteria pollutants based on natural gas combustion and captured Ethanol emissions combustion; and HAPs based on natural gas combustion only.",null,null,null,null,"[15]For PM, PM10, PM2.5 and SO2: (V) = (R) x (U).  For NOx and CO: (V) = (Q) x (U).  For HAPs: (V) = (O) x (U). Emissions for criteria pollutants based on natural gas combustion and captured Ethanol emissions combustion; and HAPs based on natural gas combustion only."]
["[16]For PM, PM10, PM2.5 and SO2: (W) = (T) x (U) / (2,000 lb/ton).  For NOx and CO: (W) = (S) x (U) / (2,000 lb/ton).  For HAPs: (W) = (V) x (8,760 hrs/yr) / (2,000 lb/yr).",null,null,null,null,"[16]For PM, PM10, PM2.5 and SO2: (W) = (T) x (U) / (2,000 lb/ton).  For NOx and CO: (W) = (S) x (U) / (2,000 lb/ton).  For HAPs: (W) = (V) x (8,760 hrs/yr) / (2,000 lb/yr)."]
["[17]Emission Factor in units of lb/MMBtu and provided in application materials",null,null,null,null,"[17]Emission Factor in units of lb/MMBtu and provided in application materials"]
["[18] All emission factors are default values from 40 CFR 98 Tables C-1 and C-2.  This PTE summary follows the methodologies prescribed in 40 CFR Part 98.",null,null,null,null,"[18] All emission factors are default values from 40 CFR 98 Tables C-1 and C-2.  This PTE summary follows the methodologies prescribed in 40 CFR Part 98."]
["[19] GHG (tons/yr) = [Emission Factor (kg/MMBtu)] x (Potential Heat Input Capacity  (MMBtu/yr)]/(907.18 kg/tons) ",null,null,null,null,"[19] GHG (tons/yr) = [Emission Factor (kg/MMBtu)] x (Potential Heat Input Capacity  (MMBtu/yr)]/(907.18 kg/tons) "]
["[20] tons CO2e/yr = [(tons/yr CO2)*1]or[(tons/yr CH4)*21] or [(tons/yr N2O)*310]; CO2 equivalents are found in 40 CFR  Part 98 Subpart A Table A-1 Global Warming Potentials published on October 30, 2009 (Title 129, Chapter 1).  The CO2e for CO2 =1, for CH4 =21, and for N2O = 310.",null,null,null,null,"[20] tons CO2e/yr = [(tons/yr CO2)*1]or[(tons/yr CH4)*21] or [(tons/yr N2O)*310]; CO2 equivalents are found in 40 CFR  Part 98 Subpart A Table A-1 Global Warming Potentials published on October 30, 2009 (Title 129, Chapter 1).  The CO2e for CO2 =1, for CH4 =21, and for N2O = 310."]

{"sheet":"15) Calculations","index":28,"n_rows":434,"n_cols":40,"rows_kept":434,"cut":false,"hidden":false,"merged":[[191,27,191,28],[192,13,192,14],[192,27,192,28],[196,0,196,1],[201,1,201,2],[201,3,201,4],[201,5,201,6],[201,8,201,9],[201,10,201,11],[194,0,194,1],[195,0,195,1],[197,0,197,1],[192,0,192,1],[193,0,193,11],[200,0,202,0],[200,1,200,6],[200,8,200,13],[188,27,188,28],[189,13,189,14],[189,27,189,28],[190,13,190,14],[190,27,190,28],[185,13,185,14],[185,27,185,28],[186,13,186,14],[186,27,186,28],[187,13,187,14],[187,27,187,28],[183,27,183,28],[184,13,184,14],[184,27,184,28],[179,13,179,14],[179,27,179,28],[180,13,180,14],[180,27,180,28],[181,13,181,14],[181,27,181,28],[163,27,163,28],[164,13,164,14],[164,27,164,28],[165,13,165,14],[165,27,165,28],[152,13,152,14],[152,27,152,28],[162,15,162,25],[169,13,169,14],[169,27,169,28],[166,13,166,14],[166,27,166,28],[167,13,167,14],[167,27,167,28],[168,13,168,14],[168,27,168,28],[163,13,163,14],[162,29,162,39],[149,13,149,14],[149,27,149,28],[150,13,150,14],[150,27,150,28],[151,13,151,14],[151,27,151,28],[146,13,146,14],[146,27,146,28],[147,13,147,14],[147,27,147,28],[148,13,148,14],[148,27,148,28],[150,15,150,25],[150,29,150,39],[160,29,160,39],[153,13,153,14],[153,27,153,28],[160,13,162,14],[160,15,160,25],[160,27,162,28],[143,27,143,28],[144,13,144,14],[144,27,144,28],[145,13,145,14],[145,27,145,28],[140,13,140,14],[140,27,140,28],[141,13,141,14],[141,27,141,28],[142,13,142,14],[142,27,142,28],[143,13,143,14],[138,27,138,28],[139,13,139,14],[139,27,139,28],[133,27,133,28],[134,13,134,14],[134,27,134,28],[135,13,135,14],[135,27,135,28],[136,13,136,14],[136,27,136,28],[132,27,132,28],[123,29,123,39],[124,13,124,14],[124,27,124,28],[125,13,125,14],[125,27,125,28],[126,13,126,14],[126,27,126,28],[137,27,137,28],[137,13,137,14],[113,13,113,14],[127,13,127,14],[128,13,128,14],[133,13,133,14],[191,0,191,1],[184,0,184,1],[185,0,185,1],[180,0,180,1],[181,0,181,1],[182,0,182,1],[177,0,177,1],[178,0,178,1],[179,0,179,1],[174,0,174,1],[175,0,175,1],[176,0,176,1],[171,0,171,1],[172,0,172,1],[129,13,129,14],[173,0,173,1],[130,13,130,14],[132,13,132,14],[138,13,138,14],[171,13,171,14],[112,27,112,28],[115,0,115,1],[116,0,116,1],[118,0,118,1],[155,0,155,1],[156,0,156,1],[113,27,113,28],[123,15,123,25],[127,27,127,28],[146,0,146,1],[141,0,141,1],[142,0,142,1],[143,0,143,1],[138,0,138,1],[139,0,139,1],[140,0,140,1],[135,0,135,1],[136,0,136,1],[137,0,137,1],[132,0,132,1],[133,0,133,1],[134,0,134,1],[128,27,128,28],[117,0,117,1],[106,27,106,28],[107,27,107,28],[108,27,108,28],[109,27,109,28],[110,27,110,28],[111,27,111,28],[100,27,100,28],[101,27,101,28],[102,27,102,28],[103,27,103,28],[104,27,104,28],[105,27,105,28],[94,27,94,28],[95,27,95,28],[96,27,96,28],[97,27,97,28],[98,27,98,28],[99,27,99,28],[87,27,87,28],[88,27,88,28],[89,27,89,28],[90,27,90,28],[92,27,92,28],[93,27,93,28],[83,15,83,25],[83,29,83,39],[84,27,84,28],[85,27,85,28],[86,27,86,28],[68,27,68,28],[69,27,69,28],[70,27,70,28],[71,27,71,28],[72,27,72,28],[73,27,73,28],[71,29,71,39],[74,27,74,28],[81,15,81,25],[81,27,83,28],[81,29,81,39],[44,29,44,39],[45,27,45,28],[46,27,46,28],[47,27,47,28],[48,27,48,28],[42,27,44,28],[42,29,42,39],[52,27,52,28],[52,29,52,39],[72,13,72,14],[49,27,49,28],[50,27,50,28],[51,27,51,28],[53,27,53,28],[54,27,54,28],[55,27,55,28],[62,27,62,28],[63,27,63,28],[64,27,64,28],[65,27,65,28],[66,27,66,28],[67,27,67,28],[56,27,56,28],[57,27,57,28],[58,27,58,28],[59,27,59,28],[60,27,60,28],[61,27,61,28],[44,15,44,25],[151,0,151,1],[190,0,190,1],[152,0,152,1],[97,13,97,14],[98,13,98,14],[99,13,99,14],[100,13,100,14],[150,0,150,1],[189,0,189,1],[147,0,147,1],[186,0,186,1],[148,0,148,1],[187,0,187,1],[149,0,149,1],[188,0,188,1],[144,0,144,1],[183,0,183,1],[145,0,145,1],[56,13,56,14],[57,13,57,14],[58,13,58,14],[59,13,59,14],[60,13,60,14],[112,13,112,14],[101,13,101,14],[102,13,102,14],[112,0,112,1],[45,13,45,14],[46,13,46,14],[47,13,47,14],[48,13,48,14],[61,13,61,14],[49,13,49,14],[50,13,50,14],[51,13,51,14],[53,13,53,14],[54,13,54,14],[55,13,55,14],[68,13,68,14],[69,13,69,14],[70,13,70,14],[71,13,71,14],[84,13,84,14],[62,13,62,14],[63,13,63,14],[64,13,64,14],[65,13,65,14],[167,0,167,1],[129,0,129,1],[168,0,168,1],[130,0,130,1],[169,0,169,1],[125,0,125,1],[164,0,164,1],[126,0,126,1],[165,0,165,1],[127,0,127,1],[166,0,166,1],[163,0,163,1],[157,0,157,1],[153,0,153,1],[154,0,154,11],[160,0,162,1],[160,2,160,11],[150,2,150,11],[128,0,128,1],[111,0,111,1],[110,0,110,1],[103,13,103,14],[104,13,104,14],[105,13,105,14],[106,13,106,14],[93,13,93,14],[94,13,94,14],[95,13,95,14],[96,13,96,14],[110,13,110,14],[111,13,111,14],[109,0,109,1],[107,13,107,14],[108,13,108,14],[109,13,109,14],[107,0,107,1],[108,0,108,1],[60,0,60,1],[67,0,67,1],[68,0,68,1],[73,13,73,14],[106,0,106,1],[81,13,83,14],[91,2,91,11],[91,13,91,14],[85,13,85,14],[86,13,86,14],[87,13,87,14],[98,0,98,1],[88,13,88,14],[89,13,89,14],[90,13,90,14],[92,13,92,14],[99,0,99,1],[94,0,94,1],[103,0,103,1],[104,0,104,1],[105,0,105,1],[75,0,75,11],[66,13,66,14],[67,13,67,14],[2,0,2,3],[42,2,42,11],[42,0,44,1],[74,0,74,1],[52,0,52,1],[52,2,52,11],[71,2,71,11],[42,13,44,14],[36,2,36,8],[7,2,7,8],[48,0,48,1],[49,0,49,1],[50,0,50,1],[5,0,5,2],[45,0,45,1],[46,0,46,1],[47,0,47,1],[55,0,55,1],[7,0,8,0],[72,0,72,1],[70,0,70,1],[71,0,71,1],[73,0,73,1],[51,0,51,1],[7,1,8,1],[56,0,56,1],[57,0,57,1],[91,15,91,25],[91,27,91,28],[91,29,91,39],[110,2,110,11],[110,15,110,25],[110,29,110,39],[69,0,69,1],[64,0,64,1],[65,0,65,1],[66,0,66,1],[42,15,42,25],[100,0,100,1],[76,0,76,1],[77,0,77,1],[78,0,78,1],[90,0,90,1],[53,0,53,1],[92,0,92,1],[54,0,54,1],[93,0,93,1],[61,0,61,1],[113,0,113,1],[114,0,114,11],[52,13,52,14],[74,13,74,14],[71,15,71,25],[52,15,52,25],[87,0,87,1],[88,0,88,1],[81,0,83,1],[81,2,81,11],[84,0,84,1],[85,0,85,1],[86,0,86,1],[95,0,95,1],[96,0,96,1],[101,0,101,1],[102,0,102,1],[97,0,97,1],[89,0,89,1],[91,0,91,1],[62,0,62,1],[63,0,63,1],[58,0,58,1],[59,0,59,1],[121,15,121,25],[121,27,123,28],[121,29,121,39],[131,0,131,1],[131,2,131,11],[131,13,131,14],[131,15,131,25],[131,27,131,28],[131,29,131,39],[124,0,124,1],[129,27,129,28],[130,27,130,28],[121,0,123,1],[121,2,121,11],[121,13,123,14],[170,15,170,25],[170,27,170,28],[170,29,170,39],[189,2,189,11],[189,15,189,25],[189,29,189,39],[171,27,171,28],[172,13,172,14],[172,27,172,28],[176,13,176,14],[176,27,176,28],[177,13,177,14],[177,27,177,28],[178,13,178,14],[178,27,178,28],[173,13,173,14],[173,27,173,28],[174,13,174,14],[174,27,174,28],[175,13,175,14],[175,27,175,28],[182,13,182,14],[182,27,182,28],[183,13,183,14],[237,0,237,6],[232,0,232,6],[213,0,213,6],[213,8,213,13],[232,8,232,13],[237,8,237,13],[201,12,201,13],[170,0,170,1],[170,2,170,11],[170,13,170,14],[188,13,188,14],[191,13,191,14]]}
["Fuel Type",null,"Natural Gas","Natural Gas","Natural Gas","Gasoline","Diesel","Diesel","Dual Fuel (95% NG + Diesel"]
["Engine Configuration",null,"4-STROKE LEAN-BURN","4-STROKE RICH-BURN","2-STROKE LEAN-BURN",null,"Small <600 HP","Large >600 HP"]
["Dry Mill: Denatured Ethanol Loadout"]
["Engines"]
[]
["Diesel Fuel Heat Content (MMBtu/gal)",null,null,0.13900000000000001]
[]
["Pollutant","Units","Emission Factor"]
[null,null,1,2,3,4,5,6,7]
["Criteria Pollutants",null,"AP-42: Table 3.2-2","AP-42: Table 3.2-3","AP-42: Table 3.2-1","AP-42: Table 3.3-1","AP-42: Table 3.3-1","AP-42: Table 3.4-1","AP-42: Table 3.4-1"]
["PM","lb/MMBtu",9.9871000000000005E-3,9.4999999999999998E-3,3.8399999999999997E-2,0.1,0.31,6.9699999999999998E-2,9.9871000000000005E-3]
["PM10","lb/MMBtu",9.9871000000000005E-3,{"$f":"0.0095+0.00991","v":1.941E-2},{"$f":"E11+0.00991","v":4.8309999999999999E-2},0.1,0.31,5.7299999999999997E-2,9.9871000000000005E-3]
["PM2.5","lb/MMBtu",9.9871000000000005E-3,{"$f":"0.0095+0.00991","v":1.941E-2},{"$f":"E11+0.00991","v":4.8309999999999999E-2},0.1,0.31,{"$f":"0.0479+0.0077","v":5.5599999999999997E-2},9.9871000000000005E-3]
["SO2","lb/MMBtu",5.8799999999999998E-4,5.8799999999999998E-4,5.8799999999999998E-4,8.4000000000000005E-2,0.28999999999999998,{"$f":"1.01*0.05","v":5.0500000000000003E-2},{"$f":"0.05*0.05+0.895*0.05","v":4.7250000000000007E-2}]
["NOx","lb/MMBtu",4.08,2.27,3.17,1.63,4.41,3.2,2.7]
["CO","lb/MMBtu",0.55700000000000005,3.72,0.38600000000000001,0.99,0.95,0.85,1.1599999999999999]
["VOC","lb/MMBtu",0.11799999999999999,2.9600000000000001E-2,0.12,{"$f":"2.1+0.09+0.69+0.15","v":3.03},0.36,0.09,0.8]
["Hazardous air pollutants",null,"AP-42: Table 3.2-2","AP-42: Table 3.2-3","AP-42: Table 3.2-1","AP-42: Table 3.3-2","AP-42: Table 3.3-2","AP-42: Table 3.4-3","AP-42: Table 3.2-2"]
["Acetaldehyde","lb/MMBtu",8.3599999999999994E-3,2.7899999999999999E-3,7.7600000000000004E-3,7.67E-4,7.67E-4,2.5199999999999999E-5,8.3599999999999994E-3]
["Acrolein","lb/MMBtu",5.1399999999999996E-3,2.63E-3,7.7799999999999996E-3,9.2499999999999999E-5,9.2499999999999999E-5,7.8800000000000008E-6,5.1399999999999996E-3]
["Arsenic compounds","lb/MMBtu"]
["Benzene","lb/MMBtu",4.4000000000000002E-4,1.58E-3,1.9400000000000001E-3,9.3300000000000002E-4,9.3300000000000002E-4,7.76E-4,4.4000000000000002E-4]
["Benzyl chloride","lb/MMBtu"]
["Beryllium compounds","lb/MMBtu"]
["Cadmium compounds","lb/MMBtu"]
["Cyanide compounds","lb/MMBtu"]
["Formaldehyde","lb/MMBtu",5.28E-2,2.0500000000000001E-2,5.5199999999999999E-2,1.1800000000000001E-3,1.1800000000000001E-3,7.8899999999999993E-5,5.28E-2]
["n-Hexane","lb/MMBtu",1.1100000000000001E-3,null,4.4499999999999997E-4,null,null,null,1.1100000000000001E-3]
["Hydrochloric acid","lb/MMBtu"]
["Lead Compounds","lb/MMBtu"]
["Mercury compounds","lb/MMBtu"]
["Methanol","lb/MMBtu",2.5000000000000001E-3,3.0599999999999998E-3,2.48E-3,null,null,null,2.5000000000000001E-3]
["Methyl hydrazine","lb/MMBtu"]
["Selenium compounds","lb/MMBtu"]
["Other HAPs","lb/MMBtu",6.1645600000000012E-3,1.8443800000000001E-3,3.0610225499999996E-3,9.0109999999999995E-4,9.0109999999999995E-4,6.8599999999999998E-4,6.1645600000000012E-3]
["Total HAPs","lb/MMBtu",{"$f":"SUM(C19:C35)","v":7.6514559999999995E-2},{"$f":"SUM(D19:D35)","v":3.2404380000000003E-2},7.8666022549999992E-2,3.8736000000000005E-3,3.8736000000000005E-3,1.57398E-3,{"$f":"SUM(I19:I35)","v":7.6514559999999995E-2}]
["Greenhouse Gases",null,"40 CFR 98, Subpart C, Tables 1 & 2"]
["CO2","kg CO2/MMBtu",53.06,53.06,53.06,70.22,73.959999999999994,73.959999999999994,53.06]
["Methane","kg CO2/MMBtu",1E-3,1E-3,1E-3,3.0000000000000001E-3,3.0000000000000001E-3,3.0000000000000001E-3,1E-3]
["N2O","kg CO2/MMBtu",1E-4,1E-4,1E-4,5.9999999999999995E-4,5.9999999999999995E-4,5.9999999999999995E-4,1E-4]
[]
[]
[]
[null,null,"1st Compression Engine","2nd Compression Engine","3rd Compression Engine","4th Compression Engine","5th Compression Engine","6th Compression Engine","7th Compression Engine","8th Compression Engine","9th Compression Engine","10th Compression Engine",null,null,null,"1st Compression Engine","2nd Compression Engine","3rd Compression Engine","4th Compression Engine","5th Compression Engine","6th Compression Engine","7th Compression Engine","8th Compression Engine","9th Compression Engine","10th Compression Engine","Total",null,null,null,"1st Compression Engine","2nd Compression Engine","3rd Compression Engine","4th Compression Engine","5th Compression Engine","6th Compression Engine","7th Compression Engine","8th Compression Engine","9th Compression Engine","10th Compression Engine","Total"]
[null,null,{"$f":"IF('15) Engines'!D16<600,5,6)","v":5},{"$f":"IF('15) Engines'!D17<600,5,6)","v":5},{"$f":"IF('15) Engines'!D18<600,5,6)","v":5},{"$f":"IF('15) Engines'!D19<600,5,6)","v":5},{"$f":"IF('15) Engines'!D20<600,5,6)","v":5},{"$f":"IF('15) Engines'!D21<600,5,6)","v":5},{"$f":"IF('15) Engines'!D22<600,5,6)","v":5},{"$f":"IF('15) Engines'!D23<600,5,6)","v":5},{"$f":"IF('15) Engines'!D24<600,5,6)","v":5},{"$f":"IF('15) Engines'!D25<600,5,6)","v":5},null,null,null,"(lb/hr)",null,null,null,null,null,null,null,null,null,null,null,null,null,"(ton/yr)"]
["PMfilterable",null,{"$f":"IF('15) Engines'!W5<>\"\",'15) Engines'!W5,LOOKUP('15) Calculations'!C$45,'15) Calculations'!$C$9:$I$9,'15) Calculations'!$C11:$I11))","v":0.31},{"$f":"IF('15) Engines'!X5<>\"\",'15) Engines'!X5,LOOKUP('15) Calculations'!D$45,'15) Calculations'!$C$9:$I$9,'15) Calculations'!$C11:$I11))","v":0.31},{"$f":"IF('15) Engines'!Y5<>\"\",'15) Engines'!Y5,LOOKUP('15) Calculations'!E$45,'15) Calculations'!$C$9:$I$9,'15) Calculations'!$C11:$I11))","v":0.31},{"$f":"IF('15) Engines'!Z5<>\"\",'15) Engines'!Z5,LOOKUP('15) Calculations'!F$45,'15) Calculations'!$C$9:$I$9,'15) Calculations'!$C11:$I11))","v":0.31},{"$f":"IF('15) Engines'!AA5<>\"\",'15) Engines'!AA5,LOOKUP('15) Calculations'!G$45,'15) Calculations'!$C$9:$I$9,'15) Calculations'!$C11:$I11))","v":0.31},{"$f":"IF('15) Engines'!AB5<>\"\",'15) Engines'!AB5,LOOKUP('15) Calculations'!H$45,'15) Calculations'!$C$9:$I$9,'15) Calculations'!$C11:$I11))","v":0.31},{"$f":"IF('15) Engines'!AC5<>\"\",'15) Engines'!AC5,LOOKUP('15) Calculations'!I$45,'15) Calculations'!$C$9:$I$9,'15) Calculations'!$C11:$I11))","v":0.31},{"$f":"IF('15) Engines'!AD5<>\"\",'15) Engines'!AD5,LOOKUP('15) Calculations'!J$45,'15) Calculations'!$C$9:$I$9,'15) Calculations'!$C11:$I11))","v":0.31},{"$f":"IF('15) Engines'!AE5<>\"\",'15) Engines'!AE5,LOOKUP('15) Calculations'!K$45,'15) Calculations'!$C$9:$I$9,'15) Calculations'!$C11:$I11))","v":0.31},{"$f":"IF('15) Engines'!AF5<>\"\",'15) Engines'!AF5,LOOKUP('15) Calculations'!L$45,'15) Calculations'!$C$9:$I$9,'15) Calculations'!$C11:$I11))","v":0.31},null,"PMfilterable",null,{"$f":"C46*$D$6*C$78","v":0},0,0,0,0,0,0,0,0,0,{"$f":"SUM(P46:Y46)","v":0},null,"PMfilterable",null,{"$f":"P46*C$79/2000","v":0},{"$f":"Q46*D$79/2000","v":0},0,{"$f":"S46*F$79/2000","v":0},0,0,0,0,0,0,{"$f":"SUM(AD46:AM46)","v":0}]
["PM10",null,{"$f":"IF('15) Engines'!W6<>\"\",'15) Engines'!W6,LOOKUP('15) Calculations'!C$45,'15) Calculations'!$C$9:$I$9,'15) Calculations'!$C12:$I12))","v":0.31},{"$f":"IF('15) Engines'!X6<>\"\",'15) Engines'!X6,LOOKUP('15) Calculations'!D$45,'15) Calculations'!$C$9:$I$9,'15) Calculations'!$C12:$I12))","v":0.31},{"$f":"IF('15) Engines'!Y6<>\"\",'15) Engines'!Y6,LOOKUP('15) Calculations'!E$45,'15) Calculations'!$C$9:$I$9,'15) Calculations'!$C12:$I12))","v":0.31},{"$f":"IF('15) Engines'!Z6<>\"\",'15) Engines'!Z6,LOOKUP('15) Calculations'!F$45,'15) Calculations'!$C$9:$I$9,'15) Calculations'!$C12:$I12))","v":0.31},{"$f":"IF('15) Engines'!AA6<>\"\",'15) Engines'!AA6,LOOKUP('15) Calculations'!G$45,'15) Calculations'!$C$9:$I$9,'15) Calculations'!$C12:$I12))","v":0.31},{"$f":"IF('15) Engines'!AB6<>\"\",'15) Engines'!AB6,LOOKUP('15) Calculations'!H$45,'15) Calculations'!$C$9:$I$9,'15) Calculations'!$C12:$I12))","v":0.31},{"$f":"IF('15) Engines'!AC6<>\"\",'15) Engines'!AC6,LOOKUP('15) Calculations'!I$45,'15) Calculations'!$C$9:$I$9,'15) Calculations'!$C12:$I12))","v":0.31},{"$f":"IF('15) Engines'!AD6<>\"\",'15) Engines'!AD6,LOOKUP('15) Calculations'!J$45,'15) Calculations'!$C$9:$I$9,'15) Calculations'!$C12:$I12))","v":0.31},{"$f":"IF('15) Engines'!AE6<>\"\",'15) Engines'!AE6,LOOKUP('15) Calculations'!K$45,'15) Calculations'!$C$9:$I$9,'15) Calculations'!$C12:$I12))","v":0.31},{"$f":"IF('15) Engines'!AF6<>\"\",'15) Engines'!AF6,LOOKUP('15) Calculations'!L$45,'15) Calculations'!$C$9:$I$9,'15) Calculations'!$C12:$I12))","v":0.31},null,"PM10",null,0,0,0,0,0,0,0,0,0,0,{"$f":"SUM(P47:Y47)","v":0},null,"PM10",null,{"$f":"P47*C$79/2000","v":0},{"$f":"Q47*D$79/2000","v":0},{"$f":"R47*E$79/2000","v":0},{"$f":"S47*F$79/2000","v":0},{"$f":"T47*G$79/2000","v":0},{"$f":"U47*H$79/2000","v":0},{"$f":"V47*I$79/2000","v":0},{"$f":"W47*J$79/2000","v":0},{"$f":"X47*K$79/2000","v":0},{"$f":"Y47*L$79/2000","v":0},{"$f":"SUM(AD47:AM47)","v":0}]
["PM2.5",null,{"$f":"IF('15) Engines'!W7<>\"\",'15) Engines'!W7,LOOKUP('15) Calculations'!C$45,'15) Calculations'!$C$9:$I$9,'15) Calculations'!$C13:$I13))","v":0.31},{"$f":"IF('15) Engines'!X7<>\"\",'15) Engines'!X7,LOOKUP('15) Calculations'!D$45,'15) Calculations'!$C$9:$I$9,'15) Calculations'!$C13:$I13))","v":0.31},{"$f":"IF('15) Engines'!Y7<>\"\",'15) Engines'!Y7,LOOKUP('15) Calculations'!E$45,'15) Calculations'!$C$9:$I$9,'15) Calculations'!$C13:$I13))","v":0.31},{"$f":"IF('15) Engines'!Z7<>\"\",'15) Engines'!Z7,LOOKUP('15) Calculations'!F$45,'15) Calculations'!$C$9:$I$9,'15) Calculations'!$C13:$I13))","v":0.31},{"$f":"IF('15) Engines'!AA7<>\"\",'15) Engines'!AA7,LOOKUP('15) Calculations'!G$45,'15) Calculations'!$C$9:$I$9,'15) Calculations'!$C13:$I13))","v":0.31},{"$f":"IF('15) Engines'!AB7<>\"\",'15) Engines'!AB7,LOOKUP('15) Calculations'!H$45,'15) Calculations'!$C$9:$I$9,'15) Calculations'!$C13:$I13))","v":0.31},{"$f":"IF('15) Engines'!AC7<>\"\",'15) Engines'!AC7,LOOKUP('15) Calculations'!I$45,'15) Calculations'!$C$9:$I$9,'15) Calculations'!$C13:$I13))","v":0.31},{"$f":"IF('15) Engines'!AD7<>\"\",'15) Engines'!AD7,LOOKUP('15) Calculations'!J$45,'15) Calculations'!$C$9:$I$9,'15) Calculations'!$C13:$I13))","v":0.31},{"$f":"IF('15) Engines'!AE7<>\"\",'15) Engines'!AE7,LOOKUP('15) Calculations'!K$45,'15) Calculations'!$C$9:$I$9,'15) Calculations'!$C13:$I13))","v":0.31},{"$f":"IF('15) Engines'!AF7<>\"\",'15) Engines'!AF7,LOOKUP('15) Calculations'!L$45,'15) Calculations'!$C$9:$I$9,'15) Calculations'!$C13:$I13))","v":0.31},null,"PM2.5",null,0,0,0,0,0,0,0,0,0,0,0,null,"PM2.5",null,0,0,0,0,0,0,0,0,0,0,0]
["SO2",null,{"$f":"IF('15) Engines'!W8<>\"\",'15) Engines'!W8,LOOKUP('15) Calculations'!C$45,'15) Calculations'!$C$9:$I$9,'15) Calculations'!$C14:$I14))","v":0.28999999999999998},{"$f":"IF('15) Engines'!X8<>\"\",'15) Engines'!X8,LOOKUP('15) Calculations'!D$45,'15) Calculations'!$C$9:$I$9,'15) Calculations'!$C14:$I14))","v":0.28999999999999998},{"$f":"IF('15) Engines'!Y8<>\"\",'15) Engines'!Y8,LOOKUP('15) Calculations'!E$45,'15) Calculations'!$C$9:$I$9,'15) Calculations'!$C14:$I14))","v":0.28999999999999998},{"$f":"IF('15) Engines'!Z8<>\"\",'15) Engines'!Z8,LOOKUP('15) Calculations'!F$45,'15) Calculations'!$C$9:$I$9,'15) Calculations'!$C14:$I14))","v":0.28999999999999998},{"$f":"IF('15) Engines'!AA8<>\"\",'15) Engines'!AA8,LOOKUP('15) Calculations'!G$45,'15) Calculations'!$C$9:$I$9,'15) Calculations'!$C14:$I14))","v":0.28999999999999998},{"$f":"IF('15) Engines'!AB8<>\"\",'15) Engines'!AB8,LOOKUP('15) Calculations'!H$45,'15) Calculations'!$C$9:$I$9,'15) Calculations'!$C14:$I14))","v":0.28999999999999998},{"$f":"IF('15) Engines'!AC8<>\"\",'15) Engines'!AC8,LOOKUP('15) Calculations'!I$45,'15) Calculations'!$C$9:$I$9,'15) Calculations'!$C14:$I14))","v":0.28999999999999998},{"$f":"IF('15) Engines'!AD8<>\"\",'15) Engines'!AD8,LOOKUP('15) Calculations'!J$45,'15) Calculations'!$C$9:$I$9,'15) Calculations'!$C14:$I14))","v":0.28999999999999998},{"$f":"IF('15) Engines'!AE8<>\"\",'15) Engines'!AE8,LOOKUP('15) Calculations'!K$45,'15) Calculations'!$C$9:$I$9,'15) Calculations'!$C14:$I14))","v":0.28999999999999998},{"$f":"IF('15) Engines'!AF8<>\"\",'15) Engines'!AF8,LOOKUP('15) Calculations'!L$45,'15) Calculations'!$C$9:$I$9,'15) Calculations'!$C14:$I14))","v":0.28999999999999998},null,"SO2",null,0,0,0,0,0,0,0,0,0,0,0,null,"SO2",null,0,0,0,0,0,0,0,0,0,0,0]
["NOx",null,{"$f":"IF('15) Engines'!W9<>\"\",'15) Engines'!W9,LOOKUP('15) Calculations'!C$45,'15) Calculations'!$C$9:$I$9,'15) Calculations'!$C15:$I15))","v":4.41},{"$f":"IF('15) Engines'!X9<>\"\",'15) Engines'!X9,LOOKUP('15) Calculations'!D$45,'15) Calculations'!$C$9:$I$9,'15) Calculations'!$C15:$I15))","v":4.41},{"$f":"IF('15) Engines'!Y9<>\"\",'15) Engines'!Y9,LOOKUP('15) Calculations'!E$45,'15) Calculations'!$C$9:$I$9,'15) Calculations'!$C15:$I15))","v":4.41},{"$f":"IF('15) Engines'!Z9<>\"\",'15) Engines'!Z9,LOOKUP('15) Calculations'!F$45,'15) Calculations'!$C$9:$I$9,'15) Calculations'!$C15:$I15))","v":4.41},{"$f":"IF('15) Engines'!AA9<>\"\",'15) Engines'!AA9,LOOKUP('15) Calculations'!G$45,'15) Calculations'!$C$9:$I$9,'15) Calculations'!$C15:$I15))","v":4.41},{"$f":"IF('15) Engines'!AB9<>\"\",'15) Engines'!AB9,LOOKUP('15) Calculations'!H$45,'15) Calculations'!$C$9:$I$9,'15) Calculations'!$C15:$I15))","v":4.41},{"$f":"IF('15) Engines'!AC9<>\"\",'15) Engines'!AC9,LOOKUP('15) Calculations'!I$45,'15) Calculations'!$C$9:$I$9,'15) Calculations'!$C15:$I15))","v":4.41},{"$f":"IF('15) Engines'!AD9<>\"\",'15) Engines'!AD9,LOOKUP('15) Calculations'!J$45,'15) Calculations'!$C$9:$I$9,'15) Calculations'!$C15:$I15))","v":4.41},{"$f":"IF('15) Engines'!AE9<>\"\",'15) Engines'!AE9,LOOKUP('15) Calculations'!K$45,'15) Calculations'!$C$9:$I$9,'15) Calculations'!$C15:$I15))","v":4.41},{"$f":"IF('15) Engines'!AF9<>\"\",'15) Engines'!AF9,LOOKUP('15) Calculations'!L$45,'15) Calculations'!$C$9:$I$9,'15) Calculations'!$C15:$I15))","v":4.41},null,"NOx",null,0,0,0,0,0,0,0,0,0,0,0,null,"NOx",null,0,0,0,0,0,0,0,0,0,0,0]
["CO",null,{"$f":"IF('15) Engines'!W10<>\"\",'15) Engines'!W10,LOOKUP('15) Calculations'!C$45,'15) Calculations'!$C$9:$I$9,'15) Calculations'!$C16:$I16))","v":0.95},{"$f":"IF('15) Engines'!X10<>\"\",'15) Engines'!X10,LOOKUP('15) Calculations'!D$45,'15) Calculations'!$C$9:$I$9,'15) Calculations'!$C16:$I16))","v":0.95},{"$f":"IF('15) Engines'!Y10<>\"\",'15) Engines'!Y10,LOOKUP('15) Calculations'!E$45,'15) Calculations'!$C$9:$I$9,'15) Calculations'!$C16:$I16))","v":0.95},{"$f":"IF('15) Engines'!Z10<>\"\",'15) Engines'!Z10,LOOKUP('15) Calculations'!F$45,'15) Calculations'!$C$9:$I$9,'15) Calculations'!$C16:$I16))","v":0.95},{"$f":"IF('15) Engines'!AA10<>\"\",'15) Engines'!AA10,LOOKUP('15) Calculations'!G$45,'15) Calculations'!$C$9:$I$9,'15) Calculations'!$C16:$I16))","v":0.95},{"$f":"IF('15) Engines'!AB10<>\"\",'15) Engines'!AB10,LOOKUP('15) Calculations'!H$45,'15) Calculations'!$C$9:$I$9,'15) Calculations'!$C16:$I16))","v":0.95},{"$f":"IF('15) Engines'!AC10<>\"\",'15) Engines'!AC10,LOOKUP('15) Calculations'!I$45,'15) Calculations'!$C$9:$I$9,'15) Calculations'!$C16:$I16))","v":0.95},{"$f":"IF('15) Engines'!AD10<>\"\",'15) Engines'!AD10,LOOKUP('15) Calculations'!J$45,'15) Calculations'!$C$9:$I$9,'15) Calculations'!$C16:$I16))","v":0.95},{"$f":"IF('15) Engines'!AE10<>\"\",'15) Engines'!AE10,LOOKUP('15) Calculations'!K$45,'15) Calculations'!$C$9:$I$9,'15) Calculations'!$C16:$I16))","v":0.95},{"$f":"IF('15) Engines'!AF10<>\"\",'15) Engines'!AF10,LOOKUP('15) Calculations'!L$45,'15) Calculations'!$C$9:$I$9,'15) Calculations'!$C16:$I16))","v":0.95},null,"CO",null,0,0,0,0,0,0,0,0,0,0,0,null,"CO",null,0,0,0,0,0,0,0,0,0,0,0]
["VOC",null,{"$f":"IF('15) Engines'!W11<>\"\",'15) Engines'!W11,LOOKUP('15) Calculations'!C$45,'15) Calculations'!$C$9:$I$9,'15) Calculations'!$C17:$I17))","v":0.36},{"$f":"IF('15) Engines'!X11<>\"\",'15) Engines'!X11,LOOKUP('15) Calculations'!D$45,'15) Calculations'!$C$9:$I$9,'15) Calculations'!$C17:$I17))","v":0.36},{"$f":"IF('15) Engines'!Y11<>\"\",'15) Engines'!Y11,LOOKUP('15) Calculations'!E$45,'15) Calculations'!$C$9:$I$9,'15) Calculations'!$C17:$I17))","v":0.36},{"$f":"IF('15) Engines'!Z11<>\"\",'15) Engines'!Z11,LOOKUP('15) Calculations'!F$45,'15) Calculations'!$C$9:$I$9,'15) Calculations'!$C17:$I17))","v":0.36},{"$f":"IF('15) Engines'!AA11<>\"\",'15) Engines'!AA11,LOOKUP('15) Calculations'!G$45,'15) Calculations'!$C$9:$I$9,'15) Calculations'!$C17:$I17))","v":0.36},{"$f":"IF('15) Engines'!AB11<>\"\",'15) Engines'!AB11,LOOKUP('15) Calculations'!H$45,'15) Calculations'!$C$9:$I$9,'15) Calculations'!$C17:$I17))","v":0.36},{"$f":"IF('15) Engines'!AC11<>\"\",'15) Engines'!AC11,LOOKUP('15) Calculations'!I$45,'15) Calculations'!$C$9:$I$9,'15) Calculations'!$C17:$I17))","v":0.36},{"$f":"IF('15) Engines'!AD11<>\"\",'15) Engines'!AD11,LOOKUP('15) Calculations'!J$45,'15) Calculations'!$C$9:$I$9,'15) Calculations'!$C17:$I17))","v":0.36},{"$f":"IF('15) Engines'!AE11<>\"\",'15) Engines'!AE11,LOOKUP('15) Calculations'!K$45,'15) Calculations'!$C$9:$I$9,'15) Calculations'!$C17:$I17))","v":0.36},{"$f":"IF('15) Engines'!AF11<>\"\",'15) Engines'!AF11,LOOKUP('15) Calculations'!L$45,'15) Calculations'!$C$9:$I$9,'15) Calculations'!$C17:$I17))","v":0.36},null,"VOC",null,0,0,0,0,0,0,0,0,0,0,0,null,"VOC",null,0,0,0,0,0,0,0,0,0,0,0]
["Individual HAP",null,null,null,null,null,null,null,null,null,null,null,null,"Individual HAP",null,null,null,null,null,null,null,null,null,null,null,null,null,"Individual HAP"]
["Acetaldehyde",null,{"$f":"IF('15) Engines'!W13<>\"\",'15) Engines'!W13,LOOKUP('15) Calculations'!C$45,'15) Calculations'!$C$9:$I$9,'15) Calculations'!$C19:$I19))","v":7.67E-4},{"$f":"IF('15) Engines'!X13<>\"\",'15) Engines'!X13,LOOKUP('15) Calculations'!D$45,'15) Calculations'!$C$9:$I$9,'15) Calculations'!$C19:$I19))","v":7.67E-4},{"$f":"IF('15) Engines'!Y13<>\"\",'15) Engines'!Y13,LOOKUP('15) Calculations'!E$45,'15) Calculations'!$C$9:$I$9,'15) Calculations'!$C19:$I19))","v":7.67E-4},{"$f":"IF('15) Engines'!Z13<>\"\",'15) Engines'!Z13,LOOKUP('15) Calculations'!F$45,'15) Calculations'!$C$9:$I$9,'15) Calculations'!$C19:$I19))","v":7.67E-4},{"$f":"IF('15) Engines'!AA13<>\"\",'15) Engines'!AA13,LOOKUP('15) Calculations'!G$45,'15) Calculations'!$C$9:$I$9,'15) Calculations'!$C19:$I19))","v":7.67E-4},{"$f":"IF('15) Engines'!AB13<>\"\",'15) Engines'!AB13,LOOKUP('15) Calculations'!H$45,'15) Calculations'!$C$9:$I$9,'15) Calculations'!$C19:$I19))","v":7.67E-4},{"$f":"IF('15) Engines'!AC13<>\"\",'15) Engines'!AC13,LOOKUP('15) Calculations'!I$45,'15) Calculations'!$C$9:$I$9,'15) Calculations'!$C19:$I19))","v":7.67E-4},{"$f":"IF('15) Engines'!AD13<>\"\",'15) Engines'!AD13,LOOKUP('15) Calculations'!J$45,'15) Calculations'!$C$9:$I$9,'15) Calculations'!$C19:$I19))","v":7.67E-4},{"$f":"IF('15) Engines'!AE13<>\"\",'15) Engines'!AE13,LOOKUP('15) Calculations'!K$45,'15) Calculations'!$C$9:$I$9,'15) Calculations'!$C19:$I19))","v":7.67E-4},{"$f":"IF('15) Engines'!AF13<>\"\",'15) Engines'!AF13,LOOKUP('15) Calculations'!L$45,'15) Calculations'!$C$9:$I$9,'15) Calculations'!$C19:$I19))","v":7.67E-4},null,"Acetaldehyde",null,{"$f":"C54*$D$6*C$78","v":0},{"$f":"D54*$D$6*D$78","v":0},{"$f":"E54*$D$6*E$78","v":0},{"$f":"F54*$D$6*F$78","v":0},{"$f":"G54*$D$6*G$78","v":0},{"$f":"H54*$D$6*H$78","v":0},{"$f":"I54*$D$6*I$78","v":0},{"$f":"J54*$D$6*J$78","v":0},{"$f":"K54*$D$6*K$78","v":0},{"$f":"L54*$D$6*L$78","v":0},0,null,"Acetaldehyde",null,{"$f":"P54*C$79/2000","v":0},{"$f":"Q54*D$79/2000","v":0},{"$f":"R54*E$79/2000","v":0},{"$f":"S54*F$79/2000","v":0},{"$f":"T54*G$79/2000","v":0},{"$f":"U54*H$79/2000","v":0},{"$f":"V54*I$79/2000","v":0},{"$f":"W54*J$79/2000","v":0},{"$f":"X54*K$79/2000","v":0},{"$f":"Y54*L$79/2000","v":0},{"$f":"SUM(AD54:AM54)","v":0}]
["Acrolein",null,{"$f":"IF('15) Engines'!W14<>\"\",'15) Engines'!W14,LOOKUP('15) Calculations'!C$45,'15) Calculations'!$C$9:$I$9,'15) Calculations'!$C20:$I20))","v":9.2499999999999999E-5},{"$f":"IF('15) Engines'!X14<>\"\",'15) Engines'!X14,LOOKUP('15) Calculations'!D$45,'15) Calculations'!$C$9:$I$9,'15) Calculations'!$C20:$I20))","v":9.2499999999999999E-5},{"$f":"IF('15) Engines'!Y14<>\"\",'15) Engines'!Y14,LOOKUP('15) Calculations'!E$45,'15) Calculations'!$C$9:$I$9,'15) Calculations'!$C20:$I20))","v":9.2499999999999999E-5},{"$f":"IF('15) Engines'!Z14<>\"\",'15) Engines'!Z14,LOOKUP('15) Calculations'!F$45,'15) Calculations'!$C$9:$I$9,'15) Calculations'!$C20:$I20))","v":9.2499999999999999E-5},{"$f":"IF('15) Engines'!AA14<>\"\",'15) Engines'!AA14,LOOKUP('15) Calculations'!G$45,'15) Calculations'!$C$9:$I$9,'15) Calculations'!$C20:$I20))","v":9.2499999999999999E-5},{"$f":"IF('15) Engines'!AB14<>\"\",'15) Engines'!AB14,LOOKUP('15) Calculations'!H$45,'15) Calculations'!$C$9:$I$9,'15) Calculations'!$C20:$I20))","v":9.2499999999999999E-5},{"$f":"IF('15) Engines'!AC14<>\"\",'15) Engines'!AC14,LOOKUP('15) Calculations'!I$45,'15) Calculations'!$C$9:$I$9,'15) Calculations'!$C20:$I20))","v":9.2499999999999999E-5},{"$f":"IF('15) Engines'!AD14<>\"\",'15) Engines'!AD14,LOOKUP('15) Calculations'!J$45,'15) Calculations'!$C$9:$I$9,'15) Calculations'!$C20:$I20))","v":9.2499999999999999E-5},{"$f":"IF('15) Engines'!AE14<>\"\",'15) Engines'!AE14,LOOKUP('15) Calculations'!K$45,'15) Calculations'!$C$9:$I$9,'15) Calculations'!$C20:$I20))","v":9.2499999999999999E-5},{"$f":"IF('15) Engines'!AF14<>\"\",'15) Engines'!AF14,LOOKUP('15) Calculations'!L$45,'15) Calculations'!$C$9:$I$9,'15) Calculations'!$C20:$I20))","v":9.2499999999999999E-5},null,"Acrolein",null,0,0,0,0,0,0,0,0,0,0,0,null,"Acrolein",null,0,0,0,0,0,0,0,0,0,0,0]
["Arsenic compounds",null,{"$f":"IF('15) Engines'!W15<>\"\",'15) Engines'!W15,LOOKUP('15) Calculations'!C$45,'15) Calculations'!$C$9:$I$9,'15) Calculations'!$C21:$I21))","v":0},{"$f":"IF('15) Engines'!X15<>\"\",'15) Engines'!X15,LOOKUP('15) Calculations'!D$45,'15) Calculations'!$C$9:$I$9,'15) Calculations'!$C21:$I21))","v":0},{"$f":"IF('15) Engines'!Y15<>\"\",'15) Engines'!Y15,LOOKUP('15) Calculations'!E$45,'15) Calculations'!$C$9:$I$9,'15) Calculations'!$C21:$I21))","v":0},{"$f":"IF('15) Engines'!Z15<>\"\",'15) Engines'!Z15,LOOKUP('15) Calculations'!F$45,'15) Calculations'!$C$9:$I$9,'15) Calculations'!$C21:$I21))","v":0},{"$f":"IF('15) Engines'!AA15<>\"\",'15) Engines'!AA15,LOOKUP('15) Calculations'!G$45,'15) Calculations'!$C$9:$I$9,'15) Calculations'!$C21:$I21))","v":0},{"$f":"IF('15) Engines'!AB15<>\"\",'15) Engines'!AB15,LOOKUP('15) Calculations'!H$45,'15) Calculations'!$C$9:$I$9,'15) Calculations'!$C21:$I21))","v":0},{"$f":"IF('15) Engines'!AC15<>\"\",'15) Engines'!AC15,LOOKUP('15) Calculations'!I$45,'15) Calculations'!$C$9:$I$9,'15) Calculations'!$C21:$I21))","v":0},{"$f":"IF('15) Engines'!AD15<>\"\",'15) Engines'!AD15,LOOKUP('15) Calculations'!J$45,'15) Calculations'!$C$9:$I$9,'15) Calculations'!$C21:$I21))","v":0},{"$f":"IF('15) Engines'!AE15<>\"\",'15) Engines'!AE15,LOOKUP('15) Calculations'!K$45,'15) Calculations'!$C$9:$I$9,'15) Calculations'!$C21:$I21))","v":0},{"$f":"IF('15) Engines'!AF15<>\"\",'15) Engines'!AF15,LOOKUP('15) Calculations'!L$45,'15) Calculations'!$C$9:$I$9,'15) Calculations'!$C21:$I21))","v":0},null,"Arsenic compounds",null,0,0,0,0,0,0,0,0,0,0,0,null,"Arsenic compounds",null,0,0,0,0,0,0,0,0,0,0,0]
["Benzene",null,{"$f":"IF('15) Engines'!W16<>\"\",'15) Engines'!W16,LOOKUP('15) Calculations'!C$45,'15) Calculations'!$C$9:$I$9,'15) Calculations'!$C22:$I22))","v":9.3300000000000002E-4},{"$f":"IF('15) Engines'!X16<>\"\",'15) Engines'!X16,LOOKUP('15) Calculations'!D$45,'15) Calculations'!$C$9:$I$9,'15) Calculations'!$C22:$I22))","v":9.3300000000000002E-4},{"$f":"IF('15) Engines'!Y16<>\"\",'15) Engines'!Y16,LOOKUP('15) Calculations'!E$45,'15) Calculations'!$C$9:$I$9,'15) Calculations'!$C22:$I22))","v":9.3300000000000002E-4},{"$f":"IF('15) Engines'!Z16<>\"\",'15) Engines'!Z16,LOOKUP('15) Calculations'!F$45,'15) Calculations'!$C$9:$I$9,'15) Calculations'!$C22:$I22))","v":9.3300000000000002E-4},{"$f":"IF('15) Engines'!AA16<>\"\",'15) Engines'!AA16,LOOKUP('15) Calculations'!G$45,'15) Calculations'!$C$9:$I$9,'15) Calculations'!$C22:$I22))","v":9.3300000000000002E-4},{"$f":"IF('15) Engines'!AB16<>\"\",'15) Engines'!AB16,LOOKUP('15) Calculations'!H$45,'15) Calculations'!$C$9:$I$9,'15) Calculations'!$C22:$I22))","v":9.3300000000000002E-4},{"$f":"IF('15) Engines'!AC16<>\"\",'15) Engines'!AC16,LOOKUP('15) Calculations'!I$45,'15) Calculations'!$C$9:$I$9,'15) Calculations'!$C22:$I22))","v":9.3300000000000002E-4},{"$f":"IF('15) Engines'!AD16<>\"\",'15) Engines'!AD16,LOOKUP('15) Calculations'!J$45,'15) Calculations'!$C$9:$I$9,'15) Calculations'!$C22:$I22))","v":9.3300000000000002E-4},{"$f":"IF('15) Engines'!AE16<>\"\",'15) Engines'!AE16,LOOKUP('15) Calculations'!K$45,'15) Calculations'!$C$9:$I$9,'15) Calculations'!$C22:$I22))","v":9.3300000000000002E-4},{"$f":"IF('15) Engines'!AF16<>\"\",'15) Engines'!AF16,LOOKUP('15) Calculations'!L$45,'15) Calculations'!$C$9:$I$9,'15) Calculations'!$C22:$I22))","v":9.3300000000000002E-4},null,"Benzene",null,0,0,0,0,0,0,0,0,0,0,0,null,"Benzene",null,0,0,0,0,0,0,0,0,0,0,0]
["Benzyl chloride",null,{"$f":"IF('15) Engines'!W17<>\"\",'15) Engines'!W17,LOOKUP('15) Calculations'!C$45,'15) Calculations'!$C$9:$I$9,'15) Calculations'!$C23:$I23))","v":0},{"$f":"IF('15) Engines'!X17<>\"\",'15) Engines'!X17,LOOKUP('15) Calculations'!D$45,'15) Calculations'!$C$9:$I$9,'15) Calculations'!$C23:$I23))","v":0},{"$f":"IF('15) Engines'!Y17<>\"\",'15) Engines'!Y17,LOOKUP('15) Calculations'!E$45,'15) Calculations'!$C$9:$I$9,'15) Calculations'!$C23:$I23))","v":0},{"$f":"IF('15) Engines'!Z17<>\"\",'15) Engines'!Z17,LOOKUP('15) Calculations'!F$45,'15) Calculations'!$C$9:$I$9,'15) Calculations'!$C23:$I23))","v":0},{"$f":"IF('15) Engines'!AA17<>\"\",'15) Engines'!AA17,LOOKUP('15) Calculations'!G$45,'15) Calculations'!$C$9:$I$9,'15) Calculations'!$C23:$I23))","v":0},{"$f":"IF('15) Engines'!AB17<>\"\",'15) Engines'!AB17,LOOKUP('15) Calculations'!H$45,'15) Calculations'!$C$9:$I$9,'15) Calculations'!$C23:$I23))","v":0},{"$f":"IF('15) Engines'!AC17<>\"\",'15) Engines'!AC17,LOOKUP('15) Calculations'!I$45,'15) Calculations'!$C$9:$I$9,'15) Calculations'!$C23:$I23))","v":0},{"$f":"IF('15) Engines'!AD17<>\"\",'15) Engines'!AD17,LOOKUP('15) Calculations'!J$45,'15) Calculations'!$C$9:$I$9,'15) Calculations'!$C23:$I23))","v":0},{"$f":"IF('15) Engines'!AE17<>\"\",'15) Engines'!AE17,LOOKUP('15) Calculations'!K$45,'15) Calculations'!$C$9:$I$9,'15) Calculations'!$C23:$I23))","v":0},{"$f":"IF('15) Engines'!AF17<>\"\",'15) Engines'!AF17,LOOKUP('15) Calculations'!L$45,'15) Calculations'!$C$9:$I$9,'15) Calculations'!$C23:$I23))","v":0},null,"Benzyl chloride",null,0,0,0,0,0,0,0,0,0,0,0,null,"Benzyl chloride",null,0,0,0,0,0,0,0,0,0,0,0]
["Beryllium compounds",null,{"$f":"IF('15) Engines'!W18<>\"\",'15) Engines'!W18,LOOKUP('15) Calculations'!C$45,'15) Calculations'!$C$9:$I$9,'15) Calculations'!$C24:$I24))","v":0},{"$f":"IF('15) Engines'!X18<>\"\",'15) Engines'!X18,LOOKUP('15) Calculations'!D$45,'15) Calculations'!$C$9:$I$9,'15) Calculations'!$C24:$I24))","v":0},{"$f":"IF('15) Engines'!Y18<>\"\",'15) Engines'!Y18,LOOKUP('15) Calculations'!E$45,'15) Calculations'!$C$9:$I$9,'15) Calculations'!$C24:$I24))","v":0},{"$f":"IF('15) Engines'!Z18<>\"\",'15) Engines'!Z18,LOOKUP('15) Calculations'!F$45,'15) Calculations'!$C$9:$I$9,'15) Calculations'!$C24:$I24))","v":0},{"$f":"IF('15) Engines'!AA18<>\"\",'15) Engines'!AA18,LOOKUP('15) Calculations'!G$45,'15) Calculations'!$C$9:$I$9,'15) Calculations'!$C24:$I24))","v":0},{"$f":"IF('15) Engines'!AB18<>\"\",'15) Engines'!AB18,LOOKUP('15) Calculations'!H$45,'15) Calculations'!$C$9:$I$9,'15) Calculations'!$C24:$I24))","v":0},{"$f":"IF('15) Engines'!AC18<>\"\",'15) Engines'!AC18,LOOKUP('15) Calculations'!I$45,'15) Calculations'!$C$9:$I$9,'15) Calculations'!$C24:$I24))","v":0},{"$f":"IF('15) Engines'!AD18<>\"\",'15) Engines'!AD18,LOOKUP('15) Calculations'!J$45,'15) Calculations'!$C$9:$I$9,'15) Calculations'!$C24:$I24))","v":0},{"$f":"IF('15) Engines'!AE18<>\"\",'15) Engines'!AE18,LOOKUP('15) Calculations'!K$45,'15) Calculations'!$C$9:$I$9,'15) Calculations'!$C24:$I24))","v":0},{"$f":"IF('15) Engines'!AF18<>\"\",'15) Engines'!AF18,LOOKUP('15) Calculations'!L$45,'15) Calculations'!$C$9:$I$9,'15) Calculations'!$C24:$I24))","v":0},null,"Beryllium compounds",null,0,0,0,0,0,0,0,0,0,0,0,null,"Beryllium compounds",null,0,0,0,0,0,0,0,0,0,0,0]
["Cadmium compounds",null,{"$f":"IF('15) Engines'!W19<>\"\",'15) Engines'!W19,LOOKUP('15) Calculations'!C$45,'15) Calculations'!$C$9:$I$9,'15) Calculations'!$C25:$I25))","v":0},{"$f":"IF('15) Engines'!X19<>\"\",'15) Engines'!X19,LOOKUP('15) Calculations'!D$45,'15) Calculations'!$C$9:$I$9,'15) Calculations'!$C25:$I25))","v":0},{"$f":"IF('15) Engines'!Y19<>\"\",'15) Engines'!Y19,LOOKUP('15) Calculations'!E$45,'15) Calculations'!$C$9:$I$9,'15) Calculations'!$C25:$I25))","v":0},{"$f":"IF('15) Engines'!Z19<>\"\",'15) Engines'!Z19,LOOKUP('15) Calculations'!F$45,'15) Calculations'!$C$9:$I$9,'15) Calculations'!$C25:$I25))","v":0},{"$f":"IF('15) Engines'!AA19<>\"\",'15) Engines'!AA19,LOOKUP('15) Calculations'!G$45,'15) Calculations'!$C$9:$I$9,'15) Calculations'!$C25:$I25))","v":0},{"$f":"IF('15) Engines'!AB19<>\"\",'15) Engines'!AB19,LOOKUP('15) Calculations'!H$45,'15) Calculations'!$C$9:$I$9,'15) Calculations'!$C25:$I25))","v":0},{"$f":"IF('15) Engines'!AC19<>\"\",'15) Engines'!AC19,LOOKUP('15) Calculations'!I$45,'15) Calculations'!$C$9:$I$9,'15) Calculations'!$C25:$I25))","v":0},{"$f":"IF('15) Engines'!AD19<>\"\",'15) Engines'!AD19,LOOKUP('15) Calculations'!J$45,'15) Calculations'!$C$9:$I$9,'15) Calculations'!$C25:$I25))","v":0},{"$f":"IF('15) Engines'!AE19<>\"\",'15) Engines'!AE19,LOOKUP('15) Calculations'!K$45,'15) Calculations'!$C$9:$I$9,'15) Calculations'!$C25:$I25))","v":0},{"$f":"IF('15) Engines'!AF19<>\"\",'15) Engines'!AF19,LOOKUP('15) Calculations'!L$45,'15) Calculations'!$C$9:$I$9,'15) Calculations'!$C25:$I25))","v":0},null,"Cadmium compounds",null,0,0,0,0,0,0,0,0,0,0,0,null,"Cadmium compounds",null,0,0,0,0,0,0,0,0,0,0,0]
["Cyanide compounds",null,{"$f":"IF('15) Engines'!W20<>\"\",'15) Engines'!W20,LOOKUP('15) Calculations'!C$45,'15) Calculations'!$C$9:$I$9,'15) Calculations'!$C26:$I26))","v":0},{"$f":"IF('15) Engines'!X20<>\"\",'15) Engines'!X20,LOOKUP('15) Calculations'!D$45,'15) Calculations'!$C$9:$I$9,'15) Calculations'!$C26:$I26))","v":0},{"$f":"IF('15) Engines'!Y20<>\"\",'15) Engines'!Y20,LOOKUP('15) Calculations'!E$45,'15) Calculations'!$C$9:$I$9,'15) Calculations'!$C26:$I26))","v":0},{"$f":"IF('15) Engines'!Z20<>\"\",'15) Engines'!Z20,LOOKUP('15) Calculations'!F$45,'15) Calculations'!$C$9:$I$9,'15) Calculations'!$C26:$I26))","v":0},{"$f":"IF('15) Engines'!AA20<>\"\",'15) Engines'!AA20,LOOKUP('15) Calculations'!G$45,'15) Calculations'!$C$9:$I$9,'15) Calculations'!$C26:$I26))","v":0},{"$f":"IF('15) Engines'!AB20<>\"\",'15) Engines'!AB20,LOOKUP('15) Calculations'!H$45,'15) Calculations'!$C$9:$I$9,'15) Calculations'!$C26:$I26))","v":0},{"$f":"IF('15) Engines'!AC20<>\"\",'15) Engines'!AC20,LOOKUP('15) Calculations'!I$45,'15) Calculations'!$C$9:$I$9,'15) Calculations'!$C26:$I26))","v":0},{"$f":"IF('15) Engines'!AD20<>\"\",'15) Engines'!AD20,LOOKUP('15) Calculations'!J$45,'15) Calculations'!$C$9:$I$9,'15) Calculations'!$C26:$I26))","v":0},{"$f":"IF('15) Engines'!AE20<>\"\",'15) Engines'!AE20,LOOKUP('15) Calculations'!K$45,'15) Calculations'!$C$9:$I$9,'15) Calculations'!$C26:$I26))","v":0},{"$f":"IF('15) Engines'!AF20<>\"\",'15) Engines'!AF20,LOOKUP('15) Calculations'!L$45,'15) Calculations'!$C$9:$I$9,'15) Calculations'!$C26:$I26))","v":0},null,"Cyanide compounds",null,0,0,0,0,0,0,0,0,0,0,0,null,"Cyanide compounds",null,0,0,0,0,0,0,0,0,0,0,0]
["Formaldehyde",null,{"$f":"IF('15) Engines'!W21<>\"\",'15) Engines'!W21,LOOKUP('15) Calculations'!C$45,'15) Calculations'!$C$9:$I$9,'15) Calculations'!$C27:$I27))","v":1.1800000000000001E-3},{"$f":"IF('15) Engines'!X21<>\"\",'15) Engines'!X21,LOOKUP('15) Calculations'!D$45,'15) Calculations'!$C$9:$I$9,'15) Calculations'!$C27:$I27))","v":1.1800000000000001E-3},{"$f":"IF('15) Engines'!Y21<>\"\",'15) Engines'!Y21,LOOKUP('15) Calculations'!E$45,'15) Calculations'!$C$9:$I$9,'15) Calculations'!$C27:$I27))","v":1.1800000000000001E-3},{"$f":"IF('15) Engines'!Z21<>\"\",'15) Engines'!Z21,LOOKUP('15) Calculations'!F$45,'15) Calculations'!$C$9:$I$9,'15) Calculations'!$C27:$I27))","v":1.1800000000000001E-3},{"$f":"IF('15) Engines'!AA21<>\"\",'15) Engines'!AA21,LOOKUP('15) Calculations'!G$45,'15) Calculations'!$C$9:$I$9,'15) Calculations'!$C27:$I27))","v":1.1800000000000001E-3},{"$f":"IF('15) Engines'!AB21<>\"\",'15) Engines'!AB21,LOOKUP('15) Calculations'!H$45,'15) Calculations'!$C$9:$I$9,'15) Calculations'!$C27:$I27))","v":1.1800000000000001E-3},{"$f":"IF('15) Engines'!AC21<>\"\",'15) Engines'!AC21,LOOKUP('15) Calculations'!I$45,'15) Calculations'!$C$9:$I$9,'15) Calculations'!$C27:$I27))","v":1.1800000000000001E-3},{"$f":"IF('15) Engines'!AD21<>\"\",'15) Engines'!AD21,LOOKUP('15) Calculations'!J$45,'15) Calculations'!$C$9:$I$9,'15) Calculations'!$C27:$I27))","v":1.1800000000000001E-3},{"$f":"IF('15) Engines'!AE21<>\"\",'15) Engines'!AE21,LOOKUP('15) Calculations'!K$45,'15) Calculations'!$C$9:$I$9,'15) Calculations'!$C27:$I27))","v":1.1800000000000001E-3},{"$f":"IF('15) Engines'!AF21<>\"\",'15) Engines'!AF21,LOOKUP('15) Calculations'!L$45,'15) Calculations'!$C$9:$I$9,'15) Calculations'!$C27:$I27))","v":1.1800000000000001E-3},null,"Formaldehyde",null,0,0,0,0,0,0,0,0,0,0,0,null,"Formaldehyde",null,0,0,0,0,0,0,0,0,0,0,0]
["n-Hexane",null,{"$f":"IF('15) Engines'!W22<>\"\",'15) Engines'!W22,LOOKUP('15) Calculations'!C$45,'15) Calculations'!$C$9:$I$9,'15) Calculations'!$C28:$I28))","v":0},{"$f":"IF('15) Engines'!X22<>\"\",'15) Engines'!X22,LOOKUP('15) Calculations'!D$45,'15) Calculations'!$C$9:$I$9,'15) Calculations'!$C28:$I28))","v":0},{"$f":"IF('15) Engines'!Y22<>\"\",'15) Engines'!Y22,LOOKUP('15) Calculations'!E$45,'15) Calculations'!$C$9:$I$9,'15) Calculations'!$C28:$I28))","v":0},{"$f":"IF('15) Engines'!Z22<>\"\",'15) Engines'!Z22,LOOKUP('15) Calculations'!F$45,'15) Calculations'!$C$9:$I$9,'15) Calculations'!$C28:$I28))","v":0},{"$f":"IF('15) Engines'!AA22<>\"\",'15) Engines'!AA22,LOOKUP('15) Calculations'!G$45,'15) Calculations'!$C$9:$I$9,'15) Calculations'!$C28:$I28))","v":0},{"$f":"IF('15) Engines'!AB22<>\"\",'15) Engines'!AB22,LOOKUP('15) Calculations'!H$45,'15) Calculations'!$C$9:$I$9,'15) Calculations'!$C28:$I28))","v":0},{"$f":"IF('15) Engines'!AC22<>\"\",'15) Engines'!AC22,LOOKUP('15) Calculations'!I$45,'15) Calculations'!$C$9:$I$9,'15) Calculations'!$C28:$I28))","v":0},{"$f":"IF('15) Engines'!AD22<>\"\",'15) Engines'!AD22,LOOKUP('15) Calculations'!J$45,'15) Calculations'!$C$9:$I$9,'15) Calculations'!$C28:$I28))","v":0},{"$f":"IF('15) Engines'!AE22<>\"\",'15) Engines'!AE22,LOOKUP('15) Calculations'!K$45,'15) Calculations'!$C$9:$I$9,'15) Calculations'!$C28:$I28))","v":0},{"$f":"IF('15) Engines'!AF22<>\"\",'15) Engines'!AF22,LOOKUP('15) Calculations'!L$45,'15) Calculations'!$C$9:$I$9,'15) Calculations'!$C28:$I28))","v":0},null,"n-Hexane",null,0,0,0,0,0,0,0,0,0,0,0,null,"n-Hexane",null,0,0,0,0,0,0,0,0,0,0,0]
["Hydrochloric acid",null,{"$f":"IF('15) Engines'!W23<>\"\",'15) Engines'!W23,LOOKUP('15) Calculations'!C$45,'15) Calculations'!$C$9:$I$9,'15) Calculations'!$C29:$I29))","v":0},{"$f":"IF('15) Engines'!X23<>\"\",'15) Engines'!X23,LOOKUP('15) Calculations'!D$45,'15) Calculations'!$C$9:$I$9,'15) Calculations'!$C29:$I29))","v":0},{"$f":"IF('15) Engines'!Y23<>\"\",'15) Engines'!Y23,LOOKUP('15) Calculations'!E$45,'15) Calculations'!$C$9:$I$9,'15) Calculations'!$C29:$I29))","v":0},{"$f":"IF('15) Engines'!Z23<>\"\",'15) Engines'!Z23,LOOKUP('15) Calculations'!F$45,'15) Calculations'!$C$9:$I$9,'15) Calculations'!$C29:$I29))","v":0},{"$f":"IF('15) Engines'!AA23<>\"\",'15) Engines'!AA23,LOOKUP('15) Calculations'!G$45,'15) Calculations'!$C$9:$I$9,'15) Calculations'!$C29:$I29))","v":0},{"$f":"IF('15) Engines'!AB23<>\"\",'15) Engines'!AB23,LOOKUP('15) Calculations'!H$45,'15) Calculations'!$C$9:$I$9,'15) Calculations'!$C29:$I29))","v":0},{"$f":"IF('15) Engines'!AC23<>\"\",'15) Engines'!AC23,LOOKUP('15) Calculations'!I$45,'15) Calculations'!$C$9:$I$9,'15) Calculations'!$C29:$I29))","v":0},{"$f":"IF('15) Engines'!AD23<>\"\",'15) Engines'!AD23,LOOKUP('15) Calculations'!J$45,'15) Calculations'!$C$9:$I$9,'15) Calculations'!$C29:$I29))","v":0},{"$f":"IF('15) Engines'!AE23<>\"\",'15) Engines'!AE23,LOOKUP('15) Calculations'!K$45,'15) Calculations'!$C$9:$I$9,'15) Calculations'!$C29:$I29))","v":0},{"$f":"IF('15) Engines'!AF23<>\"\",'15) Engines'!AF23,LOOKUP('15) Calculations'!L$45,'15) Calculations'!$C$9:$I$9,'15) Calculations'!$C29:$I29))","v":0},null,"Hydrochloric acid",null,0,0,0,0,0,0,0,0,0,0,0,null,"Hydrochloric acid",null,0,0,0,0,0,0,0,0,0,0,0]
["Lead Compounds",null,{"$f":"IF('15) Engines'!W24<>\"\",'15) Engines'!W24,LOOKUP('15) Calculations'!C$45,'15) Calculations'!$C$9:$I$9,'15) Calculations'!$C30:$I30))","v":0},{"$f":"IF('15) Engines'!X24<>\"\",'15) Engines'!X24,LOOKUP('15) Calculations'!D$45,'15) Calculations'!$C$9:$I$9,'15) Calculations'!$C30:$I30))","v":0},{"$f":"IF('15) Engines'!Y24<>\"\",'15) Engines'!Y24,LOOKUP('15) Calculations'!E$45,'15) Calculations'!$C$9:$I$9,'15) Calculations'!$C30:$I30))","v":0},{"$f":"IF('15) Engines'!Z24<>\"\",'15) Engines'!Z24,LOOKUP('15) Calculations'!F$45,'15) Calculations'!$C$9:$I$9,'15) Calculations'!$C30:$I30))","v":0},{"$f":"IF('15) Engines'!AA24<>\"\",'15) Engines'!AA24,LOOKUP('15) Calculations'!G$45,'15) Calculations'!$C$9:$I$9,'15) Calculations'!$C30:$I30))","v":0},{"$f":"IF('15) Engines'!AB24<>\"\",'15) Engines'!AB24,LOOKUP('15) Calculations'!H$45,'15) Calculations'!$C$9:$I$9,'15) Calculations'!$C30:$I30))","v":0},{"$f":"IF('15) Engines'!AC24<>\"\",'15) Engines'!AC24,LOOKUP('15) Calculations'!I$45,'15) Calculations'!$C$9:$I$9,'15) Calculations'!$C30:$I30))","v":0},{"$f":"IF('15) Engines'!AD24<>\"\",'15) Engines'!AD24,LOOKUP('15) Calculations'!J$45,'15) Calculations'!$C$9:$I$9,'15) Calculations'!$C30:$I30))","v":0},{"$f":"IF('15) Engines'!AE24<>\"\",'15) Engines'!AE24,LOOKUP('15) Calculations'!K$45,'15) Calculations'!$C$9:$I$9,'15) Calculations'!$C30:$I30))","v":0},{"$f":"IF('15) Engines'!AF24<>\"\",'15) Engines'!AF24,LOOKUP('15) Calculations'!L$45,'15) Calculations'!$C$9:$I$9,'15) Calculations'!$C30:$I30))","v":0},null,"Lead Compounds",null,0,0,0,0,0,0,0,0,0,0,0,null,"Lead Compounds",null,0,0,0,0,0,0,0,0,0,0,0]
["Mercury compounds",null,{"$f":"IF('15) Engines'!W25<>\"\",'15) Engines'!W25,LOOKUP('15) Calculations'!C$45,'15) Calculations'!$C$9:$I$9,'15) Calculations'!$C31:$I31))","v":0},{"$f":"IF('15) Engines'!X25<>\"\",'15) Engines'!X25,LOOKUP('15) Calculations'!D$45,'15) Calculations'!$C$9:$I$9,'15) Calculations'!$C31:$I31))","v":0},{"$f":"IF('15) Engines'!Y25<>\"\",'15) Engines'!Y25,LOOKUP('15) Calculations'!E$45,'15) Calculations'!$C$9:$I$9,'15) Calculations'!$C31:$I31))","v":0},{"$f":"IF('15) Engines'!Z25<>\"\",'15) Engines'!Z25,LOOKUP('15) Calculations'!F$45,'15) Calculations'!$C$9:$I$9,'15) Calculations'!$C31:$I31))","v":0},{"$f":"IF('15) Engines'!AA25<>\"\",'15) Engines'!AA25,LOOKUP('15) Calculations'!G$45,'15) Calculations'!$C$9:$I$9,'15) Calculations'!$C31:$I31))","v":0},{"$f":"IF('15) Engines'!AB25<>\"\",'15) Engines'!AB25,LOOKUP('15) Calculations'!H$45,'15) Calculations'!$C$9:$I$9,'15) Calculations'!$C31:$I31))","v":0},{"$f":"IF('15) Engines'!AC25<>\"\",'15) Engines'!AC25,LOOKUP('15) Calculations'!I$45,'15) Calculations'!$C$9:$I$9,'15) Calculations'!$C31:$I31))","v":0},{"$f":"IF('15) Engines'!AD25<>\"\",'15) Engines'!AD25,LOOKUP('15) Calculations'!J$45,'15) Calculations'!$C$9:$I$9,'15) Calculations'!$C31:$I31))","v":0},{"$f":"IF('15) Engines'!AE25<>\"\",'15) Engines'!AE25,LOOKUP('15) Calculations'!K$45,'15) Calculations'!$C$9:$I$9,'15) Calculations'!$C31:$I31))","v":0},{"$f":"IF('15) Engines'!AF25<>\"\",'15) Engines'!AF25,LOOKUP('15) Calculations'!L$45,'15) Calculations'!$C$9:$I$9,'15) Calculations'!$C31:$I31))","v":0},null,"Mercury compounds",null,0,0,0,0,0,0,0,0,0,0,0,null,"Mercury compounds",null,0,0,0,0,0,0,0,0,0,0,0]
["Methanol",null,{"$f":"IF('15) Engines'!W26<>\"\",'15) Engines'!W26,LOOKUP('15) Calculations'!C$45,'15) Calculations'!$C$9:$I$9,'15) Calculations'!$C32:$I32))","v":0},{"$f":"IF('15) Engines'!X26<>\"\",'15) Engines'!X26,LOOKUP('15) Calculations'!D$45,'15) Calculations'!$C$9:$I$9,'15) Calculations'!$C32:$I32))","v":0},{"$f":"IF('15) Engines'!Y26<>\"\",'15) Engines'!Y26,LOOKUP('15) Calculations'!E$45,'15) Calculations'!$C$9:$I$9,'15) Calculations'!$C32:$I32))","v":0},{"$f":"IF('15) Engines'!Z26<>\"\",'15) Engines'!Z26,LOOKUP('15) Calculations'!F$45,'15) Calculations'!$C$9:$I$9,'15) Calculations'!$C32:$I32))","v":0},{"$f":"IF('15) Engines'!AA26<>\"\",'15) Engines'!AA26,LOOKUP('15) Calculations'!G$45,'15) Calculations'!$C$9:$I$9,'15) Calculations'!$C32:$I32))","v":0},{"$f":"IF('15) Engines'!AB26<>\"\",'15) Engines'!AB26,LOOKUP('15) Calculations'!H$45,'15) Calculations'!$C$9:$I$9,'15) Calculations'!$C32:$I32))","v":0},{"$f":"IF('15) Engines'!AC26<>\"\",'15) Engines'!AC26,LOOKUP('15) Calculations'!I$45,'15) Calculations'!$C$9:$I$9,'15) Calculations'!$C32:$I32))","v":0},{"$f":"IF('15) Engines'!AD26<>\"\",'15) Engines'!AD26,LOOKUP('15) Calculations'!J$45,'15) Calculations'!$C$9:$I$9,'15) Calculations'!$C32:$I32))","v":0},{"$f":"IF('15) Engines'!AE26<>\"\",'15) Engines'!AE26,LOOKUP('15) Calculations'!K$45,'15) Calculations'!$C$9:$I$9,'15) Calculations'!$C32:$I32))","v":0},{"$f":"IF('15) Engines'!AF26<>\"\",'15) Engines'!AF26,LOOKUP('15) Calculations'!L$45,'15) Calculations'!$C$9:$I$9,'15) Calculations'!$C32:$I32))","v":0},null,"Methanol",null,0,0,0,0,0,0,0,0,0,0,0,null,"Methanol",null,0,0,0,0,0,0,0,0,0,0,0]
["Methyl hydrazine",null,{"$f":"IF('15) Engines'!W27<>\"\",'15) Engines'!W27,LOOKUP('15) Calculations'!C$45,'15) Calculations'!$C$9:$I$9,'15) Calculations'!$C33:$I33))","v":0},{"$f":"IF('15) Engines'!X27<>\"\",'15) Engines'!X27,LOOKUP('15) Calculations'!D$45,'15) Calculations'!$C$9:$I$9,'15) Calculations'!$C33:$I33))","v":0},{"$f":"IF('15) Engines'!Y27<>\"\",'15) Engines'!Y27,LOOKUP('15) Calculations'!E$45,'15) Calculations'!$C$9:$I$9,'15) Calculations'!$C33:$I33))","v":0},{"$f":"IF('15) Engines'!Z27<>\"\",'15) Engines'!Z27,LOOKUP('15) Calculations'!F$45,'15) Calculations'!$C$9:$I$9,'15) Calculations'!$C33:$I33))","v":0},{"$f":"IF('15) Engines'!AA27<>\"\",'15) Engines'!AA27,LOOKUP('15) Calculations'!G$45,'15) Calculations'!$C$9:$I$9,'15) Calculations'!$C33:$I33))","v":0},{"$f":"IF('15) Engines'!AB27<>\"\",'15) Engines'!AB27,LOOKUP('15) Calculations'!H$45,'15) Calculations'!$C$9:$I$9,'15) Calculations'!$C33:$I33))","v":0},{"$f":"IF('15) Engines'!AC27<>\"\",'15) Engines'!AC27,LOOKUP('15) Calculations'!I$45,'15) Calculations'!$C$9:$I$9,'15) Calculations'!$C33:$I33))","v":0},{"$f":"IF('15) Engines'!AD27<>\"\",'15) Engines'!AD27,LOOKUP('15) Calculations'!J$45,'15) Calculations'!$C$9:$I$9,'15) Calculations'!$C33:$I33))","v":0},{"$f":"IF('15) Engines'!AE27<>\"\",'15) Engines'!AE27,LOOKUP('15) Calculations'!K$45,'15) Calculations'!$C$9:$I$9,'15) Calculations'!$C33:$I33))","v":0},{"$f":"IF('15) Engines'!AF27<>\"\",'15) Engines'!AF27,LOOKUP('15) Calculations'!L$45,'15) Calculations'!$C$9:$I$9,'15) Calculations'!$C33:$I33))","v":0},null,"Methyl hydrazine",null,0,0,0,0,0,0,0,0,0,0,0,null,"Methyl hydrazine",null,0,0,0,0,0,0,0,0,0,0,0]
["Selenium compounds",null,{"$f":"IF('15) Engines'!W28<>\"\",'15) Engines'!W28,LOOKUP('15) Calculations'!C$45,'15) Calculations'!$C$9:$I$9,'15) Calculations'!$C34:$I34))","v":0},{"$f":"IF('15) Engines'!X28<>\"\",'15) Engines'!X28,LOOKUP('15) Calculations'!D$45,'15) Calculations'!$C$9:$I$9,'15) Calculations'!$C34:$I34))","v":0},{"$f":"IF('15) Engines'!Y28<>\"\",'15) Engines'!Y28,LOOKUP('15) Calculations'!E$45,'15) Calculations'!$C$9:$I$9,'15) Calculations'!$C34:$I34))","v":0},{"$f":"IF('15) Engines'!Z28<>\"\",'15) Engines'!Z28,LOOKUP('15) Calculations'!F$45,'15) Calculations'!$C$9:$I$9,'15) Calculations'!$C34:$I34))","v":0},{"$f":"IF('15) Engines'!AA28<>\"\",'15) Engines'!AA28,LOOKUP('15) Calculations'!G$45,'15) Calculations'!$C$9:$I$9,'15) Calculations'!$C34:$I34))","v":0},{"$f":"IF('15) Engines'!AB28<>\"\",'15) Engines'!AB28,LOOKUP('15) Calculations'!H$45,'15) Calculations'!$C$9:$I$9,'15) Calculations'!$C34:$I34))","v":0},{"$f":"IF('15) Engines'!AC28<>\"\",'15) Engines'!AC28,LOOKUP('15) Calculations'!I$45,'15) Calculations'!$C$9:$I$9,'15) Calculations'!$C34:$I34))","v":0},{"$f":"IF('15) Engines'!AD28<>\"\",'15) Engines'!AD28,LOOKUP('15) Calculations'!J$45,'15) Calculations'!$C$9:$I$9,'15) Calculations'!$C34:$I34))","v":0},{"$f":"IF('15) Engines'!AE28<>\"\",'15) Engines'!AE28,LOOKUP('15) Calculations'!K$45,'15) Calculations'!$C$9:$I$9,'15) Calculations'!$C34:$I34))","v":0},{"$f":"IF('15) Engines'!AF28<>\"\",'15) Engines'!AF28,LOOKUP('15) Calculations'!L$45,'15) Calculations'!$C$9:$I$9,'15) Calculations'!$C34:$I34))","v":0},null,"Selenium compounds",null,0,0,0,0,0,0,0,0,0,0,0,null,"Selenium compounds",null,0,0,0,0,0,0,0,0,0,0,0]
["Other HAPs",null,{"$f":"IF('15) Engines'!W29<>\"\",'15) Engines'!W29,LOOKUP('15) Calculations'!C$45,'15) Calculations'!$C$9:$I$9,'15) Calculations'!$C35:$I35))","v":9.0109999999999995E-4},{"$f":"IF('15) Engines'!X29<>\"\",'15) Engines'!X29,LOOKUP('15) Calculations'!D$45,'15) Calculations'!$C$9:$I$9,'15) Calculations'!$C35:$I35))","v":9.0109999999999995E-4},{"$f":"IF('15) Engines'!Y29<>\"\",'15) Engines'!Y29,LOOKUP('15) Calculations'!E$45,'15) Calculations'!$C$9:$I$9,'15) Calculations'!$C35:$I35))","v":9.0109999999999995E-4},{"$f":"IF('15) Engines'!Z29<>\"\",'15) Engines'!Z29,LOOKUP('15) Calculations'!F$45,'15) Calculations'!$C$9:$I$9,'15) Calculations'!$C35:$I35))","v":9.0109999999999995E-4},{"$f":"IF('15) Engines'!AA29<>\"\",'15) Engines'!AA29,LOOKUP('15) Calculations'!G$45,'15) Calculations'!$C$9:$I$9,'15) Calculations'!$C35:$I35))","v":9.0109999999999995E-4},{"$f":"IF('15) Engines'!AB29<>\"\",'15) Engines'!AB29,LOOKUP('15) Calculations'!H$45,'15) Calculations'!$C$9:$I$9,'15) Calculations'!$C35:$I35))","v":9.0109999999999995E-4},{"$f":"IF('15) Engines'!AC29<>\"\",'15) Engines'!AC29,LOOKUP('15) Calculations'!I$45,'15) Calculations'!$C$9:$I$9,'15) Calculations'!$C35:$I35))","v":9.0109999999999995E-4},{"$f":"IF('15) Engines'!AD29<>\"\",'15) Engines'!AD29,LOOKUP('15) Calculations'!J$45,'15) Calculations'!$C$9:$I$9,'15) Calculations'!$C35:$I35))","v":9.0109999999999995E-4},{"$f":"IF('15) Engines'!AE29<>\"\",'15) Engines'!AE29,LOOKUP('15) Calculations'!K$45,'15) Calculations'!$C$9:$I$9,'15) Calculations'!$C35:$I35))","v":9.0109999999999995E-4},{"$f":"IF('15) Engines'!AF29<>\"\",'15) Engines'!AF29,LOOKUP('15) Calculations'!L$45,'15) Calculations'!$C$9:$I$9,'15) Calculations'!$C35:$I35))","v":9.0109999999999995E-4},null,"Other HAPs",null,0,0,0,0,0,0,0,0,0,0,0,null,"Other HAPs",null,0,0,0,0,0,0,0,0,0,0,0]
["Total HAPs",null,{"$f":"IF('15) Engines'!W30<>\"\",'15) Engines'!W30,LOOKUP('15) Calculations'!C$45,'15) Calculations'!$C$9:$I$9,'15) Calculations'!$C36:$I36))","v":3.8736000000000005E-3},{"$f":"IF('15) Engines'!X30<>\"\",'15) Engines'!X30,LOOKUP('15) Calculations'!D$45,'15) Calculations'!$C$9:$I$9,'15) Calculations'!$C36:$I36))","v":3.8736000000000005E-3},{"$f":"IF('15) Engines'!Y30<>\"\",'15) Engines'!Y30,LOOKUP('15) Calculations'!E$45,'15) Calculations'!$C$9:$I$9,'15) Calculations'!$C36:$I36))","v":3.8736000000000005E-3},{"$f":"IF('15) Engines'!Z30<>\"\",'15) Engines'!Z30,LOOKUP('15) Calculations'!F$45,'15) Calculations'!$C$9:$I$9,'15) Calculations'!$C36:$I36))","v":3.8736000000000005E-3},{"$f":"IF('15) Engines'!AA30<>\"\",'15) Engines'!AA30,LOOKUP('15) Calculations'!G$45,'15) Calculations'!$C$9:$I$9,'15) Calculations'!$C36:$I36))","v":3.8736000000000005E-3},{"$f":"IF('15) Engines'!AB30<>\"\",'15) Engines'!AB30,LOOKUP('15) Calculations'!H$45,'15) Calculations'!$C$9:$I$9,'15) Calculations'!$C36:$I36))","v":3.8736000000000005E-3},{"$f":"IF('15) Engines'!AC30<>\"\",'15) Engines'!AC30,LOOKUP('15) Calculations'!I$45,'15) Calculations'!$C$9:$I$9,'15) Calculations'!$C36:$I36))","v":3.8736000000000005E-3},{"$f":"IF('15) Engines'!AD30<>\"\",'15) Engines'!AD30,LOOKUP('15) Calculations'!J$45,'15) Calculations'!$C$9:$I$9,'15) Calculations'!$C36:$I36))","v":3.8736000000000005E-3},{"$f":"IF('15) Engines'!AE30<>\"\",'15) Engines'!AE30,LOOKUP('15) Calculations'!K$45,'15) Calculations'!$C$9:$I$9,'15) Calculations'!$C36:$I36))","v":3.8736000000000005E-3},{"$f":"IF('15) Engines'!AF30<>\"\",'15) Engines'!AF30,LOOKUP('15) Calculations'!L$45,'15) Calculations'!$C$9:$I$9,'15) Calculations'!$C36:$I36))","v":3.8736000000000005E-3},null,"Total HAPs",null,0,0,0,0,0,0,0,0,0,0,0,null,"Total HAPs",null,0,0,0,0,0,0,0,0,0,0,0]
["Green House Gasses",null,null,null,null,null,null,null,null,null,null,null,null,"Green House Gasses",null,null,null,null,null,null,null,null,null,null,null,null,null,"Green House Gasses"]
["  Carbon Dioxide (CO2)",null,{"$f":"IF('15) Engines'!W32<>\"\",'15) Engines'!W32,LOOKUP('15) Calculations'!C$45,'15) Calculations'!$C$9:$I$9,'15) Calculations'!$C38:$I38))","v":73.959999999999994},{"$f":"IF('15) Engines'!X32<>\"\",'15) Engines'!X32,LOOKUP('15) Calculations'!D$45,'15) Calculations'!$C$9:$I$9,'15) Calculations'!$C38:$I38))","v":73.959999999999994},{"$f":"IF('15) Engines'!Y32<>\"\",'15) Engines'!Y32,LOOKUP('15) Calculations'!E$45,'15) Calculations'!$C$9:$I$9,'15) Calculations'!$C38:$I38))","v":73.959999999999994},{"$f":"IF('15) Engines'!Z32<>\"\",'15) Engines'!Z32,LOOKUP('15) Calculations'!F$45,'15) Calculations'!$C$9:$I$9,'15) Calculations'!$C38:$I38))","v":73.959999999999994},{"$f":"IF('15) Engines'!AA32<>\"\",'15) Engines'!AA32,LOOKUP('15) Calculations'!G$45,'15) Calculations'!$C$9:$I$9,'15) Calculations'!$C38:$I38))","v":73.959999999999994},{"$f":"IF('15) Engines'!AB32<>\"\",'15) Engines'!AB32,LOOKUP('15) Calculations'!H$45,'15) Calculations'!$C$9:$I$9,'15) Calculations'!$C38:$I38))","v":73.959999999999994},{"$f":"IF('15) Engines'!AC32<>\"\",'15) Engines'!AC32,LOOKUP('15) Calculations'!I$45,'15) Calculations'!$C$9:$I$9,'15) Calculations'!$C38:$I38))","v":73.959999999999994},{"$f":"IF('15) Engines'!AD32<>\"\",'15) Engines'!AD32,LOOKUP('15) Calculations'!J$45,'15) Calculations'!$C$9:$I$9,'15) Calculations'!$C38:$I38))","v":73.959999999999994},{"$f":"IF('15) Engines'!AE32<>\"\",'15) Engines'!AE32,LOOKUP('15) Calculations'!K$45,'15) Calculations'!$C$9:$I$9,'15) Calculations'!$C38:$I38))","v":73.959999999999994},{"$f":"IF('15) Engines'!AF32<>\"\",'15) Engines'!AF32,LOOKUP('15) Calculations'!L$45,'15) Calculations'!$C$9:$I$9,'15) Calculations'!$C38:$I38))","v":73.959999999999994},null,"  Carbon Dioxide (CO2)",null,{"$f":"C73*$D$6*C$78*2.20462","v":0},0,0,0,0,0,0,0,0,0,0,null,"  Carbon Dioxide (CO2)",null,{"$f":"P73*C$79/2000","v":0},{"$f":"Q73*D$79/2000","v":0},{"$f":"R73*E$79/2000","v":0},{"$f":"S73*F$79/2000","v":0},{"$f":"T73*G$79/2000","v":0},{"$f":"U73*H$79/2000","v":0},{"$f":"V73*I$79/2000","v":0},{"$f":"W73*J$79/2000","v":0},{"$f":"X73*K$79/2000","v":0},{"$f":"Y73*L$79/2000","v":0},{"$f":"SUM(AD73:AM73)","v":0}]
["  Methane (CH4)",null,{"$f":"IF('15) Engines'!W33<>\"\",'15) Engines'!W33,LOOKUP('15) Calculations'!C$45,'15) Calculations'!$C$9:$I$9,'15) Calculations'!$C39:$I39))","v":3.0000000000000001E-3},{"$f":"IF('15) Engines'!X33<>\"\",'15) Engines'!X33,LOOKUP('15) Calculations'!D$45,'15) Calculations'!$C$9:$I$9,'15) Calculations'!$C39:$I39))","v":3.0000000000000001E-3},{"$f":"IF('15) Engines'!Y33<>\"\",'15) Engines'!Y33,LOOKUP('15) Calculations'!E$45,'15) Calculations'!$C$9:$I$9,'15) Calculations'!$C39:$I39))","v":3.0000000000000001E-3},{"$f":"IF('15) Engines'!Z33<>\"\",'15) Engines'!Z33,LOOKUP('15) Calculations'!F$45,'15) Calculations'!$C$9:$I$9,'15) Calculations'!$C39:$I39))","v":3.0000000000000001E-3},{"$f":"IF('15) Engines'!AA33<>\"\",'15) Engines'!AA33,LOOKUP('15) Calculations'!G$45,'15) Calculations'!$C$9:$I$9,'15) Calculations'!$C39:$I39))","v":3.0000000000000001E-3},{"$f":"IF('15) Engines'!AB33<>\"\",'15) Engines'!AB33,LOOKUP('15) Calculations'!H$45,'15) Calculations'!$C$9:$I$9,'15) Calculations'!$C39:$I39))","v":3.0000000000000001E-3},{"$f":"IF('15) Engines'!AC33<>\"\",'15) Engines'!AC33,LOOKUP('15) Calculations'!I$45,'15) Calculations'!$C$9:$I$9,'15) Calculations'!$C39:$I39))","v":3.0000000000000001E-3},{"$f":"IF('15) Engines'!AD33<>\"\",'15) Engines'!AD33,LOOKUP('15) Calculations'!J$45,'15) Calculations'!$C$9:$I$9,'15) Calculations'!$C39:$I39))","v":3.0000000000000001E-3},{"$f":"IF('15) Engines'!AE33<>\"\",'15) Engines'!AE33,LOOKUP('15) Calculations'!K$45,'15) Calculations'!$C$9:$I$9,'15) Calculations'!$C39:$I39))","v":3.0000000000000001E-3},{"$f":"IF('15) Engines'!AF33<>\"\",'15) Engines'!AF33,LOOKUP('15) Calculations'!L$45,'15) Calculations'!$C$9:$I$9,'15) Calculations'!$C39:$I39))","v":3.0000000000000001E-3},null,"  Methane (CH4)",null,0,0,0,0,0,0,0,0,0,0,0,null,"  Methane (CH4)",null,0,0,0,0,0,0,0,0,0,0,0]
["  Nitrous Oxide (N2O)",null,{"$f":"IF('15) Engines'!W34<>\"\",'15) Engines'!W34,LOOKUP('15) Calculations'!C$45,'15) Calculations'!$C$9:$I$9,'15) Calculations'!$C40:$I40))","v":5.9999999999999995E-4},{"$f":"IF('15) Engines'!X34<>\"\",'15) Engines'!X34,LOOKUP('15) Calculations'!D$45,'15) Calculations'!$C$9:$I$9,'15) Calculations'!$C40:$I40))","v":5.9999999999999995E-4},{"$f":"IF('15) Engines'!Y34<>\"\",'15) Engines'!Y34,LOOKUP('15) Calculations'!E$45,'15) Calculations'!$C$9:$I$9,'15) Calculations'!$C40:$I40))","v":5.9999999999999995E-4},{"$f":"IF('15) Engines'!Z34<>\"\",'15) Engines'!Z34,LOOKUP('15) Calculations'!F$45,'15) Calculations'!$C$9:$I$9,'15) Calculations'!$C40:$I40))","v":5.9999999999999995E-4},{"$f":"IF('15) Engines'!AA34<>\"\",'15) Engines'!AA34,LOOKUP('15) Calculations'!G$45,'15) Calculations'!$C$9:$I$9,'15) Calculations'!$C40:$I40))","v":5.9999999999999995E-4},{"$f":"IF('15) Engines'!AB34<>\"\",'15) Engines'!AB34,LOOKUP('15) Calculations'!H$45,'15) Calculations'!$C$9:$I$9,'15) Calculations'!$C40:$I40))","v":5.9999999999999995E-4},{"$f":"IF('15) Engines'!AC34<>\"\",'15) Engines'!AC34,LOOKUP('15) Calculations'!I$45,'15) Calculations'!$C$9:$I$9,'15) Calculations'!$C40:$I40))","v":5.9999999999999995E-4},{"$f":"IF('15) Engines'!AD34<>\"\",'15) Engines'!AD34,LOOKUP('15) Calculations'!J$45,'15) Calculations'!$C$9:$I$9,'15) Calculations'!$C40:$I40))","v":5.9999999999999995E-4},{"$f":"IF('15) Engines'!AE34<>\"\",'15) Engines'!AE34,LOOKUP('15) Calculations'!K$45,'15) Calculations'!$C$9:$I$9,'15) Calculations'!$C40:$I40))","v":5.9999999999999995E-4},{"$f":"IF('15) Engines'!AF34<>\"\",'15) Engines'!AF34,LOOKUP('15) Calculations'!L$45,'15) Calculations'!$C$9:$I$9,'15) Calculations'!$C40:$I40))","v":5.9999999999999995E-4},null,"  Nitrous Oxide (N2O)",null,0,0,0,0,0,0,0,0,0,0,0,null,"  Nitrous Oxide (N2O)",null,0,0,0,0,0,0,0,0,0,0,0]
[]
["Engine Rating (hp)",null,{"$f":"'15) Engines'!D16","v":0},{"$f":"'15) Engines'!D17","v":0},{"$f":"'15) Engines'!D18","v":0},{"$f":"'15) Engines'!D19","v":0},{"$f":"'15) Engines'!D20","v":0},{"$f":"'15) Engines'!D21","v":0},{"$f":"'15) Engines'!D22","v":0},{"$f":"'15) Engines'!D23","v":0},{"$f":"'15) Engines'!D24","v":0},{"$f":"'15) Engines'!D25","v":0}]
[{"$f":"'15) Engines'!E15","v":"Maximum Fuel Capacity \n(gal/hr)"},null,{"$f":"'15) Engines'!E16","v":0},{"$f":"'15) Engines'!E17","v":0},{"$f":"'15) Engines'!E18","v":0},{"$f":"'15) Engines'!E19","v":0},{"$f":"'15) Engines'!E20","v":0},{"$f":"'15) Engines'!E21","v":0},{"$f":"'15) Engines'!E22","v":0},{"$f":"'15) Engines'!E23","v":0},{"$f":"'15) Engines'!E24","v":0},{"$f":"'15) Engines'!E25","v":0}]
["Operating Hours",null,{"$f":"'15) Engines'!G16","v":8760},{"$f":"'15) Engines'!G17","v":8760},{"$f":"'15) Engines'!G18","v":8760},{"$f":"'15) Engines'!G19","v":8760},{"$f":"'15) Engines'!G20","v":8760},{"$f":"'15) Engines'!G21","v":8760},{"$f":"'15) Engines'!G22","v":8760},{"$f":"'15) Engines'!G23","v":8760},{"$f":"'15) Engines'!G24","v":8760},{"$f":"'15) Engines'!G25","v":8760}]
[]
[]
[]
[null,null,"1st Spark Ignition Engine","2nd Spark Ignition Engine","3rd Spark Ignition Engine","4th Spark Ignition Engine","5th Spark Ignition Engine","6th Spark Ignition Engine","7th Spark Ignition Engine","8th Spark Ignition Engine","9th Spark Ignition Engine","10th Spark Ignition Engine",null,null,null,"1st Spark Ignition Engine","2nd Spark Ignition Engine","3rd Spark Ignition Engine","4th Spark Ignition Engine","5th Spark Ignition Engine","6th Spark Ignition Engine","7th Spark Ignition Engine","8th Spark Ignition Engine","9th Spark Ignition Engine","10th Spark Ignition Engine","Total",null,null,null,"1st Spark Ignition Engine","2nd Spark Ignition Engine","3rd Spark Ignition Engine","4th Spark Ignition Engine","5th Spark Ignition Engine","6th Spark Ignition Engine","7th Spark Ignition Engine","8th Spark Ignition Engine","9th Spark Ignition Engine","10th Spark Ignition Engine","Total"]
[null,null,{"$f":"IF('15) Engines'!G29=Datasets!$AJ$3,4,IF('15) Engines'!G29=Datasets!$AJ$4,7,IF('15) Engines'!H29=Datasets!$AK$2,3,IF('15) Engines'!H29=Datasets!$AK$4,2,1))))","v":1},{"$f":"IF('15) Engines'!G30=Datasets!$AJ$3,4,IF('15) Engines'!G30=Datasets!$AJ$4,7,IF('15) Engines'!H30=Datasets!$AK$2,3,IF('15) Engines'!H30=Datasets!$AK$4,2,1))))","v":1},{"$f":"IF('15) Engines'!G31=Datasets!$AJ$3,4,IF('15) Engines'!G31=Datasets!$AJ$4,7,IF('15) Engines'!H31=Datasets!$AK$2,3,IF('15) Engines'!H31=Datasets!$AK$4,2,1))))","v":1},{"$f":"IF('15) Engines'!G32=Datasets!$AJ$3,4,IF('15) Engines'!G32=Datasets!$AJ$4,7,IF('15) Engines'!H32=Datasets!$AK$2,3,IF('15) Engines'!H32=Datasets!$AK$4,2,1))))","v":1},{"$f":"IF('15) Engines'!G33=Datasets!$AJ$3,4,IF('15) Engines'!G33=Datasets!$AJ$4,7,IF('15) Engines'!H33=Datasets!$AK$2,3,IF('15) Engines'!H33=Datasets!$AK$4,2,1))))","v":1},{"$f":"IF('15) Engines'!LG34=Datasets!$AJ$3,4,IF('15) Engines'!G34=Datasets!$AJ$4,7,IF('15) Engines'!H34=Datasets!$AK$2,3,IF('15) Engines'!H34=Datasets!$AK$4,2,1))))","v":1},{"$f":"IF('15) Engines'!G35=Datasets!$AJ$3,4,IF('15) Engines'!G35=Datasets!$AJ$4,7,IF('15) Engines'!H35=Datasets!$AK$2,3,IF('15) Engines'!H35=Datasets!$AK$4,2,1))))","v":1},{"$f":"IF('15) Engines'!G36=Datasets!$AJ$3,4,IF('15) Engines'!G36=Datasets!$AJ$4,7,IF('15) Engines'!H36=Datasets!$AK$2,3,IF('15) Engines'!H36=Datasets!$AK$4,2,1))))","v":1},{"$f":"IF('15) Engines'!G37=Datasets!$AJ$3,4,IF('15) Engines'!G37=Datasets!$AJ$4,7,IF('15) Engines'!H37=Datasets!$AK$2,3,IF('15) Engines'!H37=Datasets!$AK$4,2,1))))","v":1},{"$f":"IF('15) Engines'!G38=Datasets!$AJ$3,4,IF('15) Engines'!G38=Datasets!$AJ$4,7,IF('15) Engines'!H38=Datasets!$AK$2,3,IF('15) Engines'!H38=Datasets!$AK$4,2,1))))","v":1},null,null,null,"(lb/hr)",null,null,null,null,null,null,null,null,null,null,null,null,null,"(ton/yr)"]
["PMfilterable",null,{"$f":"IF('15) Engines'!AI5<>\"\",'15) Engines'!AI5,LOOKUP('15) Calculations'!C$84,'15) Calculations'!$C$9:$I$9,'15) Calculations'!$C11:$I11))","v":9.9871000000000005E-3},{"$f":"IF('15) Engines'!AJ5<>\"\",'15) Engines'!AJ5,LOOKUP('15) Calculations'!D$84,'15) Calculations'!$C$9:$I$9,'15) Calculations'!$C11:$I11))","v":9.9871000000000005E-3},{"$f":"IF('15) Engines'!AK5<>\"\",'15) Engines'!AK5,LOOKUP('15) Calculations'!E$84,'15) Calculations'!$C$9:$I$9,'15) Calculations'!$C11:$I11))","v":9.9871000000000005E-3},{"$f":"IF('15) Engines'!AL5<>\"\",'15) Engines'!AL5,LOOKUP('15) Calculations'!F$84,'15) Calculations'!$C$9:$I$9,'15) Calculations'!$C11:$I11))","v":9.9871000000000005E-3},{"$f":"IF('15) Engines'!AM5<>\"\",'15) Engines'!AM5,LOOKUP('15) Calculations'!G$84,'15) Calculations'!$C$9:$I$9,'15) Calculations'!$C11:$I11))","v":9.9871000000000005E-3},{"$f":"IF('15) Engines'!AN5<>\"\",'15) Engines'!AN5,LOOKUP('15) Calculations'!H$84,'15) Calculations'!$C$9:$I$9,'15) Calculations'!$C11:$I11))","v":9.9871000000000005E-3},{"$f":"IF('15) Engines'!AO5<>\"\",'15) Engines'!AO5,LOOKUP('15) Calculations'!I$84,'15) Calculations'!$C$9:$I$9,'15) Calculations'!$C11:$I11))","v":9.9871000000000005E-3},{"$f":"IF('15) Engines'!AP5<>\"\",'15) Engines'!AP5,LOOKUP('15) Calculations'!J$84,'15) Calculations'!$C$9:$I$9,'15) Calculations'!$C11:$I11))","v":9.9871000000000005E-3},{"$f":"IF('15) Engines'!AQ5<>\"\",'15) Engines'!AQ5,LOOKUP('15) Calculations'!K$84,'15) Calculations'!$C$9:$I$9,'15) Calculations'!$C11:$I11))","v":9.9871000000000005E-3},{"$f":"IF('15) Engines'!AR5<>\"\",'15) Engines'!AR5,LOOKUP('15) Calculations'!L$84,'15) Calculations'!$C$9:$I$9,'15) Calculations'!$C11:$I11))","v":9.9871000000000005E-3},null,"PMfilterable",null,{"$f":"C85*C$118","v":0},{"$f":"D85*D$118","v":0},0,0,0,0,0,0,0,0,{"$f":"SUM(P85:Y85)","v":0},null,"PMfilterable",null,{"$f":"P85*C$119/2000","v":0},{"$f":"Q85*D$119/2000","v":0},0,0,0,0,0,0,0,0,{"$f":"SUM(AD85:AM85)","v":0}]
["PM10",null,{"$f":"IF('15) Engines'!AI6<>\"\",'15) Engines'!AI6,LOOKUP('15) Calculations'!C$84,'15) Calculations'!$C$9:$I$9,'15) Calculations'!$C12:$I12))","v":9.9871000000000005E-3},{"$f":"IF('15) Engines'!AJ6<>\"\",'15) Engines'!AJ6,LOOKUP('15) Calculations'!D$84,'15) Calculations'!$C$9:$I$9,'15) Calculations'!$C12:$I12))","v":9.9871000000000005E-3},{"$f":"IF('15) Engines'!AK6<>\"\",'15) Engines'!AK6,LOOKUP('15) Calculations'!E$84,'15) Calculations'!$C$9:$I$9,'15) Calculations'!$C12:$I12))","v":9.9871000000000005E-3},{"$f":"IF('15) Engines'!AL6<>\"\",'15) Engines'!AL6,LOOKUP('15) Calculations'!F$84,'15) Calculations'!$C$9:$I$9,'15) Calculations'!$C12:$I12))","v":9.9871000000000005E-3},{"$f":"IF('15) Engines'!AM6<>\"\",'15) Engines'!AM6,LOOKUP('15) Calculations'!G$84,'15) Calculations'!$C$9:$I$9,'15) Calculations'!$C12:$I12))","v":9.9871000000000005E-3},{"$f":"IF('15) Engines'!AN6<>\"\",'15) Engines'!AN6,LOOKUP('15) Calculations'!H$84,'15) Calculations'!$C$9:$I$9,'15) Calculations'!$C12:$I12))","v":9.9871000000000005E-3},{"$f":"IF('15) Engines'!AO6<>\"\",'15) Engines'!AO6,LOOKUP('15) Calculations'!I$84,'15) Calculations'!$C$9:$I$9,'15) Calculations'!$C12:$I12))","v":9.9871000000000005E-3},{"$f":"IF('15) Engines'!AP6<>\"\",'15) Engines'!AP6,LOOKUP('15) Calculations'!J$84,'15) Calculations'!$C$9:$I$9,'15) Calculations'!$C12:$I12))","v":9.9871000000000005E-3},{"$f":"IF('15) Engines'!AQ6<>\"\",'15) Engines'!AQ6,LOOKUP('15) Calculations'!K$84,'15) Calculations'!$C$9:$I$9,'15) Calculations'!$C12:$I12))","v":9.9871000000000005E-3},{"$f":"IF('15) Engines'!AR6<>\"\",'15) Engines'!AR6,LOOKUP('15) Calculations'!L$84,'15) Calculations'!$C$9:$I$9,'15) Calculations'!$C12:$I12))","v":9.9871000000000005E-3},null,"PM10",null,{"$f":"C86*C$118","v":0},{"$f":"D86*D$118","v":0},{"$f":"E86*E$118","v":0},{"$f":"F86*F$118","v":0},{"$f":"G86*G$118","v":0},{"$f":"H86*H$118","v":0},{"$f":"I86*I$118","v":0},{"$f":"J86*J$118","v":0},{"$f":"K86*K$118","v":0},{"$f":"L86*L$118","v":0},{"$f":"SUM(P86:Y86)","v":0},null,"PM10",null,{"$f":"P86*C$119/2000","v":0},{"$f":"Q86*D$119/2000","v":0},{"$f":"R86*E$119/2000","v":0},{"$f":"S86*F$119/2000","v":0},{"$f":"T86*G$119/2000","v":0},{"$f":"U86*H$119/2000","v":0},{"$f":"V86*I$119/2000","v":0},{"$f":"W86*J$119/2000","v":0},{"$f":"X86*K$119/2000","v":0},{"$f":"Y86*L$119/2000","v":0},{"$f":"SUM(AD86:AM86)","v":0}]
["PM2.5",null,{"$f":"IF('15) Engines'!AI7<>\"\",'15) Engines'!AI7,LOOKUP('15) Calculations'!C$84,'15) Calculations'!$C$9:$I$9,'15) Calculations'!$C13:$I13))","v":9.9871000000000005E-3},{"$f":"IF('15) Engines'!AJ7<>\"\",'15) Engines'!AJ7,LOOKUP('15) Calculations'!D$84,'15) Calculations'!$C$9:$I$9,'15) Calculations'!$C13:$I13))","v":9.9871000000000005E-3},{"$f":"IF('15) Engines'!AK7<>\"\",'15) Engines'!AK7,LOOKUP('15) Calculations'!E$84,'15) Calculations'!$C$9:$I$9,'15) Calculations'!$C13:$I13))","v":9.9871000000000005E-3},{"$f":"IF('15) Engines'!AL7<>\"\",'15) Engines'!AL7,LOOKUP('15) Calculations'!F$84,'15) Calculations'!$C$9:$I$9,'15) Calculations'!$C13:$I13))","v":9.9871000000000005E-3},{"$f":"IF('15) Engines'!AM7<>\"\",'15) Engines'!AM7,LOOKUP('15) Calculations'!G$84,'15) Calculations'!$C$9:$I$9,'15) Calculations'!$C13:$I13))","v":9.9871000000000005E-3},{"$f":"IF('15) Engines'!AN7<>\"\",'15) Engines'!AN7,LOOKUP('15) Calculations'!H$84,'15) Calculations'!$C$9:$I$9,'15) Calculations'!$C13:$I13))","v":9.9871000000000005E-3},{"$f":"IF('15) Engines'!AO7<>\"\",'15) Engines'!AO7,LOOKUP('15) Calculations'!I$84,'15) Calculations'!$C$9:$I$9,'15) Calculations'!$C13:$I13))","v":9.9871000000000005E-3},{"$f":"IF('15) Engines'!AP7<>\"\",'15) Engines'!AP7,LOOKUP('15) Calculations'!J$84,'15) Calculations'!$C$9:$I$9,'15) Calculations'!$C13:$I13))","v":9.9871000000000005E-3},{"$f":"IF('15) Engines'!AQ7<>\"\",'15) Engines'!AQ7,LOOKUP('15) Calculations'!K$84,'15) Calculations'!$C$9:$I$9,'15) Calculations'!$C13:$I13))","v":9.9871000000000005E-3},{"$f":"IF('15) Engines'!AR7<>\"\",'15) Engines'!AR7,LOOKUP('15) Calculations'!L$84,'15) Calculations'!$C$9:$I$9,'15) Calculations'!$C13:$I13))","v":9.9871000000000005E-3},null,"PM2.5",null,0,0,0,0,0,0,0,0,0,0,0,null,"PM2.5",null,0,0,0,0,0,0,0,0,0,0,0]
["SO2",null,{"$f":"IF('15) Engines'!AI8<>\"\",'15) Engines'!AI8,LOOKUP('15) Calculations'!C$84,'15) Calculations'!$C$9:$I$9,'15) Calculations'!$C14:$I14))","v":5.8799999999999998E-4},{"$f":"IF('15) Engines'!AJ8<>\"\",'15) Engines'!AJ8,LOOKUP('15) Calculations'!D$84,'15) Calculations'!$C$9:$I$9,'15) Calculations'!$C14:$I14))","v":5.8799999999999998E-4},{"$f":"IF('15) Engines'!AK8<>\"\",'15) Engines'!AK8,LOOKUP('15) Calculations'!E$84,'15) Calculations'!$C$9:$I$9,'15) Calculations'!$C14:$I14))","v":5.8799999999999998E-4},{"$f":"IF('15) Engines'!AL8<>\"\",'15) Engines'!AL8,LOOKUP('15) Calculations'!F$84,'15) Calculations'!$C$9:$I$9,'15) Calculations'!$C14:$I14))","v":5.8799999999999998E-4},{"$f":"IF('15) Engines'!AM8<>\"\",'15) Engines'!AM8,LOOKUP('15) Calculations'!G$84,'15) Calculations'!$C$9:$I$9,'15) Calculations'!$C14:$I14))","v":5.8799999999999998E-4},{"$f":"IF('15) Engines'!AN8<>\"\",'15) Engines'!AN8,LOOKUP('15) Calculations'!H$84,'15) Calculations'!$C$9:$I$9,'15) Calculations'!$C14:$I14))","v":5.8799999999999998E-4},{"$f":"IF('15) Engines'!AO8<>\"\",'15) Engines'!AO8,LOOKUP('15) Calculations'!I$84,'15) Calculations'!$C$9:$I$9,'15) Calculations'!$C14:$I14))","v":5.8799999999999998E-4},{"$f":"IF('15) Engines'!AP8<>\"\",'15) Engines'!AP8,LOOKUP('15) Calculations'!J$84,'15) Calculations'!$C$9:$I$9,'15) Calculations'!$C14:$I14))","v":5.8799999999999998E-4},{"$f":"IF('15) Engines'!AQ8<>\"\",'15) Engines'!AQ8,LOOKUP('15) Calculations'!K$84,'15) Calculations'!$C$9:$I$9,'15) Calculations'!$C14:$I14))","v":5.8799999999999998E-4},{"$f":"IF('15) Engines'!AR8<>\"\",'15) Engines'!AR8,LOOKUP('15) Calculations'!L$84,'15) Calculations'!$C$9:$I$9,'15) Calculations'!$C14:$I14))","v":5.8799999999999998E-4},null,"SO2",null,0,0,0,0,0,0,0,0,0,0,0,null,"SO2",null,0,0,0,0,0,0,0,0,0,0,0]
["NOx",null,{"$f":"IF('15) Engines'!AI9<>\"\",'15) Engines'!AI9,LOOKUP('15) Calculations'!C$84,'15) Calculations'!$C$9:$I$9,'15) Calculations'!$C15:$I15))","v":4.08},{"$f":"IF('15) Engines'!AJ9<>\"\",'15) Engines'!AJ9,LOOKUP('15) Calculations'!D$84,'15) Calculations'!$C$9:$I$9,'15) Calculations'!$C15:$I15))","v":4.08},{"$f":"IF('15) Engines'!AK9<>\"\",'15) Engines'!AK9,LOOKUP('15) Calculations'!E$84,'15) Calculations'!$C$9:$I$9,'15) Calculations'!$C15:$I15))","v":4.08},{"$f":"IF('15) Engines'!AL9<>\"\",'15) Engines'!AL9,LOOKUP('15) Calculations'!F$84,'15) Calculations'!$C$9:$I$9,'15) Calculations'!$C15:$I15))","v":4.08},{"$f":"IF('15) Engines'!AM9<>\"\",'15) Engines'!AM9,LOOKUP('15) Calculations'!G$84,'15) Calculations'!$C$9:$I$9,'15) Calculations'!$C15:$I15))","v":4.08},{"$f":"IF('15) Engines'!AN9<>\"\",'15) Engines'!AN9,LOOKUP('15) Calculations'!H$84,'15) Calculations'!$C$9:$I$9,'15) Calculations'!$C15:$I15))","v":4.08},{"$f":"IF('15) Engines'!AO9<>\"\",'15) Engines'!AO9,LOOKUP('15) Calculations'!I$84,'15) Calculations'!$C$9:$I$9,'15) Calculations'!$C15:$I15))","v":4.08},{"$f":"IF('15) Engines'!AP9<>\"\",'15) Engines'!AP9,LOOKUP('15) Calculations'!J$84,'15) Calculations'!$C$9:$I$9,'15) Calculations'!$C15:$I15))","v":4.08},{"$f":"IF('15) Engines'!AQ9<>\"\",'15) Engines'!AQ9,LOOKUP('15) Calculations'!K$84,'15) Calculations'!$C$9:$I$9,'15) Calculations'!$C15:$I15))","v":4.08},{"$f":"IF('15) Engines'!AR9<>\"\",'15) Engines'!AR9,LOOKUP('15) Calculations'!L$84,'15) Calculations'!$C$9:$I$9,'15) Calculations'!$C15:$I15))","v":4.08},null,"NOx",null,0,0,0,0,0,0,0,0,0,0,0,null,"NOx",null,0,0,0,0,0,0,0,0,0,0,0]
["CO",null,{"$f":"IF('15) Engines'!AI10<>\"\",'15) Engines'!AI10,LOOKUP('15) Calculations'!C$84,'15) Calculations'!$C$9:$I$9,'15) Calculations'!$C16:$I16))","v":0.55700000000000005},{"$f":"IF('15) Engines'!AJ10<>\"\",'15) Engines'!AJ10,LOOKUP('15) Calculations'!D$84,'15) Calculations'!$C$9:$I$9,'15) Calculations'!$C16:$I16))","v":0.55700000000000005},{"$f":"IF('15) Engines'!AK10<>\"\",'15) Engines'!AK10,LOOKUP('15) Calculations'!E$84,'15) Calculations'!$C$9:$I$9,'15) Calculations'!$C16:$I16))","v":0.55700000000000005},{"$f":"IF('15) Engines'!AL10<>\"\",'15) Engines'!AL10,LOOKUP('15) Calculations'!F$84,'15) Calculations'!$C$9:$I$9,'15) Calculations'!$C16:$I16))","v":0.55700000000000005},{"$f":"IF('15) Engines'!AM10<>\"\",'15) Engines'!AM10,LOOKUP('15) Calculations'!G$84,'15) Calculations'!$C$9:$I$9,'15) Calculations'!$C16:$I16))","v":0.55700000000000005},{"$f":"IF('15) Engines'!AN10<>\"\",'15) Engines'!AN10,LOOKUP('15) Calculations'!H$84,'15) Calculations'!$C$9:$I$9,'15) Calculations'!$C16:$I16))","v":0.55700000000000005},{"$f":"IF('15) Engines'!AO10<>\"\",'15) Engines'!AO10,LOOKUP('15) Calculations'!I$84,'15) Calculations'!$C$9:$I$9,'15) Calculations'!$C16:$I16))","v":0.55700000000000005},{"$f":"IF('15) Engines'!AP10<>\"\",'15) Engines'!AP10,LOOKUP('15) Calculations'!J$84,'15) Calculations'!$C$9:$I$9,'15) Calculations'!$C16:$I16))","v":0.55700000000000005},{"$f":"IF('15) Engines'!AQ10<>\"\",'15) Engines'!AQ10,LOOKUP('15) Calculations'!K$84,'15) Calculations'!$C$9:$I$9,'15) Calculations'!$C16:$I16))","v":0.55700000000000005},{"$f":"IF('15) Engines'!AR10<>\"\",'15) Engines'!AR10,LOOKUP('15) Calculations'!L$84,'15) Calculations'!$C$9:$I$9,'15) Calculations'!$C16:$I16))","v":0.55700000000000005},null,"CO",null,0,0,0,0,0,0,0,0,0,0,0,null,"CO",null,0,0,0,0,0,0,0,0,0,0,0]
["VOC",null,{"$f":"IF('15) Engines'!AI11<>\"\",'15) Engines'!AI11,LOOKUP('15) Calculations'!C$84,'15) Calculations'!$C$9:$I$9,'15) Calculations'!$C17:$I17))","v":0.11799999999999999},{"$f":"IF('15) Engines'!AJ11<>\"\",'15) Engines'!AJ11,LOOKUP('15) Calculations'!D$84,'15) Calculations'!$C$9:$I$9,'15) Calculations'!$C17:$I17))","v":0.11799999999999999},{"$f":"IF('15) Engines'!AK11<>\"\",'15) Engines'!AK11,LOOKUP('15) Calculations'!E$84,'15) Calculations'!$C$9:$I$9,'15) Calculations'!$C17:$I17))","v":0.11799999999999999},{"$f":"IF('15) Engines'!AL11<>\"\",'15) Engines'!AL11,LOOKUP('15) Calculations'!F$84,'15) Calculations'!$C$9:$I$9,'15) Calculations'!$C17:$I17))","v":0.11799999999999999},{"$f":"IF('15) Engines'!AM11<>\"\",'15) Engines'!AM11,LOOKUP('15) Calculations'!G$84,'15) Calculations'!$C$9:$I$9,'15) Calculations'!$C17:$I17))","v":0.11799999999999999},{"$f":"IF('15) Engines'!AN11<>\"\",'15) Engines'!AN11,LOOKUP('15) Calculations'!H$84,'15) Calculations'!$C$9:$I$9,'15) Calculations'!$C17:$I17))","v":0.11799999999999999},{"$f":"IF('15) Engines'!AO11<>\"\",'15) Engines'!AO11,LOOKUP('15) Calculations'!I$84,'15) Calculations'!$C$9:$I$9,'15) Calculations'!$C17:$I17))","v":0.11799999999999999},{"$f":"IF('15) Engines'!AP11<>\"\",'15) Engines'!AP11,LOOKUP('15) Calculations'!J$84,'15) Calculations'!$C$9:$I$9,'15) Calculations'!$C17:$I17))","v":0.11799999999999999},{"$f":"IF('15) Engines'!AQ11<>\"\",'15) Engines'!AQ11,LOOKUP('15) Calculations'!K$84,'15) Calculations'!$C$9:$I$9,'15) Calculations'!$C17:$I17))","v":0.11799999999999999},{"$f":"IF('15) Engines'!AR11<>\"\",'15) Engines'!AR11,LOOKUP('15) Calculations'!L$84,'15) Calculations'!$C$9:$I$9,'15) Calculations'!$C17:$I17))","v":0.11799999999999999},null,"VOC",null,0,0,0,0,0,0,0,0,0,0,0,null,"VOC",null,0,0,0,0,0,0,0,0,0,0,0]
["Individual HAP",null,null,null,null,null,null,null,null,null,null,null,null,"Individual HAP",null,null,null,null,null,null,null,null,null,null,null,null,null,"Individual HAP"]
["Acetaldehyde",null,{"$f":"IF('15) Engines'!AI13<>\"\",'15) Engines'!AI13,LOOKUP('15) Calculations'!C$84,'15) Calculations'!$C$9:$I$9,'15) Calculations'!$C19:$I19))","v":8.3599999999999994E-3},{"$f":"IF('15) Engines'!AJ13<>\"\",'15) Engines'!AJ13,LOOKUP('15) Calculations'!D$84,'15) Calculations'!$C$9:$I$9,'15) Calculations'!$C19:$I19))","v":8.3599999999999994E-3},{"$f":"IF('15) Engines'!AK13<>\"\",'15) Engines'!AK13,LOOKUP('15) Calculations'!E$84,'15) Calculations'!$C$9:$I$9,'15) Calculations'!$C19:$I19))","v":8.3599999999999994E-3},{"$f":"IF('15) Engines'!AL13<>\"\",'15) Engines'!AL13,LOOKUP('15) Calculations'!F$84,'15) Calculations'!$C$9:$I$9,'15) Calculations'!$C19:$I19))","v":8.3599999999999994E-3},{"$f":"IF('15) Engines'!AM13<>\"\",'15) Engines'!AM13,LOOKUP('15) Calculations'!G$84,'15) Calculations'!$C$9:$I$9,'15) Calculations'!$C19:$I19))","v":8.3599999999999994E-3},{"$f":"IF('15) Engines'!AN13<>\"\",'15) Engines'!AN13,LOOKUP('15) Calculations'!H$84,'15) Calculations'!$C$9:$I$9,'15) Calculations'!$C19:$I19))","v":8.3599999999999994E-3},{"$f":"IF('15) Engines'!AO13<>\"\",'15) Engines'!AO13,LOOKUP('15) Calculations'!I$84,'15) Calculations'!$C$9:$I$9,'15) Calculations'!$C19:$I19))","v":8.3599999999999994E-3},{"$f":"IF('15) Engines'!AP13<>\"\",'15) Engines'!AP13,LOOKUP('15) Calculations'!J$84,'15) Calculations'!$C$9:$I$9,'15) Calculations'!$C19:$I19))","v":8.3599999999999994E-3},{"$f":"IF('15) Engines'!AQ13<>\"\",'15) Engines'!AQ13,LOOKUP('15) Calculations'!K$84,'15) Calculations'!$C$9:$I$9,'15) Calculations'!$C19:$I19))","v":8.3599999999999994E-3},{"$f":"IF('15) Engines'!AR13<>\"\",'15) Engines'!AR13,LOOKUP('15) Calculations'!L$84,'15) Calculations'!$C$9:$I$9,'15) Calculations'!$C19:$I19))","v":8.3599999999999994E-3},null,"Acetaldehyde",null,{"$f":"C93*C$118","v":0},{"$f":"D93*D$118","v":0},{"$f":"E93*E$118","v":0},{"$f":"F93*F$118","v":0},{"$f":"G93*G$118","v":0},{"$f":"H93*H$118","v":0},{"$f":"I93*I$118","v":0},{"$f":"J93*J$118","v":0},{"$f":"K93*K$118","v":0},{"$f":"L93*L$118","v":0},{"$f":"SUM(P93:Y93)","v":0},null,"Acetaldehyde",null,{"$f":"P93*C$119/2000","v":0},{"$f":"Q93*D$119/2000","v":0},{"$f":"R93*E$119/2000","v":0},{"$f":"S93*F$119/2000","v":0},{"$f":"T93*G$119/2000","v":0},{"$f":"U93*H$119/2000","v":0},{"$f":"V93*I$119/2000","v":0},{"$f":"W93*J$119/2000","v":0},{"$f":"X93*K$119/2000","v":0},{"$f":"Y93*L$119/2000","v":0},{"$f":"SUM(AD93:AM93)","v":0}]
["Acrolein",null,{"$f":"IF('15) Engines'!AI14<>\"\",'15) Engines'!AI14,LOOKUP('15) Calculations'!C$84,'15) Calculations'!$C$9:$I$9,'15) Calculations'!$C20:$I20))","v":5.1399999999999996E-3},{"$f":"IF('15) Engines'!AJ14<>\"\",'15) Engines'!AJ14,LOOKUP('15) Calculations'!D$84,'15) Calculations'!$C$9:$I$9,'15) Calculations'!$C20:$I20))","v":5.1399999999999996E-3},{"$f":"IF('15) Engines'!AK14<>\"\",'15) Engines'!AK14,LOOKUP('15) Calculations'!E$84,'15) Calculations'!$C$9:$I$9,'15) Calculations'!$C20:$I20))","v":5.1399999999999996E-3},{"$f":"IF('15) Engines'!AL14<>\"\",'15) Engines'!AL14,LOOKUP('15) Calculations'!F$84,'15) Calculations'!$C$9:$I$9,'15) Calculations'!$C20:$I20))","v":5.1399999999999996E-3},{"$f":"IF('15) Engines'!AM14<>\"\",'15) Engines'!AM14,LOOKUP('15) Calculations'!G$84,'15) Calculations'!$C$9:$I$9,'15) Calculations'!$C20:$I20))","v":5.1399999999999996E-3},{"$f":"IF('15) Engines'!AN14<>\"\",'15) Engines'!AN14,LOOKUP('15) Calculations'!H$84,'15) Calculations'!$C$9:$I$9,'15) Calculations'!$C20:$I20))","v":5.1399999999999996E-3},{"$f":"IF('15) Engines'!AO14<>\"\",'15) Engines'!AO14,LOOKUP('15) Calculations'!I$84,'15) Calculations'!$C$9:$I$9,'15) Calculations'!$C20:$I20))","v":5.1399999999999996E-3},{"$f":"IF('15) Engines'!AP14<>\"\",'15) Engines'!AP14,LOOKUP('15) Calculations'!J$84,'15) Calculations'!$C$9:$I$9,'15) Calculations'!$C20:$I20))","v":5.1399999999999996E-3},{"$f":"IF('15) Engines'!AQ14<>\"\",'15) Engines'!AQ14,LOOKUP('15) Calculations'!K$84,'15) Calculations'!$C$9:$I$9,'15) Calculations'!$C20:$I20))","v":5.1399999999999996E-3},{"$f":"IF('15) Engines'!AR14<>\"\",'15) Engines'!AR14,LOOKUP('15) Calculations'!L$84,'15) Calculations'!$C$9:$I$9,'15) Calculations'!$C20:$I20))","v":5.1399999999999996E-3},null,"Acrolein",null,0,0,0,0,0,0,0,0,0,0,0,null,"Acrolein",null,0,0,0,0,0,0,0,0,0,0,0]
["Arsenic compounds",null,{"$f":"IF('15) Engines'!AI15<>\"\",'15) Engines'!AI15,LOOKUP('15) Calculations'!C$84,'15) Calculations'!$C$9:$I$9,'15) Calculations'!$C21:$I21))","v":0},{"$f":"IF('15) Engines'!AJ15<>\"\",'15) Engines'!AJ15,LOOKUP('15) Calculations'!D$84,'15) Calculations'!$C$9:$I$9,'15) Calculations'!$C21:$I21))","v":0},{"$f":"IF('15) Engines'!AK15<>\"\",'15) Engines'!AK15,LOOKUP('15) Calculations'!E$84,'15) Calculations'!$C$9:$I$9,'15) Calculations'!$C21:$I21))","v":0},{"$f":"IF('15) Engines'!AL15<>\"\",'15) Engines'!AL15,LOOKUP('15) Calculations'!F$84,'15) Calculations'!$C$9:$I$9,'15) Calculations'!$C21:$I21))","v":0},{"$f":"IF('15) Engines'!AM15<>\"\",'15) Engines'!AM15,LOOKUP('15) Calculations'!G$84,'15) Calculations'!$C$9:$I$9,'15) Calculations'!$C21:$I21))","v":0},{"$f":"IF('15) Engines'!AN15<>\"\",'15) Engines'!AN15,LOOKUP('15) Calculations'!H$84,'15) Calculations'!$C$9:$I$9,'15) Calculations'!$C21:$I21))","v":0},{"$f":"IF('15) Engines'!AO15<>\"\",'15) Engines'!AO15,LOOKUP('15) Calculations'!I$84,'15) Calculations'!$C$9:$I$9,'15) Calculations'!$C21:$I21))","v":0},{"$f":"IF('15) Engines'!AP15<>\"\",'15) Engines'!AP15,LOOKUP('15) Calculations'!J$84,'15) Calculations'!$C$9:$I$9,'15) Calculations'!$C21:$I21))","v":0},{"$f":"IF('15) Engines'!AQ15<>\"\",'15) Engines'!AQ15,LOOKUP('15) Calculations'!K$84,'15) Calculations'!$C$9:$I$9,'15) Calculations'!$C21:$I21))","v":0},{"$f":"IF('15) Engines'!AR15<>\"\",'15) Engines'!AR15,LOOKUP('15) Calculations'!L$84,'15) Calculations'!$C$9:$I$9,'15) Calculations'!$C21:$I21))","v":0},null,"Arsenic compounds",null,0,0,0,0,0,0,0,0,0,0,0,null,"Arsenic compounds",null,0,0,0,0,0,0,0,0,0,0,0]
["Benzene",null,{"$f":"IF('15) Engines'!AI16<>\"\",'15) Engines'!AI16,LOOKUP('15) Calculations'!C$84,'15) Calculations'!$C$9:$I$9,'15) Calculations'!$C22:$I22))","v":4.4000000000000002E-4},{"$f":"IF('15) Engines'!AJ16<>\"\",'15) Engines'!AJ16,LOOKUP('15) Calculations'!D$84,'15) Calculations'!$C$9:$I$9,'15) Calculations'!$C22:$I22))","v":4.4000000000000002E-4},{"$f":"IF('15) Engines'!AK16<>\"\",'15) Engines'!AK16,LOOKUP('15) Calculations'!E$84,'15) Calculations'!$C$9:$I$9,'15) Calculations'!$C22:$I22))","v":4.4000000000000002E-4},{"$f":"IF('15) Engines'!AL16<>\"\",'15) Engines'!AL16,LOOKUP('15) Calculations'!F$84,'15) Calculations'!$C$9:$I$9,'15) Calculations'!$C22:$I22))","v":4.4000000000000002E-4},{"$f":"IF('15) Engines'!AM16<>\"\",'15) Engines'!AM16,LOOKUP('15) Calculations'!G$84,'15) Calculations'!$C$9:$I$9,'15) Calculations'!$C22:$I22))","v":4.4000000000000002E-4},{"$f":"IF('15) Engines'!AN16<>\"\",'15) Engines'!AN16,LOOKUP('15) Calculations'!H$84,'15) Calculations'!$C$9:$I$9,'15) Calculations'!$C22:$I22))","v":4.4000000000000002E-4},{"$f":"IF('15) Engines'!AO16<>\"\",'15) Engines'!AO16,LOOKUP('15) Calculations'!I$84,'15) Calculations'!$C$9:$I$9,'15) Calculations'!$C22:$I22))","v":4.4000000000000002E-4},{"$f":"IF('15) Engines'!AP16<>\"\",'15) Engines'!AP16,LOOKUP('15) Calculations'!J$84,'15) Calculations'!$C$9:$I$9,'15) Calculations'!$C22:$I22))","v":4.4000000000000002E-4},{"$f":"IF('15) Engines'!AQ16<>\"\",'15) Engines'!AQ16,LOOKUP('15) Calculations'!K$84,'15) Calculations'!$C$9:$I$9,'15) Calculations'!$C22:$I22))","v":4.4000000000000002E-4},{"$f":"IF('15) Engines'!AR16<>\"\",'15) Engines'!AR16,LOOKUP('15) Calculations'!L$84,'15) Calculations'!$C$9:$I$9,'15) Calculations'!$C22:$I22))","v":4.4000000000000002E-4},null,"Benzene",null,0,0,0,0,0,0,0,0,0,0,0,null,"Benzene",null,0,0,0,0,0,0,0,0,0,0,0]
["Benzyl chloride",null,{"$f":"IF('15) Engines'!AI17<>\"\",'15) Engines'!AI17,LOOKUP('15) Calculations'!C$84,'15) Calculations'!$C$9:$I$9,'15) Calculations'!$C23:$I23))","v":0},{"$f":"IF('15) Engines'!AJ17<>\"\",'15) Engines'!AJ17,LOOKUP('15) Calculations'!D$84,'15) Calculations'!$C$9:$I$9,'15) Calculations'!$C23:$I23))","v":0},{"$f":"IF('15) Engines'!AK17<>\"\",'15) Engines'!AK17,LOOKUP('15) Calculations'!E$84,'15) Calculations'!$C$9:$I$9,'15) Calculations'!$C23:$I23))","v":0},{"$f":"IF('15) Engines'!AL17<>\"\",'15) Engines'!AL17,LOOKUP('15) Calculations'!F$84,'15) Calculations'!$C$9:$I$9,'15) Calculations'!$C23:$I23))","v":0},{"$f":"IF('15) Engines'!AM17<>\"\",'15) Engines'!AM17,LOOKUP('15) Calculations'!G$84,'15) Calculations'!$C$9:$I$9,'15) Calculations'!$C23:$I23))","v":0},{"$f":"IF('15) Engines'!AN17<>\"\",'15) Engines'!AN17,LOOKUP('15) Calculations'!H$84,'15) Calculations'!$C$9:$I$9,'15) Calculations'!$C23:$I23))","v":0},{"$f":"IF('15) Engines'!AO17<>\"\",'15) Engines'!AO17,LOOKUP('15) Calculations'!I$84,'15) Calculations'!$C$9:$I$9,'15) Calculations'!$C23:$I23))","v":0},{"$f":"IF('15) Engines'!AP17<>\"\",'15) Engines'!AP17,LOOKUP('15) Calculations'!J$84,'15) Calculations'!$C$9:$I$9,'15) Calculations'!$C23:$I23))","v":0},{"$f":"IF('15) Engines'!AQ17<>\"\",'15) Engines'!AQ17,LOOKUP('15) Calculations'!K$84,'15) Calculations'!$C$9:$I$9,'15) Calculations'!$C23:$I23))","v":0},{"$f":"IF('15) Engines'!AR17<>\"\",'15) Engines'!AR17,LOOKUP('15) Calculations'!L$84,'15) Calculations'!$C$9:$I$9,'15) Calculations'!$C23:$I23))","v":0},null,"Benzyl chloride",null,0,0,0,0,0,0,0,0,0,0,0,null,"Benzyl chloride",null,0,0,0,0,0,0,0,0,0,0,0]
["Beryllium compounds",null,{"$f":"IF('15) Engines'!AI18<>\"\",'15) Engines'!AI18,LOOKUP('15) Calculations'!C$84,'15) Calculations'!$C$9:$I$9,'15) Calculations'!$C24:$I24))","v":0},{"$f":"IF('15) Engines'!AJ18<>\"\",'15) Engines'!AJ18,LOOKUP('15) Calculations'!D$84,'15) Calculations'!$C$9:$I$9,'15) Calculations'!$C24:$I24))","v":0},{"$f":"IF('15) Engines'!AK18<>\"\",'15) Engines'!AK18,LOOKUP('15) Calculations'!E$84,'15) Calculations'!$C$9:$I$9,'15) Calculations'!$C24:$I24))","v":0},{"$f":"IF('15) Engines'!AL18<>\"\",'15) Engines'!AL18,LOOKUP('15) Calculations'!F$84,'15) Calculations'!$C$9:$I$9,'15) Calculations'!$C24:$I24))","v":0},{"$f":"IF('15) Engines'!AM18<>\"\",'15) Engines'!AM18,LOOKUP('15) Calculations'!G$84,'15) Calculations'!$C$9:$I$9,'15) Calculations'!$C24:$I24))","v":0},{"$f":"IF('15) Engines'!AN18<>\"\",'15) Engines'!AN18,LOOKUP('15) Calculations'!H$84,'15) Calculations'!$C$9:$I$9,'15) Calculations'!$C24:$I24))","v":0},{"$f":"IF('15) Engines'!AO18<>\"\",'15) Engines'!AO18,LOOKUP('15) Calculations'!I$84,'15) Calculations'!$C$9:$I$9,'15) Calculations'!$C24:$I24))","v":0},{"$f":"IF('15) Engines'!AP18<>\"\",'15) Engines'!AP18,LOOKUP('15) Calculations'!J$84,'15) Calculations'!$C$9:$I$9,'15) Calculations'!$C24:$I24))","v":0},{"$f":"IF('15) Engines'!AQ18<>\"\",'15) Engines'!AQ18,LOOKUP('15) Calculations'!K$84,'15) Calculations'!$C$9:$I$9,'15) Calculations'!$C24:$I24))","v":0},{"$f":"IF('15) Engines'!AR18<>\"\",'15) Engines'!AR18,LOOKUP('15) Calculations'!L$84,'15) Calculations'!$C$9:$I$9,'15) Calculations'!$C24:$I24))","v":0},null,"Beryllium compounds",null,0,0,0,0,0,0,0,0,0,0,0,null,"Beryllium compounds",null,0,0,0,0,0,0,0,0,0,0,0]
["Cadmium compounds",null,{"$f":"IF('15) Engines'!AI19<>\"\",'15) Engines'!AI19,LOOKUP('15) Calculations'!C$84,'15) Calculations'!$C$9:$I$9,'15) Calculations'!$C25:$I25))","v":0},{"$f":"IF('15) Engines'!AJ19<>\"\",'15) Engines'!AJ19,LOOKUP('15) Calculations'!D$84,'15) Calculations'!$C$9:$I$9,'15) Calculations'!$C25:$I25))","v":0},{"$f":"IF('15) Engines'!AK19<>\"\",'15) Engines'!AK19,LOOKUP('15) Calculations'!E$84,'15) Calculations'!$C$9:$I$9,'15) Calculations'!$C25:$I25))","v":0},{"$f":"IF('15) Engines'!AL19<>\"\",'15) Engines'!AL19,LOOKUP('15) Calculations'!F$84,'15) Calculations'!$C$9:$I$9,'15) Calculations'!$C25:$I25))","v":0},{"$f":"IF('15) Engines'!AM19<>\"\",'15) Engines'!AM19,LOOKUP('15) Calculations'!G$84,'15) Calculations'!$C$9:$I$9,'15) Calculations'!$C25:$I25))","v":0},{"$f":"IF('15) Engines'!AN19<>\"\",'15) Engines'!AN19,LOOKUP('15) Calculations'!H$84,'15) Calculations'!$C$9:$I$9,'15) Calculations'!$C25:$I25))","v":0},{"$f":"IF('15) Engines'!AO19<>\"\",'15) Engines'!AO19,LOOKUP('15) Calculations'!I$84,'15) Calculations'!$C$9:$I$9,'15) Calculations'!$C25:$I25))","v":0},{"$f":"IF('15) Engines'!AP19<>\"\",'15) Engines'!AP19,LOOKUP('15) Calculations'!J$84,'15) Calculations'!$C$9:$I$9,'15) Calculations'!$C25:$I25))","v":0},{"$f":"IF('15) Engines'!AQ19<>\"\",'15) Engines'!AQ19,LOOKUP('15) Calculations'!K$84,'15) Calculations'!$C$9:$I$9,'15) Calculations'!$C25:$I25))","v":0},{"$f":"IF('15) Engines'!AR19<>\"\",'15) Engines'!AR19,LOOKUP('15) Calculations'!L$84,'15) Calculations'!$C$9:$I$9,'15) Calculations'!$C25:$I25))","v":0},null,"Cadmium compounds",null,0,0,0,0,0,0,0,0,0,0,0,null,"Cadmium compounds",null,0,0,0,0,0,0,0,0,0,0,0]
["Cyanide compounds",null,{"$f":"IF('15) Engines'!AI20<>\"\",'15) Engines'!AI20,LOOKUP('15) Calculations'!C$84,'15) Calculations'!$C$9:$I$9,'15) Calculations'!$C26:$I26))","v":0},{"$f":"IF('15) Engines'!AJ20<>\"\",'15) Engines'!AJ20,LOOKUP('15) Calculations'!D$84,'15) Calculations'!$C$9:$I$9,'15) Calculations'!$C26:$I26))","v":0},{"$f":"IF('15) Engines'!AK20<>\"\",'15) Engines'!AK20,LOOKUP('15) Calculations'!E$84,'15) Calculations'!$C$9:$I$9,'15) Calculations'!$C26:$I26))","v":0},{"$f":"IF('15) Engines'!AL20<>\"\",'15) Engines'!AL20,LOOKUP('15) Calculations'!F$84,'15) Calculations'!$C$9:$I$9,'15) Calculations'!$C26:$I26))","v":0},{"$f":"IF('15) Engines'!AM20<>\"\",'15) Engines'!AM20,LOOKUP('15) Calculations'!G$84,'15) Calculations'!$C$9:$I$9,'15) Calculations'!$C26:$I26))","v":0},{"$f":"IF('15) Engines'!AN20<>\"\",'15) Engines'!AN20,LOOKUP('15) Calculations'!H$84,'15) Calculations'!$C$9:$I$9,'15) Calculations'!$C26:$I26))","v":0},{"$f":"IF('15) Engines'!AO20<>\"\",'15) Engines'!AO20,LOOKUP('15) Calculations'!I$84,'15) Calculations'!$C$9:$I$9,'15) Calculations'!$C26:$I26))","v":0},{"$f":"IF('15) Engines'!AP20<>\"\",'15) Engines'!AP20,LOOKUP('15) Calculations'!J$84,'15) Calculations'!$C$9:$I$9,'15) Calculations'!$C26:$I26))","v":0},{"$f":"IF('15) Engines'!AQ20<>\"\",'15) Engines'!AQ20,LOOKUP('15) Calculations'!K$84,'15) Calculations'!$C$9:$I$9,'15) Calculations'!$C26:$I26))","v":0},{"$f":"IF('15) Engines'!AR20<>\"\",'15) Engines'!AR20,LOOKUP('15) Calculations'!L$84,'15) Calculations'!$C$9:$I$9,'15) Calculations'!$C26:$I26))","v":0},null,"Cyanide compounds",null,0,0,0,0,0,0,0,0,0,0,0,null,"Cyanide compounds",null,0,0,0,0,0,0,0,0,0,0,0]
["Formaldehyde",null,{"$f":"IF('15) Engines'!AI21<>\"\",'15) Engines'!AI21,LOOKUP('15) Calculations'!C$84,'15) Calculations'!$C$9:$I$9,'15) Calculations'!$C27:$I27))","v":5.28E-2},{"$f":"IF('15) Engines'!AJ21<>\"\",'15) Engines'!AJ21,LOOKUP('15) Calculations'!D$84,'15) Calculations'!$C$9:$I$9,'15) Calculations'!$C27:$I27))","v":5.28E-2},{"$f":"IF('15) Engines'!AK21<>\"\",'15) Engines'!AK21,LOOKUP('15) Calculations'!E$84,'15) Calculations'!$C$9:$I$9,'15) Calculations'!$C27:$I27))","v":5.28E-2},{"$f":"IF('15) Engines'!AL21<>\"\",'15) Engines'!AL21,LOOKUP('15) Calculations'!F$84,'15) Calculations'!$C$9:$I$9,'15) Calculations'!$C27:$I27))","v":5.28E-2},{"$f":"IF('15) Engines'!AM21<>\"\",'15) Engines'!AM21,LOOKUP('15) Calculations'!G$84,'15) Calculations'!$C$9:$I$9,'15) Calculations'!$C27:$I27))","v":5.28E-2},{"$f":"IF('15) Engines'!AN21<>\"\",'15) Engines'!AN21,LOOKUP('15) Calculations'!H$84,'15) Calculations'!$C$9:$I$9,'15) Calculations'!$C27:$I27))","v":5.28E-2},{"$f":"IF('15) Engines'!AO21<>\"\",'15) Engines'!AO21,LOOKUP('15) Calculations'!I$84,'15) Calculations'!$C$9:$I$9,'15) Calculations'!$C27:$I27))","v":5.28E-2},{"$f":"IF('15) Engines'!AP21<>\"\",'15) Engines'!AP21,LOOKUP('15) Calculations'!J$84,'15) Calculations'!$C$9:$I$9,'15) Calculations'!$C27:$I27))","v":5.28E-2},{"$f":"IF('15) Engines'!AQ21<>\"\",'15) Engines'!AQ21,LOOKUP('15) Calculations'!K$84,'15) Calculations'!$C$9:$I$9,'15) Calculations'!$C27:$I27))","v":5.28E-2},{"$f":"IF('15) Engines'!AR21<>\"\",'15) Engines'!AR21,LOOKUP('15) Calculations'!L$84,'15) Calculations'!$C$9:$I$9,'15) Calculations'!$C27:$I27))","v":5.28E-2},null,"Formaldehyde",null,0,0,0,0,0,0,0,0,0,0,0,null,"Formaldehyde",null,0,0,0,0,0,0,0,0,0,0,0]
["n-Hexane",null,{"$f":"IF('15) Engines'!AI22<>\"\",'15) Engines'!AI22,LOOKUP('15) Calculations'!C$84,'15) Calculations'!$C$9:$I$9,'15) Calculations'!$C28:$I28))","v":1.1100000000000001E-3},{"$f":"IF('15) Engines'!AJ22<>\"\",'15) Engines'!AJ22,LOOKUP('15) Calculations'!D$84,'15) Calculations'!$C$9:$I$9,'15) Calculations'!$C28:$I28))","v":1.1100000000000001E-3},{"$f":"IF('15) Engines'!AK22<>\"\",'15) Engines'!AK22,LOOKUP('15) Calculations'!E$84,'15) Calculations'!$C$9:$I$9,'15) Calculations'!$C28:$I28))","v":1.1100000000000001E-3},{"$f":"IF('15) Engines'!AL22<>\"\",'15) Engines'!AL22,LOOKUP('15) Calculations'!F$84,'15) Calculations'!$C$9:$I$9,'15) Calculations'!$C28:$I28))","v":1.1100000000000001E-3},{"$f":"IF('15) Engines'!AM22<>\"\",'15) Engines'!AM22,LOOKUP('15) Calculations'!G$84,'15) Calculations'!$C$9:$I$9,'15) Calculations'!$C28:$I28))","v":1.1100000000000001E-3},{"$f":"IF('15) Engines'!AN22<>\"\",'15) Engines'!AN22,LOOKUP('15) Calculations'!H$84,'15) Calculations'!$C$9:$I$9,'15) Calculations'!$C28:$I28))","v":1.1100000000000001E-3},{"$f":"IF('15) Engines'!AO22<>\"\",'15) Engines'!AO22,LOOKUP('15) Calculations'!I$84,'15) Calculations'!$C$9:$I$9,'15) Calculations'!$C28:$I28))","v":1.1100000000000001E-3},{"$f":"IF('15) Engines'!AP22<>\"\",'15) Engines'!AP22,LOOKUP('15) Calculations'!J$84,'15) Calculations'!$C$9:$I$9,'15) Calculations'!$C28:$I28))","v":1.1100000000000001E-3},{"$f":"IF('15) Engines'!AQ22<>\"\",'15) Engines'!AQ22,LOOKUP('15) Calculations'!K$84,'15) Calculations'!$C$9:$I$9,'15) Calculations'!$C28:$I28))","v":1.1100000000000001E-3},{"$f":"IF('15) Engines'!AR22<>\"\",'15) Engines'!AR22,LOOKUP('15) Calculations'!L$84,'15) Calculations'!$C$9:$I$9,'15) Calculations'!$C28:$I28))","v":1.1100000000000001E-3},null,"n-Hexane",null,0,0,0,0,0,0,0,0,0,0,0,null,"n-Hexane",null,0,0,0,0,0,0,0,0,0,0,0]
["Hydrochloric acid",null,{"$f":"IF('15) Engines'!AI23<>\"\",'15) Engines'!AI23,LOOKUP('15) Calculations'!C$84,'15) Calculations'!$C$9:$I$9,'15) Calculations'!$C29:$I29))","v":0},{"$f":"IF('15) Engines'!AJ23<>\"\",'15) Engines'!AJ23,LOOKUP('15) Calculations'!D$84,'15) Calculations'!$C$9:$I$9,'15) Calculations'!$C29:$I29))","v":0},{"$f":"IF('15) Engines'!AK23<>\"\",'15) Engines'!AK23,LOOKUP('15) Calculations'!E$84,'15) Calculations'!$C$9:$I$9,'15) Calculations'!$C29:$I29))","v":0},{"$f":"IF('15) Engines'!AL23<>\"\",'15) Engines'!AL23,LOOKUP('15) Calculations'!F$84,'15) Calculations'!$C$9:$I$9,'15) Calculations'!$C29:$I29))","v":0},{"$f":"IF('15) Engines'!AM23<>\"\",'15) Engines'!AM23,LOOKUP('15) Calculations'!G$84,'15) Calculations'!$C$9:$I$9,'15) Calculations'!$C29:$I29))","v":0},{"$f":"IF('15) Engines'!AN23<>\"\",'15) Engines'!AN23,LOOKUP('15) Calculations'!H$84,'15) Calculations'!$C$9:$I$9,'15) Calculations'!$C29:$I29))","v":0},{"$f":"IF('15) Engines'!AO23<>\"\",'15) Engines'!AO23,LOOKUP('15) Calculations'!I$84,'15) Calculations'!$C$9:$I$9,'15) Calculations'!$C29:$I29))","v":0},{"$f":"IF('15) Engines'!AP23<>\"\",'15) Engines'!AP23,LOOKUP('15) Calculations'!J$84,'15) Calculations'!$C$9:$I$9,'15) Calculations'!$C29:$I29))","v":0},{"$f":"IF('15) Engines'!AQ23<>\"\",'15) Engines'!AQ23,LOOKUP('15) Calculations'!K$84,'15) Calculations'!$C$9:$I$9,'15) Calculations'!$C29:$I29))","v":0},{"$f":"IF('15) Engines'!AR23<>\"\",'15) Engines'!AR23,LOOKUP('15) Calculations'!L$84,'15) Calculations'!$C$9:$I$9,'15) Calculations'!$C29:$I29))","v":0},null,"Hydrochloric acid",null,0,0,0,0,0,0,0,0,0,0,0,null,"Hydrochloric acid",null,0,0,0,0,0,0,0,0,0,0,0]
["Lead Compounds",null,{"$f":"IF('15) Engines'!AI24<>\"\",'15) Engines'!AI24,LOOKUP('15) Calculations'!C$84,'15) Calculations'!$C$9:$I$9,'15) Calculations'!$C30:$I30))","v":0},{"$f":"IF('15) Engines'!AJ24<>\"\",'15) Engines'!AJ24,LOOKUP('15) Calculations'!D$84,'15) Calculations'!$C$9:$I$9,'15) Calculations'!$C30:$I30))","v":0},{"$f":"IF('15) Engines'!AK24<>\"\",'15) Engines'!AK24,LOOKUP('15) Calculations'!E$84,'15) Calculations'!$C$9:$I$9,'15) Calculations'!$C30:$I30))","v":0},{"$f":"IF('15) Engines'!AL24<>\"\",'15) Engines'!AL24,LOOKUP('15) Calculations'!F$84,'15) Calculations'!$C$9:$I$9,'15) Calculations'!$C30:$I30))","v":0},{"$f":"IF('15) Engines'!AM24<>\"\",'15) Engines'!AM24,LOOKUP('15) Calculations'!G$84,'15) Calculations'!$C$9:$I$9,'15) Calculations'!$C30:$I30))","v":0},{"$f":"IF('15) Engines'!AN24<>\"\",'15) Engines'!AN24,LOOKUP('15) Calculations'!H$84,'15) Calculations'!$C$9:$I$9,'15) Calculations'!$C30:$I30))","v":0},{"$f":"IF('15) Engines'!AO24<>\"\",'15) Engines'!AO24,LOOKUP('15) Calculations'!I$84,'15) Calculations'!$C$9:$I$9,'15) Calculations'!$C30:$I30))","v":0},{"$f":"IF('15) Engines'!AP24<>\"\",'15) Engines'!AP24,LOOKUP('15) Calculations'!J$84,'15) Calculations'!$C$9:$I$9,'15) Calculations'!$C30:$I30))","v":0},{"$f":"IF('15) Engines'!AQ24<>\"\",'15) Engines'!AQ24,LOOKUP('15) Calculations'!K$84,'15) Calculations'!$C$9:$I$9,'15) Calculations'!$C30:$I30))","v":0},{"$f":"IF('15) Engines'!AR24<>\"\",'15) Engines'!AR24,LOOKUP('15) Calculations'!L$84,'15) Calculations'!$C$9:$I$9,'15) Calculations'!$C30:$I30))","v":0},null,"Lead Compounds",null,0,0,0,0,0,0,0,0,0,0,0,null,"Lead Compounds",null,0,0,0,0,0,0,0,0,0,0,0]
["Mercury compounds",null,{"$f":"IF('15) Engines'!AI25<>\"\",'15) Engines'!AI25,LOOKUP('15) Calculations'!C$84,'15) Calculations'!$C$9:$I$9,'15) Calculations'!$C31:$I31))","v":0},{"$f":"IF('15) Engines'!AJ25<>\"\",'15) Engines'!AJ25,LOOKUP('15) Calculations'!D$84,'15) Calculations'!$C$9:$I$9,'15) Calculations'!$C31:$I31))","v":0},{"$f":"IF('15) Engines'!AK25<>\"\",'15) Engines'!AK25,LOOKUP('15) Calculations'!E$84,'15) Calculations'!$C$9:$I$9,'15) Calculations'!$C31:$I31))","v":0},{"$f":"IF('15) Engines'!AL25<>\"\",'15) Engines'!AL25,LOOKUP('15) Calculations'!F$84,'15) Calculations'!$C$9:$I$9,'15) Calculations'!$C31:$I31))","v":0},{"$f":"IF('15) Engines'!AM25<>\"\",'15) Engines'!AM25,LOOKUP('15) Calculations'!G$84,'15) Calculations'!$C$9:$I$9,'15) Calculations'!$C31:$I31))","v":0},{"$f":"IF('15) Engines'!AN25<>\"\",'15) Engines'!AN25,LOOKUP('15) Calculations'!H$84,'15) Calculations'!$C$9:$I$9,'15) Calculations'!$C31:$I31))","v":0},{"$f":"IF('15) Engines'!AO25<>\"\",'15) Engines'!AO25,LOOKUP('15) Calculations'!I$84,'15) Calculations'!$C$9:$I$9,'15) Calculations'!$C31:$I31))","v":0},{"$f":"IF('15) Engines'!AP25<>\"\",'15) Engines'!AP25,LOOKUP('15) Calculations'!J$84,'15) Calculations'!$C$9:$I$9,'15) Calculations'!$C31:$I31))","v":0},{"$f":"IF('15) Engines'!AQ25<>\"\",'15) Engines'!AQ25,LOOKUP('15) Calculations'!K$84,'15) Calculations'!$C$9:$I$9,'15) Calculations'!$C31:$I31))","v":0},{"$f":"IF('15) Engines'!AR25<>\"\",'15) Engines'!AR25,LOOKUP('15) Calculations'!L$84,'15) Calculations'!$C$9:$I$9,'15) Calculations'!$C31:$I31))","v":0},null,"Mercury compounds",null,0,0,0,0,0,0,0,0,0,0,0,null,"Mercury compounds",null,0,0,0,0,0,0,0,0,0,0,0]
["Methanol",null,{"$f":"IF('15) Engines'!AI26<>\"\",'15) Engines'!AI26,LOOKUP('15) Calculations'!C$84,'15) Calculations'!$C$9:$I$9,'15) Calculations'!$C32:$I32))","v":2.5000000000000001E-3},{"$f":"IF('15) Engines'!AJ26<>\"\",'15) Engines'!AJ26,LOOKUP('15) Calculations'!D$84,'15) Calculations'!$C$9:$I$9,'15) Calculations'!$C32:$I32))","v":2.5000000000000001E-3},{"$f":"IF('15) Engines'!AK26<>\"\",'15) Engines'!AK26,LOOKUP('15) Calculations'!E$84,'15) Calculations'!$C$9:$I$9,'15) Calculations'!$C32:$I32))","v":2.5000000000000001E-3},{"$f":"IF('15) Engines'!AL26<>\"\",'15) Engines'!AL26,LOOKUP('15) Calculations'!F$84,'15) Calculations'!$C$9:$I$9,'15) Calculations'!$C32:$I32))","v":2.5000000000000001E-3},{"$f":"IF('15) Engines'!AM26<>\"\",'15) Engines'!AM26,LOOKUP('15) Calculations'!G$84,'15) Calculations'!$C$9:$I$9,'15) Calculations'!$C32:$I32))","v":2.5000000000000001E-3},{"$f":"IF('15) Engines'!AN26<>\"\",'15) Engines'!AN26,LOOKUP('15) Calculations'!H$84,'15) Calculations'!$C$9:$I$9,'15) Calculations'!$C32:$I32))","v":2.5000000000000001E-3},{"$f":"IF('15) Engines'!AO26<>\"\",'15) Engines'!AO26,LOOKUP('15) Calculations'!I$84,'15) Calculations'!$C$9:$I$9,'15) Calculations'!$C32:$I32))","v":2.5000000000000001E-3},{"$f":"IF('15) Engines'!AP26<>\"\",'15) Engines'!AP26,LOOKUP('15) Calculations'!J$84,'15) Calculations'!$C$9:$I$9,'15) Calculations'!$C32:$I32))","v":2.5000000000000001E-3},{"$f":"IF('15) Engines'!AQ26<>\"\",'15) Engines'!AQ26,LOOKUP('15) Calculations'!K$84,'15) Calculations'!$C$9:$I$9,'15) Calculations'!$C32:$I32))","v":2.5000000000000001E-3},{"$f":"IF('15) Engines'!AR26<>\"\",'15) Engines'!AR26,LOOKUP('15) Calculations'!L$84,'15) Calculations'!$C$9:$I$9,'15) Calculations'!$C32:$I32))","v":2.5000000000000001E-3},null,"Methanol",null,0,0,0,0,0,0,0,0,0,0,0,null,"Methanol",null,0,0,0,0,0,0,0,0,0,0,0]
["Methyl hydrazine",null,{"$f":"IF('15) Engines'!AI27<>\"\",'15) Engines'!AI27,LOOKUP('15) Calculations'!C$84,'15) Calculations'!$C$9:$I$9,'15) Calculations'!$C33:$I33))","v":0},{"$f":"IF('15) Engines'!AJ27<>\"\",'15) Engines'!AJ27,LOOKUP('15) Calculations'!D$84,'15) Calculations'!$C$9:$I$9,'15) Calculations'!$C33:$I33))","v":0},{"$f":"IF('15) Engines'!AK27<>\"\",'15) Engines'!AK27,LOOKUP('15) Calculations'!E$84,'15) Calculations'!$C$9:$I$9,'15) Calculations'!$C33:$I33))","v":0},{"$f":"IF('15) Engines'!AL27<>\"\",'15) Engines'!AL27,LOOKUP('15) Calculations'!F$84,'15) Calculations'!$C$9:$I$9,'15) Calculations'!$C33:$I33))","v":0},{"$f":"IF('15) Engines'!AM27<>\"\",'15) Engines'!AM27,LOOKUP('15) Calculations'!G$84,'15) Calculations'!$C$9:$I$9,'15) Calculations'!$C33:$I33))","v":0},{"$f":"IF('15) Engines'!AN27<>\"\",'15) Engines'!AN27,LOOKUP('15) Calculations'!H$84,'15) Calculations'!$C$9:$I$9,'15) Calculations'!$C33:$I33))","v":0},{"$f":"IF('15) Engines'!AO27<>\"\",'15) Engines'!AO27,LOOKUP('15) Calculations'!I$84,'15) Calculations'!$C$9:$I$9,'15) Calculations'!$C33:$I33))","v":0},{"$f":"IF('15) Engines'!AP27<>\"\",'15) Engines'!AP27,LOOKUP('15) Calculations'!J$84,'15) Calculations'!$C$9:$I$9,'15) Calculations'!$C33:$I33))","v":0},{"$f":"IF('15) Engines'!AQ27<>\"\",'15) Engines'!AQ27,LOOKUP('15) Calculations'!K$84,'15) Calculations'!$C$9:$I$9,'15) Calculations'!$C33:$I33))","v":0},{"$f":"IF('15) Engines'!AR27<>\"\",'15) Engines'!AR27,LOOKUP('15) Calculations'!L$84,'15) Calculations'!$C$9:$I$9,'15) Calculations'!$C33:$I33))","v":0},null,"Methyl hydrazine",null,0,0,0,0,0,0,0,0,0,0,0,null,"Methyl hydrazine",null,0,0,0,0,0,0,0,0,0,0,0]
["Selenium compounds",null,{"$f":"IF('15) Engines'!AI28<>\"\",'15) Engines'!AI28,LOOKUP('15) Calculations'!C$84,'15) Calculations'!$C$9:$I$9,'15) Calculations'!$C34:$I34))","v":0},{"$f":"IF('15) Engines'!AJ28<>\"\",'15) Engines'!AJ28,LOOKUP('15) Calculations'!D$84,'15) Calculations'!$C$9:$I$9,'15) Calculations'!$C34:$I34))","v":0},{"$f":"IF('15) Engines'!AK28<>\"\",'15) Engines'!AK28,LOOKUP('15) Calculations'!E$84,'15) Calculations'!$C$9:$I$9,'15) Calculations'!$C34:$I34))","v":0},{"$f":"IF('15) Engines'!AL28<>\"\",'15) Engines'!AL28,LOOKUP('15) Calculations'!F$84,'15) Calculations'!$C$9:$I$9,'15) Calculations'!$C34:$I34))","v":0},{"$f":"IF('15) Engines'!AM28<>\"\",'15) Engines'!AM28,LOOKUP('15) Calculations'!G$84,'15) Calculations'!$C$9:$I$9,'15) Calculations'!$C34:$I34))","v":0},{"$f":"IF('15) Engines'!AN28<>\"\",'15) Engines'!AN28,LOOKUP('15) Calculations'!H$84,'15) Calculations'!$C$9:$I$9,'15) Calculations'!$C34:$I34))","v":0},{"$f":"IF('15) Engines'!AO28<>\"\",'15) Engines'!AO28,LOOKUP('15) Calculations'!I$84,'15) Calculations'!$C$9:$I$9,'15) Calculations'!$C34:$I34))","v":0},{"$f":"IF('15) Engines'!AP28<>\"\",'15) Engines'!AP28,LOOKUP('15) Calculations'!J$84,'15) Calculations'!$C$9:$I$9,'15) Calculations'!$C34:$I34))","v":0},{"$f":"IF('15) Engines'!AQ28<>\"\",'15) Engines'!AQ28,LOOKUP('15) Calculations'!K$84,'15) Calculations'!$C$9:$I$9,'15) Calculations'!$C34:$I34))","v":0},{"$f":"IF('15) Engines'!AR28<>\"\",'15) Engines'!AR28,LOOKUP('15) Calculations'!L$84,'15) Calculations'!$C$9:$I$9,'15) Calculations'!$C34:$I34))","v":0},null,"Selenium compounds",null,0,0,0,0,0,0,0,0,0,0,0,null,"Selenium compounds",null,0,0,0,0,0,0,0,0,0,0,0]
["Other HAPs",null,{"$f":"IF('15) Engines'!AI29<>\"\",'15) Engines'!AI29,LOOKUP('15) Calculations'!C$84,'15) Calculations'!$C$9:$I$9,'15) Calculations'!$C35:$I35))","v":6.1645600000000012E-3},{"$f":"IF('15) Engines'!AJ29<>\"\",'15) Engines'!AJ29,LOOKUP('15) Calculations'!D$84,'15) Calculations'!$C$9:$I$9,'15) Calculations'!$C35:$I35))","v":6.1645600000000012E-3},{"$f":"IF('15) Engines'!AK29<>\"\",'15) Engines'!AK29,LOOKUP('15) Calculations'!E$84,'15) Calculations'!$C$9:$I$9,'15) Calculations'!$C35:$I35))","v":6.1645600000000012E-3},{"$f":"IF('15) Engines'!AL29<>\"\",'15) Engines'!AL29,LOOKUP('15) Calculations'!F$84,'15) Calculations'!$C$9:$I$9,'15) Calculations'!$C35:$I35))","v":6.1645600000000012E-3},{"$f":"IF('15) Engines'!AM29<>\"\",'15) Engines'!AM29,LOOKUP('15) Calculations'!G$84,'15) Calculations'!$C$9:$I$9,'15) Calculations'!$C35:$I35))","v":6.1645600000000012E-3},{"$f":"IF('15) Engines'!AN29<>\"\",'15) Engines'!AN29,LOOKUP('15) Calculations'!H$84,'15) Calculations'!$C$9:$I$9,'15) Calculations'!$C35:$I35))","v":6.1645600000000012E-3},{"$f":"IF('15) Engines'!AO29<>\"\",'15) Engines'!AO29,LOOKUP('15) Calculations'!I$84,'15) Calculations'!$C$9:$I$9,'15) Calculations'!$C35:$I35))","v":6.1645600000000012E-3},{"$f":"IF('15) Engines'!AP29<>\"\",'15) Engines'!AP29,LOOKUP('15) Calculations'!J$84,'15) Calculations'!$C$9:$I$9,'15) Calculations'!$C35:$I35))","v":6.1645600000000012E-3},{"$f":"IF('15) Engines'!AQ29<>\"\",'15) Engines'!AQ29,LOOKUP('15) Calculations'!K$84,'15) Calculations'!$C$9:$I$9,'15) Calculations'!$C35:$I35))","v":6.1645600000000012E-3},{"$f":"IF('15) Engines'!AR29<>\"\",'15) Engines'!AR29,LOOKUP('15) Calculations'!L$84,'15) Calculations'!$C$9:$I$9,'15) Calculations'!$C35:$I35))","v":6.1645600000000012E-3},null,"Other HAPs",null,0,0,0,0,0,0,0,0,0,0,0,null,"Other HAPs",null,0,0,0,0,0,0,0,0,0,0,0]
["Total HAPs",null,{"$f":"IF('15) Engines'!AI30<>\"\",'15) Engines'!AI30,LOOKUP('15) Calculations'!C$84,'15) Calculations'!$C$9:$I$9,'15) Calculations'!$C36:$I36))","v":7.6514559999999995E-2},{"$f":"IF('15) Engines'!AJ30<>\"\",'15) Engines'!AJ30,LOOKUP('15) Calculations'!D$84,'15) Calculations'!$C$9:$I$9,'15) Calculations'!$C36:$I36))","v":7.6514559999999995E-2},{"$f":"IF('15) Engines'!AK30<>\"\",'15) Engines'!AK30,LOOKUP('15) Calculations'!E$84,'15) Calculations'!$C$9:$I$9,'15) Calculations'!$C36:$I36))","v":7.6514559999999995E-2},{"$f":"IF('15) Engines'!AL30<>\"\",'15) Engines'!AL30,LOOKUP('15) Calculations'!F$84,'15) Calculations'!$C$9:$I$9,'15) Calculations'!$C36:$I36))","v":7.6514559999999995E-2},{"$f":"IF('15) Engines'!AM30<>\"\",'15) Engines'!AM30,LOOKUP('15) Calculations'!G$84,'15) Calculations'!$C$9:$I$9,'15) Calculations'!$C36:$I36))","v":7.6514559999999995E-2},{"$f":"IF('15) Engines'!AN30<>\"\",'15) Engines'!AN30,LOOKUP('15) Calculations'!H$84,'15) Calculations'!$C$9:$I$9,'15) Calculations'!$C36:$I36))","v":7.6514559999999995E-2},{"$f":"IF('15) Engines'!AO30<>\"\",'15) Engines'!AO30,LOOKUP('15) Calculations'!I$84,'15) Calculations'!$C$9:$I$9,'15) Calculations'!$C36:$I36))","v":7.6514559999999995E-2},{"$f":"IF('15) Engines'!AP30<>\"\",'15) Engines'!AP30,LOOKUP('15) Calculations'!J$84,'15) Calculations'!$C$9:$I$9,'15) Calculations'!$C36:$I36))","v":7.6514559999999995E-2},{"$f":"IF('15) Engines'!AQ30<>\"\",'15) Engines'!AQ30,LOOKUP('15) Calculations'!K$84,'15) Calculations'!$C$9:$I$9,'15) Calculations'!$C36:$I36))","v":7.6514559999999995E-2},{"$f":"IF('15) Engines'!AR30<>\"\",'15) Engines'!AR30,LOOKUP('15) Calculations'!L$84,'15) Calculations'!$C$9:$I$9,'15) Calculations'!$C36:$I36))","v":7.6514559999999995E-2},null,"Total HAPs",null,0,0,0,0,0,0,0,0,0,0,0,null,"Total HAPs",null,0,0,0,0,0,0,0,0,0,0,0]
["Green House Gasses",null,null,null,null,null,null,null,null,null,null,null,null,"Green House Gasses",null,null,null,null,null,null,null,null,null,null,null,null,null,"Green House Gasses"]
["  Carbon Dioxide (CO2)",null,{"$f":"IF('15) Engines'!AI32<>\"\",'15) Engines'!AI32,LOOKUP('15) Calculations'!C$84,'15) Calculations'!$C$9:$I$9,'15) Calculations'!$C38:$I38))","v":53.06},{"$f":"IF('15) Engines'!AJ32<>\"\",'15) Engines'!AJ32,LOOKUP('15) Calculations'!D$84,'15) Calculations'!$C$9:$I$9,'15) Calculations'!$C38:$I38))","v":53.06},{"$f":"IF('15) Engines'!AK32<>\"\",'15) Engines'!AK32,LOOKUP('15) Calculations'!E$84,'15) Calculations'!$C$9:$I$9,'15) Calculations'!$C38:$I38))","v":53.06},{"$f":"IF('15) Engines'!AL32<>\"\",'15) Engines'!AL32,LOOKUP('15) Calculations'!F$84,'15) Calculations'!$C$9:$I$9,'15) Calculations'!$C38:$I38))","v":53.06},{"$f":"IF('15) Engines'!AM32<>\"\",'15) Engines'!AM32,LOOKUP('15) Calculations'!G$84,'15) Calculations'!$C$9:$I$9,'15) Calculations'!$C38:$I38))","v":53.06},{"$f":"IF('15) Engines'!AN32<>\"\",'15) Engines'!AN32,LOOKUP('15) Calculations'!H$84,'15) Calculations'!$C$9:$I$9,'15) Calculations'!$C38:$I38))","v":53.06},{"$f":"IF('15) Engines'!AO32<>\"\",'15) Engines'!AO32,LOOKUP('15) Calculations'!I$84,'15) Calculations'!$C$9:$I$9,'15) Calculations'!$C38:$I38))","v":53.06},{"$f":"IF('15) Engines'!AP32<>\"\",'15) Engines'!AP32,LOOKUP('15) Calculations'!J$84,'15) Calculations'!$C$9:$I$9,'15) Calculations'!$C38:$I38))","v":53.06},{"$f":"IF('15) Engines'!AQ32<>\"\",'15) Engines'!AQ32,LOOKUP('15) Calculations'!K$84,'15) Calculations'!$C$9:$I$9,'15) Calculations'!$C38:$I38))","v":53.06},{"$f":"IF('15) Engines'!AR32<>\"\",'15) Engines'!AR32,LOOKUP('15) Calculations'!L$84,'15) Calculations'!$C$9:$I$9,'15) Calculations'!$C38:$I38))","v":53.06},null,"  Carbon Dioxide (CO2)",null,{"$f":"C112*C$118*2.20462","v":0},{"$f":"D112*D$118*2.20462","v":0},0,0,0,0,0,0,0,0,{"$f":"SUM(P112:Y112)","v":0},null,"  Carbon Dioxide (CO2)",null,{"$f":"P112*C$119/2000","v":0},{"$f":"Q112*D$119/2000","v":0},{"$f":"R112*E$119/2000","v":0},{"$f":"S112*F$119/2000","v":0},{"$f":"T112*G$119/2000","v":0},{"$f":"U112*H$119/2000","v":0},{"$f":"V112*I$119/2000","v":0},{"$f":"W112*J$119/2000","v":0},{"$f":"X112*K$119/2000","v":0},{"$f":"Y112*L$119/2000","v":0},{"$f":"SUM(AD112:AM112)","v":0}]
["  Methane (CH4)",null,{"$f":"IF('15) Engines'!AI33<>\"\",'15) Engines'!AI33,LOOKUP('15) Calculations'!C$84,'15) Calculations'!$C$9:$I$9,'15) Calculations'!$C39:$I39))","v":1E-3},{"$f":"IF('15) Engines'!AJ33<>\"\",'15) Engines'!AJ33,LOOKUP('15) Calculations'!D$84,'15) Calculations'!$C$9:$I$9,'15) Calculations'!$C39:$I39))","v":1E-3},{"$f":"IF('15) Engines'!AK33<>\"\",'15) Engines'!AK33,LOOKUP('15) Calculations'!E$84,'15) Calculations'!$C$9:$I$9,'15) Calculations'!$C39:$I39))","v":1E-3},{"$f":"IF('15) Engines'!AL33<>\"\",'15) Engines'!AL33,LOOKUP('15) Calculations'!F$84,'15) Calculations'!$C$9:$I$9,'15) Calculations'!$C39:$I39))","v":1E-3},{"$f":"IF('15) Engines'!AM33<>\"\",'15) Engines'!AM33,LOOKUP('15) Calculations'!G$84,'15) Calculations'!$C$9:$I$9,'15) Calculations'!$C39:$I39))","v":1E-3},{"$f":"IF('15) Engines'!AN33<>\"\",'15) Engines'!AN33,LOOKUP('15) Calculations'!H$84,'15) Calculations'!$C$9:$I$9,'15) Calculations'!$C39:$I39))","v":1E-3},{"$f":"IF('15) Engines'!AO33<>\"\",'15) Engines'!AO33,LOOKUP('15) Calculations'!I$84,'15) Calculations'!$C$9:$I$9,'15) Calculations'!$C39:$I39))","v":1E-3},{"$f":"IF('15) Engines'!AP33<>\"\",'15) Engines'!AP33,LOOKUP('15) Calculations'!J$84,'15) Calculations'!$C$9:$I$9,'15) Calculations'!$C39:$I39))","v":1E-3},{"$f":"IF('15) Engines'!AQ33<>\"\",'15) Engines'!AQ33,LOOKUP('15) Calculations'!K$84,'15) Calculations'!$C$9:$I$9,'15) Calculations'!$C39:$I39))","v":1E-3},{"$f":"IF('15) Engines'!AR33<>\"\",'15) Engines'!AR33,LOOKUP('15) Calculations'!L$84,'15) Calculations'!$C$9:$I$9,'15) Calculations'!$C39:$I39))","v":1E-3},null,"  Methane (CH4)",null,{"$f":"C113*C$118*2.20462","v":0},{"$f":"D113*D$118*2.20462","v":0},{"$f":"E113*E$118*2.20462","v":0},{"$f":"F113*F$118*2.20462","v":0},{"$f":"G113*G$118*2.20462","v":0},{"$f":"H113*H$118*2.20462","v":0},{"$f":"I113*I$118*2.20462","v":0},{"$f":"J113*J$118*2.20462","v":0},{"$f":"K113*K$118*2.20462","v":0},{"$f":"L113*L$118*2.20462","v":0},0,null,"  Methane (CH4)",null,0,0,0,0,0,0,0,0,0,0,0]
["  Nitrous Oxide (N2O)",null,{"$f":"IF('15) Engines'!AI34<>\"\",'15) Engines'!AI34,LOOKUP('15) Calculations'!C$84,'15) Calculations'!$C$9:$I$9,'15) Calculations'!$C40:$I40))","v":1E-4},{"$f":"IF('15) Engines'!AJ34<>\"\",'15) Engines'!AJ34,LOOKUP('15) Calculations'!D$84,'15) Calculations'!$C$9:$I$9,'15) Calculations'!$C40:$I40))","v":1E-4},{"$f":"IF('15) Engines'!AK34<>\"\",'15) Engines'!AK34,LOOKUP('15) Calculations'!E$84,'15) Calculations'!$C$9:$I$9,'15) Calculations'!$C40:$I40))","v":1E-4},{"$f":"IF('15) Engines'!AL34<>\"\",'15) Engines'!AL34,LOOKUP('15) Calculations'!F$84,'15) Calculations'!$C$9:$I$9,'15) Calculations'!$C40:$I40))","v":1E-4},{"$f":"IF('15) Engines'!AM34<>\"\",'15) Engines'!AM34,LOOKUP('15) Calculations'!G$84,'15) Calculations'!$C$9:$I$9,'15) Calculations'!$C40:$I40))","v":1E-4},{"$f":"IF('15) Engines'!AN34<>\"\",'15) Engines'!AN34,LOOKUP('15) Calculations'!H$84,'15) Calculations'!$C$9:$I$9,'15) Calculations'!$C40:$I40))","v":1E-4},{"$f":"IF('15) Engines'!AO34<>\"\",'15) Engines'!AO34,LOOKUP('15) Calculations'!I$84,'15) Calculations'!$C$9:$I$9,'15) Calculations'!$C40:$I40))","v":1E-4},{"$f":"IF('15) Engines'!AP34<>\"\",'15) Engines'!AP34,LOOKUP('15) Calculations'!J$84,'15) Calculations'!$C$9:$I$9,'15) Calculations'!$C40:$I40))","v":1E-4},{"$f":"IF('15) Engines'!AQ34<>\"\",'15) Engines'!AQ34,LOOKUP('15) Calculations'!K$84,'15) Calculations'!$C$9:$I$9,'15) Calculations'!$C40:$I40))","v":1E-4},{"$f":"IF('15) Engines'!AR34<>\"\",'15) Engines'!AR34,LOOKUP('15) Calculations'!L$84,'15) Calculations'!$C$9:$I$9,'15) Calculations'!$C40:$I40))","v":1E-4},null,"  Nitrous Oxide (N2O)",null,{"$f":"C114*C$118*2.20462","v":0},0,0,0,0,0,0,0,0,0,0,null,"  Nitrous Oxide (N2O)",null,0,0,0,0,0,0,0,0,0,0,0]
[]
["Engine Rating (hp)",null,{"$f":"'15) Engines'!D29","v":0},{"$f":"'15) Engines'!D30","v":0},{"$f":"'15) Engines'!D31","v":0},{"$f":"'15) Engines'!D32","v":0},{"$f":"'15) Engines'!D33","v":0},{"$f":"'15) Engines'!D34","v":0},{"$f":"'15) Engines'!D35","v":0},{"$f":"'15) Engines'!D36","v":0},{"$f":"'15) Engines'!D37","v":0},{"$f":"'15) Engines'!D38","v":0}]
[{"$f":"'15) Engines'!E28","v":"Fuel Use Factor (Btu/hp-hr)"},null,{"$f":"'15) Engines'!E29","v":0},{"$f":"'15) Engines'!E30","v":0},{"$f":"'15) Engines'!E31","v":0},{"$f":"'15) Engines'!E32","v":0},{"$f":"'15) Engines'!E33","v":0},{"$f":"'15) Engines'!E34","v":0},{"$f":"'15) Engines'!E35","v":0},{"$f":"'15) Engines'!E36","v":0},{"$f":"'15) Engines'!E37","v":0},{"$f":"'15) Engines'!E38","v":0}]
["Engine Heat Input (MMBtu/hr)",null,{"$f":"C116*C117/1000000","v":0},{"$f":"D116*D117/1000000","v":0},0,0,0,0,0,0,0,0]
["Operating Hours",null,{"$f":"'15) Engines'!I29","v":8760},{"$f":"'15) Engines'!I30","v":8760},{"$f":"'15) Engines'!I31","v":8760},{"$f":"'15) Engines'!I32","v":8760},{"$f":"'15) Engines'!I33","v":8760},{"$f":"'15) Engines'!I34","v":8760},{"$f":"'15) Engines'!I35","v":8760},{"$f":"'15) Engines'!I36","v":8760},{"$f":"'15) Engines'!I37","v":8760},{"$f":"'15) Engines'!I38","v":8760}]
[]
[]
[]
[null,null,"1st Compression Engine","2nd Compression Engine","3rd Compression Engine","4th Compression Engine","5th Compression Engine","6th Compression Engine","7th Compression Engine","8th Compression Engine","9th Compression Engine","10th Compression Engine",null,null,null,"1st Compression Engine","2nd Compression Engine","3rd Compression Engine","4th Compression Engine","5th Compression Engine","6th Compression Engine","7th Compression Engine","8th Compression Engine","9th Compression Engine","10th Compression Engine","Total",null,null,null,"1st Compression Engine","2nd Compression Engine","3rd Compression Engine","4th Compression Engine","5th Compression Engine","6th Compression Engine","7th Compression Engine","8th Compression Engine","9th Compression Engine","10th Compression Engine","Total"]
[null,null,{"$f":"IF('15) Engines'!N16<600,5,6)","v":5},{"$f":"IF('15) Engines'!N17<600,5,6)","v":5},{"$f":"IF('15) Engines'!N18<600,5,6)","v":5},{"$f":"IF('15) Engines'!N19<600,5,6)","v":5},{"$f":"IF('15) Engines'!N20<600,5,6)","v":5},{"$f":"IF('15) Engines'!N21<600,5,6)","v":5},{"$f":"IF('15) Engines'!N22<600,5,6)","v":5},{"$f":"IF('15) Engines'!N23<600,5,6)","v":5},{"$f":"IF('15) Engines'!N24<600,5,6)","v":5},{"$f":"IF('15) Engines'!N25<600,5,6)","v":5},null,null,null,"(lb/hr)",null,null,null,null,null,null,null,null,null,null,null,null,null,"(ton/yr)"]
["PMfilterable",null,{"$f":"IF('15) Engines'!W43<>\"\",'15) Engines'!W43,LOOKUP('15) Calculations'!C$124,'15) Calculations'!$C$9:$I$9,'15) Calculations'!$C11:$I11))","v":0.31},{"$f":"IF('15) Engines'!X43<>\"\",'15) Engines'!X43,LOOKUP('15) Calculations'!D$124,'15) Calculations'!$C$9:$I$9,'15) Calculations'!$C11:$I11))","v":0.31},{"$f":"IF('15) Engines'!Y43<>\"\",'15) Engines'!Y43,LOOKUP('15) Calculations'!E$124,'15) Calculations'!$C$9:$I$9,'15) Calculations'!$C11:$I11))","v":0.31},{"$f":"IF('15) Engines'!Z43<>\"\",'15) Engines'!Z43,LOOKUP('15) Calculations'!F$124,'15) Calculations'!$C$9:$I$9,'15) Calculations'!$C11:$I11))","v":0.31},{"$f":"IF('15) Engines'!AA43<>\"\",'15) Engines'!AA43,LOOKUP('15) Calculations'!G$124,'15) Calculations'!$C$9:$I$9,'15) Calculations'!$C11:$I11))","v":0.31},{"$f":"IF('15) Engines'!AB43<>\"\",'15) Engines'!AB43,LOOKUP('15) Calculations'!H$124,'15) Calculations'!$C$9:$I$9,'15) Calculations'!$C11:$I11))","v":0.31},{"$f":"IF('15) Engines'!AC43<>\"\",'15) Engines'!AC43,LOOKUP('15) Calculations'!I$124,'15) Calculations'!$C$9:$I$9,'15) Calculations'!$C11:$I11))","v":0.31},{"$f":"IF('15) Engines'!AD43<>\"\",'15) Engines'!AD43,LOOKUP('15) Calculations'!J$124,'15) Calculations'!$C$9:$I$9,'15) Calculations'!$C11:$I11))","v":0.31},{"$f":"IF('15) Engines'!AE43<>\"\",'15) Engines'!AE43,LOOKUP('15) Calculations'!K$124,'15) Calculations'!$C$9:$I$9,'15) Calculations'!$C11:$I11))","v":0.31},{"$f":"IF('15) Engines'!AF43<>\"\",'15) Engines'!AF43,LOOKUP('15) Calculations'!L$124,'15) Calculations'!$C$9:$I$9,'15) Calculations'!$C11:$I11))","v":0.31},null,"PMfilterable",null,{"$f":"C125*$D$6*C$157","v":0},0,0,0,0,0,0,0,0,0,{"$f":"SUM(P125:Y125)","v":0},null,"PMfilterable",null,{"$f":"P125*C$158/2000","v":0},{"$f":"Q125*D$158/2000","v":0},0,0,0,0,0,0,0,0,{"$f":"SUM(AD125:AM125)","v":0}]
["PM10",null,{"$f":"IF('15) Engines'!W44<>\"\",'15) Engines'!W44,LOOKUP('15) Calculations'!C$124,'15) Calculations'!$C$9:$I$9,'15) Calculations'!$C12:$I12))","v":0.31},{"$f":"IF('15) Engines'!X44<>\"\",'15) Engines'!X44,LOOKUP('15) Calculations'!D$124,'15) Calculations'!$C$9:$I$9,'15) Calculations'!$C12:$I12))","v":0.31},{"$f":"IF('15) Engines'!Y44<>\"\",'15) Engines'!Y44,LOOKUP('15) Calculations'!E$124,'15) Calculations'!$C$9:$I$9,'15) Calculations'!$C12:$I12))","v":0.31},{"$f":"IF('15) Engines'!Z44<>\"\",'15) Engines'!Z44,LOOKUP('15) Calculations'!F$124,'15) Calculations'!$C$9:$I$9,'15) Calculations'!$C12:$I12))","v":0.31},{"$f":"IF('15) Engines'!AA44<>\"\",'15) Engines'!AA44,LOOKUP('15) Calculations'!G$124,'15) Calculations'!$C$9:$I$9,'15) Calculations'!$C12:$I12))","v":0.31},{"$f":"IF('15) Engines'!AB44<>\"\",'15) Engines'!AB44,LOOKUP('15) Calculations'!H$124,'15) Calculations'!$C$9:$I$9,'15) Calculations'!$C12:$I12))","v":0.31},{"$f":"IF('15) Engines'!AC44<>\"\",'15) Engines'!AC44,LOOKUP('15) Calculations'!I$124,'15) Calculations'!$C$9:$I$9,'15) Calculations'!$C12:$I12))","v":0.31},{"$f":"IF('15) Engines'!AD44<>\"\",'15) Engines'!AD44,LOOKUP('15) Calculations'!J$124,'15) Calculations'!$C$9:$I$9,'15) Calculations'!$C12:$I12))","v":0.31},{"$f":"IF('15) Engines'!AE44<>\"\",'15) Engines'!AE44,LOOKUP('15) Calculations'!K$124,'15) Calculations'!$C$9:$I$9,'15) Calculations'!$C12:$I12))","v":0.31},{"$f":"IF('15) Engines'!AF44<>\"\",'15) Engines'!AF44,LOOKUP('15) Calculations'!L$124,'15) Calculations'!$C$9:$I$9,'15) Calculations'!$C12:$I12))","v":0.31},null,"PM10",null,0,0,0,0,0,0,0,0,0,0,{"$f":"SUM(P126:Y126)","v":0},null,"PM10",null,{"$f":"P126*C$158/2000","v":0},{"$f":"Q126*D$158/2000","v":0},{"$f":"R126*E$158/2000","v":0},{"$f":"S126*F$158/2000","v":0},{"$f":"T126*G$158/2000","v":0},{"$f":"U126*H$158/2000","v":0},{"$f":"V126*I$158/2000","v":0},{"$f":"W126*J$158/2000","v":0},{"$f":"X126*K$158/2000","v":0},{"$f":"Y126*L$158/2000","v":0},{"$f":"SUM(AD126:AM126)","v":0}]
["PM2.5",null,{"$f":"IF('15) Engines'!W45<>\"\",'15) Engines'!W45,LOOKUP('15) Calculations'!C$124,'15) Calculations'!$C$9:$I$9,'15) Calculations'!$C13:$I13))","v":0.31},{"$f":"IF('15) Engines'!X45<>\"\",'15) Engines'!X45,LOOKUP('15) Calculations'!D$124,'15) Calculations'!$C$9:$I$9,'15) Calculations'!$C13:$I13))","v":0.31},{"$f":"IF('15) Engines'!Y45<>\"\",'15) Engines'!Y45,LOOKUP('15) Calculations'!E$124,'15) Calculations'!$C$9:$I$9,'15) Calculations'!$C13:$I13))","v":0.31},{"$f":"IF('15) Engines'!Z45<>\"\",'15) Engines'!Z45,LOOKUP('15) Calculations'!F$124,'15) Calculations'!$C$9:$I$9,'15) Calculations'!$C13:$I13))","v":0.31},{"$f":"IF('15) Engines'!AA45<>\"\",'15) Engines'!AA45,LOOKUP('15) Calculations'!G$124,'15) Calculations'!$C$9:$I$9,'15) Calculations'!$C13:$I13))","v":0.31},{"$f":"IF('15) Engines'!AB45<>\"\",'15) Engines'!AB45,LOOKUP('15) Calculations'!H$124,'15) Calculations'!$C$9:$I$9,'15) Calculations'!$C13:$I13))","v":0.31},{"$f":"IF('15) Engines'!AC45<>\"\",'15) Engines'!AC45,LOOKUP('15) Calculations'!I$124,'15) Calculations'!$C$9:$I$9,'15) Calculations'!$C13:$I13))","v":0.31},{"$f":"IF('15) Engines'!AD45<>\"\",'15) Engines'!AD45,LOOKUP('15) Calculations'!J$124,'15) Calculations'!$C$9:$I$9,'15) Calculations'!$C13:$I13))","v":0.31},{"$f":"IF('15) Engines'!AE45<>\"\",'15) Engines'!AE45,LOOKUP('15) Calculations'!K$124,'15) Calculations'!$C$9:$I$9,'15) Calculations'!$C13:$I13))","v":0.31},{"$f":"IF('15) Engines'!AF45<>\"\",'15) Engines'!AF45,LOOKUP('15) Calculations'!L$124,'15) Calculations'!$C$9:$I$9,'15) Calculations'!$C13:$I13))","v":0.31},null,"PM2.5",null,0,0,0,0,0,0,0,0,0,0,0,null,"PM2.5",null,0,0,0,0,0,0,0,0,0,0,0]
["SO2",null,{"$f":"IF('15) Engines'!W46<>\"\",'15) Engines'!W46,LOOKUP('15) Calculations'!C$124,'15) Calculations'!$C$9:$I$9,'15) Calculations'!$C14:$I14))","v":0.28999999999999998},{"$f":"IF('15) Engines'!X46<>\"\",'15) Engines'!X46,LOOKUP('15) Calculations'!D$124,'15) Calculations'!$C$9:$I$9,'15) Calculations'!$C14:$I14))","v":0.28999999999999998},{"$f":"IF('15) Engines'!Y46<>\"\",'15) Engines'!Y46,LOOKUP('15) Calculations'!E$124,'15) Calculations'!$C$9:$I$9,'15) Calculations'!$C14:$I14))","v":0.28999999999999998},{"$f":"IF('15) Engines'!Z46<>\"\",'15) Engines'!Z46,LOOKUP('15) Calculations'!F$124,'15) Calculations'!$C$9:$I$9,'15) Calculations'!$C14:$I14))","v":0.28999999999999998},{"$f":"IF('15) Engines'!AA46<>\"\",'15) Engines'!AA46,LOOKUP('15) Calculations'!G$124,'15) Calculations'!$C$9:$I$9,'15) Calculations'!$C14:$I14))","v":0.28999999999999998},{"$f":"IF('15) Engines'!AB46<>\"\",'15) Engines'!AB46,LOOKUP('15) Calculations'!H$124,'15) Calculations'!$C$9:$I$9,'15) Calculations'!$C14:$I14))","v":0.28999999999999998},{"$f":"IF('15) Engines'!AC46<>\"\",'15) Engines'!AC46,LOOKUP('15) Calculations'!I$124,'15) Calculations'!$C$9:$I$9,'15) Calculations'!$C14:$I14))","v":0.28999999999999998},{"$f":"IF('15) Engines'!AD46<>\"\",'15) Engines'!AD46,LOOKUP('15) Calculations'!J$124,'15) Calculations'!$C$9:$I$9,'15) Calculations'!$C14:$I14))","v":0.28999999999999998},{"$f":"IF('15) Engines'!AE46<>\"\",'15) Engines'!AE46,LOOKUP('15) Calculations'!K$124,'15) Calculations'!$C$9:$I$9,'15) Calculations'!$C14:$I14))","v":0.28999999999999998},{"$f":"IF('15) Engines'!AF46<>\"\",'15) Engines'!AF46,LOOKUP('15) Calculations'!L$124,'15) Calculations'!$C$9:$I$9,'15) Calculations'!$C14:$I14))","v":0.28999999999999998},null,"SO2",null,0,0,0,0,0,0,0,0,0,0,0,null,"SO2",null,0,0,0,0,0,0,0,0,0,0,0]
["NOx",null,{"$f":"IF('15) Engines'!W47<>\"\",'15) Engines'!W47,LOOKUP('15) Calculations'!C$124,'15) Calculations'!$C$9:$I$9,'15) Calculations'!$C15:$I15))","v":4.41},{"$f":"IF('15) Engines'!X47<>\"\",'15) Engines'!X47,LOOKUP('15) Calculations'!D$124,'15) Calculations'!$C$9:$I$9,'15) Calculations'!$C15:$I15))","v":4.41},{"$f":"IF('15) Engines'!Y47<>\"\",'15) Engines'!Y47,LOOKUP('15) Calculations'!E$124,'15) Calculations'!$C$9:$I$9,'15) Calculations'!$C15:$I15))","v":4.41},{"$f":"IF('15) Engines'!Z47<>\"\",'15) Engines'!Z47,LOOKUP('15) Calculations'!F$124,'15) Calculations'!$C$9:$I$9,'15) Calculations'!$C15:$I15))","v":4.41},{"$f":"IF('15) Engines'!AA47<>\"\",'15) Engines'!AA47,LOOKUP('15) Calculations'!G$124,'15) Calculations'!$C$9:$I$9,'15) Calculations'!$C15:$I15))","v":4.41},{"$f":"IF('15) Engines'!AB47<>\"\",'15) Engines'!AB47,LOOKUP('15) Calculations'!H$124,'15) Calculations'!$C$9:$I$9,'15) Calculations'!$C15:$I15))","v":4.41},{"$f":"IF('15) Engines'!AC47<>\"\",'15) Engines'!AC47,LOOKUP('15) Calculations'!I$124,'15) Calculations'!$C$9:$I$9,'15) Calculations'!$C15:$I15))","v":4.41},{"$f":"IF('15) Engines'!AD47<>\"\",'15) Engines'!AD47,LOOKUP('15) Calculations'!J$124,'15) Calculations'!$C$9:$I$9,'15) Calculations'!$C15:$I15))","v":4.41},{"$f":"IF('15) Engines'!AE47<>\"\",'15) Engines'!AE47,LOOKUP('15) Calculations'!K$124,'15) Calculations'!$C$9:$I$9,'15) Calculations'!$C15:$I15))","v":4.41},{"$f":"IF('15) Engines'!AF47<>\"\",'15) Engines'!AF47,LOOKUP('15) Calculations'!L$124,'15) Calculations'!$C$9:$I$9,'15) Calculations'!$C15:$I15))","v":4.41},null,"NOx",null,0,0,0,0,0,0,0,0,0,0,0,null,"NOx",null,0,0,0,0,0,0,0,0,0,0,0]
["CO",null,{"$f":"IF('15) Engines'!W48<>\"\",'15) Engines'!W48,LOOKUP('15) Calculations'!C$124,'15) Calculations'!$C$9:$I$9,'15) Calculations'!$C16:$I16))","v":0.95},{"$f":"IF('15) Engines'!X48<>\"\",'15) Engines'!X48,LOOKUP('15) Calculations'!D$124,'15) Calculations'!$C$9:$I$9,'15) Calculations'!$C16:$I16))","v":0.95},{"$f":"IF('15) Engines'!Y48<>\"\",'15) Engines'!Y48,LOOKUP('15) Calculations'!E$124,'15) Calculations'!$C$9:$I$9,'15) Calculations'!$C16:$I16))","v":0.95},{"$f":"IF('15) Engines'!Z48<>\"\",'15) Engines'!Z48,LOOKUP('15) Calculations'!F$124,'15) Calculations'!$C$9:$I$9,'15) Calculations'!$C16:$I16))","v":0.95},{"$f":"IF('15) Engines'!AA48<>\"\",'15) Engines'!AA48,LOOKUP('15) Calculations'!G$124,'15) Calculations'!$C$9:$I$9,'15) Calculations'!$C16:$I16))","v":0.95},{"$f":"IF('15) Engines'!AB48<>\"\",'15) Engines'!AB48,LOOKUP('15) Calculations'!H$124,'15) Calculations'!$C$9:$I$9,'15) Calculations'!$C16:$I16))","v":0.95},{"$f":"IF('15) Engines'!AC48<>\"\",'15) Engines'!AC48,LOOKUP('15) Calculations'!I$124,'15) Calculations'!$C$9:$I$9,'15) Calculations'!$C16:$I16))","v":0.95},{"$f":"IF('15) Engines'!AD48<>\"\",'15) Engines'!AD48,LOOKUP('15) Calculations'!J$124,'15) Calculations'!$C$9:$I$9,'15) Calculations'!$C16:$I16))","v":0.95},{"$f":"IF('15) Engines'!AE48<>\"\",'15) Engines'!AE48,LOOKUP('15) Calculations'!K$124,'15) Calculations'!$C$9:$I$9,'15) Calculations'!$C16:$I16))","v":0.95},{"$f":"IF('15) Engines'!AF48<>\"\",'15) Engines'!AF48,LOOKUP('15) Calculations'!L$124,'15) Calculations'!$C$9:$I$9,'15) Calculations'!$C16:$I16))","v":0.95},null,"CO",null,0,0,0,0,0,0,0,0,0,0,0,null,"CO",null,0,0,0,0,0,0,0,0,0,0,0]
["VOC",null,{"$f":"IF('15) Engines'!W49<>\"\",'15) Engines'!W49,LOOKUP('15) Calculations'!C$124,'15) Calculations'!$C$9:$I$9,'15) Calculations'!$C17:$I17))","v":0.36},{"$f":"IF('15) Engines'!X49<>\"\",'15) Engines'!X49,LOOKUP('15) Calculations'!D$124,'15) Calculations'!$C$9:$I$9,'15) Calculations'!$C17:$I17))","v":0.36},{"$f":"IF('15) Engines'!Y49<>\"\",'15) Engines'!Y49,LOOKUP('15) Calculations'!E$124,'15) Calculations'!$C$9:$I$9,'15) Calculations'!$C17:$I17))","v":0.36},{"$f":"IF('15) Engines'!Z49<>\"\",'15) Engines'!Z49,LOOKUP('15) Calculations'!F$124,'15) Calculations'!$C$9:$I$9,'15) Calculations'!$C17:$I17))","v":0.36},{"$f":"IF('15) Engines'!AA49<>\"\",'15) Engines'!AA49,LOOKUP('15) Calculations'!G$124,'15) Calculations'!$C$9:$I$9,'15) Calculations'!$C17:$I17))","v":0.36},{"$f":"IF('15) Engines'!AB49<>\"\",'15) Engines'!AB49,LOOKUP('15) Calculations'!H$124,'15) Calculations'!$C$9:$I$9,'15) Calculations'!$C17:$I17))","v":0.36},{"$f":"IF('15) Engines'!AC49<>\"\",'15) Engines'!AC49,LOOKUP('15) Calculations'!I$124,'15) Calculations'!$C$9:$I$9,'15) Calculations'!$C17:$I17))","v":0.36},{"$f":"IF('15) Engines'!AD49<>\"\",'15) Engines'!AD49,LOOKUP('15) Calculations'!J$124,'15) Calculations'!$C$9:$I$9,'15) Calculations'!$C17:$I17))","v":0.36},{"$f":"IF('15) Engines'!AE49<>\"\",'15) Engines'!AE49,LOOKUP('15) Calculations'!K$124,'15) Calculations'!$C$9:$I$9,'15) Calculations'!$C17:$I17))","v":0.36},{"$f":"IF('15) Engines'!AF49<>\"\",'15) Engines'!AF49,LOOKUP('15) Calculations'!L$124,'15) Calculations'!$C$9:$I$9,'15) Calculations'!$C17:$I17))","v":0.36},null,"VOC",null,0,0,0,0,0,0,0,0,0,0,0,null,"VOC",null,0,0,0,0,0,0,0,0,0,0,0]
["Individual HAP",null,null,null,null,null,null,null,null,null,null,null,null,"Individual HAP",null,null,null,null,null,null,null,null,null,null,null,null,null,"Individual HAP"]
["Acetaldehyde",null,{"$f":"IF('15) Engines'!W51<>\"\",'15) Engines'!W51,LOOKUP('15) Calculations'!C$124,'15) Calculations'!$C$9:$I$9,'15) Calculations'!$C19:$I19))","v":7.67E-4},{"$f":"IF('15) Engines'!X51<>\"\",'15) Engines'!X51,LOOKUP('15) Calculations'!D$124,'15) Calculations'!$C$9:$I$9,'15) Calculations'!$C19:$I19))","v":7.67E-4},{"$f":"IF('15) Engines'!Y51<>\"\",'15) Engines'!Y51,LOOKUP('15) Calculations'!E$124,'15) Calculations'!$C$9:$I$9,'15) Calculations'!$C19:$I19))","v":7.67E-4},{"$f":"IF('15) Engines'!Z51<>\"\",'15) Engines'!Z51,LOOKUP('15) Calculations'!F$124,'15) Calculations'!$C$9:$I$9,'15) Calculations'!$C19:$I19))","v":7.67E-4},{"$f":"IF('15) Engines'!AA51<>\"\",'15) Engines'!AA51,LOOKUP('15) Calculations'!G$124,'15) Calculations'!$C$9:$I$9,'15) Calculations'!$C19:$I19))","v":7.67E-4},{"$f":"IF('15) Engines'!AB51<>\"\",'15) Engines'!AB51,LOOKUP('15) Calculations'!H$124,'15) Calculations'!$C$9:$I$9,'15) Calculations'!$C19:$I19))","v":7.67E-4},{"$f":"IF('15) Engines'!AC51<>\"\",'15) Engines'!AC51,LOOKUP('15) Calculations'!I$124,'15) Calculations'!$C$9:$I$9,'15) Calculations'!$C19:$I19))","v":7.67E-4},{"$f":"IF('15) Engines'!AD51<>\"\",'15) Engines'!AD51,LOOKUP('15) Calculations'!J$124,'15) Calculations'!$C$9:$I$9,'15) Calculations'!$C19:$I19))","v":7.67E-4},{"$f":"IF('15) Engines'!AE51<>\"\",'15) Engines'!AE51,LOOKUP('15) Calculations'!K$124,'15) Calculations'!$C$9:$I$9,'15) Calculations'!$C19:$I19))","v":7.67E-4},{"$f":"IF('15) Engines'!AF51<>\"\",'15) Engines'!AF51,LOOKUP('15) Calculations'!L$124,'15) Calculations'!$C$9:$I$9,'15) Calculations'!$C19:$I19))","v":7.67E-4},null,"Acetaldehyde",null,{"$f":"C133*$D$6*C$157","v":0},{"$f":"D133*$D$6*D$157","v":0},{"$f":"E133*$D$6*E$157","v":0},{"$f":"F133*$D$6*F$157","v":0},{"$f":"G133*$D$6*G$157","v":0},{"$f":"H133*$D$6*H$157","v":0},{"$f":"I133*$D$6*I$157","v":0},{"$f":"J133*$D$6*J$157","v":0},{"$f":"K133*$D$6*K$157","v":0},{"$f":"L133*$D$6*L$157","v":0},{"$f":"SUM(P133:Y133)","v":0},null,"Acetaldehyde",null,{"$f":"P133*C$158/2000","v":0},{"$f":"Q133*D$158/2000","v":0},{"$f":"R133*E$158/2000","v":0},{"$f":"S133*F$158/2000","v":0},{"$f":"T133*G$158/2000","v":0},{"$f":"U133*H$158/2000","v":0},{"$f":"V133*I$158/2000","v":0},{"$f":"W133*J$158/2000","v":0},{"$f":"X133*K$158/2000","v":0},{"$f":"Y133*L$158/2000","v":0},{"$f":"SUM(AD133:AM133)","v":0}]
["Acrolein",null,{"$f":"IF('15) Engines'!W52<>\"\",'15) Engines'!W52,LOOKUP('15) Calculations'!C$124,'15) Calculations'!$C$9:$I$9,'15) Calculations'!$C20:$I20))","v":9.2499999999999999E-5},{"$f":"IF('15) Engines'!X52<>\"\",'15) Engines'!X52,LOOKUP('15) Calculations'!D$124,'15) Calculations'!$C$9:$I$9,'15) Calculations'!$C20:$I20))","v":9.2499999999999999E-5},{"$f":"IF('15) Engines'!Y52<>\"\",'15) Engines'!Y52,LOOKUP('15) Calculations'!E$124,'15) Calculations'!$C$9:$I$9,'15) Calculations'!$C20:$I20))","v":9.2499999999999999E-5},{"$f":"IF('15) Engines'!Z52<>\"\",'15) Engines'!Z52,LOOKUP('15) Calculations'!F$124,'15) Calculations'!$C$9:$I$9,'15) Calculations'!$C20:$I20))","v":9.2499999999999999E-5},{"$f":"IF('15) Engines'!AA52<>\"\",'15) Engines'!AA52,LOOKUP('15) Calculations'!G$124,'15) Calculations'!$C$9:$I$9,'15) Calculations'!$C20:$I20))","v":9.2499999999999999E-5},{"$f":"IF('15) Engines'!AB52<>\"\",'15) Engines'!AB52,LOOKUP('15) Calculations'!H$124,'15) Calculations'!$C$9:$I$9,'15) Calculations'!$C20:$I20))","v":9.2499999999999999E-5},{"$f":"IF('15) Engines'!AC52<>\"\",'15) Engines'!AC52,LOOKUP('15) Calculations'!I$124,'15) Calculations'!$C$9:$I$9,'15) Calculations'!$C20:$I20))","v":9.2499999999999999E-5},{"$f":"IF('15) Engines'!AD52<>\"\",'15) Engines'!AD52,LOOKUP('15) Calculations'!J$124,'15) Calculations'!$C$9:$I$9,'15) Calculations'!$C20:$I20))","v":9.2499999999999999E-5},{"$f":"IF('15) Engines'!AE52<>\"\",'15) Engines'!AE52,LOOKUP('15) Calculations'!K$124,'15) Calculations'!$C$9:$I$9,'15) Calculations'!$C20:$I20))","v":9.2499999999999999E-5},{"$f":"IF('15) Engines'!AF52<>\"\",'15) Engines'!AF52,LOOKUP('15) Calculations'!L$124,'15) Calculations'!$C$9:$I$9,'15) Calculations'!$C20:$I20))","v":9.2499999999999999E-5},null,"Acrolein",null,0,0,0,0,0,0,0,0,0,0,0,null,"Acrolein",null,0,0,0,0,0,0,0,0,0,0,0]
["Arsenic compounds",null,{"$f":"IF('15) Engines'!W53<>\"\",'15) Engines'!W53,LOOKUP('15) Calculations'!C$124,'15) Calculations'!$C$9:$I$9,'15) Calculations'!$C21:$I21))","v":0},{"$f":"IF('15) Engines'!X53<>\"\",'15) Engines'!X53,LOOKUP('15) Calculations'!D$124,'15) Calculations'!$C$9:$I$9,'15) Calculations'!$C21:$I21))","v":0},{"$f":"IF('15) Engines'!Y53<>\"\",'15) Engines'!Y53,LOOKUP('15) Calculations'!E$124,'15) Calculations'!$C$9:$I$9,'15) Calculations'!$C21:$I21))","v":0},{"$f":"IF('15) Engines'!Z53<>\"\",'15) Engines'!Z53,LOOKUP('15) Calculations'!F$124,'15) Calculations'!$C$9:$I$9,'15) Calculations'!$C21:$I21))","v":0},{"$f":"IF('15) Engines'!AA53<>\"\",'15) Engines'!AA53,LOOKUP('15) Calculations'!G$124,'15) Calculations'!$C$9:$I$9,'15) Calculations'!$C21:$I21))","v":0},{"$f":"IF('15) Engines'!AB53<>\"\",'15) Engines'!AB53,LOOKUP('15) Calculations'!H$124,'15) Calculations'!$C$9:$I$9,'15) Calculations'!$C21:$I21))","v":0},{"$f":"IF('15) Engines'!AC53<>\"\",'15) Engines'!AC53,LOOKUP('15) Calculations'!I$124,'15) Calculations'!$C$9:$I$9,'15) Calculations'!$C21:$I21))","v":0},{"$f":"IF('15) Engines'!AD53<>\"\",'15) Engines'!AD53,LOOKUP('15) Calculations'!J$124,'15) Calculations'!$C$9:$I$9,'15) Calculations'!$C21:$I21))","v":0},{"$f":"IF('15) Engines'!AE53<>\"\",'15) Engines'!AE53,LOOKUP('15) Calculations'!K$124,'15) Calculations'!$C$9:$I$9,'15) Calculations'!$C21:$I21))","v":0},{"$f":"IF('15) Engines'!AF53<>\"\",'15) Engines'!AF53,LOOKUP('15) Calculations'!L$124,'15) Calculations'!$C$9:$I$9,'15) Calculations'!$C21:$I21))","v":0},null,"Arsenic compounds",null,0,0,0,0,0,0,0,0,0,0,0,null,"Arsenic compounds",null,0,0,0,0,0,0,0,0,0,0,0]
["Benzene",null,{"$f":"IF('15) Engines'!W54<>\"\",'15) Engines'!W54,LOOKUP('15) Calculations'!C$124,'15) Calculations'!$C$9:$I$9,'15) Calculations'!$C22:$I22))","v":9.3300000000000002E-4},{"$f":"IF('15) Engines'!X54<>\"\",'15) Engines'!X54,LOOKUP('15) Calculations'!D$124,'15) Calculations'!$C$9:$I$9,'15) Calculations'!$C22:$I22))","v":9.3300000000000002E-4},{"$f":"IF('15) Engines'!Y54<>\"\",'15) Engines'!Y54,LOOKUP('15) Calculations'!E$124,'15) Calculations'!$C$9:$I$9,'15) Calculations'!$C22:$I22))","v":9.3300000000000002E-4},{"$f":"IF('15) Engines'!Z54<>\"\",'15) Engines'!Z54,LOOKUP('15) Calculations'!F$124,'15) Calculations'!$C$9:$I$9,'15) Calculations'!$C22:$I22))","v":9.3300000000000002E-4},{"$f":"IF('15) Engines'!AA54<>\"\",'15) Engines'!AA54,LOOKUP('15) Calculations'!G$124,'15) Calculations'!$C$9:$I$9,'15) Calculations'!$C22:$I22))","v":9.3300000000000002E-4},{"$f":"IF('15) Engines'!AB54<>\"\",'15) Engines'!AB54,LOOKUP('15) Calculations'!H$124,'15) Calculations'!$C$9:$I$9,'15) Calculations'!$C22:$I22))","v":9.3300000000000002E-4},{"$f":"IF('15) Engines'!AC54<>\"\",'15) Engines'!AC54,LOOKUP('15) Calculations'!I$124,'15) Calculations'!$C$9:$I$9,'15) Calculations'!$C22:$I22))","v":9.3300000000000002E-4},{"$f":"IF('15) Engines'!AD54<>\"\",'15) Engines'!AD54,LOOKUP('15) Calculations'!J$124,'15) Calculations'!$C$9:$I$9,'15) Calculations'!$C22:$I22))","v":9.3300000000000002E-4},{"$f":"IF('15) Engines'!AE54<>\"\",'15) Engines'!AE54,LOOKUP('15) Calculations'!K$124,'15) Calculations'!$C$9:$I$9,'15) Calculations'!$C22:$I22))","v":9.3300000000000002E-4},{"$f":"IF('15) Engines'!AF54<>\"\",'15) Engines'!AF54,LOOKUP('15) Calculations'!L$124,'15) Calculations'!$C$9:$I$9,'15) Calculations'!$C22:$I22))","v":9.3300000000000002E-4},null,"Benzene",null,0,0,0,0,0,0,0,0,0,0,0,null,"Benzene",null,0,0,0,0,0,0,0,0,0,0,0]
["Benzyl chloride",null,{"$f":"IF('15) Engines'!W55<>\"\",'15) Engines'!W55,LOOKUP('15) Calculations'!C$124,'15) Calculations'!$C$9:$I$9,'15) Calculations'!$C23:$I23))","v":0},{"$f":"IF('15) Engines'!X55<>\"\",'15) Engines'!X55,LOOKUP('15) Calculations'!D$124,'15) Calculations'!$C$9:$I$9,'15) Calculations'!$C23:$I23))","v":0},{"$f":"IF('15) Engines'!Y55<>\"\",'15) Engines'!Y55,LOOKUP('15) Calculations'!E$124,'15) Calculations'!$C$9:$I$9,'15) Calculations'!$C23:$I23))","v":0},{"$f":"IF('15) Engines'!Z55<>\"\",'15) Engines'!Z55,LOOKUP('15) Calculations'!F$124,'15) Calculations'!$C$9:$I$9,'15) Calculations'!$C23:$I23))","v":0},{"$f":"IF('15) Engines'!AA55<>\"\",'15) Engines'!AA55,LOOKUP('15) Calculations'!G$124,'15) Calculations'!$C$9:$I$9,'15) Calculations'!$C23:$I23))","v":0},{"$f":"IF('15) Engines'!AB55<>\"\",'15) Engines'!AB55,LOOKUP('15) Calculations'!H$124,'15) Calculations'!$C$9:$I$9,'15) Calculations'!$C23:$I23))","v":0},{"$f":"IF('15) Engines'!AC55<>\"\",'15) Engines'!AC55,LOOKUP('15) Calculations'!I$124,'15) Calculations'!$C$9:$I$9,'15) Calculations'!$C23:$I23))","v":0},{"$f":"IF('15) Engines'!AD55<>\"\",'15) Engines'!AD55,LOOKUP('15) Calculations'!J$124,'15) Calculations'!$C$9:$I$9,'15) Calculations'!$C23:$I23))","v":0},{"$f":"IF('15) Engines'!AE55<>\"\",'15) Engines'!AE55,LOOKUP('15) Calculations'!K$124,'15) Calculations'!$C$9:$I$9,'15) Calculations'!$C23:$I23))","v":0},{"$f":"IF('15) Engines'!AF55<>\"\",'15) Engines'!AF55,LOOKUP('15) Calculations'!L$124,'15) Calculations'!$C$9:$I$9,'15) Calculations'!$C23:$I23))","v":0},null,"Benzyl chloride",null,0,0,0,0,0,0,0,0,0,0,0,null,"Benzyl chloride",null,0,0,0,0,0,0,0,0,0,0,0]
["Beryllium compounds",null,{"$f":"IF('15) Engines'!W56<>\"\",'15) Engines'!W56,LOOKUP('15) Calculations'!C$124,'15) Calculations'!$C$9:$I$9,'15) Calculations'!$C24:$I24))","v":0},{"$f":"IF('15) Engines'!X56<>\"\",'15) Engines'!X56,LOOKUP('15) Calculations'!D$124,'15) Calculations'!$C$9:$I$9,'15) Calculations'!$C24:$I24))","v":0},{"$f":"IF('15) Engines'!Y56<>\"\",'15) Engines'!Y56,LOOKUP('15) Calculations'!E$124,'15) Calculations'!$C$9:$I$9,'15) Calculations'!$C24:$I24))","v":0},{"$f":"IF('15) Engines'!Z56<>\"\",'15) Engines'!Z56,LOOKUP('15) Calculations'!F$124,'15) Calculations'!$C$9:$I$9,'15) Calculations'!$C24:$I24))","v":0},{"$f":"IF('15) Engines'!AA56<>\"\",'15) Engines'!AA56,LOOKUP('15) Calculations'!G$124,'15) Calculations'!$C$9:$I$9,'15) Calculations'!$C24:$I24))","v":0},{"$f":"IF('15) Engines'!AB56<>\"\",'15) Engines'!AB56,LOOKUP('15) Calculations'!H$124,'15) Calculations'!$C$9:$I$9,'15) Calculations'!$C24:$I24))","v":0},{"$f":"IF('15) Engines'!AC56<>\"\",'15) Engines'!AC56,LOOKUP('15) Calculations'!I$124,'15) Calculations'!$C$9:$I$9,'15) Calculations'!$C24:$I24))","v":0},{"$f":"IF('15) Engines'!AD56<>\"\",'15) Engines'!AD56,LOOKUP('15) Calculations'!J$124,'15) Calculations'!$C$9:$I$9,'15) Calculations'!$C24:$I24))","v":0},{"$f":"IF('15) Engines'!AE56<>\"\",'15) Engines'!AE56,LOOKUP('15) Calculations'!K$124,'15) Calculations'!$C$9:$I$9,'15) Calculations'!$C24:$I24))","v":0},{"$f":"IF('15) Engines'!AF56<>\"\",'15) Engines'!AF56,LOOKUP('15) Calculations'!L$124,'15) Calculations'!$C$9:$I$9,'15) Calculations'!$C24:$I24))","v":0},null,"Beryllium compounds",null,0,0,0,0,0,0,0,0,0,0,0,null,"Beryllium compounds",null,0,0,0,0,0,0,0,0,0,0,0]
["Cadmium compounds",null,{"$f":"IF('15) Engines'!W57<>\"\",'15) Engines'!W57,LOOKUP('15) Calculations'!C$124,'15) Calculations'!$C$9:$I$9,'15) Calculations'!$C25:$I25))","v":0},{"$f":"IF('15) Engines'!X57<>\"\",'15) Engines'!X57,LOOKUP('15) Calculations'!D$124,'15) Calculations'!$C$9:$I$9,'15) Calculations'!$C25:$I25))","v":0},{"$f":"IF('15) Engines'!Y57<>\"\",'15) Engines'!Y57,LOOKUP('15) Calculations'!E$124,'15) Calculations'!$C$9:$I$9,'15) Calculations'!$C25:$I25))","v":0},{"$f":"IF('15) Engines'!Z57<>\"\",'15) Engines'!Z57,LOOKUP('15) Calculations'!F$124,'15) Calculations'!$C$9:$I$9,'15) Calculations'!$C25:$I25))","v":0},{"$f":"IF('15) Engines'!AA57<>\"\",'15) Engines'!AA57,LOOKUP('15) Calculations'!G$124,'15) Calculations'!$C$9:$I$9,'15) Calculations'!$C25:$I25))","v":0},{"$f":"IF('15) Engines'!AB57<>\"\",'15) Engines'!AB57,LOOKUP('15) Calculations'!H$124,'15) Calculations'!$C$9:$I$9,'15) Calculations'!$C25:$I25))","v":0},{"$f":"IF('15) Engines'!AC57<>\"\",'15) Engines'!AC57,LOOKUP('15) Calculations'!I$124,'15) Calculations'!$C$9:$I$9,'15) Calculations'!$C25:$I25))","v":0},{"$f":"IF('15) Engines'!AD57<>\"\",'15) Engines'!AD57,LOOKUP('15) Calculations'!J$124,'15) Calculations'!$C$9:$I$9,'15) Calculations'!$C25:$I25))","v":0},{"$f":"IF('15) Engines'!AE57<>\"\",'15) Engines'!AE57,LOOKUP('15) Calculations'!K$124,'15) Calculations'!$C$9:$I$9,'15) Calculations'!$C25:$I25))","v":0},{"$f":"IF('15) Engines'!AF57<>\"\",'15) Engines'!AF57,LOOKUP('15) Calculations'!L$124,'15) Calculations'!$C$9:$I$9,'15) Calculations'!$C25:$I25))","v":0},null,"Cadmium compounds",null,0,0,0,0,0,0,0,0,0,0,0,null,"Cadmium compounds",null,0,0,0,0,0,0,0,0,0,0,0]
["Cyanide compounds",null,{"$f":"IF('15) Engines'!W58<>\"\",'15) Engines'!W58,LOOKUP('15) Calculations'!C$124,'15) Calculations'!$C$9:$I$9,'15) Calculations'!$C26:$I26))","v":0},{"$f":"IF('15) Engines'!X58<>\"\",'15) Engines'!X58,LOOKUP('15) Calculations'!D$124,'15) Calculations'!$C$9:$I$9,'15) Calculations'!$C26:$I26))","v":0},{"$f":"IF('15) Engines'!Y58<>\"\",'15) Engines'!Y58,LOOKUP('15) Calculations'!E$124,'15) Calculations'!$C$9:$I$9,'15) Calculations'!$C26:$I26))","v":0},{"$f":"IF('15) Engines'!Z58<>\"\",'15) Engines'!Z58,LOOKUP('15) Calculations'!F$124,'15) Calculations'!$C$9:$I$9,'15) Calculations'!$C26:$I26))","v":0},{"$f":"IF('15) Engines'!AA58<>\"\",'15) Engines'!AA58,LOOKUP('15) Calculations'!G$124,'15) Calculations'!$C$9:$I$9,'15) Calculations'!$C26:$I26))","v":0},{"$f":"IF('15) Engines'!AB58<>\"\",'15) Engines'!AB58,LOOKUP('15) Calculations'!H$124,'15) Calculations'!$C$9:$I$9,'15) Calculations'!$C26:$I26))","v":0},{"$f":"IF('15) Engines'!AC58<>\"\",'15) Engines'!AC58,LOOKUP('15) Calculations'!I$124,'15) Calculations'!$C$9:$I$9,'15) Calculations'!$C26:$I26))","v":0},{"$f":"IF('15) Engines'!AD58<>\"\",'15) Engines'!AD58,LOOKUP('15) Calculations'!J$124,'15) Calculations'!$C$9:$I$9,'15) Calculations'!$C26:$I26))","v":0},{"$f":"IF('15) Engines'!AE58<>\"\",'15) Engines'!AE58,LOOKUP('15) Calculations'!K$124,'15) Calculations'!$C$9:$I$9,'15) Calculations'!$C26:$I26))","v":0},{"$f":"IF('15) Engines'!AF58<>\"\",'15) Engines'!AF58,LOOKUP('15) Calculations'!L$124,'15) Calculations'!$C$9:$I$9,'15) Calculations'!$C26:$I26))","v":0},null,"Cyanide compounds",null,0,0,0,0,0,0,0,0,0,0,0,null,"Cyanide compounds",null,0,0,0,0,0,0,0,0,0,0,0]
["Formaldehyde",null,{"$f":"IF('15) Engines'!W59<>\"\",'15) Engines'!W59,LOOKUP('15) Calculations'!C$124,'15) Calculations'!$C$9:$I$9,'15) Calculations'!$C27:$I27))","v":1.1800000000000001E-3},{"$f":"IF('15) Engines'!X59<>\"\",'15) Engines'!X59,LOOKUP('15) Calculations'!D$124,'15) Calculations'!$C$9:$I$9,'15) Calculations'!$C27:$I27))","v":1.1800000000000001E-3},{"$f":"IF('15) Engines'!Y59<>\"\",'15) Engines'!Y59,LOOKUP('15) Calculations'!E$124,'15) Calculations'!$C$9:$I$9,'15) Calculations'!$C27:$I27))","v":1.1800000000000001E-3},{"$f":"IF('15) Engines'!Z59<>\"\",'15) Engines'!Z59,LOOKUP('15) Calculations'!F$124,'15) Calculations'!$C$9:$I$9,'15) Calculations'!$C27:$I27))","v":1.1800000000000001E-3},{"$f":"IF('15) Engines'!AA59<>\"\",'15) Engines'!AA59,LOOKUP('15) Calculations'!G$124,'15) Calculations'!$C$9:$I$9,'15) Calculations'!$C27:$I27))","v":1.1800000000000001E-3},{"$f":"IF('15) Engines'!AB59<>\"\",'15) Engines'!AB59,LOOKUP('15) Calculations'!H$124,'15) Calculations'!$C$9:$I$9,'15) Calculations'!$C27:$I27))","v":1.1800000000000001E-3},{"$f":"IF('15) Engines'!AC59<>\"\",'15) Engines'!AC59,LOOKUP('15) Calculations'!I$124,'15) Calculations'!$C$9:$I$9,'15) Calculations'!$C27:$I27))","v":1.1800000000000001E-3},{"$f":"IF('15) Engines'!AD59<>\"\",'15) Engines'!AD59,LOOKUP('15) Calculations'!J$124,'15) Calculations'!$C$9:$I$9,'15) Calculations'!$C27:$I27))","v":1.1800000000000001E-3},{"$f":"IF('15) Engines'!AE59<>\"\",'15) Engines'!AE59,LOOKUP('15) Calculations'!K$124,'15) Calculations'!$C$9:$I$9,'15) Calculations'!$C27:$I27))","v":1.1800000000000001E-3},{"$f":"IF('15) Engines'!AF59<>\"\",'15) Engines'!AF59,LOOKUP('15) Calculations'!L$124,'15) Calculations'!$C$9:$I$9,'15) Calculations'!$C27:$I27))","v":1.1800000000000001E-3},null,"Formaldehyde",null,0,0,0,0,0,0,0,0,0,0,0,null,"Formaldehyde",null,0,0,0,0,0,0,0,0,0,0,0]
["n-Hexane",null,{"$f":"IF('15) Engines'!W60<>\"\",'15) Engines'!W60,LOOKUP('15) Calculations'!C$124,'15) Calculations'!$C$9:$I$9,'15) Calculations'!$C28:$I28))","v":0},{"$f":"IF('15) Engines'!X60<>\"\",'15) Engines'!X60,LOOKUP('15) Calculations'!D$124,'15) Calculations'!$C$9:$I$9,'15) Calculations'!$C28:$I28))","v":0},{"$f":"IF('15) Engines'!Y60<>\"\",'15) Engines'!Y60,LOOKUP('15) Calculations'!E$124,'15) Calculations'!$C$9:$I$9,'15) Calculations'!$C28:$I28))","v":0},{"$f":"IF('15) Engines'!Z60<>\"\",'15) Engines'!Z60,LOOKUP('15) Calculations'!F$124,'15) Calculations'!$C$9:$I$9,'15) Calculations'!$C28:$I28))","v":0},{"$f":"IF('15) Engines'!AA60<>\"\",'15) Engines'!AA60,LOOKUP('15) Calculations'!G$124,'15) Calculations'!$C$9:$I$9,'15) Calculations'!$C28:$I28))","v":0},{"$f":"IF('15) Engines'!AB60<>\"\",'15) Engines'!AB60,LOOKUP('15) Calculations'!H$124,'15) Calculations'!$C$9:$I$9,'15) Calculations'!$C28:$I28))","v":0},{"$f":"IF('15) Engines'!AC60<>\"\",'15) Engines'!AC60,LOOKUP('15) Calculations'!I$124,'15) Calculations'!$C$9:$I$9,'15) Calculations'!$C28:$I28))","v":0},{"$f":"IF('15) Engines'!AD60<>\"\",'15) Engines'!AD60,LOOKUP('15) Calculations'!J$124,'15) Calculations'!$C$9:$I$9,'15) Calculations'!$C28:$I28))","v":0},{"$f":"IF('15) Engines'!AE60<>\"\",'15) Engines'!AE60,LOOKUP('15) Calculations'!K$124,'15) Calculations'!$C$9:$I$9,'15) Calculations'!$C28:$I28))","v":0},{"$f":"IF('15) Engines'!AF60<>\"\",'15) Engines'!AF60,LOOKUP('15) Calculations'!L$124,'15) Calculations'!$C$9:$I$9,'15) Calculations'!$C28:$I28))","v":0},null,"n-Hexane",null,0,0,0,0,0,0,0,0,0,0,0,null,"n-Hexane",null,0,0,0,0,0,0,0,0,0,0,0]
["Hydrochloric acid",null,{"$f":"IF('15) Engines'!W61<>\"\",'15) Engines'!W61,LOOKUP('15) Calculations'!C$124,'15) Calculations'!$C$9:$I$9,'15) Calculations'!$C29:$I29))","v":0},{"$f":"IF('15) Engines'!X61<>\"\",'15) Engines'!X61,LOOKUP('15) Calculations'!D$124,'15) Calculations'!$C$9:$I$9,'15) Calculations'!$C29:$I29))","v":0},{"$f":"IF('15) Engines'!Y61<>\"\",'15) Engines'!Y61,LOOKUP('15) Calculations'!E$124,'15) Calculations'!$C$9:$I$9,'15) Calculations'!$C29:$I29))","v":0},{"$f":"IF('15) Engines'!Z61<>\"\",'15) Engines'!Z61,LOOKUP('15) Calculations'!F$124,'15) Calculations'!$C$9:$I$9,'15) Calculations'!$C29:$I29))","v":0},{"$f":"IF('15) Engines'!AA61<>\"\",'15) Engines'!AA61,LOOKUP('15) Calculations'!G$124,'15) Calculations'!$C$9:$I$9,'15) Calculations'!$C29:$I29))","v":0},{"$f":"IF('15) Engines'!AB61<>\"\",'15) Engines'!AB61,LOOKUP('15) Calculations'!H$124,'15) Calculations'!$C$9:$I$9,'15) Calculations'!$C29:$I29))","v":0},{"$f":"IF('15) Engines'!AC61<>\"\",'15) Engines'!AC61,LOOKUP('15) Calculations'!I$124,'15) Calculations'!$C$9:$I$9,'15) Calculations'!$C29:$I29))","v":0},{"$f":"IF('15) Engines'!AD61<>\"\",'15) Engines'!AD61,LOOKUP('15) Calculations'!J$124,'15) Calculations'!$C$9:$I$9,'15) Calculations'!$C29:$I29))","v":0},{"$f":"IF('15) Engines'!AE61<>\"\",'15) Engines'!AE61,LOOKUP('15) Calculations'!K$124,'15) Calculations'!$C$9:$I$9,'15) Calculations'!$C29:$I29))","v":0},{"$f":"IF('15) Engines'!AF61<>\"\",'15) Engines'!AF61,LOOKUP('15) Calculations'!L$124,'15) Calculations'!$C$9:$I$9,'15) Calculations'!$C29:$I29))","v":0},null,"Hydrochloric acid",null,0,0,0,0,0,0,0,0,0,0,0,null,"Hydrochloric acid",null,0,0,0,0,0,0,0,0,0,0,0]
["Lead Compounds",null,{"$f":"IF('15) Engines'!W62<>\"\",'15) Engines'!W62,LOOKUP('15) Calculations'!C$124,'15) Calculations'!$C$9:$I$9,'15) Calculations'!$C30:$I30))","v":0},{"$f":"IF('15) Engines'!X62<>\"\",'15) Engines'!X62,LOOKUP('15) Calculations'!D$124,'15) Calculations'!$C$9:$I$9,'15) Calculations'!$C30:$I30))","v":0},{"$f":"IF('15) Engines'!Y62<>\"\",'15) Engines'!Y62,LOOKUP('15) Calculations'!E$124,'15) Calculations'!$C$9:$I$9,'15) Calculations'!$C30:$I30))","v":0},{"$f":"IF('15) Engines'!Z62<>\"\",'15) Engines'!Z62,LOOKUP('15) Calculations'!F$124,'15) Calculations'!$C$9:$I$9,'15) Calculations'!$C30:$I30))","v":0},{"$f":"IF('15) Engines'!AA62<>\"\",'15) Engines'!AA62,LOOKUP('15) Calculations'!G$124,'15) Calculations'!$C$9:$I$9,'15) Calculations'!$C30:$I30))","v":0},{"$f":"IF('15) Engines'!AB62<>\"\",'15) Engines'!AB62,LOOKUP('15) Calculations'!H$124,'15) Calculations'!$C$9:$I$9,'15) Calculations'!$C30:$I30))","v":0},{"$f":"IF('15) Engines'!AC62<>\"\",'15) Engines'!AC62,LOOKUP('15) Calculations'!I$124,'15) Calculations'!$C$9:$I$9,'15) Calculations'!$C30:$I30))","v":0},{"$f":"IF('15) Engines'!AD62<>\"\",'15) Engines'!AD62,LOOKUP('15) Calculations'!J$124,'15) Calculations'!$C$9:$I$9,'15) Calculations'!$C30:$I30))","v":0},{"$f":"IF('15) Engines'!AE62<>\"\",'15) Engines'!AE62,LOOKUP('15) Calculations'!K$124,'15) Calculations'!$C$9:$I$9,'15) Calculations'!$C30:$I30))","v":0},{"$f":"IF('15) Engines'!AF62<>\"\",'15) Engines'!AF62,LOOKUP('15) Calculations'!L$124,'15) Calculations'!$C$9:$I$9,'15) Calculations'!$C30:$I30))","v":0},null,"Lead Compounds",null,0,0,0,0,0,0,0,0,0,0,0,null,"Lead Compounds",null,0,0,0,0,0,0,0,0,0,0,0]
["Mercury compounds",null,{"$f":"IF('15) Engines'!W63<>\"\",'15) Engines'!W63,LOOKUP('15) Calculations'!C$124,'15) Calculations'!$C$9:$I$9,'15) Calculations'!$C31:$I31))","v":0},{"$f":"IF('15) Engines'!X63<>\"\",'15) Engines'!X63,LOOKUP('15) Calculations'!D$124,'15) Calculations'!$C$9:$I$9,'15) Calculations'!$C31:$I31))","v":0},{"$f":"IF('15) Engines'!Y63<>\"\",'15) Engines'!Y63,LOOKUP('15) Calculations'!E$124,'15) Calculations'!$C$9:$I$9,'15) Calculations'!$C31:$I31))","v":0},{"$f":"IF('15) Engines'!Z63<>\"\",'15) Engines'!Z63,LOOKUP('15) Calculations'!F$124,'15) Calculations'!$C$9:$I$9,'15) Calculations'!$C31:$I31))","v":0},{"$f":"IF('15) Engines'!AA63<>\"\",'15) Engines'!AA63,LOOKUP('15) Calculations'!G$124,'15) Calculations'!$C$9:$I$9,'15) Calculations'!$C31:$I31))","v":0},{"$f":"IF('15) Engines'!AB63<>\"\",'15) Engines'!AB63,LOOKUP('15) Calculations'!H$124,'15) Calculations'!$C$9:$I$9,'15) Calculations'!$C31:$I31))","v":0},{"$f":"IF('15) Engines'!AC63<>\"\",'15) Engines'!AC63,LOOKUP('15) Calculations'!I$124,'15) Calculations'!$C$9:$I$9,'15) Calculations'!$C31:$I31))","v":0},{"$f":"IF('15) Engines'!AD63<>\"\",'15) Engines'!AD63,LOOKUP('15) Calculations'!J$124,'15) Calculations'!$C$9:$I$9,'15) Calculations'!$C31:$I31))","v":0},{"$f":"IF('15) Engines'!AE63<>\"\",'15) Engines'!AE63,LOOKUP('15) Calculations'!K$124,'15) Calculations'!$C$9:$I$9,'15) Calculations'!$C31:$I31))","v":0},{"$f":"IF('15) Engines'!AF63<>\"\",'15) Engines'!AF63,LOOKUP('15) Calculations'!L$124,'15) Calculations'!$C$9:$I$9,'15) Calculations'!$C31:$I31))","v":0},null,"Mercury compounds",null,0,0,0,0,0,0,0,0,0,0,0,null,"Mercury compounds",null,0,0,0,0,0,0,0,0,0,0,0]
["Methanol",null,{"$f":"IF('15) Engines'!W64<>\"\",'15) Engines'!W64,LOOKUP('15) Calculations'!C$124,'15) Calculations'!$C$9:$I$9,'15) Calculations'!$C32:$I32))","v":0},{"$f":"IF('15) Engines'!X64<>\"\",'15) Engines'!X64,LOOKUP('15) Calculations'!D$124,'15) Calculations'!$C$9:$I$9,'15) Calculations'!$C32:$I32))","v":0},{"$f":"IF('15) Engines'!Y64<>\"\",'15) Engines'!Y64,LOOKUP('15) Calculations'!E$124,'15) Calculations'!$C$9:$I$9,'15) Calculations'!$C32:$I32))","v":0},{"$f":"IF('15) Engines'!Z64<>\"\",'15) Engines'!Z64,LOOKUP('15) Calculations'!F$124,'15) Calculations'!$C$9:$I$9,'15) Calculations'!$C32:$I32))","v":0},{"$f":"IF('15) Engines'!AA64<>\"\",'15) Engines'!AA64,LOOKUP('15) Calculations'!G$124,'15) Calculations'!$C$9:$I$9,'15) Calculations'!$C32:$I32))","v":0},{"$f":"IF('15) Engines'!AB64<>\"\",'15) Engines'!AB64,LOOKUP('15) Calculations'!H$124,'15) Calculations'!$C$9:$I$9,'15) Calculations'!$C32:$I32))","v":0},{"$f":"IF('15) Engines'!AC64<>\"\",'15) Engines'!AC64,LOOKUP('15) Calculations'!I$124,'15) Calculations'!$C$9:$I$9,'15) Calculations'!$C32:$I32))","v":0},{"$f":"IF('15) Engines'!AD64<>\"\",'15) Engines'!AD64,LOOKUP('15) Calculations'!J$124,'15) Calculations'!$C$9:$I$9,'15) Calculations'!$C32:$I32))","v":0},{"$f":"IF('15) Engines'!AE64<>\"\",'15) Engines'!AE64,LOOKUP('15) Calculations'!K$124,'15) Calculations'!$C$9:$I$9,'15) Calculations'!$C32:$I32))","v":0},{"$f":"IF('15) Engines'!AF64<>\"\",'15) Engines'!AF64,LOOKUP('15) Calculations'!L$124,'15) Calculations'!$C$9:$I$9,'15) Calculations'!$C32:$I32))","v":0},null,"Methanol",null,0,0,0,0,0,0,0,0,0,0,0,null,"Methanol",null,0,0,0,0,0,0,0,0,0,0,0]
["Methyl hydrazine",null,{"$f":"IF('15) Engines'!W65<>\"\",'15) Engines'!W65,LOOKUP('15) Calculations'!C$124,'15) Calculations'!$C$9:$I$9,'15) Calculations'!$C33:$I33))","v":0},{"$f":"IF('15) Engines'!X65<>\"\",'15) Engines'!X65,LOOKUP('15) Calculations'!D$124,'15) Calculations'!$C$9:$I$9,'15) Calculations'!$C33:$I33))","v":0},{"$f":"IF('15) Engines'!Y65<>\"\",'15) Engines'!Y65,LOOKUP('15) Calculations'!E$124,'15) Calculations'!$C$9:$I$9,'15) Calculations'!$C33:$I33))","v":0},{"$f":"IF('15) Engines'!Z65<>\"\",'15) Engines'!Z65,LOOKUP('15) Calculations'!F$124,'15) Calculations'!$C$9:$I$9,'15) Calculations'!$C33:$I33))","v":0},{"$f":"IF('15) Engines'!AA65<>\"\",'15) Engines'!AA65,LOOKUP('15) Calculations'!G$124,'15) Calculations'!$C$9:$I$9,'15) Calculations'!$C33:$I33))","v":0},{"$f":"IF('15) Engines'!AB65<>\"\",'15) Engines'!AB65,LOOKUP('15) Calculations'!H$124,'15) Calculations'!$C$9:$I$9,'15) Calculations'!$C33:$I33))","v":0},{"$f":"IF('15) Engines'!AC65<>\"\",'15) Engines'!AC65,LOOKUP('15) Calculations'!I$124,'15) Calculations'!$C$9:$I$9,'15) Calculations'!$C33:$I33))","v":0},{"$f":"IF('15) Engines'!AD65<>\"\",'15) Engines'!AD65,LOOKUP('15) Calculations'!J$124,'15) Calculations'!$C$9:$I$9,'15) Calculations'!$C33:$I33))","v":0},{"$f":"IF('15) Engines'!AE65<>\"\",'15) Engines'!AE65,LOOKUP('15) Calculations'!K$124,'15) Calculations'!$C$9:$I$9,'15) Calculations'!$C33:$I33))","v":0},{"$f":"IF('15) Engines'!AF65<>\"\",'15) Engines'!AF65,LOOKUP('15) Calculations'!L$124,'15) Calculations'!$C$9:$I$9,'15) Calculations'!$C33:$I33))","v":0},null,"Methyl hydrazine",null,0,0,0,0,0,0,0,0,0,0,0,null,"Methyl hydrazine",null,0,0,0,0,0,0,0,0,0,0,0]
["Selenium compounds",null,{"$f":"IF('15) Engines'!W66<>\"\",'15) Engines'!W66,LOOKUP('15) Calculations'!C$124,'15) Calculations'!$C$9:$I$9,'15) Calculations'!$C34:$I34))","v":0},{"$f":"IF('15) Engines'!X66<>\"\",'15) Engines'!X66,LOOKUP('15) Calculations'!D$124,'15) Calculations'!$C$9:$I$9,'15) Calculations'!$C34:$I34))","v":0},{"$f":"IF('15) Engines'!Y66<>\"\",'15) Engines'!Y66,LOOKUP('15) Calculations'!E$124,'15) Calculations'!$C$9:$I$9,'15) Calculations'!$C34:$I34))","v":0},{"$f":"IF('15) Engines'!Z66<>\"\",'15) Engines'!Z66,LOOKUP('15) Calculations'!F$124,'15) Calculations'!$C$9:$I$9,'15) Calculations'!$C34:$I34))","v":0},{"$f":"IF('15) Engines'!AA66<>\"\",'15) Engines'!AA66,LOOKUP('15) Calculations'!G$124,'15) Calculations'!$C$9:$I$9,'15) Calculations'!$C34:$I34))","v":0},{"$f":"IF('15) Engines'!AB66<>\"\",'15) Engines'!AB66,LOOKUP('15) Calculations'!H$124,'15) Calculations'!$C$9:$I$9,'15) Calculations'!$C34:$I34))","v":0},{"$f":"IF('15) Engines'!AC66<>\"\",'15) Engines'!AC66,LOOKUP('15) Calculations'!I$124,'15) Calculations'!$C$9:$I$9,'15) Calculations'!$C34:$I34))","v":0},{"$f":"IF('15) Engines'!AD66<>\"\",'15) Engines'!AD66,LOOKUP('15) Calculations'!J$124,'15) Calculations'!$C$9:$I$9,'15) Calculations'!$C34:$I34))","v":0},{"$f":"IF('15) Engines'!AE66<>\"\",'15) Engines'!AE66,LOOKUP('15) Calculations'!K$124,'15) Calculations'!$C$9:$I$9,'15) Calculations'!$C34:$I34))","v":0},{"$f":"IF('15) Engines'!AF66<>\"\",'15) Engines'!AF66,LOOKUP('15) Calculations'!L$124,'15) Calculations'!$C$9:$I$9,'15) Calculations'!$C34:$I34))","v":0},null,"Selenium compounds",null,0,0,0,0,0,0,0,0,0,0,0,null,"Selenium compounds",null,0,0,0,0,0,0,0,0,0,0,0]
["Other HAPs",null,{"$f":"IF('15) Engines'!W67<>\"\",'15) Engines'!W67,LOOKUP('15) Calculations'!C$124,'15) Calculations'!$C$9:$I$9,'15) Calculations'!$C35:$I35))","v":9.0109999999999995E-4},{"$f":"IF('15) Engines'!X67<>\"\",'15) Engines'!X67,LOOKUP('15) Calculations'!D$124,'15) Calculations'!$C$9:$I$9,'15) Calculations'!$C35:$I35))","v":9.0109999999999995E-4},{"$f":"IF('15) Engines'!Y67<>\"\",'15) Engines'!Y67,LOOKUP('15) Calculations'!E$124,'15) Calculations'!$C$9:$I$9,'15) Calculations'!$C35:$I35))","v":9.0109999999999995E-4},{"$f":"IF('15) Engines'!Z67<>\"\",'15) Engines'!Z67,LOOKUP('15) Calculations'!F$124,'15) Calculations'!$C$9:$I$9,'15) Calculations'!$C35:$I35))","v":9.0109999999999995E-4},{"$f":"IF('15) Engines'!AA67<>\"\",'15) Engines'!AA67,LOOKUP('15) Calculations'!G$124,'15) Calculations'!$C$9:$I$9,'15) Calculations'!$C35:$I35))","v":9.0109999999999995E-4},{"$f":"IF('15) Engines'!AB67<>\"\",'15) Engines'!AB67,LOOKUP('15) Calculations'!H$124,'15) Calculations'!$C$9:$I$9,'15) Calculations'!$C35:$I35))","v":9.0109999999999995E-4},{"$f":"IF('15) Engines'!AC67<>\"\",'15) Engines'!AC67,LOOKUP('15) Calculations'!I$124,'15) Calculations'!$C$9:$I$9,'15) Calculations'!$C35:$I35))","v":9.0109999999999995E-4},{"$f":"IF('15) Engines'!AD67<>\"\",'15) Engines'!AD67,LOOKUP('15) Calculations'!J$124,'15) Calculations'!$C$9:$I$9,'15) Calculations'!$C35:$I35))","v":9.0109999999999995E-4},{"$f":"IF('15) Engines'!AE67<>\"\",'15) Engines'!AE67,LOOKUP('15) Calculations'!K$124,'15) Calculations'!$C$9:$I$9,'15) Calculations'!$C35:$I35))","v":9.0109999999999995E-4},{"$f":"IF('15) Engines'!AF67<>\"\",'15) Engines'!AF67,LOOKUP('15) Calculations'!L$124,'15) Calculations'!$C$9:$I$9,'15) Calculations'!$C35:$I35))","v":9.0109999999999995E-4},null,"Other HAPs",null,0,0,0,0,0,0,0,0,0,0,0,null,"Other HAPs",null,0,0,0,0,0,0,0,0,0,0,0]
["Total HAPs",null,{"$f":"IF('15) Engines'!W68<>\"\",'15) Engines'!W68,LOOKUP('15) Calculations'!C$124,'15) Calculations'!$C$9:$I$9,'15) Calculations'!$C36:$I36))","v":3.8736000000000005E-3},{"$f":"IF('15) Engines'!X68<>\"\",'15) Engines'!X68,LOOKUP('15) Calculations'!D$124,'15) Calculations'!$C$9:$I$9,'15) Calculations'!$C36:$I36))","v":3.8736000000000005E-3},{"$f":"IF('15) Engines'!Y68<>\"\",'15) Engines'!Y68,LOOKUP('15) Calculations'!E$124,'15) Calculations'!$C$9:$I$9,'15) Calculations'!$C36:$I36))","v":3.8736000000000005E-3},{"$f":"IF('15) Engines'!Z68<>\"\",'15) Engines'!Z68,LOOKUP('15) Calculations'!F$124,'15) Calculations'!$C$9:$I$9,'15) Calculations'!$C36:$I36))","v":3.8736000000000005E-3},{"$f":"IF('15) Engines'!AA68<>\"\",'15) Engines'!AA68,LOOKUP('15) Calculations'!G$124,'15) Calculations'!$C$9:$I$9,'15) Calculations'!$C36:$I36))","v":3.8736000000000005E-3},{"$f":"IF('15) Engines'!AB68<>\"\",'15) Engines'!AB68,LOOKUP('15) Calculations'!H$124,'15) Calculations'!$C$9:$I$9,'15) Calculations'!$C36:$I36))","v":3.8736000000000005E-3},{"$f":"IF('15) Engines'!AC68<>\"\",'15) Engines'!AC68,LOOKUP('15) Calculations'!I$124,'15) Calculations'!$C$9:$I$9,'15) Calculations'!$C36:$I36))","v":3.8736000000000005E-3},{"$f":"IF('15) Engines'!AD68<>\"\",'15) Engines'!AD68,LOOKUP('15) Calculations'!J$124,'15) Calculations'!$C$9:$I$9,'15) Calculations'!$C36:$I36))","v":3.8736000000000005E-3},{"$f":"IF('15) Engines'!AE68<>\"\",'15) Engines'!AE68,LOOKUP('15) Calculations'!K$124,'15) Calculations'!$C$9:$I$9,'15) Calculations'!$C36:$I36))","v":3.8736000000000005E-3},{"$f":"IF('15) Engines'!AF68<>\"\",'15) Engines'!AF68,LOOKUP('15) Calculations'!L$124,'15) Calculations'!$C$9:$I$9,'15) Calculations'!$C36:$I36))","v":3.8736000000000005E-3},null,"Total HAPs",null,0,0,0,0,0,0,0,0,0,0,0,null,"Total HAPs",null,0,0,0,0,0,0,0,0,0,0,0]
["Green House Gasses",null,null,null,null,null,null,null,null,null,null,null,null,"Green House Gasses",null,null,null,null,null,null,null,null,null,null,null,null,null,"Green House Gasses"]
["  Carbon Dioxide (CO2)",null,{"$f":"IF('15) Engines'!W70<>\"\",'15) Engines'!W70,LOOKUP('15) Calculations'!C$124,'15) Calculations'!$C$9:$I$9,'15) Calculations'!$C38:$I38))","v":73.959999999999994},{"$f":"IF('15) Engines'!X70<>\"\",'15) Engines'!X70,LOOKUP('15) Calculations'!D$124,'15) Calculations'!$C$9:$I$9,'15) Calculations'!$C38:$I38))","v":73.959999999999994},{"$f":"IF('15) Engines'!Y70<>\"\",'15) Engines'!Y70,LOOKUP('15) Calculations'!E$124,'15) Calculations'!$C$9:$I$9,'15) Calculations'!$C38:$I38))","v":73.959999999999994},{"$f":"IF('15) Engines'!Z70<>\"\",'15) Engines'!Z70,LOOKUP('15) Calculations'!F$124,'15) Calculations'!$C$9:$I$9,'15) Calculations'!$C38:$I38))","v":73.959999999999994},{"$f":"IF('15) Engines'!AA70<>\"\",'15) Engines'!AA70,LOOKUP('15) Calculations'!G$124,'15) Calculations'!$C$9:$I$9,'15) Calculations'!$C38:$I38))","v":73.959999999999994},{"$f":"IF('15) Engines'!AB70<>\"\",'15) Engines'!AB70,LOOKUP('15) Calculations'!H$124,'15) Calculations'!$C$9:$I$9,'15) Calculations'!$C38:$I38))","v":73.959999999999994},{"$f":"IF('15) Engines'!AC70<>\"\",'15) Engines'!AC70,LOOKUP('15) Calculations'!I$124,'15) Calculations'!$C$9:$I$9,'15) Calculations'!$C38:$I38))","v":73.959999999999994},{"$f":"IF('15) Engines'!AD70<>\"\",'15) Engines'!AD70,LOOKUP('15) Calculations'!J$124,'15) Calculations'!$C$9:$I$9,'15) Calculations'!$C38:$I38))","v":73.959999999999994},{"$f":"IF('15) Engines'!AE70<>\"\",'15) Engines'!AE70,LOOKUP('15) Calculations'!K$124,'15) Calculations'!$C$9:$I$9,'15) Calculations'!$C38:$I38))","v":73.959999999999994},{"$f":"IF('15) Engines'!AF70<>\"\",'15) Engines'!AF70,LOOKUP('15) Calculations'!L$124,'15) Calculations'!$C$9:$I$9,'15) Calculations'!$C38:$I38))","v":73.959999999999994},null,"  Carbon Dioxide (CO2)",null,{"$f":"C152*$D$6*C$157*2.20462","v":0},0,0,0,0,0,0,0,0,0,{"$f":"SUM(P152:Y152)","v":0},null,"  Carbon Dioxide (CO2)",null,{"$f":"P152*C$158/2000","v":0},{"$f":"Q152*D$158/2000","v":0},{"$f":"R152*E$158/2000","v":0},{"$f":"S152*F$158/2000","v":0},{"$f":"T152*G$158/2000","v":0},{"$f":"U152*H$158/2000","v":0},{"$f":"V152*I$158/2000","v":0},{"$f":"W152*J$158/2000","v":0},{"$f":"X152*K$158/2000","v":0},{"$f":"Y152*L$158/2000","v":0},{"$f":"SUM(AD152:AM152)","v":0}]
["  Methane (CH4)",null,{"$f":"IF('15) Engines'!W71<>\"\",'15) Engines'!W71,LOOKUP('15) Calculations'!C$124,'15) Calculations'!$C$9:$I$9,'15) Calculations'!$C39:$I39))","v":3.0000000000000001E-3},{"$f":"IF('15) Engines'!X71<>\"\",'15) Engines'!X71,LOOKUP('15) Calculations'!D$124,'15) Calculations'!$C$9:$I$9,'15) Calculations'!$C39:$I39))","v":3.0000000000000001E-3},{"$f":"IF('15) Engines'!Y71<>\"\",'15) Engines'!Y71,LOOKUP('15) Calculations'!E$124,'15) Calculations'!$C$9:$I$9,'15) Calculations'!$C39:$I39))","v":3.0000000000000001E-3},{"$f":"IF('15) Engines'!Z71<>\"\",'15) Engines'!Z71,LOOKUP('15) Calculations'!F$124,'15) Calculations'!$C$9:$I$9,'15) Calculations'!$C39:$I39))","v":3.0000000000000001E-3},{"$f":"IF('15) Engines'!AA71<>\"\",'15) Engines'!AA71,LOOKUP('15) Calculations'!G$124,'15) Calculations'!$C$9:$I$9,'15) Calculations'!$C39:$I39))","v":3.0000000000000001E-3},{"$f":"IF('15) Engines'!AB71<>\"\",'15) Engines'!AB71,LOOKUP('15) Calculations'!H$124,'15) Calculations'!$C$9:$I$9,'15) Calculations'!$C39:$I39))","v":3.0000000000000001E-3},{"$f":"IF('15) Engines'!AC71<>\"\",'15) Engines'!AC71,LOOKUP('15) Calculations'!I$124,'15) Calculations'!$C$9:$I$9,'15) Calculations'!$C39:$I39))","v":3.0000000000000001E-3},{"$f":"IF('15) Engines'!AD71<>\"\",'15) Engines'!AD71,LOOKUP('15) Calculations'!J$124,'15) Calculations'!$C$9:$I$9,'15) Calculations'!$C39:$I39))","v":3.0000000000000001E-3},{"$f":"IF('15) Engines'!AE71<>\"\",'15) Engines'!AE71,LOOKUP('15) Calculations'!K$124,'15) Calculations'!$C$9:$I$9,'15) Calculations'!$C39:$I39))","v":3.0000000000000001E-3},{"$f":"IF('15) Engines'!AF71<>\"\",'15) Engines'!AF71,LOOKUP('15) Calculations'!L$124,'15) Calculations'!$C$9:$I$9,'15) Calculations'!$C39:$I39))","v":3.0000000000000001E-3},null,"  Methane (CH4)",null,0,0,0,0,0,0,0,0,0,0,0,null,"  Methane (CH4)",null,{"$f":"P153*C$158/2000","v":0},0,0,0,0,0,0,0,0,0,0]
["  Nitrous Oxide (N2O)",null,{"$f":"IF('15) Engines'!W72<>\"\",'15) Engines'!W72,LOOKUP('15) Calculations'!C$124,'15) Calculations'!$C$9:$I$9,'15) Calculations'!$C40:$I40))","v":5.9999999999999995E-4},{"$f":"IF('15) Engines'!X72<>\"\",'15) Engines'!X72,LOOKUP('15) Calculations'!D$124,'15) Calculations'!$C$9:$I$9,'15) Calculations'!$C40:$I40))","v":5.9999999999999995E-4},{"$f":"IF('15) Engines'!Y72<>\"\",'15) Engines'!Y72,LOOKUP('15) Calculations'!E$124,'15) Calculations'!$C$9:$I$9,'15) Calculations'!$C40:$I40))","v":5.9999999999999995E-4},{"$f":"IF('15) Engines'!Z72<>\"\",'15) Engines'!Z72,LOOKUP('15) Calculations'!F$124,'15) Calculations'!$C$9:$I$9,'15) Calculations'!$C40:$I40))","v":5.9999999999999995E-4},{"$f":"IF('15) Engines'!AA72<>\"\",'15) Engines'!AA72,LOOKUP('15) Calculations'!G$124,'15) Calculations'!$C$9:$I$9,'15) Calculations'!$C40:$I40))","v":5.9999999999999995E-4},{"$f":"IF('15) Engines'!AB72<>\"\",'15) Engines'!AB72,LOOKUP('15) Calculations'!H$124,'15) Calculations'!$C$9:$I$9,'15) Calculations'!$C40:$I40))","v":5.9999999999999995E-4},{"$f":"IF('15) Engines'!AC72<>\"\",'15) Engines'!AC72,LOOKUP('15) Calculations'!I$124,'15) Calculations'!$C$9:$I$9,'15) Calculations'!$C40:$I40))","v":5.9999999999999995E-4},{"$f":"IF('15) Engines'!AD72<>\"\",'15) Engines'!AD72,LOOKUP('15) Calculations'!J$124,'15) Calculations'!$C$9:$I$9,'15) Calculations'!$C40:$I40))","v":5.9999999999999995E-4},{"$f":"IF('15) Engines'!AE72<>\"\",'15) Engines'!AE72,LOOKUP('15) Calculations'!K$124,'15) Calculations'!$C$9:$I$9,'15) Calculations'!$C40:$I40))","v":5.9999999999999995E-4},{"$f":"IF('15) Engines'!AF72<>\"\",'15) Engines'!AF72,LOOKUP('15) Calculations'!L$124,'15) Calculations'!$C$9:$I$9,'15) Calculations'!$C40:$I40))","v":5.9999999999999995E-4},null,"  Nitrous Oxide (N2O)",null,0,0,0,0,0,0,0,0,0,0,0,null,"  Nitrous Oxide (N2O)",null,0,0,0,0,0,0,0,0,0,0,0]
[]
["Engine Rating (hp)",null,{"$f":"'15) Engines'!N16","v":0},{"$f":"'15) Engines'!N17","v":0},{"$f":"'15) Engines'!N18","v":0},{"$f":"'15) Engines'!N19","v":0},{"$f":"'15) Engines'!N20","v":0},{"$f":"'15) Engines'!N21","v":0},{"$f":"'15) Engines'!N22","v":0},{"$f":"'15) Engines'!N23","v":0},{"$f":"'15) Engines'!N24","v":0},{"$f":"'15) Engines'!N25","v":0}]
[{"$f":"'15) Engines'!O15","v":"Maximum Fuel Capacity \n(gal/hr)"},null,{"$f":"'15) Engines'!O16","v":0},{"$f":"'15) Engines'!O17","v":0},{"$f":"'15) Engines'!O18","v":0},{"$f":"'15) Engines'!O19","v":0},{"$f":"'15) Engines'!O20","v":0},{"$f":"'15) Engines'!O21","v":0},{"$f":"'15) Engines'!O22","v":0},{"$f":"'15) Engines'!O23","v":0},{"$f":"'15) Engines'!O24","v":0},{"$f":"'15) Engines'!O25","v":0}]
["Operating Hours",null,{"$f":"'15) Engines'!Q16","v":8760},{"$f":"'15) Engines'!Q17","v":8760},{"$f":"'15) Engines'!Q18","v":8760},{"$f":"'15) Engines'!Q19","v":8760},{"$f":"'15) Engines'!Q20","v":8760},{"$f":"'15) Engines'!Q21","v":8760},{"$f":"'15) Engines'!Q22","v":8760},{"$f":"'15) Engines'!Q23","v":8760},{"$f":"'15) Engines'!Q24","v":8760},{"$f":"'15) Engines'!Q25","v":8760}]
[]
[]
[]
[null,null,"1st Spark Ignition Engine","2nd Spark Ignition Engine","3rd Spark Ignition Engine","4th Spark Ignition Engine","5th Spark Ignition Engine","6th Spark Ignition Engine","7th Spark Ignition Engine","8th Spark Ignition Engine","9th Spark Ignition Engine","10th Spark Ignition Engine",null,null,null,"1st Spark Ignition Engine","2nd Spark Ignition Engine","3rd Spark Ignition Engine","4th Spark Ignition Engine","5th Spark Ignition Engine","6th Spark Ignition Engine","7th Spark Ignition Engine","8th Spark Ignition Engine","9th Spark Ignition Engine","10th Spark Ignition Engine","Total",null,null,null,"1st Spark Ignition Engine","2nd Spark Ignition Engine","3rd Spark Ignition Engine","4th Spark Ignition Engine","5th Spark Ignition Engine","6th Spark Ignition Engine","7th Spark Ignition Engine","8th Spark Ignition Engine","9th Spark Ignition Engine","10th Spark Ignition Engine","Total"]
[null,null,{"$f":"IF('15) Engines'!Q29=Datasets!$AJ$3,4,IF('15) Engines'!Q29=Datasets!$AJ$4,7,IF('15) Engines'!R29=Datasets!$AK$2,3,IF('15) Engines'!R29=Datasets!$AK$4,2,1))))","v":1},{"$f":"IF('15) Engines'!Q30=Datasets!$AJ$3,4,IF('15) Engines'!Q30=Datasets!$AJ$4,7,IF('15) Engines'!R30=Datasets!$AK$2,3,IF('15) Engines'!R30=Datasets!$AK$4,2,1))))","v":1},{"$f":"IF('15) Engines'!Q31=Datasets!$AJ$3,4,IF('15) Engines'!Q31=Datasets!$AJ$4,7,IF('15) Engines'!R31=Datasets!$AK$2,3,IF('15) Engines'!R31=Datasets!$AK$4,2,1))))","v":1},{"$f":"IF('15) Engines'!Q32=Datasets!$AJ$3,4,IF('15) Engines'!Q32=Datasets!$AJ$4,7,IF('15) Engines'!R32=Datasets!$AK$2,3,IF('15) Engines'!R32=Datasets!$AK$4,2,1))))","v":1},{"$f":"IF('15) Engines'!Q33=Datasets!$AJ$3,4,IF('15) Engines'!Q33=Datasets!$AJ$4,7,IF('15) Engines'!R33=Datasets!$AK$2,3,IF('15) Engines'!R33=Datasets!$AK$4,2,1))))","v":1},{"$f":"IF('15) Engines'!Q34=Datasets!$AJ$3,4,IF('15) Engines'!Q34=Datasets!$AJ$4,7,IF('15) Engines'!R34=Datasets!$AK$2,3,IF('15) Engines'!R34=Datasets!$AK$4,2,1))))","v":1},{"$f":"IF('15) Engines'!Q35=Datasets!$AJ$3,4,IF('15) Engines'!Q35=Datasets!$AJ$4,7,IF('15) Engines'!R35=Datasets!$AK$2,3,IF('15) Engines'!R35=Datasets!$AK$4,2,1))))","v":1},{"$f":"IF('15) Engines'!Q36=Datasets!$AJ$3,4,IF('15) Engines'!Q36=Datasets!$AJ$4,7,IF('15) Engines'!R36=Datasets!$AK$2,3,IF('15) Engines'!R36=Datasets!$AK$4,2,1))))","v":1},{"$f":"IF('15) Engines'!Q37=Datasets!$AJ$3,4,IF('15) Engines'!Q37=Datasets!$AJ$4,7,IF('15) Engines'!R37=Datasets!$AK$2,3,IF('15) Engines'!R37=Datasets!$AK$4,2,1))))","v":1},{"$f":"IF('15) Engines'!Q38=Datasets!$AJ$3,4,IF('15) Engines'!Q38=Datasets!$AJ$4,7,IF('15) Engines'!R38=Datasets!$AK$2,3,IF('15) Engines'!R38=Datasets!$AK$4,2,1))))","v":1},null,null,null,"(lb/hr)",null,null,null,null,null,null,null,null,null,null,null,null,null,"(ton/yr)"]
["PMfilterable",null,{"$f":"IF('15) Engines'!AI43<>\"\",'15) Engines'!AI43,LOOKUP('15) Calculations'!C$163,'15) Calculations'!$C$9:$I$9,'15) Calculations'!$C11:$I11))","v":9.9871000000000005E-3},{"$f":"IF('15) Engines'!AJ43<>\"\",'15) Engines'!AJ43,LOOKUP('15) Calculations'!D$163,'15) Calculations'!$C$9:$I$9,'15) Calculations'!$C11:$I11))","v":9.9871000000000005E-3},{"$f":"IF('15) Engines'!AK43<>\"\",'15) Engines'!AK43,LOOKUP('15) Calculations'!E$163,'15) Calculations'!$C$9:$I$9,'15) Calculations'!$C11:$I11))","v":9.9871000000000005E-3},{"$f":"IF('15) Engines'!AL43<>\"\",'15) Engines'!AL43,LOOKUP('15) Calculations'!F$163,'15) Calculations'!$C$9:$I$9,'15) Calculations'!$C11:$I11))","v":9.9871000000000005E-3},{"$f":"IF('15) Engines'!AM43<>\"\",'15) Engines'!AM43,LOOKUP('15) Calculations'!G$163,'15) Calculations'!$C$9:$I$9,'15) Calculations'!$C11:$I11))","v":9.9871000000000005E-3},{"$f":"IF('15) Engines'!AN43<>\"\",'15) Engines'!AN43,LOOKUP('15) Calculations'!H$163,'15) Calculations'!$C$9:$I$9,'15) Calculations'!$C11:$I11))","v":9.9871000000000005E-3},{"$f":"IF('15) Engines'!AO43<>\"\",'15) Engines'!AO43,LOOKUP('15) Calculations'!I$163,'15) Calculations'!$C$9:$I$9,'15) Calculations'!$C11:$I11))","v":9.9871000000000005E-3},{"$f":"IF('15) Engines'!AP43<>\"\",'15) Engines'!AP43,LOOKUP('15) Calculations'!J$163,'15) Calculations'!$C$9:$I$9,'15) Calculations'!$C11:$I11))","v":9.9871000000000005E-3},{"$f":"IF('15) Engines'!AQ43<>\"\",'15) Engines'!AQ43,LOOKUP('15) Calculations'!K$163,'15) Calculations'!$C$9:$I$9,'15) Calculations'!$C11:$I11))","v":9.9871000000000005E-3},{"$f":"IF('15) Engines'!AR43<>\"\",'15) Engines'!AR43,LOOKUP('15) Calculations'!L$163,'15) Calculations'!$C$9:$I$9,'15) Calculations'!$C11:$I11))","v":9.9871000000000005E-3},null,"PMfilterable",null,{"$f":"C164*C$197","v":0},{"$f":"D164*D$197","v":0},0,0,0,0,0,0,0,0,{"$f":"SUM(P164:Y164)","v":0},null,"PMfilterable",null,{"$f":"P164*C$198/2000","v":0},{"$f":"Q164*D$198/2000","v":0},0,0,0,0,0,0,0,0,{"$f":"SUM(AD164:AM164)","v":0}]
["PM10",null,{"$f":"IF('15) Engines'!AI44<>\"\",'15) Engines'!AI44,LOOKUP('15) Calculations'!C$163,'15) Calculations'!$C$9:$I$9,'15) Calculations'!$C12:$I12))","v":9.9871000000000005E-3},{"$f":"IF('15) Engines'!AJ44<>\"\",'15) Engines'!AJ44,LOOKUP('15) Calculations'!D$163,'15) Calculations'!$C$9:$I$9,'15) Calculations'!$C12:$I12))","v":9.9871000000000005E-3},{"$f":"IF('15) Engines'!AK44<>\"\",'15) Engines'!AK44,LOOKUP('15) Calculations'!E$163,'15) Calculations'!$C$9:$I$9,'15) Calculations'!$C12:$I12))","v":9.9871000000000005E-3},{"$f":"IF('15) Engines'!AL44<>\"\",'15) Engines'!AL44,LOOKUP('15) Calculations'!F$163,'15) Calculations'!$C$9:$I$9,'15) Calculations'!$C12:$I12))","v":9.9871000000000005E-3},{"$f":"IF('15) Engines'!AM44<>\"\",'15) Engines'!AM44,LOOKUP('15) Calculations'!G$163,'15) Calculations'!$C$9:$I$9,'15) Calculations'!$C12:$I12))","v":9.9871000000000005E-3},{"$f":"IF('15) Engines'!AN44<>\"\",'15) Engines'!AN44,LOOKUP('15) Calculations'!H$163,'15) Calculations'!$C$9:$I$9,'15) Calculations'!$C12:$I12))","v":9.9871000000000005E-3},{"$f":"IF('15) Engines'!AO44<>\"\",'15) Engines'!AO44,LOOKUP('15) Calculations'!I$163,'15) Calculations'!$C$9:$I$9,'15) Calculations'!$C12:$I12))","v":9.9871000000000005E-3},{"$f":"IF('15) Engines'!AP44<>\"\",'15) Engines'!AP44,LOOKUP('15) Calculations'!J$163,'15) Calculations'!$C$9:$I$9,'15) Calculations'!$C12:$I12))","v":9.9871000000000005E-3},{"$f":"IF('15) Engines'!AQ44<>\"\",'15) Engines'!AQ44,LOOKUP('15) Calculations'!K$163,'15) Calculations'!$C$9:$I$9,'15) Calculations'!$C12:$I12))","v":9.9871000000000005E-3},{"$f":"IF('15) Engines'!AR44<>\"\",'15) Engines'!AR44,LOOKUP('15) Calculations'!L$163,'15) Calculations'!$C$9:$I$9,'15) Calculations'!$C12:$I12))","v":9.9871000000000005E-3},null,"PM10",null,{"$f":"C165*C$197","v":0},{"$f":"D165*D$197","v":0},{"$f":"E165*E$197","v":0},{"$f":"F165*F$197","v":0},{"$f":"G165*G$197","v":0},{"$f":"H165*H$197","v":0},{"$f":"I165*I$197","v":0},{"$f":"J165*J$197","v":0},{"$f":"K165*K$197","v":0},{"$f":"L165*L$197","v":0},{"$f":"SUM(P165:Y165)","v":0},null,"PM10",null,{"$f":"P165*C$198/2000","v":0},{"$f":"Q165*D$198/2000","v":0},{"$f":"R165*E$198/2000","v":0},{"$f":"S165*F$198/2000","v":0},{"$f":"T165*G$198/2000","v":0},{"$f":"U165*H$198/2000","v":0},{"$f":"V165*I$198/2000","v":0},{"$f":"W165*J$198/2000","v":0},{"$f":"X165*K$198/2000","v":0},{"$f":"Y165*L$198/2000","v":0},{"$f":"SUM(AD165:AM165)","v":0}]
["PM2.5",null,{"$f":"IF('15) Engines'!AI45<>\"\",'15) Engines'!AI45,LOOKUP('15) Calculations'!C$163,'15) Calculations'!$C$9:$I$9,'15) Calculations'!$C13:$I13))","v":9.9871000000000005E-3},{"$f":"IF('15) Engines'!AJ45<>\"\",'15) Engines'!AJ45,LOOKUP('15) Calculations'!D$163,'15) Calculations'!$C$9:$I$9,'15) Calculations'!$C13:$I13))","v":9.9871000000000005E-3},{"$f":"IF('15) Engines'!AK45<>\"\",'15) Engines'!AK45,LOOKUP('15) Calculations'!E$163,'15) Calculations'!$C$9:$I$9,'15) Calculations'!$C13:$I13))","v":9.9871000000000005E-3},{"$f":"IF('15) Engines'!AL45<>\"\",'15) Engines'!AL45,LOOKUP('15) Calculations'!F$163,'15) Calculations'!$C$9:$I$9,'15) Calculations'!$C13:$I13))","v":9.9871000000000005E-3},{"$f":"IF('15) Engines'!AM45<>\"\",'15) Engines'!AM45,LOOKUP('15) Calculations'!G$163,'15) Calculations'!$C$9:$I$9,'15) Calculations'!$C13:$I13))","v":9.9871000000000005E-3},{"$f":"IF('15) Engines'!AN45<>\"\",'15) Engines'!AN45,LOOKUP('15) Calculations'!H$163,'15) Calculations'!$C$9:$I$9,'15) Calculations'!$C13:$I13))","v":9.9871000000000005E-3},{"$f":"IF('15) Engines'!AO45<>\"\",'15) Engines'!AO45,LOOKUP('15) Calculations'!I$163,'15) Calculations'!$C$9:$I$9,'15) Calculations'!$C13:$I13))","v":9.9871000000000005E-3},{"$f":"IF('15) Engines'!AP45<>\"\",'15) Engines'!AP45,LOOKUP('15) Calculations'!J$163,'15) Calculations'!$C$9:$I$9,'15) Calculations'!$C13:$I13))","v":9.9871000000000005E-3},{"$f":"IF('15) Engines'!AQ45<>\"\",'15) Engines'!AQ45,LOOKUP('15) Calculations'!K$163,'15) Calculations'!$C$9:$I$9,'15) Calculations'!$C13:$I13))","v":9.9871000000000005E-3},{"$f":"IF('15) Engines'!AR45<>\"\",'15) Engines'!AR45,LOOKUP('15) Calculations'!L$163,'15) Calculations'!$C$9:$I$9,'15) Calculations'!$C13:$I13))","v":9.9871000000000005E-3},null,"PM2.5",null,0,0,0,0,0,0,0,0,0,0,0,null,"PM2.5",null,0,0,0,0,0,0,0,0,0,0,0]
["SO2",null,{"$f":"IF('15) Engines'!AI46<>\"\",'15) Engines'!AI46,LOOKUP('15) Calculations'!C$163,'15) Calculations'!$C$9:$I$9,'15) Calculations'!$C14:$I14))","v":5.8799999999999998E-4},{"$f":"IF('15) Engines'!AJ46<>\"\",'15) Engines'!AJ46,LOOKUP('15) Calculations'!D$163,'15) Calculations'!$C$9:$I$9,'15) Calculations'!$C14:$I14))","v":5.8799999999999998E-4},{"$f":"IF('15) Engines'!AK46<>\"\",'15) Engines'!AK46,LOOKUP('15) Calculations'!E$163,'15) Calculations'!$C$9:$I$9,'15) Calculations'!$C14:$I14))","v":5.8799999999999998E-4},{"$f":"IF('15) Engines'!AL46<>\"\",'15) Engines'!AL46,LOOKUP('15) Calculations'!F$163,'15) Calculations'!$C$9:$I$9,'15) Calculations'!$C14:$I14))","v":5.8799999999999998E-4},{"$f":"IF('15) Engines'!AM46<>\"\",'15) Engines'!AM46,LOOKUP('15) Calculations'!G$163,'15) Calculations'!$C$9:$I$9,'15) Calculations'!$C14:$I14))","v":5.8799999999999998E-4},{"$f":"IF('15) Engines'!AN46<>\"\",'15) Engines'!AN46,LOOKUP('15) Calculations'!H$163,'15) Calculations'!$C$9:$I$9,'15) Calculations'!$C14:$I14))","v":5.8799999999999998E-4},{"$f":"IF('15) Engines'!AO46<>\"\",'15) Engines'!AO46,LOOKUP('15) Calculations'!I$163,'15) Calculations'!$C$9:$I$9,'15) Calculations'!$C14:$I14))","v":5.8799999999999998E-4},{"$f":"IF('15) Engines'!AP46<>\"\",'15) Engines'!AP46,LOOKUP('15) Calculations'!J$163,'15) Calculations'!$C$9:$I$9,'15) Calculations'!$C14:$I14))","v":5.8799999999999998E-4},{"$f":"IF('15) Engines'!AQ46<>\"\",'15) Engines'!AQ46,LOOKUP('15) Calculations'!K$163,'15) Calculations'!$C$9:$I$9,'15) Calculations'!$C14:$I14))","v":5.8799999999999998E-4},{"$f":"IF('15) Engines'!AR46<>\"\",'15) Engines'!AR46,LOOKUP('15) Calculations'!L$163,'15) Calculations'!$C$9:$I$9,'15) Calculations'!$C14:$I14))","v":5.8799999999999998E-4},null,"SO2",null,0,0,0,0,0,0,0,0,0,0,0,null,"SO2",null,0,0,0,0,0,0,0,0,0,0,0]
["NOx",null,{"$f":"IF('15) Engines'!AI47<>\"\",'15) Engines'!AI47,LOOKUP('15) Calculations'!C$163,'15) Calculations'!$C$9:$I$9,'15) Calculations'!$C15:$I15))","v":4.08},{"$f":"IF('15) Engines'!AJ47<>\"\",'15) Engines'!AJ47,LOOKUP('15) Calculations'!D$163,'15) Calculations'!$C$9:$I$9,'15) Calculations'!$C15:$I15))","v":4.08},{"$f":"IF('15) Engines'!AK47<>\"\",'15) Engines'!AK47,LOOKUP('15) Calculations'!E$163,'15) Calculations'!$C$9:$I$9,'15) Calculations'!$C15:$I15))","v":4.08},{"$f":"IF('15) Engines'!AL47<>\"\",'15) Engines'!AL47,LOOKUP('15) Calculations'!F$163,'15) Calculations'!$C$9:$I$9,'15) Calculations'!$C15:$I15))","v":4.08},{"$f":"IF('15) Engines'!AM47<>\"\",'15) Engines'!AM47,LOOKUP('15) Calculations'!G$163,'15) Calculations'!$C$9:$I$9,'15) Calculations'!$C15:$I15))","v":4.08},{"$f":"IF('15) Engines'!AN47<>\"\",'15) Engines'!AN47,LOOKUP('15) Calculations'!H$163,'15) Calculations'!$C$9:$I$9,'15) Calculations'!$C15:$I15))","v":4.08},{"$f":"IF('15) Engines'!AO47<>\"\",'15) Engines'!AO47,LOOKUP('15) Calculations'!I$163,'15) Calculations'!$C$9:$I$9,'15) Calculations'!$C15:$I15))","v":4.08},{"$f":"IF('15) Engines'!AP47<>\"\",'15) Engines'!AP47,LOOKUP('15) Calculations'!J$163,'15) Calculations'!$C$9:$I$9,'15) Calculations'!$C15:$I15))","v":4.08},{"$f":"IF('15) Engines'!AQ47<>\"\",'15) Engines'!AQ47,LOOKUP('15) Calculations'!K$163,'15) Calculations'!$C$9:$I$9,'15) Calculations'!$C15:$I15))","v":4.08},{"$f":"IF('15) Engines'!AR47<>\"\",'15) Engines'!AR47,LOOKUP('15) Calculations'!L$163,'15) Calculations'!$C$9:$I$9,'15) Calculations'!$C15:$I15))","v":4.08},null,"NOx",null,0,0,0,0,0,0,0,0,0,0,0,null,"NOx",null,0,0,0,0,0,0,0,0,0,0,0]
["CO",null,{"$f":"IF('15) Engines'!AI48<>\"\",'15) Engines'!AI48,LOOKUP('15) Calculations'!C$163,'15) Calculations'!$C$9:$I$9,'15) Calculations'!$C16:$I16))","v":0.55700000000000005},{"$f":"IF('15) Engines'!AJ48<>\"\",'15) Engines'!AJ48,LOOKUP('15) Calculations'!D$163,'15) Calculations'!$C$9:$I$9,'15) Calculations'!$C16:$I16))","v":0.55700000000000005},{"$f":"IF('15) Engines'!AK48<>\"\",'15) Engines'!AK48,LOOKUP('15) Calculations'!E$163,'15) Calculations'!$C$9:$I$9,'15) Calculations'!$C16:$I16))","v":0.55700000000000005},{"$f":"IF('15) Engines'!AL48<>\"\",'15) Engines'!AL48,LOOKUP('15) Calculations'!F$163,'15) Calculations'!$C$9:$I$9,'15) Calculations'!$C16:$I16))","v":0.55700000000000005},{"$f":"IF('15) Engines'!AM48<>\"\",'15) Engines'!AM48,LOOKUP('15) Calculations'!G$163,'15) Calculations'!$C$9:$I$9,'15) Calculations'!$C16:$I16))","v":0.55700000000000005},{"$f":"IF('15) Engines'!AN48<>\"\",'15) Engines'!AN48,LOOKUP('15) Calculations'!H$163,'15) Calculations'!$C$9:$I$9,'15) Calculations'!$C16:$I16))","v":0.55700000000000005},{"$f":"IF('15) Engines'!AO48<>\"\",'15) Engines'!AO48,LOOKUP('15) Calculations'!I$163,'15) Calculations'!$C$9:$I$9,'15) Calculations'!$C16:$I16))","v":0.55700000000000005},{"$f":"IF('15) Engines'!AP48<>\"\",'15) Engines'!AP48,LOOKUP('15) Calculations'!J$163,'15) Calculations'!$C$9:$I$9,'15) Calculations'!$C16:$I16))","v":0.55700000000000005},{"$f":"IF('15) Engines'!AQ48<>\"\",'15) Engines'!AQ48,LOOKUP('15) Calculations'!K$163,'15) Calculations'!$C$9:$I$9,'15) Calculations'!$C16:$I16))","v":0.55700000000000005},{"$f":"IF('15) Engines'!AR48<>\"\",'15) Engines'!AR48,LOOKUP('15) Calculations'!L$163,'15) Calculations'!$C$9:$I$9,'15) Calculations'!$C16:$I16))","v":0.55700000000000005},null,"CO",null,0,0,0,0,0,0,0,0,0,0,0,null,"CO",null,0,0,0,0,0,0,0,0,0,0,0]
["VOC",null,{"$f":"IF('15) Engines'!AI49<>\"\",'15) Engines'!AI49,LOOKUP('15) Calculations'!C$163,'15) Calculations'!$C$9:$I$9,'15) Calculations'!$C17:$I17))","v":0.11799999999999999},{"$f":"IF('15) Engines'!AJ49<>\"\",'15) Engines'!AJ49,LOOKUP('15) Calculations'!D$163,'15) Calculations'!$C$9:$I$9,'15) Calculations'!$C17:$I17))","v":0.11799999999999999},{"$f":"IF('15) Engines'!AK49<>\"\",'15) Engines'!AK49,LOOKUP('15) Calculations'!E$163,'15) Calculations'!$C$9:$I$9,'15) Calculations'!$C17:$I17))","v":0.11799999999999999},{"$f":"IF('15) Engines'!AL49<>\"\",'15) Engines'!AL49,LOOKUP('15) Calculations'!F$163,'15) Calculations'!$C$9:$I$9,'15) Calculations'!$C17:$I17))","v":0.11799999999999999},{"$f":"IF('15) Engines'!AM49<>\"\",'15) Engines'!AM49,LOOKUP('15) Calculations'!G$163,'15) Calculations'!$C$9:$I$9,'15) Calculations'!$C17:$I17))","v":0.11799999999999999},{"$f":"IF('15) Engines'!AN49<>\"\",'15) Engines'!AN49,LOOKUP('15) Calculations'!H$163,'15) Calculations'!$C$9:$I$9,'15) Calculations'!$C17:$I17))","v":0.11799999999999999},{"$f":"IF('15) Engines'!AO49<>\"\",'15) Engines'!AO49,LOOKUP('15) Calculations'!I$163,'15) Calculations'!$C$9:$I$9,'15) Calculations'!$C17:$I17))","v":0.11799999999999999},{"$f":"IF('15) Engines'!AP49<>\"\",'15) Engines'!AP49,LOOKUP('15) Calculations'!J$163,'15) Calculations'!$C$9:$I$9,'15) Calculations'!$C17:$I17))","v":0.11799999999999999},{"$f":"IF('15) Engines'!AQ49<>\"\",'15) Engines'!AQ49,LOOKUP('15) Calculations'!K$163,'15) Calculations'!$C$9:$I$9,'15) Calculations'!$C17:$I17))","v":0.11799999999999999},{"$f":"IF('15) Engines'!AR49<>\"\",'15) Engines'!AR49,LOOKUP('15) Calculations'!L$163,'15) Calculations'!$C$9:$I$9,'15) Calculations'!$C17:$I17))","v":0.11799999999999999},null,"VOC",null,0,0,0,0,0,0,0,0,0,0,0,null,"VOC",null,0,0,0,0,0,0,0,0,0,0,0]
["Individual HAP",null,null,null,null,null,null,null,null,null,null,null,null,"Individual HAP",null,null,null,null,null,null,null,null,null,null,null,null,null,"Individual HAP"]
["Acetaldehyde",null,{"$f":"IF('15) Engines'!AI51<>\"\",'15) Engines'!AI51,LOOKUP('15) Calculations'!C$163,'15) Calculations'!$C$9:$I$9,'15) Calculations'!$C19:$I19))","v":8.3599999999999994E-3},{"$f":"IF('15) Engines'!AJ51<>\"\",'15) Engines'!AJ51,LOOKUP('15) Calculations'!D$163,'15) Calculations'!$C$9:$I$9,'15) Calculations'!$C19:$I19))","v":8.3599999999999994E-3},{"$f":"IF('15) Engines'!AK51<>\"\",'15) Engines'!AK51,LOOKUP('15) Calculations'!E$163,'15) Calculations'!$C$9:$I$9,'15) Calculations'!$C19:$I19))","v":8.3599999999999994E-3},{"$f":"IF('15) Engines'!AL51<>\"\",'15) Engines'!AL51,LOOKUP('15) Calculations'!F$163,'15) Calculations'!$C$9:$I$9,'15) Calculations'!$C19:$I19))","v":8.3599999999999994E-3},{"$f":"IF('15) Engines'!AM51<>\"\",'15) Engines'!AM51,LOOKUP('15) Calculations'!G$163,'15) Calculations'!$C$9:$I$9,'15) Calculations'!$C19:$I19))","v":8.3599999999999994E-3},{"$f":"IF('15) Engines'!AN51<>\"\",'15) Engines'!AN51,LOOKUP('15) Calculations'!H$163,'15) Calculations'!$C$9:$I$9,'15) Calculations'!$C19:$I19))","v":8.3599999999999994E-3},{"$f":"IF('15) Engines'!AO51<>\"\",'15) Engines'!AO51,LOOKUP('15) Calculations'!I$163,'15) Calculations'!$C$9:$I$9,'15) Calculations'!$C19:$I19))","v":8.3599999999999994E-3},{"$f":"IF('15) Engines'!AP51<>\"\",'15) Engines'!AP51,LOOKUP('15) Calculations'!J$163,'15) Calculations'!$C$9:$I$9,'15) Calculations'!$C19:$I19))","v":8.3599999999999994E-3},{"$f":"IF('15) Engines'!AQ51<>\"\",'15) Engines'!AQ51,LOOKUP('15) Calculations'!K$163,'15) Calculations'!$C$9:$I$9,'15) Calculations'!$C19:$I19))","v":8.3599999999999994E-3},{"$f":"IF('15) Engines'!AR51<>\"\",'15) Engines'!AR51,LOOKUP('15) Calculations'!L$163,'15) Calculations'!$C$9:$I$9,'15) Calculations'!$C19:$I19))","v":8.3599999999999994E-3},null,"Acetaldehyde",null,{"$f":"C172*C$197","v":0},{"$f":"D172*D$197","v":0},{"$f":"E172*E$197","v":0},{"$f":"F172*F$197","v":0},{"$f":"G172*G$197","v":0},{"$f":"H172*H$197","v":0},{"$f":"I172*I$197","v":0},{"$f":"J172*J$197","v":0},{"$f":"K172*K$197","v":0},{"$f":"L172*L$197","v":0},{"$f":"SUM(P172:Y172)","v":0},null,"Acetaldehyde",null,{"$f":"P172*C$198/2000","v":0},{"$f":"Q172*D$198/2000","v":0},{"$f":"R172*E$198/2000","v":0},{"$f":"S172*F$198/2000","v":0},{"$f":"T172*G$198/2000","v":0},{"$f":"U172*H$198/2000","v":0},{"$f":"V172*I$198/2000","v":0},{"$f":"W172*J$198/2000","v":0},{"$f":"X172*K$198/2000","v":0},{"$f":"Y172*L$198/2000","v":0},{"$f":"SUM(AD172:AM172)","v":0}]
["Acrolein",null,{"$f":"IF('15) Engines'!AI52<>\"\",'15) Engines'!AI52,LOOKUP('15) Calculations'!C$163,'15) Calculations'!$C$9:$I$9,'15) Calculations'!$C20:$I20))","v":5.1399999999999996E-3},{"$f":"IF('15) Engines'!AJ52<>\"\",'15) Engines'!AJ52,LOOKUP('15) Calculations'!D$163,'15) Calculations'!$C$9:$I$9,'15) Calculations'!$C20:$I20))","v":5.1399999999999996E-3},{"$f":"IF('15) Engines'!AK52<>\"\",'15) Engines'!AK52,LOOKUP('15) Calculations'!E$163,'15) Calculations'!$C$9:$I$9,'15) Calculations'!$C20:$I20))","v":5.1399999999999996E-3},{"$f":"IF('15) Engines'!AL52<>\"\",'15) Engines'!AL52,LOOKUP('15) Calculations'!F$163,'15) Calculations'!$C$9:$I$9,'15) Calculations'!$C20:$I20))","v":5.1399999999999996E-3},{"$f":"IF('15) Engines'!AM52<>\"\",'15) Engines'!AM52,LOOKUP('15) Calculations'!G$163,'15) Calculations'!$C$9:$I$9,'15) Calculations'!$C20:$I20))","v":5.1399999999999996E-3},{"$f":"IF('15) Engines'!AN52<>\"\",'15) Engines'!AN52,LOOKUP('15) Calculations'!H$163,'15) Calculations'!$C$9:$I$9,'15) Calculations'!$C20:$I20))","v":5.1399999999999996E-3},{"$f":"IF('15) Engines'!AO52<>\"\",'15) Engines'!AO52,LOOKUP('15) Calculations'!I$163,'15) Calculations'!$C$9:$I$9,'15) Calculations'!$C20:$I20))","v":5.1399999999999996E-3},{"$f":"IF('15) Engines'!AP52<>\"\",'15) Engines'!AP52,LOOKUP('15) Calculations'!J$163,'15) Calculations'!$C$9:$I$9,'15) Calculations'!$C20:$I20))","v":5.1399999999999996E-3},{"$f":"IF('15) Engines'!AQ52<>\"\",'15) Engines'!AQ52,LOOKUP('15) Calculations'!K$163,'15) Calculations'!$C$9:$I$9,'15) Calculations'!$C20:$I20))","v":5.1399999999999996E-3},{"$f":"IF('15) Engines'!AR52<>\"\",'15) Engines'!AR52,LOOKUP('15) Calculations'!L$163,'15) Calculations'!$C$9:$I$9,'15) Calculations'!$C20:$I20))","v":5.1399999999999996E-3},null,"Acrolein",null,0,0,0,0,0,0,0,0,0,0,0,null,"Acrolein",null,0,0,0,0,0,0,0,0,0,0,0]
["Arsenic compounds",null,{"$f":"IF('15) Engines'!AI53<>\"\",'15) Engines'!AI53,LOOKUP('15) Calculations'!C$163,'15) Calculations'!$C$9:$I$9,'15) Calculations'!$C21:$I21))","v":0},{"$f":"IF('15) Engines'!AJ53<>\"\",'15) Engines'!AJ53,LOOKUP('15) Calculations'!D$163,'15) Calculations'!$C$9:$I$9,'15) Calculations'!$C21:$I21))","v":0},{"$f":"IF('15) Engines'!AK53<>\"\",'15) Engines'!AK53,LOOKUP('15) Calculations'!E$163,'15) Calculations'!$C$9:$I$9,'15) Calculations'!$C21:$I21))","v":0},{"$f":"IF('15) Engines'!AL53<>\"\",'15) Engines'!AL53,LOOKUP('15) Calculations'!F$163,'15) Calculations'!$C$9:$I$9,'15) Calculations'!$C21:$I21))","v":0},{"$f":"IF('15) Engines'!AM53<>\"\",'15) Engines'!AM53,LOOKUP('15) Calculations'!G$163,'15) Calculations'!$C$9:$I$9,'15) Calculations'!$C21:$I21))","v":0},{"$f":"IF('15) Engines'!AN53<>\"\",'15) Engines'!AN53,LOOKUP('15) Calculations'!H$163,'15) Calculations'!$C$9:$I$9,'15) Calculations'!$C21:$I21))","v":0},{"$f":"IF('15) Engines'!AO53<>\"\",'15) Engines'!AO53,LOOKUP('15) Calculations'!I$163,'15) Calculations'!$C$9:$I$9,'15) Calculations'!$C21:$I21))","v":0},{"$f":"IF('15) Engines'!AP53<>\"\",'15) Engines'!AP53,LOOKUP('15) Calculations'!J$163,'15) Calculations'!$C$9:$I$9,'15) Calculations'!$C21:$I21))","v":0},{"$f":"IF('15) Engines'!AQ53<>\"\",'15) Engines'!AQ53,LOOKUP('15) Calculations'!K$163,'15) Calculations'!$C$9:$I$9,'15) Calculations'!$C21:$I21))","v":0},{"$f":"IF('15) Engines'!AR53<>\"\",'15) Engines'!AR53,LOOKUP('15) Calculations'!L$163,'15) Calculations'!$C$9:$I$9,'15) Calculations'!$C21:$I21))","v":0},null,"Arsenic compounds",null,0,0,0,0,0,0,0,0,0,0,0,null,"Arsenic compounds",null,0,0,0,0,0,0,0,0,0,0,0]
["Benzene",null,{"$f":"IF('15) Engines'!AI54<>\"\",'15) Engines'!AI54,LOOKUP('15) Calculations'!C$163,'15) Calculations'!$C$9:$I$9,'15) Calculations'!$C22:$I22))","v":4.4000000000000002E-4},{"$f":"IF('15) Engines'!AJ54<>\"\",'15) Engines'!AJ54,LOOKUP('15) Calculations'!D$163,'15) Calculations'!$C$9:$I$9,'15) Calculations'!$C22:$I22))","v":4.4000000000000002E-4},{"$f":"IF('15) Engines'!AK54<>\"\",'15) Engines'!AK54,LOOKUP('15) Calculations'!E$163,'15) Calculations'!$C$9:$I$9,'15) Calculations'!$C22:$I22))","v":4.4000000000000002E-4},{"$f":"IF('15) Engines'!AL54<>\"\",'15) Engines'!AL54,LOOKUP('15) Calculations'!F$163,'15) Calculations'!$C$9:$I$9,'15) Calculations'!$C22:$I22))","v":4.4000000000000002E-4},{"$f":"IF('15) Engines'!AM54<>\"\",'15) Engines'!AM54,LOOKUP('15) Calculations'!G$163,'15) Calculations'!$C$9:$I$9,'15) Calculations'!$C22:$I22))","v":4.4000000000000002E-4},{"$f":"IF('15) Engines'!AN54<>\"\",'15) Engines'!AN54,LOOKUP('15) Calculations'!H$163,'15) Calculations'!$C$9:$I$9,'15) Calculations'!$C22:$I22))","v":4.4000000000000002E-4},{"$f":"IF('15) Engines'!AO54<>\"\",'15) Engines'!AO54,LOOKUP('15) Calculations'!I$163,'15) Calculations'!$C$9:$I$9,'15) Calculations'!$C22:$I22))","v":4.4000000000000002E-4},{"$f":"IF('15) Engines'!AP54<>\"\",'15) Engines'!AP54,LOOKUP('15) Calculations'!J$163,'15) Calculations'!$C$9:$I$9,'15) Calculations'!$C22:$I22))","v":4.4000000000000002E-4},{"$f":"IF('15) Engines'!AQ54<>\"\",'15) Engines'!AQ54,LOOKUP('15) Calculations'!K$163,'15) Calculations'!$C$9:$I$9,'15) Calculations'!$C22:$I22))","v":4.4000000000000002E-4},{"$f":"IF('15) Engines'!AR54<>\"\",'15) Engines'!AR54,LOOKUP('15) Calculations'!L$163,'15) Calculations'!$C$9:$I$9,'15) Calculations'!$C22:$I22))","v":4.4000000000000002E-4},null,"Benzene",null,0,0,0,0,0,0,0,0,0,0,0,null,"Benzene",null,0,0,0,0,0,0,0,0,0,0,0]
["Benzyl chloride",null,{"$f":"IF('15) Engines'!AI55<>\"\",'15) Engines'!AI55,LOOKUP('15) Calculations'!C$163,'15) Calculations'!$C$9:$I$9,'15) Calculations'!$C23:$I23))","v":0},{"$f":"IF('15) Engines'!AJ55<>\"\",'15) Engines'!AJ55,LOOKUP('15) Calculations'!D$163,'15) Calculations'!$C$9:$I$9,'15) Calculations'!$C23:$I23))","v":0},{"$f":"IF('15) Engines'!AK55<>\"\",'15) Engines'!AK55,LOOKUP('15) Calculations'!E$163,'15) Calculations'!$C$9:$I$9,'15) Calculations'!$C23:$I23))","v":0},{"$f":"IF('15) Engines'!AL55<>\"\",'15) Engines'!AL55,LOOKUP('15) Calculations'!F$163,'15) Calculations'!$C$9:$I$9,'15) Calculations'!$C23:$I23))","v":0},{"$f":"IF('15) Engines'!AM55<>\"\",'15) Engines'!AM55,LOOKUP('15) Calculations'!G$163,'15) Calculations'!$C$9:$I$9,'15) Calculations'!$C23:$I23))","v":0},{"$f":"IF('15) Engines'!AN55<>\"\",'15) Engines'!AN55,LOOKUP('15) Calculations'!H$163,'15) Calculations'!$C$9:$I$9,'15) Calculations'!$C23:$I23))","v":0},{"$f":"IF('15) Engines'!AO55<>\"\",'15) Engines'!AO55,LOOKUP('15) Calculations'!I$163,'15) Calculations'!$C$9:$I$9,'15) Calculations'!$C23:$I23))","v":0},{"$f":"IF('15) Engines'!AP55<>\"\",'15) Engines'!AP55,LOOKUP('15) Calculations'!J$163,'15) Calculations'!$C$9:$I$9,'15) Calculations'!$C23:$I23))","v":0},{"$f":"IF('15) Engines'!AQ55<>\"\",'15) Engines'!AQ55,LOOKUP('15) Calculations'!K$163,'15) Calculations'!$C$9:$I$9,'15) Calculations'!$C23:$I23))","v":0},{"$f":"IF('15) Engines'!AR55<>\"\",'15) Engines'!AR55,LOOKUP('15) Calculations'!L$163,'15) Calculations'!$C$9:$I$9,'15) Calculations'!$C23:$I23))","v":0},null,"Benzyl chloride",null,0,0,0,0,0,0,0,0,0,0,0,null,"Benzyl chloride",null,0,0,0,0,0,0,0,0,0,0,0]
["Beryllium compounds",null,{"$f":"IF('15) Engines'!AI56<>\"\",'15) Engines'!AI56,LOOKUP('15) Calculations'!C$163,'15) Calculations'!$C$9:$I$9,'15) Calculations'!$C24:$I24))","v":0},{"$f":"IF('15) Engines'!AJ56<>\"\",'15) Engines'!AJ56,LOOKUP('15) Calculations'!D$163,'15) Calculations'!$C$9:$I$9,'15) Calculations'!$C24:$I24))","v":0},{"$f":"IF('15) Engines'!AK56<>\"\",'15) Engines'!AK56,LOOKUP('15) Calculations'!E$163,'15) Calculations'!$C$9:$I$9,'15) Calculations'!$C24:$I24))","v":0},{"$f":"IF('15) Engines'!AL56<>\"\",'15) Engines'!AL56,LOOKUP('15) Calculations'!F$163,'15) Calculations'!$C$9:$I$9,'15) Calculations'!$C24:$I24))","v":0},{"$f":"IF('15) Engines'!AM56<>\"\",'15) Engines'!AM56,LOOKUP('15) Calculations'!G$163,'15) Calculations'!$C$9:$I$9,'15) Calculations'!$C24:$I24))","v":0},{"$f":"IF('15) Engines'!AN56<>\"\",'15) Engines'!AN56,LOOKUP('15) Calculations'!H$163,'15) Calculations'!$C$9:$I$9,'15) Calculations'!$C24:$I24))","v":0},{"$f":"IF('15) Engines'!AO56<>\"\",'15) Engines'!AO56,LOOKUP('15) Calculations'!I$163,'15) Calculations'!$C$9:$I$9,'15) Calculations'!$C24:$I24))","v":0},{"$f":"IF('15) Engines'!AP56<>\"\",'15) Engines'!AP56,LOOKUP('15) Calculations'!J$163,'15) Calculations'!$C$9:$I$9,'15) Calculations'!$C24:$I24))","v":0},{"$f":"IF('15) Engines'!AQ56<>\"\",'15) Engines'!AQ56,LOOKUP('15) Calculations'!K$163,'15) Calculations'!$C$9:$I$9,'15) Calculations'!$C24:$I24))","v":0},{"$f":"IF('15) Engines'!AR56<>\"\",'15) Engines'!AR56,LOOKUP('15) Calculations'!L$163,'15) Calculations'!$C$9:$I$9,'15) Calculations'!$C24:$I24))","v":0},null,"Beryllium compounds",null,0,0,0,0,0,0,0,0,0,0,0,null,"Beryllium compounds",null,0,0,0,0,0,0,0,0,0,0,0]
["Cadmium compounds",null,{"$f":"IF('15) Engines'!AI57<>\"\",'15) Engines'!AI57,LOOKUP('15) Calculations'!C$163,'15) Calculations'!$C$9:$I$9,'15) Calculations'!$C25:$I25))","v":0},{"$f":"IF('15) Engines'!AJ57<>\"\",'15) Engines'!AJ57,LOOKUP('15) Calculations'!D$163,'15) Calculations'!$C$9:$I$9,'15) Calculations'!$C25:$I25))","v":0},{"$f":"IF('15) Engines'!AK57<>\"\",'15) Engines'!AK57,LOOKUP('15) Calculations'!E$163,'15) Calculations'!$C$9:$I$9,'15) Calculations'!$C25:$I25))","v":0},{"$f":"IF('15) Engines'!AL57<>\"\",'15) Engines'!AL57,LOOKUP('15) Calculations'!F$163,'15) Calculations'!$C$9:$I$9,'15) Calculations'!$C25:$I25))","v":0},{"$f":"IF('15) Engines'!AM57<>\"\",'15) Engines'!AM57,LOOKUP('15) Calculations'!G$163,'15) Calculations'!$C$9:$I$9,'15) Calculations'!$C25:$I25))","v":0},{"$f":"IF('15) Engines'!AN57<>\"\",'15) Engines'!AN57,LOOKUP('15) Calculations'!H$163,'15) Calculations'!$C$9:$I$9,'15) Calculations'!$C25:$I25))","v":0},{"$f":"IF('15) Engines'!AO57<>\"\",'15) Engines'!AO57,LOOKUP('15) Calculations'!I$163,'15) Calculations'!$C$9:$I$9,'15) Calculations'!$C25:$I25))","v":0},{"$f":"IF('15) Engines'!AP57<>\"\",'15) Engines'!AP57,LOOKUP('15) Calculations'!J$163,'15) Calculations'!$C$9:$I$9,'15) Calculations'!$C25:$I25))","v":0},{"$f":"IF('15) Engines'!AQ57<>\"\",'15) Engines'!AQ57,LOOKUP('15) Calculations'!K$163,'15) Calculations'!$C$9:$I$9,'15) Calculations'!$C25:$I25))","v":0},{"$f":"IF('15) Engines'!AR57<>\"\",'15) Engines'!AR57,LOOKUP('15) Calculations'!L$163,'15) Calculations'!$C$9:$I$9,'15) Calculations'!$C25:$I25))","v":0},null,"Cadmium compounds",null,0,0,0,0,0,0,0,0,0,0,0,null,"Cadmium compounds",null,0,0,0,0,0,0,0,0,0,0,0]
["Cyanide compounds",null,{"$f":"IF('15) Engines'!AI58<>\"\",'15) Engines'!AI58,LOOKUP('15) Calculations'!C$163,'15) Calculations'!$C$9:$I$9,'15) Calculations'!$C26:$I26))","v":0},{"$f":"IF('15) Engines'!AJ58<>\"\",'15) Engines'!AJ58,LOOKUP('15) Calculations'!D$163,'15) Calculations'!$C$9:$I$9,'15) Calculations'!$C26:$I26))","v":0},{"$f":"IF('15) Engines'!AK58<>\"\",'15) Engines'!AK58,LOOKUP('15) Calculations'!E$163,'15) Calculations'!$C$9:$I$9,'15) Calculations'!$C26:$I26))","v":0},{"$f":"IF('15) Engines'!AL58<>\"\",'15) Engines'!AL58,LOOKUP('15) Calculations'!F$163,'15) Calculations'!$C$9:$I$9,'15) Calculations'!$C26:$I26))","v":0},{"$f":"IF('15) Engines'!AM58<>\"\",'15) Engines'!AM58,LOOKUP('15) Calculations'!G$163,'15) Calculations'!$C$9:$I$9,'15) Calculations'!$C26:$I26))","v":0},{"$f":"IF('15) Engines'!AN58<>\"\",'15) Engines'!AN58,LOOKUP('15) Calculations'!H$163,'15) Calculations'!$C$9:$I$9,'15) Calculations'!$C26:$I26))","v":0},{"$f":"IF('15) Engines'!AO58<>\"\",'15) Engines'!AO58,LOOKUP('15) Calculations'!I$163,'15) Calculations'!$C$9:$I$9,'15) Calculations'!$C26:$I26))","v":0},{"$f":"IF('15) Engines'!AP58<>\"\",'15) Engines'!AP58,LOOKUP('15) Calculations'!J$163,'15) Calculations'!$C$9:$I$9,'15) Calculations'!$C26:$I26))","v":0},{"$f":"IF('15) Engines'!AQ58<>\"\",'15) Engines'!AQ58,LOOKUP('15) Calculations'!K$163,'15) Calculations'!$C$9:$I$9,'15) Calculations'!$C26:$I26))","v":0},{"$f":"IF('15) Engines'!AR58<>\"\",'15) Engines'!AR58,LOOKUP('15) Calculations'!L$163,'15) Calculations'!$C$9:$I$9,'15) Calculations'!$C26:$I26))","v":0},null,"Cyanide compounds",null,0,0,0,0,0,0,0,0,0,0,0,null,"Cyanide compounds",null,0,0,0,0,0,0,0,0,0,0,0]
["Formaldehyde",null,{"$f":"IF('15) Engines'!AI59<>\"\",'15) Engines'!AI59,LOOKUP('15) Calculations'!C$163,'15) Calculations'!$C$9:$I$9,'15) Calculations'!$C27:$I27))","v":5.28E-2},{"$f":"IF('15) Engines'!AJ59<>\"\",'15) Engines'!AJ59,LOOKUP('15) Calculations'!D$163,'15) Calculations'!$C$9:$I$9,'15) Calculations'!$C27:$I27))","v":5.28E-2},{"$f":"IF('15) Engines'!AK59<>\"\",'15) Engines'!AK59,LOOKUP('15) Calculations'!E$163,'15) Calculations'!$C$9:$I$9,'15) Calculations'!$C27:$I27))","v":5.28E-2},{"$f":"IF('15) Engines'!AL59<>\"\",'15) Engines'!AL59,LOOKUP('15) Calculations'!F$163,'15) Calculations'!$C$9:$I$9,'15) Calculations'!$C27:$I27))","v":5.28E-2},{"$f":"IF('15) Engines'!AM59<>\"\",'15) Engines'!AM59,LOOKUP('15) Calculations'!G$163,'15) Calculations'!$C$9:$I$9,'15) Calculations'!$C27:$I27))","v":5.28E-2},{"$f":"IF('15) Engines'!AN59<>\"\",'15) Engines'!AN59,LOOKUP('15) Calculations'!H$163,'15) Calculations'!$C$9:$I$9,'15) Calculations'!$C27:$I27))","v":5.28E-2},{"$f":"IF('15) Engines'!AO59<>\"\",'15) Engines'!AO59,LOOKUP('15) Calculations'!I$163,'15) Calculations'!$C$9:$I$9,'15) Calculations'!$C27:$I27))","v":5.28E-2},{"$f":"IF('15) Engines'!AP59<>\"\",'15) Engines'!AP59,LOOKUP('15) Calculations'!J$163,'15) Calculations'!$C$9:$I$9,'15) Calculations'!$C27:$I27))","v":5.28E-2},{"$f":"IF('15) Engines'!AQ59<>\"\",'15) Engines'!AQ59,LOOKUP('15) Calculations'!K$163,'15) Calculations'!$C$9:$I$9,'15) Calculations'!$C27:$I27))","v":5.28E-2},{"$f":"IF('15) Engines'!AR59<>\"\",'15) Engines'!AR59,LOOKUP('15) Calculations'!L$163,'15) Calculations'!$C$9:$I$9,'15) Calculations'!$C27:$I27))","v":5.28E-2},null,"Formaldehyde",null,0,0,0,0,0,0,0,0,0,0,0,null,"Formaldehyde",null,0,0,0,0,0,0,0,0,0,0,0]
["n-Hexane",null,{"$f":"IF('15) Engines'!AI60<>\"\",'15) Engines'!AI60,LOOKUP('15) Calculations'!C$163,'15) Calculations'!$C$9:$I$9,'15) Calculations'!$C28:$I28))","v":1.1100000000000001E-3},{"$f":"IF('15) Engines'!AJ60<>\"\",'15) Engines'!AJ60,LOOKUP('15) Calculations'!D$163,'15) Calculations'!$C$9:$I$9,'15) Calculations'!$C28:$I28))","v":1.1100000000000001E-3},{"$f":"IF('15) Engines'!AK60<>\"\",'15) Engines'!AK60,LOOKUP('15) Calculations'!E$163,'15) Calculations'!$C$9:$I$9,'15) Calculations'!$C28:$I28))","v":1.1100000000000001E-3},{"$f":"IF('15) Engines'!AL60<>\"\",'15) Engines'!AL60,LOOKUP('15) Calculations'!F$163,'15) Calculations'!$C$9:$I$9,'15) Calculations'!$C28:$I28))","v":1.1100000000000001E-3},{"$f":"IF('15) Engines'!AM60<>\"\",'15) Engines'!AM60,LOOKUP('15) Calculations'!G$163,'15) Calculations'!$C$9:$I$9,'15) Calculations'!$C28:$I28))","v":1.1100000000000001E-3},{"$f":"IF('15) Engines'!AN60<>\"\",'15) Engines'!AN60,LOOKUP('15) Calculations'!H$163,'15) Calculations'!$C$9:$I$9,'15) Calculations'!$C28:$I28))","v":1.1100000000000001E-3},{"$f":"IF('15) Engines'!AO60<>\"\",'15) Engines'!AO60,LOOKUP('15) Calculations'!I$163,'15) Calculations'!$C$9:$I$9,'15) Calculations'!$C28:$I28))","v":1.1100000000000001E-3},{"$f":"IF('15) Engines'!AP60<>\"\",'15) Engines'!AP60,LOOKUP('15) Calculations'!J$163,'15) Calculations'!$C$9:$I$9,'15) Calculations'!$C28:$I28))","v":1.1100000000000001E-3},{"$f":"IF('15) Engines'!AQ60<>\"\",'15) Engines'!AQ60,LOOKUP('15) Calculations'!K$163,'15) Calculations'!$C$9:$I$9,'15) Calculations'!$C28:$I28))","v":1.1100000000000001E-3},{"$f":"IF('15) Engines'!AR60<>\"\",'15) Engines'!AR60,LOOKUP('15) Calculations'!L$163,'15) Calculations'!$C$9:$I$9,'15) Calculations'!$C28:$I28))","v":1.1100000000000001E-3},null,"n-Hexane",null,0,0,0,0,0,0,0,0,0,0,0,null,"n-Hexane",null,0,0,0,0,0,0,0,0,0,0,0]
["Hydrochloric acid",null,{"$f":"IF('15) Engines'!AI61<>\"\",'15) Engines'!AI61,LOOKUP('15) Calculations'!C$163,'15) Calculations'!$C$9:$I$9,'15) Calculations'!$C29:$I29))","v":0},{"$f":"IF('15) Engines'!AJ61<>\"\",'15) Engines'!AJ61,LOOKUP('15) Calculations'!D$163,'15) Calculations'!$C$9:$I$9,'15) Calculations'!$C29:$I29))","v":0},{"$f":"IF('15) Engines'!AK61<>\"\",'15) Engines'!AK61,LOOKUP('15) Calculations'!E$163,'15) Calculations'!$C$9:$I$9,'15) Calculations'!$C29:$I29))","v":0},{"$f":"IF('15) Engines'!AL61<>\"\",'15) Engines'!AL61,LOOKUP('15) Calculations'!F$163,'15) Calculations'!$C$9:$I$9,'15) Calculations'!$C29:$I29))","v":0},{"$f":"IF('15) Engines'!AM61<>\"\",'15) Engines'!AM61,LOOKUP('15) Calculations'!G$163,'15) Calculations'!$C$9:$I$9,'15) Calculations'!$C29:$I29))","v":0},{"$f":"IF('15) Engines'!AN61<>\"\",'15) Engines'!AN61,LOOKUP('15) Calculations'!H$163,'15) Calculations'!$C$9:$I$9,'15) Calculations'!$C29:$I29))","v":0},{"$f":"IF('15) Engines'!AO61<>\"\",'15) Engines'!AO61,LOOKUP('15) Calculations'!I$163,'15) Calculations'!$C$9:$I$9,'15) Calculations'!$C29:$I29))","v":0},{"$f":"IF('15) Engines'!AP61<>\"\",'15) Engines'!AP61,LOOKUP('15) Calculations'!J$163,'15) Calculations'!$C$9:$I$9,'15) Calculations'!$C29:$I29))","v":0},{"$f":"IF('15) Engines'!AQ61<>\"\",'15) Engines'!AQ61,LOOKUP('15) Calculations'!K$163,'15) Calculations'!$C$9:$I$9,'15) Calculations'!$C29:$I29))","v":0},{"$f":"IF('15) Engines'!AR61<>\"\",'15) Engines'!AR61,LOOKUP('15) Calculations'!L$163,'15) Calculations'!$C$9:$I$9,'15) Calculations'!$C29:$I29))","v":0},null,"Hydrochloric acid",null,0,0,0,0,0,0,0,0,0,0,0,null,"Hydrochloric acid",null,0,0,0,0,0,0,0,0,0,0,0]
["Lead Compounds",null,{"$f":"IF('15) Engines'!AI62<>\"\",'15) Engines'!AI62,LOOKUP('15) Calculations'!C$163,'15) Calculations'!$C$9:$I$9,'15) Calculations'!$C30:$I30))","v":0},{"$f":"IF('15) Engines'!AJ62<>\"\",'15) Engines'!AJ62,LOOKUP('15) Calculations'!D$163,'15) Calculations'!$C$9:$I$9,'15) Calculations'!$C30:$I30))","v":0},{"$f":"IF('15) Engines'!AK62<>\"\",'15) Engines'!AK62,LOOKUP('15) Calculations'!E$163,'15) Calculations'!$C$9:$I$9,'15) Calculations'!$C30:$I30))","v":0},{"$f":"IF('15) Engines'!AL62<>\"\",'15) Engines'!AL62,LOOKUP('15) Calculations'!F$163,'15) Calculations'!$C$9:$I$9,'15) Calculations'!$C30:$I30))","v":0},{"$f":"IF('15) Engines'!AM62<>\"\",'15) Engines'!AM62,LOOKUP('15) Calculations'!G$163,'15) Calculations'!$C$9:$I$9,'15) Calculations'!$C30:$I30))","v":0},{"$f":"IF('15) Engines'!AN62<>\"\",'15) Engines'!AN62,LOOKUP('15) Calculations'!H$163,'15) Calculations'!$C$9:$I$9,'15) Calculations'!$C30:$I30))","v":0},{"$f":"IF('15) Engines'!AO62<>\"\",'15) Engines'!AO62,LOOKUP('15) Calculations'!I$163,'15) Calculations'!$C$9:$I$9,'15) Calculations'!$C30:$I30))","v":0},{"$f":"IF('15) Engines'!AP62<>\"\",'15) Engines'!AP62,LOOKUP('15) Calculations'!J$163,'15) Calculations'!$C$9:$I$9,'15) Calculations'!$C30:$I30))","v":0},{"$f":"IF('15) Engines'!AQ62<>\"\",'15) Engines'!AQ62,LOOKUP('15) Calculations'!K$163,'15) Calculations'!$C$9:$I$9,'15) Calculations'!$C30:$I30))","v":0},{"$f":"IF('15) Engines'!AR62<>\"\",'15) Engines'!AR62,LOOKUP('15) Calculations'!L$163,'15) Calculations'!$C$9:$I$9,'15) Calculations'!$C30:$I30))","v":0},null,"Lead Compounds",null,0,0,0,0,0,0,0,0,0,0,0,null,"Lead Compounds",null,0,0,0,0,0,0,0,0,0,0,0]
["Mercury compounds",null,{"$f":"IF('15) Engines'!AI63<>\"\",'15) Engines'!AI63,LOOKUP('15) Calculations'!C$163,'15) Calculations'!$C$9:$I$9,'15) Calculations'!$C31:$I31))","v":0},{"$f":"IF('15) Engines'!AJ63<>\"\",'15) Engines'!AJ63,LOOKUP('15) Calculations'!D$163,'15) Calculations'!$C$9:$I$9,'15) Calculations'!$C31:$I31))","v":0},{"$f":"IF('15) Engines'!AK63<>\"\",'15) Engines'!AK63,LOOKUP('15) Calculations'!E$163,'15) Calculations'!$C$9:$I$9,'15) Calculations'!$C31:$I31))","v":0},{"$f":"IF('15) Engines'!AL63<>\"\",'15) Engines'!AL63,LOOKUP('15) Calculations'!F$163,'15) Calculations'!$C$9:$I$9,'15) Calculations'!$C31:$I31))","v":0},{"$f":"IF('15) Engines'!AM63<>\"\",'15) Engines'!AM63,LOOKUP('15) Calculations'!G$163,'15) Calculations'!$C$9:$I$9,'15) Calculations'!$C31:$I31))","v":0},{"$f":"IF('15) Engines'!AN63<>\"\",'15) Engines'!AN63,LOOKUP('15) Calculations'!H$163,'15) Calculations'!$C$9:$I$9,'15) Calculations'!$C31:$I31))","v":0},{"$f":"IF('15) Engines'!AO63<>\"\",'15) Engines'!AO63,LOOKUP('15) Calculations'!I$163,'15) Calculations'!$C$9:$I$9,'15) Calculations'!$C31:$I31))","v":0},{"$f":"IF('15) Engines'!AP63<>\"\",'15) Engines'!AP63,LOOKUP('15) Calculations'!J$163,'15) Calculations'!$C$9:$I$9,'15) Calculations'!$C31:$I31))","v":0},{"$f":"IF('15) Engines'!AQ63<>\"\",'15) Engines'!AQ63,LOOKUP('15) Calculations'!K$163,'15) Calculations'!$C$9:$I$9,'15) Calculations'!$C31:$I31))","v":0},{"$f":"IF('15) Engines'!AR63<>\"\",'15) Engines'!AR63,LOOKUP('15) Calculations'!L$163,'15) Calculations'!$C$9:$I$9,'15) Calculations'!$C31:$I31))","v":0},null,"Mercury compounds",null,0,0,0,0,0,0,0,0,0,0,0,null,"Mercury compounds",null,0,0,0,0,0,0,0,0,0,0,0]
["Methanol",null,{"$f":"IF('15) Engines'!AI64<>\"\",'15) Engines'!AI64,LOOKUP('15) Calculations'!C$163,'15) Calculations'!$C$9:$I$9,'15) Calculations'!$C32:$I32))","v":2.5000000000000001E-3},{"$f":"IF('15) Engines'!AJ64<>\"\",'15) Engines'!AJ64,LOOKUP('15) Calculations'!D$163,'15) Calculations'!$C$9:$I$9,'15) Calculations'!$C32:$I32))","v":2.5000000000000001E-3},{"$f":"IF('15) Engines'!AK64<>\"\",'15) Engines'!AK64,LOOKUP('15) Calculations'!E$163,'15) Calculations'!$C$9:$I$9,'15) Calculations'!$C32:$I32))","v":2.5000000000000001E-3},{"$f":"IF('15) Engines'!AL64<>\"\",'15) Engines'!AL64,LOOKUP('15) Calculations'!F$163,'15) Calculations'!$C$9:$I$9,'15) Calculations'!$C32:$I32))","v":2.5000000000000001E-3},{"$f":"IF('15) Engines'!AM64<>\"\",'15) Engines'!AM64,LOOKUP('15) Calculations'!G$163,'15) Calculations'!$C$9:$I$9,'15) Calculations'!$C32:$I32))","v":2.5000000000000001E-3},{"$f":"IF('15) Engines'!AN64<>\"\",'15) Engines'!AN64,LOOKUP('15) Calculations'!H$163,'15) Calculations'!$C$9:$I$9,'15) Calculations'!$C32:$I32))","v":2.5000000000000001E-3},{"$f":"IF('15) Engines'!AO64<>\"\",'15) Engines'!AO64,LOOKUP('15) Calculations'!I$163,'15) Calculations'!$C$9:$I$9,'15) Calculations'!$C32:$I32))","v":2.5000000000000001E-3},{"$f":"IF('15) Engines'!AP64<>\"\",'15) Engines'!AP64,LOOKUP('15) Calculations'!J$163,'15) Calculations'!$C$9:$I$9,'15) Calculations'!$C32:$I32))","v":2.5000000000000001E-3},{"$f":"IF('15) Engines'!AQ64<>\"\",'15) Engines'!AQ64,LOOKUP('15) Calculations'!K$163,'15) Calculations'!$C$9:$I$9,'15) Calculations'!$C32:$I32))","v":2.5000000000000001E-3},{"$f":"IF('15) Engines'!AR64<>\"\",'15) Engines'!AR64,LOOKUP('15) Calculations'!L$163,'15) Calculations'!$C$9:$I$9,'15) Calculations'!$C32:$I32))","v":2.5000000000000001E-3},null,"Methanol",null,0,0,0,0,0,0,0,0,0,0,0,null,"Methanol",null,0,0,0,0,0,0,0,0,0,0,0]
["Methyl hydrazine",null,{"$f":"IF('15) Engines'!AI65<>\"\",'15) Engines'!AI65,LOOKUP('15) Calculations'!C$163,'15) Calculations'!$C$9:$I$9,'15) Calculations'!$C33:$I33))","v":0},{"$f":"IF('15) Engines'!AJ65<>\"\",'15) Engines'!AJ65,LOOKUP('15) Calculations'!D$163,'15) Calculations'!$C$9:$I$9,'15) Calculations'!$C33:$I33))","v":0},{"$f":"IF('15) Engines'!AK65<>\"\",'15) Engines'!AK65,LOOKUP('15) Calculations'!E$163,'15) Calculations'!$C$9:$I$9,'15) Calculations'!$C33:$I33))","v":0},{"$f":"IF('15) Engines'!AL65<>\"\",'15) Engines'!AL65,LOOKUP('15) Calculations'!F$163,'15) Calculations'!$C$9:$I$9,'15) Calculations'!$C33:$I33))","v":0},{"$f":"IF('15) Engines'!AM65<>\"\",'15) Engines'!AM65,LOOKUP('15) Calculations'!G$163,'15) Calculations'!$C$9:$I$9,'15) Calculations'!$C33:$I33))","v":0},{"$f":"IF('15) Engines'!AN65<>\"\",'15) Engines'!AN65,LOOKUP('15) Calculations'!H$163,'15) Calculations'!$C$9:$I$9,'15) Calculations'!$C33:$I33))","v":0},{"$f":"IF('15) Engines'!AO65<>\"\",'15) Engines'!AO65,LOOKUP('15) Calculations'!I$163,'15) Calculations'!$C$9:$I$9,'15) Calculations'!$C33:$I33))","v":0},{"$f":"IF('15) Engines'!AP65<>\"\",'15) Engines'!AP65,LOOKUP('15) Calculations'!J$163,'15) Calculations'!$C$9:$I$9,'15) Calculations'!$C33:$I33))","v":0},{"$f":"IF('15) Engines'!AQ65<>\"\",'15) Engines'!AQ65,LOOKUP('15) Calculations'!K$163,'15) Calculations'!$C$9:$I$9,'15) Calculations'!$C33:$I33))","v":0},{"$f":"IF('15) Engines'!AR65<>\"\",'15) Engines'!AR65,LOOKUP('15) Calculations'!L$163,'15) Calculations'!$C$9:$I$9,'15) Calculations'!$C33:$I33))","v":0},null,"Methyl hydrazine",null,0,0,0,0,0,0,0,0,0,0,0,null,"Methyl hydrazine",null,0,0,0,0,0,0,0,0,0,0,0]
["Selenium compounds",null,{"$f":"IF('15) Engines'!AI66<>\"\",'15) Engines'!AI66,LOOKUP('15) Calculations'!C$163,'15) Calculations'!$C$9:$I$9,'15) Calculations'!$C34:$I34))","v":0},{"$f":"IF('15) Engines'!AJ66<>\"\",'15) Engines'!AJ66,LOOKUP('15) Calculations'!D$163,'15) Calculations'!$C$9:$I$9,'15) Calculations'!$C34:$I34))","v":0},{"$f":"IF('15) Engines'!AK66<>\"\",'15) Engines'!AK66,LOOKUP('15) Calculations'!E$163,'15) Calculations'!$C$9:$I$9,'15) Calculations'!$C34:$I34))","v":0},{"$f":"IF('15) Engines'!AL66<>\"\",'15) Engines'!AL66,LOOKUP('15) Calculations'!F$163,'15) Calculations'!$C$9:$I$9,'15) Calculations'!$C34:$I34))","v":0},{"$f":"IF('15) Engines'!AM66<>\"\",'15) Engines'!AM66,LOOKUP('15) Calculations'!G$163,'15) Calculations'!$C$9:$I$9,'15) Calculations'!$C34:$I34))","v":0},{"$f":"IF('15) Engines'!AN66<>\"\",'15) Engines'!AN66,LOOKUP('15) Calculations'!H$163,'15) Calculations'!$C$9:$I$9,'15) Calculations'!$C34:$I34))","v":0},{"$f":"IF('15) Engines'!AO66<>\"\",'15) Engines'!AO66,LOOKUP('15) Calculations'!I$163,'15) Calculations'!$C$9:$I$9,'15) Calculations'!$C34:$I34))","v":0},{"$f":"IF('15) Engines'!AP66<>\"\",'15) Engines'!AP66,LOOKUP('15) Calculations'!J$163,'15) Calculations'!$C$9:$I$9,'15) Calculations'!$C34:$I34))","v":0},{"$f":"IF('15) Engines'!AQ66<>\"\",'15) Engines'!AQ66,LOOKUP('15) Calculations'!K$163,'15) Calculations'!$C$9:$I$9,'15) Calculations'!$C34:$I34))","v":0},{"$f":"IF('15) Engines'!AR66<>\"\",'15) Engines'!AR66,LOOKUP('15) Calculations'!L$163,'15) Calculations'!$C$9:$I$9,'15) Calculations'!$C34:$I34))","v":0},null,"Selenium compounds",null,0,0,0,0,0,0,0,0,0,0,0,null,"Selenium compounds",null,0,0,0,0,0,0,0,0,0,0,0]
["Other HAPs",null,{"$f":"IF('15) Engines'!AI67<>\"\",'15) Engines'!AI67,LOOKUP('15) Calculations'!C$163,'15) Calculations'!$C$9:$I$9,'15) Calculations'!$C35:$I35))","v":6.1645600000000012E-3},{"$f":"IF('15) Engines'!AJ67<>\"\",'15) Engines'!AJ67,LOOKUP('15) Calculations'!D$163,'15) Calculations'!$C$9:$I$9,'15) Calculations'!$C35:$I35))","v":6.1645600000000012E-3},{"$f":"IF('15) Engines'!AK67<>\"\",'15) Engines'!AK67,LOOKUP('15) Calculations'!E$163,'15) Calculations'!$C$9:$I$9,'15) Calculations'!$C35:$I35))","v":6.1645600000000012E-3},{"$f":"IF('15) Engines'!AL67<>\"\",'15) Engines'!AL67,LOOKUP('15) Calculations'!F$163,'15) Calculations'!$C$9:$I$9,'15) Calculations'!$C35:$I35))","v":6.1645600000000012E-3},{"$f":"IF('15) Engines'!AM67<>\"\",'15) Engines'!AM67,LOOKUP('15) Calculations'!G$163,'15) Calculations'!$C$9:$I$9,'15) Calculations'!$C35:$I35))","v":6.1645600000000012E-3},{"$f":"IF('15) Engines'!AN67<>\"\",'15) Engines'!AN67,LOOKUP('15) Calculations'!H$163,'15) Calculations'!$C$9:$I$9,'15) Calculations'!$C35:$I35))","v":6.1645600000000012E-3},{"$f":"IF('15) Engines'!AO67<>\"\",'15) Engines'!AO67,LOOKUP('15) Calculations'!I$163,'15) Calculations'!$C$9:$I$9,'15) Calculations'!$C35:$I35))","v":6.1645600000000012E-3},{"$f":"IF('15) Engines'!AP67<>\"\",'15) Engines'!AP67,LOOKUP('15) Calculations'!J$163,'15) Calculations'!$C$9:$I$9,'15) Calculations'!$C35:$I35))","v":6.1645600000000012E-3},{"$f":"IF('15) Engines'!AQ67<>\"\",'15) Engines'!AQ67,LOOKUP('15) Calculations'!K$163,'15) Calculations'!$C$9:$I$9,'15) Calculations'!$C35:$I35))","v":6.1645600000000012E-3},{"$f":"IF('15) Engines'!AR67<>\"\",'15) Engines'!AR67,LOOKUP('15) Calculations'!L$163,'15) Calculations'!$C$9:$I$9,'15) Calculations'!$C35:$I35))","v":6.1645600000000012E-3},null,"Other HAPs",null,0,0,0,0,0,0,0,0,0,0,0,null,"Other HAPs",null,0,0,0,0,0,0,0,0,0,0,0]
["Total HAPs",null,{"$f":"IF('15) Engines'!AI68<>\"\",'15) Engines'!AI68,LOOKUP('15) Calculations'!C$163,'15) Calculations'!$C$9:$I$9,'15) Calculations'!$C36:$I36))","v":7.6514559999999995E-2},{"$f":"IF('15) Engines'!AJ68<>\"\",'15) Engines'!AJ68,LOOKUP('15) Calculations'!D$163,'15) Calculations'!$C$9:$I$9,'15) Calculations'!$C36:$I36))","v":7.6514559999999995E-2},{"$f":"IF('15) Engines'!AK68<>\"\",'15) Engines'!AK68,LOOKUP('15) Calculations'!E$163,'15) Calculations'!$C$9:$I$9,'15) Calculations'!$C36:$I36))","v":7.6514559999999995E-2},{"$f":"IF('15) Engines'!AL68<>\"\",'15) Engines'!AL68,LOOKUP('15) Calculations'!F$163,'15) Calculations'!$C$9:$I$9,'15) Calculations'!$C36:$I36))","v":7.6514559999999995E-2},{"$f":"IF('15) Engines'!AM68<>\"\",'15) Engines'!AM68,LOOKUP('15) Calculations'!G$163,'15) Calculations'!$C$9:$I$9,'15) Calculations'!$C36:$I36))","v":7.6514559999999995E-2},{"$f":"IF('15) Engines'!AN68<>\"\",'15) Engines'!AN68,LOOKUP('15) Calculations'!H$163,'15) Calculations'!$C$9:$I$9,'15) Calculations'!$C36:$I36))","v":7.6514559999999995E-2},{"$f":"IF('15) Engines'!AO68<>\"\",'15) Engines'!AO68,LOOKUP('15) Calculations'!I$163,'15) Calculations'!$C$9:$I$9,'15) Calculations'!$C36:$I36))","v":7.6514559999999995E-2},{"$f":"IF('15) Engines'!AP68<>\"\",'15) Engines'!AP68,LOOKUP('15) Calculations'!J$163,'15) Calculations'!$C$9:$I$9,'15) Calculations'!$C36:$I36))","v":7.6514559999999995E-2},{"$f":"IF('15) Engines'!AQ68<>\"\",'15) Engines'!AQ68,LOOKUP('15) Calculations'!K$163,'15) Calculations'!$C$9:$I$9,'15) Calculations'!$C36:$I36))","v":7.6514559999999995E-2},{"$f":"IF('15) Engines'!AR68<>\"\",'15) Engines'!AR68,LOOKUP('15) Calculations'!L$163,'15) Calculations'!$C$9:$I$9,'15) Calculations'!$C36:$I36))","v":7.6514559999999995E-2},null,"Total HAPs",null,0,0,0,0,0,0,0,0,0,0,0,null,"Total HAPs",null,0,0,0,0,0,0,0,0,0,0,0]
["Green House Gasses",null,null,null,null,null,null,null,null,null,null,null,null,"Green House Gasses",null,null,null,null,null,null,null,null,null,null,null,null,null,"Green House Gasses"]
["  Carbon Dioxide (CO2)",null,{"$f":"IF('15) Engines'!AI70<>\"\",'15) Engines'!AI70,LOOKUP('15) Calculations'!C$163,'15) Calculations'!$C$9:$I$9,'15) Calculations'!$C38:$I38))","v":53.06},{"$f":"IF('15) Engines'!AJ70<>\"\",'15) Engines'!AJ70,LOOKUP('15) Calculations'!D$163,'15) Calculations'!$C$9:$I$9,'15) Calculations'!$C38:$I38))","v":53.06},{"$f":"IF('15) Engines'!AK70<>\"\",'15) Engines'!AK70,LOOKUP('15) Calculations'!E$163,'15) Calculations'!$C$9:$I$9,'15) Calculations'!$C38:$I38))","v":53.06},{"$f":"IF('15) Engines'!AL70<>\"\",'15) Engines'!AL70,LOOKUP('15) Calculations'!F$163,'15) Calculations'!$C$9:$I$9,'15) Calculations'!$C38:$I38))","v":53.06},{"$f":"IF('15) Engines'!AM70<>\"\",'15) Engines'!AM70,LOOKUP('15) Calculations'!G$163,'15) Calculations'!$C$9:$I$9,'15) Calculations'!$C38:$I38))","v":53.06},{"$f":"IF('15) Engines'!AN70<>\"\",'15) Engines'!AN70,LOOKUP('15) Calculations'!H$163,'15) Calculations'!$C$9:$I$9,'15) Calculations'!$C38:$I38))","v":53.06},{"$f":"IF('15) Engines'!AO70<>\"\",'15) Engines'!AO70,LOOKUP('15) Calculations'!I$163,'15) Calculations'!$C$9:$I$9,'15) Calculations'!$C38:$I38))","v":53.06},{"$f":"IF('15) Engines'!AP70<>\"\",'15) Engines'!AP70,LOOKUP('15) Calculations'!J$163,'15) Calculations'!$C$9:$I$9,'15) Calculations'!$C38:$I38))","v":53.06},{"$f":"IF('15) Engines'!AQ70<>\"\",'15) Engines'!AQ70,LOOKUP('15) Calculations'!K$163,'15) Calculations'!$C$9:$I$9,'15) Calculations'!$C38:$I38))","v":53.06},{"$f":"IF('15) Engines'!AR70<>\"\",'15) Engines'!AR70,LOOKUP('15) Calculations'!L$163,'15) Calculations'!$C$9:$I$9,'15) Calculations'!$C38:$I38))","v":53.06},null,"  Carbon Dioxide (CO2)",null,{"$f":"C191*C$197*2.20462","v":0},{"$f":"D191*D$197*2.20462","v":0},0,0,0,0,0,0,0,0,{"$f":"SUM(P191:Y191)","v":0},null,"  Carbon Dioxide (CO2)",null,{"$f":"P191*C$198/2000","v":0},{"$f":"Q191*D$198/2000","v":0},{"$f":"R191*E$198/2000","v":0},{"$f":"S191*F$198/2000","v":0},{"$f":"T191*G$198/2000","v":0},{"$f":"U191*H$198/2000","v":0},{"$f":"V191*I$198/2000","v":0},{"$f":"W191*J$198/2000","v":0},{"$f":"X191*K$198/2000","v":0},{"$f":"Y191*L$198/2000","v":0},{"$f":"SUM(AD191:AM191)","v":0}]
["  Methane (CH4)",null,{"$f":"IF('15) Engines'!AI71<>\"\",'15) Engines'!AI71,LOOKUP('15) Calculations'!C$163,'15) Calculations'!$C$9:$I$9,'15) Calculations'!$C39:$I39))","v":1E-3},{"$f":"IF('15) Engines'!AJ71<>\"\",'15) Engines'!AJ71,LOOKUP('15) Calculations'!D$163,'15) Calculations'!$C$9:$I$9,'15) Calculations'!$C39:$I39))","v":1E-3},{"$f":"IF('15) Engines'!AK71<>\"\",'15) Engines'!AK71,LOOKUP('15) Calculations'!E$163,'15) Calculations'!$C$9:$I$9,'15) Calculations'!$C39:$I39))","v":1E-3},{"$f":"IF('15) Engines'!AL71<>\"\",'15) Engines'!AL71,LOOKUP('15) Calculations'!F$163,'15) Calculations'!$C$9:$I$9,'15) Calculations'!$C39:$I39))","v":1E-3},{"$f":"IF('15) Engines'!AM71<>\"\",'15) Engines'!AM71,LOOKUP('15) Calculations'!G$163,'15) Calculations'!$C$9:$I$9,'15) Calculations'!$C39:$I39))","v":1E-3},{"$f":"IF('15) Engines'!AN71<>\"\",'15) Engines'!AN71,LOOKUP('15) Calculations'!H$163,'15) Calculations'!$C$9:$I$9,'15) Calculations'!$C39:$I39))","v":1E-3},{"$f":"IF('15) Engines'!AO71<>\"\",'15) Engines'!AO71,LOOKUP('15) Calculations'!I$163,'15) Calculations'!$C$9:$I$9,'15) Calculations'!$C39:$I39))","v":1E-3},{"$f":"IF('15) Engines'!AP71<>\"\",'15) Engines'!AP71,LOOKUP('15) Calculations'!J$163,'15) Calculations'!$C$9:$I$9,'15) Calculations'!$C39:$I39))","v":1E-3},{"$f":"IF('15) Engines'!AQ71<>\"\",'15) Engines'!AQ71,LOOKUP('15) Calculations'!K$163,'15) Calculations'!$C$9:$I$9,'15) Calculations'!$C39:$I39))","v":1E-3},{"$f":"IF('15) Engines'!AR71<>\"\",'15) Engines'!AR71,LOOKUP('15) Calculations'!L$163,'15) Calculations'!$C$9:$I$9,'15) Calculations'!$C39:$I39))","v":1E-3},null,"  Methane (CH4)",null,{"$f":"C192*C$197*2.20462","v":0},{"$f":"D192*D$197*2.20462","v":0},{"$f":"E192*E$197*2.20462","v":0},{"$f":"F192*F$197*2.20462","v":0},{"$f":"G192*G$197*2.20462","v":0},{"$f":"H192*H$197*2.20462","v":0},{"$f":"I192*I$197*2.20462","v":0},{"$f":"J192*J$197*2.20462","v":0},{"$f":"K192*K$197*2.20462","v":0},{"$f":"L192*L$197*2.20462","v":0},0,null,"  Methane (CH4)",null,0,0,0,0,0,0,0,0,0,0,0]
["  Nitrous Oxide (N2O)",null,{"$f":"IF('15) Engines'!AI72<>\"\",'15) Engines'!AI72,LOOKUP('15) Calculations'!C$163,'15) Calculations'!$C$9:$I$9,'15) Calculations'!$C40:$I40))","v":1E-4},{"$f":"IF('15) Engines'!AJ72<>\"\",'15) Engines'!AJ72,LOOKUP('15) Calculations'!D$163,'15) Calculations'!$C$9:$I$9,'15) Calculations'!$C40:$I40))","v":1E-4},{"$f":"IF('15) Engines'!AK72<>\"\",'15) Engines'!AK72,LOOKUP('15) Calculations'!E$163,'15) Calculations'!$C$9:$I$9,'15) Calculations'!$C40:$I40))","v":1E-4},{"$f":"IF('15) Engines'!AL72<>\"\",'15) Engines'!AL72,LOOKUP('15) Calculations'!F$163,'15) Calculations'!$C$9:$I$9,'15) Calculations'!$C40:$I40))","v":1E-4},{"$f":"IF('15) Engines'!AM72<>\"\",'15) Engines'!AM72,LOOKUP('15) Calculations'!G$163,'15) Calculations'!$C$9:$I$9,'15) Calculations'!$C40:$I40))","v":1E-4},{"$f":"IF('15) Engines'!AN72<>\"\",'15) Engines'!AN72,LOOKUP('15) Calculations'!H$163,'15) Calculations'!$C$9:$I$9,'15) Calculations'!$C40:$I40))","v":1E-4},{"$f":"IF('15) Engines'!AO72<>\"\",'15) Engines'!AO72,LOOKUP('15) Calculations'!I$163,'15) Calculations'!$C$9:$I$9,'15) Calculations'!$C40:$I40))","v":1E-4},{"$f":"IF('15) Engines'!AP72<>\"\",'15) Engines'!AP72,LOOKUP('15) Calculations'!J$163,'15) Calculations'!$C$9:$I$9,'15) Calculations'!$C40:$I40))","v":1E-4},{"$f":"IF('15) Engines'!AQ72<>\"\",'15) Engines'!AQ72,LOOKUP('15) Calculations'!K$163,'15) Calculations'!$C$9:$I$9,'15) Calculations'!$C40:$I40))","v":1E-4},{"$f":"IF('15) Engines'!AR72<>\"\",'15) Engines'!AR72,LOOKUP('15) Calculations'!L$163,'15) Calculations'!$C$9:$I$9,'15) Calculations'!$C40:$I40))","v":1E-4},null,"  Nitrous Oxide (N2O)",null,0,0,0,0,0,0,0,0,0,0,0,null,"  Nitrous Oxide (N2O)",null,0,0,0,0,0,0,0,0,0,0,0]
[]
["Engine Rating (hp)",null,{"$f":"'15) Engines'!N29","v":0},{"$f":"'15) Engines'!N30","v":0},{"$f":"'15) Engines'!N31","v":0},{"$f":"'15) Engines'!N32","v":0},{"$f":"'15) Engines'!N33","v":0},{"$f":"'15) Engines'!N34","v":0},{"$f":"'15) Engines'!N35","v":0},{"$f":"'15) Engines'!N36","v":0},{"$f":"'15) Engines'!N37","v":0},{"$f":"'15) Engines'!N38","v":0}]
[{"$f":"'15) Engines'!O28","v":"Fuel Use Factor (Btu/hp-hr)"},null,{"$f":"'15) Engines'!O29","v":0},{"$f":"'15) Engines'!O30","v":0},{"$f":"'15) Engines'!O31","v":0},{"$f":"'15) Engines'!O32","v":0},{"$f":"'15) Engines'!O33","v":0},{"$f":"'15) Engines'!O34","v":0},{"$f":"'15) Engines'!O35","v":0},{"$f":"'15) Engines'!O36","v":0},{"$f":"'15) Engines'!O37","v":0},{"$f":"'15) Engines'!O38","v":0}]
["Engine Heat Input (MMBtu/hr)",null,{"$f":"C195*C196/1000000","v":0},{"$f":"D195*D196/1000000","v":0},{"$f":"E195*E196/1000000","v":0},{"$f":"F195*F196/1000000","v":0},{"$f":"G195*G196/1000000","v":0},{"$f":"H195*H196/1000000","v":0},{"$f":"I195*I196/1000000","v":0},{"$f":"J195*J196/1000000","v":0},{"$f":"K195*K196/1000000","v":0},{"$f":"L195*L196/1000000","v":0}]
["Operating Hours",null,{"$f":"'15) Engines'!S29","v":8760},{"$f":"'15) Engines'!S30","v":8760},{"$f":"'15) Engines'!S31","v":8760},{"$f":"'15) Engines'!S32","v":8760},{"$f":"'15) Engines'!S33","v":8760},{"$f":"'15) Engines'!S34","v":8760},{"$f":"'15) Engines'!S35","v":8760},{"$f":"'15) Engines'!S36","v":8760},{"$f":"'15) Engines'!S37","v":8760},{"$f":"'15) Engines'!S38","v":8760}]
[]
[]
[]
[null,"Compression Engine",null,"Spark Ignition Engine",null,"Total",null,null,"Compression Engine",null,"Spark Ignition Engine",null,"Total"]
[null,"lb/hr","ton/yr","lb/hr","ton/yr","lb/hr","ton/yr",null,"lb/hr","ton/yr","lb/hr","ton/yr","lb/hr","ton/yr"]
["  PMfilterable",{"$f":"Z46","v":0},{"$f":"AN46","v":0},{"$f":"Z85","v":0},{"$f":"AN85","v":0},{"$f":"B204+D204","v":0},{"$f":"C204+E204","v":0},null,{"$f":"Z125","v":0},{"$f":"AN125","v":0},{"$f":"Z164","v":0},{"$f":"AN164","v":0},{"$f":"I204+K204","v":0},{"$f":"J204+L204","v":0}]
["  PM10",{"$f":"Z47","v":0},{"$f":"AN47","v":0},0,{"$f":"AN86","v":0},{"$f":"B205+D205","v":0},{"$f":"C205+E205","v":0},null,0,{"$f":"AN126","v":0},{"$f":"Z165","v":0},{"$f":"AN165","v":0},{"$f":"I205+K205","v":0},{"$f":"J205+L205","v":0}]
["  PM2.5",0,0,0,0,0,0,null,0,0,0,0,0,0]
["  SO2",0,0,0,0,0,0,null,0,0,0,0,0,0]
["  NOx",0,0,0,0,0,0,null,0,0,0,0,0,0]
["  CO",0,0,0,0,0,0,null,0,0,0,0,0,0]
["  VOC",0,0,0,0,0,0,null,0,0,0,0,0,0]
["  Hydrogen Sulfide "]
["  Sulfuric Acid"]
["  Fluorides "]
["Individual HAP"]
["  Acetaldehyde",{"$f":"Z54","v":0},{"$f":"AN54","v":0},{"$f":"Z93","v":0},{"$f":"AN93","v":0},0,0,null,{"$f":"Z133","v":0},{"$f":"AN133","v":0},{"$f":"Z172","v":0},{"$f":"AN172","v":0},{"$f":"I215+K215","v":0},{"$f":"J215+L215","v":0}]
["  Acrolein",0,{"$f":"AN55","v":0},0,{"$f":"AN94","v":0},0,0,null,{"$f":"Z134","v":0},{"$f":"AN134","v":0},{"$f":"Z173","v":0},{"$f":"AN173","v":0},0,0]
["  Arsenic compounds",0,0,0,0,0,0,null,0,0,0,0,0,0]
["  Benzene",0,0,0,0,0,0,null,0,0,0,0,0,0]
["  Benzyl chloride",0,0,0,0,0,0,null,0,0,0,0,0,0]
["  Beryllium compounds",0,0,0,0,0,0,null,0,0,0,0,0,0]
["  Cadmium compounds",0,0,0,0,0,0,null,0,0,0,0,0,0]
["  Cyanide compounds",0,0,0,0,0,0,null,0,0,0,0,0,0]
["  Formaldehyde",0,0,0,0,0,0,null,0,0,0,0,0,0]
["  Hexane",0,0,0,0,0,0,null,0,0,0,0,0,0]
["  Hydrochloric acid",0,0,0,0,0,0,null,0,0,0,0,0,0]
["  Lead Compounds",0,0,0,0,0,0,null,0,0,0,0,0,0]
["  Mercury compounds",0,0,0,0,0,0,null,0,0,0,0,0,0]
["  Methanol",0,0,0,0,0,0,null,0,0,0,0,0,0]
["  Methyl hydrazine",0,0,0,0,0,0,null,0,0,0,0,0,0]
["  Selenium compounds",0,0,0,0,0,0,null,0,0,0,0,0,0]
["Other HAPs",0,0,0,0,0,0,null,0,0,0,0,0,0]
["TOTAL HAP",0,0,0,0,0,0,null,0,0,0,0,0,0]
["Greenhouse Gases (GHG) (Mass Basis)"]
["  Carbon Dioxide ",{"$f":"Z73","v":0},0,{"$f":"Z112","v":0},0,0,0,null,0,0,{"$f":"Z191","v":0},{"$f":"AN191","v":0},{"$f":"I234+K234","v":0},{"$f":"J234+L234","v":0}]
["  Methane",{"$f":"Z74","v":0},0,{"$f":"Z113","v":0},0,0,0,null,0,0,0,0,0,0]
["  Nitrous Oxide",{"$f":"Z75","v":0},0,{"$f":"Z114","v":0},0,0,0,null,0,0,0,0,0,0]
["Total GHGs ",{"$f":"SUM(B234:B236)","v":0},{"$f":"SUM(C234:C236)","v":0},{"$f":"SUM(D234:D236)","v":0},0,0,0,null,{"$f":"SUM(I234:I236)","v":0},{"$f":"SUM(J234:J236)","v":0},{"$f":"SUM(K234:K236)","v":0},{"$f":"SUM(L234:L236)","v":0},0,0]
["Greenhouse Gases (GHG) (CO2 Equivalent Basis)"]
["  Carbon Dioxide ",{"$f":"B234","v":0},{"$f":"C234","v":0},{"$f":"D234","v":0},0,0,0,null,{"$f":"I234","v":0},{"$f":"J234","v":0},{"$f":"K234","v":0},{"$f":"L234","v":0},{"$f":"I239+K239","v":0},{"$f":"J239+L239","v":0}]
["  Methane",{"$f":"B235*25","v":0},{"$f":"C235*25","v":0},{"$f":"D235*25","v":0},{"$f":"E235*25","v":0},0,0,null,{"$f":"I235*25","v":0},{"$f":"J235*25","v":0},{"$f":"K235*25","v":0},{"$f":"L235*25","v":0},0,0]
["  Nitrous Oxide",{"$f":"B236*298","v":0},{"$f":"C236*298","v":0},{"$f":"D236*298","v":0},0,0,0,null,{"$f":"I236*298","v":0},{"$f":"J236*298","v":0},{"$f":"K236*298","v":0},{"$f":"L236*298","v":0},0,0]
["Total GHGs ",{"$f":"SUM(B239:B241)","v":0},{"$f":"SUM(C239:C241)","v":0},{"$f":"SUM(D239:D241)","v":0},0,0,0,null,{"$f":"SUM(I239:I241)","v":0},{"$f":"SUM(J239:J241)","v":0},{"$f":"SUM(K239:K241)","v":0},{"$f":"SUM(L239:L241)","v":0},0,0]
[]
[]
[]
[]
[]
[]
[]
[]
[]
[]
[]
[]
[]
[]
[]
[]
[]
[]
[]
[]
[]
[]
[]
[]
[]
[]
[]
[]
[]
[]
[]
[]
[]
[]
[]
[]
[]
[]
[]
[]
[]
[]
[]
[]
[]
[]
[]
[]
[]
[]
[]
[]
[]
[]
[]
[]
[]
[]
[]
[]
[]
[]
[]
[]
[]
[]
[]
[]
[]
[]
[]
[]
[]
[]
[]
[]
[]
[]
[]
[]
[]
[]
[]
[]
[]
[]
[]
[]
[]
[]
[]
[]
[]
[]
[]
[]
[]
[]
[]
[]
[]
[]
[]
[]
[]
[]
[]
[]
[]
[]
[]
[]
[]
[]
[]
[]
[]
[null,{"$f":"Z202","v":0},{"$f":"AG202","v":0}]
[null,0,0]
[null,0,0]
[null,0,0]
[null,0,0]
[null,0,0]
[null,0,0]
[]
[]
[]
[]
[null,{"$f":"Z210","v":0},{"$f":"AG210","v":0}]
[null,0,0]
[null,0,0]
[null,0,0]
[null,0,0]
[null,0,0]
[null,0,0]
[null,0,0]
[null,0,0]
[null,0,0]
[null,0,0]
[null,0,0]
[null,0,0]
[null,0,0]
[null,0,0]
[null,0,0]
[null,0,0]
[null,0,0]
[]
[null,{"$f":"Z229","v":0},{"$f":"AG229","v":0}]
[null,0,0]
[null,0,0]
[null,{"$f":"SUM(B390:B392)","v":0},0]
[]
[null,{"$f":"B390","v":0},0]
[null,{"$f":"B391*25","v":0},0]
[null,{"$f":"B392*298","v":0},0]
[null,{"$f":"SUM(B395:B397)","v":0},0]
[null,{"$f":"Z241","v":0},{"$f":"AG241","v":0}]
[null,0,0]
[null,0,0]
[null,0,0]
[null,0,0]
[null,0,0]
[null,0,0]
[]
[]
[]
[]
[null,{"$f":"Z249","v":0},{"$f":"AG249","v":0}]
[null,0,0]
[null,0,0]
[null,0,0]
[null,0,0]
[null,0,0]
[null,0,0]
[null,0,0]
[null,0,0]
[null,0,0]
[null,0,0]
[null,0,0]
[null,0,0]
[null,0,0]
[null,0,0]
[null,0,0]
[null,0,0]
[null,0,0]
[]
[null,{"$f":"Z268","v":0},{"$f":"AG268","v":0}]
[null,0,0]
[null,0,0]
[null,{"$f":"SUM(B429:B431)","v":0},0]
[]
[null,{"$f":"B429","v":0},0]

{"sheet":"Datasets","index":29,"n_rows":22,"n_cols":44,"rows_kept":22,"cut":false,"hidden":true,"merged":[]}
["Unit Type","% Straight to Hopper","Control type","Yes/NO","Choice","Permit Type","Construction Permit","Raw Material","Enclosure","Material Transfer","Pile Control","Dryer Type","Fermentation Control","Type of solids","Enclosure","Type of Loadout","Loading Type","Tank Content","Tank Orientation","Tank Location","Type of Tank","Type of Primary Seal","Shell Condition","Number of columns","Default Control Equipment","Controlled Units","Boiler Types","NSPS","Fermenter/beerwell","Fermentation Type","Control Type","Control Type","Storage Control type","Ave. Truck Capacity","Input Road Type","Fuel Type","Engine Configuration","Type of Secondary Seal","Internal Shell Conditions","External Shell Color","External Shell Condition","Deck Type","Deck Fitting Category","Results Summary"]
["Truck","0:100","None/Uncontrolled","YES","X","Construction Permit","New Construction","Corn","Enclosed","Front-End Loader","Covered","column dryer","Vent Scrubber","DDGS","Enclosed","Truck","None","Ethanol","Vertical","Above Ground","Fixed Roof","Mechanical Shoe","Light Rust","Self Support",0.95,"Dump Pits","Uncontrolled","Pre-NSPS","Fermenter","Batch Fermentation","None/Uncontrolled","None/Uncontrolled","None/Uncontrolled","ton","Unpaved Low Silt","Natural Gas","2-STROKE LEAN-BURN","Shoe Mounted ","Light Rust","White","Good","Bolted","Typical ","Current PTE, (lb/hr)"]
["Rail Car","10:90","Baghouse","NO",null,"Operating Permit","Existing Plant","Milo","Partially Enclosed","Conveyor","Covered & Supressant","rack dryer","CO2 Scubber","WDGS","Partially Enclosed","Rail Car","Submerged Loading","Denaturant","Horizontal","Under Ground","External Floating Roof","Liquid Mounted","Dense Rust",1,0.99,"Grain Handling","Low Nox burners","Post-NSPS","Beerwell","Continous Fermentation","Scrubber","RTO","Baghouse","gal","Unpaved Medium Silt","Gasoline","4-STROKE LEAN-BURN","Rim Mounted","Dense Rust","Aluminum/ Specular","Poor","Welded","Detail","Current PTE, (ton/yr)"]
[null,"20:80",null,null,null,null,null,"Cellulose","Choke-flow","Dump Truck","None","self‐cleaning screens","No Control",null,"Other","Both","Bottom-Fill Loading","Denatured Ethanol",null,null,"Internal Floating Roof","Vapor Mounted","Gunite Lining",2,null,"Receiving & Handling","Flue Gas recirculation",null,null,null,null,null,"Oiler",null,"Unpaved High Silt","Dual Fuel (95% NG + Diesel","4-STROKE RICH-BURN",null,"Gunite Lining","Aluminum/ Diffuse",null,null,null,"PTE after the project, (lb/hr)"]
[null,"30:70",null,null,null,null,null,"Other","Other","Loadout Spout",null,"other",null,null,null,null,null,"Corrosion Inhibitor",null,null,null,null,null,3,null,null,null,null,null,null,null,null,null,null,"Paved Low Silt",null,null,null,null,"Gray/ Light",null,null,null,"PTE after the project, (ton/yr)"]
[null,"40:60",null,null,null,null,null,null,null,"Other",null,null,null,null,null,null,null,"Hydrochloric Acid",null,null,null,null,null,4,null,null,null,null,null,null,null,null,null,null,"Paved Medium Silt",null,null,null,null,"Gray/ Medium",null,null,null,"Project PTE, (lb/hr)"]
[null,"50:50",null,null,null,null,null,null,null,null,null,null,null,null,null,null,null,null,null,null,null,null,null,5,null,null,null,null,null,null,null,null,null,null,"Paved High Silt",null,null,null,null,"Red/ Prime",null,null,null,"Project PTE, (ton/yr)"]
[null,"60:40",null,null,null,null,null,null,null,null,null,null,null,null,null,null,null,null,null,null,null,null,null,6]
[null,"70:30",null,null,null,null,null,null,null,null,null,null,null,null,null,null,null,null,null,null,null,null,null,7,null,null,null,null,null,null,null,null,null,null,null,null,null,null,null,null,null,null,null,"Current Fugitive PTE, (lb/hr)"]
[null,"80:20",null,null,null,null,null,null,null,null,null,null,null,null,null,null,null,null,null,null,null,null,null,8,null,null,null,null,null,null,null,null,null,null,null,null,null,null,null,null,null,null,null,"Current Fugitive PTE, (ton/yr)"]
[null,"90:10",null,null,null,null,null,null,null,null,null,null,null,null,null,null,null,null,null,null,null,null,null,9,null,null,null,null,null,null,null,null,null,null,null,null,null,null,null,null,null,null,null,"Fugitive PTE after the Project, (lb/hr)"]
[null,"100:10",null,null,null,null,null,null,null,null,null,null,null,null,null,null,null,null,null,null,null,null,null,10,null,null,null,null,null,null,null,null,null,null,null,null,null,null,null,null,null,null,null,"Fugitive PTE after the Project, (ton/yr)"]
[null,null,null,null,null,null,null,null,null,null,null,null,null,null,null,null,null,null,null,null,null,null,null,11,null,null,null,null,null,null,null,null,null,null,null,null,null,null,null,null,null,null,null,"Project Fugitive PTE, (lb/hr)"]
[null,null,null,null,null,null,null,null,null,null,null,null,null,null,null,null,null,null,null,null,null,null,null,12,null,null,null,null,null,null,null,null,null,null,null,null,null,null,null,null,null,null,null,"Project Fugitive PTE, (ton/yr)"]
[null,null,null,null,null,null,null,null,null,null,null,null,null,null,null,null,null,null,null,null,null,null,null,13]
[null,null,null,null,null,null,null,null,null,null,null,null,null,null,null,null,null,null,null,null,null,null,null,14]
[null,null,null,null,null,null,null,null,null,null,null,null,null,null,null,null,null,null,null,null,null,null,null,15]
[null,null,null,null,null,null,null,null,null,null,null,null,null,null,null,null,null,null,null,null,null,null,null,16]
[null,null,null,null,null,null,null,null,null,null,null,null,null,null,null,null,null,null,null,null,null,null,null,17]
[null,null,null,null,null,null,null,null,null,null,null,null,null,null,null,null,null,null,null,null,null,null,null,18]
[null,null,null,null,null,null,null,null,null,null,null,null,null,null,null,null,null,null,null,null,null,null,null,19]
[null,null,null,null,null,null,null,null,null,null,null,null,null,null,null,null,null,null,null,null,null,null,null,20]